Workbook

Sheet Mau 4B
A1: TRƯỜNG CAO ĐẲNG LÝ TỰ TRỌNG THÀNH PHỐ HỒ CHÍ MINH PHÒNG TỔ CHỨC - HÀNH CHÍNH - TỔNG HỢP | P1: Mẫu 4B | V1: Mẫu 4B
A3: BÁO CÁO DANH SÁCH TỔNG HỢP KẾT QUẢ ĐÁNH GIÁ, PHÂN LOẠI CỦA CÔNG CHỨC, VIÊN CHỨC Kỳ đánh giá: Quý 1/2020
A5: STT | B5: HỌ VÀ TÊN | D5: MÃ NHÂN VIÊN | E5: ĐIỂM TỰ ĐÁNH GIÁ | F5: ĐIỂM ĐỒNG NGHIỆP ĐÁNH GIÁ | K5: HỘI ĐỒNG ĐÁNH GIÁ | W5: Ghi chú | X5: KẾT QUẢ XẾP LOẠI ĐỒNG NGHIỆP ĐÁNH GIÁ | AH5: KẾT QUẢ XẾP LOẠI CỦA HỘI ĐỒNG
F6: Tiêu chí I+II | G6: Tiêu chí III | H6: Tổng số Điểm cộng | I6: Tổng số Điểm trừ | J6: Tổng điểm | K6: Tiêu chí I+II | L6: Tiêu chí III | M6: Tổng số Điểm cộng | N6: Tổng số Điểm trừ | O6: Tổng điểm | P6: Kết quả xếp loại | Q6: Thi đua T7 | R6: Thi đua T8 | S6: Thi đua T9 | T6: Hệ số trừ bậc (B, C) | U6: Số tháng xếp loại D | V6: Kết quả xếp loại | X6: Hoàn thành xuất sắc nhiệm vụ | Z6: Hoàn thành tốt nhiệm vụ | AB6: Hoàn thành nhiệm vụ hoặc hoàn thành nhiệm vụ nhưng còn hạn chế về năng lực | AD6: Không hoàn thành nhiệm vụ | AF6: Không xếp loai (nghỉ chế độ thai sản, nghỉ không lương) | AH6: Hoàn thành xuất sắc nhiệm vụ | AJ6: Hoàn thành tốt nhiệm vụ | AL6: Hoàn thành nhiệm vụ hoặc hoàn thành nhiệm vụ nhưng còn hạn chế về năng lực | AN6: Không hoàn thành nhiệm vụ | AP6: Không xếp loai (nghỉ chế độ thai sản, nghỉ không lương)
A7: (1) | B7: (2) | D7: (3) | F7: (4) | G7: (5) | H7: (6) | I7: (7) | J7: (8)= (4+5+6)-(7) | K7: (9) | L7: (10) | M7: (11) | N7: (12) | O7: (13)=(9+10+11)-(12) | P7: (14) | V7: (14) | X7: SL | Y7: Tỷ lệ | Z7: SL | AA7: Tỷ lệ | AB7: SL | AC7: Tỷ lệ | AD7: SL | AE7: Tỷ lệ | AF7: SL | AG7: Tỷ lệ | AH7: SL | AI7: Tỷ lệ | AJ7: SL | AK7: Tỷ lệ | AL7: SL | AM7: Tỷ lệ | AN7: SL | AO7: Tỷ lệ | AP7: SL | AQ7: Tỷ lệ
A8: I | B8: BAN GIÁM HIỆU | X8: =X9 -> 3 | Y8: =X8/($X8+$Z8+$AB8+$AD8+$AF8) -> 0.75 | Z8: =Z9 -> 0 | AA8: =Z8/($X8+$Z8+$AB8+$AD8+$AF8) -> 0 | AB8: =AB9 -> 0 | AC8: =AB8/($X8+$Z8+$AB8+$AD8+$AF8) -> 0 | AD8: =AD9 -> 0 | AE8: =AD8/($X8+$Z8+$AB8+$AD8+$AF8) -> 0 | AF8: =AF9 -> 1 | AG8: =AF8/($X8+$Z8+$AB8+$AD8+$AF8) -> 0.25 | AH8: =AH9 -> 3 | AI8: =AH8/($X8+$Z8+$AB8+$AD8+$AF8) -> 0.75 | AJ8: =AJ9 -> 0 | AK8: =AJ8/($X8+$Z8+$AB8+$AD8+$AF8) -> 0 | AL8: =AL9 -> 0 | AM8: =AL8/($X8+$Z8+$AB8+$AD8+$AF8) -> 0 | AN8: =AN9 -> 0 | AO8: =AN8/($X8+$Z8+$AB8+$AD8+$AF8) -> 0 | AP8: =AP9 -> 1 | AQ8: =AP8/($X8+$Z8+$AB8+$AD8+$AF8) -> 0.25
A9: a | B9: Viên chức | X9: =COUNTIF(X10:X13,"x") -> 3 | Y9: =X9/($X9+$Z9+$AB9+$AD9) -> 1 | Z9: =COUNTIF(Z10:Z13,"x") -> 0 | AA9: =Z9/($X9+$Z9+$AB9+$AD9) -> 0 | AB9: =COUNTIF(AB10:AB13,"x") -> 0 | AC9: =AB9/($X9+$Z9+$AB9+$AD9) -> 0 | AD9: =COUNTIF(AD10:AD13,"x") -> 0 | AE9: =AD9/($X9+$Z9+$AB9+$AD9) -> 0 | AF9: =COUNTIF(AF10:AF13,"x") -> 1 | AG9: =AF9/($X9+$Z9+$AB9+$AD9) -> 0.33333333 | AH9: =COUNTIF(AH10:AH13,"x") -> 3 | AI9: =AH9/($X9+$Z9+$AB9+$AD9) -> 1 | AJ9: =COUNTIF(AJ10:AJ13,"x") -> 0 | AK9: =AJ9/($X9+$Z9+$AB9+$AD9) -> 0 | AL9: =COUNTIF(AL10:AL13,"x") -> 0 | AM9: =AL9/($X9+$Z9+$AB9+$AD9) -> 0 | AN9: =COUNTIF(AN10:AN13,"x") -> 0 | AO9: =AN9/($X9+$Z9+$AB9+$AD9) -> 0 | AP9: =COUNTIF(AP10:AP13,"x") -> 1 | AQ9: =AP9/($X9+$Z9+$AB9+$AD9) -> 0.33333333
A10: 1 | B10: Phạm Hữu | C10: Lộc | D10: 41200001203 | J10: =F10+G10+H10-I10 -> 0 | O10: =K10+L10+M10-N10 -> 0 | P10: =IF(AND($O10>=90,$O10<=100),"Xuất sắc",IF(AND($O10>=75,$O10<90),"Tốt",IF(AND($O10>=50,$O10<75),"Hoàn thành",IF(AND($O10<50,$O10>0),"Không hoàn thành",IF($O10=0,"Không đánh giá",""))))) -> Không đánh giá | V10: =IF(AND($O10>=90,$O10<=100),"Xuất sắc",IF(AND($O10>=75,$O10<90),"Tốt",IF(AND($O10>=50,$O10<75),"Hoàn thành",IF(AND($O10<50,$O10>0),"Không hoàn thành",IF($O10=0,"Không đánh giá",""))))) -> Không đánh giá | X10: =IF(AND($J10>=90,$J10<=100),"X",IF($J10<90,"","")) | Z10: =IF(AND($J10>=75,$J10<90),"X",IF($J10<75,"","")) | AB10: =IF(AND($J10>=50,$J10<75),"X",IF($J10<50,"","")) | AF10: X | AH10: =IF(AND($J10>=90,$J10<=100),"X",IF($J10<90,"","")) | AJ10: =IF(AND($J10>=75,$J10<90),"X",IF($J10<75,"","")) | AL10: =IF(AND($J10>=50,$J10<75),"X",IF($J10<50,"","")) | AP10: X
A11: 2 | B11: Đinh Hồng | C11: Minh | D11: 11100000791 | E11: 82 | F11: 32 | G11: 60 | J11: =F11+G11+H11-I11 -> 92 | K11: =F11 -> 32 | L11: =G11 -> 60 | O11: =K11+L11+M11-N11 -> 92 | P11: =IF(AND($O11>=90,$O11<=100),"Xuất sắc",IF(AND($O11>=75,$O11<90),"Tốt",IF(AND($O11>=50,$O11<75),"Hoàn thành",IF(AND($O11<50,$O11>0),"Không hoàn thành",IF($O11=0,"Không đánh giá",""))))) -> Xuất sắc | V11: =IF(AND($O11>=90,$O11<=100),"Xuất sắc",IF(AND($O11>=75,$O11<90),"Tốt",IF(AND($O11>=50,$O11<75),"Hoàn thành",IF(AND($O11<50,$O11>0),"Không hoàn thành",IF($O11=0,"Không đánh giá",""))))) -> Xuất sắc | X11: =IF(AND($J11>=90,$J11<=100),"X",IF($J11<90,"","")) -> X | Z11: =IF(AND($J11>=75,$J11<90),"X",IF($J11<75,"","")) | AB11: =IF(AND($J11>=50,$J11<75),"X",IF($J11<50,"","")) | AH11: =IF(AND($J11>=90,$J11<=100),"X",IF($J11<90,"","")) -> X | AJ11: =IF(AND($J11>=75,$J11<90),"X",IF($J11<75,"","")) | AL11: =IF(AND($J11>=50,$J11<75),"X",IF($J11<50,"",""))
A12: 3 | B12: Đinh Văn | C12: Đệ | D12: 50200000021 | E12: 98 | F12: 36 | G12: 60 | J12: =F12+G12+H12-I12 -> 96 | K12: =F12 -> 36 | L12: =G12 -> 60 | O12: =K12+L12+M12-N12 -> 96 | P12: =IF(AND($O12>=90,$O12<=100),"Xuất sắc",IF(AND($O12>=75,$O12<90),"Tốt",IF(AND($O12>=50,$O12<75),"Hoàn thành",IF(AND($O12<50,$O12>0),"Không hoàn thành",IF($O12=0,"Không đánh giá",""))))) -> Xuất sắc | V12: =IF(AND($O12>=90,$O12<=100),"Xuất sắc",IF(AND($O12>=75,$O12<90),"Tốt",IF(AND($O12>=50,$O12<75),"Hoàn thành",IF(AND($O12<50,$O12>0),"Không hoàn thành",IF($O12=0,"Không đánh giá",""))))) -> Xuất sắc | X12: =IF(AND($J12>=90,$J12<=100),"X",IF($J12<90,"","")) -> X | Z12: =IF(AND($J12>=75,$J12<90),"X",IF($J12<75,"","")) | AB12: =IF(AND($J12>=50,$J12<75),"X",IF($J12<50,"","")) | AH12: =IF(AND($J12>=90,$J12<=100),"X",IF($J12<90,"","")) -> X | AJ12: =IF(AND($J12>=75,$J12<90),"X",IF($J12<75,"","")) | AL12: =IF(AND($J12>=50,$J12<75),"X",IF($J12<50,"",""))
A13: 4 | B13: Châu Văn | C13: Bảo | D13: 50200000021 | E13: 98 | F13: 35 | G13: 60 | J13: =F13+G13+H13-I13 -> 95 | K13: =F13 -> 35 | L13: =G13 -> 60 | O13: =K13+L13+M13-N13 -> 95 | P13: =IF(AND($O13>=90,$O13<=100),"Xuất sắc",IF(AND($O13>=75,$O13<90),"Tốt",IF(AND($O13>=50,$O13<75),"Hoàn thành",IF(AND($O13<50,$O13>0),"Không hoàn thành",IF($O13=0,"Không đánh giá",""))))) -> Xuất sắc | V13: =IF(AND($O13>=90,$O13<=100),"Xuất sắc",IF(AND($O13>=75,$O13<90),"Tốt",IF(AND($O13>=50,$O13<75),"Hoàn thành",IF(AND($O13<50,$O13>0),"Không hoàn thành",IF($O13=0,"Không đánh giá",""))))) -> Xuất sắc | X13: =IF(AND($J13>=90,$J13<=100),"X",IF($J13<90,"","")) -> X | Z13: =IF(AND($J13>=75,$J13<90),"X",IF($J13<75,"","")) | AB13: =IF(AND($J13>=50,$J13<75),"X",IF($J13<50,"","")) | AH13: =IF(AND($J13>=90,$J13<=100),"X",IF($J13<90,"","")) -> X | AJ13: =IF(AND($J13>=75,$J13<90),"X",IF($J13<75,"","")) | AL13: =IF(AND($J13>=50,$J13<75),"X",IF($J13<50,"",""))
A14: I | B14: PHÒNG TỔ CHỨC - HÀNH CHÍNH - TỔNG HỢP | X14: =X15+X27+X30 -> 15 | Y14: =X14/($X14+$Z14+$AB14+$AD14+$AF14) -> 0.6 | Z14: =Z15+Z27+Z30 -> 10 | AA14: =Z14/($X14+$Z14+$AB14+$AD14+$AF14) -> 0.4 | AB14: =AB15+AB27+AB30 -> 0 | AC14: =AB14/($X14+$Z14+$AB14+$AD14+$AF14) -> 0 | AD14: =AD15+AD27+AD30 -> 0 | AE14: =AD14/($X14+$Z14+$AB14+$AD14+$AF14) -> 0 | AF14: =AF15+AF27+AF30 -> 0 | AG14: =AF14/($X14+$Z14+$AB14+$AD14+$AF14) -> 0 | AH14: =AH15+AH27+AH30 -> 16 | AI14: =AH14/($X14+$Z14+$AB14+$AD14+$AF14) -> 0.64 | AJ14: =AJ15+AJ27+AJ30 -> 9 | AK14: =AJ14/($X14+$Z14+$AB14+$AD14+$AF14) -> 0.36 | AL14: =AL15+AL27+AL30 -> 0 | AM14: =AL14/($X14+$Z14+$AB14+$AD14+$AF14) -> 0 | AN14: =AN15+AN27+AN30 -> 0 | AO14: =AN14/($X14+$Z14+$AB14+$AD14+$AF14) -> 0 | AP14: =AP15+AP27+AP30 -> 0 | AQ14: =AP14/($X14+$Z14+$AB14+$AD14+$AF14) -> 0
A15: a | B15: Viên chức | X15: =COUNTIF(X16:X26,"x") -> 9 | Y15: =X15/($X15+$Z15+$AB15+$AD15+$AF15) -> 0.81818182 | Z15: =COUNTIF(Z16:Z26,"x") -> 2 | AA15: =Z15/($X15+$Z15+$AB15+$AD15+$AF15) -> 0.18181818 | AB15: =COUNTIF(AB16:AB26,"x") -> 0 | AC15: =AB15/($X15+$Z15+$AB15+$AD15+$AF15) -> 0 | AD15: =COUNTIF(AD16:AD26,"x") -> 0 | AE15: =AD15/($X15+$Z15+$AB15+$AD15+$AF15) -> 0 | AF15: =COUNTIF(AF16:AF26,"x") -> 0 | AG15: =AF15/($X15+$Z15+$AB15+$AD15+$AF15) -> 0 | AH15: =COUNTIF(AH16:AH26,"x") -> 10 | AI15: =AH15/($X15+$Z15+$AB15+$AD15+$AF15) -> 0.90909091 | AJ15: =COUNTIF(AJ16:AJ26,"x") -> 1 | AK15: =AJ15/($X15+$Z15+$AB15+$AD15+$AF15) -> 0.090909091 | AL15: =COUNTIF(AL16:AL26,"x") -> 0 | AM15: =AL15/($X15+$Z15+$AB15+$AD15+$AF15) -> 0 | AN15: =COUNTIF(AN16:AN26,"x") -> 0 | AO15: =AN15/($X15+$Z15+$AB15+$AD15+$AF15) -> 0 | AP15: =COUNTIF(AP16:AP26,"x") -> 0 | AQ15: =AP15/($X15+$Z15+$AB15+$AD15+$AF15) -> 0
A16: 1 | B16: Lâm Viết | C16: Dũng | D16: 50800000104 | E16: =IFERROR((VLOOKUP($D16,'Các đơn vị'!$D$11:$M$390,2,0)),0) -> 98 | F16: 38 | G16: 60 | H16: =IFERROR((VLOOKUP($D16,'Các đơn vị'!$D$11:$M$390,5,0)),0) -> 0 | I16: =IFERROR((VLOOKUP($D16,'Các đơn vị'!$D$11:$M$390,6,0)),0) -> 0 | J16: =F16+G16+H16-I16 -> 98 | K16: =F16 -> 38 | L16: =G16 -> 60 | M16: =H16 -> 0 | N16: =I16 -> 0 | O16: =K16+L16+M16-N16 -> 98 | P16: =IF(AND($O16>=90,$O16<=100),"Xuất sắc",IF(AND($O16>=75,$O16<90),"Tốt",IF(AND($O16>=50,$O16<75),"Hoàn thành",IF(AND($O16<50,$O16>0),"Không hoàn thành",IF($O16=0,"Không đánh giá",""))))) -> Xuất sắc | T16: =COUNTIF(Q16:S16,"B")+COUNTIF(Q16:S16,"C")*2 -> 0 | U16: =+COUNTIF(Q16:S16,"D") -> 0 | V16: =IF(U16>=1,"Không hoàn thành",IF(AND($O16>=90,$O16<100,T16=0),"Xuất sắc",IF(AND($O16>=90,$O16<100,T16=1),"Tốt",IF(AND($O16>=90,$O16<100,T16=2),"Hoàn thành",IF(AND($O16>=90,$O16<100,T16>=3),"Không hoàn thành",IF(AND($O16>=75,$O16<90,T16=0),"Tốt",IF(AND($O16>=75,$O16<90,T16=1),"Hoàn thành",IF(AND($O16>=75,$O16<90,T16>=2),"Không hoàn thành",IF(AND($O16>=50,$O16<75,T16=0),"Hoàn thành",IF(AND($O16>=50,$O16<=75,T16>=1),"Không hoàn thành",IF(AND($O16>0,$O16<50),"Không hoàn thành",IF($O16=0,"Không đánh giá","")))))))))))) -> Xuất sắc | X16: =IF(AND($J16>=90,$J16<=100),"X",IF($J16<90,"","")) -> X | Z16: =IF(AND($J16>=75,$J16<90),"X",IF($J16<75,"","")) | AB16: =IF(AND($J16>=50,$J16<75),"X",IF($J16<50,"","")) | AD16: =IF($J16<50,"X","") | AH16: =IF($V16="Xuất sắc","X","") -> X | AJ16: =IF($V16="Tốt","X","") | AL16: =IF($V16="Hoàn thành","X","") | AN16: =IF($V16="Không hoàn thành","X","") | AP16: =IF($V16="Không đánh giá","X","")
A17: 2 | B17: Nguyễn Thị | C17: Hoa | D17: 11100000743 | E17: =IFERROR((VLOOKUP($D17,'Các đơn vị'!$D$11:$M$390,2,0)),0) -> 89 | F17: 32 | G17: 60 | H17: =IFERROR((VLOOKUP($D17,'Các đơn vị'!$D$11:$M$390,5,0)),0) -> 0 | I17: =IFERROR((VLOOKUP($D17,'Các đơn vị'!$D$11:$M$390,6,0)),0) -> 0 | J17: =F17+G17+H17-I17 -> 92 | K17: =F17 -> 32 | L17: =G17 -> 60 | M17: =H17 -> 0 | N17: =I17 -> 0 | O17: =K17+L17+M17-N17 -> 92 | P17: =IF(AND($O17>=90,$O17<=100),"Xuất sắc",IF(AND($O17>=75,$O17<90),"Tốt",IF(AND($O17>=50,$O17<75),"Hoàn thành",IF(AND($O17<50,$O17>0),"Không hoàn thành",IF($O17=0,"Không đánh giá",""))))) -> Xuất sắc | T17: =COUNTIF(Q17:S17,"B")+COUNTIF(Q17:S17,"C")*2 -> 0 | U17: =+COUNTIF(Q17:S17,"D") -> 0 | V17: =IF(U17>=1,"Không hoàn thành",IF(AND($O17>=90,$O17<100,T17=0),"Xuất sắc",IF(AND($O17>=90,$O17<100,T17=1),"Tốt",IF(AND($O17>=90,$O17<100,T17=2),"Hoàn thành",IF(AND($O17>=90,$O17<100,T17>=3),"Không hoàn thành",IF(AND($O17>=75,$O17<90,T17=0),"Tốt",IF(AND($O17>=75,$O17<90,T17=1),"Hoàn thành",IF(AND($O17>=75,$O17<90,T17>=2),"Không hoàn thành",IF(AND($O17>=50,$O17<75,T17=0),"Hoàn thành",IF(AND($O17>=50,$O17<=75,T17>=1),"Không hoàn thành",IF(AND($O17>0,$O17<50),"Không hoàn thành",IF($O17=0,"Không đánh giá","")))))))))))) -> Xuất sắc | Z17: X | AB17: =IF(AND($J17>=50,$J17<75),"X",IF($J17<50,"","")) | AD17: =IF($J17<50,"X","") | AH17: =IF($V17="Xuất sắc","X","") -> X | AJ17: =IF($V17="Tốt","X","") | AL17: =IF($V17="Hoàn thành","X","") | AN17: =IF($V17="Không hoàn thành","X","") | AP17: =IF($V17="Không đánh giá","X","")
A18: 3 | B18: Phan Thị Ngọc | C18: Phượng | D18: 11100082854 | E18: =IFERROR((VLOOKUP($D18,'Các đơn vị'!$D$11:$M$390,2,0)),0) -> 80 | F18: 31 | G18: 60 | H18: =IFERROR((VLOOKUP($D18,'Các đơn vị'!$D$11:$M$390,5,0)),0) -> 0 | I18: =IFERROR((VLOOKUP($D18,'Các đơn vị'!$D$11:$M$390,6,0)),0) -> 0 | J18: =F18+G18+H18-I18 -> 91 | K18: =F18 -> 31 | L18: =G18 -> 60 | M18: =H18 -> 0 | N18: =I18 -> 0 | O18: =K18+L18+M18-N18 -> 91 | P18: =IF(AND($O18>=90,$O18<=100),"Xuất sắc",IF(AND($O18>=75,$O18<90),"Tốt",IF(AND($O18>=50,$O18<75),"Hoàn thành",IF(AND($O18<50,$O18>0),"Không hoàn thành",IF($O18=0,"Không đánh giá",""))))) -> Xuất sắc | T18: =COUNTIF(Q18:S18,"B")+COUNTIF(Q18:S18,"C")*2 -> 0 | U18: =+COUNTIF(Q18:S18,"D") -> 0 | V18: =IF(U18>=1,"Không hoàn thành",IF(AND($O18>=90,$O18<100,T18=0),"Xuất sắc",IF(AND($O18>=90,$O18<100,T18=1),"Tốt",IF(AND($O18>=90,$O18<100,T18=2),"Hoàn thành",IF(AND($O18>=90,$O18<100,T18>=3),"Không hoàn thành",IF(AND($O18>=75,$O18<90,T18=0),"Tốt",IF(AND($O18>=75,$O18<90,T18=1),"Hoàn thành",IF(AND($O18>=75,$O18<90,T18>=2),"Không hoàn thành",IF(AND($O18>=50,$O18<75,T18=0),"Hoàn thành",IF(AND($O18>=50,$O18<=75,T18>=1),"Không hoàn thành",IF(AND($O18>0,$O18<50),"Không hoàn thành",IF($O18=0,"Không đánh giá","")))))))))))) -> Xuất sắc | X18: =IF(AND($J18>=90,$J18<=100),"X",IF($J18<90,"","")) -> X | Z18: =IF(AND($J18>=75,$J18<90),"X",IF($J18<75,"","")) | AB18: =IF(AND($J18>=50,$J18<75),"X",IF($J18<50,"","")) | AD18: =IF($J18<50,"X","") | AH18: =IF($V18="Xuất sắc","X","") -> X | AJ18: =IF($V18="Tốt","X","") | AL18: =IF($V18="Hoàn thành","X","") | AN18: =IF($V18="Không hoàn thành","X","") | AP18: =IF($V18="Không đánh giá","X","")
A19: 4 | B19: Vũ Như | C19: Quỳnh | D19: 11100082861 | E19: =IFERROR((VLOOKUP($D19,'Các đơn vị'!$D$11:$M$390,2,0)),0) -> 80 | F19: 32 | G19: 60 | H19: =IFERROR((VLOOKUP($D19,'Các đơn vị'!$D$11:$M$390,5,0)),0) -> 0 | I19: =IFERROR((VLOOKUP($D19,'Các đơn vị'!$D$11:$M$390,6,0)),0) -> 0 | J19: =F19+G19+H19-I19 -> 92 | K19: =F19 -> 32 | L19: =G19 -> 60 | M19: =H19 -> 0 | N19: =I19 -> 0 | O19: =K19+L19+M19-N19 -> 92 | P19: =IF(AND($O19>=90,$O19<=100),"Xuất sắc",IF(AND($O19>=75,$O19<90),"Tốt",IF(AND($O19>=50,$O19<75),"Hoàn thành",IF(AND($O19<50,$O19>0),"Không hoàn thành",IF($O19=0,"Không đánh giá",""))))) -> Xuất sắc | T19: =COUNTIF(Q19:S19,"B")+COUNTIF(Q19:S19,"C")*2 -> 0 | U19: =+COUNTIF(Q19:S19,"D") -> 0 | V19: =IF(U19>=1,"Không hoàn thành",IF(AND($O19>=90,$O19<100,T19=0),"Xuất sắc",IF(AND($O19>=90,$O19<100,T19=1),"Tốt",IF(AND($O19>=90,$O19<100,T19=2),"Hoàn thành",IF(AND($O19>=90,$O19<100,T19>=3),"Không hoàn thành",IF(AND($O19>=75,$O19<90,T19=0),"Tốt",IF(AND($O19>=75,$O19<90,T19=1),"Hoàn thành",IF(AND($O19>=75,$O19<90,T19>=2),"Không hoàn thành",IF(AND($O19>=50,$O19<75,T19=0),"Hoàn thành",IF(AND($O19>=50,$O19<=75,T19>=1),"Không hoàn thành",IF(AND($O19>0,$O19<50),"Không hoàn thành",IF($O19=0,"Không đánh giá","")))))))))))) -> Xuất sắc | X19: =IF(AND($J19>=90,$J19<=100),"X",IF($J19<90,"","")) -> X | Z19: =IF(AND($J19>=75,$J19<90),"X",IF($J19<75,"","")) | AB19: =IF(AND($J19>=50,$J19<75),"X",IF($J19<50,"","")) | AD19: =IF($J19<50,"X","") | AH19: =IF($V19="Xuất sắc","X","") -> X | AJ19: =IF($V19="Tốt","X","") | AL19: =IF($V19="Hoàn thành","X","") | AN19: =IF($V19="Không hoàn thành","X","") | AP19: =IF($V19="Không đánh giá","X","")
A20: 5 | B20: Trần Thị Ánh | C20: Phượng | D20: 11100115699 | E20: =IFERROR((VLOOKUP($D20,'Các đơn vị'!$D$11:$M$390,2,0)),0) -> 80 | F20: 30 | G20: 60 | H20: =IFERROR((VLOOKUP($D20,'Các đơn vị'!$D$11:$M$390,5,0)),0) -> 0 | I20: =IFERROR((VLOOKUP($D20,'Các đơn vị'!$D$11:$M$390,6,0)),0) -> 0 | J20: =F20+G20+H20-I20 -> 90 | K20: =F20 -> 30 | L20: =G20 -> 60 | M20: =H20 -> 0 | N20: =I20 -> 0 | O20: =K20+L20+M20-N20 -> 90 | P20: =IF(AND($O20>=90,$O20<=100),"Xuất sắc",IF(AND($O20>=75,$O20<90),"Tốt",IF(AND($O20>=50,$O20<75),"Hoàn thành",IF(AND($O20<50,$O20>0),"Không hoàn thành",IF($O20=0,"Không đánh giá",""))))) -> Xuất sắc | T20: =COUNTIF(Q20:S20,"B")+COUNTIF(Q20:S20,"C")*2 -> 0 | U20: =+COUNTIF(Q20:S20,"D") -> 0 | V20: =IF(U20>=1,"Không hoàn thành",IF(AND($O20>=90,$O20<100,T20=0),"Xuất sắc",IF(AND($O20>=90,$O20<100,T20=1),"Tốt",IF(AND($O20>=90,$O20<100,T20=2),"Hoàn thành",IF(AND($O20>=90,$O20<100,T20>=3),"Không hoàn thành",IF(AND($O20>=75,$O20<90,T20=0),"Tốt",IF(AND($O20>=75,$O20<90,T20=1),"Hoàn thành",IF(AND($O20>=75,$O20<90,T20>=2),"Không hoàn thành",IF(AND($O20>=50,$O20<75,T20=0),"Hoàn thành",IF(AND($O20>=50,$O20<=75,T20>=1),"Không hoàn thành",IF(AND($O20>0,$O20<50),"Không hoàn thành",IF($O20=0,"Không đánh giá","")))))))))))) -> Xuất sắc | X20: =IF(AND($J20>=90,$J20<=100),"X",IF($J20<90,"","")) -> X | Z20: =IF(AND($J20>=75,$J20<90),"X",IF($J20<75,"","")) | AB20: =IF(AND($J20>=50,$J20<75),"X",IF($J20<50,"","")) | AD20: =IF($J20<50,"X","") | AH20: =IF($V20="Xuất sắc","X","") -> X | AJ20: =IF($V20="Tốt","X","") | AL20: =IF($V20="Hoàn thành","X","") | AN20: =IF($V20="Không hoàn thành","X","") | AP20: =IF($V20="Không đánh giá","X","")
A21: 6 | B21: Nguyễn Thị Bích | C21: Liễu | D21: 40400000515 | E21: =IFERROR((VLOOKUP($D21,'Các đơn vị'!$D$11:$M$390,2,0)),0) -> 80 | F21: 30 | G21: 60 | H21: =IFERROR((VLOOKUP($D21,'Các đơn vị'!$D$11:$M$390,5,0)),0) -> 0 | I21: =IFERROR((VLOOKUP($D21,'Các đơn vị'!$D$11:$M$390,6,0)),0) -> 0 | J21: =F21+G21+H21-I21 -> 90 | K21: =F21 -> 30 | L21: =G21 -> 60 | M21: =H21 -> 0 | N21: =I21 -> 0 | O21: =K21+L21+M21-N21 -> 90 | P21: =IF(AND($O21>=90,$O21<=100),"Xuất sắc",IF(AND($O21>=75,$O21<90),"Tốt",IF(AND($O21>=50,$O21<75),"Hoàn thành",IF(AND($O21<50,$O21>0),"Không hoàn thành",IF($O21=0,"Không đánh giá",""))))) -> Xuất sắc | T21: =COUNTIF(Q21:S21,"B")+COUNTIF(Q21:S21,"C")*2 -> 0 | U21: =+COUNTIF(Q21:S21,"D") -> 0 | V21: =IF(U21>=1,"Không hoàn thành",IF(AND($O21>=90,$O21<100,T21=0),"Xuất sắc",IF(AND($O21>=90,$O21<100,T21=1),"Tốt",IF(AND($O21>=90,$O21<100,T21=2),"Hoàn thành",IF(AND($O21>=90,$O21<100,T21>=3),"Không hoàn thành",IF(AND($O21>=75,$O21<90,T21=0),"Tốt",IF(AND($O21>=75,$O21<90,T21=1),"Hoàn thành",IF(AND($O21>=75,$O21<90,T21>=2),"Không hoàn thành",IF(AND($O21>=50,$O21<75,T21=0),"Hoàn thành",IF(AND($O21>=50,$O21<=75,T21>=1),"Không hoàn thành",IF(AND($O21>0,$O21<50),"Không hoàn thành",IF($O21=0,"Không đánh giá","")))))))))))) -> Xuất sắc | X21: =IF(AND($J21>=90,$J21<=100),"X",IF($J21<90,"","")) -> X | Z21: =IF(AND($J21>=75,$J21<90),"X",IF($J21<75,"","")) | AB21: =IF(AND($J21>=50,$J21<75),"X",IF($J21<50,"","")) | AD21: =IF($J21<50,"X","") | AH21: =IF($V21="Xuất sắc","X","") -> X | AJ21: =IF($V21="Tốt","X","") | AL21: =IF($V21="Hoàn thành","X","") | AN21: =IF($V21="Không hoàn thành","X","") | AP21: =IF($V21="Không đánh giá","X","")
A22: 7 | B22: Trần Thị Phương | C22: Oanh | D22: 11100071604 | E22: =IFERROR((VLOOKUP($D22,'Các đơn vị'!$D$11:$M$390,2,0)),0) -> 80 | F22: 30 | G22: 60 | H22: =IFERROR((VLOOKUP($D22,'Các đơn vị'!$D$11:$M$390,5,0)),0) -> 0 | I22: =IFERROR((VLOOKUP($D22,'Các đơn vị'!$D$11:$M$390,6,0)),0) -> 0 | J22: =F22+G22+H22-I22 -> 90 | K22: =F22 -> 30 | L22: =G22 -> 60 | M22: =H22 -> 0 | N22: =I22 -> 0 | O22: =K22+L22+M22-N22 -> 90 | P22: =IF(AND($O22>=90,$O22<=100),"Xuất sắc",IF(AND($O22>=75,$O22<90),"Tốt",IF(AND($O22>=50,$O22<75),"Hoàn thành",IF(AND($O22<50,$O22>0),"Không hoàn thành",IF($O22=0,"Không đánh giá",""))))) -> Xuất sắc | T22: =COUNTIF(Q22:S22,"B")+COUNTIF(Q22:S22,"C")*2 -> 0 | U22: =+COUNTIF(Q22:S22,"D") -> 0 | V22: =IF(U22>=1,"Không hoàn thành",IF(AND($O22>=90,$O22<100,T22=0),"Xuất sắc",IF(AND($O22>=90,$O22<100,T22=1),"Tốt",IF(AND($O22>=90,$O22<100,T22=2),"Hoàn thành",IF(AND($O22>=90,$O22<100,T22>=3),"Không hoàn thành",IF(AND($O22>=75,$O22<90,T22=0),"Tốt",IF(AND($O22>=75,$O22<90,T22=1),"Hoàn thành",IF(AND($O22>=75,$O22<90,T22>=2),"Không hoàn thành",IF(AND($O22>=50,$O22<75,T22=0),"Hoàn thành",IF(AND($O22>=50,$O22<=75,T22>=1),"Không hoàn thành",IF(AND($O22>0,$O22<50),"Không hoàn thành",IF($O22=0,"Không đánh giá","")))))))))))) -> Xuất sắc | X22: =IF(AND($J22>=90,$J22<=100),"X",IF($J22<90,"","")) -> X | Z22: =IF(AND($J22>=75,$J22<90),"X",IF($J22<75,"","")) | AB22: =IF(AND($J22>=50,$J22<75),"X",IF($J22<50,"","")) | AD22: =IF($J22<50,"X","") | AH22: =IF($V22="Xuất sắc","X","") -> X | AJ22: =IF($V22="Tốt","X","") | AL22: =IF($V22="Hoàn thành","X","") | AN22: =IF($V22="Không hoàn thành","X","") | AP22: =IF($V22="Không đánh giá","X","")
A23: 8 | B23: Lưu Hoàng Hải | C23: Yến | D23: 80300000835 | E23: =IFERROR((VLOOKUP($D23,'Các đơn vị'!$D$11:$M$390,2,0)),0) -> 88 | F23: 29 | G23: 60 | H23: =IFERROR((VLOOKUP($D23,'Các đơn vị'!$D$11:$M$390,5,0)),0) -> 0 | I23: =IFERROR((VLOOKUP($D23,'Các đơn vị'!$D$11:$M$390,6,0)),0) -> 0 | J23: =F23+G23+H23-I23 -> 89 | K23: =F23 -> 29 | L23: =G23 -> 60 | M23: =H23 -> 0 | N23: =I23 -> 0 | O23: =K23+L23+M23-N23 -> 89 | P23: =IF(AND($O23>=90,$O23<=100),"Xuất sắc",IF(AND($O23>=75,$O23<90),"Tốt",IF(AND($O23>=50,$O23<75),"Hoàn thành",IF(AND($O23<50,$O23>0),"Không hoàn thành",IF($O23=0,"Không đánh giá",""))))) -> Tốt | T23: =COUNTIF(Q23:S23,"B")+COUNTIF(Q23:S23,"C")*2 -> 0 | U23: =+COUNTIF(Q23:S23,"D") -> 0 | V23: =IF(U23>=1,"Không hoàn thành",IF(AND($O23>=90,$O23<100,T23=0),"Xuất sắc",IF(AND($O23>=90,$O23<100,T23=1),"Tốt",IF(AND($O23>=90,$O23<100,T23=2),"Hoàn thành",IF(AND($O23>=90,$O23<100,T23>=3),"Không hoàn thành",IF(AND($O23>=75,$O23<90,T23=0),"Tốt",IF(AND($O23>=75,$O23<90,T23=1),"Hoàn thành",IF(AND($O23>=75,$O23<90,T23>=2),"Không hoàn thành",IF(AND($O23>=50,$O23<75,T23=0),"Hoàn thành",IF(AND($O23>=50,$O23<=75,T23>=1),"Không hoàn thành",IF(AND($O23>0,$O23<50),"Không hoàn thành",IF($O23=0,"Không đánh giá","")))))))))))) -> Tốt | X23: =IF(AND($J23>=90,$J23<=100),"X",IF($J23<90,"","")) | Z23: =IF(AND($J23>=75,$J23<90),"X",IF($J23<75,"","")) -> X | AB23: =IF(AND($J23>=50,$J23<75),"X",IF($J23<50,"","")) | AD23: =IF($J23<50,"X","") | AH23: =IF($V23="Xuất sắc","X","") | AJ23: =IF($V23="Tốt","X","") -> X | AL23: =IF($V23="Hoàn thành","X","") | AN23: =IF($V23="Không hoàn thành","X","") | AP23: =IF($V23="Không đánh giá","X","")
A24: 9 | B24: Nguyễn Văn | C24: Chì | D24: 40700000887 | E24: =IFERROR((VLOOKUP($D24,'Các đơn vị'!$D$11:$M$390,2,0)),0) -> 80 | F24: 30 | G24: 60 | H24: =IFERROR((VLOOKUP($D24,'Các đơn vị'!$D$11:$M$390,5,0)),0) -> 0 | I24: =IFERROR((VLOOKUP($D24,'Các đơn vị'!$D$11:$M$390,6,0)),0) -> 0 | J24: =F24+G24+H24-I24 -> 90 | K24: =F24 -> 30 | L24: =G24 -> 60 | M24: =H24 -> 0 | N24: =I24 -> 0 | O24: =K24+L24+M24-N24 -> 90 | P24: =IF(AND($O24>=90,$O24<=100),"Xuất sắc",IF(AND($O24>=75,$O24<90),"Tốt",IF(AND($O24>=50,$O24<75),"Hoàn thành",IF(AND($O24<50,$O24>0),"Không hoàn thành",IF($O24=0,"Không đánh giá",""))))) -> Xuất sắc | T24: =COUNTIF(Q24:S24,"B")+COUNTIF(Q24:S24,"C")*2 -> 0 | U24: =+COUNTIF(Q24:S24,"D") -> 0 | V24: =IF(U24>=1,"Không hoàn thành",IF(AND($O24>=90,$O24<100,T24=0),"Xuất sắc",IF(AND($O24>=90,$O24<100,T24=1),"Tốt",IF(AND($O24>=90,$O24<100,T24=2),"Hoàn thành",IF(AND($O24>=90,$O24<100,T24>=3),"Không hoàn thành",IF(AND($O24>=75,$O24<90,T24=0),"Tốt",IF(AND($O24>=75,$O24<90,T24=1),"Hoàn thành",IF(AND($O24>=75,$O24<90,T24>=2),"Không hoàn thành",IF(AND($O24>=50,$O24<75,T24=0),"Hoàn thành",IF(AND($O24>=50,$O24<=75,T24>=1),"Không hoàn thành",IF(AND($O24>0,$O24<50),"Không hoàn thành",IF($O24=0,"Không đánh giá","")))))))))))) -> Xuất sắc | X24: =IF(AND($J24>=90,$J24<=100),"X",IF($J24<90,"","")) -> X | Z24: =IF(AND($J24>=75,$J24<90),"X",IF($J24<75,"","")) | AB24: =IF(AND($J24>=50,$J24<75),"X",IF($J24<50,"","")) | AD24: =IF($J24<50,"X","") | AH24: =IF($V24="Xuất sắc","X","") -> X | AJ24: =IF($V24="Tốt","X","") | AL24: =IF($V24="Hoàn thành","X","") | AN24: =IF($V24="Không hoàn thành","X","") | AP24: =IF($V24="Không đánh giá","X","")
A25: 10 | B25: Thân Thị | C25: Nhung | D25: 40700000683 | E25: =IFERROR((VLOOKUP($D25,'Các đơn vị'!$D$11:$M$390,2,0)),0) -> 80 | F25: 31 | G25: 60 | H25: =IFERROR((VLOOKUP($D25,'Các đơn vị'!$D$11:$M$390,5,0)),0) -> 0 | I25: =IFERROR((VLOOKUP($D25,'Các đơn vị'!$D$11:$M$390,6,0)),0) -> 0 | J25: =F25+G25+H25-I25 -> 91 | K25: =F25 -> 31 | L25: =G25 -> 60 | M25: =H25 -> 0 | N25: =I25 -> 0 | O25: =K25+L25+M25-N25 -> 91 | P25: =IF(AND($O25>=90,$O25<=100),"Xuất sắc",IF(AND($O25>=75,$O25<90),"Tốt",IF(AND($O25>=50,$O25<75),"Hoàn thành",IF(AND($O25<50,$O25>0),"Không hoàn thành",IF($O25=0,"Không đánh giá",""))))) -> Xuất sắc | T25: =COUNTIF(Q25:S25,"B")+COUNTIF(Q25:S25,"C")*2 -> 0 | U25: =+COUNTIF(Q25:S25,"D") -> 0 | V25: =IF(U25>=1,"Không hoàn thành",IF(AND($O25>=90,$O25<100,T25=0),"Xuất sắc",IF(AND($O25>=90,$O25<100,T25=1),"Tốt",IF(AND($O25>=90,$O25<100,T25=2),"Hoàn thành",IF(AND($O25>=90,$O25<100,T25>=3),"Không hoàn thành",IF(AND($O25>=75,$O25<90,T25=0),"Tốt",IF(AND($O25>=75,$O25<90,T25=1),"Hoàn thành",IF(AND($O25>=75,$O25<90,T25>=2),"Không hoàn thành",IF(AND($O25>=50,$O25<75,T25=0),"Hoàn thành",IF(AND($O25>=50,$O25<=75,T25>=1),"Không hoàn thành",IF(AND($O25>0,$O25<50),"Không hoàn thành",IF($O25=0,"Không đánh giá","")))))))))))) -> Xuất sắc | X25: =IF(AND($J25>=90,$J25<=100),"X",IF($J25<90,"","")) -> X | Z25: =IF(AND($J25>=75,$J25<90),"X",IF($J25<75,"","")) | AB25: =IF(AND($J25>=50,$J25<75),"X",IF($J25<50,"","")) | AD25: =IF($J25<50,"X","") | AH25: =IF($V25="Xuất sắc","X","") -> X | AJ25: =IF($V25="Tốt","X","") | AL25: =IF($V25="Hoàn thành","X","") | AN25: =IF($V25="Không hoàn thành","X","") | AP25: =IF($V25="Không đánh giá","X","")
A26: 11 | B26: Nguyễn Thị | C26: Vân | D26: 80500000584 | E26: =IFERROR((VLOOKUP($D26,'Các đơn vị'!$D$11:$M$390,2,0)),0) -> 80 | F26: 30 | G26: 60 | H26: =IFERROR((VLOOKUP($D26,'Các đơn vị'!$D$11:$M$390,5,0)),0) -> 0 | I26: =IFERROR((VLOOKUP($D26,'Các đơn vị'!$D$11:$M$390,6,0)),0) -> 0 | J26: =F26+G26+H26-I26 -> 90 | K26: =F26 -> 30 | L26: =G26 -> 60 | M26: =H26 -> 0 | N26: =I26 -> 0 | O26: =K26+L26+M26-N26 -> 90 | P26: =IF(AND($O26>=90,$O26<=100),"Xuất sắc",IF(AND($O26>=75,$O26<90),"Tốt",IF(AND($O26>=50,$O26<75),"Hoàn thành",IF(AND($O26<50,$O26>0),"Không hoàn thành",IF($O26=0,"Không đánh giá",""))))) -> Xuất sắc | T26: =COUNTIF(Q26:S26,"B")+COUNTIF(Q26:S26,"C")*2 -> 0 | U26: =+COUNTIF(Q26:S26,"D") -> 0 | V26: =IF(U26>=1,"Không hoàn thành",IF(AND($O26>=90,$O26<100,T26=0),"Xuất sắc",IF(AND($O26>=90,$O26<100,T26=1),"Tốt",IF(AND($O26>=90,$O26<100,T26=2),"Hoàn thành",IF(AND($O26>=90,$O26<100,T26>=3),"Không hoàn thành",IF(AND($O26>=75,$O26<90,T26=0),"Tốt",IF(AND($O26>=75,$O26<90,T26=1),"Hoàn thành",IF(AND($O26>=75,$O26<90,T26>=2),"Không hoàn thành",IF(AND($O26>=50,$O26<75,T26=0),"Hoàn thành",IF(AND($O26>=50,$O26<=75,T26>=1),"Không hoàn thành",IF(AND($O26>0,$O26<50),"Không hoàn thành",IF($O26=0,"Không đánh giá","")))))))))))) -> Xuất sắc | X26: =IF(AND($J26>=90,$J26<=100),"X",IF($J26<90,"","")) -> X | Z26: =IF(AND($J26>=75,$J26<90),"X",IF($J26<75,"","")) | AB26: =IF(AND($J26>=50,$J26<75),"X",IF($J26<50,"","")) | AD26: =IF($J26<50,"X","") | AH26: =IF($V26="Xuất sắc","X","") -> X | AJ26: =IF($V26="Tốt","X","") | AL26: =IF($V26="Hoàn thành","X","") | AN26: =IF($V26="Không hoàn thành","X","") | AP26: =IF($V26="Không đánh giá","X","")
A27: c | B27: Hợp đồng Sở | X27: =COUNTIF(X28:X29,"x") -> 2 | Y27: =X27/($X27+$Z27+$AB27+$AD27+$AF27) -> 1 | Z27: =COUNTIF(Z28:Z29,"x") -> 0 | AA27: =Z27/($X27+$Z27+$AB27+$AD27+$AF27) -> 0 | AB27: =COUNTIF(AB28:AB29,"x") -> 0 | AC27: =AB27/($X27+$Z27+$AB27+$AD27+$AF27) -> 0 | AD27: =COUNTIF(AD28:AD29,"x") -> 0 | AE27: =AD27/($X27+$Z27+$AB27+$AD27+$AF27) -> 0 | AF27: =COUNTIF(AF28:AF29,"x") -> 0 | AG27: =AF27/($X27+$Z27+$AB27+$AD27+$AF27) -> 0 | AH27: =COUNTIF(AH28:AH29,"x") -> 2 | AI27: =AH27/($X27+$Z27+$AB27+$AD27+$AF27) -> 1 | AJ27: =COUNTIF(AJ28:AJ29,"x") -> 0 | AK27: =AJ27/($X27+$Z27+$AB27+$AD27+$AF27) -> 0 | AL27: =COUNTIF(AL28:AL29,"x") -> 0 | AM27: =AL27/($X27+$Z27+$AB27+$AD27+$AF27) -> 0 | AN27: =COUNTIF(AN28:AN29,"x") -> 0 | AO27: =AN27/($X27+$Z27+$AB27+$AD27+$AF27) -> 0 | AP27: =COUNTIF(AP28:AP29,"x") -> 0 | AQ27: =AP27/($X27+$Z27+$AB27+$AD27+$AF27) -> 0
A28: 12 | B28: Huỳnh Thị Xuân | C28: Mai | D28: 11100071597 | E28: =IFERROR((VLOOKUP($D28,'Các đơn vị'!$D$11:$M$390,2,0)),0) -> 89 | F28: =IFERROR((VLOOKUP($D28,'Các đơn vị'!$D$11:$M$390,3,0)),0) -> 30 | G28: 60 | H28: =IFERROR((VLOOKUP($D28,'Các đơn vị'!$D$11:$M$390,5,0)),0) -> 0 | I28: =IFERROR((VLOOKUP($D28,'Các đơn vị'!$D$11:$M$390,6,0)),0) -> 0 | J28: =F28+G28+H28-I28 -> 90 | K28: =F28 -> 30 | L28: =G28 -> 60 | M28: =H28 -> 0 | N28: =I28 -> 0 | O28: =K28+L28+M28-N28 -> 90 | P28: =IF(AND($O28>=90,$O28<=100),"Xuất sắc",IF(AND($O28>=75,$O28<90),"Tốt",IF(AND($O28>=50,$O28<75),"Hoàn thành",IF(AND($O28<50,$O28>0),"Không hoàn thành",IF($O28=0,"Không đánh giá",""))))) -> Xuất sắc | T28: =COUNTIF(Q28:S28,"B")+COUNTIF(Q28:S28,"C")*2 -> 0 | U28: =+COUNTIF(Q28:S28,"D") -> 0 | V28: =IF(U28>=1,"Không hoàn thành",IF(AND($O28>=90,$O28<100,T28=0),"Xuất sắc",IF(AND($O28>=90,$O28<100,T28=1),"Tốt",IF(AND($O28>=90,$O28<100,T28=2),"Hoàn thành",IF(AND($O28>=90,$O28<100,T28>=3),"Không hoàn thành",IF(AND($O28>=75,$O28<90,T28=0),"Tốt",IF(AND($O28>=75,$O28<90,T28=1),"Hoàn thành",IF(AND($O28>=75,$O28<90,T28>=2),"Không hoàn thành",IF(AND($O28>=50,$O28<75,T28=0),"Hoàn thành",IF(AND($O28>=50,$O28<=75,T28>=1),"Không hoàn thành",IF(AND($O28>0,$O28<50),"Không hoàn thành",IF($O28=0,"Không đánh giá","")))))))))))) -> Xuất sắc | X28: =IF(AND($J28>=90,$J28<=100),"X",IF($J28<90,"","")) -> X | Z28: =IF(AND($J28>=75,$J28<90),"X",IF($J28<75,"","")) | AB28: =IF(AND($J28>=50,$J28<75),"X",IF($J28<50,"","")) | AD28: =IF($J28<50,"X","") | AH28: =IF($V28="Xuất sắc","X","") -> X | AJ28: =IF($V28="Tốt","X","") | AL28: =IF($V28="Hoàn thành","X","") | AN28: =IF($V28="Không hoàn thành","X","") | AP28: =IF($V28="Không đánh giá","X","")
A29: 13 | B29: Trần Văn Cu | C29: Anh | D29: 11100000805 | E29: =IFERROR((VLOOKUP($D29,'Các đơn vị'!$D$11:$M$390,2,0)),0) -> 88 | F29: =IFERROR((VLOOKUP($D29,'Các đơn vị'!$D$11:$M$390,3,0)),0) -> 30 | G29: 60 | H29: =IFERROR((VLOOKUP($D29,'Các đơn vị'!$D$11:$M$390,5,0)),0) -> 0 | I29: =IFERROR((VLOOKUP($D29,'Các đơn vị'!$D$11:$M$390,6,0)),0) -> 0 | J29: =F29+G29+H29-I29 -> 90 | K29: =F29 -> 30 | L29: =G29 -> 60 | M29: =H29 -> 0 | N29: =I29 -> 0 | O29: =K29+L29+M29-N29 -> 90 | P29: =IF(AND($O29>=90,$O29<=100),"Xuất sắc",IF(AND($O29>=75,$O29<90),"Tốt",IF(AND($O29>=50,$O29<75),"Hoàn thành",IF(AND($O29<50,$O29>0),"Không hoàn thành",IF($O29=0,"Không đánh giá",""))))) -> Xuất sắc | T29: =COUNTIF(Q29:S29,"B")+COUNTIF(Q29:S29,"C")*2 -> 0 | U29: =+COUNTIF(Q29:S29,"D") -> 0 | V29: =IF(U29>=1,"Không hoàn thành",IF(AND($O29>=90,$O29<100,T29=0),"Xuất sắc",IF(AND($O29>=90,$O29<100,T29=1),"Tốt",IF(AND($O29>=90,$O29<100,T29=2),"Hoàn thành",IF(AND($O29>=90,$O29<100,T29>=3),"Không hoàn thành",IF(AND($O29>=75,$O29<90,T29=0),"Tốt",IF(AND($O29>=75,$O29<90,T29=1),"Hoàn thành",IF(AND($O29>=75,$O29<90,T29>=2),"Không hoàn thành",IF(AND($O29>=50,$O29<75,T29=0),"Hoàn thành",IF(AND($O29>=50,$O29<=75,T29>=1),"Không hoàn thành",IF(AND($O29>0,$O29<50),"Không hoàn thành",IF($O29=0,"Không đánh giá","")))))))))))) -> Xuất sắc | X29: =IF(AND($J29>=90,$J29<=100),"X",IF($J29<90,"","")) -> X | Z29: =IF(AND($J29>=75,$J29<90),"X",IF($J29<75,"","")) | AB29: =IF(AND($J29>=50,$J29<75),"X",IF($J29<50,"","")) | AD29: =IF($J29<50,"X","") | AH29: =IF($V29="Xuất sắc","X","") -> X | AJ29: =IF($V29="Tốt","X","") | AL29: =IF($V29="Hoàn thành","X","") | AN29: =IF($V29="Không hoàn thành","X","") | AP29: =IF($V29="Không đánh giá","X","")
A30: d | B30: Hợp đồng trường | X30: =COUNTIF(X31:X42,"x") -> 4 | Y30: =X30/($X30+$Z30+$AB30+$AD30+$AF30) -> 0.33333333 | Z30: =COUNTIF(Z31:Z42,"x") -> 8 | AA30: =Z30/($X30+$Z30+$AB30+$AD30+$AF30) -> 0.66666667 | AB30: =COUNTIF(AB31:AB42,"x") -> 0 | AC30: =AB30/($X30+$Z30+$AB30+$AD30+$AF30) -> 0 | AD30: =COUNTIF(AD31:AD42,"x") -> 0 | AE30: =AD30/($X30+$Z30+$AB30+$AD30+$AF30) -> 0 | AF30: =COUNTIF(AF31:AF42,"x") -> 0 | AG30: =AF30/($X30+$Z30+$AB30+$AD30+$AF30) -> 0 | AH30: =COUNTIF(AH31:AH42,"x") -> 4 | AI30: =AH30/($X30+$Z30+$AB30+$AD30+$AF30) -> 0.33333333 | AJ30: =COUNTIF(AJ31:AJ42,"x") -> 8 | AK30: =AJ30/($X30+$Z30+$AB30+$AD30+$AF30) -> 0.66666667 | AL30: =COUNTIF(AL31:AL42,"x") -> 0 | AM30: =AL30/($X30+$Z30+$AB30+$AD30+$AF30) -> 0 | AN30: =COUNTIF(AN31:AN42,"x") -> 0 | AO30: =AN30/($X30+$Z30+$AB30+$AD30+$AF30) -> 0 | AP30: =COUNTIF(AP31:AP42,"x") -> 0 | AQ30: =AP30/($X30+$Z30+$AB30+$AD30+$AF30) -> 0
A31: 14 | B31: Phạm Hữu | C31: Tấn | D31: 79000H05.000568 | E31: =IFERROR((VLOOKUP($D31,'Các đơn vị'!$D$11:$M$390,2,0)),0) -> 89 | F31: =IFERROR((VLOOKUP($D31,'Các đơn vị'!$D$11:$M$390,3,0)),0) -> 30 | G31: 60 | H31: =IFERROR((VLOOKUP($D31,'Các đơn vị'!$D$11:$M$390,5,0)),0) -> 0 | I31: =IFERROR((VLOOKUP($D31,'Các đơn vị'!$D$11:$M$390,6,0)),0) -> 0 | J31: =F31+G31+H31-I31 -> 90 | K31: =F31 -> 30 | L31: =G31 -> 60 | M31: =H31 -> 0 | N31: =I31 -> 0 | O31: =K31+L31+M31-N31 -> 90 | P31: =IF(AND($O31>=90,$O31<=100),"Xuất sắc",IF(AND($O31>=75,$O31<90),"Tốt",IF(AND($O31>=50,$O31<75),"Hoàn thành",IF(AND($O31<50,$O31>0),"Không hoàn thành",IF($O31=0,"Không đánh giá",""))))) -> Xuất sắc | T31: =COUNTIF(Q31:S31,"B")+COUNTIF(Q31:S31,"C")*2 -> 0 | U31: =+COUNTIF(Q31:S31,"D") -> 0 | V31: =IF(U31>=1,"Không hoàn thành",IF(AND($O31>=90,$O31<100,T31=0),"Xuất sắc",IF(AND($O31>=90,$O31<100,T31=1),"Tốt",IF(AND($O31>=90,$O31<100,T31=2),"Hoàn thành",IF(AND($O31>=90,$O31<100,T31>=3),"Không hoàn thành",IF(AND($O31>=75,$O31<90,T31=0),"Tốt",IF(AND($O31>=75,$O31<90,T31=1),"Hoàn thành",IF(AND($O31>=75,$O31<90,T31>=2),"Không hoàn thành",IF(AND($O31>=50,$O31<75,T31=0),"Hoàn thành",IF(AND($O31>=50,$O31<=75,T31>=1),"Không hoàn thành",IF(AND($O31>0,$O31<50),"Không hoàn thành",IF($O31=0,"Không đánh giá","")))))))))))) -> Xuất sắc | X31: =IF(AND($J31>=90,$J31<=100),"X",IF($J31<90,"","")) -> X | Z31: =IF(AND($J31>=75,$J31<90),"X",IF($J31<75,"","")) | AB31: =IF(AND($J31>=50,$J31<75),"X",IF($J31<50,"","")) | AD31: =IF($J31<50,"X","") | AH31: =IF($V31="Xuất sắc","X","") -> X | AJ31: =IF($V31="Tốt","X","") | AL31: =IF($V31="Hoàn thành","X","") | AN31: =IF($V31="Không hoàn thành","X","") | AP31: =IF($V31="Không đánh giá","X","")
A32: 15 | B32: Dương Văn | C32: Tâm | E32: 85 | F32: 29 | G32: 50 | H32: =IFERROR((VLOOKUP($D32,'Các đơn vị'!$D$11:$M$390,5,0)),0) -> 0 | I32: =IFERROR((VLOOKUP($D32,'Các đơn vị'!$D$11:$M$390,6,0)),0) -> 0 | J32: =F32+G32+H32-I32 -> 79 | K32: =F32 -> 29 | L32: =G32 -> 50 | M32: =H32 -> 0 | N32: =I32 -> 0 | O32: =K32+L32+M32-N32 -> 79 | P32: =IF(AND($O32>=90,$O32<=100),"Xuất sắc",IF(AND($O32>=75,$O32<90),"Tốt",IF(AND($O32>=50,$O32<75),"Hoàn thành",IF(AND($O32<50,$O32>0),"Không hoàn thành",IF($O32=0,"Không đánh giá",""))))) -> Tốt | T32: =COUNTIF(Q32:S32,"B")+COUNTIF(Q32:S32,"C")*2 -> 0 | U32: =+COUNTIF(Q32:S32,"D") -> 0 | V32: =IF(U32>=1,"Không hoàn thành",IF(AND($O32>=90,$O32<100,T32=0),"Xuất sắc",IF(AND($O32>=90,$O32<100,T32=1),"Tốt",IF(AND($O32>=90,$O32<100,T32=2),"Hoàn thành",IF(AND($O32>=90,$O32<100,T32>=3),"Không hoàn thành",IF(AND($O32>=75,$O32<90,T32=0),"Tốt",IF(AND($O32>=75,$O32<90,T32=1),"Hoàn thành",IF(AND($O32>=75,$O32<90,T32>=2),"Không hoàn thành",IF(AND($O32>=50,$O32<75,T32=0),"Hoàn thành",IF(AND($O32>=50,$O32<=75,T32>=1),"Không hoàn thành",IF(AND($O32>0,$O32<50),"Không hoàn thành",IF($O32=0,"Không đánh giá","")))))))))))) -> Tốt | X32: =IF(AND($J32>=90,$J32<=100),"X",IF($J32<90,"","")) | Z32: =IF(AND($J32>=75,$J32<90),"X",IF($J32<75,"","")) -> X | AB32: =IF(AND($J32>=50,$J32<75),"X",IF($J32<50,"","")) | AD32: =IF($J32<50,"X","") | AH32: =IF($V32="Xuất sắc","X","") | AJ32: =IF($V32="Tốt","X","") -> X | AL32: =IF($V32="Hoàn thành","X","") | AN32: =IF($V32="Không hoàn thành","X","") | AP32: =IF($V32="Không đánh giá","X","")
A33: 16 | B33: Huỳnh Ngọc | C33: Liên | E33: 83 | F33: 29 | G33: 50 | H33: =IFERROR((VLOOKUP($D33,'Các đơn vị'!$D$11:$M$390,5,0)),0) -> 0 | I33: =IFERROR((VLOOKUP($D33,'Các đơn vị'!$D$11:$M$390,6,0)),0) -> 0 | J33: =F33+G33+H33-I33 -> 79 | K33: =F33 -> 29 | L33: =G33 -> 50 | M33: =H33 -> 0 | N33: =I33 -> 0 | O33: =K33+L33+M33-N33 -> 79 | P33: =IF(AND($O33>=90,$O33<=100),"Xuất sắc",IF(AND($O33>=75,$O33<90),"Tốt",IF(AND($O33>=50,$O33<75),"Hoàn thành",IF(AND($O33<50,$O33>0),"Không hoàn thành",IF($O33=0,"Không đánh giá",""))))) -> Tốt | T33: =COUNTIF(Q33:S33,"B")+COUNTIF(Q33:S33,"C")*2 -> 0 | U33: =+COUNTIF(Q33:S33,"D") -> 0 | V33: =IF(U33>=1,"Không hoàn thành",IF(AND($O33>=90,$O33<100,T33=0),"Xuất sắc",IF(AND($O33>=90,$O33<100,T33=1),"Tốt",IF(AND($O33>=90,$O33<100,T33=2),"Hoàn thành",IF(AND($O33>=90,$O33<100,T33>=3),"Không hoàn thành",IF(AND($O33>=75,$O33<90,T33=0),"Tốt",IF(AND($O33>=75,$O33<90,T33=1),"Hoàn thành",IF(AND($O33>=75,$O33<90,T33>=2),"Không hoàn thành",IF(AND($O33>=50,$O33<75,T33=0),"Hoàn thành",IF(AND($O33>=50,$O33<=75,T33>=1),"Không hoàn thành",IF(AND($O33>0,$O33<50),"Không hoàn thành",IF($O33=0,"Không đánh giá","")))))))))))) -> Tốt | X33: =IF(AND($J33>=90,$J33<=100),"X",IF($J33<90,"","")) | Z33: =IF(AND($J33>=75,$J33<90),"X",IF($J33<75,"","")) -> X | AB33: =IF(AND($J33>=50,$J33<75),"X",IF($J33<50,"","")) | AD33: =IF($J33<50,"X","") | AH33: =IF($V33="Xuất sắc","X","") | AJ33: =IF($V33="Tốt","X","") -> X | AL33: =IF($V33="Hoàn thành","X","") | AN33: =IF($V33="Không hoàn thành","X","") | AP33: =IF($V33="Không đánh giá","X","")
A34: 17 | B34: Huỳnh Thanh | C34: Nhàn | D34: 79000H05.000574 | E34: =IFERROR((VLOOKUP($D34,'Các đơn vị'!$D$11:$M$390,2,0)),0) -> 78 | F34: 30 | G34: 60 | H34: =IFERROR((VLOOKUP($D34,'Các đơn vị'!$D$11:$M$390,5,0)),0) -> 0 | I34: =IFERROR((VLOOKUP($D34,'Các đơn vị'!$D$11:$M$390,6,0)),0) -> 0 | J34: =F34+G34+H34-I34 -> 90 | K34: =F34 -> 30 | L34: =G34 -> 60 | M34: =H34 -> 0 | N34: =I34 -> 0 | O34: =K34+L34+M34-N34 -> 90 | P34: =IF(AND($O34>=90,$O34<=100),"Xuất sắc",IF(AND($O34>=75,$O34<90),"Tốt",IF(AND($O34>=50,$O34<75),"Hoàn thành",IF(AND($O34<50,$O34>0),"Không hoàn thành",IF($O34=0,"Không đánh giá",""))))) -> Xuất sắc | T34: =COUNTIF(Q34:S34,"B")+COUNTIF(Q34:S34,"C")*2 -> 0 | U34: =+COUNTIF(Q34:S34,"D") -> 0 | V34: =IF(U34>=1,"Không hoàn thành",IF(AND($O34>=90,$O34<100,T34=0),"Xuất sắc",IF(AND($O34>=90,$O34<100,T34=1),"Tốt",IF(AND($O34>=90,$O34<100,T34=2),"Hoàn thành",IF(AND($O34>=90,$O34<100,T34>=3),"Không hoàn thành",IF(AND($O34>=75,$O34<90,T34=0),"Tốt",IF(AND($O34>=75,$O34<90,T34=1),"Hoàn thành",IF(AND($O34>=75,$O34<90,T34>=2),"Không hoàn thành",IF(AND($O34>=50,$O34<75,T34=0),"Hoàn thành",IF(AND($O34>=50,$O34<=75,T34>=1),"Không hoàn thành",IF(AND($O34>0,$O34<50),"Không hoàn thành",IF($O34=0,"Không đánh giá","")))))))))))) -> Xuất sắc | X34: =IF(AND($J34>=90,$J34<=100),"X",IF($J34<90,"","")) -> X | Z34: =IF(AND($J34>=75,$J34<90),"X",IF($J34<75,"","")) | AB34: =IF(AND($J34>=50,$J34<75),"X",IF($J34<50,"","")) | AD34: =IF($J34<50,"X","") | AH34: =IF($V34="Xuất sắc","X","") -> X | AJ34: =IF($V34="Tốt","X","") | AL34: =IF($V34="Hoàn thành","X","") | AN34: =IF($V34="Không hoàn thành","X","") | AP34: =IF($V34="Không đánh giá","X","")
A35: 18 | B35: Phạm Hữu Thành | C35: Phú | D35: 79000H05.000575 | E35: =IFERROR((VLOOKUP($D35,'Các đơn vị'!$D$11:$M$390,2,0)),0) -> 88 | F35: =IFERROR((VLOOKUP($D35,'Các đơn vị'!$D$11:$M$390,3,0)),0) -> 30 | G35: 60 | H35: =IFERROR((VLOOKUP($D35,'Các đơn vị'!$D$11:$M$390,5,0)),0) -> 0 | I35: =IFERROR((VLOOKUP($D35,'Các đơn vị'!$D$11:$M$390,6,0)),0) -> 0 | J35: =F35+G35+H35-I35 -> 90 | K35: =F35 -> 30 | L35: =G35 -> 60 | M35: =H35 -> 0 | N35: =I35 -> 0 | O35: =K35+L35+M35-N35 -> 90 | P35: =IF(AND($O35>=90,$O35<=100),"Xuất sắc",IF(AND($O35>=75,$O35<90),"Tốt",IF(AND($O35>=50,$O35<75),"Hoàn thành",IF(AND($O35<50,$O35>0),"Không hoàn thành",IF($O35=0,"Không đánh giá",""))))) -> Xuất sắc | T35: =COUNTIF(Q35:S35,"B")+COUNTIF(Q35:S35,"C")*2 -> 0 | U35: =+COUNTIF(Q35:S35,"D") -> 0 | V35: =IF(U35>=1,"Không hoàn thành",IF(AND($O35>=90,$O35<100,T35=0),"Xuất sắc",IF(AND($O35>=90,$O35<100,T35=1),"Tốt",IF(AND($O35>=90,$O35<100,T35=2),"Hoàn thành",IF(AND($O35>=90,$O35<100,T35>=3),"Không hoàn thành",IF(AND($O35>=75,$O35<90,T35=0),"Tốt",IF(AND($O35>=75,$O35<90,T35=1),"Hoàn thành",IF(AND($O35>=75,$O35<90,T35>=2),"Không hoàn thành",IF(AND($O35>=50,$O35<75,T35=0),"Hoàn thành",IF(AND($O35>=50,$O35<=75,T35>=1),"Không hoàn thành",IF(AND($O35>0,$O35<50),"Không hoàn thành",IF($O35=0,"Không đánh giá","")))))))))))) -> Xuất sắc | X35: =IF(AND($J35>=90,$J35<=100),"X",IF($J35<90,"","")) -> X | Z35: =IF(AND($J35>=75,$J35<90),"X",IF($J35<75,"","")) | AB35: =IF(AND($J35>=50,$J35<75),"X",IF($J35<50,"","")) | AD35: =IF($J35<50,"X","") | AH35: =IF($V35="Xuất sắc","X","") -> X | AJ35: =IF($V35="Tốt","X","") | AL35: =IF($V35="Hoàn thành","X","") | AN35: =IF($V35="Không hoàn thành","X","") | AP35: =IF($V35="Không đánh giá","X","")
A36: 19 | B36: Lê Hồng | C36: Phúc | D36: 79000H05.000448 | E36: =IFERROR((VLOOKUP($D36,'Các đơn vị'!$D$11:$M$390,2,0)),0) -> 87 | F36: =IFERROR((VLOOKUP($D36,'Các đơn vị'!$D$11:$M$390,3,0)),0) -> 29 | G36: 60 | H36: =IFERROR((VLOOKUP($D36,'Các đơn vị'!$D$11:$M$390,5,0)),0) -> 0 | I36: =IFERROR((VLOOKUP($D36,'Các đơn vị'!$D$11:$M$390,6,0)),0) -> 0 | J36: =F36+G36+H36-I36 -> 89 | K36: =F36 -> 29 | L36: =G36 -> 60 | M36: =H36 -> 0 | N36: =I36 -> 0 | O36: =K36+L36+M36-N36 -> 89 | P36: =IF(AND($O36>=90,$O36<=100),"Xuất sắc",IF(AND($O36>=75,$O36<90),"Tốt",IF(AND($O36>=50,$O36<75),"Hoàn thành",IF(AND($O36<50,$O36>0),"Không hoàn thành",IF($O36=0,"Không đánh giá",""))))) -> Tốt | T36: =COUNTIF(Q36:S36,"B")+COUNTIF(Q36:S36,"C")*2 -> 0 | U36: =+COUNTIF(Q36:S36,"D") -> 0 | V36: =IF(U36>=1,"Không hoàn thành",IF(AND($O36>=90,$O36<100,T36=0),"Xuất sắc",IF(AND($O36>=90,$O36<100,T36=1),"Tốt",IF(AND($O36>=90,$O36<100,T36=2),"Hoàn thành",IF(AND($O36>=90,$O36<100,T36>=3),"Không hoàn thành",IF(AND($O36>=75,$O36<90,T36=0),"Tốt",IF(AND($O36>=75,$O36<90,T36=1),"Hoàn thành",IF(AND($O36>=75,$O36<90,T36>=2),"Không hoàn thành",IF(AND($O36>=50,$O36<75,T36=0),"Hoàn thành",IF(AND($O36>=50,$O36<=75,T36>=1),"Không hoàn thành",IF(AND($O36>0,$O36<50),"Không hoàn thành",IF($O36=0,"Không đánh giá","")))))))))))) -> Tốt | X36: =IF(AND($J36>=90,$J36<=100),"X",IF($J36<90,"","")) | Z36: =IF(AND($J36>=75,$J36<90),"X",IF($J36<75,"","")) -> X | AB36: =IF(AND($J36>=50,$J36<75),"X",IF($J36<50,"","")) | AD36: =IF($J36<50,"X","") | AH36: =IF($V36="Xuất sắc","X","") | AJ36: =IF($V36="Tốt","X","") -> X | AL36: =IF($V36="Hoàn thành","X","") | AN36: =IF($V36="Không hoàn thành","X","") | AP36: =IF($V36="Không đánh giá","X","")
A37: 20 | B37: Nguyễn Hữu Xuân | C37: Vũ | D37: 79000H05.000420 | E37: =IFERROR((VLOOKUP($D37,'Các đơn vị'!$D$11:$M$390,2,0)),0) -> 88 | F37: 30 | G37: 60 | H37: =IFERROR((VLOOKUP($D37,'Các đơn vị'!$D$11:$M$390,5,0)),0) -> 0 | I37: =IFERROR((VLOOKUP($D37,'Các đơn vị'!$D$11:$M$390,6,0)),0) -> 0 | J37: =F37+G37+H37-I37 -> 90 | K37: =F37 -> 30 | L37: =G37 -> 60 | M37: =H37 -> 0 | N37: =I37 -> 0 | O37: =K37+L37+M37-N37 -> 90 | P37: =IF(AND($O37>=90,$O37<=100),"Xuất sắc",IF(AND($O37>=75,$O37<90),"Tốt",IF(AND($O37>=50,$O37<75),"Hoàn thành",IF(AND($O37<50,$O37>0),"Không hoàn thành",IF($O37=0,"Không đánh giá",""))))) -> Xuất sắc | T37: =COUNTIF(Q37:S37,"B")+COUNTIF(Q37:S37,"C")*2 -> 0 | U37: =+COUNTIF(Q37:S37,"D") -> 0 | V37: =IF(U37>=1,"Không hoàn thành",IF(AND($O37>=90,$O37<100,T37=0),"Xuất sắc",IF(AND($O37>=90,$O37<100,T37=1),"Tốt",IF(AND($O37>=90,$O37<100,T37=2),"Hoàn thành",IF(AND($O37>=90,$O37<100,T37>=3),"Không hoàn thành",IF(AND($O37>=75,$O37<90,T37=0),"Tốt",IF(AND($O37>=75,$O37<90,T37=1),"Hoàn thành",IF(AND($O37>=75,$O37<90,T37>=2),"Không hoàn thành",IF(AND($O37>=50,$O37<75,T37=0),"Hoàn thành",IF(AND($O37>=50,$O37<=75,T37>=1),"Không hoàn thành",IF(AND($O37>0,$O37<50),"Không hoàn thành",IF($O37=0,"Không đánh giá","")))))))))))) -> Xuất sắc | X37: =IF(AND($J37>=90,$J37<=100),"X",IF($J37<90,"","")) -> X | Z37: =IF(AND($J37>=75,$J37<90),"X",IF($J37<75,"","")) | AB37: =IF(AND($J37>=50,$J37<75),"X",IF($J37<50,"","")) | AD37: =IF($J37<50,"X","") | AH37: =IF($V37="Xuất sắc","X","") -> X | AJ37: =IF($V37="Tốt","X","") | AL37: =IF($V37="Hoàn thành","X","") | AN37: =IF($V37="Không hoàn thành","X","") | AP37: =IF($V37="Không đánh giá","X","")
A38: 21 | B38: Nguyễn Tiến | C38: Hưng | D38: 79000H05.000299 | E38: =IFERROR((VLOOKUP($D38,'Các đơn vị'!$D$11:$M$390,2,0)),0) -> 85 | F38: =IFERROR((VLOOKUP($D38,'Các đơn vị'!$D$11:$M$390,3,0)),0) -> 26 | G38: 60 | H38: =IFERROR((VLOOKUP($D38,'Các đơn vị'!$D$11:$M$390,5,0)),0) -> 0 | I38: =IFERROR((VLOOKUP($D38,'Các đơn vị'!$D$11:$M$390,6,0)),0) -> 0 | J38: =F38+G38+H38-I38 -> 86 | K38: =F38 -> 26 | L38: =G38 -> 60 | M38: =H38 -> 0 | N38: =I38 -> 0 | O38: =K38+L38+M38-N38 -> 86 | P38: =IF(AND($O38>=90,$O38<=100),"Xuất sắc",IF(AND($O38>=75,$O38<90),"Tốt",IF(AND($O38>=50,$O38<75),"Hoàn thành",IF(AND($O38<50,$O38>0),"Không hoàn thành",IF($O38=0,"Không đánh giá",""))))) -> Tốt | T38: =COUNTIF(Q38:S38,"B")+COUNTIF(Q38:S38,"C")*2 -> 0 | U38: =+COUNTIF(Q38:S38,"D") -> 0 | V38: =IF(U38>=1,"Không hoàn thành",IF(AND($O38>=90,$O38<100,T38=0),"Xuất sắc",IF(AND($O38>=90,$O38<100,T38=1),"Tốt",IF(AND($O38>=90,$O38<100,T38=2),"Hoàn thành",IF(AND($O38>=90,$O38<100,T38>=3),"Không hoàn thành",IF(AND($O38>=75,$O38<90,T38=0),"Tốt",IF(AND($O38>=75,$O38<90,T38=1),"Hoàn thành",IF(AND($O38>=75,$O38<90,T38>=2),"Không hoàn thành",IF(AND($O38>=50,$O38<75,T38=0),"Hoàn thành",IF(AND($O38>=50,$O38<=75,T38>=1),"Không hoàn thành",IF(AND($O38>0,$O38<50),"Không hoàn thành",IF($O38=0,"Không đánh giá","")))))))))))) -> Tốt | X38: =IF(AND($J38>=90,$J38<=100),"X",IF($J38<90,"","")) | Z38: =IF(AND($J38>=75,$J38<90),"X",IF($J38<75,"","")) -> X | AB38: =IF(AND($J38>=50,$J38<75),"X",IF($J38<50,"","")) | AD38: =IF($J38<50,"X","") | AH38: =IF($V38="Xuất sắc","X","") | AJ38: =IF($V38="Tốt","X","") -> X | AL38: =IF($V38="Hoàn thành","X","") | AN38: =IF($V38="Không hoàn thành","X","") | AP38: =IF($V38="Không đánh giá","X","")
A39: 22 | B39: Đồng Anh | C39: Tuấn | D39: 79000H05.000527 | E39: =IFERROR((VLOOKUP($D39,'Các đơn vị'!$D$11:$M$390,2,0)),0) -> 87 | F39: =IFERROR((VLOOKUP($D39,'Các đơn vị'!$D$11:$M$390,3,0)),0) -> 28 | G39: 50 | H39: =IFERROR((VLOOKUP($D39,'Các đơn vị'!$D$11:$M$390,5,0)),0) -> 0 | I39: =IFERROR((VLOOKUP($D39,'Các đơn vị'!$D$11:$M$390,6,0)),0) -> 0 | J39: =F39+G39+H39-I39 -> 78 | K39: =F39 -> 28 | L39: =G39 -> 50 | M39: =H39 -> 0 | N39: =I39 -> 0 | O39: =K39+L39+M39-N39 -> 78 | P39: =IF(AND($O39>=90,$O39<=100),"Xuất sắc",IF(AND($O39>=75,$O39<90),"Tốt",IF(AND($O39>=50,$O39<75),"Hoàn thành",IF(AND($O39<50,$O39>0),"Không hoàn thành",IF($O39=0,"Không đánh giá",""))))) -> Tốt | T39: =COUNTIF(Q39:S39,"B")+COUNTIF(Q39:S39,"C")*2 -> 0 | U39: =+COUNTIF(Q39:S39,"D") -> 0 | V39: =IF(U39>=1,"Không hoàn thành",IF(AND($O39>=90,$O39<100,T39=0),"Xuất sắc",IF(AND($O39>=90,$O39<100,T39=1),"Tốt",IF(AND($O39>=90,$O39<100,T39=2),"Hoàn thành",IF(AND($O39>=90,$O39<100,T39>=3),"Không hoàn thành",IF(AND($O39>=75,$O39<90,T39=0),"Tốt",IF(AND($O39>=75,$O39<90,T39=1),"Hoàn thành",IF(AND($O39>=75,$O39<90,T39>=2),"Không hoàn thành",IF(AND($O39>=50,$O39<75,T39=0),"Hoàn thành",IF(AND($O39>=50,$O39<=75,T39>=1),"Không hoàn thành",IF(AND($O39>0,$O39<50),"Không hoàn thành",IF($O39=0,"Không đánh giá","")))))))))))) -> Tốt | X39: =IF(AND($J39>=90,$J39<=100),"X",IF($J39<90,"","")) | Z39: =IF(AND($J39>=75,$J39<90),"X",IF($J39<75,"","")) -> X | AB39: =IF(AND($J39>=50,$J39<75),"X",IF($J39<50,"","")) | AD39: =IF($J39<50,"X","") | AH39: =IF($V39="Xuất sắc","X","") | AJ39: =IF($V39="Tốt","X","") -> X | AL39: =IF($V39="Hoàn thành","X","") | AN39: =IF($V39="Không hoàn thành","X","") | AP39: =IF($V39="Không đánh giá","X","")
A40: 23 | B40: Trần Thanh | C40: Phương | D40: 79000H05.326689 | E40: =IFERROR((VLOOKUP($D40,'Các đơn vị'!$D$11:$M$390,2,0)),0) -> 86 | F40: =IFERROR((VLOOKUP($D40,'Các đơn vị'!$D$11:$M$390,3,0)),0) -> 29 | G40: 50 | H40: =IFERROR((VLOOKUP($D40,'Các đơn vị'!$D$11:$M$390,5,0)),0) -> 0 | I40: =IFERROR((VLOOKUP($D40,'Các đơn vị'!$D$11:$M$390,6,0)),0) -> 0 | J40: =F40+G40+H40-I40 -> 79 | K40: =F40 -> 29 | L40: =G40 -> 50 | M40: =H40 -> 0 | N40: =I40 -> 0 | O40: =K40+L40+M40-N40 -> 79 | P40: =IF(AND($O40>=90,$O40<=100),"Xuất sắc",IF(AND($O40>=75,$O40<90),"Tốt",IF(AND($O40>=50,$O40<75),"Hoàn thành",IF(AND($O40<50,$O40>0),"Không hoàn thành",IF($O40=0,"Không đánh giá",""))))) -> Tốt | T40: =COUNTIF(Q40:S40,"B")+COUNTIF(Q40:S40,"C")*2 -> 0 | U40: =+COUNTIF(Q40:S40,"D") -> 0 | V40: =IF(U40>=1,"Không hoàn thành",IF(AND($O40>=90,$O40<100,T40=0),"Xuất sắc",IF(AND($O40>=90,$O40<100,T40=1),"Tốt",IF(AND($O40>=90,$O40<100,T40=2),"Hoàn thành",IF(AND($O40>=90,$O40<100,T40>=3),"Không hoàn thành",IF(AND($O40>=75,$O40<90,T40=0),"Tốt",IF(AND($O40>=75,$O40<90,T40=1),"Hoàn thành",IF(AND($O40>=75,$O40<90,T40>=2),"Không hoàn thành",IF(AND($O40>=50,$O40<75,T40=0),"Hoàn thành",IF(AND($O40>=50,$O40<=75,T40>=1),"Không hoàn thành",IF(AND($O40>0,$O40<50),"Không hoàn thành",IF($O40=0,"Không đánh giá","")))))))))))) -> Tốt | X40: =IF(AND($J40>=90,$J40<=100),"X",IF($J40<90,"","")) | Z40: =IF(AND($J40>=75,$J40<90),"X",IF($J40<75,"","")) -> X | AB40: =IF(AND($J40>=50,$J40<75),"X",IF($J40<50,"","")) | AD40: =IF($J40<50,"X","") | AH40: =IF($V40="Xuất sắc","X","") | AJ40: =IF($V40="Tốt","X","") -> X | AL40: =IF($V40="Hoàn thành","X","") | AN40: =IF($V40="Không hoàn thành","X","") | AP40: =IF($V40="Không đánh giá","X","")
A41: 24 | B41: Nguyễn Thanh | C41: Hiền | D41: 79000H05.110707 | E41: =IFERROR((VLOOKUP($D41,'Các đơn vị'!$D$11:$M$390,2,0)),0) -> 86 | F41: 28 | G41: 50 | H41: =IFERROR((VLOOKUP($D41,'Các đơn vị'!$D$11:$M$390,5,0)),0) -> 0 | I41: =(F41+G41)*3% -> 2.34 | J41: =F41+G41+H41-I41 -> 75.66 | K41: =F41 -> 28 | L41: =G41 -> 50 | M41: =H41 -> 0 | N41: =I41 -> 2.34 | O41: =K41+L41+M41-N41 -> 75.66 | P41: =IF(AND($O41>=90,$O41<=100),"Xuất sắc",IF(AND($O41>=75,$O41<90),"Tốt",IF(AND($O41>=50,$O41<75),"Hoàn thành",IF(AND($O41<50,$O41>0),"Không hoàn thành",IF($O41=0,"Không đánh giá",""))))) -> Tốt | T41: =COUNTIF(Q41:S41,"B")+COUNTIF(Q41:S41,"C")*2 -> 0 | U41: =+COUNTIF(Q41:S41,"D") -> 0 | V41: =IF(U41>=1,"Không hoàn thành",IF(AND($O41>=90,$O41<100,T41=0),"Xuất sắc",IF(AND($O41>=90,$O41<100,T41=1),"Tốt",IF(AND($O41>=90,$O41<100,T41=2),"Hoàn thành",IF(AND($O41>=90,$O41<100,T41>=3),"Không hoàn thành",IF(AND($O41>=75,$O41<90,T41=0),"Tốt",IF(AND($O41>=75,$O41<90,T41=1),"Hoàn thành",IF(AND($O41>=75,$O41<90,T41>=2),"Không hoàn thành",IF(AND($O41>=50,$O41<75,T41=0),"Hoàn thành",IF(AND($O41>=50,$O41<=75,T41>=1),"Không hoàn thành",IF(AND($O41>0,$O41<50),"Không hoàn thành",IF($O41=0,"Không đánh giá","")))))))))))) -> Tốt | W41: HĐ Thi đua nhắc nhở tháng 7/2020 | X41: =IF(AND($J41>=90,$J41<=100),"X",IF($J41<90,"","")) | Z41: =IF(AND($J41>=75,$J41<90),"X",IF($J41<75,"","")) -> X | AB41: =IF(AND($J41>=50,$J41<75),"X",IF($J41<50,"","")) | AD41: =IF($J41<50,"X","") | AH41: =IF($V41="Xuất sắc","X","") | AJ41: =IF($V41="Tốt","X","") -> X | AL41: =IF($V41="Hoàn thành","X","") | AN41: =IF($V41="Không hoàn thành","X","") | AP41: =IF($V41="Không đánh giá","X","")
A42: 25 | B42: Lê Hồng | C42: Sơn | D42: 79000H05.852722 | E42: =IFERROR((VLOOKUP($D42,'Các đơn vị'!$D$11:$M$390,2,0)),0) -> 87 | F42: 29 | G42: 60 | H42: =IFERROR((VLOOKUP($D42,'Các đơn vị'!$D$11:$M$390,5,0)),0) -> 0 | I42: =IFERROR((VLOOKUP($D42,'Các đơn vị'!$D$11:$M$390,6,0)),0) -> 0 | J42: =F42+G42+H42-I42 -> 89 | K42: =F42 -> 29 | L42: =G42 -> 60 | M42: =H42 -> 0 | N42: =I42 -> 0 | O42: =K42+L42+M42-N42 -> 89 | P42: =IF(AND($O42>=90,$O42<=100),"Xuất sắc",IF(AND($O42>=75,$O42<90),"Tốt",IF(AND($O42>=50,$O42<75),"Hoàn thành",IF(AND($O42<50,$O42>0),"Không hoàn thành",IF($O42=0,"Không đánh giá",""))))) -> Tốt | T42: =COUNTIF(Q42:S42,"B")+COUNTIF(Q42:S42,"C")*2 -> 0 | U42: =+COUNTIF(Q42:S42,"D") -> 0 | V42: =IF(U42>=1,"Không hoàn thành",IF(AND($O42>=90,$O42<100,T42=0),"Xuất sắc",IF(AND($O42>=90,$O42<100,T42=1),"Tốt",IF(AND($O42>=90,$O42<100,T42=2),"Hoàn thành",IF(AND($O42>=90,$O42<100,T42>=3),"Không hoàn thành",IF(AND($O42>=75,$O42<90,T42=0),"Tốt",IF(AND($O42>=75,$O42<90,T42=1),"Hoàn thành",IF(AND($O42>=75,$O42<90,T42>=2),"Không hoàn thành",IF(AND($O42>=50,$O42<75,T42=0),"Hoàn thành",IF(AND($O42>=50,$O42<=75,T42>=1),"Không hoàn thành",IF(AND($O42>0,$O42<50),"Không hoàn thành",IF($O42=0,"Không đánh giá","")))))))))))) -> Tốt | X42: =IF(AND($J42>=90,$J42<=100),"X",IF($J42<90,"","")) | Z42: =IF(AND($J42>=75,$J42<90),"X",IF($J42<75,"","")) -> X | AB42: =IF(AND($J42>=50,$J42<75),"X",IF($J42<50,"","")) | AD42: =IF($J42<50,"X","") | AH42: =IF($V42="Xuất sắc","X","") | AJ42: =IF($V42="Tốt","X","") -> X | AL42: =IF($V42="Hoàn thành","X","") | AN42: =IF($V42="Không hoàn thành","X","") | AP42: =IF($V42="Không đánh giá","X","")
A43: II | B43: PHÒNG CÔNG TÁC CHÍNH TRỊ - HỌC SINH SINH VIÊN | X43: =X44+X54+X56 -> 9 | Y43: =X43/($X43+$Z43+$AB43+$AD43+$AF43) -> 0.6 | Z43: =Z44+Z54+Z56 -> 6 | AA43: =Z43/($X43+$Z43+$AB43+$AD43+$AF43) -> 0.4 | AB43: =AB44+AB54+AB56 -> 0 | AC43: =AB43/($X43+$Z43+$AB43+$AD43+$AF43) -> 0 | AD43: =AD44+AD54+AD56 -> 0 | AE43: =AD43/($X43+$Z43+$AB43+$AD43+$AF43) -> 0 | AF43: =AF44+AF54+AF56 -> 0 | AG43: =AF43/($X43+$Z43+$AB43+$AD43+$AF43) -> 0 | AH43: =AH44+AH54+AH56 -> 9 | AI43: =AH43/($X43+$Z43+$AB43+$AD43+$AF43) -> 0.6 | AJ43: =AJ44+AJ54+AJ56 -> 6 | AK43: =AJ43/($X43+$Z43+$AB43+$AD43+$AF43) -> 0.4 | AL43: =AL44+AL54+AL56 -> 0 | AM43: =AL43/($X43+$Z43+$AB43+$AD43+$AF43) -> 0 | AN43: =AN44+AN54+AN56 -> 0 | AO43: =AN43/($X43+$Z43+$AB43+$AD43+$AF43) -> 0 | AP43: =AP44+AP54+AP56 -> 0 | AQ43: =AP43/($X43+$Z43+$AB43+$AD43+$AF43) -> 0
A44: a | B44: Viên chức | X44: =COUNTIF(X45:X53,"x") -> 5 | Y44: =X44/($X44+$Z44+$AB44+$AD44+$AF44) -> 0.55555556 | Z44: =COUNTIF(Z45:Z53,"x") -> 4 | AA44: =Z44/($X44+$Z44+$AB44+$AD44+$AF44) -> 0.44444444 | AB44: =COUNTIF(AB45:AB53,"x") -> 0 | AC44: =AB44/($X44+$Z44+$AB44+$AD44+$AF44) -> 0 | AD44: =COUNTIF(AD45:AD53,"x") -> 0 | AE44: =AD44/($X44+$Z44+$AB44+$AD44+$AF44) -> 0 | AF44: =COUNTIF(AF45:AF53,"x") -> 0 | AG44: =AF44/($X44+$Z44+$AB44+$AD44+$AF44) -> 0 | AH44: =COUNTIF(AH45:AH53,"x") -> 5 | AI44: =AH44/($X44+$Z44+$AB44+$AD44+$AF44) -> 0.55555556 | AJ44: =COUNTIF(AJ45:AJ53,"x") -> 4 | AK44: =AJ44/($X44+$Z44+$AB44+$AD44+$AF44) -> 0.44444444 | AL44: =COUNTIF(AL45:AL53,"x") -> 0 | AM44: =AL44/($X44+$Z44+$AB44+$AD44+$AF44) -> 0 | AN44: =COUNTIF(AN45:AN53,"x") -> 0 | AO44: =AN44/($X44+$Z44+$AB44+$AD44+$AF44) -> 0 | AP44: =COUNTIF(AP45:AP53,"x") -> 0 | AQ44: =AP44/($X44+$Z44+$AB44+$AD44+$AF44) -> 0
A45: 1 | B45: Lê Xuân | C45: Thiện | D45: 11100000742 | E45: 87 | F45: 27 | G45: 60 | H45: 0 | I45: 0 | J45: 87 | K45: =F45 -> 27 | L45: =G45 -> 60 | M45: =H45 -> 0 | N45: =I45 -> 0 | O45: =K45+L45+M45-N45 -> 87 | P45: =IF(AND($O45>=90,$O45<=100),"Xuất sắc",IF(AND($O45>=75,$O45<90),"Tốt",IF(AND($O45>=50,$O45<75),"Hoàn thành",IF(AND($O45<50,$O45>0),"Không hoàn thành",IF($O45=0,"Không đánh giá",""))))) -> Tốt | T45: =COUNTIF(Q45:S45,"B")+COUNTIF(Q45:S45,"C")*2 -> 0 | U45: =+COUNTIF(Q45:S45,"D") -> 0 | V45: =IF(U45>=1,"Không hoàn thành",IF(AND($O45>=90,$O45<100,T45=0),"Xuất sắc",IF(AND($O45>=90,$O45<100,T45=1),"Tốt",IF(AND($O45>=90,$O45<100,T45=2),"Hoàn thành",IF(AND($O45>=90,$O45<100,T45>=3),"Không hoàn thành",IF(AND($O45>=75,$O45<90,T45=0),"Tốt",IF(AND($O45>=75,$O45<90,T45=1),"Hoàn thành",IF(AND($O45>=75,$O45<90,T45>=2),"Không hoàn thành",IF(AND($O45>=50,$O45<75,T45=0),"Hoàn thành",IF(AND($O45>=50,$O45<=75,T45>=1),"Không hoàn thành",IF(AND($O45>0,$O45<50),"Không hoàn thành",IF($O45=0,"Không đánh giá","")))))))))))) -> Tốt | X45: =IF(AND($J45>=90,$J45<=100),"X",IF($J45<90,"","")) | Z45: =IF(AND($J45>=75,$J45<90),"X",IF($J45<75,"","")) -> X | AB45: =IF(AND($J45>=50,$J45<75),"X",IF($J45<50,"","")) | AD45: =IF($J45<50,"X","") | AH45: =IF($V45="Xuất sắc","X","") | AJ45: =IF($V45="Tốt","X","") -> X | AL45: =IF($V45="Hoàn thành","X","") | AN45: =IF($V45="Không hoàn thành","X","") | AP45: =IF($V45="Không đánh giá","X","")
A46: 2 | B46: Hồ Minh | C46: Lợi | D46: 11100000704 | E46: 79 | F46: 30 | G46: 60 | H46: 0 | I46: 0 | J46: 90 | K46: =F46 -> 30 | L46: =G46 -> 60 | M46: =H46 -> 0 | N46: =I46 -> 0 | O46: =K46+L46+M46-N46 -> 90 | P46: =IF(AND($O46>=90,$O46<=100),"Xuất sắc",IF(AND($O46>=75,$O46<90),"Tốt",IF(AND($O46>=50,$O46<75),"Hoàn thành",IF(AND($O46<50,$O46>0),"Không hoàn thành",IF($O46=0,"Không đánh giá",""))))) -> Xuất sắc | T46: =COUNTIF(Q46:S46,"B")+COUNTIF(Q46:S46,"C")*2 -> 0 | U46: =+COUNTIF(Q46:S46,"D") -> 0 | V46: =IF(U46>=1,"Không hoàn thành",IF(AND($O46>=90,$O46<100,T46=0),"Xuất sắc",IF(AND($O46>=90,$O46<100,T46=1),"Tốt",IF(AND($O46>=90,$O46<100,T46=2),"Hoàn thành",IF(AND($O46>=90,$O46<100,T46>=3),"Không hoàn thành",IF(AND($O46>=75,$O46<90,T46=0),"Tốt",IF(AND($O46>=75,$O46<90,T46=1),"Hoàn thành",IF(AND($O46>=75,$O46<90,T46>=2),"Không hoàn thành",IF(AND($O46>=50,$O46<75,T46=0),"Hoàn thành",IF(AND($O46>=50,$O46<=75,T46>=1),"Không hoàn thành",IF(AND($O46>0,$O46<50),"Không hoàn thành",IF($O46=0,"Không đánh giá","")))))))))))) -> Xuất sắc | X46: =IF(AND($J46>=90,$J46<=100),"X",IF($J46<90,"","")) -> X | Z46: =IF(AND($J46>=75,$J46<90),"X",IF($J46<75,"","")) | AB46: =IF(AND($J46>=50,$J46<75),"X",IF($J46<50,"","")) | AD46: =IF($J46<50,"X","") | AH46: =IF($V46="Xuất sắc","X","") -> X | AJ46: =IF($V46="Tốt","X","") | AL46: =IF($V46="Hoàn thành","X","") | AN46: =IF($V46="Không hoàn thành","X","") | AP46: =IF($V46="Không đánh giá","X","")
A47: 3 | B47: Nguyễn Ngọc | C47: Hiệp | D47: 11100000751 | E47: 90 | F47: 30 | G47: 60 | H47: 0 | I47: 0 | J47: 90 | K47: =F47 -> 30 | L47: =G47 -> 60 | M47: =H47 -> 0 | N47: =I47 -> 0 | O47: =K47+L47+M47-N47 -> 90 | P47: =IF(AND($O47>=90,$O47<=100),"Xuất sắc",IF(AND($O47>=75,$O47<90),"Tốt",IF(AND($O47>=50,$O47<75),"Hoàn thành",IF(AND($O47<50,$O47>0),"Không hoàn thành",IF($O47=0,"Không đánh giá",""))))) -> Xuất sắc | T47: =COUNTIF(Q47:S47,"B")+COUNTIF(Q47:S47,"C")*2 -> 0 | U47: =+COUNTIF(Q47:S47,"D") -> 0 | V47: =IF(U47>=1,"Không hoàn thành",IF(AND($O47>=90,$O47<100,T47=0),"Xuất sắc",IF(AND($O47>=90,$O47<100,T47=1),"Tốt",IF(AND($O47>=90,$O47<100,T47=2),"Hoàn thành",IF(AND($O47>=90,$O47<100,T47>=3),"Không hoàn thành",IF(AND($O47>=75,$O47<90,T47=0),"Tốt",IF(AND($O47>=75,$O47<90,T47=1),"Hoàn thành",IF(AND($O47>=75,$O47<90,T47>=2),"Không hoàn thành",IF(AND($O47>=50,$O47<75,T47=0),"Hoàn thành",IF(AND($O47>=50,$O47<=75,T47>=1),"Không hoàn thành",IF(AND($O47>0,$O47<50),"Không hoàn thành",IF($O47=0,"Không đánh giá","")))))))))))) -> Xuất sắc | X47: =IF(AND($J47>=90,$J47<=100),"X",IF($J47<90,"","")) -> X | Z47: =IF(AND($J47>=75,$J47<90),"X",IF($J47<75,"","")) | AB47: =IF(AND($J47>=50,$J47<75),"X",IF($J47<50,"","")) | AD47: =IF($J47<50,"X","") | AH47: =IF($V47="Xuất sắc","X","") -> X | AJ47: =IF($V47="Tốt","X","") | AL47: =IF($V47="Hoàn thành","X","") | AN47: =IF($V47="Không hoàn thành","X","") | AP47: =IF($V47="Không đánh giá","X","")
A48: 4 | B48: Nguyễn Thị Kim | C48: Anh | D48: 11100115721 | E48: 78.5 | F48: 25 | G48: 60 | H48: 1 | I48: 0 | J48: 86 | K48: =F48 -> 25 | L48: =G48 -> 60 | M48: =H48 -> 1 | N48: =I48 -> 0 | O48: =K48+L48+M48-N48 -> 86 | P48: =IF(AND($O48>=90,$O48<=100),"Xuất sắc",IF(AND($O48>=75,$O48<90),"Tốt",IF(AND($O48>=50,$O48<75),"Hoàn thành",IF(AND($O48<50,$O48>0),"Không hoàn thành",IF($O48=0,"Không đánh giá",""))))) -> Tốt | T48: =COUNTIF(Q48:S48,"B")+COUNTIF(Q48:S48,"C")*2 -> 0 | U48: =+COUNTIF(Q48:S48,"D") -> 0 | V48: =IF(U48>=1,"Không hoàn thành",IF(AND($O48>=90,$O48<100,T48=0),"Xuất sắc",IF(AND($O48>=90,$O48<100,T48=1),"Tốt",IF(AND($O48>=90,$O48<100,T48=2),"Hoàn thành",IF(AND($O48>=90,$O48<100,T48>=3),"Không hoàn thành",IF(AND($O48>=75,$O48<90,T48=0),"Tốt",IF(AND($O48>=75,$O48<90,T48=1),"Hoàn thành",IF(AND($O48>=75,$O48<90,T48>=2),"Không hoàn thành",IF(AND($O48>=50,$O48<75,T48=0),"Hoàn thành",IF(AND($O48>=50,$O48<=75,T48>=1),"Không hoàn thành",IF(AND($O48>0,$O48<50),"Không hoàn thành",IF($O48=0,"Không đánh giá","")))))))))))) -> Tốt | X48: =IF(AND($J48>=90,$J48<=100),"X",IF($J48<90,"","")) | Z48: =IF(AND($J48>=75,$J48<90),"X",IF($J48<75,"","")) -> X | AB48: =IF(AND($J48>=50,$J48<75),"X",IF($J48<50,"","")) | AD48: =IF($J48<50,"X","") | AH48: =IF($V48="Xuất sắc","X","") | AJ48: =IF($V48="Tốt","X","") -> X | AL48: =IF($V48="Hoàn thành","X","") | AN48: =IF($V48="Không hoàn thành","X","") | AP48: =IF($V48="Không đánh giá","X","")
A49: 5 | B49: Phạm Thị Lê | C49: Chi | D49: 11100110014 | E49: 80 | F49: 25 | G49: 60 | H49: 3 | I49: 0 | J49: 88 | K49: =F49 -> 25 | L49: =G49 -> 60 | M49: =H49 -> 3 | N49: =I49 -> 0 | O49: =K49+L49+M49-N49 -> 88 | P49: =IF(AND($O49>=90,$O49<=100),"Xuất sắc",IF(AND($O49>=75,$O49<90),"Tốt",IF(AND($O49>=50,$O49<75),"Hoàn thành",IF(AND($O49<50,$O49>0),"Không hoàn thành",IF($O49=0,"Không đánh giá",""))))) -> Tốt | T49: =COUNTIF(Q49:S49,"B")+COUNTIF(Q49:S49,"C")*2 -> 0 | U49: =+COUNTIF(Q49:S49,"D") -> 0 | V49: =IF(U49>=1,"Không hoàn thành",IF(AND($O49>=90,$O49<100,T49=0),"Xuất sắc",IF(AND($O49>=90,$O49<100,T49=1),"Tốt",IF(AND($O49>=90,$O49<100,T49=2),"Hoàn thành",IF(AND($O49>=90,$O49<100,T49>=3),"Không hoàn thành",IF(AND($O49>=75,$O49<90,T49=0),"Tốt",IF(AND($O49>=75,$O49<90,T49=1),"Hoàn thành",IF(AND($O49>=75,$O49<90,T49>=2),"Không hoàn thành",IF(AND($O49>=50,$O49<75,T49=0),"Hoàn thành",IF(AND($O49>=50,$O49<=75,T49>=1),"Không hoàn thành",IF(AND($O49>0,$O49<50),"Không hoàn thành",IF($O49=0,"Không đánh giá","")))))))))))) -> Tốt | X49: =IF(AND($J49>=90,$J49<=100),"X",IF($J49<90,"","")) | Z49: =IF(AND($J49>=75,$J49<90),"X",IF($J49<75,"","")) -> X | AB49: =IF(AND($J49>=50,$J49<75),"X",IF($J49<50,"","")) | AD49: =IF($J49<50,"X","") | AH49: =IF($V49="Xuất sắc","X","") | AJ49: =IF($V49="Tốt","X","") -> X | AL49: =IF($V49="Hoàn thành","X","") | AN49: =IF($V49="Không hoàn thành","X","") | AP49: =IF($V49="Không đánh giá","X","")
A50: 6 | B50: Trần Thị Thu | C50: Hà | D50: 11100071600 | E50: 91 | F50: 32 | G50: 60 | H50: 2 | I50: 0 | J50: 94 | K50: =F50 -> 32 | L50: =G50 -> 60 | M50: =H50 -> 2 | N50: =I50 -> 0 | O50: =K50+L50+M50-N50 -> 94 | P50: =IF(AND($O50>=90,$O50<=100),"Xuất sắc",IF(AND($O50>=75,$O50<90),"Tốt",IF(AND($O50>=50,$O50<75),"Hoàn thành",IF(AND($O50<50,$O50>0),"Không hoàn thành",IF($O50=0,"Không đánh giá",""))))) -> Xuất sắc | T50: =COUNTIF(Q50:S50,"B")+COUNTIF(Q50:S50,"C")*2 -> 0 | U50: =+COUNTIF(Q50:S50,"D") -> 0 | V50: =IF(U50>=1,"Không hoàn thành",IF(AND($O50>=90,$O50<100,T50=0),"Xuất sắc",IF(AND($O50>=90,$O50<100,T50=1),"Tốt",IF(AND($O50>=90,$O50<100,T50=2),"Hoàn thành",IF(AND($O50>=90,$O50<100,T50>=3),"Không hoàn thành",IF(AND($O50>=75,$O50<90,T50=0),"Tốt",IF(AND($O50>=75,$O50<90,T50=1),"Hoàn thành",IF(AND($O50>=75,$O50<90,T50>=2),"Không hoàn thành",IF(AND($O50>=50,$O50<75,T50=0),"Hoàn thành",IF(AND($O50>=50,$O50<=75,T50>=1),"Không hoàn thành",IF(AND($O50>0,$O50<50),"Không hoàn thành",IF($O50=0,"Không đánh giá","")))))))))))) -> Xuất sắc | X50: =IF(AND($J50>=90,$J50<=100),"X",IF($J50<90,"","")) -> X | Z50: =IF(AND($J50>=75,$J50<90),"X",IF($J50<75,"","")) | AB50: =IF(AND($J50>=50,$J50<75),"X",IF($J50<50,"","")) | AD50: =IF($J50<50,"X","") | AH50: =IF($V50="Xuất sắc","X","") -> X | AJ50: =IF($V50="Tốt","X","") | AL50: =IF($V50="Hoàn thành","X","") | AN50: =IF($V50="Không hoàn thành","X","") | AP50: =IF($V50="Không đánh giá","X","")
A51: 7 | B51: Nguyễn Tất | C51: Thắng | D51: 11100000772 | E51: 77 | F51: 24 | G51: 60 | H51: 1 | I51: 0 | J51: 85 | K51: =F51 -> 24 | L51: =G51 -> 60 | M51: =H51 -> 1 | N51: =I51 -> 0 | O51: =K51+L51+M51-N51 -> 85 | P51: =IF(AND($O51>=90,$O51<=100),"Xuất sắc",IF(AND($O51>=75,$O51<90),"Tốt",IF(AND($O51>=50,$O51<75),"Hoàn thành",IF(AND($O51<50,$O51>0),"Không hoàn thành",IF($O51=0,"Không đánh giá",""))))) -> Tốt | T51: =COUNTIF(Q51:S51,"B")+COUNTIF(Q51:S51,"C")*2 -> 0 | U51: =+COUNTIF(Q51:S51,"D") -> 0 | V51: =IF(U51>=1,"Không hoàn thành",IF(AND($O51>=90,$O51<100,T51=0),"Xuất sắc",IF(AND($O51>=90,$O51<100,T51=1),"Tốt",IF(AND($O51>=90,$O51<100,T51=2),"Hoàn thành",IF(AND($O51>=90,$O51<100,T51>=3),"Không hoàn thành",IF(AND($O51>=75,$O51<90,T51=0),"Tốt",IF(AND($O51>=75,$O51<90,T51=1),"Hoàn thành",IF(AND($O51>=75,$O51<90,T51>=2),"Không hoàn thành",IF(AND($O51>=50,$O51<75,T51=0),"Hoàn thành",IF(AND($O51>=50,$O51<=75,T51>=1),"Không hoàn thành",IF(AND($O51>0,$O51<50),"Không hoàn thành",IF($O51=0,"Không đánh giá","")))))))))))) -> Tốt | X51: =IF(AND($J51>=90,$J51<=100),"X",IF($J51<90,"","")) | Z51: =IF(AND($J51>=75,$J51<90),"X",IF($J51<75,"","")) -> X | AB51: =IF(AND($J51>=50,$J51<75),"X",IF($J51<50,"","")) | AD51: =IF($J51<50,"X","") | AH51: =IF($V51="Xuất sắc","X","") | AJ51: =IF($V51="Tốt","X","") -> X | AL51: =IF($V51="Hoàn thành","X","") | AN51: =IF($V51="Không hoàn thành","X","") | AP51: =IF($V51="Không đánh giá","X","")
A52: 8 | B52: Nguyễn Thị Ngọc | C52: Anh | D52: 50700000360 | E52: 77 | F52: 29 | G52: 60 | H52: 1 | I52: 0 | J52: 90 | K52: =F52 -> 29 | L52: =G52 -> 60 | M52: =H52 -> 1 | N52: =I52 -> 0 | O52: =K52+L52+M52-N52 -> 90 | P52: =IF(AND($O52>=90,$O52<=100),"Xuất sắc",IF(AND($O52>=75,$O52<90),"Tốt",IF(AND($O52>=50,$O52<75),"Hoàn thành",IF(AND($O52<50,$O52>0),"Không hoàn thành",IF($O52=0,"Không đánh giá",""))))) -> Xuất sắc | T52: =COUNTIF(Q52:S52,"B")+COUNTIF(Q52:S52,"C")*2 -> 0 | U52: =+COUNTIF(Q52:S52,"D") -> 0 | V52: =IF(U52>=1,"Không hoàn thành",IF(AND($O52>=90,$O52<100,T52=0),"Xuất sắc",IF(AND($O52>=90,$O52<100,T52=1),"Tốt",IF(AND($O52>=90,$O52<100,T52=2),"Hoàn thành",IF(AND($O52>=90,$O52<100,T52>=3),"Không hoàn thành",IF(AND($O52>=75,$O52<90,T52=0),"Tốt",IF(AND($O52>=75,$O52<90,T52=1),"Hoàn thành",IF(AND($O52>=75,$O52<90,T52>=2),"Không hoàn thành",IF(AND($O52>=50,$O52<75,T52=0),"Hoàn thành",IF(AND($O52>=50,$O52<=75,T52>=1),"Không hoàn thành",IF(AND($O52>0,$O52<50),"Không hoàn thành",IF($O52=0,"Không đánh giá","")))))))))))) -> Xuất sắc | X52: =IF(AND($J52>=90,$J52<=100),"X",IF($J52<90,"","")) -> X | Z52: =IF(AND($J52>=75,$J52<90),"X",IF($J52<75,"","")) | AB52: =IF(AND($J52>=50,$J52<75),"X",IF($J52<50,"","")) | AD52: =IF($J52<50,"X","") | AH52: =IF($V52="Xuất sắc","X","") -> X | AJ52: =IF($V52="Tốt","X","") | AL52: =IF($V52="Hoàn thành","X","") | AN52: =IF($V52="Không hoàn thành","X","") | AP52: =IF($V52="Không đánh giá","X","")
A53: 9 | B53: Mai Thu | C53: Hương | D53: 50700000433 | E53: 77 | F53: 29 | G53: 60 | H53: 1 | I53: 0 | J53: 90 | K53: =F53 -> 29 | L53: =G53 -> 60 | M53: =H53 -> 1 | N53: =I53 -> 0 | O53: =K53+L53+M53-N53 -> 90 | P53: =IF(AND($O53>=90,$O53<=100),"Xuất sắc",IF(AND($O53>=75,$O53<90),"Tốt",IF(AND($O53>=50,$O53<75),"Hoàn thành",IF(AND($O53<50,$O53>0),"Không hoàn thành",IF($O53=0,"Không đánh giá",""))))) -> Xuất sắc | T53: =COUNTIF(Q53:S53,"B")+COUNTIF(Q53:S53,"C")*2 -> 0 | U53: =+COUNTIF(Q53:S53,"D") -> 0 | V53: =IF(U53>=1,"Không hoàn thành",IF(AND($O53>=90,$O53<100,T53=0),"Xuất sắc",IF(AND($O53>=90,$O53<100,T53=1),"Tốt",IF(AND($O53>=90,$O53<100,T53=2),"Hoàn thành",IF(AND($O53>=90,$O53<100,T53>=3),"Không hoàn thành",IF(AND($O53>=75,$O53<90,T53=0),"Tốt",IF(AND($O53>=75,$O53<90,T53=1),"Hoàn thành",IF(AND($O53>=75,$O53<90,T53>=2),"Không hoàn thành",IF(AND($O53>=50,$O53<75,T53=0),"Hoàn thành",IF(AND($O53>=50,$O53<=75,T53>=1),"Không hoàn thành",IF(AND($O53>0,$O53<50),"Không hoàn thành",IF($O53=0,"Không đánh giá","")))))))))))) -> Xuất sắc | X53: =IF(AND($J53>=90,$J53<=100),"X",IF($J53<90,"","")) -> X | Z53: =IF(AND($J53>=75,$J53<90),"X",IF($J53<75,"","")) | AB53: =IF(AND($J53>=50,$J53<75),"X",IF($J53<50,"","")) | AD53: =IF($J53<50,"X","") | AH53: =IF($V53="Xuất sắc","X","") -> X | AJ53: =IF($V53="Tốt","X","") | AL53: =IF($V53="Hoàn thành","X","") | AN53: =IF($V53="Không hoàn thành","X","") | AP53: =IF($V53="Không đánh giá","X","")
A54: c | B54: Hợp đồng Sở | X54: =COUNTIF(X55:X55,"x") -> 1 | Y54: =X54/($X54+$Z54+$AB54+$AD54+$AF54) -> 1 | Z54: =COUNTIF(Z55:Z55,"x") -> 0 | AA54: =Z54/($X54+$Z54+$AB54+$AD54+$AF54) -> 0 | AB54: =COUNTIF(AB55:AB55,"x") -> 0 | AC54: =AB54/($X54+$Z54+$AB54+$AD54+$AF54) -> 0 | AD54: =COUNTIF(AD55:AD55,"x") -> 0 | AE54: =AD54/($X54+$Z54+$AB54+$AD54+$AF54) -> 0 | AF54: =COUNTIF(AF55:AF55,"x") -> 0 | AG54: =AF54/($X54+$Z54+$AB54+$AD54+$AF54) -> 0 | AH54: =COUNTIF(AH55:AH55,"x") -> 1 | AI54: =AH54/($X54+$Z54+$AB54+$AD54+$AF54) -> 1 | AJ54: =COUNTIF(AJ55:AJ55,"x") -> 0 | AK54: =AJ54/($X54+$Z54+$AB54+$AD54+$AF54) -> 0 | AL54: =COUNTIF(AL55:AL55,"x") -> 0 | AM54: =AL54/($X54+$Z54+$AB54+$AD54+$AF54) -> 0 | AN54: =COUNTIF(AN55:AN55,"x") -> 0 | AO54: =AN54/($X54+$Z54+$AB54+$AD54+$AF54) -> 0 | AP54: =COUNTIF(AP55:AP55,"x") -> 0 | AQ54: =AP54/($X54+$Z54+$AB54+$AD54+$AF54) -> 0
A55: =A53+1 -> 10 | B55: Lê Thị | C55: Nữ | D55: 11100071602 | E55: 76 | F55: 31 | G55: 60 | H55: 1 | I55: 0 | J55: 92 | K55: =F55 -> 31 | L55: =G55 -> 60 | M55: =H55 -> 1 | N55: =I55 -> 0 | O55: =K55+L55+M55-N55 -> 92 | P55: =IF(AND($O55>=90,$O55<=100),"Xuất sắc",IF(AND($O55>=75,$O55<90),"Tốt",IF(AND($O55>=50,$O55<75),"Hoàn thành",IF(AND($O55<50,$O55>0),"Không hoàn thành",IF($O55=0,"Không đánh giá",""))))) -> Xuất sắc | T55: =COUNTIF(Q55:S55,"B")+COUNTIF(Q55:S55,"C")*2 -> 0 | U55: =+COUNTIF(Q55:S55,"D") -> 0 | V55: =IF(U55>=1,"Không hoàn thành",IF(AND($O55>=90,$O55<100,T55=0),"Xuất sắc",IF(AND($O55>=90,$O55<100,T55=1),"Tốt",IF(AND($O55>=90,$O55<100,T55=2),"Hoàn thành",IF(AND($O55>=90,$O55<100,T55>=3),"Không hoàn thành",IF(AND($O55>=75,$O55<90,T55=0),"Tốt",IF(AND($O55>=75,$O55<90,T55=1),"Hoàn thành",IF(AND($O55>=75,$O55<90,T55>=2),"Không hoàn thành",IF(AND($O55>=50,$O55<75,T55=0),"Hoàn thành",IF(AND($O55>=50,$O55<=75,T55>=1),"Không hoàn thành",IF(AND($O55>0,$O55<50),"Không hoàn thành",IF($O55=0,"Không đánh giá","")))))))))))) -> Xuất sắc | X55: =IF(AND($J55>=90,$J55<=100),"X",IF($J55<90,"","")) -> X | Z55: =IF(AND($J55>=75,$J55<90),"X",IF($J55<75,"","")) | AB55: =IF(AND($J55>=50,$J55<75),"X",IF($J55<50,"","")) | AD55: =IF($J55<50,"X","") | AH55: =IF($V55="Xuất sắc","X","") -> X | AJ55: =IF($V55="Tốt","X","") | AL55: =IF($V55="Hoàn thành","X","") | AN55: =IF($V55="Không hoàn thành","X","") | AP55: =IF($V55="Không đánh giá","X","")
A56: d | B56: Hợp đồng Trường | K56: =F56 -> 0 | L56: =G56 -> 0 | X56: =COUNTIF(X57:X61,"x") -> 3 | Y56: =X56/($X56+$Z56+$AB56+$AD56+$AF56) -> 0.6 | Z56: =COUNTIF(Z57:Z61,"x") -> 2 | AA56: =Z56/($X56+$Z56+$AB56+$AD56+$AF56) -> 0.4 | AB56: =COUNTIF(AB57:AB61,"x") -> 0 | AC56: =AB56/($X56+$Z56+$AB56+$AD56+$AF56) -> 0 | AD56: =COUNTIF(AD57:AD61,"x") -> 0 | AE56: =AD56/($X56+$Z56+$AB56+$AD56+$AF56) -> 0 | AF56: =COUNTIF(AF57:AF61,"x") -> 0 | AG56: =AF56/($X56+$Z56+$AB56+$AD56+$AF56) -> 0 | AH56: =COUNTIF(AH57:AH61,"x") -> 3 | AI56: =AH56/($X56+$Z56+$AB56+$AD56+$AF56) -> 0.6 | AJ56: =COUNTIF(AJ57:AJ61,"x") -> 2 | AK56: =AJ56/($X56+$Z56+$AB56+$AD56+$AF56) -> 0.4 | AL56: =COUNTIF(AL57:AL61,"x") -> 0 | AM56: =AL56/($X56+$Z56+$AB56+$AD56+$AF56) -> 0 | AN56: =COUNTIF(AN57:AN61,"x") -> 0 | AO56: =AN56/($X56+$Z56+$AB56+$AD56+$AF56) -> 0 | AP56: =COUNTIF(AP57:AP61,"x") -> 0 | AQ56: =AP56/($X56+$Z56+$AB56+$AD56+$AF56) -> 0
A57: =A55+1 -> 11 | B57: Nguyễn Trung | C57: Dũng | D57: 79000H05.000195 | E57: 75 | F57: 28 | G57: 60 | H57: 2 | I57: 0 | J57: 90 | K57: =F57 -> 28 | L57: =G57 -> 60 | M57: =H57 -> 2 | N57: =I57 -> 0 | O57: =K57+L57+M57-N57 -> 90 | P57: =IF(AND($O57>=90,$O57<=100),"Xuất sắc",IF(AND($O57>=75,$O57<90),"Tốt",IF(AND($O57>=50,$O57<75),"Hoàn thành",IF(AND($O57<50,$O57>0),"Không hoàn thành",IF($O57=0,"Không đánh giá",""))))) -> Xuất sắc | T57: =COUNTIF(Q57:S57,"B")+COUNTIF(Q57:S57,"C")*2 -> 0 | U57: =+COUNTIF(Q57:S57,"D") -> 0 | V57: =IF(U57>=1,"Không hoàn thành",IF(AND($O57>=90,$O57<100,T57=0),"Xuất sắc",IF(AND($O57>=90,$O57<100,T57=1),"Tốt",IF(AND($O57>=90,$O57<100,T57=2),"Hoàn thành",IF(AND($O57>=90,$O57<100,T57>=3),"Không hoàn thành",IF(AND($O57>=75,$O57<90,T57=0),"Tốt",IF(AND($O57>=75,$O57<90,T57=1),"Hoàn thành",IF(AND($O57>=75,$O57<90,T57>=2),"Không hoàn thành",IF(AND($O57>=50,$O57<75,T57=0),"Hoàn thành",IF(AND($O57>=50,$O57<=75,T57>=1),"Không hoàn thành",IF(AND($O57>0,$O57<50),"Không hoàn thành",IF($O57=0,"Không đánh giá","")))))))))))) -> Xuất sắc | X57: =IF(AND($J57>=90,$J57<=100),"X",IF($J57<90,"","")) -> X | Z57: =IF(AND($J57>=75,$J57<90),"X",IF($J57<75,"","")) | AB57: =IF(AND($J57>=50,$J57<75),"X",IF($J57<50,"","")) | AD57: =IF($J57<50,"X","") | AH57: =IF($V57="Xuất sắc","X","") -> X | AJ57: =IF($V57="Tốt","X","") | AL57: =IF($V57="Hoàn thành","X","") | AN57: =IF($V57="Không hoàn thành","X","") | AP57: =IF($V57="Không đánh giá","X","")
A58: =A57+1 -> 12 | B58: Lê Thị Hà | C58: Giang | D58: 79000H05.000459 | E58: 75 | F58: 24 | G58: 60 | H58: 0 | I58: 0 | J58: 84 | K58: =F58 -> 24 | L58: =G58 -> 60 | M58: =H58 -> 0 | N58: =I58 -> 0 | O58: =K58+L58+M58-N58 -> 84 | P58: =IF(AND($O58>=90,$O58<=100),"Xuất sắc",IF(AND($O58>=75,$O58<90),"Tốt",IF(AND($O58>=50,$O58<75),"Hoàn thành",IF(AND($O58<50,$O58>0),"Không hoàn thành",IF($O58=0,"Không đánh giá",""))))) -> Tốt | T58: =COUNTIF(Q58:S58,"B")+COUNTIF(Q58:S58,"C")*2 -> 0 | U58: =+COUNTIF(Q58:S58,"D") -> 0 | V58: =IF(U58>=1,"Không hoàn thành",IF(AND($O58>=90,$O58<100,T58=0),"Xuất sắc",IF(AND($O58>=90,$O58<100,T58=1),"Tốt",IF(AND($O58>=90,$O58<100,T58=2),"Hoàn thành",IF(AND($O58>=90,$O58<100,T58>=3),"Không hoàn thành",IF(AND($O58>=75,$O58<90,T58=0),"Tốt",IF(AND($O58>=75,$O58<90,T58=1),"Hoàn thành",IF(AND($O58>=75,$O58<90,T58>=2),"Không hoàn thành",IF(AND($O58>=50,$O58<75,T58=0),"Hoàn thành",IF(AND($O58>=50,$O58<=75,T58>=1),"Không hoàn thành",IF(AND($O58>0,$O58<50),"Không hoàn thành",IF($O58=0,"Không đánh giá","")))))))))))) -> Tốt | X58: =IF(AND($J58>=90,$J58<=100),"X",IF($J58<90,"","")) | Z58: =IF(AND($J58>=75,$J58<90),"X",IF($J58<75,"","")) -> X | AB58: =IF(AND($J58>=50,$J58<75),"X",IF($J58<50,"","")) | AD58: =IF($J58<50,"X","") | AH58: =IF($V58="Xuất sắc","X","") | AJ58: =IF($V58="Tốt","X","") -> X | AL58: =IF($V58="Hoàn thành","X","") | AN58: =IF($V58="Không hoàn thành","X","") | AP58: =IF($V58="Không đánh giá","X","")
A59: =A58+1 -> 13 | B59: Huỳnh Văn | C59: Hiếu | D59: 79000H05.000443 | E59: 75 | F59: 30 | G59: 60 | H59: 0 | I59: 0 | J59: 90 | K59: =F59 -> 30 | L59: =G59 -> 60 | M59: =H59 -> 0 | N59: =I59 -> 0 | O59: =K59+L59+M59-N59 -> 90 | P59: =IF(AND($O59>=90,$O59<=100),"Xuất sắc",IF(AND($O59>=75,$O59<90),"Tốt",IF(AND($O59>=50,$O59<75),"Hoàn thành",IF(AND($O59<50,$O59>0),"Không hoàn thành",IF($O59=0,"Không đánh giá",""))))) -> Xuất sắc | T59: =COUNTIF(Q59:S59,"B")+COUNTIF(Q59:S59,"C")*2 -> 0 | U59: =+COUNTIF(Q59:S59,"D") -> 0 | V59: =IF(U59>=1,"Không hoàn thành",IF(AND($O59>=90,$O59<100,T59=0),"Xuất sắc",IF(AND($O59>=90,$O59<100,T59=1),"Tốt",IF(AND($O59>=90,$O59<100,T59=2),"Hoàn thành",IF(AND($O59>=90,$O59<100,T59>=3),"Không hoàn thành",IF(AND($O59>=75,$O59<90,T59=0),"Tốt",IF(AND($O59>=75,$O59<90,T59=1),"Hoàn thành",IF(AND($O59>=75,$O59<90,T59>=2),"Không hoàn thành",IF(AND($O59>=50,$O59<75,T59=0),"Hoàn thành",IF(AND($O59>=50,$O59<=75,T59>=1),"Không hoàn thành",IF(AND($O59>0,$O59<50),"Không hoàn thành",IF($O59=0,"Không đánh giá","")))))))))))) -> Xuất sắc | X59: =IF(AND($J59>=90,$J59<=100),"X",IF($J59<90,"","")) -> X | Z59: =IF(AND($J59>=75,$J59<90),"X",IF($J59<75,"","")) | AB59: =IF(AND($J59>=50,$J59<75),"X",IF($J59<50,"","")) | AD59: =IF($J59<50,"X","") | AH59: =IF($V59="Xuất sắc","X","") -> X | AJ59: =IF($V59="Tốt","X","") | AL59: =IF($V59="Hoàn thành","X","") | AN59: =IF($V59="Không hoàn thành","X","") | AP59: =IF($V59="Không đánh giá","X","")
A60: =A59+1 -> 14 | B60: Phạm Huy | C60: Hoàng | D60: 79000H05.000557 | E60: 77 | F60: 28 | G60: 60 | H60: 2 | I60: 0 | J60: 90 | K60: =F60 -> 28 | L60: =G60 -> 60 | M60: =H60 -> 2 | N60: =I60 -> 0 | O60: =K60+L60+M60-N60 -> 90 | P60: =IF(AND($O60>=90,$O60<=100),"Xuất sắc",IF(AND($O60>=75,$O60<90),"Tốt",IF(AND($O60>=50,$O60<75),"Hoàn thành",IF(AND($O60<50,$O60>0),"Không hoàn thành",IF($O60=0,"Không đánh giá",""))))) -> Xuất sắc | T60: =COUNTIF(Q60:S60,"B")+COUNTIF(Q60:S60,"C")*2 -> 0 | U60: =+COUNTIF(Q60:S60,"D") -> 0 | V60: =IF(U60>=1,"Không hoàn thành",IF(AND($O60>=90,$O60<100,T60=0),"Xuất sắc",IF(AND($O60>=90,$O60<100,T60=1),"Tốt",IF(AND($O60>=90,$O60<100,T60=2),"Hoàn thành",IF(AND($O60>=90,$O60<100,T60>=3),"Không hoàn thành",IF(AND($O60>=75,$O60<90,T60=0),"Tốt",IF(AND($O60>=75,$O60<90,T60=1),"Hoàn thành",IF(AND($O60>=75,$O60<90,T60>=2),"Không hoàn thành",IF(AND($O60>=50,$O60<75,T60=0),"Hoàn thành",IF(AND($O60>=50,$O60<=75,T60>=1),"Không hoàn thành",IF(AND($O60>0,$O60<50),"Không hoàn thành",IF($O60=0,"Không đánh giá","")))))))))))) -> Xuất sắc | X60: =IF(AND($J60>=90,$J60<=100),"X",IF($J60<90,"","")) -> X | Z60: =IF(AND($J60>=75,$J60<90),"X",IF($J60<75,"","")) | AB60: =IF(AND($J60>=50,$J60<75),"X",IF($J60<50,"","")) | AD60: =IF($J60<50,"X","") | AH60: =IF($V60="Xuất sắc","X","") -> X | AJ60: =IF($V60="Tốt","X","") | AL60: =IF($V60="Hoàn thành","X","") | AN60: =IF($V60="Không hoàn thành","X","") | AP60: =IF($V60="Không đánh giá","X","")
A61: =A60+1 -> 15 | B61: Trần Anh | C61: Mỹ | D61: 79000H05.852723 | E61: 92 | F61: 29 | G61: 60 | H61: 0 | I61: 0 | J61: 89 | K61: =F61 -> 29 | L61: =G61 -> 60 | M61: =H61 -> 0 | N61: =I61 -> 0 | O61: =K61+L61+M61-N61 -> 89 | P61: =IF(AND($O61>=90,$O61<=100),"Xuất sắc",IF(AND($O61>=75,$O61<90),"Tốt",IF(AND($O61>=50,$O61<75),"Hoàn thành",IF(AND($O61<50,$O61>0),"Không hoàn thành",IF($O61=0,"Không đánh giá",""))))) -> Tốt | T61: =COUNTIF(Q61:S61,"B")+COUNTIF(Q61:S61,"C")*2 -> 0 | U61: =+COUNTIF(Q61:S61,"D") -> 0 | V61: =IF(U61>=1,"Không hoàn thành",IF(AND($O61>=90,$O61<100,T61=0),"Xuất sắc",IF(AND($O61>=90,$O61<100,T61=1),"Tốt",IF(AND($O61>=90,$O61<100,T61=2),"Hoàn thành",IF(AND($O61>=90,$O61<100,T61>=3),"Không hoàn thành",IF(AND($O61>=75,$O61<90,T61=0),"Tốt",IF(AND($O61>=75,$O61<90,T61=1),"Hoàn thành",IF(AND($O61>=75,$O61<90,T61>=2),"Không hoàn thành",IF(AND($O61>=50,$O61<75,T61=0),"Hoàn thành",IF(AND($O61>=50,$O61<=75,T61>=1),"Không hoàn thành",IF(AND($O61>0,$O61<50),"Không hoàn thành",IF($O61=0,"Không đánh giá","")))))))))))) -> Tốt | X61: =IF(AND($J61>=90,$J61<=100),"X",IF($J61<90,"","")) | Z61: =IF(AND($J61>=75,$J61<90),"X",IF($J61<75,"","")) -> X | AB61: =IF(AND($J61>=50,$J61<75),"X",IF($J61<50,"","")) | AD61: =IF($J61<50,"X","") | AH61: =IF($V61="Xuất sắc","X","") | AJ61: =IF($V61="Tốt","X","") -> X | AL61: =IF($V61="Hoàn thành","X","") | AN61: =IF($V61="Không hoàn thành","X","") | AP61: =IF($V61="Không đánh giá","X","")
A62: III | B62: PHÒNG KHẢO THÍ VÀ ĐẢM BẢO CHẤT LƯỢNG | X62: =X63+X71 -> 4 | Y62: =X62/($X62+$Z62+$AB62+$AD62+$AF62) -> 0.5 | Z62: =Z63+Z71 -> 4 | AA62: =Z62/($X62+$Z62+$AB62+$AD62+$AF62) -> 0.5 | AB62: =AB63+AB71 -> 0 | AC62: =AB62/($X62+$Z62+$AB62+$AD62+$AF62) -> 0 | AD62: =AD63+AD71 -> 0 | AE62: =AD62/($X62+$Z62+$AB62+$AD62+$AF62) -> 0 | AF62: =AF63+AF71 -> 0 | AG62: =AF62/($X62+$Z62+$AB62+$AD62+$AF62) -> 0 | AH62: =AH63+AH71 -> 4 | AI62: =AH62/($X62+$Z62+$AB62+$AD62+$AF62) -> 0.5 | AJ62: =AJ63+AJ71 -> 4 | AK62: =AJ62/($X62+$Z62+$AB62+$AD62+$AF62) -> 0.5 | AL62: =AL63+AL71 -> 0 | AM62: =AL62/($X62+$Z62+$AB62+$AD62+$AF62) -> 0 | AN62: =AN63+AN71 -> 0 | AO62: =AN62/($X62+$Z62+$AB62+$AD62+$AF62) -> 0 | AP62: =AP63+AP71 -> 0 | AQ62: =AP62/($X62+$Z62+$AB62+$AD62+$AF62) -> 0
A63: a | B63: Viên chức | X63: =COUNTIF(X64:X70,"x") -> 3 | Y63: =X63/($X63+$Z63+$AB63+$AD63+$AF63) -> 0.42857143 | Z63: =COUNTIF(Z64:Z70,"x") -> 4 | AA63: =Z63/($X63+$Z63+$AB63+$AD63+$AF63) -> 0.57142857 | AB63: =COUNTIF(AB64:AB70,"x") -> 0 | AC63: =AB63/($X63+$Z63+$AB63+$AD63+$AF63) -> 0 | AD63: =COUNTIF(AD64:AD70,"x") -> 0 | AE63: =AD63/($X63+$Z63+$AB63+$AD63+$AF63) -> 0 | AF63: =COUNTIF(AF64:AF70,"x") -> 0 | AG63: =AF63/($X63+$Z63+$AB63+$AD63+$AF63) -> 0 | AH63: =COUNTIF(AH64:AH70,"x") -> 3 | AI63: =AH63/($X63+$Z63+$AB63+$AD63+$AF63) -> 0.42857143 | AJ63: =COUNTIF(AJ64:AJ70,"x") -> 4 | AK63: =AJ63/($X63+$Z63+$AB63+$AD63+$AF63) -> 0.57142857 | AL63: =COUNTIF(AL64:AL70,"x") -> 0 | AM63: =AL63/($X63+$Z63+$AB63+$AD63+$AF63) -> 0 | AN63: =COUNTIF(AN64:AN70,"x") -> 0 | AO63: =AN63/($X63+$Z63+$AB63+$AD63+$AF63) -> 0 | AP63: =COUNTIF(AP64:AP70,"x") -> 0 | AQ63: =AP63/($X63+$Z63+$AB63+$AD63+$AF63) -> 0
A64: 1 | B64: Nguyễn Chí | C64: Nhân | D64: 11100066861 | E64: 76 | F64: 28 | G64: 60 | H64: 0 | I64: 0 | J64: 88 | K64: =F64 -> 28 | L64: =G64 -> 60 | M64: =H64 -> 0 | N64: =I64 -> 0 | O64: =K64+L64+M64-N64 -> 88 | P64: =IF(AND($O64>=90,$O64<=100),"Xuất sắc",IF(AND($O64>=75,$O64<90),"Tốt",IF(AND($O64>=50,$O64<75),"Hoàn thành",IF(AND($O64<50,$O64>0),"Không hoàn thành",IF($O64=0,"Không đánh giá",""))))) -> Tốt | T64: =COUNTIF(Q64:S64,"B")+COUNTIF(Q64:S64,"C")*2 -> 0 | U64: =+COUNTIF(Q64:S64,"D") -> 0 | V64: =IF(U64>=1,"Không hoàn thành",IF(AND($O64>=90,$O64<100,T64=0),"Xuất sắc",IF(AND($O64>=90,$O64<100,T64=1),"Tốt",IF(AND($O64>=90,$O64<100,T64=2),"Hoàn thành",IF(AND($O64>=90,$O64<100,T64>=3),"Không hoàn thành",IF(AND($O64>=75,$O64<90,T64=0),"Tốt",IF(AND($O64>=75,$O64<90,T64=1),"Hoàn thành",IF(AND($O64>=75,$O64<90,T64>=2),"Không hoàn thành",IF(AND($O64>=50,$O64<75,T64=0),"Hoàn thành",IF(AND($O64>=50,$O64<=75,T64>=1),"Không hoàn thành",IF(AND($O64>0,$O64<50),"Không hoàn thành",IF($O64=0,"Không đánh giá","")))))))))))) -> Tốt | X64: =IF(AND($J64>=90,$J64<=100),"X",IF($J64<90,"","")) | Z64: =IF(AND($J64>=75,$J64<90),"X",IF($J64<75,"","")) -> X | AB64: =IF(AND($J64>=50,$J64<75),"X",IF($J64<50,"","")) | AD64: =IF($J64<50,"X","") | AH64: =IF($V64="Xuất sắc","X","") | AJ64: =IF($V64="Tốt","X","") -> X | AL64: =IF($V64="Hoàn thành","X","") | AN64: =IF($V64="Không hoàn thành","X","") | AP64: =IF($V64="Không đánh giá","X","")
A65: 2 | B65: Huỳnh Thị | C65: Mai | D65: 11100083384 | E65: 91 | F65: 33 | G65: 60 | H65: 0 | I65: 0 | J65: 93 | K65: =F65 -> 33 | L65: =G65 -> 60 | M65: =H65 -> 0 | N65: =I65 -> 0 | O65: =K65+L65+M65-N65 -> 93 | P65: =IF(AND($O65>=90,$O65<=100),"Xuất sắc",IF(AND($O65>=75,$O65<90),"Tốt",IF(AND($O65>=50,$O65<75),"Hoàn thành",IF(AND($O65<50,$O65>0),"Không hoàn thành",IF($O65=0,"Không đánh giá",""))))) -> Xuất sắc | T65: =COUNTIF(Q65:S65,"B")+COUNTIF(Q65:S65,"C")*2 -> 0 | U65: =+COUNTIF(Q65:S65,"D") -> 0 | V65: =IF(U65>=1,"Không hoàn thành",IF(AND($O65>=90,$O65<100,T65=0),"Xuất sắc",IF(AND($O65>=90,$O65<100,T65=1),"Tốt",IF(AND($O65>=90,$O65<100,T65=2),"Hoàn thành",IF(AND($O65>=90,$O65<100,T65>=3),"Không hoàn thành",IF(AND($O65>=75,$O65<90,T65=0),"Tốt",IF(AND($O65>=75,$O65<90,T65=1),"Hoàn thành",IF(AND($O65>=75,$O65<90,T65>=2),"Không hoàn thành",IF(AND($O65>=50,$O65<75,T65=0),"Hoàn thành",IF(AND($O65>=50,$O65<=75,T65>=1),"Không hoàn thành",IF(AND($O65>0,$O65<50),"Không hoàn thành",IF($O65=0,"Không đánh giá","")))))))))))) -> Xuất sắc | X65: =IF(AND($J65>=90,$J65<=100),"X",IF($J65<90,"","")) -> X | Z65: =IF(AND($J65>=75,$J65<90),"X",IF($J65<75,"","")) | AB65: =IF(AND($J65>=50,$J65<75),"X",IF($J65<50,"","")) | AD65: =IF($J65<50,"X","") | AH65: =IF($V65="Xuất sắc","X","") -> X | AJ65: =IF($V65="Tốt","X","") | AL65: =IF($V65="Hoàn thành","X","") | AN65: =IF($V65="Không hoàn thành","X","") | AP65: =IF($V65="Không đánh giá","X","")
A66: 3 | B66: Võ Thị Anh | C66: Đào | D66: 11100000701 | E66: 84 | F66: 28 | G66: 60 | H66: 0 | I66: 0 | J66: 88 | K66: =F66 -> 28 | L66: =G66 -> 60 | M66: =H66 -> 0 | N66: =I66 -> 0 | O66: =K66+L66+M66-N66 -> 88 | P66: =IF(AND($O66>=90,$O66<=100),"Xuất sắc",IF(AND($O66>=75,$O66<90),"Tốt",IF(AND($O66>=50,$O66<75),"Hoàn thành",IF(AND($O66<50,$O66>0),"Không hoàn thành",IF($O66=0,"Không đánh giá",""))))) -> Tốt | T66: =COUNTIF(Q66:S66,"B")+COUNTIF(Q66:S66,"C")*2 -> 0 | U66: =+COUNTIF(Q66:S66,"D") -> 0 | V66: =IF(U66>=1,"Không hoàn thành",IF(AND($O66>=90,$O66<100,T66=0),"Xuất sắc",IF(AND($O66>=90,$O66<100,T66=1),"Tốt",IF(AND($O66>=90,$O66<100,T66=2),"Hoàn thành",IF(AND($O66>=90,$O66<100,T66>=3),"Không hoàn thành",IF(AND($O66>=75,$O66<90,T66=0),"Tốt",IF(AND($O66>=75,$O66<90,T66=1),"Hoàn thành",IF(AND($O66>=75,$O66<90,T66>=2),"Không hoàn thành",IF(AND($O66>=50,$O66<75,T66=0),"Hoàn thành",IF(AND($O66>=50,$O66<=75,T66>=1),"Không hoàn thành",IF(AND($O66>0,$O66<50),"Không hoàn thành",IF($O66=0,"Không đánh giá","")))))))))))) -> Tốt | W66: Nghỉ hưu từ 01/8/2020 | X66: =IF(AND($J66>=90,$J66<=100),"X",IF($J66<90,"","")) | Z66: =IF(AND($J66>=75,$J66<90),"X",IF($J66<75,"","")) -> X | AB66: =IF(AND($J66>=50,$J66<75),"X",IF($J66<50,"","")) | AD66: =IF($J66<50,"X","") | AH66: =IF($V66="Xuất sắc","X","") | AJ66: =IF($V66="Tốt","X","") -> X | AL66: =IF($V66="Hoàn thành","X","") | AN66: =IF($V66="Không hoàn thành","X","") | AP66: =IF($V66="Không đánh giá","X","")
A67: 4 | B67: Nguyễn Thanh | C67: Sơn | D67: 11100122989 | E67: 73 | F67: 26 | G67: 50 | H67: 0 | I67: 0 | J67: 76 | K67: =F67 -> 26 | L67: =G67 -> 50 | M67: =H67 -> 0 | N67: =I67 -> 0 | O67: =K67+L67+M67-N67 -> 76 | P67: =IF(AND($O67>=90,$O67<=100),"Xuất sắc",IF(AND($O67>=75,$O67<90),"Tốt",IF(AND($O67>=50,$O67<75),"Hoàn thành",IF(AND($O67<50,$O67>0),"Không hoàn thành",IF($O67=0,"Không đánh giá",""))))) -> Tốt | T67: =COUNTIF(Q67:S67,"B")+COUNTIF(Q67:S67,"C")*2 -> 0 | U67: =+COUNTIF(Q67:S67,"D") -> 0 | V67: =IF(U67>=1,"Không hoàn thành",IF(AND($O67>=90,$O67<100,T67=0),"Xuất sắc",IF(AND($O67>=90,$O67<100,T67=1),"Tốt",IF(AND($O67>=90,$O67<100,T67=2),"Hoàn thành",IF(AND($O67>=90,$O67<100,T67>=3),"Không hoàn thành",IF(AND($O67>=75,$O67<90,T67=0),"Tốt",IF(AND($O67>=75,$O67<90,T67=1),"Hoàn thành",IF(AND($O67>=75,$O67<90,T67>=2),"Không hoàn thành",IF(AND($O67>=50,$O67<75,T67=0),"Hoàn thành",IF(AND($O67>=50,$O67<=75,T67>=1),"Không hoàn thành",IF(AND($O67>0,$O67<50),"Không hoàn thành",IF($O67=0,"Không đánh giá","")))))))))))) -> Tốt | X67: =IF(AND($J67>=90,$J67<=100),"X",IF($J67<90,"","")) | Z67: =IF(AND($J67>=75,$J67<90),"X",IF($J67<75,"","")) -> X | AB67: =IF(AND($J67>=50,$J67<75),"X",IF($J67<50,"","")) | AD67: =IF($J67<50,"X","") | AH67: =IF($V67="Xuất sắc","X","") | AJ67: =IF($V67="Tốt","X","") -> X | AL67: =IF($V67="Hoàn thành","X","") | AN67: =IF($V67="Không hoàn thành","X","") | AP67: =IF($V67="Không đánh giá","X","")
A68: 5 | B68: Lương Minh | C68: Dũng | D68: 40800000245 | E68: 78 | F68: 31 | G68: 60 | H68: 0 | I68: 0 | J68: 91 | K68: =F68 -> 31 | L68: =G68 -> 60 | M68: =H68 -> 0 | N68: =I68 -> 0 | O68: =K68+L68+M68-N68 -> 91 | P68: =IF(AND($O68>=90,$O68<=100),"Xuất sắc",IF(AND($O68>=75,$O68<90),"Tốt",IF(AND($O68>=50,$O68<75),"Hoàn thành",IF(AND($O68<50,$O68>0),"Không hoàn thành",IF($O68=0,"Không đánh giá",""))))) -> Xuất sắc | T68: =COUNTIF(Q68:S68,"B")+COUNTIF(Q68:S68,"C")*2 -> 0 | U68: =+COUNTIF(Q68:S68,"D") -> 0 | V68: =IF(U68>=1,"Không hoàn thành",IF(AND($O68>=90,$O68<100,T68=0),"Xuất sắc",IF(AND($O68>=90,$O68<100,T68=1),"Tốt",IF(AND($O68>=90,$O68<100,T68=2),"Hoàn thành",IF(AND($O68>=90,$O68<100,T68>=3),"Không hoàn thành",IF(AND($O68>=75,$O68<90,T68=0),"Tốt",IF(AND($O68>=75,$O68<90,T68=1),"Hoàn thành",IF(AND($O68>=75,$O68<90,T68>=2),"Không hoàn thành",IF(AND($O68>=50,$O68<75,T68=0),"Hoàn thành",IF(AND($O68>=50,$O68<=75,T68>=1),"Không hoàn thành",IF(AND($O68>0,$O68<50),"Không hoàn thành",IF($O68=0,"Không đánh giá","")))))))))))) -> Xuất sắc | X68: =IF(AND($J68>=90,$J68<=100),"X",IF($J68<90,"","")) -> X | Z68: =IF(AND($J68>=75,$J68<90),"X",IF($J68<75,"","")) | AB68: =IF(AND($J68>=50,$J68<75),"X",IF($J68<50,"","")) | AD68: =IF($J68<50,"X","") | AH68: =IF($V68="Xuất sắc","X","") -> X | AJ68: =IF($V68="Tốt","X","") | AL68: =IF($V68="Hoàn thành","X","") | AN68: =IF($V68="Không hoàn thành","X","") | AP68: =IF($V68="Không đánh giá","X","")
A69: 6 | B69: Nguyễn Thị | C69: Tuyết | D69: 50700000482 | E69: 75 | F69: 31 | G69: 60 | H69: 0 | I69: 0 | J69: 91 | K69: =F69 -> 31 | L69: =G69 -> 60 | M69: =H69 -> 0 | N69: =I69 -> 0 | O69: =K69+L69+M69-N69 -> 91 | P69: =IF(AND($O69>=90,$O69<=100),"Xuất sắc",IF(AND($O69>=75,$O69<90),"Tốt",IF(AND($O69>=50,$O69<75),"Hoàn thành",IF(AND($O69<50,$O69>0),"Không hoàn thành",IF($O69=0,"Không đánh giá",""))))) -> Xuất sắc | T69: =COUNTIF(Q69:S69,"B")+COUNTIF(Q69:S69,"C")*2 -> 0 | U69: =+COUNTIF(Q69:S69,"D") -> 0 | V69: =IF(U69>=1,"Không hoàn thành",IF(AND($O69>=90,$O69<100,T69=0),"Xuất sắc",IF(AND($O69>=90,$O69<100,T69=1),"Tốt",IF(AND($O69>=90,$O69<100,T69=2),"Hoàn thành",IF(AND($O69>=90,$O69<100,T69>=3),"Không hoàn thành",IF(AND($O69>=75,$O69<90,T69=0),"Tốt",IF(AND($O69>=75,$O69<90,T69=1),"Hoàn thành",IF(AND($O69>=75,$O69<90,T69>=2),"Không hoàn thành",IF(AND($O69>=50,$O69<75,T69=0),"Hoàn thành",IF(AND($O69>=50,$O69<=75,T69>=1),"Không hoàn thành",IF(AND($O69>0,$O69<50),"Không hoàn thành",IF($O69=0,"Không đánh giá","")))))))))))) -> Xuất sắc | X69: =IF(AND($J69>=90,$J69<=100),"X",IF($J69<90,"","")) -> X | Z69: =IF(AND($J69>=75,$J69<90),"X",IF($J69<75,"","")) | AB69: =IF(AND($J69>=50,$J69<75),"X",IF($J69<50,"","")) | AD69: =IF($J69<50,"X","") | AH69: =IF($V69="Xuất sắc","X","") -> X | AJ69: =IF($V69="Tốt","X","") | AL69: =IF($V69="Hoàn thành","X","") | AN69: =IF($V69="Không hoàn thành","X","") | AP69: =IF($V69="Không đánh giá","X","")
A70: 7 | B70: Vũ Thị Thu | C70: Thuỷ | D70: 11100115710 | E70: 74 | F70: 26 | G70: 60 | H70: 0 | I70: 0 | J70: 86 | K70: =F70 -> 26 | L70: =G70 -> 60 | M70: =H70 -> 0 | N70: =I70 -> 0 | O70: =K70+L70+M70-N70 -> 86 | P70: =IF(AND($O70>=90,$O70<=100),"Xuất sắc",IF(AND($O70>=75,$O70<90),"Tốt",IF(AND($O70>=50,$O70<75),"Hoàn thành",IF(AND($O70<50,$O70>0),"Không hoàn thành",IF($O70=0,"Không đánh giá",""))))) -> Tốt | T70: =COUNTIF(Q70:S70,"B")+COUNTIF(Q70:S70,"C")*2 -> 0 | U70: =+COUNTIF(Q70:S70,"D") -> 0 | V70: =IF(U70>=1,"Không hoàn thành",IF(AND($O70>=90,$O70<100,T70=0),"Xuất sắc",IF(AND($O70>=90,$O70<100,T70=1),"Tốt",IF(AND($O70>=90,$O70<100,T70=2),"Hoàn thành",IF(AND($O70>=90,$O70<100,T70>=3),"Không hoàn thành",IF(AND($O70>=75,$O70<90,T70=0),"Tốt",IF(AND($O70>=75,$O70<90,T70=1),"Hoàn thành",IF(AND($O70>=75,$O70<90,T70>=2),"Không hoàn thành",IF(AND($O70>=50,$O70<75,T70=0),"Hoàn thành",IF(AND($O70>=50,$O70<=75,T70>=1),"Không hoàn thành",IF(AND($O70>0,$O70<50),"Không hoàn thành",IF($O70=0,"Không đánh giá","")))))))))))) -> Tốt | X70: =IF(AND($J70>=90,$J70<=100),"X",IF($J70<90,"","")) | Z70: =IF(AND($J70>=75,$J70<90),"X",IF($J70<75,"","")) -> X | AB70: =IF(AND($J70>=50,$J70<75),"X",IF($J70<50,"","")) | AD70: =IF($J70<50,"X","") | AH70: =IF($V70="Xuất sắc","X","") | AJ70: =IF($V70="Tốt","X","") -> X | AL70: =IF($V70="Hoàn thành","X","") | AN70: =IF($V70="Không hoàn thành","X","") | AP70: =IF($V70="Không đánh giá","X","")
A71: d | B71: Hợp đồng Trường | X71: =COUNTIF(X72:X72,"x") -> 1 | Y71: =X71/($X71+$Z71+$AB71+$AD71+$AF71) -> 1 | Z71: =COUNTIF(Z72:Z72,"x") -> 0 | AA71: =Z71/($X71+$Z71+$AB71+$AD71+$AF71) -> 0 | AB71: =COUNTIF(AB72:AB72,"x") -> 0 | AC71: =AB71/($X71+$Z71+$AB71+$AD71+$AF71) -> 0 | AD71: =COUNTIF(AD72:AD72,"x") -> 0 | AE71: =AD71/($X71+$Z71+$AB71+$AD71+$AF71) -> 0 | AF71: =COUNTIF(AF72:AF72,"x") -> 0 | AG71: =AF71/($X71+$Z71+$AB71+$AD71+$AF71) -> 0 | AH71: =COUNTIF(AH72:AH72,"x") -> 1 | AI71: =AH71/($X71+$Z71+$AB71+$AD71+$AF71) -> 1 | AJ71: =COUNTIF(AJ72:AJ72,"x") -> 0 | AK71: =AJ71/($X71+$Z71+$AB71+$AD71+$AF71) -> 0 | AL71: =COUNTIF(AL72:AL72,"x") -> 0 | AM71: =AL71/($X71+$Z71+$AB71+$AD71+$AF71) -> 0 | AN71: =COUNTIF(AN72:AN72,"x") -> 0 | AO71: =AN71/($X71+$Z71+$AB71+$AD71+$AF71) -> 0 | AP71: =COUNTIF(AP72:AP72,"x") -> 0 | AQ71: =AP71/($X71+$Z71+$AB71+$AD71+$AF71) -> 0
A72: 7 | B72: Nguyễn Yến | C72: Nhi | D72: 79000H05.000518 | E72: 76.5 | F72: 31 | G72: 60 | H72: 0 | I72: 0 | J72: 91 | K72: =F72 -> 31 | L72: =G72 -> 60 | M72: =H72 -> 0 | N72: =I72 -> 0 | O72: =K72+L72+M72-N72 -> 91 | P72: =IF(AND($O72>=90,$O72<=100),"Xuất sắc",IF(AND($O72>=75,$O72<90),"Tốt",IF(AND($O72>=50,$O72<75),"Hoàn thành",IF(AND($O72<50,$O72>0),"Không hoàn thành",IF($O72=0,"Không đánh giá",""))))) -> Xuất sắc | T72: =COUNTIF(Q72:S72,"B")+COUNTIF(Q72:S72,"C")*2 -> 0 | U72: =+COUNTIF(Q72:S72,"D") -> 0 | V72: =IF(U72>=1,"Không hoàn thành",IF(AND($O72>=90,$O72<100,T72=0),"Xuất sắc",IF(AND($O72>=90,$O72<100,T72=1),"Tốt",IF(AND($O72>=90,$O72<100,T72=2),"Hoàn thành",IF(AND($O72>=90,$O72<100,T72>=3),"Không hoàn thành",IF(AND($O72>=75,$O72<90,T72=0),"Tốt",IF(AND($O72>=75,$O72<90,T72=1),"Hoàn thành",IF(AND($O72>=75,$O72<90,T72>=2),"Không hoàn thành",IF(AND($O72>=50,$O72<75,T72=0),"Hoàn thành",IF(AND($O72>=50,$O72<=75,T72>=1),"Không hoàn thành",IF(AND($O72>0,$O72<50),"Không hoàn thành",IF($O72=0,"Không đánh giá","")))))))))))) -> Xuất sắc | X72: =IF(AND($J72>=90,$J72<=100),"X",IF($J72<90,"","")) -> X | Z72: =IF(AND($J72>=75,$J72<90),"X",IF($J72<75,"","")) | AB72: =IF(AND($J72>=50,$J72<75),"X",IF($J72<50,"","")) | AD72: =IF($J72<50,"X","") | AH72: =IF($V72="Xuất sắc","X","") -> X | AJ72: =IF($V72="Tốt","X","") | AL72: =IF($V72="Hoàn thành","X","") | AN72: =IF($V72="Không hoàn thành","X","") | AP72: =IF($V72="Không đánh giá","X","")
A73: IV | B73: PHÒNG KẾ HOẠCH - TÀI CHÍNH | X73: =X74+X82 -> 6 | Y73: =X73/($X73+$Z73+$AB73+$AD73+$AF73) -> 0.66666667 | Z73: =Z74+Z82 -> 3 | AA73: =Z73/($X73+$Z73+$AB73+$AD73+$AF73) -> 0.33333333 | AB73: =AB74+AB82 -> 0 | AC73: =AB73/($X73+$Z73+$AB73+$AD73+$AF73) -> 0 | AD73: =AD74+AD82 -> 0 | AE73: =AD73/($X73+$Z73+$AB73+$AD73+$AF73) -> 0 | AF73: =AF74+AF82 -> 0 | AG73: =AF73/($X73+$Z73+$AB73+$AD73+$AF73) -> 0 | AH73: =AH74+AH82 -> 6 | AI73: =AH73/($X73+$Z73+$AB73+$AD73+$AF73) -> 0.66666667 | AJ73: =AJ74+AJ82 -> 3 | AK73: =AJ73/($X73+$Z73+$AB73+$AD73+$AF73) -> 0.33333333 | AL73: =AL74+AL82 -> 0 | AM73: =AL73/($X73+$Z73+$AB73+$AD73+$AF73) -> 0 | AN73: =AN74+AN82 -> 0 | AO73: =AN73/($X73+$Z73+$AB73+$AD73+$AF73) -> 0 | AP73: =AP74+AP82 -> 0 | AQ73: =AP73/($X73+$Z73+$AB73+$AD73+$AF73) -> 0
A74: a | B74: Viên chức | X74: =COUNTIF(X75:X81,"x") -> 6 | Y74: =X74/($X74+$Z74+$AB74+$AD74+$AF74) -> 0.85714286 | Z74: =COUNTIF(Z75:Z81,"x") -> 1 | AA74: =Z74/($X74+$Z74+$AB74+$AD74+$AF74) -> 0.14285714 | AB74: =COUNTIF(AB75:AB81,"x") -> 0 | AC74: =AB74/($X74+$Z74+$AB74+$AD74+$AF74) -> 0 | AD74: =COUNTIF(AD75:AD81,"x") -> 0 | AE74: =AD74/($X74+$Z74+$AB74+$AD74+$AF74) -> 0 | AF74: =COUNTIF(AF75:AF81,"x") -> 0 | AG74: =AF74/($X74+$Z74+$AB74+$AD74+$AF74) -> 0 | AH74: =COUNTIF(AH75:AH81,"x") -> 6 | AI74: =AH74/($X74+$Z74+$AB74+$AD74+$AF74) -> 0.85714286 | AJ74: =COUNTIF(AJ75:AJ81,"x") -> 1 | AK74: =AJ74/($X74+$Z74+$AB74+$AD74+$AF74) -> 0.14285714 | AL74: =COUNTIF(AL75:AL81,"x") -> 0 | AM74: =AL74/($X74+$Z74+$AB74+$AD74+$AF74) -> 0 | AN74: =COUNTIF(AN75:AN81,"x") -> 0 | AO74: =AN74/($X74+$Z74+$AB74+$AD74+$AF74) -> 0 | AP74: =COUNTIF(AP75:AP81,"x") -> 0 | AQ74: =AP74/($X74+$Z74+$AB74+$AD74+$AF74) -> 0
A75: 1 | B75: Nguyễn | C75: Kính | D75: 50800000800 | E75: 98 | F75: 38 | G75: 60 | H75: 0 | I75: 0 | J75: 98 | K75: =F75 -> 38 | L75: =G75 -> 60 | O75: =K75+L75+M75-N75 -> 98 | P75: =IF(AND($O75>=90,$O75<=100),"Xuất sắc",IF(AND($O75>=75,$O75<90),"Tốt",IF(AND($O75>=50,$O75<75),"Hoàn thành",IF(AND($O75<50,$O75>0),"Không hoàn thành",IF($O75=0,"Không đánh giá",""))))) -> Xuất sắc | T75: =COUNTIF(Q75:S75,"B")+COUNTIF(Q75:S75,"C")*2 -> 0 | U75: =+COUNTIF(Q75:S75,"D") -> 0 | V75: =IF(U75>=1,"Không hoàn thành",IF(AND($O75>=90,$O75<100,T75=0),"Xuất sắc",IF(AND($O75>=90,$O75<100,T75=1),"Tốt",IF(AND($O75>=90,$O75<100,T75=2),"Hoàn thành",IF(AND($O75>=90,$O75<100,T75>=3),"Không hoàn thành",IF(AND($O75>=75,$O75<90,T75=0),"Tốt",IF(AND($O75>=75,$O75<90,T75=1),"Hoàn thành",IF(AND($O75>=75,$O75<90,T75>=2),"Không hoàn thành",IF(AND($O75>=50,$O75<75,T75=0),"Hoàn thành",IF(AND($O75>=50,$O75<=75,T75>=1),"Không hoàn thành",IF(AND($O75>0,$O75<50),"Không hoàn thành",IF($O75=0,"Không đánh giá","")))))))))))) -> Xuất sắc | X75: =IF(AND($J75>=90,$J75<=100),"X",IF($J75<90,"","")) -> X | Z75: =IF(AND($J75>=75,$J75<90),"X",IF($J75<75,"","")) | AB75: =IF(AND($J75>=50,$J75<75),"X",IF($J75<50,"","")) | AD75: =IF($J75<50,"X","") | AH75: =IF($V75="Xuất sắc","X","") -> X | AJ75: =IF($V75="Tốt","X","") | AL75: =IF($V75="Hoàn thành","X","") | AN75: =IF($V75="Không hoàn thành","X","") | AP75: =IF($V75="Không đánh giá","X","")
A76: 2 | B76: Nguyễn Thị Kim | C76: Dung | D76: 11100071598 | E76: 97 | F76: 36 | G76: 50 | H76: 0 | I76: 0 | J76: 86 | K76: =F76 -> 36 | L76: =G76 -> 50 | O76: =K76+L76+M76-N76 -> 86 | P76: =IF(AND($O76>=90,$O76<=100),"Xuất sắc",IF(AND($O76>=75,$O76<90),"Tốt",IF(AND($O76>=50,$O76<75),"Hoàn thành",IF(AND($O76<50,$O76>0),"Không hoàn thành",IF($O76=0,"Không đánh giá",""))))) -> Tốt | T76: =COUNTIF(Q76:S76,"B")+COUNTIF(Q76:S76,"C")*2 -> 0 | U76: =+COUNTIF(Q76:S76,"D") -> 0 | V76: =IF(U76>=1,"Không hoàn thành",IF(AND($O76>=90,$O76<100,T76=0),"Xuất sắc",IF(AND($O76>=90,$O76<100,T76=1),"Tốt",IF(AND($O76>=90,$O76<100,T76=2),"Hoàn thành",IF(AND($O76>=90,$O76<100,T76>=3),"Không hoàn thành",IF(AND($O76>=75,$O76<90,T76=0),"Tốt",IF(AND($O76>=75,$O76<90,T76=1),"Hoàn thành",IF(AND($O76>=75,$O76<90,T76>=2),"Không hoàn thành",IF(AND($O76>=50,$O76<75,T76=0),"Hoàn thành",IF(AND($O76>=50,$O76<=75,T76>=1),"Không hoàn thành",IF(AND($O76>0,$O76<50),"Không hoàn thành",IF($O76=0,"Không đánh giá","")))))))))))) -> Tốt | X76: =IF(AND($J76>=90,$J76<=100),"X",IF($J76<90,"","")) | Z76: =IF(AND($J76>=75,$J76<90),"X",IF($J76<75,"","")) -> X | AB76: =IF(AND($J76>=50,$J76<75),"X",IF($J76<50,"","")) | AD76: =IF($J76<50,"X","") | AH76: =IF($V76="Xuất sắc","X","") | AJ76: =IF($V76="Tốt","X","") -> X | AL76: =IF($V76="Hoàn thành","X","") | AN76: =IF($V76="Không hoàn thành","X","") | AP76: =IF($V76="Không đánh giá","X","")
A77: 3 | B77: Hồng Mộng Tuyết | C77: Dung | D77: 11100115722 | E77: 96 | F77: 36 | G77: 60 | H77: 0 | I77: 0 | J77: 96 | K77: =F77 -> 36 | L77: =G77 -> 60 | O77: =K77+L77+M77-N77 -> 96 | P77: =IF(AND($O77>=90,$O77<=100),"Xuất sắc",IF(AND($O77>=75,$O77<90),"Tốt",IF(AND($O77>=50,$O77<75),"Hoàn thành",IF(AND($O77<50,$O77>0),"Không hoàn thành",IF($O77=0,"Không đánh giá",""))))) -> Xuất sắc | T77: =COUNTIF(Q77:S77,"B")+COUNTIF(Q77:S77,"C")*2 -> 0 | U77: =+COUNTIF(Q77:S77,"D") -> 0 | V77: =IF(U77>=1,"Không hoàn thành",IF(AND($O77>=90,$O77<100,T77=0),"Xuất sắc",IF(AND($O77>=90,$O77<100,T77=1),"Tốt",IF(AND($O77>=90,$O77<100,T77=2),"Hoàn thành",IF(AND($O77>=90,$O77<100,T77>=3),"Không hoàn thành",IF(AND($O77>=75,$O77<90,T77=0),"Tốt",IF(AND($O77>=75,$O77<90,T77=1),"Hoàn thành",IF(AND($O77>=75,$O77<90,T77>=2),"Không hoàn thành",IF(AND($O77>=50,$O77<75,T77=0),"Hoàn thành",IF(AND($O77>=50,$O77<=75,T77>=1),"Không hoàn thành",IF(AND($O77>0,$O77<50),"Không hoàn thành",IF($O77=0,"Không đánh giá","")))))))))))) -> Xuất sắc | X77: =IF(AND($J77>=90,$J77<=100),"X",IF($J77<90,"","")) -> X | Z77: =IF(AND($J77>=75,$J77<90),"X",IF($J77<75,"","")) | AB77: =IF(AND($J77>=50,$J77<75),"X",IF($J77<50,"","")) | AD77: =IF($J77<50,"X","") | AH77: =IF($V77="Xuất sắc","X","") -> X | AJ77: =IF($V77="Tốt","X","") | AL77: =IF($V77="Hoàn thành","X","") | AN77: =IF($V77="Không hoàn thành","X","") | AP77: =IF($V77="Không đánh giá","X","")
A78: 4 | B78: Đỗ Thị | C78: Ngọc | D78: 50800001163 | E78: 94 | F78: 35 | G78: 60 | H78: 0 | I78: 0 | J78: 95 | K78: =F78 -> 35 | L78: =G78 -> 60 | O78: =K78+L78+M78-N78 -> 95 | P78: =IF(AND($O78>=90,$O78<=100),"Xuất sắc",IF(AND($O78>=75,$O78<90),"Tốt",IF(AND($O78>=50,$O78<75),"Hoàn thành",IF(AND($O78<50,$O78>0),"Không hoàn thành",IF($O78=0,"Không đánh giá",""))))) -> Xuất sắc | T78: =COUNTIF(Q78:S78,"B")+COUNTIF(Q78:S78,"C")*2 -> 0 | U78: =+COUNTIF(Q78:S78,"D") -> 0 | V78: =IF(U78>=1,"Không hoàn thành",IF(AND($O78>=90,$O78<100,T78=0),"Xuất sắc",IF(AND($O78>=90,$O78<100,T78=1),"Tốt",IF(AND($O78>=90,$O78<100,T78=2),"Hoàn thành",IF(AND($O78>=90,$O78<100,T78>=3),"Không hoàn thành",IF(AND($O78>=75,$O78<90,T78=0),"Tốt",IF(AND($O78>=75,$O78<90,T78=1),"Hoàn thành",IF(AND($O78>=75,$O78<90,T78>=2),"Không hoàn thành",IF(AND($O78>=50,$O78<75,T78=0),"Hoàn thành",IF(AND($O78>=50,$O78<=75,T78>=1),"Không hoàn thành",IF(AND($O78>0,$O78<50),"Không hoàn thành",IF($O78=0,"Không đánh giá","")))))))))))) -> Xuất sắc | X78: =IF(AND($J78>=90,$J78<=100),"X",IF($J78<90,"","")) -> X | Z78: =IF(AND($J78>=75,$J78<90),"X",IF($J78<75,"","")) | AB78: =IF(AND($J78>=50,$J78<75),"X",IF($J78<50,"","")) | AD78: =IF($J78<50,"X","") | AH78: =IF($V78="Xuất sắc","X","") -> X | AJ78: =IF($V78="Tốt","X","") | AL78: =IF($V78="Hoàn thành","X","") | AN78: =IF($V78="Không hoàn thành","X","") | AP78: =IF($V78="Không đánh giá","X","")
A79: 5 | B79: Trần Thị Minh | C79: Thoa | D79: 11100121674 | E79: 95 | F79: 36 | G79: 60 | H79: 0 | I79: 0 | J79: 96 | K79: =F79 -> 36 | L79: =G79 -> 60 | O79: =K79+L79+M79-N79 -> 96 | P79: =IF(AND($O79>=90,$O79<=100),"Xuất sắc",IF(AND($O79>=75,$O79<90),"Tốt",IF(AND($O79>=50,$O79<75),"Hoàn thành",IF(AND($O79<50,$O79>0),"Không hoàn thành",IF($O79=0,"Không đánh giá",""))))) -> Xuất sắc | T79: =COUNTIF(Q79:S79,"B")+COUNTIF(Q79:S79,"C")*2 -> 0 | U79: =+COUNTIF(Q79:S79,"D") -> 0 | V79: =IF(U79>=1,"Không hoàn thành",IF(AND($O79>=90,$O79<100,T79=0),"Xuất sắc",IF(AND($O79>=90,$O79<100,T79=1),"Tốt",IF(AND($O79>=90,$O79<100,T79=2),"Hoàn thành",IF(AND($O79>=90,$O79<100,T79>=3),"Không hoàn thành",IF(AND($O79>=75,$O79<90,T79=0),"Tốt",IF(AND($O79>=75,$O79<90,T79=1),"Hoàn thành",IF(AND($O79>=75,$O79<90,T79>=2),"Không hoàn thành",IF(AND($O79>=50,$O79<75,T79=0),"Hoàn thành",IF(AND($O79>=50,$O79<=75,T79>=1),"Không hoàn thành",IF(AND($O79>0,$O79<50),"Không hoàn thành",IF($O79=0,"Không đánh giá","")))))))))))) -> Xuất sắc | X79: =IF(AND($J79>=90,$J79<=100),"X",IF($J79<90,"","")) -> X | Z79: =IF(AND($J79>=75,$J79<90),"X",IF($J79<75,"","")) | AB79: =IF(AND($J79>=50,$J79<75),"X",IF($J79<50,"","")) | AD79: =IF($J79<50,"X","") | AH79: =IF($V79="Xuất sắc","X","") -> X | AJ79: =IF($V79="Tốt","X","") | AL79: =IF($V79="Hoàn thành","X","") | AN79: =IF($V79="Không hoàn thành","X","") | AP79: =IF($V79="Không đánh giá","X","")
A80: 6 | B80: Nguyễn Thị Hồng | C80: Thắm | D80: 40700000691 | E80: 95 | F80: 36 | G80: 60 | H80: 0 | I80: 0 | J80: 96 | K80: =F80 -> 36 | L80: =G80 -> 60 | O80: =K80+L80+M80-N80 -> 96 | P80: =IF(AND($O80>=90,$O80<=100),"Xuất sắc",IF(AND($O80>=75,$O80<90),"Tốt",IF(AND($O80>=50,$O80<75),"Hoàn thành",IF(AND($O80<50,$O80>0),"Không hoàn thành",IF($O80=0,"Không đánh giá",""))))) -> Xuất sắc | T80: =COUNTIF(Q80:S80,"B")+COUNTIF(Q80:S80,"C")*2 -> 0 | U80: =+COUNTIF(Q80:S80,"D") -> 0 | V80: =IF(U80>=1,"Không hoàn thành",IF(AND($O80>=90,$O80<100,T80=0),"Xuất sắc",IF(AND($O80>=90,$O80<100,T80=1),"Tốt",IF(AND($O80>=90,$O80<100,T80=2),"Hoàn thành",IF(AND($O80>=90,$O80<100,T80>=3),"Không hoàn thành",IF(AND($O80>=75,$O80<90,T80=0),"Tốt",IF(AND($O80>=75,$O80<90,T80=1),"Hoàn thành",IF(AND($O80>=75,$O80<90,T80>=2),"Không hoàn thành",IF(AND($O80>=50,$O80<75,T80=0),"Hoàn thành",IF(AND($O80>=50,$O80<=75,T80>=1),"Không hoàn thành",IF(AND($O80>0,$O80<50),"Không hoàn thành",IF($O80=0,"Không đánh giá","")))))))))))) -> Xuất sắc | X80: =IF(AND($J80>=90,$J80<=100),"X",IF($J80<90,"","")) -> X | Z80: =IF(AND($J80>=75,$J80<90),"X",IF($J80<75,"","")) | AB80: =IF(AND($J80>=50,$J80<75),"X",IF($J80<50,"","")) | AD80: =IF($J80<50,"X","") | AH80: =IF($V80="Xuất sắc","X","") -> X | AJ80: =IF($V80="Tốt","X","") | AL80: =IF($V80="Hoàn thành","X","") | AN80: =IF($V80="Không hoàn thành","X","") | AP80: =IF($V80="Không đánh giá","X","")
A81: 7 | B81: Võ Thị Lệ | C81: Trân | D81: 50700000428 | E81: 93 | F81: 34 | G81: 60 | H81: 0 | I81: 0 | J81: 94 | K81: =F81 -> 34 | L81: =G81 -> 60 | M81: =H81 -> 0 | N81: =I81 -> 0 | O81: =K81+L81+M81-N81 -> 94 | P81: =IF(AND($O81>=90,$O81<=100),"Xuất sắc",IF(AND($O81>=75,$O81<90),"Tốt",IF(AND($O81>=50,$O81<75),"Hoàn thành",IF(AND($O81<50,$O81>0),"Không hoàn thành",IF($O81=0,"Không đánh giá",""))))) -> Xuất sắc | T81: =COUNTIF(Q81:S81,"B")+COUNTIF(Q81:S81,"C")*2 -> 0 | U81: =+COUNTIF(Q81:S81,"D") -> 0 | V81: =IF(U81>=1,"Không hoàn thành",IF(AND($O81>=90,$O81<100,T81=0),"Xuất sắc",IF(AND($O81>=90,$O81<100,T81=1),"Tốt",IF(AND($O81>=90,$O81<100,T81=2),"Hoàn thành",IF(AND($O81>=90,$O81<100,T81>=3),"Không hoàn thành",IF(AND($O81>=75,$O81<90,T81=0),"Tốt",IF(AND($O81>=75,$O81<90,T81=1),"Hoàn thành",IF(AND($O81>=75,$O81<90,T81>=2),"Không hoàn thành",IF(AND($O81>=50,$O81<75,T81=0),"Hoàn thành",IF(AND($O81>=50,$O81<=75,T81>=1),"Không hoàn thành",IF(AND($O81>0,$O81<50),"Không hoàn thành",IF($O81=0,"Không đánh giá","")))))))))))) -> Xuất sắc | X81: =IF(AND($J81>=90,$J81<=100),"X",IF($J81<90,"","")) -> X | Z81: =IF(AND($J81>=75,$J81<90),"X",IF($J81<75,"","")) | AB81: =IF(AND($J81>=50,$J81<75),"X",IF($J81<50,"","")) | AD81: =IF($J81<50,"X","") | AH81: =IF($V81="Xuất sắc","X","") -> X | AJ81: =IF($V81="Tốt","X","") | AL81: =IF($V81="Hoàn thành","X","") | AN81: =IF($V81="Không hoàn thành","X","") | AP81: =IF($V81="Không đánh giá","X","")
A82: e | B82: Hợp đồng Trường | X82: =COUNTIF(X83:X84,"x") -> 0 | Y82: =X82/($X82+$Z82+$AB82+$AD82+$AF82) -> 0 | Z82: =COUNTIF(Z83:Z84,"x") -> 2 | AA82: =Z82/($X82+$Z82+$AB82+$AD82+$AF82) -> 1 | AB82: =COUNTIF(AB83:AB84,"x") -> 0 | AC82: =AB82/($X82+$Z82+$AB82+$AD82+$AF82) -> 0 | AD82: =COUNTIF(AD83:AD84,"x") -> 0 | AE82: =AD82/($X82+$Z82+$AB82+$AD82+$AF82) -> 0 | AF82: =COUNTIF(AF83:AF84,"x") -> 0 | AG82: =AF82/($X82+$Z82+$AB82+$AD82+$AF82) -> 0 | AH82: =COUNTIF(AH83:AH84,"x") -> 0 | AI82: =AH82/($X82+$Z82+$AB82+$AD82+$AF82) -> 0 | AJ82: =COUNTIF(AJ83:AJ84,"x") -> 2 | AK82: =AJ82/($X82+$Z82+$AB82+$AD82+$AF82) -> 1 | AL82: =COUNTIF(AL83:AL84,"x") -> 0 | AM82: =AL82/($X82+$Z82+$AB82+$AD82+$AF82) -> 0 | AN82: =COUNTIF(AN83:AN84,"x") -> 0 | AO82: =AN82/($X82+$Z82+$AB82+$AD82+$AF82) -> 0 | AP82: =COUNTIF(AP83:AP84,"x") -> 0 | AQ82: =AP82/($X82+$Z82+$AB82+$AD82+$AF82) -> 0
A83: 8 | B83: Trần Thị Thảo | C83: Vân | D83: 79000H05.000490 | E83: 95 | F83: 35 | G83: 50 | H83: 0 | I83: 0 | J83: 85 | K83: =F83 -> 35 | L83: =G83 -> 50 | O83: =K83+L83+M83-N83 -> 85 | P83: =IF(AND($O83>=90,$O83<=100),"Xuất sắc",IF(AND($O83>=75,$O83<90),"Tốt",IF(AND($O83>=50,$O83<75),"Hoàn thành",IF(AND($O83<50,$O83>0),"Không hoàn thành",IF($O83=0,"Không đánh giá",""))))) -> Tốt | T83: =COUNTIF(Q83:S83,"B")+COUNTIF(Q83:S83,"C")*2 -> 0 | U83: =+COUNTIF(Q83:S83,"D") -> 0 | V83: =IF(U83>=1,"Không hoàn thành",IF(AND($O83>=90,$O83<100,T83=0),"Xuất sắc",IF(AND($O83>=90,$O83<100,T83=1),"Tốt",IF(AND($O83>=90,$O83<100,T83=2),"Hoàn thành",IF(AND($O83>=90,$O83<100,T83>=3),"Không hoàn thành",IF(AND($O83>=75,$O83<90,T83=0),"Tốt",IF(AND($O83>=75,$O83<90,T83=1),"Hoàn thành",IF(AND($O83>=75,$O83<90,T83>=2),"Không hoàn thành",IF(AND($O83>=50,$O83<75,T83=0),"Hoàn thành",IF(AND($O83>=50,$O83<=75,T83>=1),"Không hoàn thành",IF(AND($O83>0,$O83<50),"Không hoàn thành",IF($O83=0,"Không đánh giá","")))))))))))) -> Tốt | X83: =IF(AND($J83>=90,$J83<=100),"X",IF($J83<90,"","")) | Z83: =IF(AND($J83>=75,$J83<90),"X",IF($J83<75,"","")) -> X | AB83: =IF(AND($J83>=50,$J83<75),"X",IF($J83<50,"","")) | AD83: =IF($J83<50,"X","") | AH83: =IF($V83="Xuất sắc","X","") | AJ83: =IF($V83="Tốt","X","") -> X | AL83: =IF($V83="Hoàn thành","X","") | AN83: =IF($V83="Không hoàn thành","X","") | AP83: =IF($V83="Không đánh giá","X","")
A84: 9 | B84: Nguyễn Thụy | C84: Nghiêm | E84: 95 | F84: 35 | G84: 50 | H84: 0 | I84: 0 | J84: 85 | K84: =F84 -> 35 | L84: =G84 -> 50 | O84: =K84+L84+M84-N84 -> 85 | P84: =IF(AND($O84>=90,$O84<=100),"Xuất sắc",IF(AND($O84>=75,$O84<90),"Tốt",IF(AND($O84>=50,$O84<75),"Hoàn thành",IF(AND($O84<50,$O84>0),"Không hoàn thành",IF($O84=0,"Không đánh giá",""))))) -> Tốt | T84: =COUNTIF(Q84:S84,"B")+COUNTIF(Q84:S84,"C")*2 -> 0 | U84: =+COUNTIF(Q84:S84,"D") -> 0 | V84: =IF(U84>=1,"Không hoàn thành",IF(AND($O84>=90,$O84<100,T84=0),"Xuất sắc",IF(AND($O84>=90,$O84<100,T84=1),"Tốt",IF(AND($O84>=90,$O84<100,T84=2),"Hoàn thành",IF(AND($O84>=90,$O84<100,T84>=3),"Không hoàn thành",IF(AND($O84>=75,$O84<90,T84=0),"Tốt",IF(AND($O84>=75,$O84<90,T84=1),"Hoàn thành",IF(AND($O84>=75,$O84<90,T84>=2),"Không hoàn thành",IF(AND($O84>=50,$O84<75,T84=0),"Hoàn thành",IF(AND($O84>=50,$O84<=75,T84>=1),"Không hoàn thành",IF(AND($O84>0,$O84<50),"Không hoàn thành",IF($O84=0,"Không đánh giá","")))))))))))) -> Tốt | X84: =IF(AND($J84>=90,$J84<=100),"X",IF($J84<90,"","")) | Z84: =IF(AND($J84>=75,$J84<90),"X",IF($J84<75,"","")) -> X | AB84: =IF(AND($J84>=50,$J84<75),"X",IF($J84<50,"","")) | AD84: =IF($J84<50,"X","") | AH84: =IF($V84="Xuất sắc","X","") | AJ84: =IF($V84="Tốt","X","") -> X | AL84: =IF($V84="Hoàn thành","X","") | AN84: =IF($V84="Không hoàn thành","X","") | AP84: =IF($V84="Không đánh giá","X","")
A85: V | B85: PHÒNG QUẢN TRỊ - DỊCH VỤ | X85: =X86+X100+X102+X104 -> 10 | Y85: =X85/($X85+$Z85+$AB85+$AD85+$AF85) -> 0.33333333 | Z85: =Z86+Z100+Z102+Z104 -> 20 | AA85: =Z85/($X85+$Z85+$AB85+$AD85+$AF85) -> 0.66666667 | AB85: =AB86+AB100+AB102+AB104 -> 0 | AC85: =AB85/($X85+$Z85+$AB85+$AD85+$AF85) -> 0 | AD85: =AD86+AD100+AD102+AD104 -> 0 | AE85: =AD85/($X85+$Z85+$AB85+$AD85+$AF85) -> 0 | AF85: =AF86+AF100+AF102+AF104 -> 0 | AG85: =AF85/($X85+$Z85+$AB85+$AD85+$AF85) -> 0 | AH85: =AH86+AH100+AH102+AH104 -> 10 | AI85: =AH85/($X85+$Z85+$AB85+$AD85+$AF85) -> 0.33333333 | AJ85: =AJ86+AJ100+AJ102+AJ104 -> 17 | AK85: =AJ85/($X85+$Z85+$AB85+$AD85+$AF85) -> 0.56666667 | AL85: =AL86+AL100+AL102+AL104 -> 3 | AM85: =AL85/($X85+$Z85+$AB85+$AD85+$AF85) -> 0.1 | AN85: =AN86+AN100+AN102+AN104 -> 0 | AO85: =AN85/($X85+$Z85+$AB85+$AD85+$AF85) -> 0 | AP85: =AP86+AP100+AP102+AP104 -> 0 | AQ85: =AP85/($X85+$Z85+$AB85+$AD85+$AF85) -> 0
A86: a | B86: Viên chức | X86: =COUNTIF(X87:X99,"x") -> 6 | Y86: =X86/($X86+$Z86+$AB86+$AD86+$AF86) -> 0.46153846 | Z86: =COUNTIF(Z87:Z99,"x") -> 7 | AA86: =Z86/($X86+$Z86+$AB86+$AD86+$AF86) -> 0.53846154 | AB86: =COUNTIF(AB87:AB99,"x") -> 0 | AC86: =AB86/($X86+$Z86+$AB86+$AD86+$AF86) -> 0 | AD86: =COUNTIF(AD87:AD99,"x") -> 0 | AE86: =AD86/($X86+$Z86+$AB86+$AD86+$AF86) -> 0 | AF86: =COUNTIF(AF87:AF99,"x") -> 0 | AG86: =AF86/($X86+$Z86+$AB86+$AD86+$AF86) -> 0 | AH86: =COUNTIF(AH87:AH99,"x") -> 6 | AI86: =AH86/($X86+$Z86+$AB86+$AD86+$AF86) -> 0.46153846 | AJ86: =COUNTIF(AJ87:AJ99,"x") -> 6 | AK86: =AJ86/($X86+$Z86+$AB86+$AD86+$AF86) -> 0.46153846 | AL86: =COUNTIF(AL87:AL99,"x") -> 1 | AM86: =AL86/($X86+$Z86+$AB86+$AD86+$AF86) -> 0.076923077 | AN86: =COUNTIF(AN87:AN99,"x") -> 0 | AO86: =AN86/($X86+$Z86+$AB86+$AD86+$AF86) -> 0 | AP86: =COUNTIF(AP87:AP99,"x") -> 0 | AQ86: =AP86/($X86+$Z86+$AB86+$AD86+$AF86) -> 0
A87: 1 | B87: Lê Quang | C87: Liêm | D87: 50200000160 | E87: 99 | F87: 38 | G87: 60 | H87: 1.75 | J87: 99.8 | K87: =F87 -> 38 | L87: =G87 -> 60 | M87: =H87 -> 1.75 | N87: =I87 -> 0 | O87: =K87+L87+M87-N87 -> 99.75 | P87: =IF(AND($O87>=90,$O87<=100),"Xuất sắc",IF(AND($O87>=75,$O87<90),"Tốt",IF(AND($O87>=50,$O87<75),"Hoàn thành",IF(AND($O87<50,$O87>0),"Không hoàn thành",IF($O87=0,"Không đánh giá",""))))) -> Xuất sắc | T87: =COUNTIF(Q87:S87,"B")+COUNTIF(Q87:S87,"C")*2 -> 0 | U87: =+COUNTIF(Q87:S87,"D") -> 0 | V87: =IF(U87>=1,"Không hoàn thành",IF(AND($O87>=90,$O87<100,T87=0),"Xuất sắc",IF(AND($O87>=90,$O87<100,T87=1),"Tốt",IF(AND($O87>=90,$O87<100,T87=2),"Hoàn thành",IF(AND($O87>=90,$O87<100,T87>=3),"Không hoàn thành",IF(AND($O87>=75,$O87<90,T87=0),"Tốt",IF(AND($O87>=75,$O87<90,T87=1),"Hoàn thành",IF(AND($O87>=75,$O87<90,T87>=2),"Không hoàn thành",IF(AND($O87>=50,$O87<75,T87=0),"Hoàn thành",IF(AND($O87>=50,$O87<=75,T87>=1),"Không hoàn thành",IF(AND($O87>0,$O87<50),"Không hoàn thành",IF($O87=0,"Không đánh giá","")))))))))))) -> Xuất sắc | X87: =IF(AND($J87>=90,$J87<=100),"X",IF($J87<90,"","")) -> X | Z87: =IF(AND($J87>=75,$J87<90),"X",IF($J87<75,"","")) | AB87: =IF(AND($J87>=50,$J87<75),"X",IF($J87<50,"","")) | AD87: =IF($J87<50,"X","") | AH87: =IF($V87="Xuất sắc","X","") -> X | AJ87: =IF($V87="Tốt","X","") | AL87: =IF($V87="Hoàn thành","X","") | AN87: =IF($V87="Không hoàn thành","X","") | AP87: =IF($V87="Không đánh giá","X","")
A88: 2 | B88: Nguyễn Văn | C88: Thành | D88: 11100000723 | E88: 85 | F88: 36 | G88: 50 | H88: 0.75 | J88: 86.8 | K88: =F88 -> 36 | L88: =G88 -> 50 | M88: =H88 -> 0.75 | N88: =I88 -> 0 | O88: =K88+L88+M88-N88 -> 86.75 | P88: =IF(AND($O88>=90,$O88<=100),"Xuất sắc",IF(AND($O88>=75,$O88<90),"Tốt",IF(AND($O88>=50,$O88<75),"Hoàn thành",IF(AND($O88<50,$O88>0),"Không hoàn thành",IF($O88=0,"Không đánh giá",""))))) -> Tốt | T88: =COUNTIF(Q88:S88,"B")+COUNTIF(Q88:S88,"C")*2 -> 0 | U88: =+COUNTIF(Q88:S88,"D") -> 0 | V88: =IF(U88>=1,"Không hoàn thành",IF(AND($O88>=90,$O88<100,T88=0),"Xuất sắc",IF(AND($O88>=90,$O88<100,T88=1),"Tốt",IF(AND($O88>=90,$O88<100,T88=2),"Hoàn thành",IF(AND($O88>=90,$O88<100,T88>=3),"Không hoàn thành",IF(AND($O88>=75,$O88<90,T88=0),"Tốt",IF(AND($O88>=75,$O88<90,T88=1),"Hoàn thành",IF(AND($O88>=75,$O88<90,T88>=2),"Không hoàn thành",IF(AND($O88>=50,$O88<75,T88=0),"Hoàn thành",IF(AND($O88>=50,$O88<=75,T88>=1),"Không hoàn thành",IF(AND($O88>0,$O88<50),"Không hoàn thành",IF($O88=0,"Không đánh giá","")))))))))))) -> Tốt | X88: =IF(AND($J88>=90,$J88<=100),"X",IF($J88<90,"","")) | Z88: =IF(AND($J88>=75,$J88<90),"X",IF($J88<75,"","")) -> X | AB88: =IF(AND($J88>=50,$J88<75),"X",IF($J88<50,"","")) | AD88: =IF($J88<50,"X","") | AH88: =IF($V88="Xuất sắc","X","") | AJ88: =IF($V88="Tốt","X","") -> X | AL88: =IF($V88="Hoàn thành","X","") | AN88: =IF($V88="Không hoàn thành","X","") | AP88: =IF($V88="Không đánh giá","X","")
A89: 3 | B89: Nguyễn Trọng | C89: Phú | D89: 11100083294 | E89: 87 | F89: 31 | G89: 60 | H89: 0.5 | J89: 91.5 | K89: =F89 -> 31 | L89: =G89 -> 60 | M89: =H89 -> 0.5 | N89: =I89 -> 0 | O89: =K89+L89+M89-N89 -> 91.5 | P89: =IF(AND($O89>=90,$O89<=100),"Xuất sắc",IF(AND($O89>=75,$O89<90),"Tốt",IF(AND($O89>=50,$O89<75),"Hoàn thành",IF(AND($O89<50,$O89>0),"Không hoàn thành",IF($O89=0,"Không đánh giá",""))))) -> Xuất sắc | T89: =COUNTIF(Q89:S89,"B")+COUNTIF(Q89:S89,"C")*2 -> 0 | U89: =+COUNTIF(Q89:S89,"D") -> 0 | V89: =IF(U89>=1,"Không hoàn thành",IF(AND($O89>=90,$O89<100,T89=0),"Xuất sắc",IF(AND($O89>=90,$O89<100,T89=1),"Tốt",IF(AND($O89>=90,$O89<100,T89=2),"Hoàn thành",IF(AND($O89>=90,$O89<100,T89>=3),"Không hoàn thành",IF(AND($O89>=75,$O89<90,T89=0),"Tốt",IF(AND($O89>=75,$O89<90,T89=1),"Hoàn thành",IF(AND($O89>=75,$O89<90,T89>=2),"Không hoàn thành",IF(AND($O89>=50,$O89<75,T89=0),"Hoàn thành",IF(AND($O89>=50,$O89<=75,T89>=1),"Không hoàn thành",IF(AND($O89>0,$O89<50),"Không hoàn thành",IF($O89=0,"Không đánh giá","")))))))))))) -> Xuất sắc | X89: =IF(AND($J89>=90,$J89<=100),"X",IF($J89<90,"","")) -> X | Z89: =IF(AND($J89>=75,$J89<90),"X",IF($J89<75,"","")) | AB89: =IF(AND($J89>=50,$J89<75),"X",IF($J89<50,"","")) | AD89: =IF($J89<50,"X","") | AH89: =IF($V89="Xuất sắc","X","") -> X | AJ89: =IF($V89="Tốt","X","") | AL89: =IF($V89="Hoàn thành","X","") | AN89: =IF($V89="Không hoàn thành","X","") | AP89: =IF($V89="Không đánh giá","X","")
A90: 4 | B90: Phan Đức | C90: Long | D90: 11100000789 | E90: 90 | F90: 36 | G90: 50 | H90: 2 | J90: 88 | K90: =F90 -> 36 | L90: =G90 -> 50 | M90: =H90 -> 2 | N90: =I90 -> 0 | O90: =K90+L90+M90-N90 -> 88 | P90: =IF(AND($O90>=90,$O90<=100),"Xuất sắc",IF(AND($O90>=75,$O90<90),"Tốt",IF(AND($O90>=50,$O90<75),"Hoàn thành",IF(AND($O90<50,$O90>0),"Không hoàn thành",IF($O90=0,"Không đánh giá",""))))) -> Tốt | T90: =COUNTIF(Q90:S90,"B")+COUNTIF(Q90:S90,"C")*2 -> 0 | U90: =+COUNTIF(Q90:S90,"D") -> 0 | V90: =IF(U90>=1,"Không hoàn thành",IF(AND($O90>=90,$O90<100,T90=0),"Xuất sắc",IF(AND($O90>=90,$O90<100,T90=1),"Tốt",IF(AND($O90>=90,$O90<100,T90=2),"Hoàn thành",IF(AND($O90>=90,$O90<100,T90>=3),"Không hoàn thành",IF(AND($O90>=75,$O90<90,T90=0),"Tốt",IF(AND($O90>=75,$O90<90,T90=1),"Hoàn thành",IF(AND($O90>=75,$O90<90,T90>=2),"Không hoàn thành",IF(AND($O90>=50,$O90<75,T90=0),"Hoàn thành",IF(AND($O90>=50,$O90<=75,T90>=1),"Không hoàn thành",IF(AND($O90>0,$O90<50),"Không hoàn thành",IF($O90=0,"Không đánh giá","")))))))))))) -> Tốt | X90: =IF(AND($J90>=90,$J90<=100),"X",IF($J90<90,"","")) | Z90: =IF(AND($J90>=75,$J90<90),"X",IF($J90<75,"","")) -> X | AB90: =IF(AND($J90>=50,$J90<75),"X",IF($J90<50,"","")) | AD90: =IF($J90<50,"X","") | AH90: =IF($V90="Xuất sắc","X","") | AJ90: =IF($V90="Tốt","X","") -> X | AL90: =IF($V90="Hoàn thành","X","") | AN90: =IF($V90="Không hoàn thành","X","") | AP90: =IF($V90="Không đánh giá","X","")
A91: 5 | B91: Đỗ Văn | C91: Trong | D91: 11100071601 | E91: 77 | F91: 22.5 | G91: 60 | H91: 1.25 | I91: 2.475 | J91: 81.3 | K91: =F91 -> 22.5 | L91: =G91 -> 60 | M91: =H91 -> 1.25 | N91: =I91 -> 2.475 | O91: =K91+L91+M91-N91 -> 81.275 | P91: =IF(AND($O91>=90,$O91<=100),"Xuất sắc",IF(AND($O91>=75,$O91<90),"Tốt",IF(AND($O91>=50,$O91<75),"Hoàn thành",IF(AND($O91<50,$O91>0),"Không hoàn thành",IF($O91=0,"Không đánh giá",""))))) -> Tốt | T91: =COUNTIF(Q91:S91,"B")+COUNTIF(Q91:S91,"C")*2 -> 0 | U91: =+COUNTIF(Q91:S91,"D") -> 0 | V91: =IF(U91>=1,"Không hoàn thành",IF(AND($O91>=90,$O91<100,T91=0),"Xuất sắc",IF(AND($O91>=90,$O91<100,T91=1),"Tốt",IF(AND($O91>=90,$O91<100,T91=2),"Hoàn thành",IF(AND($O91>=90,$O91<100,T91>=3),"Không hoàn thành",IF(AND($O91>=75,$O91<90,T91=0),"Tốt",IF(AND($O91>=75,$O91<90,T91=1),"Hoàn thành",IF(AND($O91>=75,$O91<90,T91>=2),"Không hoàn thành",IF(AND($O91>=50,$O91<75,T91=0),"Hoàn thành",IF(AND($O91>=50,$O91<=75,T91>=1),"Không hoàn thành",IF(AND($O91>0,$O91<50),"Không hoàn thành",IF($O91=0,"Không đánh giá","")))))))))))) -> Tốt | X91: =IF(AND($J91>=90,$J91<=100),"X",IF($J91<90,"","")) | Z91: =IF(AND($J91>=75,$J91<90),"X",IF($J91<75,"","")) -> X | AB91: =IF(AND($J91>=50,$J91<75),"X",IF($J91<50,"","")) | AD91: =IF($J91<50,"X","") | AH91: =IF($V91="Xuất sắc","X","") | AJ91: =IF($V91="Tốt","X","") -> X | AL91: =IF($V91="Hoàn thành","X","") | AN91: =IF($V91="Không hoàn thành","X","") | AP91: =IF($V91="Không đánh giá","X","")
A92: 6 | B92: Giáp Văn | C92: Thịnh | D92: 11100115709 | E92: 95 | F92: 33 | G92: 60 | H92: 0.25 | J92: 93.3 | K92: =F92 -> 33 | L92: =G92 -> 60 | M92: =H92 -> 0.25 | N92: =I92 -> 0 | O92: =K92+L92+M92-N92 -> 93.25 | P92: =IF(AND($O92>=90,$O92<=100),"Xuất sắc",IF(AND($O92>=75,$O92<90),"Tốt",IF(AND($O92>=50,$O92<75),"Hoàn thành",IF(AND($O92<50,$O92>0),"Không hoàn thành",IF($O92=0,"Không đánh giá",""))))) -> Xuất sắc | T92: =COUNTIF(Q92:S92,"B")+COUNTIF(Q92:S92,"C")*2 -> 0 | U92: =+COUNTIF(Q92:S92,"D") -> 0 | V92: =IF(U92>=1,"Không hoàn thành",IF(AND($O92>=90,$O92<100,T92=0),"Xuất sắc",IF(AND($O92>=90,$O92<100,T92=1),"Tốt",IF(AND($O92>=90,$O92<100,T92=2),"Hoàn thành",IF(AND($O92>=90,$O92<100,T92>=3),"Không hoàn thành",IF(AND($O92>=75,$O92<90,T92=0),"Tốt",IF(AND($O92>=75,$O92<90,T92=1),"Hoàn thành",IF(AND($O92>=75,$O92<90,T92>=2),"Không hoàn thành",IF(AND($O92>=50,$O92<75,T92=0),"Hoàn thành",IF(AND($O92>=50,$O92<=75,T92>=1),"Không hoàn thành",IF(AND($O92>0,$O92<50),"Không hoàn thành",IF($O92=0,"Không đánh giá","")))))))))))) -> Xuất sắc | X92: =IF(AND($J92>=90,$J92<=100),"X",IF($J92<90,"","")) -> X | Z92: =IF(AND($J92>=75,$J92<90),"X",IF($J92<75,"","")) | AB92: =IF(AND($J92>=50,$J92<75),"X",IF($J92<50,"","")) | AD92: =IF($J92<50,"X","") | AH92: =IF($V92="Xuất sắc","X","") -> X | AJ92: =IF($V92="Tốt","X","") | AL92: =IF($V92="Hoàn thành","X","") | AN92: =IF($V92="Không hoàn thành","X","") | AP92: =IF($V92="Không đánh giá","X","")
A93: 7 | B93: Vũ Ngọc | C93: Quang | D93: 11100083308 | E93: 95 | F93: 32 | G93: 50 | H93: 0.5 | J93: 82.5 | K93: =F93 -> 32 | L93: =G93 -> 50 | M93: =H93 -> 0.5 | N93: =I93 -> 0 | O93: =K93+L93+M93-N93 -> 82.5 | P93: =IF(AND($O93>=90,$O93<=100),"Xuất sắc",IF(AND($O93>=75,$O93<90),"Tốt",IF(AND($O93>=50,$O93<75),"Hoàn thành",IF(AND($O93<50,$O93>0),"Không hoàn thành",IF($O93=0,"Không đánh giá",""))))) -> Tốt | T93: =COUNTIF(Q93:S93,"B")+COUNTIF(Q93:S93,"C")*2 -> 0 | U93: =+COUNTIF(Q93:S93,"D") -> 0 | V93: =IF(U93>=1,"Không hoàn thành",IF(AND($O93>=90,$O93<100,T93=0),"Xuất sắc",IF(AND($O93>=90,$O93<100,T93=1),"Tốt",IF(AND($O93>=90,$O93<100,T93=2),"Hoàn thành",IF(AND($O93>=90,$O93<100,T93>=3),"Không hoàn thành",IF(AND($O93>=75,$O93<90,T93=0),"Tốt",IF(AND($O93>=75,$O93<90,T93=1),"Hoàn thành",IF(AND($O93>=75,$O93<90,T93>=2),"Không hoàn thành",IF(AND($O93>=50,$O93<75,T93=0),"Hoàn thành",IF(AND($O93>=50,$O93<=75,T93>=1),"Không hoàn thành",IF(AND($O93>0,$O93<50),"Không hoàn thành",IF($O93=0,"Không đánh giá","")))))))))))) -> Tốt | X93: =IF(AND($J93>=90,$J93<=100),"X",IF($J93<90,"","")) | Z93: =IF(AND($J93>=75,$J93<90),"X",IF($J93<75,"","")) -> X | AB93: =IF(AND($J93>=50,$J93<75),"X",IF($J93<50,"","")) | AD93: =IF($J93<50,"X","") | AH93: =IF($V93="Xuất sắc","X","") | AJ93: =IF($V93="Tốt","X","") -> X | AL93: =IF($V93="Hoàn thành","X","") | AN93: =IF($V93="Không hoàn thành","X","") | AP93: =IF($V93="Không đánh giá","X","")
A94: 8 | B94: Lê Hồng Anh | C94: Tuấn | D94: 40900000037 | E94: 95 | F94: 35 | G94: 50 | H94: 0.5 | J94: 85.5 | K94: =F94 -> 35 | L94: =G94 -> 50 | M94: =H94 -> 0.5 | N94: =I94 -> 0 | O94: =K94+L94+M94-N94 -> 85.5 | P94: =IF(AND($O94>=90,$O94<=100),"Xuất sắc",IF(AND($O94>=75,$O94<90),"Tốt",IF(AND($O94>=50,$O94<75),"Hoàn thành",IF(AND($O94<50,$O94>0),"Không hoàn thành",IF($O94=0,"Không đánh giá",""))))) -> Tốt | T94: =COUNTIF(Q94:S94,"B")+COUNTIF(Q94:S94,"C")*2 -> 0 | U94: =+COUNTIF(Q94:S94,"D") -> 0 | V94: =IF(U94>=1,"Không hoàn thành",IF(AND($O94>=90,$O94<100,T94=0),"Xuất sắc",IF(AND($O94>=90,$O94<100,T94=1),"Tốt",IF(AND($O94>=90,$O94<100,T94=2),"Hoàn thành",IF(AND($O94>=90,$O94<100,T94>=3),"Không hoàn thành",IF(AND($O94>=75,$O94<90,T94=0),"Tốt",IF(AND($O94>=75,$O94<90,T94=1),"Hoàn thành",IF(AND($O94>=75,$O94<90,T94>=2),"Không hoàn thành",IF(AND($O94>=50,$O94<75,T94=0),"Hoàn thành",IF(AND($O94>=50,$O94<=75,T94>=1),"Không hoàn thành",IF(AND($O94>0,$O94<50),"Không hoàn thành",IF($O94=0,"Không đánh giá","")))))))))))) -> Tốt | X94: =IF(AND($J94>=90,$J94<=100),"X",IF($J94<90,"","")) | Z94: =IF(AND($J94>=75,$J94<90),"X",IF($J94<75,"","")) -> X | AB94: =IF(AND($J94>=50,$J94<75),"X",IF($J94<50,"","")) | AD94: =IF($J94<50,"X","") | AH94: =IF($V94="Xuất sắc","X","") | AJ94: =IF($V94="Tốt","X","") -> X | AL94: =IF($V94="Hoàn thành","X","") | AN94: =IF($V94="Không hoàn thành","X","") | AP94: =IF($V94="Không đánh giá","X","")
A95: 9 | B95: Ninh Đỗ | C95: Hiệp | D95: 11100115706 | E95: 84 | F95: 34 | G95: 60 | H95: 1.25 | I95: 2.58 | J95: 92.7 | K95: =F95 -> 34 | L95: =G95 -> 60 | M95: =H95 -> 1.25 | N95: =I95 -> 2.58 | O95: =K95+L95+M95-N95 -> 92.67 | P95: =IF(AND($O95>=90,$O95<=100),"Xuất sắc",IF(AND($O95>=75,$O95<90),"Tốt",IF(AND($O95>=50,$O95<75),"Hoàn thành",IF(AND($O95<50,$O95>0),"Không hoàn thành",IF($O95=0,"Không đánh giá",""))))) -> Xuất sắc | T95: =COUNTIF(Q95:S95,"B")+COUNTIF(Q95:S95,"C")*2 -> 0 | U95: =+COUNTIF(Q95:S95,"D") -> 0 | V95: =IF(U95>=1,"Không hoàn thành",IF(AND($O95>=90,$O95<100,T95=0),"Xuất sắc",IF(AND($O95>=90,$O95<100,T95=1),"Tốt",IF(AND($O95>=90,$O95<100,T95=2),"Hoàn thành",IF(AND($O95>=90,$O95<100,T95>=3),"Không hoàn thành",IF(AND($O95>=75,$O95<90,T95=0),"Tốt",IF(AND($O95>=75,$O95<90,T95=1),"Hoàn thành",IF(AND($O95>=75,$O95<90,T95>=2),"Không hoàn thành",IF(AND($O95>=50,$O95<75,T95=0),"Hoàn thành",IF(AND($O95>=50,$O95<=75,T95>=1),"Không hoàn thành",IF(AND($O95>0,$O95<50),"Không hoàn thành",IF($O95=0,"Không đánh giá","")))))))))))) -> Xuất sắc | X95: =IF(AND($J95>=90,$J95<=100),"X",IF($J95<90,"","")) -> X | Z95: =IF(AND($J95>=75,$J95<90),"X",IF($J95<75,"","")) | AB95: =IF(AND($J95>=50,$J95<75),"X",IF($J95<50,"","")) | AD95: =IF($J95<50,"X","") | AH95: =IF($V95="Xuất sắc","X","") -> X | AJ95: =IF($V95="Tốt","X","") | AL95: =IF($V95="Hoàn thành","X","") | AN95: =IF($V95="Không hoàn thành","X","") | AP95: =IF($V95="Không đánh giá","X","")
A96: 10 | B96: Nguyễn Tiến Việt | C96: Dũng | D96: 40800000301 | E96: 75 | F96: 32 | G96: 60 | H96: 0.5 | J96: 92.5 | K96: =F96 -> 32 | L96: =G96 -> 60 | M96: =H96 -> 0.5 | N96: =I96 -> 0 | O96: =K96+L96+M96-N96 -> 92.5 | P96: =IF(AND($O96>=90,$O96<=100),"Xuất sắc",IF(AND($O96>=75,$O96<90),"Tốt",IF(AND($O96>=50,$O96<75),"Hoàn thành",IF(AND($O96<50,$O96>0),"Không hoàn thành",IF($O96=0,"Không đánh giá",""))))) -> Xuất sắc | T96: =COUNTIF(Q96:S96,"B")+COUNTIF(Q96:S96,"C")*2 -> 0 | U96: =+COUNTIF(Q96:S96,"D") -> 0 | V96: =IF(U96>=1,"Không hoàn thành",IF(AND($O96>=90,$O96<100,T96=0),"Xuất sắc",IF(AND($O96>=90,$O96<100,T96=1),"Tốt",IF(AND($O96>=90,$O96<100,T96=2),"Hoàn thành",IF(AND($O96>=90,$O96<100,T96>=3),"Không hoàn thành",IF(AND($O96>=75,$O96<90,T96=0),"Tốt",IF(AND($O96>=75,$O96<90,T96=1),"Hoàn thành",IF(AND($O96>=75,$O96<90,T96>=2),"Không hoàn thành",IF(AND($O96>=50,$O96<75,T96=0),"Hoàn thành",IF(AND($O96>=50,$O96<=75,T96>=1),"Không hoàn thành",IF(AND($O96>0,$O96<50),"Không hoàn thành",IF($O96=0,"Không đánh giá","")))))))))))) -> Xuất sắc | X96: =IF(AND($J96>=90,$J96<=100),"X",IF($J96<90,"","")) -> X | Z96: =IF(AND($J96>=75,$J96<90),"X",IF($J96<75,"","")) | AB96: =IF(AND($J96>=50,$J96<75),"X",IF($J96<50,"","")) | AD96: =IF($J96<50,"X","") | AH96: =IF($V96="Xuất sắc","X","") -> X | AJ96: =IF($V96="Tốt","X","") | AL96: =IF($V96="Hoàn thành","X","") | AN96: =IF($V96="Không hoàn thành","X","") | AP96: =IF($V96="Không đánh giá","X","")
A97: 11 | B97: Nguyễn Cao | C97: Thắng | D97: 80600000454 | E97: 95 | F97: 36 | G97: 60 | H97: 0.75 | J97: 96.8 | K97: =F97 -> 36 | L97: =G97 -> 60 | M97: =H97 -> 0.75 | N97: =I97 -> 0 | O97: =K97+L97+M97-N97 -> 96.75 | P97: =IF(AND($O97>=90,$O97<=100),"Xuất sắc",IF(AND($O97>=75,$O97<90),"Tốt",IF(AND($O97>=50,$O97<75),"Hoàn thành",IF(AND($O97<50,$O97>0),"Không hoàn thành",IF($O97=0,"Không đánh giá",""))))) -> Xuất sắc | T97: =COUNTIF(Q97:S97,"B")+COUNTIF(Q97:S97,"C")*2 -> 0 | U97: =+COUNTIF(Q97:S97,"D") -> 0 | V97: =IF(U97>=1,"Không hoàn thành",IF(AND($O97>=90,$O97<100,T97=0),"Xuất sắc",IF(AND($O97>=90,$O97<100,T97=1),"Tốt",IF(AND($O97>=90,$O97<100,T97=2),"Hoàn thành",IF(AND($O97>=90,$O97<100,T97>=3),"Không hoàn thành",IF(AND($O97>=75,$O97<90,T97=0),"Tốt",IF(AND($O97>=75,$O97<90,T97=1),"Hoàn thành",IF(AND($O97>=75,$O97<90,T97>=2),"Không hoàn thành",IF(AND($O97>=50,$O97<75,T97=0),"Hoàn thành",IF(AND($O97>=50,$O97<=75,T97>=1),"Không hoàn thành",IF(AND($O97>0,$O97<50),"Không hoàn thành",IF($O97=0,"Không đánh giá","")))))))))))) -> Xuất sắc | X97: =IF(AND($J97>=90,$J97<=100),"X",IF($J97<90,"","")) -> X | Z97: =IF(AND($J97>=75,$J97<90),"X",IF($J97<75,"","")) | AB97: =IF(AND($J97>=50,$J97<75),"X",IF($J97<50,"","")) | AD97: =IF($J97<50,"X","") | AH97: =IF($V97="Xuất sắc","X","") -> X | AJ97: =IF($V97="Tốt","X","") | AL97: =IF($V97="Hoàn thành","X","") | AN97: =IF($V97="Không hoàn thành","X","") | AP97: =IF($V97="Không đánh giá","X","")
A98: 12 | B98: Bùi Thị | C98: Dương | D98: 11100115717 | E98: 77 | F98: 28 | G98: 50 | H98: 0.5 | J98: 78.5 | K98: =F98 -> 28 | L98: =G98 -> 50 | M98: =H98 -> 0.5 | N98: =I98 -> 0 | O98: =K98+L98+M98-N98 -> 78.5 | P98: =IF(AND($O98>=90,$O98<=100),"Xuất sắc",IF(AND($O98>=75,$O98<90),"Tốt",IF(AND($O98>=50,$O98<75),"Hoàn thành",IF(AND($O98<50,$O98>0),"Không hoàn thành",IF($O98=0,"Không đánh giá",""))))) -> Tốt | R98: B | T98: =COUNTIF(Q98:S98,"B")+COUNTIF(Q98:S98,"C")*2 -> 1 | U98: =+COUNTIF(Q98:S98,"D") -> 0 | V98: =IF(U98>=1,"Không hoàn thành",IF(AND($O98>=90,$O98<100,T98=0),"Xuất sắc",IF(AND($O98>=90,$O98<100,T98=1),"Tốt",IF(AND($O98>=90,$O98<100,T98=2),"Hoàn thành",IF(AND($O98>=90,$O98<100,T98>=3),"Không hoàn thành",IF(AND($O98>=75,$O98<90,T98=0),"Tốt",IF(AND($O98>=75,$O98<90,T98=1),"Hoàn thành",IF(AND($O98>=75,$O98<90,T98>=2),"Không hoàn thành",IF(AND($O98>=50,$O98<75,T98=0),"Hoàn thành",IF(AND($O98>=50,$O98<=75,T98>=1),"Không hoàn thành",IF(AND($O98>0,$O98<50),"Không hoàn thành",IF($O98=0,"Không đánh giá","")))))))))))) -> Hoàn thành | W98: Thi đua tháng 8/2020 xếp loại B | X98: =IF(AND($J98>=90,$J98<=100),"X",IF($J98<90,"","")) | Z98: =IF(AND($J98>=75,$J98<90),"X",IF($J98<75,"","")) -> X | AB98: =IF(AND($J98>=50,$J98<75),"X",IF($J98<50,"","")) | AD98: =IF($J98<50,"X","") | AH98: =IF($V98="Xuất sắc","X","") | AJ98: =IF($V98="Tốt","X","") | AL98: =IF($V98="Hoàn thành","X","") -> X | AN98: =IF($V98="Không hoàn thành","X","") | AP98: =IF($V98="Không đánh giá","X","")
A99: 13 | B99: Hà Nhật | C99: Thanh | D99: 11100000741 | E99: 94 | F99: 33 | G99: 50 | H99: 0 | J99: 83 | K99: =F99 -> 33 | L99: =G99 -> 50 | M99: =H99 -> 0 | N99: =I99 -> 0 | O99: =K99+L99+M99-N99 -> 83 | P99: =IF(AND($O99>=90,$O99<=100),"Xuất sắc",IF(AND($O99>=75,$O99<90),"Tốt",IF(AND($O99>=50,$O99<75),"Hoàn thành",IF(AND($O99<50,$O99>0),"Không hoàn thành",IF($O99=0,"Không đánh giá",""))))) -> Tốt | T99: =COUNTIF(Q99:S99,"B")+COUNTIF(Q99:S99,"C")*2 -> 0 | U99: =+COUNTIF(Q99:S99,"D") -> 0 | V99: =IF(U99>=1,"Không hoàn thành",IF(AND($O99>=90,$O99<100,T99=0),"Xuất sắc",IF(AND($O99>=90,$O99<100,T99=1),"Tốt",IF(AND($O99>=90,$O99<100,T99=2),"Hoàn thành",IF(AND($O99>=90,$O99<100,T99>=3),"Không hoàn thành",IF(AND($O99>=75,$O99<90,T99=0),"Tốt",IF(AND($O99>=75,$O99<90,T99=1),"Hoàn thành",IF(AND($O99>=75,$O99<90,T99>=2),"Không hoàn thành",IF(AND($O99>=50,$O99<75,T99=0),"Hoàn thành",IF(AND($O99>=50,$O99<=75,T99>=1),"Không hoàn thành",IF(AND($O99>0,$O99<50),"Không hoàn thành",IF($O99=0,"Không đánh giá","")))))))))))) -> Tốt | X99: =IF(AND($J99>=90,$J99<=100),"X",IF($J99<90,"","")) | Z99: =IF(AND($J99>=75,$J99<90),"X",IF($J99<75,"","")) -> X | AB99: =IF(AND($J99>=50,$J99<75),"X",IF($J99<50,"","")) | AD99: =IF($J99<50,"X","") | AH99: =IF($V99="Xuất sắc","X","") | AJ99: =IF($V99="Tốt","X","") -> X | AL99: =IF($V99="Hoàn thành","X","") | AN99: =IF($V99="Không hoàn thành","X","") | AP99: =IF($V99="Không đánh giá","X","")
A100: b | B100: Viên chức tập sự | X100: =COUNTIF(X101:X101,"x") -> 1 | Y100: =X100/($X100+$Z100+$AB100+$AD100+$AF100) -> 1 | Z100: =COUNTIF(Z101:Z101,"x") -> 0 | AA100: =Z100/($X100+$Z100+$AB100+$AD100+$AF100) -> 0 | AB100: =COUNTIF(AB101:AB101,"x") -> 0 | AC100: =AB100/($X100+$Z100+$AB100+$AD100+$AF100) -> 0 | AD100: =COUNTIF(AD101:AD101,"x") -> 0 | AE100: =AD100/($X100+$Z100+$AB100+$AD100+$AF100) -> 0 | AF100: =COUNTIF(AF101:AF101,"x") -> 0 | AG100: =AF100/($X100+$Z100+$AB100+$AD100+$AF100) -> 0 | AH100: =COUNTIF(AH101:AH101,"x") -> 1 | AI100: =AH100/($X100+$Z100+$AB100+$AD100+$AF100) -> 1 | AJ100: =COUNTIF(AJ101:AJ101,"x") -> 0 | AK100: =AJ100/($X100+$Z100+$AB100+$AD100+$AF100) -> 0 | AL100: =COUNTIF(AL101:AL101,"x") -> 0 | AM100: =AL100/($X100+$Z100+$AB100+$AD100+$AF100) -> 0 | AN100: =COUNTIF(AN101:AN101,"x") -> 0 | AO100: =AN100/($X100+$Z100+$AB100+$AD100+$AF100) -> 0 | AP100: =COUNTIF(AP101:AP101,"x") -> 0 | AQ100: =AP100/($X100+$Z100+$AB100+$AD100+$AF100) -> 0
A101: =A99+1 -> 14 | B101: Võ Tấn | C101: Kiệt | D101: 91100000342 | E101: 96 | F101: 36 | G101: 60 | H101: 0.25 | J101: 96.3 | K101: =F101 -> 36 | L101: =G101 -> 60 | M101: =H101 -> 0.25 | N101: =I101 -> 0 | O101: =K101+L101+M101-N101 -> 96.25 | P101: =IF(AND($O101>=90,$O101<=100),"Xuất sắc",IF(AND($O101>=75,$O101<90),"Tốt",IF(AND($O101>=50,$O101<75),"Hoàn thành",IF(AND($O101<50,$O101>0),"Không hoàn thành",IF($O101=0,"Không đánh giá",""))))) -> Xuất sắc | T101: =COUNTIF(Q101:S101,"B")+COUNTIF(Q101:S101,"C")*2 -> 0 | U101: =+COUNTIF(Q101:S101,"D") -> 0 | V101: =IF(U101>=1,"Không hoàn thành",IF(AND($O101>=90,$O101<100,T101=0),"Xuất sắc",IF(AND($O101>=90,$O101<100,T101=1),"Tốt",IF(AND($O101>=90,$O101<100,T101=2),"Hoàn thành",IF(AND($O101>=90,$O101<100,T101>=3),"Không hoàn thành",IF(AND($O101>=75,$O101<90,T101=0),"Tốt",IF(AND($O101>=75,$O101<90,T101=1),"Hoàn thành",IF(AND($O101>=75,$O101<90,T101>=2),"Không hoàn thành",IF(AND($O101>=50,$O101<75,T101=0),"Hoàn thành",IF(AND($O101>=50,$O101<=75,T101>=1),"Không hoàn thành",IF(AND($O101>0,$O101<50),"Không hoàn thành",IF($O101=0,"Không đánh giá","")))))))))))) -> Xuất sắc | X101: =IF(AND($J101>=90,$J101<=100),"X",IF($J101<90,"","")) -> X | Z101: =IF(AND($J101>=75,$J101<90),"X",IF($J101<75,"","")) | AB101: =IF(AND($J101>=50,$J101<75),"X",IF($J101<50,"","")) | AD101: =IF($J101<50,"X","") | AH101: =IF($V101="Xuất sắc","X","") -> X | AJ101: =IF($V101="Tốt","X","") | AL101: =IF($V101="Hoàn thành","X","") | AN101: =IF($V101="Không hoàn thành","X","") | AP101: =IF($V101="Không đánh giá","X","")
A102: c | B102: Hợp đồng Sở | X102: =COUNTIF(X103:X104,"x") -> 0 | Y102: =X102/($X102+$Z102+$AB102+$AD102+$AF102) -> 0 | Z102: =COUNTIF(Z103:Z104,"x") -> 1 | AA102: =Z102/($X102+$Z102+$AB102+$AD102+$AF102) -> 1 | AB102: =COUNTIF(AB103:AB104,"x") -> 0 | AC102: =AB102/($X102+$Z102+$AB102+$AD102+$AF102) -> 0 | AD102: =COUNTIF(AD103:AD104,"x") -> 0 | AE102: =AD102/($X102+$Z102+$AB102+$AD102+$AF102) -> 0 | AF102: =COUNTIF(AF103:AF104,"x") -> 0 | AG102: =AF102/($X102+$Z102+$AB102+$AD102+$AF102) -> 0 | AH102: =COUNTIF(AH103:AH104,"x") -> 0 | AI102: =AH102/($X102+$Z102+$AB102+$AD102+$AF102) -> 0 | AJ102: =COUNTIF(AJ103:AJ104,"x") -> 0 | AK102: =AJ102/($X102+$Z102+$AB102+$AD102+$AF102) -> 0 | AL102: =COUNTIF(AL103:AL104,"x") -> 1 | AM102: =AL102/($X102+$Z102+$AB102+$AD102+$AF102) -> 1 | AN102: =COUNTIF(AN103:AN104,"x") -> 0 | AO102: =AN102/($X102+$Z102+$AB102+$AD102+$AF102) -> 0 | AP102: =COUNTIF(AP103:AP104,"x") -> 0 | AQ102: =AP102/($X102+$Z102+$AB102+$AD102+$AF102) -> 0
...

Sheet Tổng hợp tỷ lệ
D1: BẢNG TỔNG HỢP TỶ LỆ ĐÁNH GIÁ XẾP LOẠI CỦA CÁC ĐƠN VỊ ĐÁNH GIÁ | N1: BẢNG TỔNG HỢP TỶ LỆ ĐÁNH GIÁ XẾP LOẠI CỦA HỘI ĐỒNG ĐÁNH GIÁ
A3: Stt | B3: Tên đơn vị | C3: Tổng số người đánh giá | D3: Hoàn thành xuất sắc nhiệm vụ | F3: Hoàn thành tốt nhiệm vụ | H3: Hoàn thành nhiệm vụ hoặc hoàn thành nhiệm vụ nhưng còn hạn chế về năng lực | J3: Không hoàn thành nhiệm vụ | L3: Không xếp loại | N3: Hoàn thành xuất sắc nhiệm vụ | P3: Hoàn thành tốt nhiệm vụ | R3: Hoàn thành nhiệm vụ hoặc hoàn thành nhiệm vụ nhưng còn hạn chế về năng lực | T3: Không hoàn thành nhiệm vụ | V3: Không xếp loại
D4: SL | E4: Tỷ lệ | F4: SL | G4: Tỷ lệ | H4: SL | I4: Tỷ lệ | J4: SL | K4: Tỷ lệ | L4: SL | M4: Tỷ lệ | N4: SL | O4: Tỷ lệ | P4: SL | Q4: Tỷ lệ | R4: SL | S4: Tỷ lệ | T4: SL | U4: Tỷ lệ | V4: SL | W4: Tỷ lệ
A5: 01 | B5: Ban Giám hiệu | C5: =D5+F5+H5+J5+L5 -> 4 | D5: ='Mau 4B'!X9 -> 3 | F5: ='Mau 4B'!Z9 -> 0 | H5: ='Mau 4B'!AB9 -> 0 | J5: ='Mau 4B'!AD9 -> 0 | L5: ='Mau 4B'!AF9 -> 1 | N5: ='Mau 4B'!AH9 -> 3 | P5: ='Mau 4B'!AJ9 -> 0 | R5: ='Mau 4B'!AL9 -> 0 | T5: ='Mau 4B'!AN9 -> 0 | V5: ='Mau 4B'!AP9 -> 1
A6: 02 | B6: Phòng Tổ chức - Hành chính - Tổng hợp | C6: =D6+F6+H6+J6+L6 -> 25 | D6: ='Mau 4B'!X14 -> 15 | E6: ='Mau 4B'!Y14 -> 0.6 | F6: ='Mau 4B'!Z14 -> 10 | G6: ='Mau 4B'!AA14 -> 0.4 | H6: ='Mau 4B'!AB14 -> 0 | I6: ='Mau 4B'!AC14 -> 0 | J6: ='Mau 4B'!AD14 -> 0 | K6: ='Mau 4B'!AE14 -> 0 | ... W6: ='Mau 4B'!AQ14 -> 0
A7: 03 | B7: Phòng Công tác Chính trị - Học sinh Sinh viên | C7: =D7+F7+H7+J7+L7 -> 15 | D7: ='Mau 4B'!X43 -> 9 | E7: ='Mau 4B'!Y43 -> 0.6 | F7: ='Mau 4B'!Z43 -> 6 | G7: ='Mau 4B'!AA43 -> 0.4 | H7: ='Mau 4B'!AB43 -> 0 | I7: ='Mau 4B'!AC43 -> 0 | J7: ='Mau 4B'!AD43 -> 0 | K7: ='Mau 4B'!AE43 -> 0 | ... W7: ='Mau 4B'!AQ43 -> 0
A8: 04 | B8: Phòng Khảo thí và Đảm bảo chất lượng | C8: =D8+F8+H8+J8+L8 -> 8 | D8: ='Mau 4B'!X62 -> 4 | E8: ='Mau 4B'!Y62 -> 0.5 | F8: ='Mau 4B'!Z62 -> 4 | G8: ='Mau 4B'!AA62 -> 0.5 | H8: ='Mau 4B'!AB62 -> 0 | I8: ='Mau 4B'!AC62 -> 0 | J8: ='Mau 4B'!AD62 -> 0 | K8: ='Mau 4B'!AE62 -> 0 | ... W8: ='Mau 4B'!AQ62 -> 0
A9: 05 | B9: Phòng Kế hoạch - Tài chính | C9: =D9+F9+H9+J9+L9 -> 9 | D9: ='Mau 4B'!X73 -> 6 | E9: ='Mau 4B'!Y73 -> 0.66666667 | F9: ='Mau 4B'!Z73 -> 3 | G9: ='Mau 4B'!AA73 -> 0.33333333 | H9: ='Mau 4B'!AB73 -> 0 | I9: ='Mau 4B'!AC73 -> 0 | J9: ='Mau 4B'!AD73 -> 0 | K9: ='Mau 4B'!AE73 -> 0 | ... W9: ='Mau 4B'!AQ73 -> 0
A10: 06 | B10: Phòng Quản trị - Dịch vụ | C10: =D10+F10+H10+J10+L10 -> 30 | D10: ='Mau 4B'!X85 -> 10 | E10: ='Mau 4B'!Y85 -> 0.33333333 | F10: ='Mau 4B'!Z85 -> 20 | G10: ='Mau 4B'!AA85 -> 0.66666667 | H10: ='Mau 4B'!AB85 -> 0 | I10: ='Mau 4B'!AC85 -> 0 | J10: ='Mau 4B'!AD85 -> 0 | K10: ='Mau 4B'!AE85 -> 0 | ... W10: ='Mau 4B'!AQ85 -> 0
A11: 07 | B11: Phòng Tuyển sinh - Đào tạo | C11: =D11+F11+H11+J11+L11 -> 16 | D11: ='Mau 4B'!X120 -> 12 | E11: ='Mau 4B'!Y120 -> 0.75 | F11: ='Mau 4B'!Z120 -> 4 | G11: ='Mau 4B'!AA120 -> 0.25 | H11: ='Mau 4B'!AB120 -> 0 | I11: ='Mau 4B'!AC120 -> 0 | J11: ='Mau 4B'!AD120 -> 0 | K11: ='Mau 4B'!AE120 -> 0 | ... W11: ='Mau 4B'!AQ120 -> 0
A12: 08 | B12: Phòng Quản lý khoa học - Hợp tác quốc tế | C12: =D12+F12+H12+J12+L12 -> 4 | D12: ='Mau 4B'!X139 -> 1 | E12: ='Mau 4B'!Y139 -> 0.25 | F12: ='Mau 4B'!Z139 -> 3 | G12: ='Mau 4B'!AA139 -> 0.75 | H12: ='Mau 4B'!AB139 -> 0 | I12: ='Mau 4B'!AC139 -> 0 | J12: ='Mau 4B'!AD139 -> 0 | K12: ='Mau 4B'!AE139 -> 0 | ... W12: ='Mau 4B'!AQ139 -> 0
A13: 09 | B13: Tổ Thanh tra - Pháp chế | C13: =D13+F13+H13+J13+L13 -> #REF! | D13: ='Mau 4B'!#REF! -> #REF! | E13: ='Mau 4B'!#REF! -> #REF! | F13: ='Mau 4B'!#REF! -> #REF! | G13: ='Mau 4B'!#REF! -> #REF! | H13: ='Mau 4B'!#REF! -> #REF! | I13: ='Mau 4B'!#REF! -> #REF! | J13: ='Mau 4B'!#REF! -> #REF! | K13: ='Mau 4B'!#REF! -> #REF! | ... W13: ='Mau 4B'!#REF! -> #REF!
A14: 10 | B14: Trung tâm Quan hệ doanh nghiệp | C14: =D14+F14+H14+J14+L14 -> 2 | D14: ='Mau 4B'!X146 -> 2 | E14: ='Mau 4B'!Y146 -> 1 | F14: ='Mau 4B'!Z146 -> 0 | G14: ='Mau 4B'!AA146 -> 0 | H14: ='Mau 4B'!AB146 -> 0 | I14: ='Mau 4B'!AC146 -> 0 | J14: ='Mau 4B'!AD146 -> 0 | K14: ='Mau 4B'!AE146 -> 0 | ... W14: ='Mau 4B'!AQ146 -> 0
A15: 11 | B15: Trung tâm điều hành và quản lý dữ liệu | C15: =D15+F15+H15+J15+L15 -> 5 | D15: ='Mau 4B'!X150 -> 2 | E15: ='Mau 4B'!Y150 -> 0.4 | F15: ='Mau 4B'!Z150 -> 3 | G15: ='Mau 4B'!AA150 -> 0.6 | H15: ='Mau 4B'!AB150 -> 0 | I15: ='Mau 4B'!AC150 -> 0 | J15: ='Mau 4B'!AD150 -> 0 | K15: ='Mau 4B'!AE150 -> 0 | ... W15: ='Mau 4B'!AQ150 -> 0
A16: 12 | B16: Trung tâm Y tế | C16: =D16+F16+H16+J16+L16 -> 3 | D16: ='Mau 4B'!X158 -> 3 | E16: ='Mau 4B'!Y158 -> 1 | F16: ='Mau 4B'!Z158 -> 0 | G16: ='Mau 4B'!AA158 -> 0 | H16: ='Mau 4B'!AB158 -> 0 | I16: ='Mau 4B'!AC158 -> 0 | J16: ='Mau 4B'!AD158 -> 0 | K16: ='Mau 4B'!AE158 -> 0 | ... W16: ='Mau 4B'!AQ158 -> 0
A17: 13 | B17: Trung tâm Thư viện | C17: =D17+F17+H17+J17+L17 -> 6 | D17: ='Mau 4B'!X164 -> 2 | E17: ='Mau 4B'!Y164 -> 0.33333333 | F17: ='Mau 4B'!Z164 -> 4 | G17: ='Mau 4B'!AA164 -> 0.66666667 | H17: ='Mau 4B'!AB164 -> 0 | I17: ='Mau 4B'!AC164 -> 0 | J17: ='Mau 4B'!AD164 -> 0 | K17: ='Mau 4B'!AE164 -> 0 | ... W17: ='Mau 4B'!AQ164 -> 0
A18: 14 | B18: Trung tâm Đào tạo Lý Tự Trọng | C18: =D18+F18+H18+J18+L18 -> 3 | D18: ='Mau 4B'!X173 -> 0 | E18: ='Mau 4B'!Y173 -> 0 | F18: ='Mau 4B'!Z173 -> 3 | G18: ='Mau 4B'!AA173 -> 1 | H18: ='Mau 4B'!AB173 -> 0 | I18: ='Mau 4B'!AC173 -> 0 | J18: ='Mau 4B'!AD173 -> 0 | K18: ='Mau 4B'!AE173 -> 0 | ... W18: ='Mau 4B'!AQ173 -> 0
A19: 15 | B19: Khoa Khoa học cơ bản | C19: =D19+F19+H19+J19+L19 -> 33 | D19: ='Mau 4B'!X180 -> 10 | E19: ='Mau 4B'!Y180 -> 0.3030303 | F19: ='Mau 4B'!Z180 -> 23 | G19: ='Mau 4B'!AA180 -> 0.6969697 | H19: ='Mau 4B'!AB180 -> 0 | I19: ='Mau 4B'!AC180 -> 0 | J19: ='Mau 4B'!AD180 -> 0 | K19: ='Mau 4B'!AE180 -> 0 | ... W19: ='Mau 4B'!AQ180 -> 0
A20: 16 | B20: Khoa Lý luận Chính trị | C20: =D20+F20+H20+J20+L20 -> 16 | D20: ='Mau 4B'!X216 -> 6 | E20: ='Mau 4B'!Y216 -> 0.375 | F20: ='Mau 4B'!Z216 -> 10 | G20: ='Mau 4B'!AA216 -> 0.625 | H20: ='Mau 4B'!AB216 -> 0 | I20: ='Mau 4B'!AC216 -> 0 | J20: ='Mau 4B'!AD216 -> 0 | K20: ='Mau 4B'!AE216 -> 0 | ... W20: ='Mau 4B'!AQ216 -> 0
A21: 17 | B21: Khoa Công nghệ thông tin | C21: =D21+F21+H21+J21+L21 -> 26 | D21: ='Mau 4B'!X234 -> 11 | E21: ='Mau 4B'!Y234 -> 0.42307692 | F21: ='Mau 4B'!Z234 -> 14 | G21: ='Mau 4B'!AA234 -> 0.53846154 | H21: ='Mau 4B'!AB234 -> 0 | I21: ='Mau 4B'!AC234 -> 0 | J21: ='Mau 4B'!AD234 -> 1 | K21: ='Mau 4B'!AE234 -> 0.038461538 | ... W21: ='Mau 4B'!AQ234 -> 0
A22: 18 | B22: Khoa Công nghệ Cơ khí | C22: =D22+F22+H22+J22+L22 -> 27 | D22: ='Mau 4B'!X263 -> 12 | E22: ='Mau 4B'!Y263 -> 0.44444444 | F22: ='Mau 4B'!Z263 -> 15 | G22: ='Mau 4B'!AA263 -> 0.55555556 | H22: ='Mau 4B'!AB263 -> 0 | I22: ='Mau 4B'!AC263 -> 0 | J22: ='Mau 4B'!AD263 -> 0 | K22: ='Mau 4B'!AE263 -> 0 | ... W22: ='Mau 4B'!AQ263 -> 0
A23: 19 | B23: Khoa Công nghệ Điện - Điện tử | C23: =D23+F23+H23+J23+L23 -> 30 | D23: ='Mau 4B'!X292 -> 12 | E23: ='Mau 4B'!Y292 -> 0.4 | F23: ='Mau 4B'!Z292 -> 18 | G23: ='Mau 4B'!AA292 -> 0.6 | H23: ='Mau 4B'!AB292 -> 0 | I23: ='Mau 4B'!AC292 -> 0 | J23: ='Mau 4B'!AD292 -> 0 | K23: ='Mau 4B'!AE292 -> 0 | ... W23: ='Mau 4B'!AQ292 -> 0
A24: 20 | B24: Khoa Công nghệ Động lực | C24: =D24+F24+H24+J24+L24 -> 22 | D24: ='Mau 4B'!X324 -> 10 | E24: ='Mau 4B'!Y324 -> 0.45454545 | F24: ='Mau 4B'!Z324 -> 12 | G24: ='Mau 4B'!AA324 -> 0.54545455 | H24: ='Mau 4B'!AB324 -> 0 | I24: ='Mau 4B'!AC324 -> 0 | J24: ='Mau 4B'!AD324 -> 0 | K24: ='Mau 4B'!AE324 -> 0 | ... W24: ='Mau 4B'!AQ324 -> 0
A25: 21 | B25: Khoa Công nghệ Nhiệt - Lạnh | C25: =D25+F25+H25+J25+L25 -> 8 | D25: ='Mau 4B'!X350 -> 4 | E25: ='Mau 4B'!Y350 -> 0.5 | F25: ='Mau 4B'!Z350 -> 4 | G25: ='Mau 4B'!AA350 -> 0.5 | H25: ='Mau 4B'!AB350 -> 0 | I25: ='Mau 4B'!AC350 -> 0 | J25: ='Mau 4B'!AD350 -> 0 | K25: ='Mau 4B'!AE350 -> 0 | ... W25: ='Mau 4B'!AQ350 -> 0
A26: 22 | B26: Khoa Công nghệ May - Thời trang | C26: =D26+F26+H26+J26+L26 -> 10 | D26: ='Mau 4B'!X360 -> 5 | E26: ='Mau 4B'!Y360 -> 0.5 | F26: ='Mau 4B'!Z360 -> 5 | G26: ='Mau 4B'!AA360 -> 0.5 | H26: ='Mau 4B'!AB360 -> 0 | I26: ='Mau 4B'!AC360 -> 0 | J26: ='Mau 4B'!AD360 -> 0 | K26: ='Mau 4B'!AE360 -> 0 | ... W26: ='Mau 4B'!AQ360 -> 0
A27: 23 | B27: Khoa Kinh tế | C27: =D27+F27+H27+J27+L27 -> 13 | D27: ='Mau 4B'!X372 -> 8 | E27: ='Mau 4B'!Y372 -> 0.61538462 | F27: ='Mau 4B'!Z372 -> 5 | G27: ='Mau 4B'!AA372 -> 0.38461538 | H27: ='Mau 4B'!AB372 -> 0 | I27: ='Mau 4B'!AC372 -> 0 | J27: ='Mau 4B'!AD372 -> 0 | K27: ='Mau 4B'!AE372 -> 0 | ... W27: ='Mau 4B'!AQ372 -> 0
A28: 24 | B28: Khoa Xây dựng | C28: =D28+F28+H28+J28+L28 -> 3 | D28: ='Mau 4B'!X389 -> 2 | E28: ='Mau 4B'!Y389 -> 0.66666667 | F28: ='Mau 4B'!Z389 -> 1 | G28: ='Mau 4B'!AA389 -> 0.33333333 | H28: ='Mau 4B'!AB389 -> 0 | I28: ='Mau 4B'!AC389 -> 0 | J28: ='Mau 4B'!AD389 -> 0 | K28: ='Mau 4B'!AE389 -> 0 | ... W28: ='Mau 4B'!AQ389 -> 0
B29: TỔNG CỘNG | C29: =SUM(C5:C28) -> #REF! | D29: =SUM(D5:D28) -> #REF! | F29: =SUM(F5:F28) -> #REF! | H29: =SUM(H5:H28) -> #REF! | J29: =SUM(J5:J28) -> #REF! | L29: =SUM(L5:L28) -> #REF! | N29: =SUM(N5:N28) -> #REF! | P29: =SUM(P5:P28) -> #REF! | R29: =SUM(R5:R28) -> #REF! | T29: =SUM(T5:T28) -> #REF! | V29: =SUM(V5:V28) -> #REF!
B32: Phân loại mức độ hoàn thành nhiệm vụ | N32: Số lượng | P32: Tỷ lệ | R32: Số lượng | T32: Tỷ lệ
B33: Hoàn thành xuất sắc nhiệm vụ | N33: =N29 -> #REF! | P33: =N33/$N$38 -> #REF!
B34: Hoàn thành tốt nhiệm vụ | N34: =P29 -> #REF! | P34: =N34/$N$38 -> #REF!
B35: Hoàn thành nhiệm vụ (hoặc hoàn thành nhiệm vụ nhưng còn hạn chế về năng lực) | N35: =R29 -> #REF! | P35: =N35/$N$38 -> #REF!
B36: Không hoàn thành nhiệm vụ | N36: =T29 -> #REF! | P36: =N36/$N$38 -> #REF!
B37: Không đánh giá | N37: =V29 -> #REF! | P37: =N37/$N$38 -> #REF!
B38: TỔNG CC-VC-NLĐ | N38: =SUM(N33:N37) -> #REF!
B39: TỔNG VC

Sheet Tổng hợp tỷ lệ (2)
D1: BẢNG TỔNG HỢP TỶ LỆ ĐÁNH GIÁ XẾP LOẠI CỦA CÁC ĐƠN VỊ ĐÁNH GIÁ | N1: BẢNG TỔNG HỢP TỶ LỆ ĐÁNH GIÁ XẾP LOẠI CỦA HỘI ĐỒNG ĐÁNH GIÁ
A3: Stt | B3: Tên đơn vị | C3: Tổng số người đánh giá | D3: Hoàn thành xuất sắc nhiệm vụ | F3: Hoàn thành tốt nhiệm vụ | H3: Hoàn thành nhiệm vụ hoặc hoàn thành nhiệm vụ nhưng còn hạn chế về năng lực | J3: Không hoàn thành nhiệm vụ | L3: Không xếp loại | N3: Hoàn thành xuất sắc nhiệm vụ | P3: Hoàn thành tốt nhiệm vụ | R3: Hoàn thành nhiệm vụ hoặc hoàn thành nhiệm vụ nhưng còn hạn chế về năng lực | T3: Không hoàn thành nhiệm vụ | V3: Không xếp loại
D4: SL | E4: Tỷ lệ | F4: SL | G4: Tỷ lệ | H4: SL | I4: Tỷ lệ | J4: SL | K4: Tỷ lệ | L4: SL | M4: Tỷ lệ | N4: SL | O4: Tỷ lệ | P4: SL | Q4: Tỷ lệ | R4: SL | S4: Tỷ lệ | T4: SL | U4: Tỷ lệ | V4: SL | W4: Tỷ lệ
A5: 01 | B5: Ban Giám hiệu | C5: =N5+P5+R5+T5+V5 -> 4 | D5: ='Mau 4B'!X9 -> 3 | F5: ='Mau 4B'!Z9 -> 0 | H5: ='Mau 4B'!AB9 -> 0 | J5: ='Mau 4B'!AD9 -> 0 | L5: ='Mau 4B'!AF9 -> 1 | N5: ='Mau 4B'!AH9 -> 3 | P5: ='Mau 4B'!AJ9 -> 0 | R5: ='Mau 4B'!AL9 -> 0 | T5: ='Mau 4B'!AN9 -> 0 | V5: ='Mau 4B'!AP9 -> 1
A6: 02 | B6: Phòng Tổ chức - Hành chính - Tổng hợp | C6: =N6+P6+R6+T6+V6 -> 25 | D6: ='Mau 4B'!X14 -> 15 | E6: ='Mau 4B'!Y14 -> 0.6 | F6: ='Mau 4B'!Z14 -> 10 | G6: ='Mau 4B'!AA14 -> 0.4 | H6: ='Mau 4B'!AB14 -> 0 | I6: ='Mau 4B'!AC14 -> 0 | J6: ='Mau 4B'!AD14 -> 0 | K6: ='Mau 4B'!AE14 -> 0 | ... W6: ='Mau 4B'!AQ14 -> 0
A7: a | B7: Viên chức | C7: =N7+P7+R7+T7+V7 -> 11 | D7: ='Mau 4B'!X15 -> 9 | E7: ='Mau 4B'!Y15 -> 0.81818182 | F7: ='Mau 4B'!Z15 -> 2 | G7: ='Mau 4B'!AA15 -> 0.18181818 | H7: ='Mau 4B'!AB15 -> 0 | I7: ='Mau 4B'!AC15 -> 0 | J7: ='Mau 4B'!AD15 -> 0 | K7: ='Mau 4B'!AE15 -> 0 | ... W7: ='Mau 4B'!AQ15 -> 0
B8: Trưởng, Phó đơn vị (CBQL) | C8: 3 | N8: 2 | O8: =N8/$C$8 -> 0.66666667 | P8: 1 | Q8: =P8/$C$8 -> 0.33333333 | S8: =R8/$C$8 -> 0 | U8: =T8/$C$8 -> 0 | W8: =V8/$C$8 -> 0
B9: Nhân viên | C9: =C7-C8 -> 8 | N9: =N7-N8 -> 8 | O9: =N9/$C$9 -> 1 | P9: =P7-P8 -> 0 | Q9: =P9/$C$9 -> 0 | R9: =R7-R8 -> 0 | S9: =R9/$C$9 -> 0 | T9: =T7-T8 -> 0 | U9: =T9/$C$9 -> 0 | V9: =V7-V8 -> 0 | W9: =V9/$C$9 -> 0
A10: c | B10: Hợp đồng Sở | C10: =N10+P10+R10+T10+V10 -> 2 | D10: ='Mau 4B'!X27 -> 2 | E10: ='Mau 4B'!Y27 -> 1 | F10: ='Mau 4B'!Z27 -> 0 | G10: ='Mau 4B'!AA27 -> 0 | H10: ='Mau 4B'!AB27 -> 0 | I10: ='Mau 4B'!AC27 -> 0 | J10: ='Mau 4B'!AD27 -> 0 | K10: ='Mau 4B'!AE27 -> 0 | ... W10: ='Mau 4B'!AQ27 -> 0
A11: d | B11: Hợp đồng trường | C11: =N11+P11+R11+T11+V11 -> 12 | D11: ='Mau 4B'!X30 -> 4 | E11: ='Mau 4B'!Y30 -> 0.33333333 | F11: ='Mau 4B'!Z30 -> 8 | G11: ='Mau 4B'!AA30 -> 0.66666667 | H11: ='Mau 4B'!AB30 -> 0 | I11: ='Mau 4B'!AC30 -> 0 | J11: ='Mau 4B'!AD30 -> 0 | K11: ='Mau 4B'!AE30 -> 0 | ... W11: ='Mau 4B'!AQ30 -> 0
A12: 03 | B12: Phòng Công tác Chính trị - Học sinh Sinh viên | C12: =N12+P12+R12+T12+V12 -> 15 | D12: ='Mau 4B'!X43 -> 9 | E12: ='Mau 4B'!Y43 -> 0.6 | F12: ='Mau 4B'!Z43 -> 6 | G12: ='Mau 4B'!AA43 -> 0.4 | H12: ='Mau 4B'!AB43 -> 0 | I12: ='Mau 4B'!AC43 -> 0 | J12: ='Mau 4B'!AD43 -> 0 | K12: ='Mau 4B'!AE43 -> 0 | ... W12: ='Mau 4B'!AQ43 -> 0
A13: a | B13: Viên chức | C13: =N13+P13+R13+T13+V13 -> 9 | N13: ='Mau 4B'!AH44 -> 5 | O13: ='Mau 4B'!AI44 -> 0.55555556 | P13: ='Mau 4B'!AJ44 -> 4 | Q13: ='Mau 4B'!AK44 -> 0.44444444 | R13: ='Mau 4B'!AL44 -> 0 | S13: ='Mau 4B'!AM44 -> 0 | T13: ='Mau 4B'!AN44 -> 0 | U13: ='Mau 4B'!AO44 -> 0 | ... W13: ='Mau 4B'!AQ44 -> 0
B14: Trưởng, Phó đơn vị (CBQL) | C14: 3 | N14: 2 | O14: =N14/$C$14 -> 0.66666667 | P14: 1 | Q14: =P14/$C$14 -> 0.33333333 | S14: =R14/$C$14 -> 0 | U14: =T14/$C$14 -> 0 | W14: =V14/$C$14 -> 0
B15: Tổ trưởng nghiệp vụ (CBQL)
B16: Nhân viên | C16: =C13-C14-C15 -> 6 | N16: =N13-N14-N15 -> 3 | O16: =N16/$C$16 -> 0.5 | P16: =P13-P14-P15 -> 3 | Q16: =P16/$C$16 -> 0.5 | R16: =R13-R14-R15 -> 0 | S16: =R16/$C$16 -> 0 | T16: =T13-T14-T15 -> 0 | U16: =T16/$C$16 -> 0 | V16: =V13-V14-V15 -> 0 | W16: =V16/$C$16 -> 0
A17: c | B17: Hợp đồng Sở | C17: =N17+P17+R17+T17+V17 -> 1 | N17: ='Mau 4B'!AH54 -> 1 | O17: ='Mau 4B'!AI54 -> 1 | P17: ='Mau 4B'!AJ54 -> 0 | Q17: ='Mau 4B'!AK54 -> 0 | R17: ='Mau 4B'!AL54 -> 0 | S17: ='Mau 4B'!AM54 -> 0 | T17: ='Mau 4B'!AN54 -> 0 | U17: ='Mau 4B'!AO54 -> 0 | ... W17: ='Mau 4B'!AQ54 -> 0
A18: d | B18: Hợp đồng trường | C18: =N18+P18+R18+T18+V18 -> 5 | N18: ='Mau 4B'!AH56 -> 3 | O18: ='Mau 4B'!AI56 -> 0.6 | P18: ='Mau 4B'!AJ56 -> 2 | Q18: ='Mau 4B'!AK56 -> 0.4 | R18: ='Mau 4B'!AL56 -> 0 | S18: ='Mau 4B'!AM56 -> 0 | T18: ='Mau 4B'!AN56 -> 0 | U18: ='Mau 4B'!AO56 -> 0 | ... W18: ='Mau 4B'!AQ56 -> 0
A19: 04 | B19: Phòng Khảo thí và Đảm bảo chất lượng | C19: =N19+P19+R19+T19+V19 -> 8 | D19: ='Mau 4B'!X62 -> 4 | E19: ='Mau 4B'!Y62 -> 0.5 | F19: ='Mau 4B'!Z62 -> 4 | G19: ='Mau 4B'!AA62 -> 0.5 | H19: ='Mau 4B'!AB62 -> 0 | I19: ='Mau 4B'!AC62 -> 0 | J19: ='Mau 4B'!AD62 -> 0 | K19: ='Mau 4B'!AE62 -> 0 | ... W19: ='Mau 4B'!AQ62 -> 0
A20: a | B20: Viên chức | C20: =N20+P20+R20+T20+V20 -> 7 | N20: ='Mau 4B'!AH63 -> 3 | O20: ='Mau 4B'!AI63 -> 0.42857143 | P20: ='Mau 4B'!AJ63 -> 4 | Q20: ='Mau 4B'!AK63 -> 0.57142857 | R20: ='Mau 4B'!AL63 -> 0 | S20: ='Mau 4B'!AM63 -> 0 | T20: ='Mau 4B'!AN63 -> 0 | U20: ='Mau 4B'!AO63 -> 0 | ... W20: ='Mau 4B'!AQ63 -> 0
B21: Trưởng, Phó đơn vị (CBQL) | C21: 2 | N21: 1 | O21: =N21/$C$21 -> 0.5 | P21: 1 | Q21: =P21/$C$21 -> 0.5 | S21: =R21/$C$21 -> 0 | U21: =T21/$C$21 -> 0 | W21: =V21/$C$21 -> 0
B22: Nhân viên | C22: =C20-C21 -> 5 | N22: =N20-N21 -> 2 | O22: =N22/$C$22 -> 0.4 | P22: =P20-P21 -> 3 | Q22: =P22/$C$22 -> 0.6 | R22: =R20-R21 -> 0 | S22: =R22/$C$22 -> 0 | T22: =T20-T21 -> 0 | U22: =T22/$C$22 -> 0 | V22: =V20-V21 -> 0 | W22: =V22/$C$22 -> 0
A23: d | B23: Hợp đồng trường | C23: =N23+P23+R23+T23+V23 -> 1 | N23: ='Mau 4B'!AH71 -> 1 | O23: ='Mau 4B'!AI71 -> 1 | P23: ='Mau 4B'!AJ71 -> 0 | Q23: ='Mau 4B'!AK71 -> 0 | R23: ='Mau 4B'!AL71 -> 0 | S23: ='Mau 4B'!AM71 -> 0 | T23: ='Mau 4B'!AN71 -> 0 | U23: ='Mau 4B'!AO71 -> 0 | ... W23: ='Mau 4B'!AQ71 -> 0
A24: 05 | B24: Phòng Kế hoạch - Tài chính | C24: =N24+P24+R24+T24+V24 -> 9 | D24: ='Mau 4B'!X73 -> 6 | E24: ='Mau 4B'!Y73 -> 0.66666667 | F24: ='Mau 4B'!Z73 -> 3 | G24: ='Mau 4B'!AA73 -> 0.33333333 | H24: ='Mau 4B'!AB73 -> 0 | I24: ='Mau 4B'!AC73 -> 0 | J24: ='Mau 4B'!AD73 -> 0 | K24: ='Mau 4B'!AE73 -> 0 | ... W24: ='Mau 4B'!AQ73 -> 0
A25: a | B25: Viên chức | C25: =N25+P25+R25+T25+V25 -> 7 | N25: ='Mau 4B'!AH74 -> 6 | O25: ='Mau 4B'!AI74 -> 0.85714286 | P25: ='Mau 4B'!AJ74 -> 1 | Q25: ='Mau 4B'!AK74 -> 0.14285714 | R25: ='Mau 4B'!AL74 -> 0 | S25: ='Mau 4B'!AM74 -> 0 | T25: ='Mau 4B'!AN74 -> 0 | U25: ='Mau 4B'!AO74 -> 0 | ... W25: ='Mau 4B'!AQ74 -> 0
B26: Trưởng, Phó đơn vị (CBQL) | C26: 2 | N26: 1 | O26: =N26/$C$26 -> 0.5 | P26: 1 | Q26: =P26/$C$26 -> 0.5 | S26: =R26/$C$26 -> 0 | U26: =T26/$C$26 -> 0 | W26: =V26/$C$26 -> 0
B27: Nhân viên | C27: =C25-C26 -> 5 | N27: =N25-N26 -> 5 | O27: =N27/$C$27 -> 1 | P27: =P25-P26 -> 0 | Q27: =P27/$C$27 -> 0 | R27: =R25-R26 -> 0 | S27: =R27/$C$27 -> 0 | T27: =T25-T26 -> 0 | U27: =T27/$C$27 -> 0 | V27: =V25-V26 -> 0 | W27: =V27/$C$27 -> 0
A28: d | B28: Hợp đồng trường | C28: =N28+P28+R28+T28+V28 -> 2 | N28: ='Mau 4B'!AH82 -> 0 | O28: ='Mau 4B'!AI82 -> 0 | P28: ='Mau 4B'!AJ82 -> 2 | Q28: ='Mau 4B'!AK82 -> 1 | R28: ='Mau 4B'!AL82 -> 0 | S28: ='Mau 4B'!AM82 -> 0 | T28: ='Mau 4B'!AN82 -> 0 | U28: ='Mau 4B'!AO82 -> 0 | ... W28: ='Mau 4B'!AQ82 -> 0
A29: 06 | B29: Phòng Quản trị - Dịch vụ | C29: =N29+P29+R29+T29+V29 -> 30 | D29: ='Mau 4B'!X85 -> 10 | E29: ='Mau 4B'!Y85 -> 0.33333333 | F29: ='Mau 4B'!Z85 -> 20 | G29: ='Mau 4B'!AA85 -> 0.66666667 | H29: ='Mau 4B'!AB85 -> 0 | I29: ='Mau 4B'!AC85 -> 0 | J29: ='Mau 4B'!AD85 -> 0 | K29: ='Mau 4B'!AE85 -> 0 | ... W29: ='Mau 4B'!AQ85 -> 0
A30: a | B30: Viên chức | C30: =N30+P30+R30+T30+V30 -> 14 | N30: ='Mau 4B'!AH86+'Mau 4B'!AH100 -> 7 | O30: ='Mau 4B'!AI86 -> 0.46153846 | P30: ='Mau 4B'!AJ86+'Mau 4B'!AJ100 -> 6 | Q30: ='Mau 4B'!AK86 -> 0.46153846 | R30: ='Mau 4B'!AL86+'Mau 4B'!AL100 -> 1 | S30: ='Mau 4B'!AM86 -> 0.076923077 | T30: ='Mau 4B'!AN86+'Mau 4B'!AN100 -> 0 | U30: ='Mau 4B'!AO86 -> 0 | V30: ='Mau 4B'!AP86+'Mau 4B'!AP100 -> 0 | W30: ='Mau 4B'!AQ86 -> 0
B31: Trưởng, Phó đơn vị (CBQL) | C31: =N31+P31+R31+T31+V31 -> 2 | N31: 1 | O31: =N31/$C$31 -> 0.5 | P31: 1 | Q31: =P31/$C$31 -> 0.5 | S31: =R31/$C$31 -> 0 | U31: =T31/$C$31 -> 0 | W31: =V31/$C$31 -> 0
B32: Tổ trưởng nghiệp vụ (CBQL) | C32: 2 | N32: 1 | O32: =N32/$C$32 -> 0.5 | P32: 1 | Q32: =P32/$C$32 -> 0.5 | S32: =R32/$C$32 -> 0 | U32: =T32/$C$32 -> 0 | W32: =V32/$C$32 -> 0
B33: Nhân viên | C33: =C30-C31-C32 -> 10 | N33: =N30-N31-N32 -> 5 | O33: =N33/$C$33 -> 0.5 | P33: =P30-P31-P32 -> 4 | Q33: =P33/$C$33 -> 0.4 | R33: =R30-R31-R32 -> 1 | S33: =R33/$C$33 -> 0.1 | T33: =T30-T31-T32 -> 0 | U33: =T33/$C$33 -> 0 | V33: =V30-V31-V32 -> 0 | W33: =V33/$C$33 -> 0
A34: c | B34: Hợp đồng Sở | C34: =N34+P34+R34+T34+V34 -> 1 | N34: ='Mau 4B'!AH102 -> 0 | O34: =N34/$C$33 -> 0 | P34: ='Mau 4B'!AJ102 -> 0 | Q34: =P34/$C$33 -> 0 | R34: ='Mau 4B'!AL102 -> 1 | S34: =R34/$C$33 -> 0.1 | T34: ='Mau 4B'!AN102 -> 0 | U34: =T34/$C$33 -> 0 | V34: ='Mau 4B'!AP102 -> 0 | W34: =V34/$C$33 -> 0
A35: d | B35: Hợp đồng trường | C35: =N35+P35+R35+T35+V35 -> 15 | N35: ='Mau 4B'!AH104 -> 3 | O35: ='Mau 4B'!AI104 -> 0.2 | P35: ='Mau 4B'!AJ104 -> 11 | Q35: ='Mau 4B'!AK104 -> 0.73333333 | R35: ='Mau 4B'!AL104 -> 1 | S35: ='Mau 4B'!AM104 -> 0.066666667 | T35: ='Mau 4B'!AN104 -> 0 | U35: ='Mau 4B'!AO104 -> 0 | ... W35: ='Mau 4B'!AQ104 -> 0
A36: 07 | B36: Phòng Tuyển sinh - Đào tạo | C36: =N36+P36+R36+T36+V36 -> 16 | D36: ='Mau 4B'!X120 -> 12 | E36: ='Mau 4B'!Y120 -> 0.75 | F36: ='Mau 4B'!Z120 -> 4 | G36: ='Mau 4B'!AA120 -> 0.25 | H36: ='Mau 4B'!AB120 -> 0 | I36: ='Mau 4B'!AC120 -> 0 | J36: ='Mau 4B'!AD120 -> 0 | K36: ='Mau 4B'!AE120 -> 0 | ... W36: ='Mau 4B'!AQ120 -> 0
A37: a | B37: Viên chức | C37: =N37+P37+R37+T37+V37 -> 12 | N37: ='Mau 4B'!AH121 -> 10 | O37: ='Mau 4B'!AI121 -> 0.83333333 | P37: ='Mau 4B'!AJ121 -> 2 | Q37: ='Mau 4B'!AK121 -> 0.16666667 | R37: ='Mau 4B'!AL121 -> 0 | S37: ='Mau 4B'!AM121 -> 0 | T37: ='Mau 4B'!AN121 -> 0 | U37: ='Mau 4B'!AO121 -> 0 | ... W37: ='Mau 4B'!AQ121 -> 0
B38: Trưởng, Phó đơn vị (CBQL) | C38: 3 | N38: 2 | O38: =N38/$C$38 -> 0.66666667 | P38: 1 | Q38: =P38/$C$38 -> 0.33333333 | S38: =R38/$C$38 -> 0 | U38: =T38/$C$38 -> 0 | W38: =V38/$C$38 -> 0
B39: Nhân viên | C39: =C37-C38 -> 9 | N39: =N37-N38 -> 8 | O39: =N39/$C$39 -> 0.88888889 | P39: =P37-P38 -> 1 | Q39: =P39/$C$39 -> 0.11111111 | S39: =R39/$C$39 -> 0 | U39: =T39/$C$39 -> 0 | W39: =V39/$C$39 -> 0
A40: d | B40: Hợp đồng trường | C40: =N40+P40+R40+T40+V40 -> 4 | N40: ='Mau 4B'!AH134 -> 1 | O40: ='Mau 4B'!AI134 -> 0.25 | P40: ='Mau 4B'!AJ134 -> 3 | Q40: ='Mau 4B'!AK134 -> 0.75 | R40: ='Mau 4B'!AL134 -> 0 | S40: ='Mau 4B'!AM134 -> 0 | T40: ='Mau 4B'!AN134 -> 0 | U40: ='Mau 4B'!AO134 -> 0 | ... W40: ='Mau 4B'!AQ134 -> 0
A41: 08 | B41: Phòng Quản lý KH - HTQT | C41: =N41+P41+R41+T41+V41 -> 4 | D41: ='Mau 4B'!X139 -> 1 | E41: ='Mau 4B'!Y139 -> 0.25 | F41: ='Mau 4B'!Z139 -> 3 | G41: ='Mau 4B'!AA139 -> 0.75 | H41: ='Mau 4B'!AB139 -> 0 | I41: ='Mau 4B'!AC139 -> 0 | J41: ='Mau 4B'!AD139 -> 0 | K41: ='Mau 4B'!AE139 -> 0 | ... W41: ='Mau 4B'!AQ139 -> 0
A42: a | B42: Viên chức | C42: =N42+P42+R42+T42+V42 -> 2 | N42: ='Mau 4B'!AH140 -> 1 | O42: ='Mau 4B'!AI140 -> 0.5 | P42: ='Mau 4B'!AJ140 -> 1 | Q42: ='Mau 4B'!AK140 -> 0.5 | R42: ='Mau 4B'!AL140 -> 0 | S42: ='Mau 4B'!AM140 -> 0 | T42: ='Mau 4B'!AN140 -> 0 | U42: ='Mau 4B'!AO140 -> 0 | ... W42: ='Mau 4B'!AQ140 -> 0
B43: Trưởng, Phó đơn vị (CBQL) | C43: 2 | N43: 1 | O43: =N43/$C$43 -> 0.5 | P43: 1 | Q43: =P43/$C$43 -> 0.5
B44: Nhân viên | C44: =C42-C43 -> 0 | N44: =N42-N43 -> 0 | P44: =P42-P43 -> 0 | R44: =R42-R43 -> 0 | T44: =T42-T43 -> 0 | V44: =V42-V43 -> 0
A45: d | B45: Hợp đồng trường | C45: =N45+P45+R45+T45+V45 -> 2 | N45: ='Mau 4B'!AH143 -> 0 | O45: ='Mau 4B'!AI143 -> 0 | P45: ='Mau 4B'!AJ143 -> 2 | Q45: ='Mau 4B'!AK143 -> 1 | R45: ='Mau 4B'!AL143 -> 0 | S45: ='Mau 4B'!AM143 -> 0 | T45: ='Mau 4B'!AN143 -> 0 | U45: ='Mau 4B'!AO143 -> 0 | ... W45: ='Mau 4B'!AQ143 -> 0
A46: 9 | B46: Trung tâm Quan hệ doanh nghiệp | C46: =N46+P46+R46+T46+V46 -> 2 | D46: ='Mau 4B'!X146 -> 2 | E46: ='Mau 4B'!Y146 -> 1 | F46: ='Mau 4B'!Z146 -> 0 | G46: ='Mau 4B'!AA146 -> 0 | H46: ='Mau 4B'!AB146 -> 0 | I46: ='Mau 4B'!AC146 -> 0 | J46: ='Mau 4B'!AD146 -> 0 | K46: ='Mau 4B'!AE146 -> 0 | ... W46: ='Mau 4B'!AQ146 -> 0
A47: a | B47: Viên chức | C47: =N47+P47+R47+T47+V47 -> 2 | N47: ='Mau 4B'!AH147 -> 2 | O47: ='Mau 4B'!AI147 -> 1 | P47: ='Mau 4B'!AJ147 -> 0 | Q47: ='Mau 4B'!AK147 -> 0 | R47: ='Mau 4B'!AL147 -> 0 | S47: ='Mau 4B'!AM147 -> 0 | T47: ='Mau 4B'!AN147 -> 0 | U47: ='Mau 4B'!AO147 -> 0 | ... W47: ='Mau 4B'!AQ147 -> 0
B48: Trưởng, Phó đơn vị (CBQL) | C48: 1 | N48: 1 | O48: =N48/$C$48 -> 1 | Q48: =P48/$C$48 -> 0 | S48: =R48/$C$48 -> 0 | U48: =T48/$C$48 -> 0 | W48: =V48/$C$48 -> 0
B49: Nhân viên | C49: =C47-C48 -> 1 | N49: =N47-N48 -> 1 | O49: =N49/$C$49 -> 1 | P49: =P47-P48 -> 0 | Q49: =P49/$C$49 -> 0 | R49: =R47-R48 -> 0 | S49: =R49/$C$49 -> 0 | T49: =T47-T48 -> 0 | U49: =T49/$C$49 -> 0 | V49: =V47-V48 -> 0 | W49: =V49/$C$49 -> 0
A50: 10 | B50: Trung tâm điều hành và quản lý dữ liệu | C50: =N50+P50+R50+T50+V50 -> 5 | D50: ='Mau 4B'!X150 -> 2 | E50: ='Mau 4B'!Y150 -> 0.4 | F50: ='Mau 4B'!Z150 -> 3 | G50: ='Mau 4B'!AA150 -> 0.6 | H50: ='Mau 4B'!AB150 -> 0 | I50: ='Mau 4B'!AC150 -> 0 | J50: ='Mau 4B'!AD150 -> 0 | K50: ='Mau 4B'!AE150 -> 0 | ... W50: ='Mau 4B'!AQ150 -> 0
A51: a | B51: Viên chức | C51: =N51+P51+R51+T51+V51 -> 3 | N51: ='Mau 4B'!AH151 -> 2 | O51: ='Mau 4B'!AI151 -> 0.66666667 | P51: ='Mau 4B'!AJ151 -> 1 | Q51: ='Mau 4B'!AK151 -> 0.33333333 | R51: ='Mau 4B'!AL151 -> 0 | S51: ='Mau 4B'!AM151 -> 0 | T51: ='Mau 4B'!AN151 -> 0 | U51: ='Mau 4B'!AO151 -> 0 | ... W51: ='Mau 4B'!AQ151 -> 0
B52: Trưởng, Phó đơn vị (CBQL) | C52: 1 | N52: 1 | O52: =N52/$C$52 -> 1 | Q52: =P52/$C$52 -> 0 | S52: =R52/$C$52 -> 0 | U52: =T52/$C$52 -> 0 | W52: =V52/$C$52 -> 0
B53: Nhân viên | C53: =C51-C52 -> 2 | N53: =N51-N52 -> 1 | O53: =N53/$C$53 -> 0.5 | P53: =P51-P52 -> 1 | Q53: =P53/$C$53 -> 0.5 | R53: =R51-R52 -> 0 | S53: =R53/$C$53 -> 0 | T53: =T51-T52 -> 0 | U53: =T53/$C$53 -> 0 | V53: =V51-V52 -> 0 | W53: =V53/$C$53 -> 0
A54: d | B54: Hợp đồng trường | C54: =N54+P54+R54+T54+V54 -> 2 | N54: ='Mau 4B'!AH155 -> 0 | O54: ='Mau 4B'!AI155 -> 0 | P54: ='Mau 4B'!AJ155 -> 2 | Q54: ='Mau 4B'!AK155 -> 1 | R54: ='Mau 4B'!AL155 -> 0 | S54: ='Mau 4B'!AM155 -> 0 | T54: ='Mau 4B'!AN155 -> 0 | U54: ='Mau 4B'!AO155 -> 0 | ... W54: ='Mau 4B'!AQ155 -> 0
A55: 12 | B55: Trung tâm Y tế | C55: =N55+P55+R55+T55+V55 -> 3 | D55: ='Mau 4B'!X158 -> 3 | E55: ='Mau 4B'!Y158 -> 1 | F55: ='Mau 4B'!Z158 -> 0 | G55: ='Mau 4B'!AA158 -> 0 | H55: ='Mau 4B'!AB158 -> 0 | I55: ='Mau 4B'!AC158 -> 0 | J55: ='Mau 4B'!AD158 -> 0 | K55: ='Mau 4B'!AE158 -> 0 | ... W55: ='Mau 4B'!AQ158 -> 0
A56: a | B56: Viên chức | C56: =N56+P56+R56+T56+V56 -> 2 | N56: ='Mau 4B'!AH159 -> 2 | O56: ='Mau 4B'!AI159 -> 1 | P56: ='Mau 4B'!AJ159 -> 0 | Q56: ='Mau 4B'!AK159 -> 0 | R56: ='Mau 4B'!AL159 -> 0 | S56: ='Mau 4B'!AM159 -> 0 | T56: ='Mau 4B'!AN159 -> 0 | U56: ='Mau 4B'!AO159 -> 0 | ... W56: ='Mau 4B'!AQ159 -> 0
B57: Trưởng, Phó đơn vị (CBQL) | C57: 1 | N57: 1 | O57: =N57/$C$57 -> 1 | Q57: =P57/$C$57 -> 0 | S57: =R57/$C$57 -> 0 | U57: =T57/$C$57 -> 0 | W57: =V57/$C$57 -> 0
B58: Nhân viên | C58: =C56-C57 -> 1 | N58: =N56-N57 -> 1 | O58: =N58/$C$58 -> 1 | P58: =P56-P57 -> 0 | Q58: =P58/$C$58 -> 0 | R58: =R56-R57 -> 0 | S58: =R58/$C$58 -> 0 | T58: =T56-T57 -> 0 | U58: =T58/$C$58 -> 0 | V58: =V56-V57 -> 0 | W58: =V58/$C$58 -> 0
A59: d | B59: Hợp đồng trường | C59: =N59+P59+R59+T59+V59 -> 1 | N59: ='Mau 4B'!AH162 -> 1 | O59: ='Mau 4B'!AI162 -> 1 | P59: ='Mau 4B'!AJ162 -> 0 | Q59: ='Mau 4B'!AK162 -> 0 | R59: ='Mau 4B'!AL162 -> 0 | S59: ='Mau 4B'!AM162 -> 0 | T59: ='Mau 4B'!AN162 -> 0 | U59: ='Mau 4B'!AO162 -> 0 | ... W59: ='Mau 4B'!AQ162 -> 0
A60: 13 | B60: Trung tâm Thư viện | C60: =N60+P60+R60+T60+V60 -> 6 | D60: ='Mau 4B'!X164 -> 2 | E60: ='Mau 4B'!Y164 -> 0.33333333 | F60: ='Mau 4B'!Z164 -> 4 | G60: ='Mau 4B'!AA164 -> 0.66666667 | H60: ='Mau 4B'!AB164 -> 0 | I60: ='Mau 4B'!AC164 -> 0 | J60: ='Mau 4B'!AD164 -> 0 | K60: ='Mau 4B'!AE164 -> 0 | ... W60: ='Mau 4B'!AQ164 -> 0
A61: a | B61: Viên chức | C61: =N61+P61+R61+T61+V61 -> 4 | N61: ='Mau 4B'!AH165 -> 2 | O61: ='Mau 4B'!AI165 -> 0.5 | P61: ='Mau 4B'!AJ165 -> 2 | Q61: ='Mau 4B'!AK165 -> 0.5 | R61: ='Mau 4B'!AL165 -> 0 | S61: ='Mau 4B'!AM165 -> 0 | T61: ='Mau 4B'!AN165 -> 0 | U61: ='Mau 4B'!AO165 -> 0 | ... W61: ='Mau 4B'!AQ165 -> 0
B62: Trưởng, Phó đơn vị (CBQL) | C62: 1 | N62: 1 | O62: =N62/$C$62 -> 1 | Q62: =P62/$C$62 -> 0 | S62: =R62/$C$62 -> 0 | U62: =T62/$C$62 -> 0 | W62: =V62/$C$62 -> 0
B63: Nhân viên | C63: =C61-C62 -> 3 | N63: =N61-N62 -> 1 | O63: =N63/$C$63 -> 0.33333333 | P63: =P61-P62 -> 2 | Q63: =P63/$C$63 -> 0.66666667 | R63: =R61-R62 -> 0 | S63: =R63/$C$63 -> 0 | T63: =T61-T62 -> 0 | U63: =T63/$C$63 -> 0 | V63: =V61-V62 -> 0 | W63: =V63/$C$63 -> 0
A64: d | B64: Hợp đồng trường | C64: =N64+P64+R64+T64+V64 -> 2 | N64: ='Mau 4B'!AH170 -> 0 | O64: ='Mau 4B'!AI170 -> 0 | P64: ='Mau 4B'!AJ170 -> 2 | Q64: ='Mau 4B'!AK170 -> 1 | R64: ='Mau 4B'!AL170 -> 0 | S64: ='Mau 4B'!AM170 -> 0 | T64: ='Mau 4B'!AN170 -> 0 | U64: ='Mau 4B'!AO170 -> 0 | ... W64: ='Mau 4B'!AQ170 -> 0
A65: 14 | B65: Trung tâm ĐT Lý Tự Trọng | C65: =N65+P65+R65+T65+V65 -> 3 | D65: ='Mau 4B'!X173 -> 0 | E65: ='Mau 4B'!Y173 -> 0 | F65: ='Mau 4B'!Z173 -> 3 | G65: ='Mau 4B'!AA173 -> 1 | H65: ='Mau 4B'!AB173 -> 0 | I65: ='Mau 4B'!AC173 -> 0 | J65: ='Mau 4B'!AD173 -> 0 | K65: ='Mau 4B'!AE173 -> 0 | ... W65: ='Mau 4B'!AQ173 -> 0
A66: a | B66: Viên chức | C66: =N66+P66+R66+T66+V66 -> 1 | N66: ='Mau 4B'!AH174 -> 0 | O66: ='Mau 4B'!AI174 -> 0 | P66: ='Mau 4B'!AJ174 -> 1 | Q66: ='Mau 4B'!AK174 -> 1 | R66: ='Mau 4B'!AL174 -> 0 | S66: ='Mau 4B'!AM174 -> 0 | T66: ='Mau 4B'!AN174 -> 0 | U66: ='Mau 4B'!AO174 -> 0 | ... W66: ='Mau 4B'!AQ174 -> 0
A67: c | B67: Hợp đồng Sở | C67: =N67+P67+R67+T67+V67 -> 1 | N67: ='Mau 4B'!AH176 -> 0 | O67: ='Mau 4B'!AI176 -> 0 | P67: ='Mau 4B'!AJ176 -> 1 | Q67: ='Mau 4B'!AK176 -> 1 | R67: ='Mau 4B'!AL176 -> 0 | S67: ='Mau 4B'!AM176 -> 0 | T67: ='Mau 4B'!AN176 -> 0 | U67: ='Mau 4B'!AO176 -> 0 | ... W67: ='Mau 4B'!AQ176 -> 0
A68: d | B68: Hợp đồng trường | C68: =N68+P68+R68+T68+V68 -> 1 | N68: ='Mau 4B'!AH178 -> 0 | O68: ='Mau 4B'!AI178 -> 0 | P68: ='Mau 4B'!AJ178 -> 1 | Q68: ='Mau 4B'!AK178 -> 1 | R68: ='Mau 4B'!AL178 -> 0 | S68: ='Mau 4B'!AM178 -> 0 | T68: ='Mau 4B'!AN178 -> 0 | U68: ='Mau 4B'!AO178 -> 0 | ... W68: ='Mau 4B'!AQ178 -> 0
A69: 15 | B69: Khoa Khoa học cơ bản | C69: =N69+P69+R69+T69+V69 -> 33 | D69: ='Mau 4B'!X180 -> 10 | E69: ='Mau 4B'!Y180 -> 0.3030303 | F69: ='Mau 4B'!Z180 -> 23 | G69: ='Mau 4B'!AA180 -> 0.6969697 | H69: ='Mau 4B'!AB180 -> 0 | I69: ='Mau 4B'!AC180 -> 0 | J69: ='Mau 4B'!AD180 -> 0 | K69: ='Mau 4B'!AE180 -> 0 | ... W69: ='Mau 4B'!AQ180 -> 0
A70: a | B70: Viên chức | C70: =N70+P70+R70+T70+V70 -> 33 | D70: ='Mau 4B'!X181 -> 10 | E70: ='Mau 4B'!Y181 -> 0.32258065 | F70: ='Mau 4B'!Z181 -> 21 | G70: ='Mau 4B'!AA181 -> 0.67741935 | H70: ='Mau 4B'!AB181 -> 0 | I70: ='Mau 4B'!AC181 -> 0 | J70: ='Mau 4B'!AD181 -> 0 | K70: ='Mau 4B'!AE181 -> 0 | ... M70: ='Mau 4B'!AG181 -> 0 | N70: ='Mau 4B'!AH181+'Mau 4B'!AH213 -> 9 | O70: ='Mau 4B'!AI181 -> 0.25806452 | P70: ='Mau 4B'!AJ181+'Mau 4B'!AJ213 -> 24 | Q70: ='Mau 4B'!AK181 -> 0.74193548 | R70: ='Mau 4B'!AL181+'Mau 4B'!AL213 -> 0 | S70: ='Mau 4B'!AM181 -> 0 | T70: ='Mau 4B'!AN181+'Mau 4B'!AN213 -> 0 | U70: ='Mau 4B'!AO181 -> 0 | V70: ='Mau 4B'!AP181+'Mau 4B'!AP213 -> 0 | W70: ='Mau 4B'!AQ181 -> 0
B71: Trưởng, Phó khoa (CBQL) | C71: 2 | N71: 1 | O71: =N71/$C$71 -> 0.5 | P71: 1 | Q71: =P71/$C$71 -> 0.5 | S71: =R71/$C$71 -> 0 | U71: =T71/$C$71 -> 0 | W71: =V71/$C$71 -> 0
B72: Trưởng bộ môn (CBQL) | C72: 2 | N72: 1 | O72: =N72/$C$72 -> 0.5 | P72: 1 | Q72: =P72/$C$72 -> 0.5 | S72: =R72/$C$72 -> 0 | U72: =T72/$C$72 -> 0 | W72: =V72/$C$72 -> 0
B73: Giảng viên | C73: =C70-C71-C72 -> 29 | N73: =N70-N71-N72 -> 7 | O73: =N73/$C$73 -> 0.24137931 | P73: =P70-P71-P72 -> 22 | Q73: =P73/$C$73 -> 0.75862069 | R73: =R70-R71-R72 -> 0 | S73: =R73/$C$73 -> 0 | T73: =T70-T71-T72 -> 0 | U73: =T73/$C$73 -> 0 | V73: =V70-V71-V72 -> 0 | W73: =V73/$C$73 -> 0
A74: 16 | B74: Khoa Lý luận Chính trị | C74: =N74+P74+R74+T74+V74 -> 16 | D74: ='Mau 4B'!X216 -> 6 | E74: ='Mau 4B'!Y216 -> 0.375 | F74: ='Mau 4B'!Z216 -> 10 | G74: ='Mau 4B'!AA216 -> 0.625 | H74: ='Mau 4B'!AB216 -> 0 | I74: ='Mau 4B'!AC216 -> 0 | J74: ='Mau 4B'!AD216 -> 0 | K74: ='Mau 4B'!AE216 -> 0 | ... W74: ='Mau 4B'!AQ216 -> 0
A75: a | B75: Viên chức | C75: =N75+P75+R75+T75+V75 -> 16 | N75: ='Mau 4B'!AH217 -> 4 | O75: ='Mau 4B'!AI217 -> 0.25 | P75: ='Mau 4B'!AJ217 -> 10 | Q75: ='Mau 4B'!AK217 -> 0.625 | R75: ='Mau 4B'!AL217 -> 1 | S75: ='Mau 4B'!AM217 -> 0.0625 | T75: ='Mau 4B'!AN217 -> 1 | U75: ='Mau 4B'!AO217 -> 0.0625 | ... W75: ='Mau 4B'!AQ217 -> 0
B76: Trưởng, Phó khoa (CBQL) | C76: 2 | N76: 1 | O76: =N76/$C$76 -> 0.5 | P76: 1 | Q76: =P76/$C$76 -> 0.5 | S76: =R76/$C$76 -> 0 | U76: =T76/$C$76 -> 0 | W76: =V76/$C$76 -> 0
B77: Trưởng bộ môn (CBQL) | C77: 2 | N77: 1 | O77: =N77/$C$77 -> 0.5 | P77: 1 | Q77: =P77/$C$77 -> 0.5 | S77: =R77/$C$77 -> 0 | U77: =T77/$C$77 -> 0 | W77: =V77/$C$77 -> 0
B78: Giảng viên | C78: =C75-C76-C77 -> 12 | N78: =N75-N76-N77 -> 2 | O78: =N78/$C$78 -> 0.16666667 | P78: =P75-P76-P77 -> 8 | Q78: =P78/$C$78 -> 0.66666667 | R78: =R75-R76-R77 -> 1 | S78: =R78/$C$78 -> 0.083333333 | T78: =T75-T76-T77 -> 1 | U78: =T78/$C$78 -> 0.083333333 | V78: =V75-V76-V77 -> 0 | W78: =V78/$C$78 -> 0
A79: 17 | B79: Khoa Công nghệ thông tin | C79: =N79+P79+R79+T79+V79 -> 26 | D79: ='Mau 4B'!X234 -> 11 | E79: ='Mau 4B'!Y234 -> 0.42307692 | F79: ='Mau 4B'!Z234 -> 14 | G79: ='Mau 4B'!AA234 -> 0.53846154 | H79: ='Mau 4B'!AB234 -> 0 | I79: ='Mau 4B'!AC234 -> 0 | J79: ='Mau 4B'!AD234 -> 1 | K79: ='Mau 4B'!AE234 -> 0.038461538 | ... W79: ='Mau 4B'!AQ234 -> 0
A80: a | B80: Viên chức | C80: =N80+P80+R80+T80+V80 -> 26 | N80: ='Mau 4B'!AH235+'Mau 4B'!AH261 -> 11 | O80: ='Mau 4B'!AI235 -> 0.4 | P80: ='Mau 4B'!AJ235+'Mau 4B'!AJ261 -> 15 | Q80: ='Mau 4B'!AK235 -> 0.6 | R80: ='Mau 4B'!AL235+'Mau 4B'!AL261 -> 0 | S80: ='Mau 4B'!AM235 -> 0 | T80: ='Mau 4B'!AN235+'Mau 4B'!AN261 -> 0 | U80: ='Mau 4B'!AO235 -> 0 | V80: ='Mau 4B'!AP235+'Mau 4B'!AP261 -> 0 | W80: ='Mau 4B'!AQ235 -> 0
B81: Trưởng, Phó khoa (CBQL) | C81: 2 | N81: 1 | O81: =N81/$C$81 -> 0.5 | P81: 1 | Q81: =P81/$C$81 -> 0.5 | S81: =R81/$C$81 -> 0 | U81: =T81/$C$81 -> 0 | W81: =V81/$C$81 -> 0
B82: Trưởng bộ môn (CBQL) | C82: 2 | N82: 1 | O82: =N82/$C$82 -> 0.5 | P82: 1 | Q82: =P82/$C$82 -> 0.5 | S82: =R82/$C$82 -> 0 | U82: =T82/$C$82 -> 0 | W82: =V82/$C$82 -> 0
B83: Giảng viên | C83: =C80-C81-C82 -> 22 | N83: =N80-N81-N82 -> 9 | O83: =N83/$C$83 -> 0.40909091 | P83: =P80-P81-P82 -> 13 | Q83: =P83/$C$83 -> 0.59090909 | R83: =R80-R81-R82 -> 0 | S83: =R83/$C$83 -> 0 | T83: =T80-T81-T82 -> 0 | U83: =T83/$C$83 -> 0 | V83: =V80-V81-V82 -> 0 | W83: =V83/$C$83 -> 0
A84: 18 | B84: Khoa Cơ khí | C84: =N84+P84+R84+T84+V84 -> 27 | D84: ='Mau 4B'!X263 -> 12 | E84: ='Mau 4B'!Y263 -> 0.44444444 | F84: ='Mau 4B'!Z263 -> 15 | G84: ='Mau 4B'!AA263 -> 0.55555556 | H84: ='Mau 4B'!AB263 -> 0 | I84: ='Mau 4B'!AC263 -> 0 | J84: ='Mau 4B'!AD263 -> 0 | K84: ='Mau 4B'!AE263 -> 0 | ... W84: ='Mau 4B'!AQ263 -> 0
A85: a | B85: Viên chức | C85: =N85+P85+R85+T85+V85 -> 27 | N85: ='Mau 4B'!AH264 -> 10 | O85: ='Mau 4B'!AI264 -> 0.37037037 | P85: ='Mau 4B'!AJ264 -> 16 | Q85: ='Mau 4B'!AK264 -> 0.59259259 | R85: ='Mau 4B'!AL264 -> 0 | S85: ='Mau 4B'!AM264 -> 0 | T85: ='Mau 4B'!AN264 -> 1 | U85: ='Mau 4B'!AO264 -> 0.037037037 | ... W85: ='Mau 4B'!AQ264 -> 0
B86: Trưởng, Phó khoa (CBQL) | C86: 2 | N86: 1 | O86: =N86/$C$86 -> 0.5 | Q86: =P86/$C$86 -> 0 | S86: =R86/$C$86 -> 0 | T86: 1 | U86: =T86/$C$86 -> 0.5 | W86: =V86/$C$86 -> 0
B87: Trưởng bộ môn (CBQL) | C87: 2 | O87: =N87/$C$87 -> 0 | P87: 2 | Q87: =P87/$C$87 -> 1 | S87: =R87/$C$87 -> 0 | U87: =T87/$C$87 -> 0 | W87: =V87/$C$87 -> 0
B88: Giảng viên | C88: =C85-C86-C87 -> 23 | N88: =N85-N86-N87 -> 9 | O88: =N88/$C$88 -> 0.39130435 | P88: =P85-P86-P87 -> 14 | Q88: =P88/$C$88 -> 0.60869565 | R88: =R85-R86-R87 -> 0 | S88: =R88/$C$88 -> 0 | T88: =T85-T86-T87 -> 0 | U88: =T88/$C$88 -> 0 | V88: =V85-V86-V87 -> 0 | W88: =V88/$C$88 -> 0
A89: 19 | B89: Khoa Điện - Điện tử | C89: =N89+P89+R89+T89+V89 -> 30 | D89: ='Mau 4B'!X292 -> 12 | E89: ='Mau 4B'!Y292 -> 0.4 | F89: ='Mau 4B'!Z292 -> 18 | G89: ='Mau 4B'!AA292 -> 0.6 | H89: ='Mau 4B'!AB292 -> 0 | I89: ='Mau 4B'!AC292 -> 0 | J89: ='Mau 4B'!AD292 -> 0 | K89: ='Mau 4B'!AE292 -> 0 | ... W89: ='Mau 4B'!AQ292 -> 0
A90: a | B90: Viên chức | C90: =N90+P90+R90+T90+V90 -> 30 | N90: ='Mau 4B'!AH293 -> 12 | O90: ='Mau 4B'!AI293 -> 0.4 | P90: ='Mau 4B'!AJ293 -> 18 | Q90: ='Mau 4B'!AK293 -> 0.6 | R90: ='Mau 4B'!AL293 -> 0 | S90: ='Mau 4B'!AM293 -> 0 | T90: ='Mau 4B'!AN293 -> 0 | U90: ='Mau 4B'!AO293 -> 0 | ... W90: ='Mau 4B'!AQ293 -> 0
B91: Trưởng, Phó khoa (CBQL) | C91: 3 | N91: 2 | O91: =N91/$C$91 -> 0.66666667 | P91: 1 | Q91: =P91/$C$91 -> 0.33333333 | S91: =R91/$C$91 -> 0 | U91: =T91/$C$91 -> 0 | W91: =V91/$C$91 -> 0
B92: Trưởng bộ môn (CBQL) | C92: 3 | N92: 2 | O92: =N92/$C$92 -> 0.66666667 | P92: 1 | Q92: =P92/$C$92 -> 0.33333333 | S92: =R92/$C$92 -> 0 | U92: =T92/$C$92 -> 0 | W92: =V92/$C$92 -> 0
B93: Giảng viên | C93: =C90-C91-C92 -> 24 | N93: =N90-N91-N92 -> 8 | O93: =N93/$C$93 -> 0.33333333 | P93: =P90-P91-P92 -> 16 | Q93: =P93/$C$93 -> 0.66666667 | R93: =R90-R91-R92 -> 0 | S93: =R93/$C$93 -> 0 | T93: =T90-T91-T92 -> 0 | U93: =T93/$C$93 -> 0 | V93: =V90-V91-V92 -> 0 | W93: =V93/$C$93 -> 0
A94: 20 | B94: Khoa Động lực | C94: =N94+P94+R94+T94+V94 -> 22 | D94: ='Mau 4B'!X324 -> 10 | E94: ='Mau 4B'!Y324 -> 0.45454545 | F94: ='Mau 4B'!Z324 -> 12 | G94: ='Mau 4B'!AA324 -> 0.54545455 | H94: ='Mau 4B'!AB324 -> 0 | I94: ='Mau 4B'!AC324 -> 0 | J94: ='Mau 4B'!AD324 -> 0 | K94: ='Mau 4B'!AE324 -> 0 | ... W94: ='Mau 4B'!AQ324 -> 0
A95: a | B95: Viên chức | C95: =N95+P95+R95+T95+V95 -> 21 | N95: ='Mau 4B'!AH325+'Mau 4B'!AH345 -> 8 | O95: ='Mau 4B'!AI325 -> 0.42105263 | P95: ='Mau 4B'!AJ325+'Mau 4B'!AJ345 -> 13 | Q95: ='Mau 4B'!AK325 -> 0.57894737 | R95: ='Mau 4B'!AL325+'Mau 4B'!AL345 -> 0 | S95: ='Mau 4B'!AM325 -> 0 | T95: ='Mau 4B'!AN325+'Mau 4B'!AN345 -> 0 | U95: ='Mau 4B'!AO325 -> 0 | V95: ='Mau 4B'!AP325+'Mau 4B'!AP345 -> 0 | W95: ='Mau 4B'!AQ325 -> 0
B96: Trưởng, Phó khoa (CBQL) | C96: 2 | N96: 1 | O96: =N96/$C$96 -> 0.5 | P96: 1 | Q96: =P96/$C$96 -> 0.5 | S96: =R96/$C$96 -> 0 | U96: =T96/$C$96 -> 0 | W96: =V96/$C$96 -> 0
B97: Trưởng bộ môn (CBQL) | C97: 2 | N97: 1 | O97: =N97/$C$97 -> 0.5 | P97: 1 | Q97: =P97/$C$97 -> 0.5 | S97: =R97/$C$97 -> 0 | U97: =T97/$C$97 -> 0 | W97: =V97/$C$97 -> 0
B98: Giảng viên | C98: =C95-C96-C97 -> 17 | N98: =N95-N96-N97 -> 6 | O98: =N98/$C$98 -> 0.35294118 | P98: =P95-P96-P97 -> 11 | Q98: =P98/$C$98 -> 0.64705882 | R98: =R95-R96-R97 -> 0 | S98: =R98/$C$98 -> 0 | T98: =T95-T96-T97 -> 0 | U98: =T98/$C$98 -> 0 | V98: =V95-V96-V97 -> 0 | W98: =V98/$C$98 -> 0
A99: d | B99: Hợp đồng trường | C99: =N99+P99+R99+T99+V99 -> 1 | N99: ='Mau 4B'!AH348 -> 0 | O99: ='Mau 4B'!AI205 -> 0 | P99: ='Mau 4B'!AJ348 -> 1 | Q99: ='Mau 4B'!AK205 -> 0 | R99: ='Mau 4B'!AL348 -> 0 | S99: ='Mau 4B'!AM205 -> 0 | T99: ='Mau 4B'!AN348 -> 0 | U99: ='Mau 4B'!AO205 -> 0 | V99: ='Mau 4B'!AP348 -> 0 | W99: ='Mau 4B'!AQ205 -> 0
A100: 21 | B100: Khoa Nhiệt - Lạnh | C100: =N100+P100+R100+T100+V100 -> 8 | D100: ='Mau 4B'!X350 -> 4 | E100: ='Mau 4B'!Y350 -> 0.5 | F100: ='Mau 4B'!Z350 -> 4 | G100: ='Mau 4B'!AA350 -> 0.5 | H100: ='Mau 4B'!AB350 -> 0 | I100: ='Mau 4B'!AC350 -> 0 | J100: ='Mau 4B'!AD350 -> 0 | K100: ='Mau 4B'!AE350 -> 0 | ... W100: ='Mau 4B'!AQ350 -> 0
A101: a | B101: Viên chức | C101: =N101+P101+R101+T101+V101 -> 8 | N101: ='Mau 4B'!AH351 -> 4 | O101: ='Mau 4B'!AI351 -> 0.5 | P101: ='Mau 4B'!AJ351 -> 4 | Q101: ='Mau 4B'!AK351 -> 0.5 | R101: ='Mau 4B'!AL351 -> 0 | S101: ='Mau 4B'!AM351 -> 0 | T101: ='Mau 4B'!AN351 -> 0 | U101: ='Mau 4B'!AO351 -> 0 | ... W101: ='Mau 4B'!AQ351 -> 0
...

Sheet Tổng hợp KQ VCQL
A1: UBND THÀNH PHỐ HỒ CHÍ MINH TRƯỜNG CAO ĐẲNG LÝ TỰ TRỌNG THÀNH PHỐ HỒ CHÍ MINH | K1: CỘNG HÒA XÃ HỘI CHỦ NGHĨA VIỆT NAM Độc lập - Tự do - Hạnh phúc
A3: PHIẾU ĐÁNH GIÁ, PHÂN LOẠI HIỆU QUẢ CÔNG VIỆC CỦA VIÊN CHỨC QUẢN LÝ Kỳ đánh giá: Quý 3/2019
A5: STT | B5: HỌ VÀ TÊN | D5: MÃ NHÂN VIÊN | E5: Đơn vị | F5: ĐIỂM TỰ ĐÁNH GIÁ | G5: ĐIỂM ĐỒNG NGHIỆP ĐÁNH GIÁ | M5: HỘI ĐỒNG ĐÁNH GIÁ | O5: Ghi chú | Q5: Stt | R5: Đơn vị | S5: Số lượng CBQL là Trưởng, Phó đơn vị | AA5: Số lượng CBQL là Trưởng bộ môn/Tổ trưởng tổ NV
G6: Tiêu chí I+II | H6: Tiêu chí III | I6: Tổng số Điểm cộng | J6: Tổng số Điểm trừ | K6: Tổng điểm | L6: Kết quả xếp loại | M6: Tổng điểm | N6: Kết quả xếp loại | S6: Trưởng, Phó đơn vị | T6: Số lượng bầu XS | U6: Kết quả đánh giá, phân loại | AA6: Trưởng bộ môn/Tổ trưởng tổ NV | AB6: Số lượng bầu XS | AC6: Kết quả đánh giá, phân loại
A7: -1 | B7: -2 | D7: (3) | E7: -3 | F7: -4 | G7: -5 | H7: -6 | I7: -7 | J7: -8 | K7: (9)=(5+6+7)-8 | L7: -9 | M7: -10 | N7: -11 | O7: -12 | U7: Xuất sắc | V7: Tỷ lệ | W7: Tốt | X7: Tỷ lệ | Y7: Hoàn thành | Z7: Không hoàn thành | AC7: Xuất sắc | AD7: Tỷ lệ | AE7: Tốt | AF7: Tỷ lệ | AG7: Không hoàn thành | AH7: Tỷ lệ | AI7: Không đánh giá
A8: 1 | B8: Phạm Hữu | C8: Lộc | D8: 41200001203 | E8: Ban Giám hiệu | K8: =G8+H8+I8-J8 -> 0 | L8: =IF(AND($K8>=90,$K8<=100),"Xuất sắc",IF(AND($K8>=75,$K8<90),"Tốt",IF(AND($K8>=50,$K8<75),"Hoàn thành",IF(AND($K8<50,$K8>0),"Không hoàn thành",IF($K8=0,"Không đánh giá",""))))) -> Không đánh giá | Q8: 01 | R8: Ban Giám hiệu | S8: 4 | T8: 2 | U8: 2
A9: 2 | B9: Đinh Hồng | C9: Minh | D9: 11100000791 | E9: Ban Giám hiệu | F9: =IFERROR((VLOOKUP($D9,'Mau 4B'!$D$11:$W$394,2,0)),0) -> 82 | G9: =IFERROR((VLOOKUP($D9,'Mau 4B'!$D$11:$W$394,3,0)),0) -> 32 | H9: =IFERROR((VLOOKUP($D9,'Mau 4B'!$D$11:$W$394,4,0)),0) -> 60 | I9: =IFERROR((VLOOKUP($D9,'Mau 4B'!$D$11:$W$394,5,0)),0) -> 0 | J9: =IFERROR((VLOOKUP($D9,'Mau 4B'!$D$11:$W$394,6,0)),0) -> 0 | K9: =G9+H9+I9-J9 -> 92 | L9: =IFERROR((VLOOKUP($D9,'Mau 4B'!$D$11:$W$394,13,0)),0) -> Xuất sắc | M9: =IFERROR((VLOOKUP($D9,'Mau 4B'!$D$11:$W$394,12,0)),0) -> 92 | N9: =IFERROR((VLOOKUP($D9,'Mau 4B'!$D$11:$W$394,19,0)),0) -> Xuất sắc | O9: =IFERROR((VLOOKUP($D9,'Mau 4B'!$D$11:$W$394,14,0)),0) -> 0 | Q9: 02 | R9: Phòng Tổ chức - Hành chính - Tổng hợp | S9: 3 | T9: 2 | U9: 2
A10: 3 | B10: Đinh Văn | C10: Đệ | D10: 50200000021 | E10: Ban Giám hiệu | F10: =IFERROR((VLOOKUP($D10,'Mau 4B'!$D$11:$W$394,2,0)),0) -> 98 | G10: =IFERROR((VLOOKUP($D10,'Mau 4B'!$D$11:$W$394,3,0)),0) -> 36 | H10: =IFERROR((VLOOKUP($D10,'Mau 4B'!$D$11:$W$394,4,0)),0) -> 60 | I10: =IFERROR((VLOOKUP($D10,'Mau 4B'!$D$11:$W$394,5,0)),0) -> 0 | J10: =IFERROR((VLOOKUP($D10,'Mau 4B'!$D$11:$W$394,6,0)),0) -> 0 | K10: =G10+H10+I10-J10 -> 96 | L10: =IFERROR((VLOOKUP($D10,'Mau 4B'!$D$11:$W$394,13,0)),0) -> Xuất sắc | M10: =IFERROR((VLOOKUP($D10,'Mau 4B'!$D$11:$W$394,12,0)),0) -> 96 | N10: =IFERROR((VLOOKUP($D10,'Mau 4B'!$D$11:$W$394,19,0)),0) -> Xuất sắc | O10: =IFERROR((VLOOKUP($D10,'Mau 4B'!$D$11:$W$394,14,0)),0) -> 0 | Q10: 03 | R10: Phòng Công tác Chính trị - Học sinh Sinh viên | S10: 3 | T10: 2 | U10: 2 | W10: 1
A11: 4 | B11: Châu Văn | C11: Bảo | D11: 50200000021 | E11: Ban Giám hiệu | F11: =IFERROR((VLOOKUP($D11,'Mau 4B'!$D$11:$W$394,2,0)),0) -> 98 | G11: =IFERROR((VLOOKUP($D11,'Mau 4B'!$D$11:$W$394,3,0)),0) -> 36 | H11: =IFERROR((VLOOKUP($D11,'Mau 4B'!$D$11:$W$394,4,0)),0) -> 60 | I11: =IFERROR((VLOOKUP($D11,'Mau 4B'!$D$11:$W$394,5,0)),0) -> 0 | J11: =IFERROR((VLOOKUP($D11,'Mau 4B'!$D$11:$W$394,6,0)),0) -> 0 | K11: =G11+H11+I11-J11 -> 96 | L11: =IFERROR((VLOOKUP($D11,'Mau 4B'!$D$11:$W$394,13,0)),0) -> Xuất sắc | M11: =IFERROR((VLOOKUP($D11,'Mau 4B'!$D$11:$W$394,12,0)),0) -> 96 | N11: =IFERROR((VLOOKUP($D11,'Mau 4B'!$D$11:$W$394,19,0)),0) -> Xuất sắc | O11: =IFERROR((VLOOKUP($D11,'Mau 4B'!$D$11:$W$394,14,0)),0) -> 0 | Q11: 04 | R11: Phòng Khảo thí và Đảm bảo chất lượng | S11: 2 | T11: 1 | U11: 1 | W11: 1
A12: 5 | B12: Lâm Viết | C12: Dũng | D12: 50800000104 | E12: Trưởng phòng TC-HC_TH | F12: =IFERROR((VLOOKUP($D12,'Mau 4B'!$D$11:$W$394,2,0)),0) -> 98 | G12: =IFERROR((VLOOKUP($D12,'Mau 4B'!$D$11:$W$394,3,0)),0) -> 38 | H12: =IFERROR((VLOOKUP($D12,'Mau 4B'!$D$11:$W$394,4,0)),0) -> 60 | I12: =IFERROR((VLOOKUP($D12,'Mau 4B'!$D$11:$W$394,5,0)),0) -> 0 | J12: =IFERROR((VLOOKUP($D12,'Mau 4B'!$D$11:$W$394,6,0)),0) -> 0 | K12: =G12+H12+I12-J12 -> 98 | L12: =IFERROR((VLOOKUP($D12,'Mau 4B'!$D$11:$W$394,13,0)),0) -> Xuất sắc | M12: =IFERROR((VLOOKUP($D12,'Mau 4B'!$D$11:$W$394,12,0)),0) -> 98 | N12: =IFERROR((VLOOKUP($D12,'Mau 4B'!$D$11:$W$394,19,0)),0) -> Xuất sắc | O12: =IFERROR((VLOOKUP($D12,'Mau 4B'!$D$11:$W$394,14,0)),0) -> 0 | Q12: 05 | R12: Phòng Kế hoạch - Tài chính | S12: 2 | T12: 1 | U12: 1 | W12: 1
A13: 6 | B13: Nguyễn Thị | C13: Hoa | D13: 11100000743 | E13: Phó Trưởng phòng TC-HC_TH | F13: =IFERROR((VLOOKUP($D13,'Mau 4B'!$D$11:$W$394,2,0)),0) -> 89 | G13: =IFERROR((VLOOKUP($D13,'Mau 4B'!$D$11:$W$394,3,0)),0) -> 32 | H13: =IFERROR((VLOOKUP($D13,'Mau 4B'!$D$11:$W$394,4,0)),0) -> 60 | I13: =IFERROR((VLOOKUP($D13,'Mau 4B'!$D$11:$W$394,5,0)),0) -> 0 | J13: =IFERROR((VLOOKUP($D13,'Mau 4B'!$D$11:$W$394,6,0)),0) -> 0 | K13: =G13+H13+I13-J13 -> 92 | L13: =IFERROR((VLOOKUP($D13,'Mau 4B'!$D$11:$W$394,13,0)),0) -> Xuất sắc | M13: =IFERROR((VLOOKUP($D13,'Mau 4B'!$D$11:$W$394,12,0)),0) -> 92 | N13: =IFERROR((VLOOKUP($D13,'Mau 4B'!$D$11:$W$394,19,0)),0) -> Xuất sắc | O13: =IFERROR((VLOOKUP($D13,'Mau 4B'!$D$11:$W$394,14,0)),0) -> 0 | Q13: 06 | R13: Phòng Quản trị - Dịch vụ | S13: 2 | T13: 1 | U13: 1 | W13: 1 | AA13: 2 | AB13: 1 | AC13: 1 | AE13: 1
A14: 7 | B14: Lê Xuân | C14: Thiện | D14: 11100000742 | E14: Trưởng phòng CTCT-HSSV | F14: =IFERROR((VLOOKUP($D14,'Mau 4B'!$D$11:$W$394,2,0)),0) -> 87 | G14: =IFERROR((VLOOKUP($D14,'Mau 4B'!$D$11:$W$394,3,0)),0) -> 27 | H14: =IFERROR((VLOOKUP($D14,'Mau 4B'!$D$11:$W$394,4,0)),0) -> 60 | I14: =IFERROR((VLOOKUP($D14,'Mau 4B'!$D$11:$W$394,5,0)),0) -> 0 | J14: =IFERROR((VLOOKUP($D14,'Mau 4B'!$D$11:$W$394,6,0)),0) -> 0 | K14: =G14+H14+I14-J14 -> 87 | L14: =IFERROR((VLOOKUP($D14,'Mau 4B'!$D$11:$W$394,13,0)),0) -> Tốt | M14: =IFERROR((VLOOKUP($D14,'Mau 4B'!$D$11:$W$394,12,0)),0) -> 87 | N14: =IFERROR((VLOOKUP($D14,'Mau 4B'!$D$11:$W$394,19,0)),0) -> Tốt | O14: =IFERROR((VLOOKUP($D14,'Mau 4B'!$D$11:$W$394,14,0)),0) -> 0 | Q14: 07 | R14: Phòng Tuyển sinh - Đào tạo | S14: 3 | T14: 2 | U14: 2 | W14: 1
A15: 8 | B15: Hồ Minh | C15: Lợi | D15: 11100000704 | E15: Phó Trưởng phòng CTCT-HSSV | F15: =IFERROR((VLOOKUP($D15,'Mau 4B'!$D$11:$W$394,2,0)),0) -> 79 | G15: =IFERROR((VLOOKUP($D15,'Mau 4B'!$D$11:$W$394,3,0)),0) -> 30 | H15: =IFERROR((VLOOKUP($D15,'Mau 4B'!$D$11:$W$394,4,0)),0) -> 60 | I15: =IFERROR((VLOOKUP($D15,'Mau 4B'!$D$11:$W$394,5,0)),0) -> 0 | J15: =IFERROR((VLOOKUP($D15,'Mau 4B'!$D$11:$W$394,6,0)),0) -> 0 | K15: =G15+H15+I15-J15 -> 90 | L15: =IFERROR((VLOOKUP($D15,'Mau 4B'!$D$11:$W$394,13,0)),0) -> Xuất sắc | M15: =IFERROR((VLOOKUP($D15,'Mau 4B'!$D$11:$W$394,12,0)),0) -> 90 | N15: =IFERROR((VLOOKUP($D15,'Mau 4B'!$D$11:$W$394,19,0)),0) -> Xuất sắc | O15: =IFERROR((VLOOKUP($D15,'Mau 4B'!$D$11:$W$394,14,0)),0) -> 0 | Q15: 08 | R15: Phòng Quản lý khoa học - Hợp tác quốc tế | S15: 2 | T15: 1 | U15: 1 | W15: 1
A16: 9 | B16: Nguyễn Ngọc | C16: Hiệp | D16: 11100000751 | E16: Phó Trưởng phòng CTCT-HSSV | F16: =IFERROR((VLOOKUP($D16,'Mau 4B'!$D$11:$W$394,2,0)),0) -> 90 | G16: =IFERROR((VLOOKUP($D16,'Mau 4B'!$D$11:$W$394,3,0)),0) -> 30 | H16: =IFERROR((VLOOKUP($D16,'Mau 4B'!$D$11:$W$394,4,0)),0) -> 60 | I16: =IFERROR((VLOOKUP($D16,'Mau 4B'!$D$11:$W$394,5,0)),0) -> 0 | J16: =IFERROR((VLOOKUP($D16,'Mau 4B'!$D$11:$W$394,6,0)),0) -> 0 | K16: =G16+H16+I16-J16 -> 90 | L16: =IFERROR((VLOOKUP($D16,'Mau 4B'!$D$11:$W$394,13,0)),0) -> Xuất sắc | M16: =IFERROR((VLOOKUP($D16,'Mau 4B'!$D$11:$W$394,12,0)),0) -> 90 | N16: =IFERROR((VLOOKUP($D16,'Mau 4B'!$D$11:$W$394,19,0)),0) -> Xuất sắc | O16: =IFERROR((VLOOKUP($D16,'Mau 4B'!$D$11:$W$394,14,0)),0) -> 0 | Q16: 09 | R16: Trung tâm Quan hệ doanh nghiệp | S16: 1 | T16: 1 | U16: 1
A17: 10 | B17: Nguyễn Chí | C17: Nhân | D17: 11100066861 | E17: Trưởng phòng Khảo thí &ĐBCL | F17: =IFERROR((VLOOKUP($D17,'Mau 4B'!$D$11:$W$394,2,0)),0) -> 76 | G17: =IFERROR((VLOOKUP($D17,'Mau 4B'!$D$11:$W$394,3,0)),0) -> 28 | H17: =IFERROR((VLOOKUP($D17,'Mau 4B'!$D$11:$W$394,4,0)),0) -> 60 | I17: =IFERROR((VLOOKUP($D17,'Mau 4B'!$D$11:$W$394,5,0)),0) -> 0 | J17: =IFERROR((VLOOKUP($D17,'Mau 4B'!$D$11:$W$394,6,0)),0) -> 0 | K17: =G17+H17+I17-J17 -> 88 | L17: =IFERROR((VLOOKUP($D17,'Mau 4B'!$D$11:$W$394,13,0)),0) -> Tốt | M17: =IFERROR((VLOOKUP($D17,'Mau 4B'!$D$11:$W$394,12,0)),0) -> 88 | N17: =IFERROR((VLOOKUP($D17,'Mau 4B'!$D$11:$W$394,19,0)),0) -> Tốt | O17: =IFERROR((VLOOKUP($D17,'Mau 4B'!$D$11:$W$394,14,0)),0) -> 0 | Q17: 10 | R17: Trung tâm điều hành và quản lý dữ liệu | S17: 1 | T17: 1 | U17: 1
A18: 11 | B18: Võ Thị Anh | C18: Đào | D18: 11100000701 | E18: Phó Trưởng phòng Khảo thí &ĐBCL | F18: =IFERROR((VLOOKUP($D18,'Mau 4B'!$D$11:$W$394,2,0)),0) -> 84 | G18: =IFERROR((VLOOKUP($D18,'Mau 4B'!$D$11:$W$394,3,0)),0) -> 28 | H18: =IFERROR((VLOOKUP($D18,'Mau 4B'!$D$11:$W$394,4,0)),0) -> 60 | I18: =IFERROR((VLOOKUP($D18,'Mau 4B'!$D$11:$W$394,5,0)),0) -> 0 | J18: =IFERROR((VLOOKUP($D18,'Mau 4B'!$D$11:$W$394,6,0)),0) -> 0 | K18: =G18+H18+I18-J18 -> 88 | L18: =IFERROR((VLOOKUP($D18,'Mau 4B'!$D$11:$W$394,13,0)),0) -> Tốt | M18: =IFERROR((VLOOKUP($D18,'Mau 4B'!$D$11:$W$394,12,0)),0) -> 88 | N18: =IFERROR((VLOOKUP($D18,'Mau 4B'!$D$11:$W$394,19,0)),0) -> Tốt | O18: =IFERROR((VLOOKUP($D18,'Mau 4B'!$D$11:$W$394,14,0)),0) -> 0 | Q18: 11 | R18: Trung tâm Y tế | S18: 1 | T18: 1 | U18: 1
A19: 12 | B19: Nguyễn | C19: Kính | D19: 50800000800 | E19: Trưởng phòng Kế hoạch - TC | F19: =IFERROR((VLOOKUP($D19,'Mau 4B'!$D$11:$W$394,2,0)),0) -> 98 | G19: =IFERROR((VLOOKUP($D19,'Mau 4B'!$D$11:$W$394,3,0)),0) -> 38 | H19: =IFERROR((VLOOKUP($D19,'Mau 4B'!$D$11:$W$394,4,0)),0) -> 60 | I19: =IFERROR((VLOOKUP($D19,'Mau 4B'!$D$11:$W$394,5,0)),0) -> 0 | J19: =IFERROR((VLOOKUP($D19,'Mau 4B'!$D$11:$W$394,6,0)),0) -> 0 | K19: =G19+H19+I19-J19 -> 98 | L19: =IFERROR((VLOOKUP($D19,'Mau 4B'!$D$11:$W$394,13,0)),0) -> Xuất sắc | M19: =IFERROR((VLOOKUP($D19,'Mau 4B'!$D$11:$W$394,12,0)),0) -> 98 | N19: =IFERROR((VLOOKUP($D19,'Mau 4B'!$D$11:$W$394,19,0)),0) -> Xuất sắc | O19: =IFERROR((VLOOKUP($D19,'Mau 4B'!$D$11:$W$394,14,0)),0) -> 0 | Q19: 12 | R19: Trung tâm Thư viện | S19: 1 | T19: 1 | U19: 1
A20: 13 | B20: Nguyễn Thị Kim | C20: Dung | D20: 11100071598 | E20: Phó Trưởng phòng Kế hoạch - TC | F20: =IFERROR((VLOOKUP($D20,'Mau 4B'!$D$11:$W$394,2,0)),0) -> 97 | G20: =IFERROR((VLOOKUP($D20,'Mau 4B'!$D$11:$W$394,3,0)),0) -> 36 | H20: =IFERROR((VLOOKUP($D20,'Mau 4B'!$D$11:$W$394,4,0)),0) -> 50 | I20: =IFERROR((VLOOKUP($D20,'Mau 4B'!$D$11:$W$394,5,0)),0) -> 0 | J20: =IFERROR((VLOOKUP($D20,'Mau 4B'!$D$11:$W$394,6,0)),0) -> 0 | K20: =G20+H20+I20-J20 -> 86 | L20: =IFERROR((VLOOKUP($D20,'Mau 4B'!$D$11:$W$394,13,0)),0) -> Tốt | M20: =IFERROR((VLOOKUP($D20,'Mau 4B'!$D$11:$W$394,12,0)),0) -> 86 | N20: =IFERROR((VLOOKUP($D20,'Mau 4B'!$D$11:$W$394,19,0)),0) -> Tốt | O20: =IFERROR((VLOOKUP($D20,'Mau 4B'!$D$11:$W$394,14,0)),0) -> 0 | Q20: 13 | R20: Khoa Khoa học cơ bản | S20: 2 | T20: 1 | U20: 1 | W20: 1 | AA20: 2 | AB20: 1 | AC20: 1 | AE20: 1
A21: 14 | B21: Lê Quang | C21: Liêm | D21: 50200000160 | E21: Trưởng phòng Quản trị - Dịch vụ | F21: =IFERROR((VLOOKUP($D21,'Mau 4B'!$D$11:$W$394,2,0)),0) -> 99 | G21: =IFERROR((VLOOKUP($D21,'Mau 4B'!$D$11:$W$394,3,0)),0) -> 38 | H21: =IFERROR((VLOOKUP($D21,'Mau 4B'!$D$11:$W$394,4,0)),0) -> 60 | I21: =IFERROR((VLOOKUP($D21,'Mau 4B'!$D$11:$W$394,5,0)),0) -> 1.75 | J21: =IFERROR((VLOOKUP($D21,'Mau 4B'!$D$11:$W$394,6,0)),0) -> 0 | K21: =G21+H21+I21-J21 -> 99.75 | L21: =IFERROR((VLOOKUP($D21,'Mau 4B'!$D$11:$W$394,13,0)),0) -> Xuất sắc | M21: =IFERROR((VLOOKUP($D21,'Mau 4B'!$D$11:$W$394,12,0)),0) -> 99.75 | N21: =IFERROR((VLOOKUP($D21,'Mau 4B'!$D$11:$W$394,19,0)),0) -> Xuất sắc | O21: =IFERROR((VLOOKUP($D21,'Mau 4B'!$D$11:$W$394,14,0)),0) -> 0 | Q21: 14 | R21: Khoa Lý luận Chính trị | S21: 2 | T21: 1 | U21: 1 | W21: 1 | AA21: 2 | AB21: 1 | AC21: 1 | AE21: 1
A22: 15 | B22: Nguyễn Văn | C22: Thành | D22: 11100000723 | E22: Phó Trưởng phòng Quản trị - Dịch vụ | F22: =IFERROR((VLOOKUP($D22,'Mau 4B'!$D$11:$W$394,2,0)),0) -> 85 | G22: =IFERROR((VLOOKUP($D22,'Mau 4B'!$D$11:$W$394,3,0)),0) -> 36 | H22: =IFERROR((VLOOKUP($D22,'Mau 4B'!$D$11:$W$394,4,0)),0) -> 50 | I22: =IFERROR((VLOOKUP($D22,'Mau 4B'!$D$11:$W$394,5,0)),0) -> 0.75 | J22: =IFERROR((VLOOKUP($D22,'Mau 4B'!$D$11:$W$394,6,0)),0) -> 0 | K22: =G22+H22+I22-J22 -> 86.75 | L22: =IFERROR((VLOOKUP($D22,'Mau 4B'!$D$11:$W$394,13,0)),0) -> Tốt | M22: =IFERROR((VLOOKUP($D22,'Mau 4B'!$D$11:$W$394,12,0)),0) -> 86.75 | N22: =IFERROR((VLOOKUP($D22,'Mau 4B'!$D$11:$W$394,19,0)),0) -> Tốt | O22: =IFERROR((VLOOKUP($D22,'Mau 4B'!$D$11:$W$394,14,0)),0) -> 0 | Q22: 15 | R22: Khoa Công nghệ thông tin | S22: 2 | T22: 1 | U22: 1 | W22: 1 | AA22: 2 | AB22: 1 | AC22: 1 | AE22: 1
A23: 16 | B23: Hồ Văn | C23: Sĩ | D23: 11100000707 | E23: Phó Trưởng phòng TS-ĐT | F23: =IFERROR((VLOOKUP($D23,'Mau 4B'!$D$11:$W$394,2,0)),0) -> 92 | G23: =IFERROR((VLOOKUP($D23,'Mau 4B'!$D$11:$W$394,3,0)),0) -> 32 | H23: =IFERROR((VLOOKUP($D23,'Mau 4B'!$D$11:$W$394,4,0)),0) -> 60 | I23: =IFERROR((VLOOKUP($D23,'Mau 4B'!$D$11:$W$394,5,0)),0) -> 1 | J23: =IFERROR((VLOOKUP($D23,'Mau 4B'!$D$11:$W$394,6,0)),0) -> 0 | K23: =G23+H23+I23-J23 -> 93 | L23: =IFERROR((VLOOKUP($D23,'Mau 4B'!$D$11:$W$394,13,0)),0) -> Xuất sắc | M23: =IFERROR((VLOOKUP($D23,'Mau 4B'!$D$11:$W$394,12,0)),0) -> 93 | N23: =IFERROR((VLOOKUP($D23,'Mau 4B'!$D$11:$W$394,19,0)),0) -> Tốt | O23: =IFERROR((VLOOKUP($D23,'Mau 4B'!$D$11:$W$394,14,0)),0) -> 0 | Q23: 16 | R23: Khoa Công nghệ Cơ khí | S23: 2 | T23: 1 | U23: 1 | Z23: 1 | AA23: 2 | AB23: 1 | AE23: 2
A24: 17 | B24: Nguyễn Thị | C24: Nhuận | D24: 11100000798 | E24: Phó Trưởng phòng TS-ĐT | F24: =IFERROR((VLOOKUP($D24,'Mau 4B'!$D$11:$W$394,2,0)),0) -> 87 | G24: =IFERROR((VLOOKUP($D24,'Mau 4B'!$D$11:$W$394,3,0)),0) -> 31 | H24: =IFERROR((VLOOKUP($D24,'Mau 4B'!$D$11:$W$394,4,0)),0) -> 60 | I24: =IFERROR((VLOOKUP($D24,'Mau 4B'!$D$11:$W$394,5,0)),0) -> 1 | J24: =IFERROR((VLOOKUP($D24,'Mau 4B'!$D$11:$W$394,6,0)),0) -> 0 | K24: =G24+H24+I24-J24 -> 92 | L24: =IFERROR((VLOOKUP($D24,'Mau 4B'!$D$11:$W$394,13,0)),0) -> Xuất sắc | M24: =IFERROR((VLOOKUP($D24,'Mau 4B'!$D$11:$W$394,12,0)),0) -> 92 | N24: =IFERROR((VLOOKUP($D24,'Mau 4B'!$D$11:$W$394,19,0)),0) -> Xuất sắc | O24: =IFERROR((VLOOKUP($D24,'Mau 4B'!$D$11:$W$394,14,0)),0) -> 0 | Q24: 17 | R24: Khoa Công nghệ Điện - Điện tử | S24: 3 | T24: 2 | U24: 2 | W24: 1 | AA24: 3 | AB24: 2 | AC24: 2 | AE24: 1
A25: 18 | B25: Nguyễn Văn | C25: Tấn | D25: 11100000732 | E25: Phó Trưởng phòng TS-ĐT | F25: =IFERROR((VLOOKUP($D25,'Mau 4B'!$D$11:$W$394,2,0)),0) -> 92 | G25: =IFERROR((VLOOKUP($D25,'Mau 4B'!$D$11:$W$394,3,0)),0) -> 32 | H25: =IFERROR((VLOOKUP($D25,'Mau 4B'!$D$11:$W$394,4,0)),0) -> 60 | I25: =IFERROR((VLOOKUP($D25,'Mau 4B'!$D$11:$W$394,5,0)),0) -> 1 | J25: =IFERROR((VLOOKUP($D25,'Mau 4B'!$D$11:$W$394,6,0)),0) -> 0 | K25: =G25+H25+I25-J25 -> 93 | L25: =IFERROR((VLOOKUP($D25,'Mau 4B'!$D$11:$W$394,13,0)),0) -> Xuất sắc | M25: =IFERROR((VLOOKUP($D25,'Mau 4B'!$D$11:$W$394,12,0)),0) -> 93 | N25: =IFERROR((VLOOKUP($D25,'Mau 4B'!$D$11:$W$394,19,0)),0) -> Xuất sắc | O25: =IFERROR((VLOOKUP($D25,'Mau 4B'!$D$11:$W$394,14,0)),0) -> 0 | Q25: 18 | R25: Khoa Công nghệ Động lực | S25: 2 | T25: 1 | U25: 1 | W25: 1 | AA25: 2 | AB25: 1 | AC25: 1 | AE25: 1
A26: 19 | B26: Nguyễn Ngọc | C26: Trang | D26: 11100000746 | E26: Trưởng phòng QLKH-HTQT | F26: =IFERROR((VLOOKUP($D26,'Mau 4B'!$D$11:$W$394,2,0)),0) -> 97.5 | G26: =IFERROR((VLOOKUP($D26,'Mau 4B'!$D$11:$W$394,3,0)),0) -> 37.5 | H26: =IFERROR((VLOOKUP($D26,'Mau 4B'!$D$11:$W$394,4,0)),0) -> 60 | I26: =IFERROR((VLOOKUP($D26,'Mau 4B'!$D$11:$W$394,5,0)),0) -> 0.25 | J26: =IFERROR((VLOOKUP($D26,'Mau 4B'!$D$11:$W$394,6,0)),0) -> 0 | K26: =G26+H26+I26-J26 -> 97.75 | L26: =IFERROR((VLOOKUP($D26,'Mau 4B'!$D$11:$W$394,13,0)),0) -> Xuất sắc | M26: =IFERROR((VLOOKUP($D26,'Mau 4B'!$D$11:$W$394,12,0)),0) -> 97.5 | N26: =IFERROR((VLOOKUP($D26,'Mau 4B'!$D$11:$W$394,19,0)),0) -> Xuất sắc | O26: =IFERROR((VLOOKUP($D26,'Mau 4B'!$D$11:$W$394,14,0)),0) -> 0 | Q26: 19 | R26: Khoa Công nghệ Nhiệt - Lạnh | S26: 2 | T26: 1 | U26: 1 | W26: 1
A27: 20 | B27: Nguyễn Văn | C27: Chiến | D27: 40800000177 | E27: Phó Trưởng TT QHDN | F27: =IFERROR((VLOOKUP($D27,'Mau 4B'!$D$11:$W$394,2,0)),0) -> 94 | G27: =IFERROR((VLOOKUP($D27,'Mau 4B'!$D$11:$W$394,3,0)),0) -> 36 | H27: =IFERROR((VLOOKUP($D27,'Mau 4B'!$D$11:$W$394,4,0)),0) -> 60 | I27: =IFERROR((VLOOKUP($D27,'Mau 4B'!$D$11:$W$394,5,0)),0) -> 0 | J27: =IFERROR((VLOOKUP($D27,'Mau 4B'!$D$11:$W$394,6,0)),0) -> 0 | K27: =G27+H27+I27-J27 -> 96 | L27: =IFERROR((VLOOKUP($D27,'Mau 4B'!$D$11:$W$394,13,0)),0) -> Xuất sắc | M27: =IFERROR((VLOOKUP($D27,'Mau 4B'!$D$11:$W$394,12,0)),0) -> 96 | N27: =IFERROR((VLOOKUP($D27,'Mau 4B'!$D$11:$W$394,19,0)),0) -> Xuất sắc | O27: =IFERROR((VLOOKUP($D27,'Mau 4B'!$D$11:$W$394,14,0)),0) -> 0 | Q27: 20 | R27: Khoa Công nghệ May - Thời trang | S27: 1 | T27: 1 | U27: 1
A28: 21 | B28: Lương Xuân | C28: Thịnh | D28: 81200000317 | E28: Phó Trưởng TT QHDN | F28: =IFERROR((VLOOKUP($D28,'Mau 4B'!$D$11:$W$394,2,0)),0) -> 92 | G28: =IFERROR((VLOOKUP($D28,'Mau 4B'!$D$11:$W$394,3,0)),0) -> 32 | H28: =IFERROR((VLOOKUP($D28,'Mau 4B'!$D$11:$W$394,4,0)),0) -> 60 | I28: =IFERROR((VLOOKUP($D28,'Mau 4B'!$D$11:$W$394,5,0)),0) -> 0.75 | J28: =IFERROR((VLOOKUP($D28,'Mau 4B'!$D$11:$W$394,6,0)),0) -> 0 | K28: =G28+H28+I28-J28 -> 92.75 | L28: =IFERROR((VLOOKUP($D28,'Mau 4B'!$D$11:$W$394,13,0)),0) -> Xuất sắc | M28: =IFERROR((VLOOKUP($D28,'Mau 4B'!$D$11:$W$394,12,0)),0) -> 92 | N28: =IFERROR((VLOOKUP($D28,'Mau 4B'!$D$11:$W$394,19,0)),0) -> Xuất sắc | O28: =IFERROR((VLOOKUP($D28,'Mau 4B'!$D$11:$W$394,14,0)),0) -> 0 | Q28: 21 | R28: Khoa Kinh tế | S28: 1 | T28: 1 | U28: 1 | AA28: 3 | AB28: 2 | AC28: 2 | AE28: 1
A29: 22 | B29: Nguyễn Hữu | C29: Thiện | D29: 11100083326 | E29: Trưởng TT ĐH&QLDL | F29: =IFERROR((VLOOKUP($D29,'Mau 4B'!$D$11:$W$394,2,0)),0) -> 92 | G29: =IFERROR((VLOOKUP($D29,'Mau 4B'!$D$11:$W$394,3,0)),0) -> 32 | H29: =IFERROR((VLOOKUP($D29,'Mau 4B'!$D$11:$W$394,4,0)),0) -> 60 | I29: =IFERROR((VLOOKUP($D29,'Mau 4B'!$D$11:$W$394,5,0)),0) -> 2 | J29: =IFERROR((VLOOKUP($D29,'Mau 4B'!$D$11:$W$394,6,0)),0) -> 0 | L29: =IFERROR((VLOOKUP($D29,'Mau 4B'!$D$11:$W$394,13,0)),0) -> Xuất sắc | M29: =IFERROR((VLOOKUP($D29,'Mau 4B'!$D$11:$W$394,12,0)),0) -> 94 | N29: =IFERROR((VLOOKUP($D29,'Mau 4B'!$D$11:$W$394,19,0)),0) -> Xuất sắc | O29: =IFERROR((VLOOKUP($D29,'Mau 4B'!$D$11:$W$394,14,0)),0) -> 0 | Q29: 22 | R29: Khoa Xây dựng | S29: 1 | T29: 1 | U29: 1
A30: 23 | B30: Trang Thị Xuân | C30: Uyên | D30: 11100000785 | E30: Trưởng TT Y tế | F30: =IFERROR((VLOOKUP($D30,'Mau 4B'!$D$11:$W$394,2,0)),0) -> 96 | G30: =IFERROR((VLOOKUP($D30,'Mau 4B'!$D$11:$W$394,3,0)),0) -> 36 | H30: =IFERROR((VLOOKUP($D30,'Mau 4B'!$D$11:$W$394,4,0)),0) -> 60 | I30: =IFERROR((VLOOKUP($D30,'Mau 4B'!$D$11:$W$394,5,0)),0) -> 0 | J30: =IFERROR((VLOOKUP($D30,'Mau 4B'!$D$11:$W$394,6,0)),0) -> 0 | K30: =G30+H30+I30-J30 -> 96 | L30: =IFERROR((VLOOKUP($D30,'Mau 4B'!$D$11:$W$394,13,0)),0) -> Xuất sắc | M30: =IFERROR((VLOOKUP($D30,'Mau 4B'!$D$11:$W$394,12,0)),0) -> 96 | N30: =IFERROR((VLOOKUP($D30,'Mau 4B'!$D$11:$W$394,19,0)),0) -> Xuất sắc | O30: =IFERROR((VLOOKUP($D30,'Mau 4B'!$D$11:$W$394,14,0)),0) -> 0 | Q30: 23
A31: 24 | B31: Đỗ Tuấn | C31: Việt | D31: 11100082715 | E31: Trưởng TT Thư viện | F31: =IFERROR((VLOOKUP($D31,'Mau 4B'!$D$11:$W$394,2,0)),0) -> 95 | G31: =IFERROR((VLOOKUP($D31,'Mau 4B'!$D$11:$W$394,3,0)),0) -> 35 | H31: =IFERROR((VLOOKUP($D31,'Mau 4B'!$D$11:$W$394,4,0)),0) -> 50 | I31: =IFERROR((VLOOKUP($D31,'Mau 4B'!$D$11:$W$394,5,0)),0) -> 0 | J31: =IFERROR((VLOOKUP($D31,'Mau 4B'!$D$11:$W$394,6,0)),0) -> 0 | K31: =G31+H31+I31-J31 -> 85 | L31: =IFERROR((VLOOKUP($D31,'Mau 4B'!$D$11:$W$394,13,0)),0) -> Tốt | M31: =IFERROR((VLOOKUP($D31,'Mau 4B'!$D$11:$W$394,12,0)),0) -> 85 | N31: =IFERROR((VLOOKUP($D31,'Mau 4B'!$D$11:$W$394,19,0)),0) -> Tốt | O31: =IFERROR((VLOOKUP($D31,'Mau 4B'!$D$11:$W$394,14,0)),0) -> 0 | R31: TỔNG CỘNG | S31: =SUM(S8:S30) -> 43 | T31: =SUM(T8:T30) -> 27 | U31: =SUM(U8:U30) -> 27 | V31: =SUM(V8:V30) -> 0 | W31: =SUM(W8:W30) -> 12 | X31: =SUM(X8:X30) -> 0 | Y31: =SUM(Y8:Y30) -> 0 | AA31: =SUM(AA8:AA30) -> 18 | AB31: =SUM(AB8:AB30) -> 10 | AC31: =SUM(AC8:AC30) -> 9 | AD31: =SUM(AD8:AD30) -> 0 | AE31: =SUM(AE8:AE30) -> 9
A32: 25 | B32: Nguyễn Thành | C32: Nam | D32: 60400000280 | E32: Trưởng khoa KHCB | F32: =IFERROR((VLOOKUP($D32,'Mau 4B'!$D$11:$W$394,2,0)),0) -> 98 | G32: =IFERROR((VLOOKUP($D32,'Mau 4B'!$D$11:$W$394,3,0)),0) -> 38 | H32: =IFERROR((VLOOKUP($D32,'Mau 4B'!$D$11:$W$394,4,0)),0) -> 60 | I32: =IFERROR((VLOOKUP($D32,'Mau 4B'!$D$11:$W$394,5,0)),0) -> 0.5 | J32: =IFERROR((VLOOKUP($D32,'Mau 4B'!$D$11:$W$394,6,0)),0) -> 0 | K32: =G32+H32+I32-J32 -> 98.5 | L32: =IFERROR((VLOOKUP($D32,'Mau 4B'!$D$11:$W$394,13,0)),0) -> Xuất sắc | M32: =IFERROR((VLOOKUP($D32,'Mau 4B'!$D$11:$W$394,12,0)),0) -> 98.5 | N32: =IFERROR((VLOOKUP($D32,'Mau 4B'!$D$11:$W$394,19,0)),0) -> Tốt | O32: =IFERROR((VLOOKUP($D32,'Mau 4B'!$D$11:$W$394,14,0)),0) -> 0 | R32: Tỷ lệ
A33: 26 | B33: Phạm Thị Thu | C33: Nga | D33: 11100000799 | E33: Phó Trưởng khoa KHCB | F33: =IFERROR((VLOOKUP($D33,'Mau 4B'!$D$11:$W$394,2,0)),0) -> 96 | G33: =IFERROR((VLOOKUP($D33,'Mau 4B'!$D$11:$W$394,3,0)),0) -> 37 | H33: =IFERROR((VLOOKUP($D33,'Mau 4B'!$D$11:$W$394,4,0)),0) -> 60 | I33: =IFERROR((VLOOKUP($D33,'Mau 4B'!$D$11:$W$394,5,0)),0) -> 1 | J33: =IFERROR((VLOOKUP($D33,'Mau 4B'!$D$11:$W$394,6,0)),0) -> 0 | K33: =G33+H33+I33-J33 -> 98 | L33: =IFERROR((VLOOKUP($D33,'Mau 4B'!$D$11:$W$394,13,0)),0) -> Xuất sắc | M33: =IFERROR((VLOOKUP($D33,'Mau 4B'!$D$11:$W$394,12,0)),0) -> 98 | N33: =IFERROR((VLOOKUP($D33,'Mau 4B'!$D$11:$W$394,19,0)),0) -> Xuất sắc | O33: =IFERROR((VLOOKUP($D33,'Mau 4B'!$D$11:$W$394,14,0)),0) -> 0 | R33: Tổng số CBQL đánh giá | S33: =S31+AA31 -> 61 | T33: =T31+AB31 -> 37 | U33: =U31+AC31 -> 36 | W33: =W31+AE31 -> 21 | Y33: =Y31+AG31 -> 0 | Z33: =Z31+AI31 -> 0
A34: 27 | B34: Lê Thị Hồng | C34: Vân | D34: 11100082586 | E34: Phó Trưởng khoa LLCT | F34: =IFERROR((VLOOKUP($D34,'Mau 4B'!$D$11:$W$394,2,0)),0) -> 86 | G34: =IFERROR((VLOOKUP($D34,'Mau 4B'!$D$11:$W$394,3,0)),0) -> 35 | H34: =IFERROR((VLOOKUP($D34,'Mau 4B'!$D$11:$W$394,4,0)),0) -> 60 | I34: =IFERROR((VLOOKUP($D34,'Mau 4B'!$D$11:$W$394,5,0)),0) -> 1 | J34: =IFERROR((VLOOKUP($D34,'Mau 4B'!$D$11:$W$394,6,0)),0) -> 0 | K34: =G34+H34+I34-J34 -> 96 | L34: =IFERROR((VLOOKUP($D34,'Mau 4B'!$D$11:$W$394,13,0)),0) -> Xuất sắc | M34: =IFERROR((VLOOKUP($D34,'Mau 4B'!$D$11:$W$394,12,0)),0) -> 96 | N34: =IFERROR((VLOOKUP($D34,'Mau 4B'!$D$11:$W$394,19,0)),0) -> Xuất sắc | O34: =IFERROR((VLOOKUP($D34,'Mau 4B'!$D$11:$W$394,14,0)),0) -> 0
A35: 28 | B35: Nguyễn Ngọc | C35: Quỳnh | D35: 11100110132 | E35: Phó Trưởng khoa LLCT | F35: =IFERROR((VLOOKUP($D35,'Mau 4B'!$D$11:$W$394,2,0)),0) -> 82 | G35: =IFERROR((VLOOKUP($D35,'Mau 4B'!$D$11:$W$394,3,0)),0) -> 33 | H35: =IFERROR((VLOOKUP($D35,'Mau 4B'!$D$11:$W$394,4,0)),0) -> 50 | I35: =IFERROR((VLOOKUP($D35,'Mau 4B'!$D$11:$W$394,5,0)),0) -> 1 | J35: =IFERROR((VLOOKUP($D35,'Mau 4B'!$D$11:$W$394,6,0)),0) -> 0 | K35: =G35+H35+I35-J35 -> 84 | L35: =IFERROR((VLOOKUP($D35,'Mau 4B'!$D$11:$W$394,13,0)),0) -> Tốt | M35: =IFERROR((VLOOKUP($D35,'Mau 4B'!$D$11:$W$394,12,0)),0) -> 84 | N35: =IFERROR((VLOOKUP($D35,'Mau 4B'!$D$11:$W$394,19,0)),0) -> Tốt | O35: =IFERROR((VLOOKUP($D35,'Mau 4B'!$D$11:$W$394,14,0)),0) -> 0
A36: 29 | B36: Nguyễn Vân | C36: Giang | D36: 11100000727 | E36: Phó Trưởng khoa CNTT | F36: =IFERROR((VLOOKUP($D36,'Mau 4B'!$D$11:$W$394,2,0)),0) -> 95 | G36: =IFERROR((VLOOKUP($D36,'Mau 4B'!$D$11:$W$394,3,0)),0) -> 36 | H36: =IFERROR((VLOOKUP($D36,'Mau 4B'!$D$11:$W$394,4,0)),0) -> 60 | I36: =IFERROR((VLOOKUP($D36,'Mau 4B'!$D$11:$W$394,5,0)),0) -> 0 | J36: =IFERROR((VLOOKUP($D36,'Mau 4B'!$D$11:$W$394,6,0)),0) -> 0 | K36: =G36+H36+I36-J36 -> 96 | L36: =IFERROR((VLOOKUP($D36,'Mau 4B'!$D$11:$W$394,13,0)),0) -> Xuất sắc | M36: =IFERROR((VLOOKUP($D36,'Mau 4B'!$D$11:$W$394,12,0)),0) -> 96 | N36: =IFERROR((VLOOKUP($D36,'Mau 4B'!$D$11:$W$394,19,0)),0) -> Xuất sắc | O36: =IFERROR((VLOOKUP($D36,'Mau 4B'!$D$11:$W$394,14,0)),0) -> 0
A37: 30 | B37: Trần Vĩnh | C37: Xuyên | D37: 21000001100 | E37: Phó Trưởng khoa CNTT | F37: =IFERROR((VLOOKUP($D37,'Mau 4B'!$D$11:$W$394,2,0)),0) -> 87 | G37: =IFERROR((VLOOKUP($D37,'Mau 4B'!$D$11:$W$394,3,0)),0) -> 27 | H37: =IFERROR((VLOOKUP($D37,'Mau 4B'!$D$11:$W$394,4,0)),0) -> 60 | I37: =IFERROR((VLOOKUP($D37,'Mau 4B'!$D$11:$W$394,5,0)),0) -> 0 | J37: =IFERROR((VLOOKUP($D37,'Mau 4B'!$D$11:$W$394,6,0)),0) -> 0 | K37: =G37+H37+I37-J37 -> 87 | L37: =IFERROR((VLOOKUP($D37,'Mau 4B'!$D$11:$W$394,13,0)),0) -> Tốt | M37: =IFERROR((VLOOKUP($D37,'Mau 4B'!$D$11:$W$394,12,0)),0) -> 87 | N37: =IFERROR((VLOOKUP($D37,'Mau 4B'!$D$11:$W$394,19,0)),0) -> Tốt | O37: =IFERROR((VLOOKUP($D37,'Mau 4B'!$D$11:$W$394,14,0)),0) -> 0
A38: 31 | B38: Nguyễn | C38: Khoa | D38: 11100000802 | E38: Phó Trưởng khoa CNTT | F38: =IFERROR((VLOOKUP($D38,'Mau 4B'!$D$11:$W$394,2,0)),0) -> 97 | G38: =IFERROR((VLOOKUP($D38,'Mau 4B'!$D$11:$W$394,3,0)),0) -> 36 | H38: =IFERROR((VLOOKUP($D38,'Mau 4B'!$D$11:$W$394,4,0)),0) -> 60 | I38: =IFERROR((VLOOKUP($D38,'Mau 4B'!$D$11:$W$394,5,0)),0) -> 0 | J38: =IFERROR((VLOOKUP($D38,'Mau 4B'!$D$11:$W$394,6,0)),0) -> 0 | K38: =G38+H38+I38-J38 -> 96 | L38: =IFERROR((VLOOKUP($D38,'Mau 4B'!$D$11:$W$394,13,0)),0) -> Xuất sắc | M38: =IFERROR((VLOOKUP($D38,'Mau 4B'!$D$11:$W$394,12,0)),0) -> 96 | N38: =IFERROR((VLOOKUP($D38,'Mau 4B'!$D$11:$W$394,19,0)),0) -> Xuất sắc | O38: =IFERROR((VLOOKUP($D38,'Mau 4B'!$D$11:$W$394,14,0)),0) -> 0
A39: 32 | B39: Chung Trần Thế | C39: Vinh | D39: 11100000814 | E39: Trưởng khoa Cơ khí | F39: =IFERROR((VLOOKUP($D39,'Mau 4B'!$D$11:$W$394,2,0)),0) -> 92 | G39: =IFERROR((VLOOKUP($D39,'Mau 4B'!$D$11:$W$394,3,0)),0) -> 32 | H39: =IFERROR((VLOOKUP($D39,'Mau 4B'!$D$11:$W$394,4,0)),0) -> 60 | I39: =IFERROR((VLOOKUP($D39,'Mau 4B'!$D$11:$W$394,5,0)),0) -> 1 | J39: =IFERROR((VLOOKUP($D39,'Mau 4B'!$D$11:$W$394,6,0)),0) -> 0 | K39: =G39+H39+I39-J39 -> 93 | L39: =IFERROR((VLOOKUP($D39,'Mau 4B'!$D$11:$W$394,13,0)),0) -> Xuất sắc | M39: =IFERROR((VLOOKUP($D39,'Mau 4B'!$D$11:$W$394,12,0)),0) -> 93 | N39: =IFERROR((VLOOKUP($D39,'Mau 4B'!$D$11:$W$394,19,0)),0) -> Xuất sắc | O39: =IFERROR((VLOOKUP($D39,'Mau 4B'!$D$11:$W$394,14,0)),0) -> 0
A40: 33 | B40: Trần Đình | C40: Khải | D40: 11100096323 | E40: Phó Trưởng khoa Cơ khí | F40: =IFERROR((VLOOKUP($D40,'Mau 4B'!$D$11:$W$394,2,0)),0) -> 87 | G40: =IFERROR((VLOOKUP($D40,'Mau 4B'!$D$11:$W$394,3,0)),0) -> 30 | H40: =IFERROR((VLOOKUP($D40,'Mau 4B'!$D$11:$W$394,4,0)),0) -> 50 | I40: =IFERROR((VLOOKUP($D40,'Mau 4B'!$D$11:$W$394,5,0)),0) -> 1 | J40: =IFERROR((VLOOKUP($D40,'Mau 4B'!$D$11:$W$394,6,0)),0) -> 0 | K40: =G40+H40+I40-J40 -> 81 | L40: =IFERROR((VLOOKUP($D40,'Mau 4B'!$D$11:$W$394,13,0)),0) -> Tốt | M40: =IFERROR((VLOOKUP($D40,'Mau 4B'!$D$11:$W$394,12,0)),0) -> 81 | N40: =IFERROR((VLOOKUP($D40,'Mau 4B'!$D$11:$W$394,19,0)),0) -> Không hoàn thành | O40: =IFERROR((VLOOKUP($D40,'Mau 4B'!$D$11:$W$394,14,0)),0) -> B
A41: 34 | B41: Tạ Minh | C41: Cường | D41: 11100000713 | E41: Phó Trưởng khoa Điện - Điện tử | F41: =IFERROR((VLOOKUP($D41,'Mau 4B'!$D$11:$W$394,2,0)),0) -> 89 | G41: =IFERROR((VLOOKUP($D41,'Mau 4B'!$D$11:$W$394,3,0)),0) -> 28 | H41: =IFERROR((VLOOKUP($D41,'Mau 4B'!$D$11:$W$394,4,0)),0) -> 60 | I41: =IFERROR((VLOOKUP($D41,'Mau 4B'!$D$11:$W$394,5,0)),0) -> 1 | J41: =IFERROR((VLOOKUP($D41,'Mau 4B'!$D$11:$W$394,6,0)),0) -> 0 | K41: =G41+H41+I41-J41 -> 89 | L41: =IFERROR((VLOOKUP($D41,'Mau 4B'!$D$11:$W$394,13,0)),0) -> Tốt | M41: =IFERROR((VLOOKUP($D41,'Mau 4B'!$D$11:$W$394,12,0)),0) -> 89 | N41: =IFERROR((VLOOKUP($D41,'Mau 4B'!$D$11:$W$394,19,0)),0) -> Tốt | O41: =IFERROR((VLOOKUP($D41,'Mau 4B'!$D$11:$W$394,14,0)),0) -> 0
A42: 35 | B42: Huỳnh Ngọc | C42: Mai | D42: 11100000722 | E42: Phó Trưởng khoa Điện - Điện tử | F42: =IFERROR((VLOOKUP($D42,'Mau 4B'!$D$11:$W$394,2,0)),0) -> 89 | G42: =IFERROR((VLOOKUP($D42,'Mau 4B'!$D$11:$W$394,3,0)),0) -> 34 | H42: =IFERROR((VLOOKUP($D42,'Mau 4B'!$D$11:$W$394,4,0)),0) -> 60 | I42: =IFERROR((VLOOKUP($D42,'Mau 4B'!$D$11:$W$394,5,0)),0) -> 1 | J42: =IFERROR((VLOOKUP($D42,'Mau 4B'!$D$11:$W$394,6,0)),0) -> 0 | K42: =G42+H42+I42-J42 -> 95 | L42: =IFERROR((VLOOKUP($D42,'Mau 4B'!$D$11:$W$394,13,0)),0) -> Xuất sắc | M42: =IFERROR((VLOOKUP($D42,'Mau 4B'!$D$11:$W$394,12,0)),0) -> 95 | N42: =IFERROR((VLOOKUP($D42,'Mau 4B'!$D$11:$W$394,19,0)),0) -> Xuất sắc | O42: =IFERROR((VLOOKUP($D42,'Mau 4B'!$D$11:$W$394,14,0)),0) -> 0
A43: 36 | B43: Phạm Minh | C43: Nghĩa | D43: 11100000702 | E43: Phó tổ trưởng tổ TT-PC | F43: =IFERROR((VLOOKUP($D43,'Mau 4B'!$D$11:$W$394,2,0)),0) -> 87 | G43: =IFERROR((VLOOKUP($D43,'Mau 4B'!$D$11:$W$394,3,0)),0) -> 34 | H43: =IFERROR((VLOOKUP($D43,'Mau 4B'!$D$11:$W$394,4,0)),0) -> 60 | I43: =IFERROR((VLOOKUP($D43,'Mau 4B'!$D$11:$W$394,5,0)),0) -> 1 | J43: =IFERROR((VLOOKUP($D43,'Mau 4B'!$D$11:$W$394,6,0)),0) -> 0 | K43: =G43+H43+I43-J43 -> 95 | L43: =IFERROR((VLOOKUP($D43,'Mau 4B'!$D$11:$W$394,13,0)),0) -> Xuất sắc | M43: =IFERROR((VLOOKUP($D43,'Mau 4B'!$D$11:$W$394,12,0)),0) -> 95 | N43: =IFERROR((VLOOKUP($D43,'Mau 4B'!$D$11:$W$394,19,0)),0) -> Xuất sắc | O43: =IFERROR((VLOOKUP($D43,'Mau 4B'!$D$11:$W$394,14,0)),0) -> 0
B44: Võ Đắc | C44: Thịnh | D44: 11100000776 | E44: Phó Trưởng khoa Động lực | F44: =IFERROR((VLOOKUP($D44,'Mau 4B'!$D$11:$W$394,2,0)),0) -> 87 | G44: =IFERROR((VLOOKUP($D44,'Mau 4B'!$D$11:$W$394,3,0)),0) -> 32 | H44: =IFERROR((VLOOKUP($D44,'Mau 4B'!$D$11:$W$394,4,0)),0) -> 60 | I44: =IFERROR((VLOOKUP($D44,'Mau 4B'!$D$11:$W$394,5,0)),0) -> 0 | J44: =IFERROR((VLOOKUP($D44,'Mau 4B'!$D$11:$W$394,6,0)),0) -> 0 | K44: =G44+H44+I44-J44 -> 92 | L44: =IFERROR((VLOOKUP($D44,'Mau 4B'!$D$11:$W$394,13,0)),0) -> Xuất sắc | M44: =IFERROR((VLOOKUP($D44,'Mau 4B'!$D$11:$W$394,12,0)),0) -> 92 | N44: =IFERROR((VLOOKUP($D44,'Mau 4B'!$D$11:$W$394,19,0)),0) -> Xuất sắc | O44: =IFERROR((VLOOKUP($D44,'Mau 4B'!$D$11:$W$394,14,0)),0) -> 0
A45: 37 | B45: Nguyễn Anh | C45: Tuấn | D45: 11100067231 | E45: Trưởng khoa Động lực | F45: =IFERROR((VLOOKUP($D45,'Mau 4B'!$D$11:$W$394,2,0)),0) -> 93 | G45: =IFERROR((VLOOKUP($D45,'Mau 4B'!$D$11:$W$394,3,0)),0) -> 34 | H45: =IFERROR((VLOOKUP($D45,'Mau 4B'!$D$11:$W$394,4,0)),0) -> 60 | I45: =IFERROR((VLOOKUP($D45,'Mau 4B'!$D$11:$W$394,5,0)),0) -> 0 | J45: =IFERROR((VLOOKUP($D45,'Mau 4B'!$D$11:$W$394,6,0)),0) -> 0 | K45: =G45+H45+I45-J45 -> 94 | L45: =IFERROR((VLOOKUP($D45,'Mau 4B'!$D$11:$W$394,13,0)),0) -> Xuất sắc | M45: =IFERROR((VLOOKUP($D45,'Mau 4B'!$D$11:$W$394,12,0)),0) -> 94 | N45: =IFERROR((VLOOKUP($D45,'Mau 4B'!$D$11:$W$394,19,0)),0) -> Tốt | O45: =IFERROR((VLOOKUP($D45,'Mau 4B'!$D$11:$W$394,14,0)),0) -> 0
