Workbook

Sheet Mau 4B
A1: TRƯỜNG CAO ĐẲNG LÝ TỰ TRỌNG THÀNH PHỐ HỒ CHÍ MINH PHÒNG TỔ CHỨC - HÀNH CHÍNH - TỔNG HỢP | P1: Mẫu 4B | V1: Mẫu 4B
A3: BÁO CÁO DANH SÁCH TỔNG HỢP KẾT QUẢ ĐÁNH GIÁ, PHÂN LOẠI CỦA CÔNG CHỨC, VIÊN CHỨC Kỳ đánh giá: Quý 1/2020
A5: STT | B5: HỌ VÀ TÊN | D5: MÃ NHÂN VIÊN | E5: ĐIỂM TỰ ĐÁNH GIÁ | F5: ĐIỂM ĐỒNG NGHIỆP ĐÁNH GIÁ | K5: HỘI ĐỒNG ĐÁNH GIÁ | W5: Ghi chú | X5: KẾT QUẢ XẾP LOẠI ĐỒNG NGHIỆP ĐÁNH GIÁ | AH5: KẾT QUẢ XẾP LOẠI CỦA HỘI ĐỒNG
F6: Tiêu chí I+II | G6: Tiêu chí III | H6: Tổng số Điểm cộng | I6: Tổng số Điểm trừ | J6: Tổng điểm | K6: Tiêu chí I+II | L6: Tiêu chí III | M6: Tổng số Điểm cộng | N6: Tổng số Điểm trừ | O6: Tổng điểm | P6: Kết quả xếp loại | Q6: Thi đua T7 | R6: Thi đua T8 | S6: Thi đua T9 | T6: Hệ số trừ bậc (B, C) | U6: Số tháng xếp loại D | V6: Kết quả xếp loại | X6: Hoàn thành xuất sắc nhiệm vụ | Z6: Hoàn thành tốt nhiệm vụ | AB6: Hoàn thành nhiệm vụ hoặc hoàn thành nhiệm vụ nhưng còn hạn chế về năng lực | AD6: Không hoàn thành nhiệm vụ | AF6: Không xếp loai (nghỉ chế độ thai sản, nghỉ không lương) | AH6: Hoàn thành xuất sắc nhiệm vụ | AJ6: Hoàn thành tốt nhiệm vụ | AL6: Hoàn thành nhiệm vụ hoặc hoàn thành nhiệm vụ nhưng còn hạn chế về năng lực | AN6: Không hoàn thành nhiệm vụ | AP6: Không xếp loai (nghỉ chế độ thai sản, nghỉ không lương)
A7: (1) | B7: (2) | D7: (3) | F7: (4) | G7: (5) | H7: (6) | I7: (7) | J7: (8)= (4+5+6)-(7) | K7: (9) | L7: (10) | M7: (11) | N7: (12) | O7: (13)=(9+10+11)-(12) | P7: (14) | V7: (14) | X7: SL | Y7: Tỷ lệ | Z7: SL | AA7: Tỷ lệ | AB7: SL | AC7: Tỷ lệ | AD7: SL | AE7: Tỷ lệ | AF7: SL | AG7: Tỷ lệ | AH7: SL | AI7: Tỷ lệ | AJ7: SL | AK7: Tỷ lệ | AL7: SL | AM7: Tỷ lệ | AN7: SL | AO7: Tỷ lệ | AP7: SL | AQ7: Tỷ lệ
A8: I | B8: BAN GIÁM HIỆU | X8: =X9 -> 3 | Y8: =X8/($X8+$Z8+$AB8+$AD8+$AF8) -> 0.75 | Z8: =Z9 -> 0 | AA8: =Z8/($X8+$Z8+$AB8+$AD8+$AF8) -> 0 | AB8: =AB9 -> 0 | AC8: =AB8/($X8+$Z8+$AB8+$AD8+$AF8) -> 0 | AD8: =AD9 -> 0 | AE8: =AD8/($X8+$Z8+$AB8+$AD8+$AF8) -> 0 | AF8: =AF9 -> 1 | AG8: =AF8/($X8+$Z8+$AB8+$AD8+$AF8) -> 0.25 | AH8: =AH9 -> 3 | AI8: =AH8/($X8+$Z8+$AB8+$AD8+$AF8) -> 0.75 | AJ8: =AJ9 -> 0 | AK8: =AJ8/($X8+$Z8+$AB8+$AD8+$AF8) -> 0 | AL8: =AL9 -> 0 | AM8: =AL8/($X8+$Z8+$AB8+$AD8+$AF8) -> 0 | AN8: =AN9 -> 0 | AO8: =AN8/($X8+$Z8+$AB8+$AD8+$AF8) -> 0 | AP8: =AP9 -> 1 | AQ8: =AP8/($X8+$Z8+$AB8+$AD8+$AF8) -> 0.25
A9: a | B9: Viên chức | X9: =COUNTIF(X10:X13,"x") -> 3 | Y9: =X9/($X9+$Z9+$AB9+$AD9) -> 1 | Z9: =COUNTIF(Z10:Z13,"x") -> 0 | AA9: =Z9/($X9+$Z9+$AB9+$AD9) -> 0 | AB9: =COUNTIF(AB10:AB13,"x") -> 0 | AC9: =AB9/($X9+$Z9+$AB9+$AD9) -> 0 | AD9: =COUNTIF(AD10:AD13,"x") -> 0 | AE9: =AD9/($X9+$Z9+$AB9+$AD9) -> 0 | AF9: =COUNTIF(AF10:AF13,"x") -> 1 | AG9: =AF9/($X9+$Z9+$AB9+$AD9) -> 0.33333333 | AH9: =COUNTIF(AH10:AH13,"x") -> 3 | AI9: =AH9/($X9+$Z9+$AB9+$AD9) -> 1 | AJ9: =COUNTIF(AJ10:AJ13,"x") -> 0 | AK9: =AJ9/($X9+$Z9+$AB9+$AD9) -> 0 | AL9: =COUNTIF(AL10:AL13,"x") -> 0 | AM9: =AL9/($X9+$Z9+$AB9+$AD9) -> 0 | AN9: =COUNTIF(AN10:AN13,"x") -> 0 | AO9: =AN9/($X9+$Z9+$AB9+$AD9) -> 0 | AP9: =COUNTIF(AP10:AP13,"x") -> 1 | AQ9: =AP9/($X9+$Z9+$AB9+$AD9) -> 0.33333333
A10: 1 | B10: Phạm Hữu | C10: Lộc | D10: 41200001203 | J10: =F10+G10+H10-I10 -> 0 | O10: =K10+L10+M10-N10 -> 0 | P10: =IF(AND($O10>=90,$O10<=100),"Xuất sắc",IF(AND($O10>=75,$O10<90),"Tốt",IF(AND($O10>=50,$O10<75),"Hoàn thành",IF(AND($O10<50,$O10>0),"Không hoàn thành",IF($O10=0,"Không đánh giá",""))))) -> Không đánh giá | V10: =IF(AND($O10>=90,$O10<=100),"Xuất sắc",IF(AND($O10>=75,$O10<90),"Tốt",IF(AND($O10>=50,$O10<75),"Hoàn thành",IF(AND($O10<50,$O10>0),"Không hoàn thành",IF($O10=0,"Không đánh giá",""))))) -> Không đánh giá | X10: =IF(AND($J10>=90,$J10<=100),"X",IF($J10<90,"","")) | Z10: =IF(AND($J10>=75,$J10<90),"X",IF($J10<75,"","")) | AB10: =IF(AND($J10>=50,$J10<75),"X",IF($J10<50,"","")) | AF10: X | AH10: =IF(AND($J10>=90,$J10<=100),"X",IF($J10<90,"","")) | AJ10: =IF(AND($J10>=75,$J10<90),"X",IF($J10<75,"","")) | AL10: =IF(AND($J10>=50,$J10<75),"X",IF($J10<50,"","")) | AP10: X
A11: 2 | B11: Đinh Hồng | C11: Minh | D11: 11100000791 | E11: 82 | F11: 32 | G11: 60 | J11: =F11+G11+H11-I11 -> 92 | K11: =F11 -> 32 | L11: =G11 -> 60 | O11: =K11+L11+M11-N11 -> 92 | P11: =IF(AND($O11>=90,$O11<=100),"Xuất sắc",IF(AND($O11>=75,$O11<90),"Tốt",IF(AND($O11>=50,$O11<75),"Hoàn thành",IF(AND($O11<50,$O11>0),"Không hoàn thành",IF($O11=0,"Không đánh giá",""))))) -> Xuất sắc | V11: =IF(AND($O11>=90,$O11<=100),"Xuất sắc",IF(AND($O11>=75,$O11<90),"Tốt",IF(AND($O11>=50,$O11<75),"Hoàn thành",IF(AND($O11<50,$O11>0),"Không hoàn thành",IF($O11=0,"Không đánh giá",""))))) -> Xuất sắc | X11: =IF(AND($J11>=90,$J11<=100),"X",IF($J11<90,"","")) -> X | Z11: =IF(AND($J11>=75,$J11<90),"X",IF($J11<75,"","")) | AB11: =IF(AND($J11>=50,$J11<75),"X",IF($J11<50,"","")) | AH11: =IF(AND($J11>=90,$J11<=100),"X",IF($J11<90,"","")) -> X | AJ11: =IF(AND($J11>=75,$J11<90),"X",IF($J11<75,"","")) | AL11: =IF(AND($J11>=50,$J11<75),"X",IF($J11<50,"",""))
A12: 3 | B12: Đinh Văn | C12: Đệ | D12: 50200000021 | E12: 98 | F12: 36 | G12: 60 | J12: =F12+G12+H12-I12 -> 96 | K12: =F12 -> 36 | L12: =G12 -> 60 | O12: =K12+L12+M12-N12 -> 96 | P12: =IF(AND($O12>=90,$O12<=100),"Xuất sắc",IF(AND($O12>=75,$O12<90),"Tốt",IF(AND($O12>=50,$O12<75),"Hoàn thành",IF(AND($O12<50,$O12>0),"Không hoàn thành",IF($O12=0,"Không đánh giá",""))))) -> Xuất sắc | V12: =IF(AND($O12>=90,$O12<=100),"Xuất sắc",IF(AND($O12>=75,$O12<90),"Tốt",IF(AND($O12>=50,$O12<75),"Hoàn thành",IF(AND($O12<50,$O12>0),"Không hoàn thành",IF($O12=0,"Không đánh giá",""))))) -> Xuất sắc | X12: =IF(AND($J12>=90,$J12<=100),"X",IF($J12<90,"","")) -> X | Z12: =IF(AND($J12>=75,$J12<90),"X",IF($J12<75,"","")) | AB12: =IF(AND($J12>=50,$J12<75),"X",IF($J12<50,"","")) | AH12: =IF(AND($J12>=90,$J12<=100),"X",IF($J12<90,"","")) -> X | AJ12: =IF(AND($J12>=75,$J12<90),"X",IF($J12<75,"","")) | AL12: =IF(AND($J12>=50,$J12<75),"X",IF($J12<50,"",""))
A13: 4 | B13: Châu Văn | C13: Bảo | D13: 50200000021 | E13: 98 | F13: 35 | G13: 60 | J13: =F13+G13+H13-I13 -> 95 | K13: =F13 -> 35 | L13: =G13 -> 60 | O13: =K13+L13+M13-N13 -> 95 | P13: =IF(AND($O13>=90,$O13<=100),"Xuất sắc",IF(AND($O13>=75,$O13<90),"Tốt",IF(AND($O13>=50,$O13<75),"Hoàn thành",IF(AND($O13<50,$O13>0),"Không hoàn thành",IF($O13=0,"Không đánh giá",""))))) -> Xuất sắc | V13: =IF(AND($O13>=90,$O13<=100),"Xuất sắc",IF(AND($O13>=75,$O13<90),"Tốt",IF(AND($O13>=50,$O13<75),"Hoàn thành",IF(AND($O13<50,$O13>0),"Không hoàn thành",IF($O13=0,"Không đánh giá",""))))) -> Xuất sắc | X13: =IF(AND($J13>=90,$J13<=100),"X",IF($J13<90,"","")) -> X | Z13: =IF(AND($J13>=75,$J13<90),"X",IF($J13<75,"","")) | AB13: =IF(AND($J13>=50,$J13<75),"X",IF($J13<50,"","")) | AH13: =IF(AND($J13>=90,$J13<=100),"X",IF($J13<90,"","")) -> X | AJ13: =IF(AND($J13>=75,$J13<90),"X",IF($J13<75,"","")) | AL13: =IF(AND($J13>=50,$J13<75),"X",IF($J13<50,"",""))
A14: I | B14: PHÒNG TỔ CHỨC - HÀNH CHÍNH - TỔNG HỢP | X14: =X15+X27+X30 -> 15 | Y14: =X14/($X14+$Z14+$AB14+$AD14+$AF14) -> 0.6 | Z14: =Z15+Z27+Z30 -> 10 | AA14: =Z14/($X14+$Z14+$AB14+$AD14+$AF14) -> 0.4 | AB14: =AB15+AB27+AB30 -> 0 | AC14: =AB14/($X14+$Z14+$AB14+$AD14+$AF14) -> 0 | AD14: =AD15+AD27+AD30 -> 0 | AE14: =AD14/($X14+$Z14+$AB14+$AD14+$AF14) -> 0 | AF14: =AF15+AF27+AF30 -> 0 | AG14: =AF14/($X14+$Z14+$AB14+$AD14+$AF14) -> 0 | AH14: =AH15+AH27+AH30 -> 16 | AI14: =AH14/($X14+$Z14+$AB14+$AD14+$AF14) -> 0.64 | AJ14: =AJ15+AJ27+AJ30 -> 9 | AK14: =AJ14/($X14+$Z14+$AB14+$AD14+$AF14) -> 0.36 | AL14: =AL15+AL27+AL30 -> 0 | AM14: =AL14/($X14+$Z14+$AB14+$AD14+$AF14) -> 0 | AN14: =AN15+AN27+AN30 -> 0 | AO14: =AN14/($X14+$Z14+$AB14+$AD14+$AF14) -> 0 | AP14: =AP15+AP27+AP30 -> 0 | AQ14: =AP14/($X14+$Z14+$AB14+$AD14+$AF14) -> 0
A15: a | B15: Viên chức | X15: =COUNTIF(X16:X26,"x") -> 9 | Y15: =X15/($X15+$Z15+$AB15+$AD15+$AF15) -> 0.81818182 | Z15: =COUNTIF(Z16:Z26,"x") -> 2 | AA15: =Z15/($X15+$Z15+$AB15+$AD15+$AF15) -> 0.18181818 | AB15: =COUNTIF(AB16:AB26,"x") -> 0 | AC15: =AB15/($X15+$Z15+$AB15+$AD15+$AF15) -> 0 | AD15: =COUNTIF(AD16:AD26,"x") -> 0 | AE15: =AD15/($X15+$Z15+$AB15+$AD15+$AF15) -> 0 | AF15: =COUNTIF(AF16:AF26,"x") -> 0 | AG15: =AF15/($X15+$Z15+$AB15+$AD15+$AF15) -> 0 | AH15: =COUNTIF(AH16:AH26,"x") -> 10 | AI15: =AH15/($X15+$Z15+$AB15+$AD15+$AF15) -> 0.90909091 | AJ15: =COUNTIF(AJ16:AJ26,"x") -> 1 | AK15: =AJ15/($X15+$Z15+$AB15+$AD15+$AF15) -> 0.090909091 | AL15: =COUNTIF(AL16:AL26,"x") -> 0 | AM15: =AL15/($X15+$Z15+$AB15+$AD15+$AF15) -> 0 | AN15: =COUNTIF(AN16:AN26,"x") -> 0 | AO15: =AN15/($X15+$Z15+$AB15+$AD15+$AF15) -> 0 | AP15: =COUNTIF(AP16:AP26,"x") -> 0 | AQ15: =AP15/($X15+$Z15+$AB15+$AD15+$AF15) -> 0
A16: 1 | B16: Lâm Viết | C16: Dũng | D16: 50800000104 | E16: =IFERROR((VLOOKUP($D16,'Các đơn vị'!$D$11:$M$390,2,0)),0) -> 98 | F16: 38 | G16: 60 | H16: =IFERROR((VLOOKUP($D16,'Các đơn vị'!$D$11:$M$390,5,0)),0) -> 0 | I16: =IFERROR((VLOOKUP($D16,'Các đơn vị'!$D$11:$M$390,6,0)),0) -> 0 | J16: =F16+G16+H16-I16 -> 98 | K16: =F16 -> 38 | L16: =G16 -> 60 | M16: =H16 -> 0 | N16: =I16 -> 0 | O16: =K16+L16+M16-N16 -> 98 | P16: =IF(AND($O16>=90,$O16<=100),"Xuất sắc",IF(AND($O16>=75,$O16<90),"Tốt",IF(AND($O16>=50,$O16<75),"Hoàn thành",IF(AND($O16<50,$O16>0),"Không hoàn thành",IF($O16=0,"Không đánh giá",""))))) -> Xuất sắc | T16: =COUNTIF(Q16:S16,"B")+COUNTIF(Q16:S16,"C")*2 -> 0 | U16: =+COUNTIF(Q16:S16,"D") -> 0 | V16: =IF(U16>=1,"Không hoàn thành",IF(AND($O16>=90,$O16<100,T16=0),"Xuất sắc",IF(AND($O16>=90,$O16<100,T16=1),"Tốt",IF(AND($O16>=90,$O16<100,T16=2),"Hoàn thành",IF(AND($O16>=90,$O16<100,T16>=3),"Không hoàn thành",IF(AND($O16>=75,$O16<90,T16=0),"Tốt",IF(AND($O16>=75,$O16<90,T16=1),"Hoàn thành",IF(AND($O16>=75,$O16<90,T16>=2),"Không hoàn thành",IF(AND($O16>=50,$O16<75,T16=0),"Hoàn thành",IF(AND($O16>=50,$O16<=75,T16>=1),"Không hoàn thành",IF(AND($O16>0,$O16<50),"Không hoàn thành",IF($O16=0,"Không đánh giá","")))))))))))) -> Xuất sắc | X16: =IF(AND($J16>=90,$J16<=100),"X",IF($J16<90,"","")) -> X | Z16: =IF(AND($J16>=75,$J16<90),"X",IF($J16<75,"","")) | AB16: =IF(AND($J16>=50,$J16<75),"X",IF($J16<50,"","")) | AD16: =IF($J16<50,"X","") | AH16: =IF($V16="Xuất sắc","X","") -> X | AJ16: =IF($V16="Tốt","X","") | AL16: =IF($V16="Hoàn thành","X","") | AN16: =IF($V16="Không hoàn thành","X","") | AP16: =IF($V16="Không đánh giá","X","")
A17: 2 | B17: Nguyễn Thị | C17: Hoa | D17: 11100000743 | E17: =IFERROR((VLOOKUP($D17,'Các đơn vị'!$D$11:$M$390,2,0)),0) -> 89 | F17: 32 | G17: 60 | H17: =IFERROR((VLOOKUP($D17,'Các đơn vị'!$D$11:$M$390,5,0)),0) -> 0 | I17: =IFERROR((VLOOKUP($D17,'Các đơn vị'!$D$11:$M$390,6,0)),0) -> 0 | J17: =F17+G17+H17-I17 -> 92 | K17: =F17 -> 32 | L17: =G17 -> 60 | M17: =H17 -> 0 | N17: =I17 -> 0 | O17: =K17+L17+M17-N17 -> 92 | P17: =IF(AND($O17>=90,$O17<=100),"Xuất sắc",IF(AND($O17>=75,$O17<90),"Tốt",IF(AND($O17>=50,$O17<75),"Hoàn thành",IF(AND($O17<50,$O17>0),"Không hoàn thành",IF($O17=0,"Không đánh giá",""))))) -> Xuất sắc | T17: =COUNTIF(Q17:S17,"B")+COUNTIF(Q17:S17,"C")*2 -> 0 | U17: =+COUNTIF(Q17:S17,"D") -> 0 | V17: =IF(U17>=1,"Không hoàn thành",IF(AND($O17>=90,$O17<100,T17=0),"Xuất sắc",IF(AND($O17>=90,$O17<100,T17=1),"Tốt",IF(AND($O17>=90,$O17<100,T17=2),"Hoàn thành",IF(AND($O17>=90,$O17<100,T17>=3),"Không hoàn thành",IF(AND($O17>=75,$O17<90,T17=0),"Tốt",IF(AND($O17>=75,$O17<90,T17=1),"Hoàn thành",IF(AND($O17>=75,$O17<90,T17>=2),"Không hoàn thành",IF(AND($O17>=50,$O17<75,T17=0),"Hoàn thành",IF(AND($O17>=50,$O17<=75,T17>=1),"Không hoàn thành",IF(AND($O17>0,$O17<50),"Không hoàn thành",IF($O17=0,"Không đánh giá","")))))))))))) -> Xuất sắc | Z17: X | AB17: =IF(AND($J17>=50,$J17<75),"X",IF($J17<50,"","")) | AD17: =IF($J17<50,"X","") | AH17: =IF($V17="Xuất sắc","X","") -> X | AJ17: =IF($V17="Tốt","X","") | AL17: =IF($V17="Hoàn thành","X","") | AN17: =IF($V17="Không hoàn thành","X","") | AP17: =IF($V17="Không đánh giá","X","")
A18: 3 | B18: Phan Thị Ngọc | C18: Phượng | D18: 11100082854 | E18: =IFERROR((VLOOKUP($D18,'Các đơn vị'!$D$11:$M$390,2,0)),0) -> 80 | F18: 31 | G18: 60 | H18: =IFERROR((VLOOKUP($D18,'Các đơn vị'!$D$11:$M$390,5,0)),0) -> 0 | I18: =IFERROR((VLOOKUP($D18,'Các đơn vị'!$D$11:$M$390,6,0)),0) -> 0 | J18: =F18+G18+H18-I18 -> 91 | K18: =F18 -> 31 | L18: =G18 -> 60 | M18: =H18 -> 0 | N18: =I18 -> 0 | O18: =K18+L18+M18-N18 -> 91 | P18: =IF(AND($O18>=90,$O18<=100),"Xuất sắc",IF(AND($O18>=75,$O18<90),"Tốt",IF(AND($O18>=50,$O18<75),"Hoàn thành",IF(AND($O18<50,$O18>0),"Không hoàn thành",IF($O18=0,"Không đánh giá",""))))) -> Xuất sắc | T18: =COUNTIF(Q18:S18,"B")+COUNTIF(Q18:S18,"C")*2 -> 0 | U18: =+COUNTIF(Q18:S18,"D") -> 0 | V18: =IF(U18>=1,"Không hoàn thành",IF(AND($O18>=90,$O18<100,T18=0),"Xuất sắc",IF(AND($O18>=90,$O18<100,T18=1),"Tốt",IF(AND($O18>=90,$O18<100,T18=2),"Hoàn thành",IF(AND($O18>=90,$O18<100,T18>=3),"Không hoàn thành",IF(AND($O18>=75,$O18<90,T18=0),"Tốt",IF(AND($O18>=75,$O18<90,T18=1),"Hoàn thành",IF(AND($O18>=75,$O18<90,T18>=2),"Không hoàn thành",IF(AND($O18>=50,$O18<75,T18=0),"Hoàn thành",IF(AND($O18>=50,$O18<=75,T18>=1),"Không hoàn thành",IF(AND($O18>0,$O18<50),"Không hoàn thành",IF($O18=0,"Không đánh giá","")))))))))))) -> Xuất sắc | X18: =IF(AND($J18>=90,$J18<=100),"X",IF($J18<90,"","")) -> X | Z18: =IF(AND($J18>=75,$J18<90),"X",IF($J18<75,"","")) | AB18: =IF(AND($J18>=50,$J18<75),"X",IF($J18<50,"","")) | AD18: =IF($J18<50,"X","") | AH18: =IF($V18="Xuất sắc","X","") -> X | AJ18: =IF($V18="Tốt","X","") | AL18: =IF($V18="Hoàn thành","X","") | AN18: =IF($V18="Không hoàn thành","X","") | AP18: =IF($V18="Không đánh giá","X","")
A19: 4 | B19: Vũ Như | C19: Quỳnh | D19: 11100082861 | E19: =IFERROR((VLOOKUP($D19,'Các đơn vị'!$D$11:$M$390,2,0)),0) -> 80 | F19: 32 | G19: 60 | H19: =IFERROR((VLOOKUP($D19,'Các đơn vị'!$D$11:$M$390,5,0)),0) -> 0 | I19: =IFERROR((VLOOKUP($D19,'Các đơn vị'!$D$11:$M$390,6,0)),0) -> 0 | J19: =F19+G19+H19-I19 -> 92 | K19: =F19 -> 32 | L19: =G19 -> 60 | M19: =H19 -> 0 | N19: =I19 -> 0 | O19: =K19+L19+M19-N19 -> 92 | P19: =IF(AND($O19>=90,$O19<=100),"Xuất sắc",IF(AND($O19>=75,$O19<90),"Tốt",IF(AND($O19>=50,$O19<75),"Hoàn thành",IF(AND($O19<50,$O19>0),"Không hoàn thành",IF($O19=0,"Không đánh giá",""))))) -> Xuất sắc | T19: =COUNTIF(Q19:S19,"B")+COUNTIF(Q19:S19,"C")*2 -> 0 | U19: =+COUNTIF(Q19:S19,"D") -> 0 | V19: =IF(U19>=1,"Không hoàn thành",IF(AND($O19>=90,$O19<100,T19=0),"Xuất sắc",IF(AND($O19>=90,$O19<100,T19=1),"Tốt",IF(AND($O19>=90,$O19<100,T19=2),"Hoàn thành",IF(AND($O19>=90,$O19<100,T19>=3),"Không hoàn thành",IF(AND($O19>=75,$O19<90,T19=0),"Tốt",IF(AND($O19>=75,$O19<90,T19=1),"Hoàn thành",IF(AND($O19>=75,$O19<90,T19>=2),"Không hoàn thành",IF(AND($O19>=50,$O19<75,T19=0),"Hoàn thành",IF(AND($O19>=50,$O19<=75,T19>=1),"Không hoàn thành",IF(AND($O19>0,$O19<50),"Không hoàn thành",IF($O19=0,"Không đánh giá","")))))))))))) -> Xuất sắc | X19: =IF(AND($J19>=90,$J19<=100),"X",IF($J19<90,"","")) -> X | Z19: =IF(AND($J19>=75,$J19<90),"X",IF($J19<75,"","")) | AB19: =IF(AND($J19>=50,$J19<75),"X",IF($J19<50,"","")) | AD19: =IF($J19<50,"X","") | AH19: =IF($V19="Xuất sắc","X","") -> X | AJ19: =IF($V19="Tốt","X","") | AL19: =IF($V19="Hoàn thành","X","") | AN19: =IF($V19="Không hoàn thành","X","") | AP19: =IF($V19="Không đánh giá","X","")
A20: 5 | B20: Trần Thị Ánh | C20: Phượng | D20: 11100115699 | E20: =IFERROR((VLOOKUP($D20,'Các đơn vị'!$D$11:$M$390,2,0)),0) -> 80 | F20: 30 | G20: 60 | H20: =IFERROR((VLOOKUP($D20,'Các đơn vị'!$D$11:$M$390,5,0)),0) -> 0 | I20: =IFERROR((VLOOKUP($D20,'Các đơn vị'!$D$11:$M$390,6,0)),0) -> 0 | J20: =F20+G20+H20-I20 -> 90 | K20: =F20 -> 30 | L20: =G20 -> 60 | M20: =H20 -> 0 | N20: =I20 -> 0 | O20: =K20+L20+M20-N20 -> 90 | P20: =IF(AND($O20>=90,$O20<=100),"Xuất sắc",IF(AND($O20>=75,$O20<90),"Tốt",IF(AND($O20>=50,$O20<75),"Hoàn thành",IF(AND($O20<50,$O20>0),"Không hoàn thành",IF($O20=0,"Không đánh giá",""))))) -> Xuất sắc | T20: =COUNTIF(Q20:S20,"B")+COUNTIF(Q20:S20,"C")*2 -> 0 | U20: =+COUNTIF(Q20:S20,"D") -> 0 | V20: =IF(U20>=1,"Không hoàn thành",IF(AND($O20>=90,$O20<100,T20=0),"Xuất sắc",IF(AND($O20>=90,$O20<100,T20=1),"Tốt",IF(AND($O20>=90,$O20<100,T20=2),"Hoàn thành",IF(AND($O20>=90,$O20<100,T20>=3),"Không hoàn thành",IF(AND($O20>=75,$O20<90,T20=0),"Tốt",IF(AND($O20>=75,$O20<90,T20=1),"Hoàn thành",IF(AND($O20>=75,$O20<90,T20>=2),"Không hoàn thành",IF(AND($O20>=50,$O20<75,T20=0),"Hoàn thành",IF(AND($O20>=50,$O20<=75,T20>=1),"Không hoàn thành",IF(AND($O20>0,$O20<50),"Không hoàn thành",IF($O20=0,"Không đánh giá","")))))))))))) -> Xuất sắc | X20: =IF(AND($J20>=90,$J20<=100),"X",IF($J20<90,"","")) -> X | Z20: =IF(AND($J20>=75,$J20<90),"X",IF($J20<75,"","")) | AB20: =IF(AND($J20>=50,$J20<75),"X",IF($J20<50,"","")) | AD20: =IF($J20<50,"X","") | AH20: =IF($V20="Xuất sắc","X","") -> X | AJ20: =IF($V20="Tốt","X","") | AL20: =IF($V20="Hoàn thành","X","") | AN20: =IF($V20="Không hoàn thành","X","") | AP20: =IF($V20="Không đánh giá","X","")
A21: 6 | B21: Nguyễn Thị Bích | C21: Liễu | D21: 40400000515 | E21: =IFERROR((VLOOKUP($D21,'Các đơn vị'!$D$11:$M$390,2,0)),0) -> 80 | F21: 30 | G21: 60 | H21: =IFERROR((VLOOKUP($D21,'Các đơn vị'!$D$11:$M$390,5,0)),0) -> 0 | I21: =IFERROR((VLOOKUP($D21,'Các đơn vị'!$D$11:$M$390,6,0)),0) -> 0 | J21: =F21+G21+H21-I21 -> 90 | K21: =F21 -> 30 | L21: =G21 -> 60 | M21: =H21 -> 0 | N21: =I21 -> 0 | O21: =K21+L21+M21-N21 -> 90 | P21: =IF(AND($O21>=90,$O21<=100),"Xuất sắc",IF(AND($O21>=75,$O21<90),"Tốt",IF(AND($O21>=50,$O21<75),"Hoàn thành",IF(AND($O21<50,$O21>0),"Không hoàn thành",IF($O21=0,"Không đánh giá",""))))) -> Xuất sắc | T21: =COUNTIF(Q21:S21,"B")+COUNTIF(Q21:S21,"C")*2 -> 0 | U21: =+COUNTIF(Q21:S21,"D") -> 0 | V21: =IF(U21>=1,"Không hoàn thành",IF(AND($O21>=90,$O21<100,T21=0),"Xuất sắc",IF(AND($O21>=90,$O21<100,T21=1),"Tốt",IF(AND($O21>=90,$O21<100,T21=2),"Hoàn thành",IF(AND($O21>=90,$O21<100,T21>=3),"Không hoàn thành",IF(AND($O21>=75,$O21<90,T21=0),"Tốt",IF(AND($O21>=75,$O21<90,T21=1),"Hoàn thành",IF(AND($O21>=75,$O21<90,T21>=2),"Không hoàn thành",IF(AND($O21>=50,$O21<75,T21=0),"Hoàn thành",IF(AND($O21>=50,$O21<=75,T21>=1),"Không hoàn thành",IF(AND($O21>0,$O21<50),"Không hoàn thành",IF($O21=0,"Không đánh giá","")))))))))))) -> Xuất sắc | X21: =IF(AND($J21>=90,$J21<=100),"X",IF($J21<90,"","")) -> X | Z21: =IF(AND($J21>=75,$J21<90),"X",IF($J21<75,"","")) | AB21: =IF(AND($J21>=50,$J21<75),"X",IF($J21<50,"","")) | AD21: =IF($J21<50,"X","") | AH21: =IF($V21="Xuất sắc","X","") -> X | AJ21: =IF($V21="Tốt","X","") | AL21: =IF($V21="Hoàn thành","X","") | AN21: =IF($V21="Không hoàn thành","X","") | AP21: =IF($V21="Không đánh giá","X","")
A22: 7 | B22: Trần Thị Phương | C22: Oanh | D22: 11100071604 | E22: =IFERROR((VLOOKUP($D22,'Các đơn vị'!$D$11:$M$390,2,0)),0) -> 80 | F22: 30 | G22: 60 | H22: =IFERROR((VLOOKUP($D22,'Các đơn vị'!$D$11:$M$390,5,0)),0) -> 0 | I22: =IFERROR((VLOOKUP($D22,'Các đơn vị'!$D$11:$M$390,6,0)),0) -> 0 | J22: =F22+G22+H22-I22 -> 90 | K22: =F22 -> 30 | L22: =G22 -> 60 | M22: =H22 -> 0 | N22: =I22 -> 0 | O22: =K22+L22+M22-N22 -> 90 | P22: =IF(AND($O22>=90,$O22<=100),"Xuất sắc",IF(AND($O22>=75,$O22<90),"Tốt",IF(AND($O22>=50,$O22<75),"Hoàn thành",IF(AND($O22<50,$O22>0),"Không hoàn thành",IF($O22=0,"Không đánh giá",""))))) -> Xuất sắc | T22: =COUNTIF(Q22:S22,"B")+COUNTIF(Q22:S22,"C")*2 -> 0 | U22: =+COUNTIF(Q22:S22,"D") -> 0 | V22: =IF(U22>=1,"Không hoàn thành",IF(AND($O22>=90,$O22<100,T22=0),"Xuất sắc",IF(AND($O22>=90,$O22<100,T22=1),"Tốt",IF(AND($O22>=90,$O22<100,T22=2),"Hoàn thành",IF(AND($O22>=90,$O22<100,T22>=3),"Không hoàn thành",IF(AND($O22>=75,$O22<90,T22=0),"Tốt",IF(AND($O22>=75,$O22<90,T22=1),"Hoàn thành",IF(AND($O22>=75,$O22<90,T22>=2),"Không hoàn thành",IF(AND($O22>=50,$O22<75,T22=0),"Hoàn thành",IF(AND($O22>=50,$O22<=75,T22>=1),"Không hoàn thành",IF(AND($O22>0,$O22<50),"Không hoàn thành",IF($O22=0,"Không đánh giá","")))))))))))) -> Xuất sắc | X22: =IF(AND($J22>=90,$J22<=100),"X",IF($J22<90,"","")) -> X | Z22: =IF(AND($J22>=75,$J22<90),"X",IF($J22<75,"","")) | AB22: =IF(AND($J22>=50,$J22<75),"X",IF($J22<50,"","")) | AD22: =IF($J22<50,"X","") | AH22: =IF($V22="Xuất sắc","X","") -> X | AJ22: =IF($V22="Tốt","X","") | AL22: =IF($V22="Hoàn thành","X","") | AN22: =IF($V22="Không hoàn thành","X","") | AP22: =IF($V22="Không đánh giá","X","")
A23: 8 | B23: Lưu Hoàng Hải | C23: Yến | D23: 80300000835 | E23: =IFERROR((VLOOKUP($D23,'Các đơn vị'!$D$11:$M$390,2,0)),0) -> 88 | F23: 29 | G23: 60 | H23: =IFERROR((VLOOKUP($D23,'Các đơn vị'!$D$11:$M$390,5,0)),0) -> 0 | I23: =IFERROR((VLOOKUP($D23,'Các đơn vị'!$D$11:$M$390,6,0)),0) -> 0 | J23: =F23+G23+H23-I23 -> 89 | K23: =F23 -> 29 | L23: =G23 -> 60 | M23: =H23 -> 0 | N23: =I23 -> 0 | O23: =K23+L23+M23-N23 -> 89 | P23: =IF(AND($O23>=90,$O23<=100),"Xuất sắc",IF(AND($O23>=75,$O23<90),"Tốt",IF(AND($O23>=50,$O23<75),"Hoàn thành",IF(AND($O23<50,$O23>0),"Không hoàn thành",IF($O23=0,"Không đánh giá",""))))) -> Tốt | T23: =COUNTIF(Q23:S23,"B")+COUNTIF(Q23:S23,"C")*2 -> 0 | U23: =+COUNTIF(Q23:S23,"D") -> 0 | V23: =IF(U23>=1,"Không hoàn thành",IF(AND($O23>=90,$O23<100,T23=0),"Xuất sắc",IF(AND($O23>=90,$O23<100,T23=1),"Tốt",IF(AND($O23>=90,$O23<100,T23=2),"Hoàn thành",IF(AND($O23>=90,$O23<100,T23>=3),"Không hoàn thành",IF(AND($O23>=75,$O23<90,T23=0),"Tốt",IF(AND($O23>=75,$O23<90,T23=1),"Hoàn thành",IF(AND($O23>=75,$O23<90,T23>=2),"Không hoàn thành",IF(AND($O23>=50,$O23<75,T23=0),"Hoàn thành",IF(AND($O23>=50,$O23<=75,T23>=1),"Không hoàn thành",IF(AND($O23>0,$O23<50),"Không hoàn thành",IF($O23=0,"Không đánh giá","")))))))))))) -> Tốt | X23: =IF(AND($J23>=90,$J23<=100),"X",IF($J23<90,"","")) | Z23: =IF(AND($J23>=75,$J23<90),"X",IF($J23<75,"","")) -> X | AB23: =IF(AND($J23>=50,$J23<75),"X",IF($J23<50,"","")) | AD23: =IF($J23<50,"X","") | AH23: =IF($V23="Xuất sắc","X","") | AJ23: =IF($V23="Tốt","X","") -> X | AL23: =IF($V23="Hoàn thành","X","") | AN23: =IF($V23="Không hoàn thành","X","") | AP23: =IF($V23="Không đánh giá","X","")
A24: 9 | B24: Nguyễn Văn | C24: Chì | D24: 40700000887 | E24: =IFERROR((VLOOKUP($D24,'Các đơn vị'!$D$11:$M$390,2,0)),0) -> 80 | F24: 30 | G24: 60 | H24: =IFERROR((VLOOKUP($D24,'Các đơn vị'!$D$11:$M$390,5,0)),0) -> 0 | I24: =IFERROR((VLOOKUP($D24,'Các đơn vị'!$D$11:$M$390,6,0)),0) -> 0 | J24: =F24+G24+H24-I24 -> 90 | K24: =F24 -> 30 | L24: =G24 -> 60 | M24: =H24 -> 0 | N24: =I24 -> 0 | O24: =K24+L24+M24-N24 -> 90 | P24: =IF(AND($O24>=90,$O24<=100),"Xuất sắc",IF(AND($O24>=75,$O24<90),"Tốt",IF(AND($O24>=50,$O24<75),"Hoàn thành",IF(AND($O24<50,$O24>0),"Không hoàn thành",IF($O24=0,"Không đánh giá",""))))) -> Xuất sắc | T24: =COUNTIF(Q24:S24,"B")+COUNTIF(Q24:S24,"C")*2 -> 0 | U24: =+COUNTIF(Q24:S24,"D") -> 0 | V24: =IF(U24>=1,"Không hoàn thành",IF(AND($O24>=90,$O24<100,T24=0),"Xuất sắc",IF(AND($O24>=90,$O24<100,T24=1),"Tốt",IF(AND($O24>=90,$O24<100,T24=2),"Hoàn thành",IF(AND($O24>=90,$O24<100,T24>=3),"Không hoàn thành",IF(AND($O24>=75,$O24<90,T24=0),"Tốt",IF(AND($O24>=75,$O24<90,T24=1),"Hoàn thành",IF(AND($O24>=75,$O24<90,T24>=2),"Không hoàn thành",IF(AND($O24>=50,$O24<75,T24=0),"Hoàn thành",IF(AND($O24>=50,$O24<=75,T24>=1),"Không hoàn thành",IF(AND($O24>0,$O24<50),"Không hoàn thành",IF($O24=0,"Không đánh giá","")))))))))))) -> Xuất sắc | X24: =IF(AND($J24>=90,$J24<=100),"X",IF($J24<90,"","")) -> X | Z24: =IF(AND($J24>=75,$J24<90),"X",IF($J24<75,"","")) | AB24: =IF(AND($J24>=50,$J24<75),"X",IF($J24<50,"","")) | AD24: =IF($J24<50,"X","") | AH24: =IF($V24="Xuất sắc","X","") -> X | AJ24: =IF($V24="Tốt","X","") | AL24: =IF($V24="Hoàn thành","X","") | AN24: =IF($V24="Không hoàn thành","X","") | AP24: =IF($V24="Không đánh giá","X","")
A25: 10 | B25: Thân Thị | C25: Nhung | D25: 40700000683 | E25: =IFERROR((VLOOKUP($D25,'Các đơn vị'!$D$11:$M$390,2,0)),0) -> 80 | F25: 31 | G25: 60 | H25: =IFERROR((VLOOKUP($D25,'Các đơn vị'!$D$11:$M$390,5,0)),0) -> 0 | I25: =IFERROR((VLOOKUP($D25,'Các đơn vị'!$D$11:$M$390,6,0)),0) -> 0 | J25: =F25+G25+H25-I25 -> 91 | K25: =F25 -> 31 | L25: =G25 -> 60 | M25: =H25 -> 0 | N25: =I25 -> 0 | O25: =K25+L25+M25-N25 -> 91 | P25: =IF(AND($O25>=90,$O25<=100),"Xuất sắc",IF(AND($O25>=75,$O25<90),"Tốt",IF(AND($O25>=50,$O25<75),"Hoàn thành",IF(AND($O25<50,$O25>0),"Không hoàn thành",IF($O25=0,"Không đánh giá",""))))) -> Xuất sắc | T25: =COUNTIF(Q25:S25,"B")+COUNTIF(Q25:S25,"C")*2 -> 0 | U25: =+COUNTIF(Q25:S25,"D") -> 0 | V25: =IF(U25>=1,"Không hoàn thành",IF(AND($O25>=90,$O25<100,T25=0),"Xuất sắc",IF(AND($O25>=90,$O25<100,T25=1),"Tốt",IF(AND($O25>=90,$O25<100,T25=2),"Hoàn thành",IF(AND($O25>=90,$O25<100,T25>=3),"Không hoàn thành",IF(AND($O25>=75,$O25<90,T25=0),"Tốt",IF(AND($O25>=75,$O25<90,T25=1),"Hoàn thành",IF(AND($O25>=75,$O25<90,T25>=2),"Không hoàn thành",IF(AND($O25>=50,$O25<75,T25=0),"Hoàn thành",IF(AND($O25>=50,$O25<=75,T25>=1),"Không hoàn thành",IF(AND($O25>0,$O25<50),"Không hoàn thành",IF($O25=0,"Không đánh giá","")))))))))))) -> Xuất sắc | X25: =IF(AND($J25>=90,$J25<=100),"X",IF($J25<90,"","")) -> X | Z25: =IF(AND($J25>=75,$J25<90),"X",IF($J25<75,"","")) | AB25: =IF(AND($J25>=50,$J25<75),"X",IF($J25<50,"","")) | AD25: =IF($J25<50,"X","") | AH25: =IF($V25="Xuất sắc","X","") -> X | AJ25: =IF($V25="Tốt","X","") | AL25: =IF($V25="Hoàn thành","X","") | AN25: =IF($V25="Không hoàn thành","X","") | AP25: =IF($V25="Không đánh giá","X","")
A26: 11 | B26: Nguyễn Thị | C26: Vân | D26: 80500000584 | E26: =IFERROR((VLOOKUP($D26,'Các đơn vị'!$D$11:$M$390,2,0)),0) -> 80 | F26: 30 | G26: 60 | H26: =IFERROR((VLOOKUP($D26,'Các đơn vị'!$D$11:$M$390,5,0)),0) -> 0 | I26: =IFERROR((VLOOKUP($D26,'Các đơn vị'!$D$11:$M$390,6,0)),0) -> 0 | J26: =F26+G26+H26-I26 -> 90 | K26: =F26 -> 30 | L26: =G26 -> 60 | M26: =H26 -> 0 | N26: =I26 -> 0 | O26: =K26+L26+M26-N26 -> 90 | P26: =IF(AND($O26>=90,$O26<=100),"Xuất sắc",IF(AND($O26>=75,$O26<90),"Tốt",IF(AND($O26>=50,$O26<75),"Hoàn thành",IF(AND($O26<50,$O26>0),"Không hoàn thành",IF($O26=0,"Không đánh giá",""))))) -> Xuất sắc | T26: =COUNTIF(Q26:S26,"B")+COUNTIF(Q26:S26,"C")*2 -> 0 | U26: =+COUNTIF(Q26:S26,"D") -> 0 | V26: =IF(U26>=1,"Không hoàn thành",IF(AND($O26>=90,$O26<100,T26=0),"Xuất sắc",IF(AND($O26>=90,$O26<100,T26=1),"Tốt",IF(AND($O26>=90,$O26<100,T26=2),"Hoàn thành",IF(AND($O26>=90,$O26<100,T26>=3),"Không hoàn thành",IF(AND($O26>=75,$O26<90,T26=0),"Tốt",IF(AND($O26>=75,$O26<90,T26=1),"Hoàn thành",IF(AND($O26>=75,$O26<90,T26>=2),"Không hoàn thành",IF(AND($O26>=50,$O26<75,T26=0),"Hoàn thành",IF(AND($O26>=50,$O26<=75,T26>=1),"Không hoàn thành",IF(AND($O26>0,$O26<50),"Không hoàn thành",IF($O26=0,"Không đánh giá","")))))))))))) -> Xuất sắc | X26: =IF(AND($J26>=90,$J26<=100),"X",IF($J26<90,"","")) -> X | Z26: =IF(AND($J26>=75,$J26<90),"X",IF($J26<75,"","")) | AB26: =IF(AND($J26>=50,$J26<75),"X",IF($J26<50,"","")) | AD26: =IF($J26<50,"X","") | AH26: =IF($V26="Xuất sắc","X","") -> X | AJ26: =IF($V26="Tốt","X","") | AL26: =IF($V26="Hoàn thành","X","") | AN26: =IF($V26="Không hoàn thành","X","") | AP26: =IF($V26="Không đánh giá","X","")
A27: c | B27: Hợp đồng Sở | X27: =COUNTIF(X28:X29,"x") -> 2 | Y27: =X27/($X27+$Z27+$AB27+$AD27+$AF27) -> 1 | Z27: =COUNTIF(Z28:Z29,"x") -> 0 | AA27: =Z27/($X27+$Z27+$AB27+$AD27+$AF27) -> 0 | AB27: =COUNTIF(AB28:AB29,"x") -> 0 | AC27: =AB27/($X27+$Z27+$AB27+$AD27+$AF27) -> 0 | AD27: =COUNTIF(AD28:AD29,"x") -> 0 | AE27: =AD27/($X27+$Z27+$AB27+$AD27+$AF27) -> 0 | AF27: =COUNTIF(AF28:AF29,"x") -> 0 | AG27: =AF27/($X27+$Z27+$AB27+$AD27+$AF27) -> 0 | AH27: =COUNTIF(AH28:AH29,"x") -> 2 | AI27: =AH27/($X27+$Z27+$AB27+$AD27+$AF27) -> 1 | AJ27: =COUNTIF(AJ28:AJ29,"x") -> 0 | AK27: =AJ27/($X27+$Z27+$AB27+$AD27+$AF27) -> 0 | AL27: =COUNTIF(AL28:AL29,"x") -> 0 | AM27: =AL27/($X27+$Z27+$AB27+$AD27+$AF27) -> 0 | AN27: =COUNTIF(AN28:AN29,"x") -> 0 | AO27: =AN27/($X27+$Z27+$AB27+$AD27+$AF27) -> 0 | AP27: =COUNTIF(AP28:AP29,"x") -> 0 | AQ27: =AP27/($X27+$Z27+$AB27+$AD27+$AF27) -> 0
A28: 12 | B28: Huỳnh Thị Xuân | C28: Mai | D28: 11100071597 | E28: =IFERROR((VLOOKUP($D28,'Các đơn vị'!$D$11:$M$390,2,0)),0) -> 89 | F28: =IFERROR((VLOOKUP($D28,'Các đơn vị'!$D$11:$M$390,3,0)),0) -> 30 | G28: 60 | H28: =IFERROR((VLOOKUP($D28,'Các đơn vị'!$D$11:$M$390,5,0)),0) -> 0 | I28: =IFERROR((VLOOKUP($D28,'Các đơn vị'!$D$11:$M$390,6,0)),0) -> 0 | J28: =F28+G28+H28-I28 -> 90 | K28: =F28 -> 30 | L28: =G28 -> 60 | M28: =H28 -> 0 | N28: =I28 -> 0 | O28: =K28+L28+M28-N28 -> 90 | P28: =IF(AND($O28>=90,$O28<=100),"Xuất sắc",IF(AND($O28>=75,$O28<90),"Tốt",IF(AND($O28>=50,$O28<75),"Hoàn thành",IF(AND($O28<50,$O28>0),"Không hoàn thành",IF($O28=0,"Không đánh giá",""))))) -> Xuất sắc | T28: =COUNTIF(Q28:S28,"B")+COUNTIF(Q28:S28,"C")*2 -> 0 | U28: =+COUNTIF(Q28:S28,"D") -> 0 | V28: =IF(U28>=1,"Không hoàn thành",IF(AND($O28>=90,$O28<100,T28=0),"Xuất sắc",IF(AND($O28>=90,$O28<100,T28=1),"Tốt",IF(AND($O28>=90,$O28<100,T28=2),"Hoàn thành",IF(AND($O28>=90,$O28<100,T28>=3),"Không hoàn thành",IF(AND($O28>=75,$O28<90,T28=0),"Tốt",IF(AND($O28>=75,$O28<90,T28=1),"Hoàn thành",IF(AND($O28>=75,$O28<90,T28>=2),"Không hoàn thành",IF(AND($O28>=50,$O28<75,T28=0),"Hoàn thành",IF(AND($O28>=50,$O28<=75,T28>=1),"Không hoàn thành",IF(AND($O28>0,$O28<50),"Không hoàn thành",IF($O28=0,"Không đánh giá","")))))))))))) -> Xuất sắc | X28: =IF(AND($J28>=90,$J28<=100),"X",IF($J28<90,"","")) -> X | Z28: =IF(AND($J28>=75,$J28<90),"X",IF($J28<75,"","")) | AB28: =IF(AND($J28>=50,$J28<75),"X",IF($J28<50,"","")) | AD28: =IF($J28<50,"X","") | AH28: =IF($V28="Xuất sắc","X","") -> X | AJ28: =IF($V28="Tốt","X","") | AL28: =IF($V28="Hoàn thành","X","") | AN28: =IF($V28="Không hoàn thành","X","") | AP28: =IF($V28="Không đánh giá","X","")
A29: 13 | B29: Trần Văn Cu | C29: Anh | D29: 11100000805 | E29: =IFERROR((VLOOKUP($D29,'Các đơn vị'!$D$11:$M$390,2,0)),0) -> 88 | F29: =IFERROR((VLOOKUP($D29,'Các đơn vị'!$D$11:$M$390,3,0)),0) -> 30 | G29: 60 | H29: =IFERROR((VLOOKUP($D29,'Các đơn vị'!$D$11:$M$390,5,0)),0) -> 0 | I29: =IFERROR((VLOOKUP($D29,'Các đơn vị'!$D$11:$M$390,6,0)),0) -> 0 | J29: =F29+G29+H29-I29 -> 90 | K29: =F29 -> 30 | L29: =G29 -> 60 | M29: =H29 -> 0 | N29: =I29 -> 0 | O29: =K29+L29+M29-N29 -> 90 | P29: =IF(AND($O29>=90,$O29<=100),"Xuất sắc",IF(AND($O29>=75,$O29<90),"Tốt",IF(AND($O29>=50,$O29<75),"Hoàn thành",IF(AND($O29<50,$O29>0),"Không hoàn thành",IF($O29=0,"Không đánh giá",""))))) -> Xuất sắc | T29: =COUNTIF(Q29:S29,"B")+COUNTIF(Q29:S29,"C")*2 -> 0 | U29: =+COUNTIF(Q29:S29,"D") -> 0 | V29: =IF(U29>=1,"Không hoàn thành",IF(AND($O29>=90,$O29<100,T29=0),"Xuất sắc",IF(AND($O29>=90,$O29<100,T29=1),"Tốt",IF(AND($O29>=90,$O29<100,T29=2),"Hoàn thành",IF(AND($O29>=90,$O29<100,T29>=3),"Không hoàn thành",IF(AND($O29>=75,$O29<90,T29=0),"Tốt",IF(AND($O29>=75,$O29<90,T29=1),"Hoàn thành",IF(AND($O29>=75,$O29<90,T29>=2),"Không hoàn thành",IF(AND($O29>=50,$O29<75,T29=0),"Hoàn thành",IF(AND($O29>=50,$O29<=75,T29>=1),"Không hoàn thành",IF(AND($O29>0,$O29<50),"Không hoàn thành",IF($O29=0,"Không đánh giá","")))))))))))) -> Xuất sắc | X29: =IF(AND($J29>=90,$J29<=100),"X",IF($J29<90,"","")) -> X | Z29: =IF(AND($J29>=75,$J29<90),"X",IF($J29<75,"","")) | AB29: =IF(AND($J29>=50,$J29<75),"X",IF($J29<50,"","")) | AD29: =IF($J29<50,"X","") | AH29: =IF($V29="Xuất sắc","X","") -> X | AJ29: =IF($V29="Tốt","X","") | AL29: =IF($V29="Hoàn thành","X","") | AN29: =IF($V29="Không hoàn thành","X","") | AP29: =IF($V29="Không đánh giá","X","")
A30: d | B30: Hợp đồng trường | X30: =COUNTIF(X31:X42,"x") -> 4 | Y30: =X30/($X30+$Z30+$AB30+$AD30+$AF30) -> 0.33333333 | Z30: =COUNTIF(Z31:Z42,"x") -> 8 | AA30: =Z30/($X30+$Z30+$AB30+$AD30+$AF30) -> 0.66666667 | AB30: =COUNTIF(AB31:AB42,"x") -> 0 | AC30: =AB30/($X30+$Z30+$AB30+$AD30+$AF30) -> 0 | AD30: =COUNTIF(AD31:AD42,"x") -> 0 | AE30: =AD30/($X30+$Z30+$AB30+$AD30+$AF30) -> 0 | AF30: =COUNTIF(AF31:AF42,"x") -> 0 | AG30: =AF30/($X30+$Z30+$AB30+$AD30+$AF30) -> 0 | AH30: =COUNTIF(AH31:AH42,"x") -> 4 | AI30: =AH30/($X30+$Z30+$AB30+$AD30+$AF30) -> 0.33333333 | AJ30: =COUNTIF(AJ31:AJ42,"x") -> 8 | AK30: =AJ30/($X30+$Z30+$AB30+$AD30+$AF30) -> 0.66666667 | AL30: =COUNTIF(AL31:AL42,"x") -> 0 | AM30: =AL30/($X30+$Z30+$AB30+$AD30+$AF30) -> 0 | AN30: =COUNTIF(AN31:AN42,"x") -> 0 | AO30: =AN30/($X30+$Z30+$AB30+$AD30+$AF30) -> 0 | AP30: =COUNTIF(AP31:AP42,"x") -> 0 | AQ30: =AP30/($X30+$Z30+$AB30+$AD30+$AF30) -> 0
A31: 14 | B31: Phạm Hữu | C31: Tấn | D31: 79000H05.000568 | E31: =IFERROR((VLOOKUP($D31,'Các đơn vị'!$D$11:$M$390,2,0)),0) -> 89 | F31: =IFERROR((VLOOKUP($D31,'Các đơn vị'!$D$11:$M$390,3,0)),0) -> 30 | G31: 60 | H31: =IFERROR((VLOOKUP($D31,'Các đơn vị'!$D$11:$M$390,5,0)),0) -> 0 | I31: =IFERROR((VLOOKUP($D31,'Các đơn vị'!$D$11:$M$390,6,0)),0) -> 0 | J31: =F31+G31+H31-I31 -> 90 | K31: =F31 -> 30 | L31: =G31 -> 60 | M31: =H31 -> 0 | N31: =I31 -> 0 | O31: =K31+L31+M31-N31 -> 90 | P31: =IF(AND($O31>=90,$O31<=100),"Xuất sắc",IF(AND($O31>=75,$O31<90),"Tốt",IF(AND($O31>=50,$O31<75),"Hoàn thành",IF(AND($O31<50,$O31>0),"Không hoàn thành",IF($O31=0,"Không đánh giá",""))))) -> Xuất sắc | T31: =COUNTIF(Q31:S31,"B")+COUNTIF(Q31:S31,"C")*2 -> 0 | U31: =+COUNTIF(Q31:S31,"D") -> 0 | V31: =IF(U31>=1,"Không hoàn thành",IF(AND($O31>=90,$O31<100,T31=0),"Xuất sắc",IF(AND($O31>=90,$O31<100,T31=1),"Tốt",IF(AND($O31>=90,$O31<100,T31=2),"Hoàn thành",IF(AND($O31>=90,$O31<100,T31>=3),"Không hoàn thành",IF(AND($O31>=75,$O31<90,T31=0),"Tốt",IF(AND($O31>=75,$O31<90,T31=1),"Hoàn thành",IF(AND($O31>=75,$O31<90,T31>=2),"Không hoàn thành",IF(AND($O31>=50,$O31<75,T31=0),"Hoàn thành",IF(AND($O31>=50,$O31<=75,T31>=1),"Không hoàn thành",IF(AND($O31>0,$O31<50),"Không hoàn thành",IF($O31=0,"Không đánh giá","")))))))))))) -> Xuất sắc | X31: =IF(AND($J31>=90,$J31<=100),"X",IF($J31<90,"","")) -> X | Z31: =IF(AND($J31>=75,$J31<90),"X",IF($J31<75,"","")) | AB31: =IF(AND($J31>=50,$J31<75),"X",IF($J31<50,"","")) | AD31: =IF($J31<50,"X","") | AH31: =IF($V31="Xuất sắc","X","") -> X | AJ31: =IF($V31="Tốt","X","") | AL31: =IF($V31="Hoàn thành","X","") | AN31: =IF($V31="Không hoàn thành","X","") | AP31: =IF($V31="Không đánh giá","X","")
A32: 15 | B32: Dương Văn | C32: Tâm | E32: 85 | F32: 29 | G32: 50 | H32: =IFERROR((VLOOKUP($D32,'Các đơn vị'!$D$11:$M$390,5,0)),0) -> 0 | I32: =IFERROR((VLOOKUP($D32,'Các đơn vị'!$D$11:$M$390,6,0)),0) -> 0 | J32: =F32+G32+H32-I32 -> 79 | K32: =F32 -> 29 | L32: =G32 -> 50 | M32: =H32 -> 0 | N32: =I32 -> 0 | O32: =K32+L32+M32-N32 -> 79 | P32: =IF(AND($O32>=90,$O32<=100),"Xuất sắc",IF(AND($O32>=75,$O32<90),"Tốt",IF(AND($O32>=50,$O32<75),"Hoàn thành",IF(AND($O32<50,$O32>0),"Không hoàn thành",IF($O32=0,"Không đánh giá",""))))) -> Tốt | T32: =COUNTIF(Q32:S32,"B")+COUNTIF(Q32:S32,"C")*2 -> 0 | U32: =+COUNTIF(Q32:S32,"D") -> 0 | V32: =IF(U32>=1,"Không hoàn thành",IF(AND($O32>=90,$O32<100,T32=0),"Xuất sắc",IF(AND($O32>=90,$O32<100,T32=1),"Tốt",IF(AND($O32>=90,$O32<100,T32=2),"Hoàn thành",IF(AND($O32>=90,$O32<100,T32>=3),"Không hoàn thành",IF(AND($O32>=75,$O32<90,T32=0),"Tốt",IF(AND($O32>=75,$O32<90,T32=1),"Hoàn thành",IF(AND($O32>=75,$O32<90,T32>=2),"Không hoàn thành",IF(AND($O32>=50,$O32<75,T32=0),"Hoàn thành",IF(AND($O32>=50,$O32<=75,T32>=1),"Không hoàn thành",IF(AND($O32>0,$O32<50),"Không hoàn thành",IF($O32=0,"Không đánh giá","")))))))))))) -> Tốt | X32: =IF(AND($J32>=90,$J32<=100),"X",IF($J32<90,"","")) | Z32: =IF(AND($J32>=75,$J32<90),"X",IF($J32<75,"","")) -> X | AB32: =IF(AND($J32>=50,$J32<75),"X",IF($J32<50,"","")) | AD32: =IF($J32<50,"X","") | AH32: =IF($V32="Xuất sắc","X","") | AJ32: =IF($V32="Tốt","X","") -> X | AL32: =IF($V32="Hoàn thành","X","") | AN32: =IF($V32="Không hoàn thành","X","") | AP32: =IF($V32="Không đánh giá","X","")
A33: 16 | B33: Huỳnh Ngọc | C33: Liên | E33: 83 | F33: 29 | G33: 50 | H33: =IFERROR((VLOOKUP($D33,'Các đơn vị'!$D$11:$M$390,5,0)),0) -> 0 | I33: =IFERROR((VLOOKUP($D33,'Các đơn vị'!$D$11:$M$390,6,0)),0) -> 0 | J33: =F33+G33+H33-I33 -> 79 | K33: =F33 -> 29 | L33: =G33 -> 50 | M33: =H33 -> 0 | N33: =I33 -> 0 | O33: =K33+L33+M33-N33 -> 79 | P33: =IF(AND($O33>=90,$O33<=100),"Xuất sắc",IF(AND($O33>=75,$O33<90),"Tốt",IF(AND($O33>=50,$O33<75),"Hoàn thành",IF(AND($O33<50,$O33>0),"Không hoàn thành",IF($O33=0,"Không đánh giá",""))))) -> Tốt | T33: =COUNTIF(Q33:S33,"B")+COUNTIF(Q33:S33,"C")*2 -> 0 | U33: =+COUNTIF(Q33:S33,"D") -> 0 | V33: =IF(U33>=1,"Không hoàn thành",IF(AND($O33>=90,$O33<100,T33=0),"Xuất sắc",IF(AND($O33>=90,$O33<100,T33=1),"Tốt",IF(AND($O33>=90,$O33<100,T33=2),"Hoàn thành",IF(AND($O33>=90,$O33<100,T33>=3),"Không hoàn thành",IF(AND($O33>=75,$O33<90,T33=0),"Tốt",IF(AND($O33>=75,$O33<90,T33=1),"Hoàn thành",IF(AND($O33>=75,$O33<90,T33>=2),"Không hoàn thành",IF(AND($O33>=50,$O33<75,T33=0),"Hoàn thành",IF(AND($O33>=50,$O33<=75,T33>=1),"Không hoàn thành",IF(AND($O33>0,$O33<50),"Không hoàn thành",IF($O33=0,"Không đánh giá","")))))))))))) -> Tốt | X33: =IF(AND($J33>=90,$J33<=100),"X",IF($J33<90,"","")) | Z33: =IF(AND($J33>=75,$J33<90),"X",IF($J33<75,"","")) -> X | AB33: =IF(AND($J33>=50,$J33<75),"X",IF($J33<50,"","")) | AD33: =IF($J33<50,"X","") | AH33: =IF($V33="Xuất sắc","X","") | AJ33: =IF($V33="Tốt","X","") -> X | AL33: =IF($V33="Hoàn thành","X","") | AN33: =IF($V33="Không hoàn thành","X","") | AP33: =IF($V33="Không đánh giá","X","")
A34: 17 | B34: Huỳnh Thanh | C34: Nhàn | D34: 79000H05.000574 | E34: =IFERROR((VLOOKUP($D34,'Các đơn vị'!$D$11:$M$390,2,0)),0) -> 78 | F34: 30 | G34: 60 | H34: =IFERROR((VLOOKUP($D34,'Các đơn vị'!$D$11:$M$390,5,0)),0) -> 0 | I34: =IFERROR((VLOOKUP($D34,'Các đơn vị'!$D$11:$M$390,6,0)),0) -> 0 | J34: =F34+G34+H34-I34 -> 90 | K34: =F34 -> 30 | L34: =G34 -> 60 | M34: =H34 -> 0 | N34: =I34 -> 0 | O34: =K34+L34+M34-N34 -> 90 | P34: =IF(AND($O34>=90,$O34<=100),"Xuất sắc",IF(AND($O34>=75,$O34<90),"Tốt",IF(AND($O34>=50,$O34<75),"Hoàn thành",IF(AND($O34<50,$O34>0),"Không hoàn thành",IF($O34=0,"Không đánh giá",""))))) -> Xuất sắc | T34: =COUNTIF(Q34:S34,"B")+COUNTIF(Q34:S34,"C")*2 -> 0 | U34: =+COUNTIF(Q34:S34,"D") -> 0 | V34: =IF(U34>=1,"Không hoàn thành",IF(AND($O34>=90,$O34<100,T34=0),"Xuất sắc",IF(AND($O34>=90,$O34<100,T34=1),"Tốt",IF(AND($O34>=90,$O34<100,T34=2),"Hoàn thành",IF(AND($O34>=90,$O34<100,T34>=3),"Không hoàn thành",IF(AND($O34>=75,$O34<90,T34=0),"Tốt",IF(AND($O34>=75,$O34<90,T34=1),"Hoàn thành",IF(AND($O34>=75,$O34<90,T34>=2),"Không hoàn thành",IF(AND($O34>=50,$O34<75,T34=0),"Hoàn thành",IF(AND($O34>=50,$O34<=75,T34>=1),"Không hoàn thành",IF(AND($O34>0,$O34<50),"Không hoàn thành",IF($O34=0,"Không đánh giá","")))))))))))) -> Xuất sắc | X34: =IF(AND($J34>=90,$J34<=100),"X",IF($J34<90,"","")) -> X | Z34: =IF(AND($J34>=75,$J34<90),"X",IF($J34<75,"","")) | AB34: =IF(AND($J34>=50,$J34<75),"X",IF($J34<50,"","")) | AD34: =IF($J34<50,"X","") | AH34: =IF($V34="Xuất sắc","X","") -> X | AJ34: =IF($V34="Tốt","X","") | AL34: =IF($V34="Hoàn thành","X","") | AN34: =IF($V34="Không hoàn thành","X","") | AP34: =IF($V34="Không đánh giá","X","")
A35: 18 | B35: Phạm Hữu Thành | C35: Phú | D35: 79000H05.000575 | E35: =IFERROR((VLOOKUP($D35,'Các đơn vị'!$D$11:$M$390,2,0)),0) -> 88 | F35: =IFERROR((VLOOKUP($D35,'Các đơn vị'!$D$11:$M$390,3,0)),0) -> 30 | G35: 60 | H35: =IFERROR((VLOOKUP($D35,'Các đơn vị'!$D$11:$M$390,5,0)),0) -> 0 | I35: =IFERROR((VLOOKUP($D35,'Các đơn vị'!$D$11:$M$390,6,0)),0) -> 0 | J35: =F35+G35+H35-I35 -> 90 | K35: =F35 -> 30 | L35: =G35 -> 60 | M35: =H35 -> 0 | N35: =I35 -> 0 | O35: =K35+L35+M35-N35 -> 90 | P35: =IF(AND($O35>=90,$O35<=100),"Xuất sắc",IF(AND($O35>=75,$O35<90),"Tốt",IF(AND($O35>=50,$O35<75),"Hoàn thành",IF(AND($O35<50,$O35>0),"Không hoàn thành",IF($O35=0,"Không đánh giá",""))))) -> Xuất sắc | T35: =COUNTIF(Q35:S35,"B")+COUNTIF(Q35:S35,"C")*2 -> 0 | U35: =+COUNTIF(Q35:S35,"D") -> 0 | V35: =IF(U35>=1,"Không hoàn thành",IF(AND($O35>=90,$O35<100,T35=0),"Xuất sắc",IF(AND($O35>=90,$O35<100,T35=1),"Tốt",IF(AND($O35>=90,$O35<100,T35=2),"Hoàn thành",IF(AND($O35>=90,$O35<100,T35>=3),"Không hoàn thành",IF(AND($O35>=75,$O35<90,T35=0),"Tốt",IF(AND($O35>=75,$O35<90,T35=1),"Hoàn thành",IF(AND($O35>=75,$O35<90,T35>=2),"Không hoàn thành",IF(AND($O35>=50,$O35<75,T35=0),"Hoàn thành",IF(AND($O35>=50,$O35<=75,T35>=1),"Không hoàn thành",IF(AND($O35>0,$O35<50),"Không hoàn thành",IF($O35=0,"Không đánh giá","")))))))))))) -> Xuất sắc | X35: =IF(AND($J35>=90,$J35<=100),"X",IF($J35<90,"","")) -> X | Z35: =IF(AND($J35>=75,$J35<90),"X",IF($J35<75,"","")) | AB35: =IF(AND($J35>=50,$J35<75),"X",IF($J35<50,"","")) | AD35: =IF($J35<50,"X","") | AH35: =IF($V35="Xuất sắc","X","") -> X | AJ35: =IF($V35="Tốt","X","") | AL35: =IF($V35="Hoàn thành","X","") | AN35: =IF($V35="Không hoàn thành","X","") | AP35: =IF($V35="Không đánh giá","X","")
A36: 19 | B36: Lê Hồng | C36: Phúc | D36: 79000H05.000448 | E36: =IFERROR((VLOOKUP($D36,'Các đơn vị'!$D$11:$M$390,2,0)),0) -> 87 | F36: =IFERROR((VLOOKUP($D36,'Các đơn vị'!$D$11:$M$390,3,0)),0) -> 29 | G36: 60 | H36: =IFERROR((VLOOKUP($D36,'Các đơn vị'!$D$11:$M$390,5,0)),0) -> 0 | I36: =IFERROR((VLOOKUP($D36,'Các đơn vị'!$D$11:$M$390,6,0)),0) -> 0 | J36: =F36+G36+H36-I36 -> 89 | K36: =F36 -> 29 | L36: =G36 -> 60 | M36: =H36 -> 0 | N36: =I36 -> 0 | O36: =K36+L36+M36-N36 -> 89 | P36: =IF(AND($O36>=90,$O36<=100),"Xuất sắc",IF(AND($O36>=75,$O36<90),"Tốt",IF(AND($O36>=50,$O36<75),"Hoàn thành",IF(AND($O36<50,$O36>0),"Không hoàn thành",IF($O36=0,"Không đánh giá",""))))) -> Tốt | T36: =COUNTIF(Q36:S36,"B")+COUNTIF(Q36:S36,"C")*2 -> 0 | U36: =+COUNTIF(Q36:S36,"D") -> 0 | V36: =IF(U36>=1,"Không hoàn thành",IF(AND($O36>=90,$O36<100,T36=0),"Xuất sắc",IF(AND($O36>=90,$O36<100,T36=1),"Tốt",IF(AND($O36>=90,$O36<100,T36=2),"Hoàn thành",IF(AND($O36>=90,$O36<100,T36>=3),"Không hoàn thành",IF(AND($O36>=75,$O36<90,T36=0),"Tốt",IF(AND($O36>=75,$O36<90,T36=1),"Hoàn thành",IF(AND($O36>=75,$O36<90,T36>=2),"Không hoàn thành",IF(AND($O36>=50,$O36<75,T36=0),"Hoàn thành",IF(AND($O36>=50,$O36<=75,T36>=1),"Không hoàn thành",IF(AND($O36>0,$O36<50),"Không hoàn thành",IF($O36=0,"Không đánh giá","")))))))))))) -> Tốt | X36: =IF(AND($J36>=90,$J36<=100),"X",IF($J36<90,"","")) | Z36: =IF(AND($J36>=75,$J36<90),"X",IF($J36<75,"","")) -> X | AB36: =IF(AND($J36>=50,$J36<75),"X",IF($J36<50,"","")) | AD36: =IF($J36<50,"X","") | AH36: =IF($V36="Xuất sắc","X","") | AJ36: =IF($V36="Tốt","X","") -> X | AL36: =IF($V36="Hoàn thành","X","") | AN36: =IF($V36="Không hoàn thành","X","") | AP36: =IF($V36="Không đánh giá","X","")
A37: 20 | B37: Nguyễn Hữu Xuân | C37: Vũ | D37: 79000H05.000420 | E37: =IFERROR((VLOOKUP($D37,'Các đơn vị'!$D$11:$M$390,2,0)),0) -> 88 | F37: 30 | G37: 60 | H37: =IFERROR((VLOOKUP($D37,'Các đơn vị'!$D$11:$M$390,5,0)),0) -> 0 | I37: =IFERROR((VLOOKUP($D37,'Các đơn vị'!$D$11:$M$390,6,0)),0) -> 0 | J37: =F37+G37+H37-I37 -> 90 | K37: =F37 -> 30 | L37: =G37 -> 60 | M37: =H37 -> 0 | N37: =I37 -> 0 | O37: =K37+L37+M37-N37 -> 90 | P37: =IF(AND($O37>=90,$O37<=100),"Xuất sắc",IF(AND($O37>=75,$O37<90),"Tốt",IF(AND($O37>=50,$O37<75),"Hoàn thành",IF(AND($O37<50,$O37>0),"Không hoàn thành",IF($O37=0,"Không đánh giá",""))))) -> Xuất sắc | T37: =COUNTIF(Q37:S37,"B")+COUNTIF(Q37:S37,"C")*2 -> 0 | U37: =+COUNTIF(Q37:S37,"D") -> 0 | V37: =IF(U37>=1,"Không hoàn thành",IF(AND($O37>=90,$O37<100,T37=0),"Xuất sắc",IF(AND($O37>=90,$O37<100,T37=1),"Tốt",IF(AND($O37>=90,$O37<100,T37=2),"Hoàn thành",IF(AND($O37>=90,$O37<100,T37>=3),"Không hoàn thành",IF(AND($O37>=75,$O37<90,T37=0),"Tốt",IF(AND($O37>=75,$O37<90,T37=1),"Hoàn thành",IF(AND($O37>=75,$O37<90,T37>=2),"Không hoàn thành",IF(AND($O37>=50,$O37<75,T37=0),"Hoàn thành",IF(AND($O37>=50,$O37<=75,T37>=1),"Không hoàn thành",IF(AND($O37>0,$O37<50),"Không hoàn thành",IF($O37=0,"Không đánh giá","")))))))))))) -> Xuất sắc | X37: =IF(AND($J37>=90,$J37<=100),"X",IF($J37<90,"","")) -> X | Z37: =IF(AND($J37>=75,$J37<90),"X",IF($J37<75,"","")) | AB37: =IF(AND($J37>=50,$J37<75),"X",IF($J37<50,"","")) | AD37: =IF($J37<50,"X","") | AH37: =IF($V37="Xuất sắc","X","") -> X | AJ37: =IF($V37="Tốt","X","") | AL37: =IF($V37="Hoàn thành","X","") | AN37: =IF($V37="Không hoàn thành","X","") | AP37: =IF($V37="Không đánh giá","X","")
A38: 21 | B38: Nguyễn Tiến | C38: Hưng | D38: 79000H05.000299 | E38: =IFERROR((VLOOKUP($D38,'Các đơn vị'!$D$11:$M$390,2,0)),0) -> 85 | F38: =IFERROR((VLOOKUP($D38,'Các đơn vị'!$D$11:$M$390,3,0)),0) -> 26 | G38: 60 | H38: =IFERROR((VLOOKUP($D38,'Các đơn vị'!$D$11:$M$390,5,0)),0) -> 0 | I38: =IFERROR((VLOOKUP($D38,'Các đơn vị'!$D$11:$M$390,6,0)),0) -> 0 | J38: =F38+G38+H38-I38 -> 86 | K38: =F38 -> 26 | L38: =G38 -> 60 | M38: =H38 -> 0 | N38: =I38 -> 0 | O38: =K38+L38+M38-N38 -> 86 | P38: =IF(AND($O38>=90,$O38<=100),"Xuất sắc",IF(AND($O38>=75,$O38<90),"Tốt",IF(AND($O38>=50,$O38<75),"Hoàn thành",IF(AND($O38<50,$O38>0),"Không hoàn thành",IF($O38=0,"Không đánh giá",""))))) -> Tốt | T38: =COUNTIF(Q38:S38,"B")+COUNTIF(Q38:S38,"C")*2 -> 0 | U38: =+COUNTIF(Q38:S38,"D") -> 0 | V38: =IF(U38>=1,"Không hoàn thành",IF(AND($O38>=90,$O38<100,T38=0),"Xuất sắc",IF(AND($O38>=90,$O38<100,T38=1),"Tốt",IF(AND($O38>=90,$O38<100,T38=2),"Hoàn thành",IF(AND($O38>=90,$O38<100,T38>=3),"Không hoàn thành",IF(AND($O38>=75,$O38<90,T38=0),"Tốt",IF(AND($O38>=75,$O38<90,T38=1),"Hoàn thành",IF(AND($O38>=75,$O38<90,T38>=2),"Không hoàn thành",IF(AND($O38>=50,$O38<75,T38=0),"Hoàn thành",IF(AND($O38>=50,$O38<=75,T38>=1),"Không hoàn thành",IF(AND($O38>0,$O38<50),"Không hoàn thành",IF($O38=0,"Không đánh giá","")))))))))))) -> Tốt | X38: =IF(AND($J38>=90,$J38<=100),"X",IF($J38<90,"","")) | Z38: =IF(AND($J38>=75,$J38<90),"X",IF($J38<75,"","")) -> X | AB38: =IF(AND($J38>=50,$J38<75),"X",IF($J38<50,"","")) | AD38: =IF($J38<50,"X","") | AH38: =IF($V38="Xuất sắc","X","") | AJ38: =IF($V38="Tốt","X","") -> X | AL38: =IF($V38="Hoàn thành","X","") | AN38: =IF($V38="Không hoàn thành","X","") | AP38: =IF($V38="Không đánh giá","X","")
A39: 22 | B39: Đồng Anh | C39: Tuấn | D39: 79000H05.000527 | E39: =IFERROR((VLOOKUP($D39,'Các đơn vị'!$D$11:$M$390,2,0)),0) -> 87 | F39: =IFERROR((VLOOKUP($D39,'Các đơn vị'!$D$11:$M$390,3,0)),0) -> 28 | G39: 50 | H39: =IFERROR((VLOOKUP($D39,'Các đơn vị'!$D$11:$M$390,5,0)),0) -> 0 | I39: =IFERROR((VLOOKUP($D39,'Các đơn vị'!$D$11:$M$390,6,0)),0) -> 0 | J39: =F39+G39+H39-I39 -> 78 | K39: =F39 -> 28 | L39: =G39 -> 50 | M39: =H39 -> 0 | N39: =I39 -> 0 | O39: =K39+L39+M39-N39 -> 78 | P39: =IF(AND($O39>=90,$O39<=100),"Xuất sắc",IF(AND($O39>=75,$O39<90),"Tốt",IF(AND($O39>=50,$O39<75),"Hoàn thành",IF(AND($O39<50,$O39>0),"Không hoàn thành",IF($O39=0,"Không đánh giá",""))))) -> Tốt | T39: =COUNTIF(Q39:S39,"B")+COUNTIF(Q39:S39,"C")*2 -> 0 | U39: =+COUNTIF(Q39:S39,"D") -> 0 | V39: =IF(U39>=1,"Không hoàn thành",IF(AND($O39>=90,$O39<100,T39=0),"Xuất sắc",IF(AND($O39>=90,$O39<100,T39=1),"Tốt",IF(AND($O39>=90,$O39<100,T39=2),"Hoàn thành",IF(AND($O39>=90,$O39<100,T39>=3),"Không hoàn thành",IF(AND($O39>=75,$O39<90,T39=0),"Tốt",IF(AND($O39>=75,$O39<90,T39=1),"Hoàn thành",IF(AND($O39>=75,$O39<90,T39>=2),"Không hoàn thành",IF(AND($O39>=50,$O39<75,T39=0),"Hoàn thành",IF(AND($O39>=50,$O39<=75,T39>=1),"Không hoàn thành",IF(AND($O39>0,$O39<50),"Không hoàn thành",IF($O39=0,"Không đánh giá","")))))))))))) -> Tốt | X39: =IF(AND($J39>=90,$J39<=100),"X",IF($J39<90,"","")) | Z39: =IF(AND($J39>=75,$J39<90),"X",IF($J39<75,"","")) -> X | AB39: =IF(AND($J39>=50,$J39<75),"X",IF($J39<50,"","")) | AD39: =IF($J39<50,"X","") | AH39: =IF($V39="Xuất sắc","X","") | AJ39: =IF($V39="Tốt","X","") -> X | AL39: =IF($V39="Hoàn thành","X","") | AN39: =IF($V39="Không hoàn thành","X","") | AP39: =IF($V39="Không đánh giá","X","")
A40: 23 | B40: Trần Thanh | C40: Phương | D40: 79000H05.326689 | E40: =IFERROR((VLOOKUP($D40,'Các đơn vị'!$D$11:$M$390,2,0)),0) -> 86 | F40: =IFERROR((VLOOKUP($D40,'Các đơn vị'!$D$11:$M$390,3,0)),0) -> 29 | G40: 50 | H40: =IFERROR((VLOOKUP($D40,'Các đơn vị'!$D$11:$M$390,5,0)),0) -> 0 | I40: =IFERROR((VLOOKUP($D40,'Các đơn vị'!$D$11:$M$390,6,0)),0) -> 0 | J40: =F40+G40+H40-I40 -> 79 | K40: =F40 -> 29 | L40: =G40 -> 50 | M40: =H40 -> 0 | N40: =I40 -> 0 | O40: =K40+L40+M40-N40 -> 79 | P40: =IF(AND($O40>=90,$O40<=100),"Xuất sắc",IF(AND($O40>=75,$O40<90),"Tốt",IF(AND($O40>=50,$O40<75),"Hoàn thành",IF(AND($O40<50,$O40>0),"Không hoàn thành",IF($O40=0,"Không đánh giá",""))))) -> Tốt | T40: =COUNTIF(Q40:S40,"B")+COUNTIF(Q40:S40,"C")*2 -> 0 | U40: =+COUNTIF(Q40:S40,"D") -> 0 | V40: =IF(U40>=1,"Không hoàn thành",IF(AND($O40>=90,$O40<100,T40=0),"Xuất sắc",IF(AND($O40>=90,$O40<100,T40=1),"Tốt",IF(AND($O40>=90,$O40<100,T40=2),"Hoàn thành",IF(AND($O40>=90,$O40<100,T40>=3),"Không hoàn thành",IF(AND($O40>=75,$O40<90,T40=0),"Tốt",IF(AND($O40>=75,$O40<90,T40=1),"Hoàn thành",IF(AND($O40>=75,$O40<90,T40>=2),"Không hoàn thành",IF(AND($O40>=50,$O40<75,T40=0),"Hoàn thành",IF(AND($O40>=50,$O40<=75,T40>=1),"Không hoàn thành",IF(AND($O40>0,$O40<50),"Không hoàn thành",IF($O40=0,"Không đánh giá","")))))))))))) -> Tốt | X40: =IF(AND($J40>=90,$J40<=100),"X",IF($J40<90,"","")) | Z40: =IF(AND($J40>=75,$J40<90),"X",IF($J40<75,"","")) -> X | AB40: =IF(AND($J40>=50,$J40<75),"X",IF($J40<50,"","")) | AD40: =IF($J40<50,"X","") | AH40: =IF($V40="Xuất sắc","X","") | AJ40: =IF($V40="Tốt","X","") -> X | AL40: =IF($V40="Hoàn thành","X","") | AN40: =IF($V40="Không hoàn thành","X","") | AP40: =IF($V40="Không đánh giá","X","")
A41: 24 | B41: Nguyễn Thanh | C41: Hiền | D41: 79000H05.110707 | E41: =IFERROR((VLOOKUP($D41,'Các đơn vị'!$D$11:$M$390,2,0)),0) -> 86 | F41: 28 | G41: 50 | H41: =IFERROR((VLOOKUP($D41,'Các đơn vị'!$D$11:$M$390,5,0)),0) -> 0 | I41: =(F41+G41)*3% -> 2.34 | J41: =F41+G41+H41-I41 -> 75.66 | K41: =F41 -> 28 | L41: =G41 -> 50 | M41: =H41 -> 0 | N41: =I41 -> 2.34 | O41: =K41+L41+M41-N41 -> 75.66 | P41: =IF(AND($O41>=90,$O41<=100),"Xuất sắc",IF(AND($O41>=75,$O41<90),"Tốt",IF(AND($O41>=50,$O41<75),"Hoàn thành",IF(AND($O41<50,$O41>0),"Không hoàn thành",IF($O41=0,"Không đánh giá",""))))) -> Tốt | T41: =COUNTIF(Q41:S41,"B")+COUNTIF(Q41:S41,"C")*2 -> 0 | U41: =+COUNTIF(Q41:S41,"D") -> 0 | V41: =IF(U41>=1,"Không hoàn thành",IF(AND($O41>=90,$O41<100,T41=0),"Xuất sắc",IF(AND($O41>=90,$O41<100,T41=1),"Tốt",IF(AND($O41>=90,$O41<100,T41=2),"Hoàn thành",IF(AND($O41>=90,$O41<100,T41>=3),"Không hoàn thành",IF(AND($O41>=75,$O41<90,T41=0),"Tốt",IF(AND($O41>=75,$O41<90,T41=1),"Hoàn thành",IF(AND($O41>=75,$O41<90,T41>=2),"Không hoàn thành",IF(AND($O41>=50,$O41<75,T41=0),"Hoàn thành",IF(AND($O41>=50,$O41<=75,T41>=1),"Không hoàn thành",IF(AND($O41>0,$O41<50),"Không hoàn thành",IF($O41=0,"Không đánh giá","")))))))))))) -> Tốt | W41: HĐ Thi đua nhắc nhở tháng 7/2020 | X41: =IF(AND($J41>=90,$J41<=100),"X",IF($J41<90,"","")) | Z41: =IF(AND($J41>=75,$J41<90),"X",IF($J41<75,"","")) -> X | AB41: =IF(AND($J41>=50,$J41<75),"X",IF($J41<50,"","")) | AD41: =IF($J41<50,"X","") | AH41: =IF($V41="Xuất sắc","X","") | AJ41: =IF($V41="Tốt","X","") -> X | AL41: =IF($V41="Hoàn thành","X","") | AN41: =IF($V41="Không hoàn thành","X","") | AP41: =IF($V41="Không đánh giá","X","")
A42: 25 | B42: Lê Hồng | C42: Sơn | D42: 79000H05.852722 | E42: =IFERROR((VLOOKUP($D42,'Các đơn vị'!$D$11:$M$390,2,0)),0) -> 87 | F42: 29 | G42: 60 | H42: =IFERROR((VLOOKUP($D42,'Các đơn vị'!$D$11:$M$390,5,0)),0) -> 0 | I42: =IFERROR((VLOOKUP($D42,'Các đơn vị'!$D$11:$M$390,6,0)),0) -> 0 | J42: =F42+G42+H42-I42 -> 89 | K42: =F42 -> 29 | L42: =G42 -> 60 | M42: =H42 -> 0 | N42: =I42 -> 0 | O42: =K42+L42+M42-N42 -> 89 | P42: =IF(AND($O42>=90,$O42<=100),"Xuất sắc",IF(AND($O42>=75,$O42<90),"Tốt",IF(AND($O42>=50,$O42<75),"Hoàn thành",IF(AND($O42<50,$O42>0),"Không hoàn thành",IF($O42=0,"Không đánh giá",""))))) -> Tốt | T42: =COUNTIF(Q42:S42,"B")+COUNTIF(Q42:S42,"C")*2 -> 0 | U42: =+COUNTIF(Q42:S42,"D") -> 0 | V42: =IF(U42>=1,"Không hoàn thành",IF(AND($O42>=90,$O42<100,T42=0),"Xuất sắc",IF(AND($O42>=90,$O42<100,T42=1),"Tốt",IF(AND($O42>=90,$O42<100,T42=2),"Hoàn thành",IF(AND($O42>=90,$O42<100,T42>=3),"Không hoàn thành",IF(AND($O42>=75,$O42<90,T42=0),"Tốt",IF(AND($O42>=75,$O42<90,T42=1),"Hoàn thành",IF(AND($O42>=75,$O42<90,T42>=2),"Không hoàn thành",IF(AND($O42>=50,$O42<75,T42=0),"Hoàn thành",IF(AND($O42>=50,$O42<=75,T42>=1),"Không hoàn thành",IF(AND($O42>0,$O42<50),"Không hoàn thành",IF($O42=0,"Không đánh giá","")))))))))))) -> Tốt | X42: =IF(AND($J42>=90,$J42<=100),"X",IF($J42<90,"","")) | Z42: =IF(AND($J42>=75,$J42<90),"X",IF($J42<75,"","")) -> X | AB42: =IF(AND($J42>=50,$J42<75),"X",IF($J42<50,"","")) | AD42: =IF($J42<50,"X","") | AH42: =IF($V42="Xuất sắc","X","") | AJ42: =IF($V42="Tốt","X","") -> X | AL42: =IF($V42="Hoàn thành","X","") | AN42: =IF($V42="Không hoàn thành","X","") | AP42: =IF($V42="Không đánh giá","X","")
...

Sheet Tổng hợp tỷ lệ
D1: BẢNG TỔNG HỢP TỶ LỆ ĐÁNH GIÁ XẾP LOẠI CỦA CÁC ĐƠN VỊ ĐÁNH GIÁ | N1: BẢNG TỔNG HỢP TỶ LỆ ĐÁNH GIÁ XẾP LOẠI CỦA HỘI ĐỒNG ĐÁNH GIÁ
A3: Stt | B3: Tên đơn vị | C3: Tổng số người đánh giá | D3: Hoàn thành xuất sắc nhiệm vụ | F3: Hoàn thành tốt nhiệm vụ | H3: Hoàn thành nhiệm vụ hoặc hoàn thành nhiệm vụ nhưng còn hạn chế về năng lực | J3: Không hoàn thành nhiệm vụ | L3: Không xếp loại | N3: Hoàn thành xuất sắc nhiệm vụ | P3: Hoàn thành tốt nhiệm vụ | R3: Hoàn thành nhiệm vụ hoặc hoàn thành nhiệm vụ nhưng còn hạn chế về năng lực | T3: Không hoàn thành nhiệm vụ | V3: Không xếp loại
D4: SL | E4: Tỷ lệ | F4: SL | G4: Tỷ lệ | H4: SL | I4: Tỷ lệ | J4: SL | K4: Tỷ lệ | L4: SL | M4: Tỷ lệ | N4: SL | O4: Tỷ lệ | P4: SL | Q4: Tỷ lệ | R4: SL | S4: Tỷ lệ | T4: SL | U4: Tỷ lệ | V4: SL | W4: Tỷ lệ
A5: 01 | B5: Ban Giám hiệu | C5: =D5+F5+H5+J5+L5 -> 4 | D5: ='Mau 4B'!X9 -> 3 | F5: ='Mau 4B'!Z9 -> 0 | H5: ='Mau 4B'!AB9 -> 0 | J5: ='Mau 4B'!AD9 -> 0 | L5: ='Mau 4B'!AF9 -> 1 | N5: ='Mau 4B'!AH9 -> 3 | P5: ='Mau 4B'!AJ9 -> 0 | R5: ='Mau 4B'!AL9 -> 0 | T5: ='Mau 4B'!AN9 -> 0 | V5: ='Mau 4B'!AP9 -> 1
A6: 02 | B6: Phòng Tổ chức - Hành chính - Tổng hợp | C6: =D6+F6+H6+J6+L6 -> 25 | D6: ='Mau 4B'!X14 -> 15 | E6: ='Mau 4B'!Y14 -> 0.6 | F6: ='Mau 4B'!Z14 -> 10 | G6: ='Mau 4B'!AA14 -> 0.4 | H6: ='Mau 4B'!AB14 -> 0 | I6: ='Mau 4B'!AC14 -> 0 | J6: ='Mau 4B'!AD14 -> 0 | K6: ='Mau 4B'!AE14 -> 0 | ... W6: ='Mau 4B'!AQ14 -> 0
A7: 03 | B7: Phòng Công tác Chính trị - Học sinh Sinh viên | C7: =D7+F7+H7+J7+L7 -> 15 | D7: ='Mau 4B'!X43 -> 9 | E7: ='Mau 4B'!Y43 -> 0.6 | F7: ='Mau 4B'!Z43 -> 6 | G7: ='Mau 4B'!AA43 -> 0.4 | H7: ='Mau 4B'!AB43 -> 0 | I7: ='Mau 4B'!AC43 -> 0 | J7: ='Mau 4B'!AD43 -> 0 | K7: ='Mau 4B'!AE43 -> 0 | ... W7: ='Mau 4B'!AQ43 -> 0
A8: 04 | B8: Phòng Khảo thí và Đảm bảo chất lượng | C8: =D8+F8+H8+J8+L8 -> 8 | D8: ='Mau 4B'!X62 -> 4 | E8: ='Mau 4B'!Y62 -> 0.5 | F8: ='Mau 4B'!Z62 -> 4 | G8: ='Mau 4B'!AA62 -> 0.5 | H8: ='Mau 4B'!AB62 -> 0 | I8: ='Mau 4B'!AC62 -> 0 | J8: ='Mau 4B'!AD62 -> 0 | K8: ='Mau 4B'!AE62 -> 0 | ... W8: ='Mau 4B'!AQ62 -> 0
A9: 05 | B9: Phòng Kế hoạch - Tài chính | C9: =D9+F9+H9+J9+L9 -> 9 | D9: ='Mau 4B'!X73 -> 6 | E9: ='Mau 4B'!Y73 -> 0.66666667 | F9: ='Mau 4B'!Z73 -> 3 | G9: ='Mau 4B'!AA73 -> 0.33333333 | H9: ='Mau 4B'!AB73 -> 0 | I9: ='Mau 4B'!AC73 -> 0 | J9: ='Mau 4B'!AD73 -> 0 | K9: ='Mau 4B'!AE73 -> 0 | ... W9: ='Mau 4B'!AQ73 -> 0
A10: 06 | B10: Phòng Quản trị - Dịch vụ | C10: =D10+F10+H10+J10+L10 -> 30 | D10: ='Mau 4B'!X85 -> 10 | E10: ='Mau 4B'!Y85 -> 0.33333333 | F10: ='Mau 4B'!Z85 -> 20 | G10: ='Mau 4B'!AA85 -> 0.66666667 | H10: ='Mau 4B'!AB85 -> 0 | I10: ='Mau 4B'!AC85 -> 0 | J10: ='Mau 4B'!AD85 -> 0 | K10: ='Mau 4B'!AE85 -> 0 | ... W10: ='Mau 4B'!AQ85 -> 0
A11: 07 | B11: Phòng Tuyển sinh - Đào tạo | C11: =D11+F11+H11+J11+L11 -> 16 | D11: ='Mau 4B'!X120 -> 12 | E11: ='Mau 4B'!Y120 -> 0.75 | F11: ='Mau 4B'!Z120 -> 4 | G11: ='Mau 4B'!AA120 -> 0.25 | H11: ='Mau 4B'!AB120 -> 0 | I11: ='Mau 4B'!AC120 -> 0 | J11: ='Mau 4B'!AD120 -> 0 | K11: ='Mau 4B'!AE120 -> 0 | ... W11: ='Mau 4B'!AQ120 -> 0
A12: 08 | B12: Phòng Quản lý khoa học - Hợp tác quốc tế | C12: =D12+F12+H12+J12+L12 -> 4 | D12: ='Mau 4B'!X139 -> 1 | E12: ='Mau 4B'!Y139 -> 0.25 | F12: ='Mau 4B'!Z139 -> 3 | G12: ='Mau 4B'!AA139 -> 0.75 | H12: ='Mau 4B'!AB139 -> 0 | I12: ='Mau 4B'!AC139 -> 0 | J12: ='Mau 4B'!AD139 -> 0 | K12: ='Mau 4B'!AE139 -> 0 | ... W12: ='Mau 4B'!AQ139 -> 0
A13: 09 | B13: Tổ Thanh tra - Pháp chế | C13: =D13+F13+H13+J13+L13 -> #REF! | D13: ='Mau 4B'!#REF! -> #REF! | E13: ='Mau 4B'!#REF! -> #REF! | F13: ='Mau 4B'!#REF! -> #REF! | G13: ='Mau 4B'!#REF! -> #REF! | H13: ='Mau 4B'!#REF! -> #REF! | I13: ='Mau 4B'!#REF! -> #REF! | J13: ='Mau 4B'!#REF! -> #REF! | K13: ='Mau 4B'!#REF! -> #REF! | ... W13: ='Mau 4B'!#REF! -> #REF!
A14: 10 | B14: Trung tâm Quan hệ doanh nghiệp | C14: =D14+F14+H14+J14+L14 -> 2 | D14: ='Mau 4B'!X146 -> 2 | E14: ='Mau 4B'!Y146 -> 1 | F14: ='Mau 4B'!Z146 -> 0 | G14: ='Mau 4B'!AA146 -> 0 | H14: ='Mau 4B'!AB146 -> 0 | I14: ='Mau 4B'!AC146 -> 0 | J14: ='Mau 4B'!AD146 -> 0 | K14: ='Mau 4B'!AE146 -> 0 | ... W14: ='Mau 4B'!AQ146 -> 0
A15: 11 | B15: Trung tâm điều hành và quản lý dữ liệu | C15: =D15+F15+H15+J15+L15 -> 5 | D15: ='Mau 4B'!X150 -> 2 | E15: ='Mau 4B'!Y150 -> 0.4 | F15: ='Mau 4B'!Z150 -> 3 | G15: ='Mau 4B'!AA150 -> 0.6 | H15: ='Mau 4B'!AB150 -> 0 | I15: ='Mau 4B'!AC150 -> 0 | J15: ='Mau 4B'!AD150 -> 0 | K15: ='Mau 4B'!AE150 -> 0 | ... W15: ='Mau 4B'!AQ150 -> 0
A16: 12 | B16: Trung tâm Y tế | C16: =D16+F16+H16+J16+L16 -> 3 | D16: ='Mau 4B'!X158 -> 3 | E16: ='Mau 4B'!Y158 -> 1 | F16: ='Mau 4B'!Z158 -> 0 | G16: ='Mau 4B'!AA158 -> 0 | H16: ='Mau 4B'!AB158 -> 0 | I16: ='Mau 4B'!AC158 -> 0 | J16: ='Mau 4B'!AD158 -> 0 | K16: ='Mau 4B'!AE158 -> 0 | ... W16: ='Mau 4B'!AQ158 -> 0
A17: 13 | B17: Trung tâm Thư viện | C17: =D17+F17+H17+J17+L17 -> 6 | D17: ='Mau 4B'!X164 -> 2 | E17: ='Mau 4B'!Y164 -> 0.33333333 | F17: ='Mau 4B'!Z164 -> 4 | G17: ='Mau 4B'!AA164 -> 0.66666667 | H17: ='Mau 4B'!AB164 -> 0 | I17: ='Mau 4B'!AC164 -> 0 | J17: ='Mau 4B'!AD164 -> 0 | K17: ='Mau 4B'!AE164 -> 0 | ... W17: ='Mau 4B'!AQ164 -> 0
A18: 14 | B18: Trung tâm Đào tạo Lý Tự Trọng | C18: =D18+F18+H18+J18+L18 -> 3 | D18: ='Mau 4B'!X173 -> 0 | E18: ='Mau 4B'!Y173 -> 0 | F18: ='Mau 4B'!Z173 -> 3 | G18: ='Mau 4B'!AA173 -> 1 | H18: ='Mau 4B'!AB173 -> 0 | I18: ='Mau 4B'!AC173 -> 0 | J18: ='Mau 4B'!AD173 -> 0 | K18: ='Mau 4B'!AE173 -> 0 | ... W18: ='Mau 4B'!AQ173 -> 0
A19: 15 | B19: Khoa Khoa học cơ bản | C19: =D19+F19+H19+J19+L19 -> 33 | D19: ='Mau 4B'!X180 -> 10 | E19: ='Mau 4B'!Y180 -> 0.3030303 | F19: ='Mau 4B'!Z180 -> 23 | G19: ='Mau 4B'!AA180 -> 0.6969697 | H19: ='Mau 4B'!AB180 -> 0 | I19: ='Mau 4B'!AC180 -> 0 | J19: ='Mau 4B'!AD180 -> 0 | K19: ='Mau 4B'!AE180 -> 0 | ... W19: ='Mau 4B'!AQ180 -> 0
A20: 16 | B20: Khoa Lý luận Chính trị | C20: =D20+F20+H20+J20+L20 -> 16 | D20: ='Mau 4B'!X216 -> 6 | E20: ='Mau 4B'!Y216 -> 0.375 | F20: ='Mau 4B'!Z216 -> 10 | G20: ='Mau 4B'!AA216 -> 0.625 | H20: ='Mau 4B'!AB216 -> 0 | I20: ='Mau 4B'!AC216 -> 0 | J20: ='Mau 4B'!AD216 -> 0 | K20: ='Mau 4B'!AE216 -> 0 | ... W20: ='Mau 4B'!AQ216 -> 0
A21: 17 | B21: Khoa Công nghệ thông tin | C21: =D21+F21+H21+J21+L21 -> 26 | D21: ='Mau 4B'!X234 -> 11 | E21: ='Mau 4B'!Y234 -> 0.42307692 | F21: ='Mau 4B'!Z234 -> 14 | G21: ='Mau 4B'!AA234 -> 0.53846154 | H21: ='Mau 4B'!AB234 -> 0 | I21: ='Mau 4B'!AC234 -> 0 | J21: ='Mau 4B'!AD234 -> 1 | K21: ='Mau 4B'!AE234 -> 0.038461538 | ... W21: ='Mau 4B'!AQ234 -> 0
A22: 18 | B22: Khoa Công nghệ Cơ khí | C22: =D22+F22+H22+J22+L22 -> 27 | D22: ='Mau 4B'!X263 -> 12 | E22: ='Mau 4B'!Y263 -> 0.44444444 | F22: ='Mau 4B'!Z263 -> 15 | G22: ='Mau 4B'!AA263 -> 0.55555556 | H22: ='Mau 4B'!AB263 -> 0 | I22: ='Mau 4B'!AC263 -> 0 | J22: ='Mau 4B'!AD263 -> 0 | K22: ='Mau 4B'!AE263 -> 0 | ... W22: ='Mau 4B'!AQ263 -> 0
A23: 19 | B23: Khoa Công nghệ Điện - Điện tử | C23: =D23+F23+H23+J23+L23 -> 30 | D23: ='Mau 4B'!X292 -> 12 | E23: ='Mau 4B'!Y292 -> 0.4 | F23: ='Mau 4B'!Z292 -> 18 | G23: ='Mau 4B'!AA292 -> 0.6 | H23: ='Mau 4B'!AB292 -> 0 | I23: ='Mau 4B'!AC292 -> 0 | J23: ='Mau 4B'!AD292 -> 0 | K23: ='Mau 4B'!AE292 -> 0 | ... W23: ='Mau 4B'!AQ292 -> 0
A24: 20 | B24: Khoa Công nghệ Động lực | C24: =D24+F24+H24+J24+L24 -> 22 | D24: ='Mau 4B'!X324 -> 10 | E24: ='Mau 4B'!Y324 -> 0.45454545 | F24: ='Mau 4B'!Z324 -> 12 | G24: ='Mau 4B'!AA324 -> 0.54545455 | H24: ='Mau 4B'!AB324 -> 0 | I24: ='Mau 4B'!AC324 -> 0 | J24: ='Mau 4B'!AD324 -> 0 | K24: ='Mau 4B'!AE324 -> 0 | ... W24: ='Mau 4B'!AQ324 -> 0
A25: 21 | B25: Khoa Công nghệ Nhiệt - Lạnh | C25: =D25+F25+H25+J25+L25 -> 8 | D25: ='Mau 4B'!X350 -> 4 | E25: ='Mau 4B'!Y350 -> 0.5 | F25: ='Mau 4B'!Z350 -> 4 | G25: ='Mau 4B'!AA350 -> 0.5 | H25: ='Mau 4B'!AB350 -> 0 | I25: ='Mau 4B'!AC350 -> 0 | J25: ='Mau 4B'!AD350 -> 0 | K25: ='Mau 4B'!AE350 -> 0 | ... W25: ='Mau 4B'!AQ350 -> 0
