Workbook

Sheet HKI NH 19-20
A1: UBND THÀNH PHỐ HỒ CHÍ MINH | AG1: CỘNG HOÀ XÃ HỘI CHỦ NGHĨA VIỆT NAM
A2: TRƯỜNG CAO ĐẲNG LÝ TỰ TRỌNG | AG2: Độc lập - Tự do - Hạnh phúc
A3: THÀNH PHỐ HỒ CHÍ MINH
A5: BẢNG TÍNH KHỐI LƯỢNG CÔNG TÁC TỔ CHỨC THI HỌC KÌ 1 NĂM HỌC2019 - 2020
A7: ĐƠN VỊ:
E10: =SUBTOTAL(9,E14:E548) -> 0 | F10: =SUBTOTAL(9,F14:F548) -> 0 | G10: =SUBTOTAL(9,G14:G548) -> 0 | H10: =SUBTOTAL(9,H14:H548) -> 0 | I10: =SUBTOTAL(9,I14:I548) -> 0 | J10: =SUBTOTAL(9,J14:J548) -> 0 | K10: =SUBTOTAL(9,K14:K548) -> 0 | L10: =SUBTOTAL(9,L14:L548) -> 0 | ... AT10: =SUBTOTAL(9,AT14:AT548) -> -7.8
A11: STT | B11: Mã nhân sự | C11: Đơn vị | D11: HỌ VÀ TÊN GIẢNG VIÊN | E11: ĐỀ THI | N11: COI THI | S11: CHẤM THI KTHP | AI11: CHẤM THI TỐT NGHIỆP | AR11: DỰ PHÒNG KỲ THI | AS11: GIÁM SÁT | AT11: TỔNG KHỐI LƯỢNG | AU11: =SUBTOTAL(9,AT:AT) -> -7.8
S12: LÝ THUYẾT (TV+TN) | W12: VẤN ĐÁP | AA12: TIỂU LUẬN | AE12: THỰC HÀNH | AI12: LÝ THUYẾT (TV+TN) | AL12: VẤN ĐÁP | AO12: THỰC HÀNH
E13: SL ĐỀ LT KTHP | F13: SL ĐỀ TN KTHP | G13: SL ĐỀ VĐ KTHP | H13: SL ĐỀ TH KTHP | I13: SL ĐỀ LT ThiTN | J13: SL ĐỀ TN ThiTN | K13: SL ĐỀ VĐ ThiTN | L13: SL ĐỀ TH ThiTN | M13: KL SOẠN ĐỀ (tiết) | N13: COITHI 1 KTHP | O13: COITHI 2 KTHP | P13: COITHI 1 Thi TN | Q13: COITHI 2 Thi TN | R13: KL COITHI (tiết) | S13: SL CHẤM LT 1 | T13: SL CHẤM LT 2 | U13: SL CHẤM NV | V13: KL CHẤM LT (tiết) | W13: SL CHẤM TL 1 | X13: SL CHẤM TL 2 | Y13: SL CHẤM NV | Z13: KL CHẤM TL (tiết) | AA13: SL CHẤM TL 1 | AB13: SL CHẤM TL 2 | AC13: SL CHẤM NV | AD13: KL CHẤM TL (tiết) | AE13: SL CHẤM TL 1 | AF13: SL CHẤM TL 2 | AG13: SL CHẤM NV | AH13: KL CHẤM TL (tiết) | AI13: SL BÀI LT CHẤM 1 | AJ13: SL BÀI LT CHẤM 2 | AK13: KL CHẤM LT (tiết) | AL13: SL BÀI VĐ CHẤM 1 | AM13: SL BÀI VĐ CHẤM 2 | AN13: KL CHẤM VĐ (tiết) | AO13: SL BÀI TL CHẤM 1 | AP13: SL BÀI TL CHẤM 2 | AQ13: KL CHẤM TL (tiết)
A14: =IF(D14="","",SUBTOTAL(3,$D$14:D14)) -> 1 | B14: 01023002 | C14: Khoa KHCB | D14: Trương Thị Hồng | E14: 0 | F14: 0 | G14: 0 | H14: 0 | I14: 0 | J14: 0 | K14: 0 | L14: 0 | M14: 0 | N14: 0 | O14: 0 | P14: 0 | Q14: 0 | R14: 0 | S14: 0 | T14: 0 | U14: 78 | V14: -7.8 | W14: 0 | X14: 0 | Y14: 0 | Z14: 0 | AA14: 0 | AB14: 0 | AC14: 0 | AD14: 0 | AE14: 0 | AF14: 0 | AG14: 0 | AH14: 0 | AI14: 0 | AJ14: 0 | AK14: 0 | AL14: 0 | AM14: 0 | AN14: 0 | AO14: 0 | AP14: 0 | AQ14: 0 | AR14: 0 | AS14: 0 | AT14: -7.8
A15: =IF(D15="","",SUBTOTAL(3,$D$14:D15))
A16: =IF(D16="","",SUBTOTAL(3,$D$14:D16))
A17: =IF(D17="","",SUBTOTAL(3,$D$14:D17))
A18: =IF(D18="","",SUBTOTAL(3,$D$14:D18))
A19: =IF(D19="","",SUBTOTAL(3,$D$14:D19))
A20: =IF(D20="","",SUBTOTAL(3,$D$14:D20))
A21: =IF(D21="","",SUBTOTAL(3,$D$14:D21))
A22: =IF(D22="","",SUBTOTAL(3,$D$14:D22))
A23: =IF(D23="","",SUBTOTAL(3,$D$14:D23))
A24: =IF(D24="","",SUBTOTAL(3,$D$14:D24))
A25: =IF(D25="","",SUBTOTAL(3,$D$14:D25))
A26: =IF(D26="","",SUBTOTAL(3,$D$14:D26))
... A551: =IF(D551="","",SUBTOTAL(3,$D$14:D551))
A552: =IF(D552="","",SUBTOTAL(3,$D$14:D552)) | E552: =IF($D552="","",SUMIF('[1]TK DETHI'!$A:$A,$D552,'[1]TK DETHI'!$B:$B)) | F552: =IF($D552="","",SUMIF('[1]TK DETHI'!$C:$C,$D552,'[1]TK DETHI'!$D:$D)) | G552: =IF($D552="","",SUMIF('[1]TK DETHI'!$E:$E,$D552,'[1]TK DETHI'!$F:$F)) | H552: =IF($D552="","",SUMIF('[1]TK DETHI'!$G:$G,$D552,'[1]TK DETHI'!$H:$H)) | I552: =IF($D552="","",SUMIF('[1]TK DETHI'!$I:$I,$D552,'[1]TK DETHI'!$J:$J)) | J552: =IF($D552="","",SUMIF('[1]TK DETHI'!$K:$K,$D552,'[1]TK DETHI'!$L:$L)) | K552: =IF($D552="","",SUMIF('[1]TK DETHI'!$M:$M,$D552,'[1]TK DETHI'!$N:$N)) | L552: =IF($D552="","",SUMIF('[1]TK DETHI'!$O:$O,$D552,'[1]TK DETHI'!$P:$P)) | M552: =IF($D552="","",($E552+$F552*1.5+$G552*0.25+$H552*0.5+$I552*2+$J552*2.5+$K552*0.5+$L552*1.5)) | N552: =IF($D552="","",SUMIF('[1]TK COITHI KTHP va Thi TN'!$A:$A,$D552,'[1]TK COITHI KTHP va Thi TN'!$D:$D)) | O552: =IF($D552="","",SUMIF('[1]TK COITHI KTHP va Thi TN'!$B:$B,$D552,'[1]TK COITHI KTHP va Thi TN'!$D:$D)) | P552: =IF($D552="","",SUMIF('[1]TK COITHI KTHP va Thi TN'!$E:$E,$D552,'[1]TK COITHI KTHP va Thi TN'!$H:$H)) | Q552: =IF($D552="","",SUMIF('[1]TK COITHI KTHP va Thi TN'!$F:$F,$D552,'[1]TK COITHI KTHP va Thi TN'!$H:$H)) | R552: =IF($D552="","",SUM($N552:$Q552)) | S552: =IF($D552="","",SUMIF('[1]TK CHAMTHI'!$A:$A,$D552,'[1]TK CHAMTHI'!$C:$C)) | T552: =IF($D552="","",SUMIF('[1]TK CHAMTHI'!$B:$B,$D552,'[1]TK CHAMTHI'!$C:$C)) | U552: =IF(D552="","",SUMIF('[1]CHAM NV'!B:B,D552,'[1]CHAM NV'!C:C)) | V552: =IF($D552="","",((SUM($S552:$T552))-U552)*0.1) | W552: =IF($D552="","",SUMIF('[1]TK CHAMTHI'!$D:$D,$D552,'[1]TK CHAMTHI'!$F:$F)) | X552: =IF($D552="","",SUMIF('[1]TK CHAMTHI'!$E:$E,$D552,'[1]TK CHAMTHI'!$F:$F)) | Y552: =IF(D552="","",SUMIF('[1]CHAM NV'!G:G,D552,'[1]CHAM NV'!H:H)) | Z552: =IF($D552="","",((SUM($W552:$X552))-Y552)*0.2) | AA552: =IF($D552="","",SUMIF('[1]TK CHAMTHI'!$G:$G,$D552,'[1]TK CHAMTHI'!$I:$I)) | AB552: =IF($D552="","",SUMIF('[1]TK CHAMTHI'!$H:$H,$D552,'[1]TK CHAMTHI'!$I:$I)) | AC552: =IF(D552="","",SUMIF('[1]CHAM NV'!E:E,D552,'[1]CHAM NV'!F:F)) | AD552: =IF($D552="","",((SUM($AA552:$AB552))-AC552)*0.1) | AE552: =IF($D552="","",SUMIF('[1]TK CHAMTHI'!$J:$J,$D552,'[1]TK CHAMTHI'!$L:$L)) | AF552: =IF($D552="","",SUMIF('[1]TK CHAMTHI'!$K:$K,$D552,'[1]TK CHAMTHI'!$L:$L)) | AG552: =IF(D552="","",SUMIF('[1]CHAM NV'!I:I,D552,'[1]CHAM NV'!J:J)) | AH552: =IF($D552="","",((SUM($AE552:$AF552))-AG552)*0.2) | AI552: =IF($D552="","",SUMIF('[1]TK CHAMTHI'!$M:$M,$D552,'[1]TK CHAMTHI'!$O:$O)) | AJ552: =IF($D552="","",SUMIF('[1]TK CHAMTHI'!$N:$N,$D552,'[1]TK CHAMTHI'!$O:$O)) | AK552: =IF($D552="","",(SUM($AI552:$AJ552))*0.2) | AL552: =IF($D552="","",SUMIF('[1]TK CHAMTHI'!$P:$P,$D552,'[1]TK CHAMTHI'!$R:$R)) | AM552: =IF($D552="","",SUMIF('[1]TK CHAMTHI'!$Q:$Q,$D552,'[1]TK CHAMTHI'!$R:$R)) | AN552: =IF($D552="","",(SUM($AL552:$AM552))*0.4) | AO552: =IF(D552="","",SUMIF('[1]TK CHAMTHI'!S:S,D552,'[1]TK CHAMTHI'!U:U)) | AP552: =IF(D552="","",SUMIF('[1]TK CHAMTHI'!T:T,D552,'[1]TK CHAMTHI'!U:U)) | AQ552: =IF(D552="","",SUM(AO552:AP552)*0.4) | AR552: =IF(D552="","",ROUND(SUMIF('[1]QL THI'!G:G,D552,'[1]QL THI'!H:H),1)) | AS552: =IF(D552="","",ROUND(SUMIF('[1]QL THI'!E:E,D552,'[1]QL THI'!F:F),1)) | AT552: =IF(D552="","",ROUND(M552+R552+V552+Z552+AD552+AH552+AK552+AN552+AQ552+SUM(AR552:AS552),1))
E553: =SUBTOTAL(9,E12:E552) -> 0 | F553: =SUBTOTAL(9,F12:F552) -> 0 | G553: =SUBTOTAL(9,G12:G552) -> 0 | H553: =SUBTOTAL(9,H12:H552) -> 0 | I553: =SUBTOTAL(9,I12:I552) -> 0 | J553: =SUBTOTAL(9,J12:J552) -> 0 | K553: =SUBTOTAL(9,K12:K552) -> 0 | L553: =SUBTOTAL(9,L12:L552) -> 0 | ... T553: =SUBTOTAL(9,T12:T552) -> 0 | V553: =SUBTOTAL(9,V12:V552) -> -7.8 | W553: =SUBTOTAL(9,W12:W552) -> 0 | X553: =SUBTOTAL(9,X12:X552) -> 0 | Z553: =SUBTOTAL(9,Z12:Z552) -> 0 | AA553: =SUBTOTAL(9,AA12:AA552) -> 0 | AB553: =SUBTOTAL(9,AB12:AB552) -> 0 | AD553: =SUBTOTAL(9,AD12:AD552) -> 0 | AE553: =SUBTOTAL(9,AE12:AE552) -> 0 | AF553: =SUBTOTAL(9,AF12:AF552) -> 0 | AH553: =SUBTOTAL(9,AH12:AH552) -> 0 | AI553: =SUBTOTAL(9,AI12:AI552) -> 0 | AJ553: =SUBTOTAL(9,AJ12:AJ552) -> 0 | AK553: =SUBTOTAL(9,AK12:AK552) -> 0 | AL553: =SUBTOTAL(9,AL12:AL552) -> 0 | AM553: =SUBTOTAL(9,AM12:AM552) -> 0 | AN553: =SUBTOTAL(9,AN12:AN552) -> 0 | AO553: =SUBTOTAL(9,AO12:AO552) -> 0 | ... AT553: =SUBTOTAL(9,AT12:AT552) -> -7.8

Sheet HKII NH 19-20
A1: UBND THÀNH PHỐ HỒ CHÍ MINH | AG1: CỘNG HOÀ XÃ HỘI CHỦ NGHĨA VIỆT NAM
A2: TRƯỜNG CAO ĐẲNG LÝ TỰ TRỌNG | AG2: Độc lập - Tự do - Hạnh phúc
A3: THÀNH PHỐ HỒ CHÍ MINH
A5: BẢNG TÍNH KHỐI LƯỢNG CÔNG TÁC TỔ CHỨC THI HỌC KÌ 2 NĂM HỌC 2019 - 2020
A7: ĐƠN VỊ:
E10: =SUBTOTAL(9,E14:E548) -> 4 | F10: =SUBTOTAL(9,F14:F548) -> 10 | G10: =SUBTOTAL(9,G14:G548) -> 0 | H10: =SUBTOTAL(9,H14:H548) -> 0 | I10: =SUBTOTAL(9,I14:I548) -> 0 | J10: =SUBTOTAL(9,J14:J548) -> 0 | K10: =SUBTOTAL(9,K14:K548) -> 0 | L10: =SUBTOTAL(9,L14:L548) -> 0 | ... AT10: =SUBTOTAL(9,AT14:AT548) -> 77.1
A11: STT | B11: Mã nhân sự | C11: Đơn vị | D11: HỌ VÀ TÊN GIẢNG VIÊN | E11: ĐỀ THI | N11: COI THI | S11: CHẤM THI KTHP | AI11: CHẤM THI TỐT NGHIỆP | AR11: DỰ PHÒNG KỲ THI | AS11: GIÁM SÁT | AT11: TỔNG KHỐI LƯỢNG | AU11: =SUBTOTAL(9,AT:AT) -> 77.1
S12: LÝ THUYẾT (TV+TN) | W12: VẤN ĐÁP | AA12: TIỂU LUẬN | AE12: THỰC HÀNH | AI12: LÝ THUYẾT (TV+TN) | AL12: VẤN ĐÁP | AO12: THỰC HÀNH
E13: SL ĐỀ LT KTHP | F13: SL ĐỀ TN KTHP | G13: SL ĐỀ VĐ KTHP | H13: SL ĐỀ TH KTHP | I13: SL ĐỀ LT ThiTN | J13: SL ĐỀ TN ThiTN | K13: SL ĐỀ VĐ ThiTN | L13: SL ĐỀ TH ThiTN | M13: KL SOẠN ĐỀ (tiết) | N13: COITHI 1 KTHP | O13: COITHI 2 KTHP | P13: COITHI 1 Thi TN | Q13: COITHI 2 Thi TN | R13: KL COITHI (tiết) | S13: SL CHẤM LT 1 | T13: SL CHẤM LT 2 | U13: SL CHẤM NV | V13: KL CHẤM LT (tiết) | W13: SL CHẤM TL 1 | X13: SL CHẤM TL 2 | Y13: SL CHẤM NV | Z13: KL CHẤM TL (tiết) | AA13: SL CHẤM TL 1 | AB13: SL CHẤM TL 2 | AC13: SL CHẤM NV | AD13: KL CHẤM TL (tiết) | AE13: SL CHẤM TL 1 | AF13: SL CHẤM TL 2 | AG13: SL CHẤM NV | AH13: KL CHẤM TL (tiết) | AI13: SL BÀI LT CHẤM 1 | AJ13: SL BÀI LT CHẤM 2 | AK13: KL CHẤM LT (tiết) | AL13: SL BÀI VĐ CHẤM 1 | AM13: SL BÀI VĐ CHẤM 2 | AN13: KL CHẤM VĐ (tiết) | AO13: SL BÀI TL CHẤM 1 | AP13: SL BÀI TL CHẤM 2 | AQ13: KL CHẤM TL (tiết)
A14: =IF(D14="","",SUBTOTAL(3,$D$14:D14)) -> 1 | B14: 01023002 | C14: Khoa KHCB | D14: Trương Thị Hồng | E14: 4 | F14: 10 | G14: 0 | H14: 0 | I14: 0 | J14: 0 | K14: 0 | L14: 0 | M14: 19 | N14: 0.9 | O14: 4.05 | P14: 1.25 | Q14: 0 | R14: 6.2 | S14: 210 | T14: 341 | U14: 41 | V14: 51 | W14: 0 | X14: 0 | Y14: 0 | Z14: 0 | AA14: 0 | AB14: 0 | AC14: 0 | AD14: 0 | AE14: 0 | AF14: 0 | AG14: 0 | AH14: 0 | AI14: 0 | AJ14: 0 | AK14: 0 | AL14: 0 | AM14: 0 | AN14: 0 | AO14: 0 | AP14: 0 | AQ14: 0 | AR14: 0 | AS14: 0.9 | AT14: 77.1
A15: =IF(D15="","",SUBTOTAL(3,$D$14:D15))
A16: =IF(D16="","",SUBTOTAL(3,$D$14:D16))
A17: =IF(D17="","",SUBTOTAL(3,$D$14:D17))
A18: =IF(D18="","",SUBTOTAL(3,$D$14:D18))
A19: =IF(D19="","",SUBTOTAL(3,$D$14:D19))
A20: =IF(D20="","",SUBTOTAL(3,$D$14:D20))
A21: =IF(D21="","",SUBTOTAL(3,$D$14:D21))
A22: =IF(D22="","",SUBTOTAL(3,$D$14:D22))
A23: =IF(D23="","",SUBTOTAL(3,$D$14:D23))
A24: =IF(D24="","",SUBTOTAL(3,$D$14:D24))
A25: =IF(D25="","",SUBTOTAL(3,$D$14:D25))
A26: =IF(D26="","",SUBTOTAL(3,$D$14:D26))
... A551: =IF(D551="","",SUBTOTAL(3,$D$14:D551))
A552: =IF(D552="","",SUBTOTAL(3,$D$14:D552)) | E552: =IF($D552="","",SUMIF('[1]TK DETHI'!$A:$A,$D552,'[1]TK DETHI'!$B:$B)) | F552: =IF($D552="","",SUMIF('[1]TK DETHI'!$C:$C,$D552,'[1]TK DETHI'!$D:$D)) | G552: =IF($D552="","",SUMIF('[1]TK DETHI'!$E:$E,$D552,'[1]TK DETHI'!$F:$F)) | H552: =IF($D552="","",SUMIF('[1]TK DETHI'!$G:$G,$D552,'[1]TK DETHI'!$H:$H)) | I552: =IF($D552="","",SUMIF('[1]TK DETHI'!$I:$I,$D552,'[1]TK DETHI'!$J:$J)) | J552: =IF($D552="","",SUMIF('[1]TK DETHI'!$K:$K,$D552,'[1]TK DETHI'!$L:$L)) | K552: =IF($D552="","",SUMIF('[1]TK DETHI'!$M:$M,$D552,'[1]TK DETHI'!$N:$N)) | L552: =IF($D552="","",SUMIF('[1]TK DETHI'!$O:$O,$D552,'[1]TK DETHI'!$P:$P)) | M552: =IF($D552="","",($E552+$F552*1.5+$G552*0.25+$H552*0.5+$I552*2+$J552*2.5+$K552*0.5+$L552*1.5)) | N552: =IF($D552="","",SUMIF('[1]TK COITHI KTHP va Thi TN'!$A:$A,$D552,'[1]TK COITHI KTHP va Thi TN'!$D:$D)) | O552: =IF($D552="","",SUMIF('[1]TK COITHI KTHP va Thi TN'!$B:$B,$D552,'[1]TK COITHI KTHP va Thi TN'!$D:$D)) | P552: =IF($D552="","",SUMIF('[1]TK COITHI KTHP va Thi TN'!$E:$E,$D552,'[1]TK COITHI KTHP va Thi TN'!$H:$H)) | Q552: =IF($D552="","",SUMIF('[1]TK COITHI KTHP va Thi TN'!$F:$F,$D552,'[1]TK COITHI KTHP va Thi TN'!$H:$H)) | R552: =IF($D552="","",SUM($N552:$Q552)) | S552: =IF($D552="","",SUMIF('[1]TK CHAMTHI'!$A:$A,$D552,'[1]TK CHAMTHI'!$C:$C)) | T552: =IF($D552="","",SUMIF('[1]TK CHAMTHI'!$B:$B,$D552,'[1]TK CHAMTHI'!$C:$C)) | U552: =IF(D552="","",SUMIF('[1]CHAM NV'!B:B,D552,'[1]CHAM NV'!C:C)) | V552: =IF($D552="","",((SUM($S552:$T552))-U552)*0.1) | W552: =IF($D552="","",SUMIF('[1]TK CHAMTHI'!$D:$D,$D552,'[1]TK CHAMTHI'!$F:$F)) | X552: =IF($D552="","",SUMIF('[1]TK CHAMTHI'!$E:$E,$D552,'[1]TK CHAMTHI'!$F:$F)) | Y552: =IF(D552="","",SUMIF('[1]CHAM NV'!G:G,D552,'[1]CHAM NV'!H:H)) | Z552: =IF($D552="","",((SUM($W552:$X552))-Y552)*0.2) | AA552: =IF($D552="","",SUMIF('[1]TK CHAMTHI'!$G:$G,$D552,'[1]TK CHAMTHI'!$I:$I)) | AB552: =IF($D552="","",SUMIF('[1]TK CHAMTHI'!$H:$H,$D552,'[1]TK CHAMTHI'!$I:$I)) | AC552: =IF(D552="","",SUMIF('[1]CHAM NV'!E:E,D552,'[1]CHAM NV'!F:F)) | AD552: =IF($D552="","",((SUM($AA552:$AB552))-AC552)*0.1) | AE552: =IF($D552="","",SUMIF('[1]TK CHAMTHI'!$J:$J,$D552,'[1]TK CHAMTHI'!$L:$L)) | AF552: =IF($D552="","",SUMIF('[1]TK CHAMTHI'!$K:$K,$D552,'[1]TK CHAMTHI'!$L:$L)) | AG552: =IF(D552="","",SUMIF('[1]CHAM NV'!I:I,D552,'[1]CHAM NV'!J:J)) | AH552: =IF($D552="","",((SUM($AE552:$AF552))-AG552)*0.2) | AI552: =IF($D552="","",SUMIF('[1]TK CHAMTHI'!$M:$M,$D552,'[1]TK CHAMTHI'!$O:$O)) | AJ552: =IF($D552="","",SUMIF('[1]TK CHAMTHI'!$N:$N,$D552,'[1]TK CHAMTHI'!$O:$O)) | AK552: =IF($D552="","",(SUM($AI552:$AJ552))*0.2) | AL552: =IF($D552="","",SUMIF('[1]TK CHAMTHI'!$P:$P,$D552,'[1]TK CHAMTHI'!$R:$R)) | AM552: =IF($D552="","",SUMIF('[1]TK CHAMTHI'!$Q:$Q,$D552,'[1]TK CHAMTHI'!$R:$R)) | AN552: =IF($D552="","",(SUM($AL552:$AM552))*0.4) | AO552: =IF(D552="","",SUMIF('[1]TK CHAMTHI'!S:S,D552,'[1]TK CHAMTHI'!U:U)) | AP552: =IF(D552="","",SUMIF('[1]TK CHAMTHI'!T:T,D552,'[1]TK CHAMTHI'!U:U)) | AQ552: =IF(D552="","",SUM(AO552:AP552)*0.4) | AR552: =IF(D552="","",ROUND(SUMIF('[1]QL THI'!G:G,D552,'[1]QL THI'!H:H),1)) | AS552: =IF(D552="","",ROUND(SUMIF('[1]QL THI'!E:E,D552,'[1]QL THI'!F:F),1)) | AT552: =IF(D552="","",ROUND(M552+R552+V552+Z552+AD552+AH552+AK552+AN552+AQ552+SUM(AR552:AS552),1))
E553: =SUBTOTAL(9,E12:E552) -> 4 | F553: =SUBTOTAL(9,F12:F552) -> 10 | G553: =SUBTOTAL(9,G12:G552) -> 0 | H553: =SUBTOTAL(9,H12:H552) -> 0 | I553: =SUBTOTAL(9,I12:I552) -> 0 | J553: =SUBTOTAL(9,J12:J552) -> 0 | K553: =SUBTOTAL(9,K12:K552) -> 0 | L553: =SUBTOTAL(9,L12:L552) -> 0 | ... T553: =SUBTOTAL(9,T12:T552) -> 341 | V553: =SUBTOTAL(9,V12:V552) -> 51 | W553: =SUBTOTAL(9,W12:W552) -> 0 | X553: =SUBTOTAL(9,X12:X552) -> 0 | Z553: =SUBTOTAL(9,Z12:Z552) -> 0 | AA553: =SUBTOTAL(9,AA12:AA552) -> 0 | AB553: =SUBTOTAL(9,AB12:AB552) -> 0 | AD553: =SUBTOTAL(9,AD12:AD552) -> 0 | AE553: =SUBTOTAL(9,AE12:AE552) -> 0 | AF553: =SUBTOTAL(9,AF12:AF552) -> 0 | AH553: =SUBTOTAL(9,AH12:AH552) -> 0 | AI553: =SUBTOTAL(9,AI12:AI552) -> 0 | AJ553: =SUBTOTAL(9,AJ12:AJ552) -> 0 | AK553: =SUBTOTAL(9,AK12:AK552) -> 0 | AL553: =SUBTOTAL(9,AL12:AL552) -> 0 | AM553: =SUBTOTAL(9,AM12:AM552) -> 0 | AN553: =SUBTOTAL(9,AN12:AN552) -> 0 | AO553: =SUBTOTAL(9,AO12:AO552) -> 0 | ... AT553: =SUBTOTAL(9,AT12:AT552) -> 77.1

Sheet HE 18-19
A1: UBND THÀNH PHỐ HỒ CHÍ MINH | AG1: CỘNG HOÀ XÃ HỘI CHỦ NGHĨA VIỆT NAM
A2: TRƯỜNG CAO ĐẲNG LÝ TỰ TRỌNG | AG2: Độc lập - Tự do - Hạnh phúc
A3: THÀNH PHỐ HỒ CHÍ MINH
A5: BẢNG TÍNH KHỐI LƯỢNG CÔNG TÁC TỔ CHỨC THI HÈ 2017-2018 ( TỪ T8/2018)
A7: ĐƠN VỊ:
E10: =SUBTOTAL(9,E14:E548) -> 0 | F10: =SUBTOTAL(9,F14:F548) -> 0 | G10: =SUBTOTAL(9,G14:G548) -> 0 | H10: =SUBTOTAL(9,H14:H548) -> 0 | I10: =SUBTOTAL(9,I14:I548) -> 0 | J10: =SUBTOTAL(9,J14:J548) -> 0 | K10: =SUBTOTAL(9,K14:K548) -> 0 | L10: =SUBTOTAL(9,L14:L548) -> 0 | ... AT10: =SUBTOTAL(9,AT14:AT548) -> 1.2
A11: STT | B11: Mã nhân sự | C11: Đơn vị | D11: HỌ VÀ TÊN GIẢNG VIÊN | E11: ĐỀ THI | N11: COI THI | S11: CHẤM THI KTHP | AI11: CHẤM THI TỐT NGHIỆP | AR11: DỰ PHÒNG KỲ THI | AS11: GIÁM SÁT | AT11: TỔNG KHỐI LƯỢNG | AU11: =SUBTOTAL(9,AT:AT) -> 1.2
S12: LÝ THUYẾT (TV+TN) | W12: VẤN ĐÁP | AA12: TIỂU LUẬN | AE12: THỰC HÀNH | AI12: LÝ THUYẾT (TV+TN) | AL12: VẤN ĐÁP | AO12: THỰC HÀNH
E13: SL ĐỀ LT KTHP | F13: SL ĐỀ TN KTHP | G13: SL ĐỀ VĐ KTHP | H13: SL ĐỀ TH KTHP | I13: SL ĐỀ LT ThiTN | J13: SL ĐỀ TN ThiTN | K13: SL ĐỀ VĐ ThiTN | L13: SL ĐỀ TH ThiTN | M13: KL SOẠN ĐỀ (tiết) | N13: COITHI 1 KTHP | O13: COITHI 2 KTHP | P13: COITHI 1 Thi TN | Q13: COITHI 2 Thi TN | R13: KL COITHI (tiết) | S13: SL CHẤM LT 1 | T13: SL CHẤM LT 2 | U13: SL CHẤM NV | V13: KL CHẤM LT (tiết) | W13: SL CHẤM TL 1 | X13: SL CHẤM TL 2 | Y13: SL CHẤM NV | Z13: KL CHẤM TL (tiết) | AA13: SL CHẤM TL 1 | AB13: SL CHẤM TL 2 | AC13: SL CHẤM NV | AD13: KL CHẤM TL (tiết) | AE13: SL CHẤM TL 1 | AF13: SL CHẤM TL 2 | AG13: SL CHẤM NV | AH13: KL CHẤM TL (tiết) | AI13: SL BÀI LT CHẤM 1 | AJ13: SL BÀI LT CHẤM 2 | AK13: KL CHẤM LT (tiết) | AL13: SL BÀI VĐ CHẤM 1 | AM13: SL BÀI VĐ CHẤM 2 | AN13: KL CHẤM VĐ (tiết) | AO13: SL BÀI TL CHẤM 1 | AP13: SL BÀI TL CHẤM 2 | AQ13: KL CHẤM TL (tiết)
A14: =IF(D14="","",SUBTOTAL(3,$D$14:D14)) -> 1 | B14: 01006004 | C14: Khoa CN Cơ khí | D14: Nguyễn Văn Sơn | E14: 0 | F14: 0 | G14: 0 | H14: 0 | I14: 0 | J14: 0 | K14: 0 | L14: 0 | M14: 0 | N14: 0.6 | O14: 0.6 | P14: 0.6 | Q14: 0 | R14: 1.2 | S14: 0 | T14: 0 | U14: 0 | V14: 0 | W14: 0 | X14: 0 | Y14: 0 | Z14: 0 | AA14: 0 | AB14: 0 | AC14: 0 | AD14: 0 | AE14: 0 | AF14: 0 | AG14: 0 | AH14: 0 | AI14: 0 | AJ14: 0 | AK14: 0 | AL14: 0 | AM14: 0 | AN14: 0 | AO14: 0 | AP14: 0 | AQ14: 0 | AR14: 0 | AS14: 0 | AT14: 1.2
A15: =IF(D15="","",SUBTOTAL(3,$D$14:D15))
A16: =IF(D16="","",SUBTOTAL(3,$D$14:D16))
A17: =IF(D17="","",SUBTOTAL(3,$D$14:D17))
A18: =IF(D18="","",SUBTOTAL(3,$D$14:D18))
A19: =IF(D19="","",SUBTOTAL(3,$D$14:D19))
A20: =IF(D20="","",SUBTOTAL(3,$D$14:D20))
A21: =IF(D21="","",SUBTOTAL(3,$D$14:D21))
A22: =IF(D22="","",SUBTOTAL(3,$D$14:D22))
A23: =IF(D23="","",SUBTOTAL(3,$D$14:D23))
A24: =IF(D24="","",SUBTOTAL(3,$D$14:D24))
A25: =IF(D25="","",SUBTOTAL(3,$D$14:D25))
A26: =IF(D26="","",SUBTOTAL(3,$D$14:D26))
... A551: =IF(D551="","",SUBTOTAL(3,$D$14:D551))
A552: =IF(D552="","",SUBTOTAL(3,$D$14:D552)) | E552: =IF($D552="","",SUMIF('[1]TK DETHI'!$A:$A,$D552,'[1]TK DETHI'!$B:$B)) | F552: =IF($D552="","",SUMIF('[1]TK DETHI'!$C:$C,$D552,'[1]TK DETHI'!$D:$D)) | G552: =IF($D552="","",SUMIF('[1]TK DETHI'!$E:$E,$D552,'[1]TK DETHI'!$F:$F)) | H552: =IF($D552="","",SUMIF('[1]TK DETHI'!$G:$G,$D552,'[1]TK DETHI'!$H:$H)) | I552: =IF($D552="","",SUMIF('[1]TK DETHI'!$I:$I,$D552,'[1]TK DETHI'!$J:$J)) | J552: =IF($D552="","",SUMIF('[1]TK DETHI'!$K:$K,$D552,'[1]TK DETHI'!$L:$L)) | K552: =IF($D552="","",SUMIF('[1]TK DETHI'!$M:$M,$D552,'[1]TK DETHI'!$N:$N)) | L552: =IF($D552="","",SUMIF('[1]TK DETHI'!$O:$O,$D552,'[1]TK DETHI'!$P:$P)) | M552: =IF($D552="","",($E552+$F552*1.5+$G552*0.25+$H552*0.5+$I552*2+$J552*2.5+$K552*0.5+$L552*1.5)) | N552: =IF($D552="","",SUMIF('[1]TK COITHI KTHP va Thi TN'!$A:$A,$D552,'[1]TK COITHI KTHP va Thi TN'!$D:$D)) | O552: =IF($D552="","",SUMIF('[1]TK COITHI KTHP va Thi TN'!$B:$B,$D552,'[1]TK COITHI KTHP va Thi TN'!$D:$D)) | P552: =IF($D552="","",SUMIF('[1]TK COITHI KTHP va Thi TN'!$E:$E,$D552,'[1]TK COITHI KTHP va Thi TN'!$H:$H)) | Q552: =IF($D552="","",SUMIF('[1]TK COITHI KTHP va Thi TN'!$F:$F,$D552,'[1]TK COITHI KTHP va Thi TN'!$H:$H)) | R552: =IF($D552="","",SUM($N552:$Q552)) | S552: =IF($D552="","",SUMIF('[1]TK CHAMTHI'!$A:$A,$D552,'[1]TK CHAMTHI'!$C:$C)) | T552: =IF($D552="","",SUMIF('[1]TK CHAMTHI'!$B:$B,$D552,'[1]TK CHAMTHI'!$C:$C)) | U552: =IF(D552="","",SUMIF('[1]CHAM NV'!B:B,D552,'[1]CHAM NV'!C:C)) | V552: =IF($D552="","",((SUM($S552:$T552))-U552)*0.1) | W552: =IF($D552="","",SUMIF('[1]TK CHAMTHI'!$D:$D,$D552,'[1]TK CHAMTHI'!$F:$F)) | X552: =IF($D552="","",SUMIF('[1]TK CHAMTHI'!$E:$E,$D552,'[1]TK CHAMTHI'!$F:$F)) | Y552: =IF(D552="","",SUMIF('[1]CHAM NV'!G:G,D552,'[1]CHAM NV'!H:H)) | Z552: =IF($D552="","",((SUM($W552:$X552))-Y552)*0.2) | AA552: =IF($D552="","",SUMIF('[1]TK CHAMTHI'!$G:$G,$D552,'[1]TK CHAMTHI'!$I:$I)) | AB552: =IF($D552="","",SUMIF('[1]TK CHAMTHI'!$H:$H,$D552,'[1]TK CHAMTHI'!$I:$I)) | AC552: =IF(D552="","",SUMIF('[1]CHAM NV'!E:E,D552,'[1]CHAM NV'!F:F)) | AD552: =IF($D552="","",((SUM($AA552:$AB552))-AC552)*0.1) | AE552: =IF($D552="","",SUMIF('[1]TK CHAMTHI'!$J:$J,$D552,'[1]TK CHAMTHI'!$L:$L)) | AF552: =IF($D552="","",SUMIF('[1]TK CHAMTHI'!$K:$K,$D552,'[1]TK CHAMTHI'!$L:$L)) | AG552: =IF(D552="","",SUMIF('[1]CHAM NV'!I:I,D552,'[1]CHAM NV'!J:J)) | AH552: =IF($D552="","",((SUM($AE552:$AF552))-AG552)*0.2) | AI552: =IF($D552="","",SUMIF('[1]TK CHAMTHI'!$M:$M,$D552,'[1]TK CHAMTHI'!$O:$O)) | AJ552: =IF($D552="","",SUMIF('[1]TK CHAMTHI'!$N:$N,$D552,'[1]TK CHAMTHI'!$O:$O)) | AK552: =IF($D552="","",(SUM($AI552:$AJ552))*0.2) | AL552: =IF($D552="","",SUMIF('[1]TK CHAMTHI'!$P:$P,$D552,'[1]TK CHAMTHI'!$R:$R)) | AM552: =IF($D552="","",SUMIF('[1]TK CHAMTHI'!$Q:$Q,$D552,'[1]TK CHAMTHI'!$R:$R)) | AN552: =IF($D552="","",(SUM($AL552:$AM552))*0.4) | AO552: =IF(D552="","",SUMIF('[1]TK CHAMTHI'!S:S,D552,'[1]TK CHAMTHI'!U:U)) | AP552: =IF(D552="","",SUMIF('[1]TK CHAMTHI'!T:T,D552,'[1]TK CHAMTHI'!U:U)) | AQ552: =IF(D552="","",SUM(AO552:AP552)*0.4) | AR552: =IF(D552="","",ROUND(SUMIF('[1]QL THI'!G:G,D552,'[1]QL THI'!H:H),1)) | AS552: =IF(D552="","",ROUND(SUMIF('[1]QL THI'!E:E,D552,'[1]QL THI'!F:F),1)) | AT552: =IF(D552="","",ROUND(M552+R552+V552+Z552+AD552+AH552+AK552+AN552+AQ552+SUM(AR552:AS552),1))
E553: =SUBTOTAL(9,E12:E552) -> 0 | F553: =SUBTOTAL(9,F12:F552) -> 0 | G553: =SUBTOTAL(9,G12:G552) -> 0 | H553: =SUBTOTAL(9,H12:H552) -> 0 | I553: =SUBTOTAL(9,I12:I552) -> 0 | J553: =SUBTOTAL(9,J12:J552) -> 0 | K553: =SUBTOTAL(9,K12:K552) -> 0 | L553: =SUBTOTAL(9,L12:L552) -> 0 | ... T553: =SUBTOTAL(9,T12:T552) -> 0 | V553: =SUBTOTAL(9,V12:V552) -> 0 | W553: =SUBTOTAL(9,W12:W552) -> 0 | X553: =SUBTOTAL(9,X12:X552) -> 0 | Z553: =SUBTOTAL(9,Z12:Z552) -> 0 | AA553: =SUBTOTAL(9,AA12:AA552) -> 0 | AB553: =SUBTOTAL(9,AB12:AB552) -> 0 | AD553: =SUBTOTAL(9,AD12:AD552) -> 0 | AE553: =SUBTOTAL(9,AE12:AE552) -> 0 | AF553: =SUBTOTAL(9,AF12:AF552) -> 0 | AH553: =SUBTOTAL(9,AH12:AH552) -> 0 | AI553: =SUBTOTAL(9,AI12:AI552) -> 0 | AJ553: =SUBTOTAL(9,AJ12:AJ552) -> 0 | AK553: =SUBTOTAL(9,AK12:AK552) -> 0 | AL553: =SUBTOTAL(9,AL12:AL552) -> 0 | AM553: =SUBTOTAL(9,AM12:AM552) -> 0 | AN553: =SUBTOTAL(9,AN12:AN552) -> 0 | AO553: =SUBTOTAL(9,AO12:AO552) -> 0 | ... AT553: =SUBTOTAL(9,AT12:AT552) -> 1.2

Sheet CA NAM 19-20
A1: UBND THÀNH PHỐ HỒ CHÍ MINH | AG1: CỘNG HOÀ XÃ HỘI CHỦ NGHĨA VIỆT NAM
A2: TRƯỜNG CAO ĐẲNG LÝ TỰ TRỌNG | AG2: Độc lập - Tự do - Hạnh phúc
A3: THÀNH PHỐ HỒ CHÍ MINH
A5: BẢNG TÍNH KHỐI LƯỢNG CÔNG TÁC TỔ CHỨC THI NĂM HỌC2019 - 2020
A7: ĐƠN VỊ:
E10: =SUBTOTAL(9,E14:E548) -> 4 | F10: =SUBTOTAL(9,F14:F548) -> 10 | G10: =SUBTOTAL(9,G14:G548) -> 0 | H10: =SUBTOTAL(9,H14:H548) -> 0 | I10: =SUBTOTAL(9,I14:I548) -> 0 | J10: =SUBTOTAL(9,J14:J548) -> 0 | K10: =SUBTOTAL(9,K14:K548) -> 0 | L10: =SUBTOTAL(9,L14:L548) -> 0 | ... AT10: =SUBTOTAL(9,AT14:AT548) -> 69.3
A11: STT | B11: Mã nhân sự | C11: Đơn vị | D11: HỌ VÀ TÊN GIẢNG VIÊN | E11: ĐỀ THI | N11: COI THI | S11: CHẤM THI KTHP | AI11: CHẤM THI TỐT NGHIỆP | AR11: DỰ PHÒNG KỲ THI | AS11: GIÁM SÁT | AT11: TỔNG KHỐI LƯỢNG | AU11: =SUBTOTAL(9,AT:AT) -> 69.3
S12: LÝ THUYẾT (TV+TN) | W12: VẤN ĐÁP | AA12: TIỂU LUẬN | AE12: THỰC HÀNH | AI12: LÝ THUYẾT (TV+TN) | AL12: VẤN ĐÁP | AO12: THỰC HÀNH
E13: SL ĐỀ LT KTHP | F13: SL ĐỀ TN KTHP | G13: SL ĐỀ VĐ KTHP | H13: SL ĐỀ TH KTHP | I13: SL ĐỀ LT ThiTN | J13: SL ĐỀ TN ThiTN | K13: SL ĐỀ VĐ ThiTN | L13: SL ĐỀ TH ThiTN | M13: KL SOẠN ĐỀ (tiết) | N13: COITHI 1 KTHP | O13: COITHI 2 KTHP | P13: COITHI 1 Thi TN | Q13: COITHI 2 Thi TN | R13: KL COITHI (tiết) | S13: SL CHẤM LT 1 | T13: SL CHẤM LT 2 | U13: SL CHẤM NV | V13: KL CHẤM LT (tiết) | W13: SL CHẤM TL 1 | X13: SL CHẤM TL 2 | Y13: SL CHẤM NV | Z13: KL CHẤM TL (tiết) | AA13: SL CHẤM TL 1 | AB13: SL CHẤM TL 2 | AC13: SL CHẤM NV | AD13: KL CHẤM TL (tiết) | AE13: SL CHẤM TL 1 | AF13: SL CHẤM TL 2 | AG13: SL CHẤM NV | AH13: KL CHẤM TL (tiết) | AI13: SL BÀI LT CHẤM 1 | AJ13: SL BÀI LT CHẤM 2 | AK13: KL CHẤM LT (tiết) | AL13: SL BÀI VĐ CHẤM 1 | AM13: SL BÀI VĐ CHẤM 2 | AN13: KL CHẤM VĐ (tiết) | AO13: SL BÀI TL CHẤM 1 | AP13: SL BÀI TL CHẤM 2 | AQ13: KL CHẤM TL (tiết)
A14: =IF(D14="","",SUBTOTAL(3,$D$14:D14)) -> 1 | B14: 01023002 | C14: Khoa KHCB | D14: Trương Thị Hồng | E14: ='HKI NH 19-20'!E14+'HKII NH 19-20'!E14 -> 4 | F14: ='HKI NH 19-20'!F14+'HKII NH 19-20'!F14 -> 10 | G14: ='HKI NH 19-20'!G14+'HKII NH 19-20'!G14 -> 0 | H14: ='HKI NH 19-20'!H14+'HKII NH 19-20'!H14 -> 0 | I14: ='HKI NH 19-20'!I14+'HKII NH 19-20'!I14 -> 0 | J14: ='HKI NH 19-20'!J14+'HKII NH 19-20'!J14 -> 0 | K14: ='HKI NH 19-20'!K14+'HKII NH 19-20'!K14 -> 0 | L14: ='HKI NH 19-20'!L14+'HKII NH 19-20'!L14 -> 0 | ... AT14: ='HKI NH 19-20'!AT14+'HKII NH 19-20'!AT14 -> 69.3
A15: =IF(D15="","",SUBTOTAL(3,$D$14:D15))
A16: =IF(D16="","",SUBTOTAL(3,$D$14:D16))
A17: =IF(D17="","",SUBTOTAL(3,$D$14:D17))
A18: =IF(D18="","",SUBTOTAL(3,$D$14:D18))
A19: =IF(D19="","",SUBTOTAL(3,$D$14:D19))
A20: =IF(D20="","",SUBTOTAL(3,$D$14:D20))
A21: =IF(D21="","",SUBTOTAL(3,$D$14:D21))
A22: =IF(D22="","",SUBTOTAL(3,$D$14:D22))
A23: =IF(D23="","",SUBTOTAL(3,$D$14:D23))
A24: =IF(D24="","",SUBTOTAL(3,$D$14:D24))
A25: =IF(D25="","",SUBTOTAL(3,$D$14:D25))
A26: =IF(D26="","",SUBTOTAL(3,$D$14:D26))
... A551: =IF(D551="","",SUBTOTAL(3,$D$14:D551))
A552: =IF(D552="","",SUBTOTAL(3,$D$14:D552)) | E552: =IF($D552="","",SUMIF('[1]TK DETHI'!$A:$A,$D552,'[1]TK DETHI'!$B:$B)) | F552: =IF($D552="","",SUMIF('[1]TK DETHI'!$C:$C,$D552,'[1]TK DETHI'!$D:$D)) | G552: =IF($D552="","",SUMIF('[1]TK DETHI'!$E:$E,$D552,'[1]TK DETHI'!$F:$F)) | H552: =IF($D552="","",SUMIF('[1]TK DETHI'!$G:$G,$D552,'[1]TK DETHI'!$H:$H)) | I552: =IF($D552="","",SUMIF('[1]TK DETHI'!$I:$I,$D552,'[1]TK DETHI'!$J:$J)) | J552: =IF($D552="","",SUMIF('[1]TK DETHI'!$K:$K,$D552,'[1]TK DETHI'!$L:$L)) | K552: =IF($D552="","",SUMIF('[1]TK DETHI'!$M:$M,$D552,'[1]TK DETHI'!$N:$N)) | L552: =IF($D552="","",SUMIF('[1]TK DETHI'!$O:$O,$D552,'[1]TK DETHI'!$P:$P)) | M552: =IF($D552="","",($E552+$F552*1.5+$G552*0.25+$H552*0.5+$I552*2+$J552*2.5+$K552*0.5+$L552*1.5)) | N552: =IF($D552="","",SUMIF('[1]TK COITHI KTHP va Thi TN'!$A:$A,$D552,'[1]TK COITHI KTHP va Thi TN'!$D:$D)) | O552: =IF($D552="","",SUMIF('[1]TK COITHI KTHP va Thi TN'!$B:$B,$D552,'[1]TK COITHI KTHP va Thi TN'!$D:$D)) | P552: =IF($D552="","",SUMIF('[1]TK COITHI KTHP va Thi TN'!$E:$E,$D552,'[1]TK COITHI KTHP va Thi TN'!$H:$H)) | Q552: =IF($D552="","",SUMIF('[1]TK COITHI KTHP va Thi TN'!$F:$F,$D552,'[1]TK COITHI KTHP va Thi TN'!$H:$H)) | R552: =IF($D552="","",SUM($N552:$Q552)) | S552: =IF($D552="","",SUMIF('[1]TK CHAMTHI'!$A:$A,$D552,'[1]TK CHAMTHI'!$C:$C)) | T552: =IF($D552="","",SUMIF('[1]TK CHAMTHI'!$B:$B,$D552,'[1]TK CHAMTHI'!$C:$C)) | U552: =IF(D552="","",SUMIF('[1]CHAM NV'!B:B,D552,'[1]CHAM NV'!C:C)) | V552: =IF($D552="","",((SUM($S552:$T552))-U552)*0.1) | W552: =IF($D552="","",SUMIF('[1]TK CHAMTHI'!$D:$D,$D552,'[1]TK CHAMTHI'!$F:$F)) | X552: =IF($D552="","",SUMIF('[1]TK CHAMTHI'!$E:$E,$D552,'[1]TK CHAMTHI'!$F:$F)) | Y552: =IF(D552="","",SUMIF('[1]CHAM NV'!G:G,D552,'[1]CHAM NV'!H:H)) | Z552: =IF($D552="","",((SUM($W552:$X552))-Y552)*0.2) | AA552: =IF($D552="","",SUMIF('[1]TK CHAMTHI'!$G:$G,$D552,'[1]TK CHAMTHI'!$I:$I)) | AB552: =IF($D552="","",SUMIF('[1]TK CHAMTHI'!$H:$H,$D552,'[1]TK CHAMTHI'!$I:$I)) | AC552: =IF(D552="","",SUMIF('[1]CHAM NV'!E:E,D552,'[1]CHAM NV'!F:F)) | AD552: =IF($D552="","",((SUM($AA552:$AB552))-AC552)*0.1) | AE552: =IF($D552="","",SUMIF('[1]TK CHAMTHI'!$J:$J,$D552,'[1]TK CHAMTHI'!$L:$L)) | AF552: =IF($D552="","",SUMIF('[1]TK CHAMTHI'!$K:$K,$D552,'[1]TK CHAMTHI'!$L:$L)) | AG552: =IF(D552="","",SUMIF('[1]CHAM NV'!I:I,D552,'[1]CHAM NV'!J:J)) | AH552: =IF($D552="","",((SUM($AE552:$AF552))-AG552)*0.2) | AI552: =IF($D552="","",SUMIF('[1]TK CHAMTHI'!$M:$M,$D552,'[1]TK CHAMTHI'!$O:$O)) | AJ552: =IF($D552="","",SUMIF('[1]TK CHAMTHI'!$N:$N,$D552,'[1]TK CHAMTHI'!$O:$O)) | AK552: =IF($D552="","",(SUM($AI552:$AJ552))*0.2) | AL552: =IF($D552="","",SUMIF('[1]TK CHAMTHI'!$P:$P,$D552,'[1]TK CHAMTHI'!$R:$R)) | AM552: =IF($D552="","",SUMIF('[1]TK CHAMTHI'!$Q:$Q,$D552,'[1]TK CHAMTHI'!$R:$R)) | AN552: =IF($D552="","",(SUM($AL552:$AM552))*0.4) | AO552: =IF(D552="","",SUMIF('[1]TK CHAMTHI'!S:S,D552,'[1]TK CHAMTHI'!U:U)) | AP552: =IF(D552="","",SUMIF('[1]TK CHAMTHI'!T:T,D552,'[1]TK CHAMTHI'!U:U)) | AQ552: =IF(D552="","",SUM(AO552:AP552)*0.4) | AR552: =IF(D552="","",ROUND(SUMIF('[1]QL THI'!G:G,D552,'[1]QL THI'!H:H),1)) | AS552: =IF(D552="","",ROUND(SUMIF('[1]QL THI'!E:E,D552,'[1]QL THI'!F:F),1)) | AT552: =IF(D552="","",ROUND(M552+R552+V552+Z552+AD552+AH552+AK552+AN552+AQ552+SUM(AR552:AS552),1))
E553: =SUBTOTAL(9,E12:E552) -> 4 | F553: =SUBTOTAL(9,F12:F552) -> 10 | G553: =SUBTOTAL(9,G12:G552) -> 0 | H553: =SUBTOTAL(9,H12:H552) -> 0 | I553: =SUBTOTAL(9,I12:I552) -> 0 | J553: =SUBTOTAL(9,J12:J552) -> 0 | K553: =SUBTOTAL(9,K12:K552) -> 0 | L553: =SUBTOTAL(9,L12:L552) -> 0 | ... T553: =SUBTOTAL(9,T12:T552) -> 341 | V553: =SUBTOTAL(9,V12:V552) -> 43.2 | W553: =SUBTOTAL(9,W12:W552) -> 0 | X553: =SUBTOTAL(9,X12:X552) -> 0 | Z553: =SUBTOTAL(9,Z12:Z552) -> 0 | AA553: =SUBTOTAL(9,AA12:AA552) -> 0 | AB553: =SUBTOTAL(9,AB12:AB552) -> 0 | AD553: =SUBTOTAL(9,AD12:AD552) -> 0 | AE553: =SUBTOTAL(9,AE12:AE552) -> 0 | AF553: =SUBTOTAL(9,AF12:AF552) -> 0 | AH553: =SUBTOTAL(9,AH12:AH552) -> 0 | AI553: =SUBTOTAL(9,AI12:AI552) -> 0 | AJ553: =SUBTOTAL(9,AJ12:AJ552) -> 0 | AK553: =SUBTOTAL(9,AK12:AK552) -> 0 | AL553: =SUBTOTAL(9,AL12:AL552) -> 0 | AM553: =SUBTOTAL(9,AM12:AM552) -> 0 | AN553: =SUBTOTAL(9,AN12:AN552) -> 0 | AO553: =SUBTOTAL(9,AO12:AO552) -> 0 | ... AT553: =SUBTOTAL(9,AT12:AT552) -> 69.3
