Workbook

Sheet KHOA KHCB
A1: UBND THÀNH PHỐ HỒ CHÍ MINH TRƯỜNG CAO ĐẲNG LÝ TỰ TRỌNG THÀNH PHỐ HỒ CHÍ MINH | D1: CỘNG HÒA XÃ HỘI CHỦ NGHĨA VIỆT NAM Độc lập - Tự do - Hạnh phúc
D2: TP.Hồ Chí Minh, ngày tháng năm 2021
A4: BIÊN BẢN KIỂM PHIẾU TÍN NHIỆM NHÂN SỰ ĐƯA VÀO QUY HOẠCH CÁC CHỨC DANH QUẢN LÝ
A5: KHOA KHOA HỌC CƠ BẢN - NĂM 2021
A7: Hôm nay, vào lúc giờ , ngày / /2021
A8: Tại: Phòng Họp - Trường Cao đẳng Lý Tự Trọng TP. Hồ Chí Minh
A9: Chúng tôi gồm có:
A10: 1. Ông Châu Văn Bảo, Phó Chủ tịch Công đoàn trường: | G10: Tổ trưởng;
A11: 2. Bà Lưu Hoàng Hải Yến, Phó Trưởng phòng TC-HC-TH: | G11: Thành viên;
A12: 3. Bà Nguyễn Thị Nhuận, Bí thư Chi bộ Sinh viên: | G12: Thành viên;
A13: 4. Ông Trịnh Hoàng Hiệp, Phó Trưởng ban Thanh tra nhân dân: | G13: Thành viên;
A14: 5. Ông Lương Xuân Thịnh, Bí thư Đoàn trường: | G14: Thành viên;
A15: Là các thành viên Tổ kiểm phiếu 1 theo Quyết định số /QĐ-LTT-TC ngày tháng năm 2020 của Trường Cao đẳng Lý Tự Trọng TP. Hồ Chí Minh.
A16: Tiến hành kiểm phiếu do CB-GV khoa Khoa học cơ bản bỏ phiếu trong cuộc họp lấy phiếu tham khảo tín nhiệm nhân sự đề cử đưa vào quy hoạch các chức danh quản lý tại phòng vào ngày 08/01/2021
B17: Tổng số CB-GV đơn vị: | C17: 27
B18: Tổng số phiếu: | C18: 27
A19: Kết quả kiểm phiếu cụ thể như sau:
A21: TT | B21: Họ và tên | C21: Chức vụ/Chức danh, Đơn vị công tác | E21: Số phiếu hợp lệ | F21: Số phiếu không hợp lệ | G21: Số phiếu tín nhiệm | H21: Tỷ lệ phiếu tín nhiệm
B22: Chức danh: Trưởng khoa
A23: 1 | B23: Phạm Thị Thu Nga | C23: Phó Trưởng khoa KHCB | E23: =$C$18-$F23 -> 27 | H23: =$G23/$C$17 -> 0
A24: 2 | B24: Giang Phi Hùng | C24: Giảng viên khoa KHCB | E24: =$C$18-$F24 -> 27 | H24: =$G24/$C$17 -> 0
A25: 3 | B25: Nguyễn Thị Thủy | C25: Giảng viên khoa KHCB | E25: =$C$18-$F25 -> 27 | H25: =$G25/$C$17 -> 0
B26: Chức danh: Phó Trưởng khoa
A27: 1 | B27: Giang Phi Hùng | C27: Giảng viên khoa KHCB | E27: =$C$18-$F27 -> 27 | H27: =$G27/$C$17 -> 0
A28: 2 | B28: Nguyễn Thị Thủy | C28: Giảng viên khoa KHCB | E28: =$C$18-$F28 -> 27 | H28: =$G28/$C$17 -> 0
B29: Chức danh: Trưởng bộ môn Toán
A30: 1 | B30: Dương Đức Kiên | C30: Giảng viên khoa KHCB | E30: =$C$18-$F30 -> 27 | H30: =$G30/$C$17 -> 0
A31: 2 | B31: Hà Như Mai | C31: Giảng viên khoa KHCB | E31: =$C$18-$F31 -> 27 | H31: =$G31/$C$17 -> 0
A32: 3 | B32: Nguyễn Thị Thủy | C32: Giảng viên khoa KHCB | E32: =$C$18-$F32 -> 27 | H32: =$G32/$C$17 -> 0
B33: Chức danh: Trưởng bộ môn Lý - Hóa
A34: 1 | B34: Nguyễn Thanh Tú | C34: Giảng viên khoa KHCB | E34: =$C$18-$F34 -> 27 | H34: =$G34/$C$17 -> 0
A35: 2 | B35: Trịnh Khắc Vũ | C35: Giảng viên khoa KHCB | E35: =$C$18-$F35 -> 27 | H35: =$G35/$C$17 -> 0
B36: Chức danh: Trưởng bộ môn Giáo dục thể chất
A37: 1 | B37: Giang Phi Hùng | C37: Giảng viên khoa KHCB | E37: =$C$18-$F37 -> 27 | H37: =$G37/$C$17 -> 0
A38: 2 | B38: Ngô Thanh Điền | C38: Giảng viên khoa KHCB | E38: =$C$18-$F38 -> 27 | H38: =$G38/$C$17 -> 0
B39: Chức danh: Trưởng bộ môn Văn
A40: 1 | B40: Trương Thị Hồng | C40: Giảng viên khoa KHCB | E40: =$C$18-$F40 -> 27 | H40: =$G40/$C$17 -> 0
B41: Chức danh: Trưởng bộ môn Ngoại ngữ
A42: 1 | B42: Phạm Thị Thu Hiền | C42: Giảng viên khoa KHCB | E42: =$C$18-$F42 -> 27 | H42: =$G42/$C$17 -> 0
A43: 2 | B43: Trần Thanh Trúc | C43: Giảng viên khoa KHCB | E43: =$C$18-$F43 -> 27 | H43: =$G43/$C$17 -> 0
A45: ……………………………………………………………………………………………… …………………………………………………………………………………………………… …………………………………………………………………………………………………… …………………………………………………………………………………………………….
A46: Chúng tôi đồng ký tên dưới đây, xác nhận việc kiểm phiếu được thực hiện chính xác, đúng quy định.
A47: Biên bản kết thúc lúc ……. ngày ……/….../2021.
B50: THÀNH VIÊN TỔ KIỂM PHIẾU | E50: TỔ TRƯỞNG TỔ KIỂM PHIẾU
A52: Lưu Hoàng Hải Yến: ………………………………
A53: Nguyễn Thị Nhuận: …………………………
A54: Trịnh Hoàng Hiệp: ………………………………. | E54: Châu Văn Bảo
A55: Lương Xuân Thịnh: ………………………………..

Sheet KHOA LLCT
A1: UBND THÀNH PHỐ HỒ CHÍ MINH TRƯỜNG CAO ĐẲNG LÝ TỰ TRỌNG THÀNH PHỐ HỒ CHÍ MINH | D1: CỘNG HÒA XÃ HỘI CHỦ NGHĨA VIỆT NAM Độc lập - Tự do - Hạnh phúc
D2: ='KHOA KHCB'!D2:H2 -> TP.Hồ Chí Minh, ngày tháng năm 2021
A4: BIÊN BẢN KIỂM PHIẾU TÍN NHIỆM NHÂN SỰ ĐƯA VÀO QUY HOẠCH CÁC CHỨC DANH QUẢN LÝ
A5: KHOA LÝ LUẬN CHÍNH TRỊ - NĂM 2021
A7: ='KHOA KHCB'!A7:H7 -> Hôm nay, vào lúc giờ , ngày / /2021
A8: ='KHOA KHCB'!$A$8:$H$8 -> Tại: Phòng Họp - Trường Cao đẳng Lý Tự Trọng TP. Hồ Chí Minh
A9: ='KHOA KHCB'!$A$9:$H$9 -> Chúng tôi gồm có:
A10: ='KHOA KHCB'!$A$10:$F$10 -> 1. Ông Châu Văn Bảo, Phó Chủ tịch Công đoàn trường: | G10: ='KHOA KHCB'!$G$10 -> Tổ trưởng;
A11: ='KHOA KHCB'!$A$11:$F$11 -> 2. Bà Lưu Hoàng Hải Yến, Phó Trưởng phòng TC-HC-TH: | G11: ='KHOA KHCB'!$G$11 -> Thành viên;
A12: ='KHOA KHCB'!$A$12:$F$12 -> 3. Bà Nguyễn Thị Nhuận, Bí thư Chi bộ Sinh viên: | G12: ='KHOA KHCB'!$G$12 -> Thành viên;
A13: ='KHOA KHCB'!$A$13:$F$13 -> 4. Ông Trịnh Hoàng Hiệp, Phó Trưởng ban Thanh tra nhân dân: | G13: ='KHOA KHCB'!$G$14 -> Thành viên;
A14: 5. Bà Nguyễn Yến Nhi, Phó Bí thư Đoàn trường: | G14: Thành viên;
A15: ='KHOA KHCB'!$A$15:$H$15 -> Là các thành viên Tổ kiểm phiếu 1 theo Quyết định số /QĐ-LTT-TC ngày tháng năm 2020 của Trường Cao đẳng Lý Tự Trọng TP. Hồ Chí Minh.
A16: Tiến hành kiểm phiếu do CB-NV khoa Lý luận Chính trị bỏ phiếu trong cuộc họp tham khảo tín nhiệm nhân sự đề cử đưa vào quy hoạch các chức danh quản lý tại phòng vào ngày 22/01/2021
B17: ='KHOA KHCB'!$B$17 -> Tổng số CB-GV đơn vị: | C17: 14
B18: ='KHOA KHCB'!B18 -> Tổng số phiếu: | C18: 14
A19: ='KHOA KHCB'!$A$19:$H$19 -> Kết quả kiểm phiếu cụ thể như sau:
A21: TT | B21: Họ và tên | C21: Chức vụ/Chức danh, Đơn vị công tác | E21: Số phiếu hợp lệ | F21: Số phiếu không hợp lệ | G21: Số phiếu tín nhiệm | H21: Tỷ lệ phiếu tín nhiệm
B22: Chức danh: Trưởng khoa
A23: 1 | B23: Lê Thị Hồng Vân | C23: Phó Trưởng khoa Lý luận Chính trị | E23: =$C$18-$F23 -> 14 | H23: =G$23/$C$17 -> 0
A24: 2 | B24: Nguyễn Ngọc Quỳnh | C24: Phó Trưởng khoa Lý luận Chính trị | E24: =$C$18-$F24 -> 14 | H24: =G$23/$C$17 -> 0
A25: 3 | B25: Phan Thị Thùy Trang | C25: Trưởng bộ môn thuộc khoa Lý luận Chính trị | E25: =$C$18-$F25 -> 14 | H25: =G$23/$C$17 -> 0
B26: Chức danh: Phó Trưởng khoa
A27: 1 | B27: Đinh Thị Huyên | C27: Giảng viên khoa Lý luận Chính trị | E27: =$C$18-$F27 -> 14 | H27: =G$23/$C$17 -> 0
A28: 2 | B28: Phan Thị Thùy Trang | C28: Giảng viên khoa Lý luận Chính trị | E28: =$C$18-$F28 -> 14 | H28: =G$23/$C$17 -> 0
A29: 3 | B29: Đỗ Thị Thơm | C29: Giảng viên khoa Lý luận Chính trị | E29: =$C$18-$F29 -> 14 | H29: =G$23/$C$17 -> 0
B30: Chức danh: Trưởng bộ môn Giáo dục Chính trị
A31: 1 | B31: Đỗ Thị Ngát | C31: Giảng viên khoa Lý luận Chính trị | E31: =$C$18-$F31 -> 14 | H31: =G$23/$C$17 -> 0
A32: 2 | B32: Phan Thị Thùy Trang | C32: Giảng viên khoa Lý luận Chính trị | E32: =$C$18-$F32 -> 14 | H32: =G$23/$C$17 -> 0
A33: 3 | B33: Phạm Thị Vinh | C33: Giảng viên khoa Lý luận Chính trị | E33: =$C$18-$F33 -> 14 | H33: =G$23/$C$17 -> 0
B34: Chức danh: Trưởng bộ môn Pháp luật
A35: 1 | B35: Bùi Thành Dũng | C35: Giảng viên khoa Lý luận Chính trị | E35: =$C$18-$F35 -> 14 | H35: =G$23/$C$17 -> 0
A36: 2 | B36: Trần Văn Lượng | C36: Giảng viên khoa Lý luận Chính trị | E36: =$C$18-$F36 -> 14 | H36: =G$23/$C$17 -> 0
A38: ……………………………………………………………………………………………… …………………………………………………………………………………………………… …………………………………………………………………………………………………… …………………………………………………………………………………………………….
A39: ='KHOA KHCB'!$A$46:$H$46 -> Chúng tôi đồng ký tên dưới đây, xác nhận việc kiểm phiếu được thực hiện chính xác, đúng quy định.
A40: ='KHOA KHCB'!A47:H47 -> Biên bản kết thúc lúc ……. ngày ……/….../2021.
B43: ='KHOA KHCB'!$B$50 -> THÀNH VIÊN TỔ KIỂM PHIẾU | E43: ='KHOA KHCB'!$E$50:$H$50 -> TỔ TRƯỞNG TỔ KIỂM PHIẾU
A45: ='KHOA KHCB'!$A$52:$D$52 -> Lưu Hoàng Hải Yến: ………………………………
A46: ='KHOA KHCB'!$A$53:$D$53 -> Nguyễn Thị Nhuận: …………………………
A47: ='KHOA KHCB'!$A$54:$D$54 -> Trịnh Hoàng Hiệp: ………………………………. | E47: ='KHOA KHCB'!$E$54:$H$54 -> Châu Văn Bảo
A48: ='KHOA KHCB'!$A$55:$D$55 -> Lương Xuân Thịnh: ………………………………..

Sheet KHOA CƠ KHÍ
A1: UBND THÀNH PHỐ HỒ CHÍ MINH TRƯỜNG CAO ĐẲNG LÝ TỰ TRỌNG THÀNH PHỐ HỒ CHÍ MINH | D1: CỘNG HÒA XÃ HỘI CHỦ NGHĨA VIỆT NAM Độc lập - Tự do - Hạnh phúc
D2: ='KHOA LLCT'!D2:H2 -> TP.Hồ Chí Minh, ngày tháng năm 2021
A4: BIÊN BẢN KIỂM PHIẾU TÍN NHIỆM NHÂN SỰ ĐƯA VÀO QUY HOẠCH CÁC CHỨC DANH QUẢN LÝ
A5: KHOA CƠ KHÍ - NĂM 2021
A7: ='KHOA LLCT'!A7:H7 -> Hôm nay, vào lúc giờ , ngày / /2021
A8: ='KHOA KHCB'!$A$8:$H$8 -> Tại: Phòng Họp - Trường Cao đẳng Lý Tự Trọng TP. Hồ Chí Minh
A9: ='KHOA KHCB'!$A$9:$H$9 -> Chúng tôi gồm có:
A10: ='KHOA KHCB'!$A$10:$F$10 -> 1. Ông Châu Văn Bảo, Phó Chủ tịch Công đoàn trường: | G10: ='KHOA KHCB'!$G$10 -> Tổ trưởng;
A11: ='KHOA KHCB'!$A$11:$F$11 -> 2. Bà Lưu Hoàng Hải Yến, Phó Trưởng phòng TC-HC-TH: | G11: ='KHOA KHCB'!$G$11 -> Thành viên;
A12: ='KHOA KHCB'!$A$12:$F$12 -> 3. Bà Nguyễn Thị Nhuận, Bí thư Chi bộ Sinh viên: | G12: ='KHOA KHCB'!$G$12 -> Thành viên;
A13: ='KHOA KHCB'!$A$13:$F$13 -> 4. Ông Trịnh Hoàng Hiệp, Phó Trưởng ban Thanh tra nhân dân: | G13: ='KHOA KHCB'!$G$14 -> Thành viên;
A14: 5. Bà Nguyễn Yến Nhi, Phó Bí thư Đoàn trường: | G14: Thành viên;
A15: ='KHOA KHCB'!$A$15:$H$15 -> Là các thành viên Tổ kiểm phiếu 1 theo Quyết định số /QĐ-LTT-TC ngày tháng năm 2020 của Trường Cao đẳng Lý Tự Trọng TP. Hồ Chí Minh.
A16: Tiến hành kiểm phiếu do CB-NV khoa Cơ khí bỏ phiếu trong cuộc họp tham khảo tín nhiệm nhân sự đề cử đưa vào quy hoạch các chức danh quản lý tại phòng vào ngày 08/01/2021
B17: ='KHOA KHCB'!$B$17 -> Tổng số CB-GV đơn vị: | C17: 25
B18: ='KHOA KHCB'!B18 -> Tổng số phiếu: | C18: 24
A19: ='KHOA KHCB'!$A$19:$H$19 -> Kết quả kiểm phiếu cụ thể như sau:
A21: TT | B21: Họ và tên | C21: Chức vụ/Chức danh, Đơn vị công tác | E21: Số phiếu hợp lệ | F21: Số phiếu không hợp lệ | G21: Số phiếu tín nhiệm | H21: Tỷ lệ phiếu tín nhiệm
B22: Chức danh: Trưởng khoa
A23: 1 | B23: Trần Đình Khải | C23: Phó Trưởng khoa Cơ khí | E23: =$C$18-$F23 -> 24 | H23: =$G23/$C$17 -> 0
A24: 2 | B24: Vũ Đức Pháp | C24: Trưởng bộ môn thuộc khoa Cơ khí | E24: =$C$18-$F24 -> 24 | H24: =$G24/$C$17 -> 0
A25: 2 | B25: Bùi Anh Tuấn | C25: Trưởng bộ môn thuộc khoa Cơ khí | E25: =$C$18-$F25 -> 24 | H25: =$G25/$C$17 -> 0
B26: Chức danh: Phó Trưởng khoa
A27: 1 | B27: Vũ Đức Pháp | C27: Trưởng bộ môn thuộc khoa Cơ khí | E27: =$C$18-$F27 -> 24 | H27: =$G27/$C$17 -> 0
A28: 2 | B28: Bùi Anh Tuấn | C28: Trưởng bộ môn thuộc khoa Cơ khí | E28: =$C$18-$F28 -> 24 | H28: =$G28/$C$17 -> 0
A29: 3 | B29: Đỗ Thị Phương Khanh | C29: Giảng viên khoa Cơ khí | E29: =$C$18-$F29 -> 24 | H29: =$G29/$C$17 -> 0
B30: Chức danh: Trưởng bộ môn Cơ sở cơ khí
A31: 1 | B31: Dương Thị Hồng | C31: Giảng viên khoa Cơ khí | E31: =$C$18-$F31 -> 24 | H31: =$G31/$C$17 -> 0
A32: 2 | B32: Trần Minh Thông | C32: Giảng viên khoa Cơ khí | E32: =$C$18-$F32 -> 24 | H32: =$G32/$C$17 -> 0
B33: Chức danh: Trưởng bộ môn Cad/Cam-CNC
A34: 1 | B34: Đỗ Thị Phương Khanh | C34: Giảng viên khoa Cơ khí | E34: =$C$18-$F34 -> 24 | H34: =$G34/$C$17 -> 0
A35: 2 | B35: Trần Minh Thông | C35: Giảng viên khoa Cơ khí | E35: =$C$18-$F35 -> 24 | H35: =$G35/$C$17 -> 0
A36: 3 | B36: Nguyễn Ngọc Quỳnh | C36: Giảng viên khoa Cơ khí | E36: =$C$18-$F36 -> 24 | H36: =$G36/$C$17 -> 0
B37: Chức danh: Trưởng bộ môn Công nghệ chế tạo
A38: 1 | B38: Nguyễn Thành Long | C38: Giảng viên khoa Cơ khí | E38: =$C$18-$F38 -> 24 | H38: =$G38/$C$17 -> 0
A39: 2 | B39: Nguyễn Tiến Dũng | C39: Giảng viên khoa Cơ khí | E39: =$C$18-$F39 -> 24 | H39: =$G39/$C$17 -> 0
A41: ……………………………………………………………………………………………… …………………………………………………………………………………………………… …………………………………………………………………………………………………… …………………………………………………………………………………………………….
A42: ='KHOA KHCB'!$A$46:$H$46 -> Chúng tôi đồng ký tên dưới đây, xác nhận việc kiểm phiếu được thực hiện chính xác, đúng quy định.
A43: ='KHOA LLCT'!A40:H40 -> Biên bản kết thúc lúc ……. ngày ……/….../2021.
B46: ='KHOA KHCB'!$B$50 -> THÀNH VIÊN TỔ KIỂM PHIẾU | E46: ='KHOA KHCB'!$E$50:$H$50 -> TỔ TRƯỞNG TỔ KIỂM PHIẾU
A48: ='KHOA KHCB'!$A$52:$D$52 -> Lưu Hoàng Hải Yến: ………………………………
A49: ='KHOA KHCB'!$A$53:$D$53 -> Nguyễn Thị Nhuận: …………………………
A50: ='KHOA KHCB'!$A$54:$D$54 -> Trịnh Hoàng Hiệp: ………………………………. | E50: ='KHOA KHCB'!$E$54:$H$54 -> Châu Văn Bảo
A51: ='KHOA KHCB'!$A$55:$D$55 -> Lương Xuân Thịnh: ………………………………..

Sheet KHOA CNTT
A1: UBND THÀNH PHỐ HỒ CHÍ MINH TRƯỜNG CAO ĐẲNG LÝ TỰ TRỌNG THÀNH PHỐ HỒ CHÍ MINH | D1: CỘNG HÒA XÃ HỘI CHỦ NGHĨA VIỆT NAM Độc lập - Tự do - Hạnh phúc
D2: ='KHOA CƠ KHÍ'!D2:H2 -> TP.Hồ Chí Minh, ngày tháng năm 2021
A4: BIÊN BẢN KIỂM PHIẾU TÍN NHIỆM NHÂN SỰ ĐƯA VÀO QUY HOẠCH CÁC CHỨC DANH QUẢN LÝ
A5: KHOA CÔNG NGHỆ THÔNG TIN - NĂM 2021
A7: ='KHOA CƠ KHÍ'!A7:H7 -> Hôm nay, vào lúc giờ , ngày / /2021
A8: ='KHOA KHCB'!$A$8:$H$8 -> Tại: Phòng Họp - Trường Cao đẳng Lý Tự Trọng TP. Hồ Chí Minh
A9: ='KHOA KHCB'!$A$9:$H$9 -> Chúng tôi gồm có:
A10: ='KHOA KHCB'!$A$10:$F$10 -> 1. Ông Châu Văn Bảo, Phó Chủ tịch Công đoàn trường: | G10: ='KHOA KHCB'!$G$10 -> Tổ trưởng;
A11: ='KHOA KHCB'!$A$11:$F$11 -> 2. Bà Lưu Hoàng Hải Yến, Phó Trưởng phòng TC-HC-TH: | G11: ='KHOA KHCB'!$G$11 -> Thành viên;
A12: ='KHOA KHCB'!$A$12:$F$12 -> 3. Bà Nguyễn Thị Nhuận, Bí thư Chi bộ Sinh viên: | G12: ='KHOA KHCB'!$G$12 -> Thành viên;
A13: ='KHOA KHCB'!$A$13:$F$13 -> 4. Ông Trịnh Hoàng Hiệp, Phó Trưởng ban Thanh tra nhân dân: | G13: ='KHOA KHCB'!$G$14 -> Thành viên;
A14: 5. Bà Nguyễn Yến Nhi, Phó Bí thư Đoàn trường: | G14: Thành viên;
A15: ='KHOA KHCB'!$A$15:$H$15 -> Là các thành viên Tổ kiểm phiếu 1 theo Quyết định số /QĐ-LTT-TC ngày tháng năm 2020 của Trường Cao đẳng Lý Tự Trọng TP. Hồ Chí Minh.
A16: Tiến hành kiểm phiếu do CB-NV khoa Công nghệ thông tin bỏ phiếu trong cuộc họp tham khảo tín nhiệm nhân sự đề cử đưa vào quy hoạch các chức danh quản lý tại phòng vào ngày ……………
B17: ='KHOA KHCB'!$B$17 -> Tổng số CB-GV đơn vị: | C17: 25
B18: ='KHOA KHCB'!B18 -> Tổng số phiếu: | C18: 25
A19: ='KHOA KHCB'!$A$19:$H$19 -> Kết quả kiểm phiếu cụ thể như sau:
A21: TT | B21: Họ và tên | C21: Chức vụ/Chức danh, Đơn vị công tác | E21: Số phiếu hợp lệ | F21: Số phiếu không hợp lệ | G21: Số phiếu tín nhiệm | H21: Tỷ lệ phiếu tín nhiệm
B22: Chức danh: Trưởng khoa
A23: 1 | E23: =$C$18-$F23 -> 25 | H23: =$G23/$C$17 -> 0
A24: 2 | E24: =$C$18-$F24 -> 25 | H24: =$G24/$C$17 -> 0
A25: 3 | E25: =$C$18-$F25 -> 25 | H25: =$G25/$C$17 -> 0
B26: Chức danh: Phó Trưởng khoa
A27: 1 | E27: =$C$18-$F27 -> 25 | H27: =$G27/$C$17 -> 0
A28: 2 | E28: =$C$18-$F28 -> 25 | H28: =$G28/$C$17 -> 0
A29: 3 | E29: =$C$18-$F29 -> 25 | H29: =$G29/$C$17 -> 0
A30: 4 | E30: =$C$18-$F30 -> 25 | H30: =$G30/$C$17 -> 0
A31: 5 | E31: =$C$18-$F31 -> 25 | H31: =$G31/$C$17 -> 0
A32: 6 | E32: =$C$18-$F32 -> 25 | H32: =$G32/$C$17 -> 0
B33: Chức danh: Trưởng bộ môn Công nghệ phần mềm
A34: 1 | E34: =$C$18-$F34 -> 25 | H34: =$G34/$C$17 -> 0
A35: 2 | E35: =$C$18-$F35 -> 25 | H35: =$G35/$C$17 -> 0
A36: 3 | E36: =$C$18-$F36 -> 25 | H36: =$G36/$C$17 -> 0
B37: Chức danh: Trưởng bộ môn Khoa học máy tính
A38: 1 | E38: =$C$18-$F38 -> 25 | H38: =$G38/$C$17 -> 0
A39: 2 | E39: =$C$18-$F39 -> 25 | H39: =$G39/$C$17 -> 0
A40: 3 | E40: =$C$18-$F40 -> 25 | H40: =$G40/$C$17 -> 0
B41: Chức danh: Trưởng bộ môn Mạng máy tính
A42: 1 | E42: =$C$18-$F42 -> 25 | H42: =$G42/$C$17 -> 0
A43: 2 | E43: =$C$18-$F43 -> 25 | H43: =$G43/$C$17 -> 0
A44: 3 | E44: =$C$18-$F44 -> 25 | H44: =$G44/$C$17 -> 0
A46: ……………………………………………………………………………………………… …………………………………………………………………………………………………… …………………………………………………………………………………………………… …………………………………………………………………………………………………….
A47: ='KHOA KHCB'!$A$46:$H$46 -> Chúng tôi đồng ký tên dưới đây, xác nhận việc kiểm phiếu được thực hiện chính xác, đúng quy định.
A48: ='KHOA CƠ KHÍ'!A43:H43 -> Biên bản kết thúc lúc ……. ngày ……/….../2021.
B51: ='KHOA KHCB'!$B$50 -> THÀNH VIÊN TỔ KIỂM PHIẾU | E51: ='KHOA KHCB'!$E$50:$H$50 -> TỔ TRƯỞNG TỔ KIỂM PHIẾU
A53: ='KHOA KHCB'!$A$52:$D$52 -> Lưu Hoàng Hải Yến: ………………………………
A54: ='KHOA KHCB'!$A$53:$D$53 -> Nguyễn Thị Nhuận: …………………………
A55: ='KHOA KHCB'!$A$54:$D$54 -> Trịnh Hoàng Hiệp: ………………………………. | E55: ='KHOA KHCB'!$E$54:$H$54 -> Châu Văn Bảo
A56: ='KHOA KHCB'!$A$55:$D$55 -> Lương Xuân Thịnh: ………………………………..

Sheet KHOA ĐIỆN-ĐIỆN TỬ
A1: UBND THÀNH PHỐ HỒ CHÍ MINH TRƯỜNG CAO ĐẲNG LÝ TỰ TRỌNG THÀNH PHỐ HỒ CHÍ MINH | D1: CỘNG HÒA XÃ HỘI CHỦ NGHĨA VIỆT NAM Độc lập - Tự do - Hạnh phúc
D2: ='KHOA CNTT'!D2:H2 -> TP.Hồ Chí Minh, ngày tháng năm 2021
A4: BIÊN BẢN KIỂM PHIẾU TÍN NHIỆM NHÂN SỰ ĐƯA VÀO QUY HOẠCH CÁC CHỨC DANH QUẢN LÝ
A5: KHOA ĐIỆN - ĐIỆN TỬ - NĂM 2021
A7: ='KHOA CNTT'!A7:H7 -> Hôm nay, vào lúc giờ , ngày / /2021
A8: ='KHOA KHCB'!$A$8:$H$8 -> Tại: Phòng Họp - Trường Cao đẳng Lý Tự Trọng TP. Hồ Chí Minh
A9: ='KHOA KHCB'!$A$9:$H$9 -> Chúng tôi gồm có:
A10: ='KHOA KHCB'!$A$10:$F$10 -> 1. Ông Châu Văn Bảo, Phó Chủ tịch Công đoàn trường: | G10: ='KHOA KHCB'!$G$10 -> Tổ trưởng;
A11: ='KHOA KHCB'!$A$11:$F$11 -> 2. Bà Lưu Hoàng Hải Yến, Phó Trưởng phòng TC-HC-TH: | G11: ='KHOA KHCB'!$G$11 -> Thành viên;
A12: ='KHOA KHCB'!$A$12:$F$12 -> 3. Bà Nguyễn Thị Nhuận, Bí thư Chi bộ Sinh viên: | G12: ='KHOA KHCB'!$G$12 -> Thành viên;
A13: ='KHOA KHCB'!$A$13:$F$13 -> 4. Ông Trịnh Hoàng Hiệp, Phó Trưởng ban Thanh tra nhân dân: | G13: ='KHOA KHCB'!$G$14 -> Thành viên;
A14: 5. Bà Nguyễn Yến Nhi, Phó Bí thư Đoàn trường: | G14: Thành viên;
A15: ='KHOA KHCB'!$A$15:$H$15 -> Là các thành viên Tổ kiểm phiếu 1 theo Quyết định số /QĐ-LTT-TC ngày tháng năm 2020 của Trường Cao đẳng Lý Tự Trọng TP. Hồ Chí Minh.
A16: Tiến hành kiểm phiếu do CB-NV khoa Điện - Điện tử bỏ phiếu trong cuộc họp tham khảo tín nhiệm nhân sự đề cử đưa vào quy hoạch các chức danh quản lý tại phòng vào ngày 20/01/2021
B17: ='KHOA KHCB'!$B$17 -> Tổng số CB-GV đơn vị: | C17: 30
B18: ='KHOA KHCB'!B18 -> Tổng số phiếu: | C18: 30
A19: ='KHOA KHCB'!$A$19:$H$19 -> Kết quả kiểm phiếu cụ thể như sau:
A21: TT | B21: Họ và tên | C21: Chức vụ/Chức danh, Đơn vị công tác | E21: Số phiếu hợp lệ | F21: Số phiếu không hợp lệ | G21: Số phiếu tín nhiệm | H21: Tỷ lệ phiếu tín nhiệm
B22: Chức danh: Trưởng khoa
A23: 1 | B23: Huỳnh Ngọc Mai | C23: Phó Trưởng khoa khoa Điện - Điện tử | E23: =$C$18-$F23 -> 30 | H23: =$G23/$C$17 -> 0
A24: 2 | B24: Quách Minh Thử | C24: Trưởng BM Điện công nghiệp thuộc khoa Đ-ĐT | E24: =$C$18-$F24 -> 30 | H24: =$G24/$C$17 -> 0
A25: 3 | B25: Trần Nguyên Bảo Trân | C25: Trưởng BM CCĐT&TĐH thuộc khoa Đ-ĐT | E25: =$C$18-$F25 -> 30 | H25: =$G25/$C$17 -> 0
B26: Chức danh: Phó Trưởng khoa
A27: 1 | B27: Võ Cường | C27: Trưởng BM Kỹ thuật Đ-ĐT thuộc khoa Đ-ĐT | E27: =$C$18-$F27 -> 30 | H27: =$G27/$C$17 -> 0
A28: 2 | B28: Quách Minh Thử | C28: TrưởngBM Điện công nghiệp thuộc khoa Đ-ĐT | E28: =$C$18-$F28 -> 30 | H28: =$G28/$C$17 -> 0
A29: 3 | B29: Trần Nguyên Bảo Trân | C29: Trưởng BM CCĐT&TĐH thuộc khoa Đ-ĐT | E29: =$C$18-$F29 -> 30 | H29: =$G29/$C$17 -> 0
B30: Chức danh: Trưởng bộ môn Điện công nghiệp
A31: 1 | B31: Nguyễn Minh Đức Cường | C31: Giảng viên khoa Điện - Điện tử | E31: =$C$18-$F31 -> 30 | H31: =$G31/$C$17 -> 0
A32: 2 | B32: Đỗ Huỳnh Thanh Phong | C32: Giảng viên khoa Điện - Điện tử | E32: =$C$18-$F32 -> 30 | H32: =$G32/$C$17 -> 0
A33: 3 | B33: Nguyễn Anh Tăng | C33: Giảng viên khoa Điện - Điện tử | E33: =$C$18-$F33 -> 30 | H33: =$G33/$C$17 -> 0
B34: Chức danh: Trưởng bộ môn Kỹ thuật Điện - Điện tử
A35: 1 | B35: Tăng Cẩm Huê | C35: Giảng viên khoa Điện - Điện tử | E35: =$C$18-$F35 -> 30 | H35: =$G35/$C$17 -> 0
A36: 2 | B36: Trần Công Tiến | C36: Giảng viên khoa Điện - Điện tử | E36: =$C$18-$F36 -> 30 | H36: =$G36/$C$17 -> 0
A37: 3 | B37: Cao Văn Tuấn | C37: Giảng viên khoa Điện - Điện tử | E37: =$C$18-$F37 -> 30 | H37: =$G37/$C$17 -> 0
B38: Chức danh: Trưởng bộ môn Cơ điện tử và Tự động hóa
A39: 1 | B39: Ngô Phong Cường | C39: Giảng viên khoa Điện - Điện tử | E39: =$C$18-$F39 -> 30 | H39: =$G39/$C$17 -> 0
A40: 1 | B40: Đặng Đức Minh | C40: Giảng viên khoa Điện - Điện tử | E40: =$C$18-$F40 -> 30 | H40: =$G40/$C$17 -> 0
A41: 2 | B41: Trần Giang Nam | C41: Giảng viên khoa Điện - Điện tử | E41: =$C$18-$F41 -> 30 | H41: =$G41/$C$17 -> 0
A43: ……………………………………………………………………………………………… …………………………………………………………………………………………………… …………………………………………………………………………………………………… …………………………………………………………………………………………………….
A44: ='KHOA KHCB'!$A$46:$H$46 -> Chúng tôi đồng ký tên dưới đây, xác nhận việc kiểm phiếu được thực hiện chính xác, đúng quy định.
A45: ='KHOA CNTT'!A48:H48 -> Biên bản kết thúc lúc ……. ngày ……/….../2021.
B48: ='KHOA KHCB'!$B$50 -> THÀNH VIÊN TỔ KIỂM PHIẾU | E48: ='KHOA KHCB'!$E$50:$H$50 -> TỔ TRƯỞNG TỔ KIỂM PHIẾU
A50: ='KHOA KHCB'!$A$52:$D$52 -> Lưu Hoàng Hải Yến: ………………………………
A51: ='KHOA KHCB'!$A$53:$D$53 -> Nguyễn Thị Nhuận: …………………………
A52: ='KHOA KHCB'!$A$54:$D$54 -> Trịnh Hoàng Hiệp: ………………………………. | E52: ='KHOA KHCB'!$E$54:$H$54 -> Châu Văn Bảo
A53: ='KHOA KHCB'!$A$55:$D$55 -> Lương Xuân Thịnh: ………………………………..

Sheet KHOA ĐỘNG LỰC
A1: UBND THÀNH PHỐ HỒ CHÍ MINH TRƯỜNG CAO ĐẲNG LÝ TỰ TRỌNG THÀNH PHỐ HỒ CHÍ MINH | D1: CỘNG HÒA XÃ HỘI CHỦ NGHĨA VIỆT NAM Độc lập - Tự do - Hạnh phúc
D2: ='KHOA ĐIỆN-ĐIỆN TỬ'!D2:H2 -> TP.Hồ Chí Minh, ngày tháng năm 2021
A4: BIÊN BẢN KIỂM PHIẾU TÍN NHIỆM NHÂN SỰ ĐƯA VÀO QUY HOẠCH CÁC CHỨC DANH QUẢN LÝ
A5: KHOA ĐỘNG LỰC - NĂM 2021
A7: ='KHOA ĐIỆN-ĐIỆN TỬ'!A7:H7 -> Hôm nay, vào lúc giờ , ngày / /2021
A8: ='KHOA KHCB'!$A$8:$H$8 -> Tại: Phòng Họp - Trường Cao đẳng Lý Tự Trọng TP. Hồ Chí Minh
A9: ='KHOA KHCB'!$A$9:$H$9 -> Chúng tôi gồm có:
A10: ='KHOA KHCB'!$A$10:$F$10 -> 1. Ông Châu Văn Bảo, Phó Chủ tịch Công đoàn trường: | G10: ='KHOA KHCB'!$G$10 -> Tổ trưởng;
A11: ='KHOA KHCB'!$A$11:$F$11 -> 2. Bà Lưu Hoàng Hải Yến, Phó Trưởng phòng TC-HC-TH: | G11: ='KHOA KHCB'!$G$11 -> Thành viên;
A12: ='KHOA KHCB'!$A$12:$F$12 -> 3. Bà Nguyễn Thị Nhuận, Bí thư Chi bộ Sinh viên: | G12: ='KHOA KHCB'!$G$12 -> Thành viên;
A13: ='KHOA KHCB'!$A$13:$F$13 -> 4. Ông Trịnh Hoàng Hiệp, Phó Trưởng ban Thanh tra nhân dân: | G13: ='KHOA KHCB'!$G$14 -> Thành viên;
A14: 5. Bà Nguyễn Yến Nhi, Phó Bí thư Đoàn trường: | G14: Thành viên;
A15: ='KHOA KHCB'!$A$15:$H$15 -> Là các thành viên Tổ kiểm phiếu 1 theo Quyết định số /QĐ-LTT-TC ngày tháng năm 2020 của Trường Cao đẳng Lý Tự Trọng TP. Hồ Chí Minh.
A16: Tiến hành kiểm phiếu do CB-NV khoa Động lực bỏ phiếu trong cuộc họp tham khảo tín nhiệm nhân sự đề cử đưa vào quy hoạch các chức danh quản lý tại phòng vào ngày ……………..
B17: ='KHOA KHCB'!$B$17 -> Tổng số CB-GV đơn vị:
B18: ='KHOA KHCB'!B18 -> Tổng số phiếu:
A19: ='KHOA KHCB'!$A$19:$H$19 -> Kết quả kiểm phiếu cụ thể như sau:
A21: TT | B21: Họ và tên | C21: Chức vụ/Chức danh, Đơn vị công tác | E21: Số phiếu hợp lệ | F21: Số phiếu không hợp lệ | G21: Số phiếu tín nhiệm | H21: Tỷ lệ phiếu tín nhiệm
B22: Chức danh: Trưởng khoa
A23: 1 | E23: =$C$18-$F23 -> 0 | H23: =$G23/$C$17 -> #DIV/0!
A24: 2 | E24: =$C$18-$F24 -> 0 | H24: =$G24/$C$17 -> #DIV/0!
B25: Chức danh: Phó Trưởng khoa
A26: 1 | E26: =$C$18-$F26 -> 0 | H26: =$G26/$C$17 -> #DIV/0!
A27: 2 | E27: =$C$18-$F27 -> 0 | H27: =$G27/$C$17 -> #DIV/0!
B28: Chức danh: Trưởng bộ môn Động cơ ô tô (Phụ trách tổ bộ môn)
A29: 1 | E29: =$C$18-$F29 -> 0 | H29: =$G29/$C$17 -> #DIV/0!
A30: 2 | E30: =$C$18-$F30 -> 0 | H30: =$G30/$C$17 -> #DIV/0!
B31: Chức danh: Trưởng bộ môn Điện ô tô
A32: 1 | E32: =$C$18-$F32 -> 0 | H32: =$G32/$C$17 -> #DIV/0!
A33: 2 | E33: =$C$18-$F33 -> 0 | H33: =$G33/$C$17 -> #DIV/0!
B34: Chức danh: Trưởng bộ môn Gầm ô tô
A35: 1 | E35: =$C$18-$F35 -> 0 | H35: =$G35/$C$17 -> #DIV/0!
A36: 2 | E36: =$C$18-$F36 -> 0 | H36: =$G36/$C$17 -> #DIV/0!
A38: ……………………………………………………………………………………………… …………………………………………………………………………………………………… …………………………………………………………………………………………………… …………………………………………………………………………………………………….
A39: ='KHOA KHCB'!$A$46:$H$46 -> Chúng tôi đồng ký tên dưới đây, xác nhận việc kiểm phiếu được thực hiện chính xác, đúng quy định.
A40: ='KHOA ĐIỆN-ĐIỆN TỬ'!A45:H45 -> Biên bản kết thúc lúc ……. ngày ……/….../2021.
B43: ='KHOA KHCB'!$B$50 -> THÀNH VIÊN TỔ KIỂM PHIẾU | E43: ='KHOA KHCB'!$E$50:$H$50 -> TỔ TRƯỞNG TỔ KIỂM PHIẾU
A45: ='KHOA KHCB'!$A$52:$D$52 -> Lưu Hoàng Hải Yến: ………………………………
A46: ='KHOA KHCB'!$A$53:$D$53 -> Nguyễn Thị Nhuận: …………………………
A47: ='KHOA KHCB'!$A$54:$D$54 -> Trịnh Hoàng Hiệp: ………………………………. | E47: ='KHOA KHCB'!$E$54:$H$54 -> Châu Văn Bảo
A48: ='KHOA KHCB'!$A$55:$D$55 -> Lương Xuân Thịnh: ………………………………..

Sheet KHOA NHIỆT - LẠNH
A1: UBND THÀNH PHỐ HỒ CHÍ MINH TRƯỜNG CAO ĐẲNG LÝ TỰ TRỌNG THÀNH PHỐ HỒ CHÍ MINH | D1: CỘNG HÒA XÃ HỘI CHỦ NGHĨA VIỆT NAM Độc lập - Tự do - Hạnh phúc
D2: ='KHOA ĐỘNG LỰC'!D2:H2 -> TP.Hồ Chí Minh, ngày tháng năm 2021
A4: BIÊN BẢN KIỂM PHIẾU TÍN NHIỆM NHÂN SỰ ĐƯA VÀO QUY HOẠCH CÁC CHỨC DANH QUẢN LÝ
A5: KHOA NHIỆT - LẠNH - NĂM 2021
A7: ='KHOA ĐỘNG LỰC'!A7:H7 -> Hôm nay, vào lúc giờ , ngày / /2021
A8: ='KHOA KHCB'!$A$8:$H$8 -> Tại: Phòng Họp - Trường Cao đẳng Lý Tự Trọng TP. Hồ Chí Minh
A9: ='KHOA KHCB'!$A$9:$H$9 -> Chúng tôi gồm có:
A10: ='KHOA KHCB'!$A$10:$F$10 -> 1. Ông Châu Văn Bảo, Phó Chủ tịch Công đoàn trường: | G10: ='KHOA KHCB'!$G$10 -> Tổ trưởng;
A11: ='KHOA KHCB'!$A$11:$F$11 -> 2. Bà Lưu Hoàng Hải Yến, Phó Trưởng phòng TC-HC-TH: | G11: ='KHOA KHCB'!$G$11 -> Thành viên;
A12: ='KHOA KHCB'!$A$12:$F$12 -> 3. Bà Nguyễn Thị Nhuận, Bí thư Chi bộ Sinh viên: | G12: ='KHOA KHCB'!$G$12 -> Thành viên;
A13: ='KHOA KHCB'!$A$13:$F$13 -> 4. Ông Trịnh Hoàng Hiệp, Phó Trưởng ban Thanh tra nhân dân: | G13: ='KHOA KHCB'!$G$14 -> Thành viên;
A14: 5. Bà Nguyễn Yến Nhi, Phó Bí thư Đoàn trường: | G14: Thành viên;
A15: ='KHOA KHCB'!$A$15:$H$15 -> Là các thành viên Tổ kiểm phiếu 1 theo Quyết định số /QĐ-LTT-TC ngày tháng năm 2020 của Trường Cao đẳng Lý Tự Trọng TP. Hồ Chí Minh.
A16: Tiến hành kiểm phiếu do CB-NV khoa Nhiệt - Lạnh bỏ phiếu trong cuộc họp tham khảo tín nhiệm nhân sự đề cử đưa vào quy hoạch các chức danh quản lý tại phòng vào ngày …………….
B17: ='KHOA KHCB'!$B$17 -> Tổng số CB-GV đơn vị: | C17: 8
B18: ='KHOA KHCB'!B18 -> Tổng số phiếu: | C18: 8
A19: ='KHOA KHCB'!$A$19:$H$19 -> Kết quả kiểm phiếu cụ thể như sau:
A21: TT | B21: Họ và tên | C21: Chức vụ/Chức danh, Đơn vị công tác | E21: Số phiếu hợp lệ | F21: Số phiếu không hợp lệ | G21: Số phiếu tín nhiệm | H21: Tỷ lệ phiếu tín nhiệm
B22: Chức danh: Trưởng khoa
A23: 1 | B23: Võ Anh Hào | C23: Phụ trách tổ Cơ sở ngành thuộc khoa Nhiệt - Lạnh | E23: =$C$18-$F23 -> 8 | H23: =$G23/$C$17 -> 0
A24: 2 | B24: Hoàng Văn Viết | C24: Phó Trưởng khoa Nhiệt - Lạnh | E24: =$C$18-$F24 -> 8 | H24: =$G24/$C$17 -> 0
B25: Chức danh: Phó Trưởng khoa
A26: 1 | B26: Võ Anh Hào | C26: Phụ trách tổ Cơ sở ngành thuộc khoa Nhiệt - Lạnh | E26: =$C$18-$F26 -> 8 | H26: =$G26/$C$17 -> 0
A27: 2 | B27: Đặng Thế Huân | C27: Phụ trách tổ Nhiệt - Lạnh chuyên ngành thuộc khoa Nhiệt - Lạnh | E27: =$C$18-$F27 -> 8 | H27: =$G27/$C$17 -> 0
A28: 3 | B28: Nguyễn Vũ Xuân Thì | C28: Giảng viên khoa Nhiệt - Lạnh | E28: =$C$18-$F28 -> 8 | H28: =$G28/$C$17 -> 0
B29: Chức danh: Trưởng bộ môn Nhiệt - Lạnh chuyên ngành
A30: 1 | B30: Nguyễn Hữu Xuân Thì | C30: Giảng viên khoa Nhiệt - Lạnh | E30: =$C$18-$F30 -> 8 | H30: =$G30/$C$17 -> 0
B31: Chức danh: Trưởng bộ môn Cơ sở ngành
A32: 1 | B32: Trần Đình Khoa | C32: Giảng viên khoa Nhiệt - Lạnh | E32: =$C$18-$F32 -> 8 | H32: =$G32/$C$17 -> 0
A34: ……………………………………………………………………………………………… …………………………………………………………………………………………………… …………………………………………………………………………………………………… …………………………………………………………………………………………………….
A35: ='KHOA KHCB'!$A$46:$H$46 -> Chúng tôi đồng ký tên dưới đây, xác nhận việc kiểm phiếu được thực hiện chính xác, đúng quy định.
A36: ='KHOA ĐỘNG LỰC'!A40:H40 -> Biên bản kết thúc lúc ……. ngày ……/….../2021.
B39: ='KHOA KHCB'!$B$50 -> THÀNH VIÊN TỔ KIỂM PHIẾU | E39: ='KHOA KHCB'!$E$50:$H$50 -> TỔ TRƯỞNG TỔ KIỂM PHIẾU
A41: ='KHOA KHCB'!$A$52:$D$52 -> Lưu Hoàng Hải Yến: ………………………………
A42: ='KHOA KHCB'!$A$53:$D$53 -> Nguyễn Thị Nhuận: …………………………
A43: ='KHOA KHCB'!$A$54:$D$54 -> Trịnh Hoàng Hiệp: ………………………………. | E43: ='KHOA KHCB'!$E$54:$H$54 -> Châu Văn Bảo
A44: ='KHOA KHCB'!$A$55:$D$55 -> Lương Xuân Thịnh: ………………………………..

Sheet KHOA MAY - TT
A1: UBND THÀNH PHỐ HỒ CHÍ MINH TRƯỜNG CAO ĐẲNG LÝ TỰ TRỌNG THÀNH PHỐ HỒ CHÍ MINH | D1: CỘNG HÒA XÃ HỘI CHỦ NGHĨA VIỆT NAM Độc lập - Tự do - Hạnh phúc
D2: ='KHOA NHIỆT - LẠNH'!D2:H2 -> TP.Hồ Chí Minh, ngày tháng năm 2021
A4: BIÊN BẢN KIỂM PHIẾU TÍN NHIỆM NHÂN SỰ ĐƯA VÀO QUY HOẠCH CÁC CHỨC DANH QUẢN LÝ
A5: KHOA MAY - THỜI TRANG - NĂM 2021
A7: ='KHOA NHIỆT - LẠNH'!A7:H7 -> Hôm nay, vào lúc giờ , ngày / /2021
A8: ='KHOA KHCB'!$A$8:$H$8 -> Tại: Phòng Họp - Trường Cao đẳng Lý Tự Trọng TP. Hồ Chí Minh
A9: ='KHOA KHCB'!$A$9:$H$9 -> Chúng tôi gồm có:
A10: ='KHOA KHCB'!$A$10:$F$10 -> 1. Ông Châu Văn Bảo, Phó Chủ tịch Công đoàn trường: | G10: ='KHOA KHCB'!$G$10 -> Tổ trưởng;
A11: ='KHOA KHCB'!$A$11:$F$11 -> 2. Bà Lưu Hoàng Hải Yến, Phó Trưởng phòng TC-HC-TH: | G11: ='KHOA KHCB'!$G$11 -> Thành viên;
A12: ='KHOA KHCB'!$A$12:$F$12 -> 3. Bà Nguyễn Thị Nhuận, Bí thư Chi bộ Sinh viên: | G12: ='KHOA KHCB'!$G$12 -> Thành viên;
A13: ='KHOA KHCB'!$A$13:$F$13 -> 4. Ông Trịnh Hoàng Hiệp, Phó Trưởng ban Thanh tra nhân dân: | G13: ='KHOA KHCB'!$G$14 -> Thành viên;
A14: 5. Bà Nguyễn Yến Nhi, Phó Bí thư Đoàn trường: | G14: Thành viên;
A15: ='KHOA KHCB'!$A$15:$H$15 -> Là các thành viên Tổ kiểm phiếu 1 theo Quyết định số /QĐ-LTT-TC ngày tháng năm 2020 của Trường Cao đẳng Lý Tự Trọng TP. Hồ Chí Minh.
A16: Tiến hành kiểm phiếu do CB-NV khoa May - Thời trang bỏ phiếu trong cuộc họp tham khảo tín nhiệm nhân sự đề cử đưa vào quy hoạch các chức danh quản lý tại phòng vào ngày 29/01/2021
B17: ='KHOA KHCB'!$B$17 -> Tổng số CB-GV đơn vị: | C17: 10
B18: ='KHOA KHCB'!B18 -> Tổng số phiếu: | C18: 9
A19: ='KHOA KHCB'!$A$19:$H$19 -> Kết quả kiểm phiếu cụ thể như sau:
A21: TT | B21: Họ và tên | C21: Chức vụ/Chức danh, Đơn vị công tác | E21: Số phiếu hợp lệ | F21: Số phiếu không hợp lệ | G21: Số phiếu tín nhiệm | H21: Tỷ lệ phiếu tín nhiệm
B22: Chức danh: Trưởng khoa
A23: 1 | B23: Nguyễn Bạch Cẩm Dung | C23: Giảng viên khoa May - Thời trang | E23: =$C$18-$F23 -> 9 | H23: =$G23/$C$17 -> 0
A24: 2 | B24: Trần Hồng Thảo | C24: Giảng viên khoa May - Thời trang | E24: =$C$18-$F24 -> 9 | H24: =$G24/$C$17 -> 0
A25: 3 | B25: Lâm Thị Phương Thùy | C25: Giảng viên khoa May - Thời trang | E25: =$C$18-$F25 -> 9 | H25: =$G25/$C$17 -> 0
B26: Chức danh: Phó Trưởng khoa
A27: 1 | B27: Nguyễn Bạch Cẩm Dung | C27: Giảng viên khoa May - Thời trang | E27: =$C$18-$F27 -> 9 | H27: =$G27/$C$17 -> 0
A28: 2 | B28: Trần Hồng Thảo | C28: Giảng viên khoa May - Thời trang | E28: =$C$18-$F28 -> 9 | H28: =$G28/$C$17 -> 0
A29: 3 | B29: Lâm Thị Phương Thùy | C29: Giảng viên khoa May - Thời trang | E29: =$C$18-$F29 -> 9 | H29: =$G29/$C$17 -> 0
B30: Chức danh: Trưởng bộ môn Thiết kế
A31: 1 | B31: Bùi Thị Ngọc Sương | C31: Giảng viên khoa May - Thời trang | E31: =$C$18-$F31 -> 9 | H31: =$G31/$C$17 -> 0
A32: 2 | B32: Trần Hồng Thảo | C32: Giảng viên khoa May - Thời trang | E32: =$C$18-$F32 -> 9 | H32: =$G32/$C$17 -> 0
B33: Chức danh: Trưởng bộ môn Công nghệ
A34: 1 | B34: Nguyễn Bạch Cẩm Dung | C34: Giảng viên khoa May - Thời trang | E34: =$C$18-$F34 -> 9 | H34: =$G34/$C$17 -> 0
A35: 2 | B35: Lâm Thị Phương Thùy | C35: Giảng viên khoa May - Thời trang | E35: =$C$18-$F35 -> 9 | H35: =$G35/$C$17 -> 0
A37: ……………………………………………………………………………………………… …………………………………………………………………………………………………… …………………………………………………………………………………………………… …………………………………………………………………………………………………….
A38: ='KHOA KHCB'!$A$46:$H$46 -> Chúng tôi đồng ký tên dưới đây, xác nhận việc kiểm phiếu được thực hiện chính xác, đúng quy định.
A39: ='KHOA NHIỆT - LẠNH'!A36:H36 -> Biên bản kết thúc lúc ……. ngày ……/….../2021.
B42: ='KHOA KHCB'!$B$50 -> THÀNH VIÊN TỔ KIỂM PHIẾU | E42: ='KHOA KHCB'!$E$50:$H$50 -> TỔ TRƯỞNG TỔ KIỂM PHIẾU
A44: ='KHOA KHCB'!$A$52:$D$52 -> Lưu Hoàng Hải Yến: ………………………………
A45: ='KHOA KHCB'!$A$53:$D$53 -> Nguyễn Thị Nhuận: …………………………
A46: ='KHOA KHCB'!$A$54:$D$54 -> Trịnh Hoàng Hiệp: ………………………………. | E46: ='KHOA KHCB'!$E$54:$H$54 -> Châu Văn Bảo
A47: ='KHOA KHCB'!$A$55:$D$55 -> Lương Xuân Thịnh: ………………………………..

Sheet KHOA KINH TẾ
A1: UBND THÀNH PHỐ HỒ CHÍ MINH TRƯỜNG CAO ĐẲNG LÝ TỰ TRỌNG THÀNH PHỐ HỒ CHÍ MINH | D1: CỘNG HÒA XÃ HỘI CHỦ NGHĨA VIỆT NAM Độc lập - Tự do - Hạnh phúc
D2: ='KHOA MAY - TT'!D2:H2 -> TP.Hồ Chí Minh, ngày tháng năm 2021
A4: BIÊN BẢN KIỂM PHIẾU TÍN NHIỆM NHÂN SỰ ĐƯA VÀO QUY HOẠCH CÁC CHỨC DANH QUẢN LÝ
A5: KHOA KINH TẾ - NĂM 2021
A7: ='KHOA MAY - TT'!A7:H7 -> Hôm nay, vào lúc giờ , ngày / /2021
A8: ='KHOA KHCB'!$A$8:$H$8 -> Tại: Phòng Họp - Trường Cao đẳng Lý Tự Trọng TP. Hồ Chí Minh
A9: ='KHOA KHCB'!$A$9:$H$9 -> Chúng tôi gồm có:
A10: ='KHOA KHCB'!$A$10:$F$10 -> 1. Ông Châu Văn Bảo, Phó Chủ tịch Công đoàn trường: | G10: ='KHOA KHCB'!$G$10 -> Tổ trưởng;
A11: ='KHOA KHCB'!$A$11:$F$11 -> 2. Bà Lưu Hoàng Hải Yến, Phó Trưởng phòng TC-HC-TH: | G11: ='KHOA KHCB'!$G$11 -> Thành viên;
A12: ='KHOA KHCB'!$A$12:$F$12 -> 3. Bà Nguyễn Thị Nhuận, Bí thư Chi bộ Sinh viên: | G12: ='KHOA KHCB'!$G$12 -> Thành viên;
A13: ='KHOA KHCB'!$A$13:$F$13 -> 4. Ông Trịnh Hoàng Hiệp, Phó Trưởng ban Thanh tra nhân dân: | G13: ='KHOA KHCB'!$G$14 -> Thành viên;
A14: 5. Bà Nguyễn Yến Nhi, Phó Bí thư Đoàn trường: | G14: Thành viên;
A15: ='KHOA KHCB'!$A$15:$H$15 -> Là các thành viên Tổ kiểm phiếu 1 theo Quyết định số /QĐ-LTT-TC ngày tháng năm 2020 của Trường Cao đẳng Lý Tự Trọng TP. Hồ Chí Minh.
A16: Tiến hành kiểm phiếu do CB-NV khoa Kinh tế bỏ phiếu trong cuộc họp tham khảo tín nhiệm nhân sự đề cử đưa vào quy hoạch các chức danh quản lý tại phòng vào ngày ……………..
B17: ='KHOA KHCB'!$B$17 -> Tổng số CB-GV đơn vị: | C17: 14
B18: ='KHOA KHCB'!B18 -> Tổng số phiếu: | C18: 13
A19: ='KHOA KHCB'!$A$19:$H$19 -> Kết quả kiểm phiếu cụ thể như sau:
A21: TT | B21: Họ và tên | C21: Chức vụ/Chức danh, Đơn vị công tác | E21: Số phiếu hợp lệ | F21: Số phiếu không hợp lệ | G21: Số phiếu tín nhiệm | H21: Tỷ lệ phiếu tín nhiệm
B22: Chức danh: Trưởng khoa
A23: 1 | B23: Phạm Quỳnh Như | C23: Trưởng BM Kế toán - Tài chính thuộc khoa Kinh tế | E23: =$C$18-$F23 -> 13 | H23: =$G23/$C$17 -> 0
A24: 2 | B24: Lữ Xuân Trang | C24: Trưởng BM Cơ sở ngành thuộc khoa Kinh tế | E24: =$C$18-$F24 -> 13 | H24: =$G24/$C$17 -> 0
A25: 3 | B25: Lưu Thị Thúy | C25: Giảng viên khoa Kinh tế | E25: =$C$18-$F25 -> 13 | H25: =$G25/$C$17 -> 0
B26: Chức danh: Trưởng bộ môn Quản trị kinh doanh
A27: 1 | B27: Cao Xuân Giang | C27: Giảng viên khoa Kinh tế | E27: =$C$18-$F27 -> 13 | H27: =$G27/$C$17 -> 0
A28: 2 | B28: Huỳnh Chí Giỏi | C28: Giảng viên khoa Kinh tế | E28: =$C$18-$F28 -> 13 | H28: =$G28/$C$17 -> 0
A29: 2 | B29: Lê Thị Thúy Oanh | C29: Giảng viên khoa Kinh tế | E29: =$C$18-$F29 -> 13 | H29: =$G29/$C$17 -> 0
B30: Chức danh: Trưởng bộ môn Kế toán tài chính
A31: 1 | B31: Lê Thị Phương Thảo | C31: Giảng viên khoa Kinh tế | E31: =$C$18-$F31 -> 13 | H31: =$G31/$C$17 -> 0
A32: 1 | B32: Lưu Thị Thúy | C32: Giảng viên khoa Kinh tế | E32: =$C$18-$F32 -> 13 | H32: =$G32/$C$17 -> 0
A33: 2 | B33: Nguyễn Thị Minh Thùy | C33: Giảng viên khoa Kinh tế | E33: =$C$18-$F33 -> 13 | H33: =$G33/$C$17 -> 0
B34: Chức danh: Trưởng bộ môn Cơ sở ngành
A35: 1 | B35: Trần Thị Ngọc Dung | C35: Giảng viên khoa Kinh tế | E35: =$C$18-$F35 -> 13 | H35: =$G35/$C$17 -> 0
A36: 1 | B36: Đào Anh Tuấn | C36: Giảng viên khoa Kinh tế | E36: =$C$18-$F36 -> 13 | H36: =$G36/$C$17 -> 0
A37: 2 | B37: Nguyễn Mỹ Tiên | C37: Giảng viên khoa Kinh tế | E37: =$C$18-$F37 -> 13 | H37: =$G37/$C$17 -> 0
A39: ……………………………………………………………………………………………… …………………………………………………………………………………………………… …………………………………………………………………………………………………… …………………………………………………………………………………………………….
A40: ='KHOA KHCB'!$A$46:$H$46 -> Chúng tôi đồng ký tên dưới đây, xác nhận việc kiểm phiếu được thực hiện chính xác, đúng quy định.
A41: ='KHOA MAY - TT'!A39:H39 -> Biên bản kết thúc lúc ……. ngày ……/….../2021.
B44: ='KHOA KHCB'!$B$50 -> THÀNH VIÊN TỔ KIỂM PHIẾU | E44: ='KHOA KHCB'!$E$50:$H$50 -> TỔ TRƯỞNG TỔ KIỂM PHIẾU
A46: ='KHOA KHCB'!$A$52:$D$52 -> Lưu Hoàng Hải Yến: ………………………………
A47: ='KHOA KHCB'!$A$53:$D$53 -> Nguyễn Thị Nhuận: …………………………
A48: ='KHOA KHCB'!$A$54:$D$54 -> Trịnh Hoàng Hiệp: ………………………………. | E48: ='KHOA KHCB'!$E$54:$H$54 -> Châu Văn Bảo
A49: ='KHOA KHCB'!$A$55:$D$55 -> Lương Xuân Thịnh: ………………………………..

Sheet KHOA XÂY DỰNG
A1: UBND THÀNH PHỐ HỒ CHÍ MINH TRƯỜNG CAO ĐẲNG LÝ TỰ TRỌNG THÀNH PHỐ HỒ CHÍ MINH | D1: CỘNG HÒA XÃ HỘI CHỦ NGHĨA VIỆT NAM Độc lập - Tự do - Hạnh phúc
D2: ='KHOA KINH TẾ'!D2:H2 -> TP.Hồ Chí Minh, ngày tháng năm 2021
A4: BIÊN BẢN KIỂM PHIẾU TÍN NHIỆM NHÂN SỰ ĐƯA VÀO QUY HOẠCH CÁC CHỨC DANH QUẢN LÝ
A5: KHOA XÂY DỰNG - NĂM 2021
A7: ='KHOA KINH TẾ'!A7:H7 -> Hôm nay, vào lúc giờ , ngày / /2021
A8: ='KHOA KHCB'!$A$8:$H$8 -> Tại: Phòng Họp - Trường Cao đẳng Lý Tự Trọng TP. Hồ Chí Minh
A9: ='KHOA KHCB'!$A$9:$H$9 -> Chúng tôi gồm có:
A10: ='KHOA KHCB'!$A$10:$F$10 -> 1. Ông Châu Văn Bảo, Phó Chủ tịch Công đoàn trường: | G10: ='KHOA KHCB'!$G$10 -> Tổ trưởng;
A11: ='KHOA KHCB'!$A$11:$F$11 -> 2. Bà Lưu Hoàng Hải Yến, Phó Trưởng phòng TC-HC-TH: | G11: ='KHOA KHCB'!$G$11 -> Thành viên;
A12: ='KHOA KHCB'!$A$12:$F$12 -> 3. Bà Nguyễn Thị Nhuận, Bí thư Chi bộ Sinh viên: | G12: ='KHOA KHCB'!$G$12 -> Thành viên;
A13: ='KHOA KHCB'!$A$13:$F$13 -> 4. Ông Trịnh Hoàng Hiệp, Phó Trưởng ban Thanh tra nhân dân: | G13: ='KHOA KHCB'!$G$14 -> Thành viên;
A14: 5. Bà Nguyễn Yến Nhi, Phó Bí thư Đoàn trường: | G14: Thành viên;
A15: ='KHOA KHCB'!$A$15:$H$15 -> Là các thành viên Tổ kiểm phiếu 1 theo Quyết định số /QĐ-LTT-TC ngày tháng năm 2020 của Trường Cao đẳng Lý Tự Trọng TP. Hồ Chí Minh.
A16: Tiến hành kiểm phiếu do CB-NV khoa Xây dựng bỏ phiếu trong cuộc họp tham khảo tín nhiệm nhân sự đề cử đưa vào quy hoạch các chức danh quản lý tại phòng vào ngày 20/03/2021
B17: ='KHOA KHCB'!$B$17 -> Tổng số CB-GV đơn vị: | C17: 4
B18: ='KHOA KHCB'!B18 -> Tổng số phiếu: | C18: 3
A19: ='KHOA KHCB'!$A$19:$H$19 -> Kết quả kiểm phiếu cụ thể như sau:
A21: TT | B21: Họ và tên | C21: Chức vụ/Chức danh, Đơn vị công tác | E21: Số phiếu hợp lệ | F21: Số phiếu không hợp lệ | G21: Số phiếu tín nhiệm | H21: Tỷ lệ phiếu tín nhiệm
B22: Chức danh: Trưởng khoa
A23: 1 | B23: Phạm Quang Vũ | C23: Phó Trưởng khoa, Phụ trách khoa Xây dựng | E23: =$C$18-$F23 -> 3 | H23: =$G23/$C$17 -> 0
B24: Chức danh: Trưởng bộ môn Kỹ thuật xây dựng
A25: 1 | B25: Trình Minh Phong | C25: Giảng viên khoa Xây dựng | E25: =$C$18-$F25 -> 3 | H25: =G$23/$C$17 -> 0
A27: ……………………………………………………………………………………………… …………………………………………………………………………………………………… …………………………………………………………………………………………………… …………………………………………………………………………………………………….
A28: ='KHOA KHCB'!$A$46:$H$46 -> Chúng tôi đồng ký tên dưới đây, xác nhận việc kiểm phiếu được thực hiện chính xác, đúng quy định.
A29: ='KHOA KINH TẾ'!A41:H41 -> Biên bản kết thúc lúc ……. ngày ……/….../2021.
B32: ='KHOA KHCB'!$B$50 -> THÀNH VIÊN TỔ KIỂM PHIẾU | E32: ='KHOA KHCB'!$E$50:$H$50 -> TỔ TRƯỞNG TỔ KIỂM PHIẾU
A34: ='KHOA KHCB'!$A$52:$D$52 -> Lưu Hoàng Hải Yến: ………………………………
A35: ='KHOA KHCB'!$A$53:$D$53 -> Nguyễn Thị Nhuận: …………………………
A36: ='KHOA KHCB'!$A$54:$D$54 -> Trịnh Hoàng Hiệp: ………………………………. | E36: ='KHOA KHCB'!$E$54:$H$54 -> Châu Văn Bảo
A37: ='KHOA KHCB'!$A$55:$D$55 -> Lương Xuân Thịnh: ………………………………..

Sheet TB-VT
C2: Thành phố Hồ Chí Minh, ngày tháng 01 năm 2018
A4: BIÊN BẢN KIỂM PHIẾU TÍN NHIỆM CÁN BỘ ĐƯA VÀO QUY HOẠCH CÁC CHỨC DANH QUẢN LÝ CỦA PHÒNG QUẢN TRỊ - DỊCH VỤ ĐẾN NĂM 2020 VÀ NHỮNG NĂM TIẾP THEO
A6: Hôm nay, vào lúc giờ , ngày /01/2018
A7: Tại: Hội trường B - Trường Cao đẳng Lý Tự Trọng Tp. Hồ Chí Minh
A8: Chúng tôi gồm có:
A9: 1. Ông Lê Xuân Thiện, Phó Trưởng phòng TC-HC-TH: | E9: Tổ trưởng;
A10: 2. Ông Châu Văn Bảo, Phó Chủ tịch Công đoàn trường: | E10: Thành viên;
A11: 3. Ông Nguyễn Văn Chì, Chi ủy viên Chi bộ 2: | E11: Thành viên;
A12: 4. Ông Huỳnh Ngọc Mai, Trưởng Ban Thanh tra nhân dân: | E12: Thành viên;
A13: 5. Ông Nguyễn Hữu Thiện, Bí thư Đoàn trường: | E13: Thành viên;
A14: Là các thành viên Tổ kiểm phiếu 1 theo Quyết định số 1364/QĐ-LTT-TC ngày 29 tháng 12 năm 2017 của Trường Cao đẳng Lý Tự Trọng Tp. Hồ Chí Minh.
A15: Tiến hành kiểm phiếu do CB-NV phòng Thiết bị - Vật tư bỏ phiếu trong cuộc họp tham khảo tín nhiệm nhân sự đề cử đưa vào quy hoạch các chức danh quản lý tại phòng vào ngày 28/12/2017
A16: Tổng số phiếu: | C16: 5
A17: Kết quả kiểm phiếu theo tỷ lệ từ cao xuống thấp, cụ thể như sau:
A19: TT | B19: Họ và tên | C19: Chức vụ/Chức danh, Đơn vị công tác | D19: Số phiếu hợp lệ | E19: Số phiếu không hợp lệ | F19: Số phiếu tín nhiệm | G19: Tỷ lệ phiếu tín nhiệm
B20: Chức danh: TRƯỞNG PHÒNG
A21: 1 | B21: NGUYỄN VĂN CHIẾN | C21: Phó Trưởng phòng Thiết bị - Vật tư | E21: =$C$16-D21 -> 5 | G21: =F21/$C$16 -> 0
A22: 2 | B22: NGUYỄN CHÍ NHÂN | C22: Phó Trưởng phòng Khảo thí - Đảm bảo chất lượng | E22: =$C$16-D22 -> 5 | G22: =F22/$C$16 -> 0
B23: Chức danh: PHÓ TRƯỞNG PHÒNG
A24: 1 | B24: THÂN THỊ NHUNG | C24: Nhân viên Phòng Thiết bị - Vật tư | E24: =$C$16-D24 -> 5 | G24: =F24/$C$16 -> 0
A26: ……………………………………………………………………………………………… …………………………………………………………………………………………………… ……………………………………………………………………………………………
A27: Chúng tôi đồng ký tên dưới đây, xác nhận việc kiểm phiếu được thực hiện chính xác, đúng quy định.
A28: Biên bản kết thúc lúc ……. ngày ……/01/2018.
B30: THÀNH VIÊN TỔ KIỂM PHIẾU | D30: TỔ TRƯỞNG TỔ KIỂM PHIẾU
A32: Châu Văn Bảo: …………………………………
A33: Nguyễn Văn Chì: ……………………………
A34: Huỳnh Ngọc Mai: ………………………………. | D34: Lê Xuân Thiện
A35: Nguyễn Hữu Thiện: ……………………………..
