Workbook

Sheet Sheet1
B2: A1 | C2: 10
B3: A2 | C3: 9
B4: A3 | C4: 8
B5: A4 | C5: 7
B6: A DN | C6: 7
B7: B1 | C7: 6
B8: B2 | C8: 5
B9: C1 | C9: 4
B10: C2 | C10: 3
B11: D | C11: 1
B12: E | C12: 0

Sheet HK
A1: TRƯỜNG CAO ĐẲNG LÝ TỰ TRỌNG | I1: CỘNG HÒA XÃ HỘI CHỦ NGHĨA VIỆT NAM
A2: THÀNH PHỐ HỒ CHÍ MINH | I2: Độc lập - Tự do - Hạnh phúc
A3: PHÒNG QUẢN LÝ KHOA HỌC - HTQT
A5: DANH SÁCH TẠM XÉT THI ĐUA HỌC KÌ II NĂM HỌC 2020 - 2021
A7: TT | B7: Họ và tên | C7: Mã số E-office | D7: Tháng 02/2021 | F7: Tháng 03/2021 | H7: Tháng 04/2021 | J7: Tháng 05/2021 | L7: Điểm K | M7: Hệ số trừ bậc (C, D, E) | N7: Xếp loại HK2 | O7: Ghi chú
D8: Xếp loại | E8: Điểm | F8: Xếp loại | G8: Điểm | H8: Xếp loại | I8: Điểm | J8: Xếp loại | K8: Điểm
A9: I. Viên chức
A10: 1 | B10: Nguyễn Ngọc Trang | C10: 01005001 | D10: A2 | E10: =VLOOKUP(D10,Sheet1!$B$2:$C$12,2,TRUE) -> 9 | F10: A1 | G10: =VLOOKUP(F10,Sheet1!$B$2:$C$12,2,TRUE) -> 10 | H10: A1 | I10: =VLOOKUP(H10,Sheet1!$B$2:$C$12,2,TRUE) -> 10 | K10: =VLOOKUP(J10,Sheet1!$B$2:$C$12,2,TRUE) -> #N/A | L10: =ROUND(AVERAGE(E10,G10,I10,K10),2) -> #N/A | M10: =COUNTIF(D10:K10,"C*")*1+COUNTIF(D10:K10,"D")*2+COUNTIF(D10:K10,"E")*3 -> 0 | N10: =IF(M10>=3,"Không hoàn thành",IF(AND($L10>=8,$L10<=10,M10=0),"Hoàn thành xuất sắc",IF(AND($L10>=8,$L10<=10,M10=1),"Tốt",IF(AND($L10>=8,$L10<=10,M10=2),"Hoàn thành NV",IF(AND($L10>6,$L10<8,M10<=1),"Hoàn thành tốt",IF(AND($L10>6,$L10<8,M10=2),"Hoàn thành NV",IF(AND($L10>=5,$L10<=6,M10<=2),"Hoàn thành NV",IF(AND($L10<5,M10>3),"Không hoàn thành NV","")))))))) -> #N/A
A11: II. Hợp đồng trường
A12: =A10+1 -> 2 | B12: Lê Tiến Dũng | C12: 01005003 | D12: A4 | E12: =VLOOKUP(D12,Sheet1!$B$2:$C$12,2,TRUE) -> 7 | F12: A3 | G12: =VLOOKUP(F12,Sheet1!$B$2:$C$12,2,TRUE) -> 8 | H12: A3 | I12: =VLOOKUP(H12,Sheet1!$B$2:$C$12,2,TRUE) -> 8 | K12: =VLOOKUP(J12,Sheet1!$B$2:$C$12,2,TRUE) -> #N/A | L12: =ROUND(AVERAGE(E12,G12,I12,K12),2) -> #N/A | M12: =COUNTIF(D12:K12,"C*")*1+COUNTIF(D12:K12,"D")*2+COUNTIF(D12:K12,"E")*3 -> 0 | N12: =IF(M12>=3,"Không hoàn thành",IF(AND($L12>=8,$L12<=10,M12=0),"Hoàn thành xuất sắc",IF(AND($L12>=8,$L12<=10,M12=1),"Tốt",IF(AND($L12>=8,$L12<=10,M12=2),"Hoàn thành NV",IF(AND($L12>6,$L12<8,M12<=1),"Hoàn thành tốt",IF(AND($L12>6,$L12<8,M12=2),"Hoàn thành NV",IF(AND($L12>=5,$L12<=6,M12<=2),"Hoàn thành NV",IF(AND($L12<5,M12>3),"Không hoàn thành NV","")))))))) -> #N/A
J14: Thành phố Hồ Chí Minh, ngày tháng năm 2021
J15: TRƯỞNG ĐƠN VỊ

Sheet NAM HOC
A1: TRƯỜNG CAO ĐẲNG LÝ TỰ TRỌNG | G1: CỘNG HÒA XÃ HỘI CHỦ NGHĨA VIỆT NAM
A2: THÀNH PHỐ HỒ CHÍ MINH | G2: Độc lập - Tự do - Hạnh phúc
A3: PHÒNG QUẢN LÝ KHOA HỌC - HTQT
A5: DANH SÁCH XÉT THI ĐUA NĂM HỌC 2020 - 2021
A7: TT | B7: Họ tên | C7: Mã số E-office | D7: Điểm K HKI | E7: Điểm K HKII | F7: Điểm X cả năm | G7: Xếp loại cả năm | H7: Danh hiệu | I7: GHI CHÚ
A8: I Viên chức
A9: 1 | B9: Nguyễn Ngọc Trang | C9: 01005001 | D9: 9.8 | E9: =IFERROR(VLOOKUP($C9,HK!$C$10:$L$12,10,0),0) -> 0 | F9: =ROUND(AVERAGE(D9,E9),2) -> 4.9 | G9: =IF(AND(8<=$F9,$F9<=10),"Hoàn thành xuất sắc",IF(AND(6<$F9,$F9<8),"Hoàn thành tốt",IF(AND(5<$F9,$F9<6),"Hoàn thành NV","Không hoàn thành NV"))) -> Không hoàn thành NV | H9: =IF(OR($G9= "Hoàn thành xuất sắc", $G9="Hoàn thành tốt"),"Đạt LĐTT","Không đạt LĐTT") -> Không đạt LĐTT
A10: II. Hợp đồng trường
A11: =A9+1 -> 2 | B11: Lê Tiến Dũng | C11: 01005003 | D11: 9.6 | E11: =IFERROR(VLOOKUP($C11,HK!$C$10:$L$12,10,0),0) -> 0 | F11: =ROUND(AVERAGE(D11,E11),2) -> 4.8 | G11: =IF(AND(8<=$F11,$F11<=10),"Hoàn thành xuất sắc",IF(AND(6<$F11,$F11<8),"Hoàn thành tốt",IF(AND(5<$F11,$F11<6),"Hoàn thành NV","Không hoàn thành NV"))) -> Không hoàn thành NV | H11: =IF(OR($G11= "Hoàn thành xuất sắc", $G11="Hoàn thành tốt"),"Đạt LĐTT","Không đạt LĐTT") -> Không đạt LĐTT
B13: Đạt LĐTT: | C13: =COUNTIF($H$9:$H$11,"Đạt LĐTT") -> 0
B14: Không đạt LĐTT: | C14: =COUNTIF($H$9:$H$11,"Không đạt LĐTT") -> 2
B15: Không xét LĐTT (Tuyển dụng dưới 10 tháng) | C15: =COUNTIF($H$9:$H$11,"Không xét LĐTT") -> 0
F17: Thành phố Hồ Chí Minh, ngày tháng năm 2021
F18: TRƯỞNG ĐƠN VỊ
