Workbook

Sheet TH HK1
A1: TRƯỜNG CĐ LÝ TỰ TRỌNG TP.HCM
A2: PHÒNG TỔ CHỨC-HÀNH CHÍNH-TH
A4: TỔNG HỢP THI ĐUA HKI NĂM HỌC 2018 - 2019
A6: TT | B6: Đơn vị | C6: Tập thể đơn vị đề nghị | G6: Ghi nhận từ Tổ Thanh tra - Pháp chế và phòng TC-HC-TH | H6: Đề xuất của đơn vị | I6: Ý kiến của nhóm thường trực
C7: Tổng số nhân sự | D7: VC | E7: Hợp đồng | F7: Lý do
A8: 1 | B8: Ban Giám hiệu | C8: 4 | D8: 4
C9: 4A | D9: 4A
A10: 2 | B10: Phòng Tổ chức -HC-TH | C10: 27 | D10: 16 | E10: 11
C11: 22A | D11: 9A | E11: 13A
C12: 1 A DN | D12: 1A DN | F12: Bà Trần Thị Ánh Phượng nghỉ hộ sản từ 08/6/2018 đến 07/12/2018: Thưởng thi đua 2 tháng
C13: 2 KXL | E13: 2 KXL | F13: - Ô Huỳnh Bá Thành - B Nguyễn Thị Vân: Hđồng thử việc từ 10/11/2017 2 cá nhân công tác chưa đủ 4 tháng trong HK1
A14: 3 | B14: Phòng Kế hoạch - TC | C14: 10 | D14: 7 | E14: 3 | J14: Chưa thấy bảng xét thi đua học kỳ
C15: 10A | D15: 7A | E15: 3A | F15: B Nguyễn Thị Minh Thùy: Thưởng thi đua 4 tháng (HĐồng thử việc từ 02/10/2017)
A16: 4 | B16: Phòng Tuyển sinh - ĐT | C16: 18 | D16: 12 | E16: 6
C17: 17A | D17: 12A | E17: 5A
C18: 1 AD N | E18: 1AD N | F18: B Phạm Huỳnh Kim Ngân, nghỉ HS từ ngày 25/9/2017-25/3/2018. Thưởng thi đua 1 tháng
A19: 5 | B19: Phòng Thiết bị - VT | C19: 5 | D19: 5 | J19: Chưa thấy bảng xét thi đua học kỳ
C20: 5A | D20: 5A | F20: B Trần Thị Phương Oanh: Nghỉ ốm hưởng BHXH từ 8/11/2017 đến 8/12/2017. Thưởng thi đua 4 tháng
A21: 6 | B21: Phòng CTCT - HSSV | C21: 20 | D21: 13 | E21: 7
C22: 19A | D22: 13A | E22: 6A
C23: 1 AD N | E23: 1AD N | F23: Cô Lê T Hà Giang nghỉ HS từ 20/11/2017-20/5/2018. Thưởng thi đua 3 tháng
A24: 7 | B24: Phòng Khảo thí và ĐB CL | C24: 8 | D24: 7 | E24: 1
C25: 8A | D25: 7A | E25: 1A
A26: 8 | B26: Phòng QLKH và HTQT | C26: 4 | D26: 2 | E26: 2
C27: 4A | D27: 2A | E27: 2A
A28: 9 | B28: Phòng Quản trị - DV | C28: 32 | D28: 13 | E28: 19
C29: 31A | D29: 13A | E29: 18A
C30: 1KXL | E30: 1KXL | F30: Bà Nguyễn Thị Vãng Nghỉ ốm hưởng BHXH. Không xét thi đua học kỳ 1
A31: 10 | B31: Khoa KHCB | C31: 32 | D31: 32 | G31: Tổ TT-PC: Tiết 3-4 ngày 18/01, giờ dạy của GV Nguyễn Mạnh Phương, 8g40->9g05 có SV nhưng không có GV. P.KT&ĐBCL: Ngày 29/12/2017, GV Ng Thị Cẩm Thạch, vắng coi thi, báo ốm lúc 7g30. | I31: Nhất trí xếp loại B theo đề nghị của đơn vị đối với GV Nguyễn Mạnh Phương và GV Nguyễn Thị Cẩm Thạch, loại D đối với GV Nguyễn Thị Thu Hà. Riêng trường hợp Nguyễn Phú Tân đề nghị Thường trực HĐTĐ xem xét. | J31: Chưa thấy bảng xét thi đua học kỳ
C32: 30A | D32: 30A
C33: 2D | D33: 2D | F33: - GV Ng Thị Thu Hà, không thực hiện đúng cam kết với Nhà trường, thiếu CC ngoại ngữ. Học kỳ có 2A+1B+1C+1D - GV Nguyễn Phú Tân, chưa hoàn thành khóa học (2013-2015). Học kỳ có 2A+1B+1C+1D | H33: GV Phú Tân nộp giấy xác nhận (đã học 02 học phần, 03 học phần đang đăng ký học tiếp), đề nghị HĐ xem xét.
A34: 11 | B34: Khoa Lý luận Chính trị | C34: 16 | D34: 16 | H34: Có 07 ý kiến đề nghị trong Biên bản họp khoa. | I34: Khoa Lý luận chính trị xem lại cách truyền thông công việc của khoa giữa trưởng khoa - tổ trưởng - giảng viên, có qui trình làm việc cụ thể tránh việc nhầm lẫn về TKB.
C35: 16A | D35: 16A | F35: Cô Lê Thị Mai Hường nghỉ HS từ 30/12/2017-30/6/2018. Thưởng thi đua 4 tháng
A36: 12 | B36: Khoa CN Cơ khí | C36: 24 | D36: 24 | G36: ` | H36: Có 04 ý kiến đề nghị trong Biên bản họp khoa. | I36: P.KT&ĐBCL có Tờ trình đề xuất về 02 trường hợp GV Trần Đình Khải và GV Trần Thị Hương. Nhóm TT: đề nghị xếp loại A.
C37: 24A | D37: 24A
A38: 13 | B38: Khoa CNTT | C38: 26 | D38: 26 | G38: P.KT&ĐBCL: GV Nguyễn Duy Đạt, ra đề thi môn lý thuyết Đồ thị câu 5 cho thiếu và sai dữ liệu. GV ra đề đã giải thích, thí sinh vẫn thi bình thường. | H38: Ý kiến của lãnh đạo khoa: GV Đạt mới vi phạm lần đầu về biên soạn đề thi, đã có mặt trực tiếp giải thích, đề nghị HĐ xem xét không hạ thi đua B. | I38: Đề nghị xếp B, đúng lỗi vi phạm.
C39: 26A | D39: 26A
A40: 14 | B40: Khoa CN Động lực | C40: 17 | D40: 17 | G40: P.KT&ĐBCL: Ngày 03/01, GV Trần Minh Tuấn, coi thi trễ 10 phút do nhầm lịch. - Ngày 10/01, GV Hồ Văn Hóa coi thi trễ do nhầm lịch | H40: Có 04 ý kiến đề nghị trong Biên bản họp khoa. | I40: P.KT&ĐBCL có Tờ trình đề xuất về 02 trường hợp GV Trần Minh Tuấn và GV Hồ Văn Hóa. Nhóm TT đề nghị xếp loại A, nhắc nhở đơn vị xếp loại thi đua đúng qui định | J40: Chưa thấy bảng xét thi đua học kỳ
C41: 17A | D41: 17A
A42: 15 | B42: Khoa CN Điện - Điện tử | C42: 30 | D42: 30 | I42: Đề nghị xếp loại B đ/v GV Ng Thùy Dương; nhắc nhở GV Nguyễn Vũ Thanh Nhàn, thực hiện qui định về giờ giấc học và giờ ra chơi của SV. Trường hợp GV Mạnh Lê Hoàn, đề nghị HĐTĐ xem xét vì có 04 GV cùng vắng mặt trong buổi họp này.
C43: 29A | D43: 29A
C44: 1 A DN | D44: 1 A DN | F44: Cô Ng Thùy Linh nghỉ HS từ 8/9/2017-8/3/2018. Không có tháng thực tế làm việc trong học kỳ 1.
A45: 16 | B45: Khoa CN May - TT | C45: 9 | D45: 9 | G45: P.KT&ĐBCL: Ngày 03/01, GV Bùi Thị Ngọc Sương coi thi trễ 10ph do nhầm lịch. | I45: P.KT&ĐBCL có Tờ trình đề xuất về trường hợp GV Bùi Thị Ngọc Sương. Nhắc nhở Cô Trang,Cô Thúy phân công và thực hiện ký văn bản đúng thẩm quyền.
C46: 8A | D46: 8A | F46: - Nguyễn Bạch Cẩm Dung nghỉ HS từ 13/4/2017 - 13/10/2017. Thưởng thi đua 4 tháng - Cô Trần Hồng Thảo, tuyển dụng từ T10/2017. Thưởng thi đua 4 tháng
C47: 1 A DN | D47: 1 A DN | F47: Cô Ng Thị Hiền nghỉ HS từ 16/10/2017-16/4/2018. Thưởng thi đua 2 tháng
A48: 17 | B48: Khoa CN Nhiệt - Lạnh | C48: 9 | D48: 9 | G48: Tổ TT-PC: Tiết 1-3, ngày 18/01, giờ dạy của GV Võ Phước Quang, 9g không có GV và SV tại phòng học.(TKB tiết 3 kết thúc lúc 9g25) | H48: GV Quang làm giải trình, 8g30 ra chơi, 8g40 không có SV - GV vẫn ngồi chờ đến gần 9g, có báo cho Cô Hòa (Tổ TT-PC); Trưởng đơn vị xác nhận trong giải trình GV Quang đã báo cho phụ trách khoa (nhưng không nhớ rõ thời gian do đang tham gia về nguồn). | I48: Đề nghị TT HĐTĐ xem xét.
C49: 9A | D49: 9A
A50: 18 | B50: Khoa Kinh tế | C50: 13 | D50: 13 | G50: P.KT&ĐBCL: GV Bùi Ánh Tuyết ra đề trùng (Đề 001, nội dung câu 11 trùng câu 21, câu 2 trùng câu 43, câu 3 trùng câu 44). | H50: BB họp khoa: Trưởng đơn vị nhắc nhở rút kinh nghiệm, cam kết không để xảy ra trường hợp tương tự. | I50: Việc ra đề trùng 6 câu, làm ảnh hưởng đến kết quả bài thi của SV, đề nghị xếp B.
C51: 13A | D51: 13A | F51: - Cô Võ T Kim Thư nghỉ HS từ 16/12/2017-16/6/2018. Thưởng thi đua 4 tháng - Cô Trần Thị Ngọc Dung, tuyển dụng từ T10/2017. Thưởng thi đua 4 tháng - Cô Nguyễn Mỹ Tiên, tuyển dụng từ T10/2017. Thưởng thi đua 4 tháng
A52: 19 | B52: TT Truyền thông - TV | C52: 8 | D52: 6 | E52: 2
C53: 7A | D53: 6A | E53: 1A | F53: Cô Nguyễn Thị Trang, nghỉ HS 10/4-10/10/2017. Thưởng thi đua 4 tháng
C54: 1ADN | E54: 1ADN | F54: Cô Hà Thị Hậu nghỉ HS 06/10/2017-06/4/2018. Thưởng thi đua 1 tháng
A55: 20 | B55: TT Đào tạo LTT | C55: =D55+E55 -> 3 | D55: 2 | E55: 1
C56: 3A | D56: 2A | E56: 1A
A57: 21 | B57: TT Y tế | C57: =D57+E57 -> 4 | D57: 3 | E57: 1
C58: 4A | D58: 3A | E58: 1A
A59: 22 | B59: TT Quan hệ Doanh nghiệp | C59: 1 | E59: 1 | J59: Chưa thấy bảng xét thi đua học kỳ
C60: 1A | E60: 1A
A61: 23 | B61: Tổ Thanh tra - Pháp chế | C61: 10 | D61: 5 | E61: 5 | G61: P.KT&ĐBCL: Cô Trương Thị Hồng ghi đề thi 11 điểm (Câu 1 đáp án 01 điểm, đề ghi 02 điểm), P.KT&ĐBCL đã giải quyết. | H61: Cô Hồng làm giải trình, do sơ xuất cho dư 01 điểm của đề thi, đáp án chấm đảm bảo 10 điểm. | I61: Việc sơ xuất của đề thi không làm ành hưởng đến kết quả bài thi, đề nghị xếp A. | J61: Chưa thấy bảng xét thi đua học kỳ
C62: 9A | D62: 5A | E62: 4A | F62: Cô Ng Thị Thảo nghỉ HS 30/11/2017-30/5/2018. Thưởng thi đua 3 tháng
C63: 1B | E63: 1B | F63: ÔTrần Quốc Định. Tháng 10 xếp loại C
A64: Tổng số CB-GV-NV | C64: =C61+C59+C57+C55+C52+C50+C48+C45+C42+C40+C38+C36+C34+C31+C28+C26+C24+C21+C19+C16+C14+C10+C8 -> 330 | F64: Tổng hợp từ đơn vị 308 A 10ADN 8B 2D
F65: PHÒNG TỔ CHỨC - HÀNH CHÍNH - TỔNG HỢP
B70: Giáo viên thỉnh giảng
A71: TT | B71: Họ tên | D71: Đơn vị giảng dạy | F71: Nội dung ghi nhận | H71: Thời khóa biểu bắt đầu từ…
A72: 1 | B72: Võ Văn Cương | D72: K.CN Cơ khí | F72: Ngày 03/01, tiết 1-3, 7h45 GV mới vào lớp | H72: TKB 7g00
A73: 2 | B73: Nguyễn Xuân Hà | D73: K.Động lực | F73: Ngày 05/01, tiết 7-10, 12g45 GV mới vào lớp | H73: TKB 12g30
F74: Ngày 12/01, tiết 11-12, GV cho SV nghỉ lúc 16g35 | H74: TKB 15g50 - 17g20
F75: Ngày 18/01, tiết 01-06, từ 7g-7g40 không có GV, khoa báo cho SV về.
A76: 3 | B76: Nguyễn Công Cường | D76: Khoa KHCB | F76: Ngày 16/01, tiết 1-5, 7g-7g40 lớp chưa có GV | H76: TKB 7g00
A77: 4 | B77: Nguyễn Tấn Phát | D77: Khoa KHCB | F77: Ngày 19/01, tiết 1-4, 7g-7g30 lớp chưa có GV
A80: Ngày công kế hoạch
B81: CBQL+GV | D81: 5 ngày | F81: (01, 02,26,27,28/02/2018)
B82: CBQL+NV Trung tâm | D82: 5 ngày | F82: (01, 02,26,27,28/02/2018)
B83: CBQL+NV phòng | D83: 13 ngày | E83: VC | F83: (01-12 và 22-28/02/2018)
D84: 16 ngày | E84: NLĐ

Sheet HOCKY-NAMHOC
A1: UBND THÀNH PHỐ HỒ CHÍ MINH
A2: TRƯỜNG CAO ĐẲNG
A3: LÝ TỰ TRỌNG TP.HỒ CHÍ MINH
A4: TỔNG HỢP THI ĐUA HỌC KỲ II NĂM HỌC 2018 - 2019
C5: Biên chế | D5: HĐ trường
A6: TT | C6: Họ và tên | D6: Đơn vị | E6: Tháng 9 | F6: Tháng 10 | G6: Tháng 11 | H6: Tháng 12 | I6: Tháng 01 | J6: HK1 | K6: Tháng 02 | L6: Tháng 3 | M6: Tháng 4 | N6: Tháng 5 | O6: Tháng 6 | P6: HK2 | Q6: Cả năm | R6: Danh hiệu | S6: Tháng 7 | T6: Tháng 8 | U6: Ghi chú HKI | V6: Ghi chú HKII
A7: 1 | C7: 2 | D7: 3 | E7: 4 | F7: 5 | G7: 6 | H7: 7 | I7: 8 | J7: 9
A8: 01 | B8: 01 | C8: Phạm Hữu Lộc | D8: BGH | E8: A | F8: A | G8: A | H8: A | I8: A | J8: A | K8: A | L8: A | M8: A
A9: 02 | B9: 02 | C9: Đinh Văn Đệ | E9: A | F9: A | G9: A | H9: A | I9: A | J9: A | K9: A | L9: A | M9: A
A10: 03 | B10: 03 | C10: Đinh Hồng Minh | E10: A | F10: A | G10: A | H10: A | I10: A | J10: A | K10: A | L10: A | M10: A
A11: 04 | B11: 04 | C11: Châu Văn Bảo | E11: A | F11: A | G11: A | H11: A | I11: A | J11: A | K11: A | L11: A | M11: A
C12: Nguyễn Văn Dũng | E12: A | F12: A | G12: A | H12: A | I12: A | J12: A
A13: 05 | B13: 01 | C13: Lâm Viết Dũng | D13: P.TC-HC-TH | E13: A | F13: A | G13: A | H13: A | I13: A | J13: A | K13: A | L13: A | M13: A
A14: 06 | B14: 02 | C14: Nguyễn Thị Hoa | E14: A | F14: A | G14: A | H14: A | I14: A | J14: A | K14: A | L14: A | M14: A
A15: 07 | B15: 03 | C15: Nguyễn Thành Nam | E15: A | F15: A | G15: A | H15: A | I15: A | J15: A | K15: A | L15: A | M15: A
A16: 08 | B16: 04 | C16: Lê Hùng Thanh | E16: A | F16: A | G16: A | H16: A | I16: A | J16: A | K16: A | L16: A | M16: A
A17: 09 | B17: 05 | C17: Vũ Như Quỳnh | E17: A | F17: A | G17: A | H17: A | I17: A | J17: A | K17: A | L17: A | M17: A
A18: 10 | B18: 06 | C18: Phan T Ngọc Phượng | E18: A | F18: A | G18: A | H18: A | I18: A | J18: A | K18: A | L18: A | M18: A
A19: 11 | B19: 07 | C19: Nguyễn Thị Bích Liễu | E19: A | F19: A | G19: A | H19: A | I19: A | J19: A | K19: A DN | L19: A DN | M19: A DN | V19: Nghỉ HS từ 03/2/2019-2/8/2019:
A20: 12 | B20: 08 | C20: Nguyễn Văn Chì | E20: A | F20: A | G20: A | H20: A | I20: A | J20: A | K20: A | L20: A | M20: A
A21: 13 | B21: 09 | C21: Trần Thị Ánh Phượng | E21: A DN | F21: A DN | G21: A DN | H21: A | I21: A | J21: A (2 tháng) | K21: A | L21: A | M21: A | U21: Nghỉ HS từ 8/6/2018-8/12/2018: Thưởng thi đua 2 tháng
A22: 14 | B22: 10 | C22: Trần Văn Cu Anh | E22: A | F22: A | G22: A | H22: A | I22: A | J22: A | K22: A | L22: A | M22: A
A23: 15 | B23: 11 | C23: Lưu Hoàng Hải Yến | E23: A | F23: A | G23: A | H23: A | I23: A | J23: A | K23: A | L23: A | M23: A
A24: 16 | B24: 12 | C24: Huỳnh Thị Minh Ly | E24: A | F24: A | G24: A | H24: A | I24: A | J24: A | K24: A | L24: A | M24: A
A25: 17 | B25: 13 | C25: Nguyễn Thị Vân | E25: A | F25: A | G25: A | H25: A | I25: A | J25: A | K25: A | L25: A | M25: A DN
A26: 18 | B26: 14 | C26: Huỳnh Thị Xuân Mai | E26: A | F26: A | G26: A | H26: A | I26: A | J26: A | K26: A | L26: A | M26: A
A27: 19 | B27: 15 | C27: Thân Thị Nhung | E27: A | F27: A | G27: A | H27: A | I27: A | J27: A | K27: A | L27: A | M27: A
A28: 20 | B28: 16 | C28: Trần Thị Phương Oanh | E28: A | F28: A | G28: A | H28: A | I28: A | J28: A | K28: A | L28: A | M28: A
A29: 21 | B29: 17 | C29: Phạm Hữu Tấn | E29: A | F29: A | G29: A | H29: A | I29: A | J29: A | K29: A | L29: A | M29: A
A30: 22 | B30: 18 | C30: Nguyễn Hữu Xuân Vũ | E30: A | F30: A | G30: A | H30: A | I30: A | J30: A | K30: A | L30: A | M30: A
A31: 23 | B31: 19 | C31: Lê Hồng Phúc | E31: A | F31: A | G31: A | H31: A | I31: A | J31: A | K31: A | L31: A | M31: A
A32: 24 | B32: 20 | C32: Nguyễn Tiến Hưng | E32: A | F32: A | G32: A | H32: A | I32: A | J32: A | K32: A | L32: A | M32: A
A33: 25 | B33: 21 | C33: Đồng Anh Tuấn | E33: A | F33: A | G33: A | H33: B | I33: A | J33: A | K33: A | L33: A | M33: A
... A37: 29 | B37: 25 | C37: Nguyễn Thanh Hiền | E37: A | F37: A | G37: B | H37: A | I37: A | J37: A | K37: A | L37: A | M37: A
A38: 30 | B38: 26 | C38: Trần Thanh Phương | F38: A | G38: A | H38: A | I38: A | J38: A | K38: A | L38: A | M38: A | U38: Thử việc từ 18/10/2018 | V38: Thử việc từ 18/10/2018
C39: Huỳnh Bá Thành | E39: A | F39: A | U39: Nghỉ hết tuổi lao động T11/2018 -> Làm tờ trình thưởng thi đua HK | V39: Nghỉ hết tuổi lao động T11/2018 -> Làm tờ trình thưởng thi đua HK
A40: 31 | B40: 01 | C40: Nguyễn Kính | D40: P. KH -TC | E40: A | F40: A | G40: A | H40: A | I40: A | J40: A | K40: A | L40: A | M40: A
A41: 32 | B41: 02 | C41: Nguyễn Thị Kim Dung | E41: A | F41: A | G41: A | H41: A | I41: A | J41: A | K41: A | L41: A | M41: A
A42: 33 | B42: 03 | C42: Hồng Mộng Tuyết Dung | E42: A | F42: A | G42: A | H42: A | I42: A | J42: A | K42: A | L42: A | M42: A
A43: 34 | B43: 04 | C43: Đỗ Thị Ngọc | E43: A | F43: A | G43: A | H43: A | I43: A | J43: A | K43: A | L43: A | M43: A
A44: 35 | B44: 05 | C44: Trần Thị Minh Thoa | E44: A | F44: A | G44: A | H44: A DN | I44: A DN | J44: A (3 tháng) | K44: A DN | L44: A DN | M44: A | U44: Nghỉ HS từ 01/12/2018-31/5/2019: Thưởng thi đua 3 tháng | V44: Nghỉ HS từ 01/12/2018-31/5/2019: Thưởng thi đua 3 tháng
A45: 36 | B45: 06 | C45: Nguyễn Thị Hồng Thắm | E45: A | F45: A | G45: A | H45: A | I45: A | J45: A | K45: A | L45: A | M45: A
A46: 37 | B46: 07 | C46: Phạm Lê Đông Hưng | E46: A | F46: A | G46: A | H46: A | I46: A | J46: A | K46: A | L46: A | M46: A
A47: 38 | B47: 08 | C47: Trần Thị Thảo Vân | E47: A | F47: A | G47: A | H47: A | I47: A | J47: A | K47: A | L47: A | M47: A
A48: 39 | B48: 09 | C48: Nguyễn Thị Minh Thùy | E48: A | F48: A | G48: A | H48: A | I48: A | J48: A | K48: A | L48: A | M48: A
C49: Lê Hửu Nhân | E49: A | F49: A | G49: A | H49: A | I49: A | J49: A | K49: A | L49: A
A50: 40 | B50: 01 | C50: Hồ Văn Sĩ | D50: P.TS-ĐT | E50: A | F50: A | G50: A | H50: A | I50: A | J50: A | K50: A | L50: A | M50: A
A51: 41 | B51: 02 | C51: Nguyễn Văn Tấn | E51: A | F51: A | G51: A | H51: A | I51: A | J51: A | K51: A | L51: A | M51: A
A52: 42 | B52: 03 | C52: Nguyễn Thị Nhuận | E52: A | F52: A | G52: A | H52: A | I52: A | J52: A | K52: A | L52: A | M52: A
A53: 43 | B53: 04 | C53: Huỳnh Thị Mai | E53: A | F53: A | G53: A | H53: A | I53: A | J53: A | K53: A | L53: A | M53: A
A54: 44 | B54: 05 | C54: Võ Thị Xuân Thơ | E54: A | F54: A | G54: A | H54: A | I54: A | J54: A | K54: A | L54: A | M54: A
A55: 45 | B55: 06 | C55: Nguyễn Thị Thanh Thảo | E55: A | F55: A | G55: A | H55: A | I55: A | J55: A | K55: A | L55: A | M55: A
A56: 46 | B56: 07 | C56: Giáp Thị Vượng | E56: A | F56: A | G56: A | H56: A | I56: A | J56: A | K56: A | L56: A | M56: A
A57: 47 | B57: 08 | C57: Vương Hội Khánh | E57: A | F57: A | G57: A | H57: A | I57: A | J57: A | K57: A | L57: A | M57: A
A58: 48 | B58: 09 | C58: Nguyễn Thị Thùy | E58: A | F58: A | G58: A | H58: A | I58: A | J58: A | K58: A | L58: A | M58: A
A59: 49 | B59: 10 | C59: Võ Thị Lệ Trân | E59: A | F59: A | G59: A | H59: A | I59: A | J59: A | K59: A | L59: A | M59: A
A60: 50 | B60: 11 | C60: Nguyễn Thị Hải Hà | E60: A | F60: A | G60: A | H60: A DN | I60: A DN | J60: A (3 tháng) | K60: A DN | L60: A DN | M60: A DN | U60: Nghỉ HS từ 7/12/2018-7/6/2019: Thưởng thi đua 3 tháng | V60: Nghỉ HS từ 7/12/2018-7/6/2019: Thưởng thi đua 3 tháng
A61: 51 | B61: 12 | C61: Thái Thị My Sa | E61: A | F61: A | G61: A | H61: A | I61: A | J61: A | K61: A DN | L61: A DN | M61: A DN | V61: Nghỉ HS từ 18/02/2019-17/8/2019:
A62: 52 | B62: 13 | C62: Võ Minh Phương | E62: A | F62: A | G62: A | H62: A | I62: A | J62: A | K62: A | L62: A | M62: A
A63: 53 | B63: 14 | C63: Nguyễn Việt Tiến | E63: A | F63: A | G63: A | H63: A | I63: A | J63: A | K63: A | L63: A | M63: A
A64: 54 | B64: 15 | C64: Sỹ Thị Chung | E64: A | F64: A | G64: A | H64: A | I64: A | J64: A | K64: A | L64: A | M64: A
A65: 55 | B65: 16 | C65: Nguyễn Thị Tất | E65: A | F65: A | G65: A | H65: A | I65: A | J65: A | K65: A | L65: A | M65: A
A66: 56 | B66: 01 | C66: Lê Xuân Thiện | D66: P. CTCT - HSSV | E66: A | F66: A | G66: A | H66: A | I66: A | J66: A | K66: A | L66: A | M66: A
A67: 57 | B67: 02 | C67: Hồ Minh Lợi | E67: A | F67: A | G67: A | H67: A | I67: A | J67: A | K67: A | L67: A | M67: A
A68: 58 | B68: 03 | C68: Nguyễn Thị Kim Anh | E68: A | F68: A | G68: A | H68: A | I68: A | J68: A | K68: A | L68: A | M68: A
A69: 59 | B69: 04 | C69: Hà Nhật Thanh | E69: A | F69: A | G69: A | H69: A | I69: A | J69: A | K69: A | L69: A | M69: A
A70: 60 | B70: 05 | C70: Bùi Thị Dương | E70: A | F70: A | G70: A | H70: A | I70: A | J70: A | K70: A | L70: B | M70: C
A71: 61 | B71: 06 | C71: Nguyễn Ngọc Hiệp | E71: A | F71: A | G71: A | H71: A | I71: A | J71: A | K71: A | L71: A | M71: A
A72: 62 | B72: 07 | C72: Nguyễn Tất Thắng | E72: A | F72: A | G72: A | H72: A | I72: A | J72: A | K72: A | L72: A | M72: A
A73: 63 | B73: 08 | C73: Phạm Thị Lê Chi | E73: A | F73: A | G73: A | H73: A | I73: A | J73: A | K73: A | L73: A | M73: A
A74: 64 | B74: 09 | C74: Lê Thị Nữ | E74: A | F74: A | G74: A | H74: A | I74: A | J74: A | K74: A | L74: A | M74: A
A75: 65 | B75: 10 | C75: Phan Đức Long | E75: A | F75: A | G75: A | H75: A | I75: A | J75: A | K75: A | L75: A | M75: A
A76: 66 | B76: 11 | C76: Trần Văn Lý | E76: A | F76: A | G76: A | H76: A | I76: A | J76: A | K76: A | L76: A | M76: A
A77: 67 | B77: 12 | C77: Trần Thị Thu Hà | E77: A | F77: A | G77: A | H77: A | I77: A | J77: A | K77: A | L77: A | M77: A
A78: 68 | B78: 13 | C78: Huỳnh Văn Hiếu | E78: A | F78: A | G78: A | H78: A | I78: A | J78: A | K78: A | L78: A | M78: A
... A84: 74 | B84: 19 | C84: Lê Thị Hà Giang | E84: A | F84: A | G84: A | H84: A | I84: A | J84: A | K84: A | L84: A | M84: A
C85: Hoàng Ngọc Cảnh | E85: A | F85: A | G85: A | H85: A | J85: A
A86: 75 | B86: 01 | C86: Nguyễn Chí Nhân | D86: P.KT&ĐBCL | E86: A | F86: A | G86: A | H86: A | I86: A | J86: A | K86: A | L86: A | M86: A
A87: 76 | B87: 02 | C87: Võ Thị Anh Đào | E87: A | F87: A | G87: A | H87: A | I87: A | J87: A | K87: A | L87: A | M87: A
A88: 77 | B88: 03 | C88: Nguyễn Thanh Sơn | E88: A | F88: A | G88: A | H88: A | I88: A | J88: A | K88: A | L88: A | M88: A
A89: 78 | B89: 04 | C89: Vũ Thị Thu Thủy | E89: A | F89: A | G89: A | H89: A | I89: A | J89: A | K89: A | L89: A | M89: A
A90: 79 | B90: 05 | C90: Nguyễn Thị Tuyết | E90: A | F90: A | G90: A | H90: A | I90: A | J90: A | K90: A | L90: A | M90: A
A91: 80 | B91: 06 | C91: Lương Minh Dũng | E91: A | F91: A | G91: A | H91: A | I91: A | J91: A | K91: A | L91: A | M91: A
A92: 81 | B92: 07 | C92: Nguyễn Yến Nhi | E92: A | F92: A | G92: A | H92: A | I92: A | J92: A | K92: A | L92: A | M92: A
A93: 82 | B93: 01 | C93: Nguyễn Ngọc Trang | D93: P.QLKH&HTQT | E93: A | F93: A | G93: A | H93: A | I93: A | J93: A | K93: A | L93: A | M93: A
A94: 83 | B94: 02 | C94: Huỳnh Thị Cẩm Hoa | E94: A | F94: A | G94: A | H94: A | I94: A | J94: A | K94: A | L94: A | M94: A
A95: 84 | B95: 03 | C95: Lê Tiến Dũng | E95: A | F95: A | G95: A | H95: A | I95: A | J95: A | K95: A | L95: A | M95: A
A96: 85 | B96: 04 | C96: Trần Nhật Minh | E96: A | F96: A | G96: A | H96: A | I96: A | J96: A | K96: A | L96: A | M96: A
A97: 86 | B97: 01 | C97: Lê Quang Liêm | D97: P.QT-DV | E97: A | F97: A | G97: A | H97: A | I97: A | J97: A | K97: A | L97: A | M97: A
A98: 87 | B98: 02 | C98: Nguyễn Văn Thành | E98: A | F98: A | G98: A | H98: A | I98: A | J98: A | K98: A | L98: A | M98: A
A99: 88 | B99: 03 | C99: Mai Thu Hương | E99: A | F99: A | G99: A | H99: A | I99: A | J99: A | K99: A | L99: A | M99: A
A100: 89 | B100: 04 | C100: Đỗ Văn Trong | E100: A | F100: A | G100: A | H100: A | I100: A | J100: A | K100: A | L100: A | M100: A
A101: 90 | B101: 05 | C101: Nguyễn Trọng Phú | E101: A | F101: A | G101: A | H101: A | I101: A | J101: A | K101: A | L101: A | M101: A
A102: 91 | B102: 06 | C102: Giáp Văn Thịnh | E102: A | F102: A | G102: A | H102: A | I102: A | J102: A | K102: A | L102: A | M102: A
A103: 92 | B103: 07 | C103: Vũ Ngọc Quang | E103: A | F103: A | G103: A | H103: A | I103: A | J103: A | K103: A | L103: A | M103: A
A104: 93 | B104: 08 | C104: Lê Hồng Anh Tuấn | E104: A | F104: A | G104: A | H104: A | I104: A | J104: A | K104: A | L104: A | M104: A
A105: 94 | B105: 09 | C105: Ninh Đỗ Hiệp | E105: A | F105: A | G105: A | H105: A | I105: A | J105: A | K105: A | L105: A | M105: A
A106: 95 | B106: 10 | C106: Bùi Đặng Hoàng Tuấn | E106: A | F106: A | G106: A | H106: A | I106: A | J106: A | K106: A | L106: A | M106: A
A107: 96 | B107: 11 | C107: Nguyễn Tiến Việt Dũng | E107: A | F107: A | G107: A | H107: A | I107: A | J107: A | K107: A | L107: A | M107: A
A108: 97 | B108: 12 | C108: Giáp Đức Nhận | E108: A | F108: A | G108: A | H108: A | I108: A | J108: A | K108: A | L108: A | M108: A
...

Sheet In minh chung
A1: UBND THÀNH PHỐ HỒ CHÍ MINH | O1: CỘNG HÒA XÃ HỘI CHỦ NGHĨA VIỆT NAM
A2: TRƯỜNG CAO ĐẲNG LÝ TỰ TRỌNG | O2: Độc lập - Tự do - Hạnh phúc
A3: THÀNH PHỐ HỒ CHÍ MINH
A4: TỔNG HỢP THI ĐUA NĂM HỌC 2019 - 2020
A6: TT | C6: Họ và tên | D6: Đơn vị | E6: Tháng 9/2019 | F6: Tháng 10/2019 | G6: Tháng 11/2019 | H6: Tháng 12/2019 | I6: Tháng 01/2020 | J6: HK1 | K6: Tháng 02/2020 | L6: Tháng 3/2020 | M6: Tháng 4/2020 | N6: Tháng 5/2020 | O6: Tháng 6/2020 | P6: Tháng 7/2020 | Q6: Tháng 8/2020 | R6: HK2 | S6: Cả năm | T6: Danh hiệu | U6: Thống kê số buổi vắng (học CT, hội, họp) | V6: Có bài viết SK | W6: Dư kiến đánh giá xếp loại cuối năm | X6: Ghi chú HKI | Y6: Ghi chú
A7: 1 | C7: 2 | D7: 3 | E7: 4 | F7: 5 | G7: 6 | H7: 7 | I7: 8 | J7: 9
A8: 01 | B8: 01 | C8: Phạm Hữu Lộc | D8: BGH | E8: A | F8: A | G8: A | H8: A | I8: A | J8: A | K8: A | L8: A | M8: A | N8: A | O8: A | P8: A | Q8: A | R8: A | S8: A | T8: LĐTT | V8: X | W8: XS
A9: 02 | B9: 02 | C9: Đinh Văn Đệ | E9: A | F9: A | G9: A | H9: A | I9: A | J9: A | K9: A | L9: A | M9: A | N9: A | O9: A | P9: A | Q9: A | R9: A | S9: A | T9: LĐTT | V9: X | W9: XS
A10: 03 | B10: 03 | C10: Đinh Hồng Minh | E10: A | F10: A | G10: A | H10: A | I10: A | J10: A | K10: A | L10: A | M10: A | N10: A | O10: A | P10: A | Q10: A | R10: A | S10: A | T10: LĐTT | V10: X | W10: XS
A11: 04 | B11: 04 | C11: Châu Văn Bảo | E11: A | F11: A | G11: A | H11: A | I11: A | J11: A | K11: A | L11: A | M11: A | N11: A | O11: A | P11: A | Q11: A | R11: A | S11: A | T11: LĐTT | V11: X | W11: XS
A12: 05 | B12: 01 | C12: Lâm Viết Dũng | D12: P.TC-HC-TH | E12: A | F12: A | G12: A | H12: A | I12: A | J12: A | K12: A | L12: A | M12: A | N12: A | O12: A | P12: A | Q12: A | R12: A | S12: A | T12: LĐTT | V12: X | W12: XS
A13: 06 | B13: 02 | C13: Nguyễn Thị Hoa | E13: A | F13: A | G13: A | H13: A | I13: A | J13: A | K13: A | L13: A | M13: A | N13: A | O13: A | P13: A | Q13: A | R13: A | S13: A | T13: LĐTT | V13: X | W13: XS
A14: 07 | B14: 04 | C14: Vũ Như Quỳnh | E14: A | F14: A | G14: A | H14: A | I14: A | J14: A | K14: A | L14: A | M14: A | N14: A | O14: A | P14: A | Q14: A | R14: A | S14: A | T14: LĐTT | V14: X | W14: XS
A15: 08 | B15: 05 | C15: Phan T Ngọc Phượng | E15: A | F15: A | G15: A | H15: A | I15: A | J15: A | K15: A | L15: A | M15: A | N15: A | O15: A | P15: A | Q15: A | R15: A | S15: A | T15: LĐTT | W15: T
A16: 09 | B16: 06 | C16: Nguyễn Thị Bích Liễu | E16: A | F16: A | G16: A | H16: A | I16: A | J16: A | K16: A | L16: A | M16: A | N16: A | O16: A | P16: A | Q16: A | R16: A | S16: A | T16: LĐTT | V16: X | W16: XS
A17: 10 | B17: 07 | C17: Nguyễn Văn Chì | E17: A | F17: A | G17: A | H17: A | I17: A | J17: A | K17: A | L17: A | M17: A | N17: A | O17: A | P17: A | Q17: A | R17: A | S17: A | T17: LĐTT | W17: T
A18: 11 | B18: 08 | C18: Trần Thị Ánh Phượng | E18: A | F18: A | G18: A | H18: A | I18: A | J18: A | K18: A | L18: A | M18: A | N18: A | O18: A | P18: A | Q18: A | R18: A | S18: A | T18: LĐTT | W18: T
A19: 12 | B19: 09 | C19: Trần Văn Cu Anh | E19: A | F19: A | G19: A | H19: A | I19: A | J19: A | K19: A | L19: A | M19: A | N19: A | O19: A | P19: A | Q19: A | R19: A | S19: A | T19: LĐTT | W19: T
A20: 13 | B20: 10 | C20: Lưu Hoàng Hải Yến | E20: A | F20: A | G20: A | H20: A | I20: A | J20: A | K20: A | L20: A | M20: A | N20: A | O20: A | P20: A | Q20: A | R20: A | S20: A | T20: LĐTT | W20: T
A21: 14 | B21: 11 | C21: Nguyễn Thị Vân | E21: A DN | F21: A | G21: A | H21: A | I21: A | J21: A (4 tháng) | K21: A | L21: A | M21: A | N21: A | O21: A | P21: A | Q21: A | R21: A | S21: A | T21: LĐTT | W21: T
A22: 15 | B22: 12 | C22: Huỳnh Thị Xuân Mai | E22: A | F22: A | G22: A | H22: A | I22: A | J22: A | K22: A | L22: A | M22: A | N22: A | O22: A | P22: A | Q22: A | R22: A | S22: A | T22: LĐTT | W22: T
A23: 16 | B23: 13 | C23: Trần Thị Phương Oanh | E23: A | F23: A | G23: A | H23: A | I23: A | J23: A | K23: A | L23: A | M23: A | N23: A | O23: A | P23: A | Q23: A | R23: A | S23: A | T23: LĐTT | V23: X | W23: XS
A24: 17 | B24: 14 | C24: Thân Thị Nhung | E24: A | F24: A | G24: A | H24: A | I24: A | J24: A | K24: A | L24: A | M24: A | N24: A | O24: A | P24: A | Q24: A | R24: A | S24: A | T24: LĐTT | V24: X | W24: XS
A25: 18 | B25: 15 | C25: Phạm Hữu Tấn | E25: A | F25: A | G25: A | H25: A | I25: A | J25: A | K25: A | L25: A | M25: A | N25: A | O25: A | P25: A | Q25: A | R25: A | S25: A | T25: LĐTT | W25: T
A26: 19 | B26: 16 | C26: Nguyễn Hữu Xuân Vũ | E26: A | F26: B | G26: A | H26: A | I26: A | J26: A | K26: A | L26: A | M26: A | N26: A | O26: A | P26: A | Q26: A | R26: A | S26: A | T26: LĐTT | W26: T
A27: 20 | B27: 17 | C27: Lê Hồng Phúc | E27: A | F27: A | G27: B | H27: A | I27: A | J27: A | K27: A | L27: A | M27: A | N27: A | O27: A | P27: A | Q27: A | R27: A | S27: A | T27: LĐTT | W27: T
A28: 21 | B28: 18 | C28: Phạm Hữu Thành Phú | E28: A | F28: A | G28: A | H28: A | I28: A | J28: A | K28: A | L28: A | M28: A | N28: A | O28: A | P28: A | Q28: A | R28: A | S28: A | T28: LĐTT | W28: T
A29: 22 | B29: 19 | C29: Huỳnh Thanh Nhàn | E29: A | F29: A | G29: A | H29: A | I29: A | J29: A | K29: A | L29: A | M29: A | N29: A | O29: A | P29: A | Q29: A | R29: A | S29: A | T29: LĐTT | W29: T
A30: 23 | B30: 20 | C30: Nguyễn Tiến Hưng | E30: A | F30: A | G30: A | H30: A | I30: A | J30: A | K30: A | L30: A | M30: A | N30: A | O30: A | P30: A | Q30: A | R30: A | S30: A | T30: LĐTT | W30: T
A31: 24 | B31: 21 | C31: Đồng Anh Tuấn | E31: A | F31: A | G31: A | H31: A | I31: A | J31: A | K31: A | L31: A | M31: A | N31: A | O31: A | P31: A | Q31: A | R31: A | S31: A | T31: LĐTT | W31: T
A32: 25 | B32: 22 | C32: Lê Hồng Sơn | E32: A | F32: A | G32: B | H32: A | I32: A | J32: A | K32: A | L32: A | M32: A | N32: A | O32: A | P32: A | Q32: A | R32: A | S32: A | T32: LĐTT | W32: T
A33: 26 | B33: 23 | C33: Nguyễn Thanh Hiền | E33: A | F33: A | G33: A | H33: B | I33: A | J33: A | K33: A | L33: A | M33: A | N33: A | O33: B | P33: A | Q33: A | R33: A | S33: A | T33: LĐTT | W33: T
A34: 27 | B34: 24 | C34: Trần Thanh Phương | E34: A | F34: A | G34: A | H34: A | I34: A | J34: A | K34: A | L34: A | M34: A | N34: A | O34: A | P34: A | Q34: A | R34: A | S34: A | T34: LĐTT | W34: T
A35: 28 | C35: Dương Văn Tâm | O35: A | P35: A | Q35: A | R35: Không đủ TG xét | S35: Không đủ TG xét | T35: Không đủ TG xét LĐTT | W35: T | Y35: Thử việc từ 01/6/2020
A36: 29 | B36: 01 | C36: Nguyễn Kính | D36: P. KH -TC | E36: A | F36: A | G36: A | H36: A | I36: A | J36: A | K36: A | L36: A | M36: A | N36: A | O36: A | P36: A | Q36: A | R36: A | S36: A | T36: LĐTT | V36: X | W36: XS
A37: 30 | B37: 02 | C37: Nguyễn Thị Kim Dung | E37: A | F37: A | G37: A | H37: A | I37: A | J37: A | K37: A | L37: A | M37: A | N37: A | O37: A | P37: A | Q37: A | R37: A | S37: A | T37: LĐTT | V37: X | W37: XS
A38: 31 | B38: 03 | C38: Hồng Mộng Tuyết Dung | E38: A | F38: A | G38: A | H38: A | I38: A | J38: A | K38: A | L38: A | M38: A | N38: A | O38: A | P38: A | Q38: A | R38: A | S38: A | T38: LĐTT | V38: X | W38: XS
A39: 32 | B39: 04 | C39: Trần Thị Minh Thoa | E39: A | F39: A | G39: A | H39: A | I39: A | J39: A | K39: A | L39: A | M39: A | N39: A | O39: A | P39: A | Q39: A | R39: A | S39: A | T39: LĐTT | V39: X | W39: XS
A40: 33 | B40: 05 | C40: Nguyễn Thị Hồng Thắm | E40: A | F40: A | G40: A | H40: A | I40: A | J40: A | K40: A | L40: A | M40: A | N40: A | O40: A | P40: A | Q40: A | R40: A | S40: A | T40: LĐTT | V40: X | W40: XS
A41: 34 | B41: 06 | C41: Đỗ Thị Ngọc | E41: A | F41: A | G41: A | H41: A | I41: A | J41: A | K41: A | L41: A | M41: A | N41: A | O41: A | P41: A | Q41: A | R41: A | S41: A | T41: LĐTT | W41: T
A42: 35 | B42: 07 | C42: Võ Thị Lệ Trân | E42: A | F42: A | G42: A | H42: A | I42: A | J42: A | K42: A | L42: A | M42: A | N42: A | O42: A | P42: A | Q42: A | R42: A | S42: A | T42: LĐTT | V42: X | W42: XS
A43: 36 | B43: 08 | C43: Trần Thị Thảo Vân | E43: A | F43: A | G43: A | H43: A | I43: A | J43: A | K43: A | L43: A | M43: A | N43: A | O43: A | P43: A | Q43: A | R43: A | S43: A | T43: LĐTT | V43: X | W43: XS
A44: 37 | B44: 01 | C44: Hồ Văn Sĩ | D44: P.TS-ĐT | E44: A | F44: A | G44: A | H44: A | I44: A | J44: A | K44: A | L44: A | M44: A | N44: A | O44: A | P44: A | Q44: A | R44: A | S44: A | T44: LĐTT | V44: X | W44: XS
A45: 38 | B45: 02 | C45: Nguyễn Văn Tấn | E45: A | F45: A | G45: A | H45: A | I45: A | J45: A | K45: A | L45: A | M45: A | N45: A | O45: A | P45: A | Q45: A | R45: A | S45: A | T45: LĐTT | V45: X | W45: XS
A46: 39 | B46: 03 | C46: Nguyễn Thị Nhuận | E46: A | F46: A | G46: A | H46: A | I46: A | J46: A | K46: A | L46: A | M46: A | N46: A | O46: A | P46: A | Q46: A | R46: A | S46: A | T46: LĐTT | V46: X | W46: XS
A47: 40 | B47: 04 | C47: Huỳnh Thị Mai | E47: A | F47: A | G47: A | H47: A | I47: A | J47: A | K47: A | L47: A | M47: A | N47: A | O47: A | P47: A | Q47: A | R47: A | S47: A | T47: LĐTT | V47: X | W47: XS
A48: 41 | B48: 05 | C48: Võ Thị Xuân Thơ | E48: A | F48: A | G48: A | H48: A | I48: A | J48: A | K48: A | L48: A | M48: A | N48: A | O48: A | P48: A | Q48: A | R48: A | S48: A | T48: LĐTT | V48: X | W48: XS
A49: 42 | B49: 06 | C49: Nguyễn Thị Thanh Thảo | E49: A | F49: A | G49: A | H49: A | I49: A | J49: A | K49: A | L49: A | M49: A | N49: A | O49: A | P49: A | Q49: A | R49: A | S49: A | T49: LĐTT | V49: X | W49: XS
A50: 43 | B50: 07 | C50: Giáp Thị Vượng | E50: A | F50: A | G50: A | H50: A | I50: A | J50: A | K50: A | L50: A | M50: A | N50: A | O50: A | P50: A | Q50: A | R50: A | S50: A | T50: LĐTT | V50: X | W50: XS
A51: 44 | B51: 08 | C51: Vương Hội Khánh | E51: A | F51: A | G51: A | H51: A | I51: A | J51: A | K51: A | L51: A | M51: A | N51: A | O51: A | P51: A | Q51: A | R51: A | S51: A | T51: LĐTT | V51: X | W51: XS
A52: 45 | B52: 09 | C52: Nguyễn Thị Thùy | E52: A | F52: A | G52: A | H52: A | I52: A | J52: A | K52: A | L52: A | M52: A | N52: A | O52: A | P52: A | Q52: A | R52: A | S52: A | T52: LĐTT | V52: X | W52: XS
A53: 46 | B53: 10 | C53: Nguyễn Thị Hải Hà | E53: A | F53: A | G53: A | H53: A | I53: A | J53: A | K53: A | L53: A | M53: A | N53: A | O53: A | P53: A | Q53: A | R53: A | S53: A | T53: LĐTT | V53: X | W53: XS
A54: 47 | B54: 11 | C54: Thái Thị My Sa | E54: A | F54: A | G54: A | H54: A | I54: A | J54: A | K54: A | L54: A | M54: A | N54: A | O54: A | P54: A | Q54: A | R54: A | S54: A | T54: LĐTT | V54: X | W54: XS
A55: 48 | B55: 12 | C55: Mai Nguyễn Hoàng Yến | E55: A | F55: A | G55: A | H55: A | I55: A | J55: A | K55: A | L55: A | M55: A | N55: A | O55: A | P55: A | Q55: A | R55: A | S55: A | T55: LĐTT | W55: T
A56: 49 | B56: 13 | C56: Nguyễn Việt Tiến | E56: A | F56: A | G56: A | H56: A | I56: A | J56: A | K56: A | L56: A | M56: A | N56: A | O56: A | P56: A | Q56: A | R56: A | S56: A | T56: LĐTT | V56: X | W56: XS
A57: 50 | B57: 14 | C57: Sỹ Thị Chung | E57: A | F57: A | G57: A | H57: A | I57: A | J57: A | K57: A | L57: A | M57: A | N57: A | O57: A | P57: A | Q57: A | R57: A | S57: A | T57: LĐTT | V57: X | W57: XS
A58: 51 | B58: 15 | C58: Nguyễn Thị Tất | E58: A | F58: A | G58: A | H58: A | I58: A | J58: A | K58: A | L58: A | M58: A | N58: A | O58: A | P58: A | Q58: A | R58: A | S58: A | T58: LĐTT | V58: X | W58: XS
A59: 52 | B59: 16 | C59: Trần Quốc Định | E59: A | F59: A | G59: A | H59: A | I59: A | J59: A | K59: A | L59: A | M59: A | N59: A | O59: A | T59: LĐTT | V59: X | W59: XS | Y59: Nghỉ việc từ tháng 6/2020
A60: 53 | B60: 01 | C60: Lê Xuân Thiện | D60: P. TTGD-CTSV | E60: A | F60: A | G60: A | H60: A | I60: A | J60: A | K60: A | L60: A | M60: A | N60: A | O60: A | P60: A | Q60: A | R60: A | S60: A | T60: LĐTT | V60: X | W60: XS
A61: 54 | B61: 02 | C61: Nguyễn Ngọc Hiệp | E61: A | F61: A | G61: A | H61: A | I61: A | J61: A | K61: A | L61: A | M61: A | N61: A | O61: A | P61: A | Q61: A | R61: A | S61: A | T61: LĐTT | W61: T
A62: 55 | B62: 03 | C62: Hồ Minh Lợi | E62: A | F62: A | G62: A | H62: A | I62: A | J62: A | K62: A | L62: A | M62: A | N62: A | O62: A | P62: A | Q62: A | R62: A | S62: A | T62: LĐTT | W62: T
A63: 56 | B63: 04 | C63: Nguyễn Thị Kim Anh | E63: A | F63: A | G63: A | H63: A | I63: A | J63: A | K63: A | L63: A | M63: A | N63: A | O63: A | P63: A | Q63: A | R63: A | S63: A | T63: LĐTT | W63: T
A64: 57 | B64: 05 | C64: Nguyễn Thị Ngọc Anh | E64: A | F64: A | G64: A | H64: A | I64: A | J64: A | K64: A | L64: A | M64: A | N64: A | O64: A | P64: A | Q64: A | R64: A | S64: A | T64: LĐTT | V64: X | W64: XS
A65: 58 | B65: 06 | C65: Mai Thu Hương | E65: A | F65: A | G65: A | H65: A | I65: A | J65: A | K65: A | L65: A | M65: A | N65: A | O65: A | P65: A | Q65: A | R65: A | S65: A | T65: LĐTT | W65: T
A66: 59 | B66: 07 | C66: Nguyễn Tất Thắng | E66: A | F66: A | G66: A | H66: A | I66: A | J66: A | K66: A | L66: A | M66: A | N66: A | O66: A | P66: A | Q66: A | R66: A | S66: A | T66: LĐTT | U66: 1 | W66: T
A67: 60 | B67: 08 | C67: Lê Thị Nữ | E67: A | F67: A | G67: A | H67: A | I67: A | J67: A | K67: A | L67: A | M67: A | N67: A | O67: A | P67: A | Q67: A | R67: A | S67: A | T67: LĐTT | V67: X | W67: XS
A68: 61 | B68: 09 | C68: Phạm Thị Lê Chi | E68: A | F68: A | G68: A | H68: A | I68: A | J68: A | K68: A | L68: A | M68: A | N68: A | O68: A | P68: A | Q68: A | R68: A | S68: A | T68: LĐTT | W68: T
A69: 62 | B69: 10 | C69: Trần Thị Thu Hà | E69: A | F69: A | G69: A | H69: A | I69: A | J69: A | K69: A | L69: A | M69: A | N69: A | O69: A | P69: A | Q69: A | R69: A | S69: A | T69: LĐTT | V69: X | W69: XS
A70: 63 | B70: 11 | C70: Huỳnh Văn Hiếu | E70: A | F70: A | G70: A | H70: A | I70: A | J70: A | K70: A | L70: A | M70: A | N70: A | O70: A | P70: A | Q70: A | R70: A | S70: A | T70: LĐTT | V70: X | W70: XS
A71: 64 | B71: 12 | C71: Nguyễn Thị Nhung | E71: A | F71: A | G71: A | H71: A | I71: A | J71: A | K71: A | L71: A | M71: A | N71: A | O71: A | P71: A | Q71: A | R71: A | S71: A | T71: LĐTT | V71: X | W71: XS
A72: 65 | B72: 13 | C72: Lê Thị Hà Giang | E72: A | F72: A | G72: A | H72: A | I72: A | J72: A | K72: A | L72: A | M72: A | N72: A | O72: A | P72: A | Q72: A | R72: A | S72: A | T72: LĐTT | V72: X | W72: XS
A73: 66 | B73: 14 | C73: Trần Anh Mỹ | O73: A | P73: A | Q73: A | R73: Không đủ TG xét | S73: Không đủ TG xét | T73: Không đủ TG xét LĐTT | W73: T | Y73: Thử việc từ 01/6/2020
A74: 67 | B74: 01 | C74: Nguyễn Chí Nhân | D74: P.KT&ĐBCL | E74: A | F74: A | G74: A | H74: A | I74: A | J74: A | K74: A | L74: A | M74: A | N74: A | O74: A | P74: A | Q74: A | R74: A | S74: A | T74: LĐTT | W74: T
A75: 68 | B75: 02 | C75: Võ Thị Anh Đào | E75: A | F75: A | G75: A | H75: A | I75: A | J75: A | K75: A | L75: A | M75: A | N75: A | O75: A | P75: A | R75: A | S75: A | T75: LĐTT | W75: T | Y75: Nghỉ việc từ 01/8/2020
A76: 69 | B76: 03 | C76: Nguyễn Thanh Sơn | E76: A | F76: A | G76: A | H76: A | I76: A | J76: A | K76: A | L76: A | M76: A | N76: A | O76: A | P76: A | Q76: A | R76: A | S76: A | T76: LĐTT | W76: T
A77: 70 | B77: 04 | C77: Vũ Thị Thu Thủy | E77: A | F77: A | G77: A | H77: A | I77: A | J77: A | K77: A | L77: A | M77: A | N77: A | O77: A | P77: A | Q77: A | R77: A | S77: A | T77: LĐTT | W77: T
A78: 71 | B78: 05 | C78: Nguyễn Thị Tuyết | E78: A | F78: A | G78: A | H78: A | I78: A | J78: A | K78: A | L78: A | M78: A | N78: A | O78: A | P78: A | Q78: A | R78: A | S78: A | T78: LĐTT | W78: T
A79: 72 | B79: 06 | C79: Lương Minh Dũng | E79: A | F79: A | G79: A | H79: A | I79: A | J79: A | K79: A | L79: A | M79: A | N79: A | O79: A | P79: A | Q79: A | R79: A | S79: A | T79: LĐTT | V79: X | W79: XS
A80: 73 | B80: 07 | C80: Nguyễn Yến Nhi | E80: A | F80: A | G80: A | H80: A | I80: A | J80: A | K80: A | L80: A | M80: A | N80: A | O80: A | P80: A | Q80: A | R80: A | S80: A | T80: LĐTT | V80: X | W80: XS
A81: 74 | B81: 01 | C81: Nguyễn Ngọc Trang | D81: P.QLKH&HTQT | E81: A | F81: A | G81: A | H81: A | I81: A | J81: A | K81: A | L81: A | M81: A | N81: A | O81: A | P81: A | Q81: A | R81: A | S81: A | T81: LĐTT | V81: X | W81: XS
A82: 75 | B82: 02 | C82: Huỳnh Thị Cẩm Hoa | E82: A | F82: A | G82: A | H82: A | I82: A | J82: A | K82: A | L82: A | M82: A | N82: A | O82: A | P82: A | Q82: A | R82: A | S82: A | T82: LĐTT | W82: T
A83: 76 | B83: 03 | C83: Lê Tiến Dũng | E83: A | F83: A | G83: A | H83: A | I83: A | J83: A | K83: A | L83: A | M83: A | N83: A | O83: A | P83: A | Q83: A | R83: A | S83: A | T83: LĐTT | W83: T
A84: 77 | B84: 01 | C84: Lê Quang Liêm | D84: P.QT-DV | E84: A | F84: A | G84: A | H84: A | I84: A | J84: A | K84: A | L84: A | M84: A | N84: A | O84: A | P84: A | Q84: A | R84: A | S84: A | T84: LĐTT | V84: X | W84: XS
A85: 78 | B85: 02 | C85: Nguyễn Văn Thành | E85: A | F85: A | G85: A | H85: A | I85: A | J85: A | K85: A | L85: A | M85: A | N85: A | O85: A | P85: A | Q85: A | R85: A | S85: A | T85: LĐTT | V85: X | W85: XS
A86: 79 | B86: 03 | C86: Nguyễn Trọng Phú | E86: A | F86: A | G86: A | H86: A | I86: A | J86: A | K86: A | L86: A | M86: A | N86: A | O86: A | P86: A | Q86: A | R86: A | S86: A | T86: LĐTT | V86: X | W86: XS
A87: 80 | B87: 04 | C87: Giáp Văn Thịnh | E87: A | F87: A | G87: A | H87: A | I87: A | J87: A | K87: A | L87: A | M87: A | N87: A | O87: A | P87: A | Q87: A | R87: A | S87: A | T87: LĐTT | V87: X | W87: XS
A88: 81 | B88: 05 | C88: Vũ Ngọc Quang | E88: A | F88: A | G88: A | H88: A | I88: A | J88: A | K88: A | L88: A | M88: A | N88: A | O88: A | P88: A | Q88: A | R88: A | S88: A | T88: LĐTT | W88: T
A89: 82 | B89: 06 | C89: Đỗ Văn Trong | E89: A | F89: B | G89: B | H89: A | I89: A | J89: A | K89: A | L89: A | M89: A | N89: A | O89: A | P89: A | Q89: A | R89: A | S89: A | T89: LĐTT | W89: T
A90: 83 | B90: 07 | C90: Ninh Đỗ Hiệp | E90: A | F90: A | G90: A | H90: A | I90: A | J90: A | K90: A | L90: A | M90: A | N90: A | O90: A | P90: A | Q90: A | R90: A | S90: A | T90: LĐTT | V90: X | W90: XS
A91: 84 | B91: 08 | C91: Lê Hồng Anh Tuấn | E91: A | F91: A | G91: A | H91: A | I91: A | J91: A | K91: A | L91: A | M91: A | N91: A | O91: A | P91: A | Q91: A | R91: A | S91: A | T91: LĐTT | V91: X | W91: XS
A92: 85 | B92: 09 | C92: Nguyễn Cao Thắng | E92: A | F92: A | G92: A | H92: A | I92: A | J92: A | K92: A | L92: A | M92: A | N92: A | O92: A | P92: A | Q92: A | R92: A | S92: A | T92: LĐTT | V92: X | W92: XS
A93: 86 | B93: 10 | C93: Nguyễn Tiến Việt Dũng | E93: A | F93: A | G93: A | H93: A | I93: A | J93: A | K93: A | L93: A | M93: A | N93: A | O93: A | P93: A | Q93: A | R93: A | S93: A | T93: LĐTT | W93: T
A94: 87 | B94: 11 | C94: Võ Tấn Kiệt | E94: A | F94: A | G94: A | H94: A | I94: A | J94: A | K94: A | L94: A | M94: A | N94: A | O94: A | P94: A | Q94: A | R94: A | S94: A | T94: LĐTT | V94: X | W94: XS
A95: 88 | B95: 12 | C95: Giáp Đức Nhận | E95: A | F95: A | G95: A | H95: A | I95: A | J95: A | K95: A | L95: A | M95: A | N95: A | O95: A | P95: A | Q95: B | R95: A | S95: A | T95: LĐTT | U95: 1 | V95: X | W95: XS
A96: 89 | B96: 13 | C96: Phan Đức Long | E96: A | F96: A | G96: A | H96: A | I96: A | J96: A | K96: A | L96: A | M96: A | N96: A | O96: A | P96: A | Q96: A | R96: A | S96: A | T96: LĐTT | V96: X | W96: XS
A97: 90 | B97: 14 | C97: Hà Nhật Thanh | E97: A | F97: A | G97: A | H97: A | I97: A | J97: A | K97: A | L97: A | M97: A | N97: A | O97: A | P97: A | Q97: A | R97: A | S97: A | T97: LĐTT | W97: T
A98: 91 | B98: 15 | C98: Bùi Thị Dương | E98: A | F98: A | G98: A | H98: A | I98: A | J98: A | K98: A | L98: A | M98: A | N98: A | O98: A | P98: A | Q98: B | R98: A | S98: A | T98: LĐTT | W98: T
A99: 92 | B99: 16 | C99: Trần Văn Lý | E99: A | F99: A | G99: A | H99: A | I99: A | J99: A | K99: A | L99: A | M99: A | N99: A | O99: A | P99: A | Q99: B | R99: A | S99: A | T99: LĐTT | W99: T
A100: 93 | B100: 17 | C100: Trịnh Tuấn Vũ | E100: A | F100: A | G100: A | H100: A | I100: A | J100: A | K100: A | L100: A | M100: A | N100: A | O100: A | P100: A | Q100: A | R100: A | S100: A | T100: LĐTT | W100: T
A101: 94 | B101: 18 | C101: Nguyễn Trung Dũng | E101: A | F101: A | G101: A | H101: A | I101: A | J101: A | K101: A | L101: A | M101: A | N101: A | O101: A | P101: A | Q101: A | R101: A | S101: A | T101: LĐTT | V101: X | W101: XS
...

Sheet XET CUOI NAM
A1: TRƯỜNG CAO ĐẲNG LÝ TỰ TRỌNG THÀNH PHỐ HỒ CHÍ MINH ĐƠN VỊ: PHÒNG QUẢN TRỊ -DỊCH VỤ
A2: DANH SÁCH ĐÁNH GIÁ, XẾP LOẠI CHẤT LƯỢNG VIÊN CHỨC - NGƯỜI LAO ĐỘNG NĂM HỌC 2020 - 2021
A4: TT | C4: Họ và tên | E4: Đơn vị | F4: Tháng 7/2020 | H4: Tháng 8/2020 | J4: Tháng 9/2020 | L4: Tháng 10/2020 | N4: Tháng 11/2020 | P4: Tháng 12/2020 | R4: Tháng 01/2021 | T4: Tháng 02/2021 | V4: Tháng 03/2021 | X4: Tháng 04/2021 | Z4: Tháng 05/2021 | AB4: Điểm X (Điểm TB cả năm) | AC4: Mức đánh giá, xếp loại tối đa | AD4: Đơn vị thực hiện | AG4: Chi bộ đánh giá | AI4: Hội đồng đánh giá
D5: Mã số E-office | F5: Xếp loại | G5: Điểm | H5: Xếp loại | I5: Điểm | J5: Xếp loại | K5: Điểm | L5: Xếp loại | M5: Điểm | N5: Xếp loại | O5: Điểm | P5: Xếp loại | Q5: Điểm | R5: Xếp loại | S5: Điểm | T5: Xếp loại | U5: Điểm | V5: Xếp loại | W5: Điểm | X5: Xếp loại | Y5: Điểm | Z5: Xếp loại | AA5: Điểm | AD5: Cá nhân tự đánh giá | AE5: Kết quả đánh giá của đơn vị | AF5: Ý kiến đánh giá của đơn vị | AG5: Kết quả đánh giá của chi bộ | AH5: Ý kiến đánh giá của chi bộ | AI5: Kết quả đánh giá của Hội đồng | AJ5: Ý kiến đánh giá của Hội đồng
A6: 01 | B6: 01 | C6: Lê Quang Liêm | D6: 01008028 | E6: Phòng Quản trị - DV | F6: A | G6: 10 | H6: A | I6: 10 | J6: A | K6: 10 | L6: A | M6: 10 | N6: A | O6: 10 | P6: A | Q6: 10 | R6: A1 | S6: =VLOOKUP(R6,Sheet1!$B$2:$C$12,2,TRUE) -> 10 | T6: A1 | U6: =VLOOKUP(T6,Sheet1!$B$2:$C$12,2,TRUE) -> 10 | V6: =IFERROR(VLOOKUP($D6,'[1]Chi tiet'!$D$7:$L$389,8,0),0) -> A1 | W6: =VLOOKUP(V6,Sheet1!$B$2:$C$12,2,TRUE) -> 10 | X6: =IFERROR(VLOOKUP($D6,'[2]Gui chi Quynh'!D$7:K$393,7,0),0) -> A1 | Y6: =VLOOKUP(X6,Sheet1!$B$2:$C$12,2,TRUE) -> 10 | Z6: A1 | AA6: 10 | AB6: =AVERAGE(F6:AA6) -> 10 | AC6: Xuất sắc | AD6: Xuất sắc | AE6: Xuất sắc | AF6: Dám nghĩ, dám làm, tinh thần trách nhiệm cao. Luôn vì tập thể
A7: 02 | B7: 02 | C7: Nguyễn Văn Thành | D7: 01008002 | E7: Phòng Quản trị - DV | F7: A | G7: 10 | H7: A | I7: 10 | J7: A | K7: 10 | L7: A | M7: 10 | N7: A | O7: 10 | P7: A | Q7: 10 | R7: A2 | S7: =VLOOKUP(R7,Sheet1!$B$2:$C$12,2,TRUE) -> 9 | T7: A2 | U7: =VLOOKUP(T7,Sheet1!$B$2:$C$12,2,TRUE) -> 9 | V7: =IFERROR(VLOOKUP($D7,'[1]Chi tiet'!$D$7:$L$389,8,0),0) -> A2 | W7: =VLOOKUP(V7,Sheet1!$B$2:$C$12,2,TRUE) -> 9 | X7: =IFERROR(VLOOKUP($D7,'[2]Gui chi Quynh'!D$7:K$393,7,0),0) -> A2 | Y7: =VLOOKUP(X7,Sheet1!$B$2:$C$12,2,TRUE) -> 9 | Z7: A2 | AA7: 9 | AB7: =AVERAGE(F7:AA7) -> 9.5454545 | AC7: Xuất sắc | AD7: Xuất sắc | AE7: Xuất sắc | AF7: Dám nghĩ, dám làm, tinh thần trách nhiệm cao
A8: 03 | B8: 03 | C8: Trịnh Hoàng Hiệp | D8: 01025007 | E8: Phòng Quản trị - DV | F8: A | G8: 10 | H8: A | I8: 10 | J8: A | K8: 10 | L8: A | M8: 10 | N8: A | O8: 10 | P8: A | Q8: 10 | R8: A2 | S8: =VLOOKUP(R8,Sheet1!$B$2:$C$12,2,TRUE) -> 9 | T8: A2 | U8: =VLOOKUP(T8,Sheet1!$B$2:$C$12,2,TRUE) -> 9 | V8: =IFERROR(VLOOKUP($D8,'[1]Chi tiet'!$D$7:$L$389,8,0),0) -> A2 | W8: =VLOOKUP(V8,Sheet1!$B$2:$C$12,2,TRUE) -> 9 | X8: =IFERROR(VLOOKUP($D8,'[2]Gui chi Quynh'!D$7:K$393,7,0),0) -> A2 | Y8: =VLOOKUP(X8,Sheet1!$B$2:$C$12,2,TRUE) -> 9 | Z8: A2 | AA8: 9 | AB8: =AVERAGE(F8:AA8) -> 9.5454545 | AC8: Xuất sắc | AD8: Tốt | AE8: Tốt | AF8: Dám nghĩ, dám làm, tinh thần trách nhiệm cao
A9: 04 | B9: 04 | C9: Nguyễn Trọng Phú | D9: 01008004 | E9: Phòng Quản trị - DV | F9: A | G9: 10 | H9: A | I9: 10 | J9: A | K9: 10 | L9: A | M9: 10 | N9: A | O9: 10 | P9: A | Q9: 10 | R9: A2 | S9: =VLOOKUP(R9,Sheet1!$B$2:$C$12,2,TRUE) -> 9 | T9: A2 | U9: =VLOOKUP(T9,Sheet1!$B$2:$C$12,2,TRUE) -> 9 | V9: =IFERROR(VLOOKUP($D9,'[1]Chi tiet'!$D$7:$L$389,8,0),0) -> A2 | W9: =VLOOKUP(V9,Sheet1!$B$2:$C$12,2,TRUE) -> 9 | X9: =IFERROR(VLOOKUP($D9,'[2]Gui chi Quynh'!D$7:K$393,7,0),0) -> A2 | Y9: =VLOOKUP(X9,Sheet1!$B$2:$C$12,2,TRUE) -> 9 | Z9: A2 | AA9: 9 | AB9: =AVERAGE(F9:AA9) -> 9.5454545 | AC9: Xuất sắc | AD9: Xuất sắc | AE9: Xuất sắc | AF9: Có tinh thần trách nhiệm cao, nhiệt tình làm việc
A10: 05 | B10: 05 | C10: Giáp Văn Thịnh | D10: 01008008 | E10: Phòng Quản trị - DV | F10: A | G10: 10 | H10: A | I10: 10 | J10: A | K10: 10 | L10: A | M10: 10 | N10: A | O10: 10 | P10: A | Q10: 10 | R10: A3 | S10: =VLOOKUP(R10,Sheet1!$B$2:$C$12,2,TRUE) -> 8 | T10: A3 | U10: =VLOOKUP(T10,Sheet1!$B$2:$C$12,2,TRUE) -> 8 | V10: =IFERROR(VLOOKUP($D10,'[1]Chi tiet'!$D$7:$L$389,8,0),0) -> A2 | W10: =VLOOKUP(V10,Sheet1!$B$2:$C$12,2,TRUE) -> 9 | X10: =IFERROR(VLOOKUP($D10,'[2]Gui chi Quynh'!D$7:K$393,7,0),0) -> A2 | Y10: =VLOOKUP(X10,Sheet1!$B$2:$C$12,2,TRUE) -> 9 | Z10: A4 | AA10: 7 | AB10: =AVERAGE(F10:AA10) -> 9.1818182 | AC10: Xuất sắc | AD10: Tốt | AE10: Tốt | AF10: Hoàn thành tốt nhiệm vụ phân công
A11: 06 | B11: 06 | C11: Vũ Ngọc Quang | D11: 01008006 | E11: Phòng Quản trị - DV | F11: A | G11: 10 | H11: A | I11: 10 | J11: A | K11: 10 | L11: A | M11: 10 | N11: A | O11: 10 | P11: A | Q11: 10 | R11: A3 | S11: =VLOOKUP(R11,Sheet1!$B$2:$C$12,2,TRUE) -> 8 | T11: A3 | U11: =VLOOKUP(T11,Sheet1!$B$2:$C$12,2,TRUE) -> 8 | V11: =IFERROR(VLOOKUP($D11,'[1]Chi tiet'!$D$7:$L$389,8,0),0) -> A4 | W11: =VLOOKUP(V11,Sheet1!$B$2:$C$12,2,TRUE) -> 7 | X11: =IFERROR(VLOOKUP($D11,'[2]Gui chi Quynh'!D$7:K$393,7,0),0) -> A3 | Y11: =VLOOKUP(X11,Sheet1!$B$2:$C$12,2,TRUE) -> 8 | Z11: A3 | AA11: 8 | AB11: =AVERAGE(F11:AA11) -> 9 | AC11: Xuất sắc | AD11: Xuất sắc | AE11: Xuất sắc | AF11: Có tinh thần trách nhiệm cao, nhiệt tình làm việc
A12: 07 | B12: 07 | C12: Bùi Đặng Hoàng Tuấn | D12: 01015028 | E12: Phòng Quản trị - DV | F12: A | G12: 10 | H12: A | I12: 10 | J12: A | K12: 10 | L12: A | M12: 10 | N12: A | O12: 10 | P12: A | Q12: 10 | R12: A3 | S12: =VLOOKUP(R12,Sheet1!$B$2:$C$12,2,TRUE) -> 8 | T12: A4 | U12: =VLOOKUP(T12,Sheet1!$B$2:$C$12,2,TRUE) -> 7 | V12: =IFERROR(VLOOKUP($D12,'[1]Chi tiet'!$D$7:$L$389,8,0),0) -> A4 | W12: =VLOOKUP(V12,Sheet1!$B$2:$C$12,2,TRUE) -> 7 | X12: =IFERROR(VLOOKUP($D12,'[2]Gui chi Quynh'!D$7:K$393,7,0),0) -> A3 | Y12: =VLOOKUP(X12,Sheet1!$B$2:$C$12,2,TRUE) -> 8 | Z12: A3 | AA12: 8 | AB12: =AVERAGE(F12:AA12) -> 8.9090909 | AC12: Xuất sắc | AD12: Xuất sắc | AE12: Xuất sắc | AF12: Có tinh thần trách nhiệm cao, nhiệt tình làm việc
A13: 08 | B13: 09 | C13: Phan Đức Long | D13: 01009007 | E13: Phòng Quản trị - DV | F13: A | G13: 10 | H13: A | I13: 10 | J13: A | K13: 10 | L13: A | M13: 10 | N13: A | O13: 10 | P13: A | Q13: 10 | R13: A2 | S13: =VLOOKUP(R13,Sheet1!$B$2:$C$12,2,TRUE) -> 9 | T13: A2 | U13: =VLOOKUP(T13,Sheet1!$B$2:$C$12,2,TRUE) -> 9 | V13: =IFERROR(VLOOKUP($D13,'[1]Chi tiet'!$D$7:$L$389,8,0),0) -> A2 | W13: =VLOOKUP(V13,Sheet1!$B$2:$C$12,2,TRUE) -> 9 | X13: =IFERROR(VLOOKUP($D13,'[2]Gui chi Quynh'!D$7:K$393,7,0),0) -> A2 | Y13: =VLOOKUP(X13,Sheet1!$B$2:$C$12,2,TRUE) -> 9 | Z13: A2 | AA13: 9 | AB13: =AVERAGE(F13:AA13) -> 9.5454545 | AC13: Xuất sắc | AD13: Xuất sắc | AE13: Xuất sắc | AF13: Có tinh thần trách nhiệm cao, nhiệt tình làm việc
A14: 09 | B14: 10 | C14: Ninh Đỗ Hiệp | D14: 01017009 | E14: Phòng Quản trị - DV | F14: A | G14: 10 | H14: A | I14: 10 | J14: A | K14: 10 | L14: A | M14: 10 | N14: A | O14: 10 | P14: A | Q14: 10 | R14: A3 | S14: =VLOOKUP(R14,Sheet1!$B$2:$C$12,2,TRUE) -> 8 | T14: A2 | U14: =VLOOKUP(T14,Sheet1!$B$2:$C$12,2,TRUE) -> 9 | V14: =IFERROR(VLOOKUP($D14,'[1]Chi tiet'!$D$7:$L$389,8,0),0) -> A3 | W14: =VLOOKUP(V14,Sheet1!$B$2:$C$12,2,TRUE) -> 8 | X14: =IFERROR(VLOOKUP($D14,'[2]Gui chi Quynh'!D$7:K$393,7,0),0) -> A2 | Y14: =VLOOKUP(X14,Sheet1!$B$2:$C$12,2,TRUE) -> 9 | Z14: A2 | AA14: 9 | AB14: =AVERAGE(F14:AA14) -> 9.3636364 | AC14: Xuất sắc | AD14: Xuất sắc | AE14: Xuất sắc | AF14: Có tinh thần trách nhiệm cao, nhiệt tình làm việc
A15: 10 | B15: 11 | C15: Lê Hồng Anh Tuấn | D15: 01008005 | E15: Phòng Quản trị - DV | F15: A | G15: 10 | H15: A | I15: 10 | J15: A | K15: 10 | L15: A | M15: 10 | N15: A | O15: 10 | P15: A | Q15: 10 | R15: A3 | S15: =VLOOKUP(R15,Sheet1!$B$2:$C$12,2,TRUE) -> 8 | T15: A3 | U15: =VLOOKUP(T15,Sheet1!$B$2:$C$12,2,TRUE) -> 8 | V15: =IFERROR(VLOOKUP($D15,'[1]Chi tiet'!$D$7:$L$389,8,0),0) -> A2 | W15: =VLOOKUP(V15,Sheet1!$B$2:$C$12,2,TRUE) -> 9 | X15: =IFERROR(VLOOKUP($D15,'[2]Gui chi Quynh'!D$7:K$393,7,0),0) -> A2 | Y15: =VLOOKUP(X15,Sheet1!$B$2:$C$12,2,TRUE) -> 9 | Z15: A2 | AA15: 9 | AB15: =AVERAGE(F15:AA15) -> 9.3636364 | AC15: Xuất sắc | AD15: Xuất sắc | AE15: Xuất sắc | AF15: Có tinh thần trách nhiệm cao, nhiệt tình làm việc
A16: 11 | B16: 12 | C16: Nguyễn Cao Thắng | D16: 01002021 | E16: Phòng Quản trị - DV | F16: A | G16: 10 | H16: A | I16: 10 | J16: A | K16: 10 | L16: A | M16: 10 | N16: A | O16: 10 | P16: A | Q16: 10 | R16: A2 | S16: =VLOOKUP(R16,Sheet1!$B$2:$C$12,2,TRUE) -> 9 | T16: A2 | U16: =VLOOKUP(T16,Sheet1!$B$2:$C$12,2,TRUE) -> 9 | V16: =IFERROR(VLOOKUP($D16,'[1]Chi tiet'!$D$7:$L$389,8,0),0) -> A2 | W16: =VLOOKUP(V16,Sheet1!$B$2:$C$12,2,TRUE) -> 9 | X16: =IFERROR(VLOOKUP($D16,'[2]Gui chi Quynh'!D$7:K$393,7,0),0) -> A2 | Y16: =VLOOKUP(X16,Sheet1!$B$2:$C$12,2,TRUE) -> 9 | Z16: A2 | AA16: 9 | AB16: =AVERAGE(F16:AA16) -> 9.5454545 | AC16: Xuất sắc | AD16: Xuất sắc | AE16: Xuất sắc | AF16: Có tinh thần trách nhiệm cao, nhiệt tình làm việc
A17: 12 | B17: 13 | C17: Nguyễn Tiến Việt Dũng | D17: 01015026 | E17: Phòng Quản trị - DV | F17: A | G17: 10 | H17: A | I17: 10 | J17: A | K17: 10 | L17: A | M17: 10 | N17: A | O17: 10 | P17: A | Q17: 10 | R17: A3 | S17: =VLOOKUP(R17,Sheet1!$B$2:$C$12,2,TRUE) -> 8 | T17: A4 | U17: =VLOOKUP(T17,Sheet1!$B$2:$C$12,2,TRUE) -> 7 | V17: =IFERROR(VLOOKUP($D17,'[1]Chi tiet'!$D$7:$L$389,8,0),0) -> A4 | W17: =VLOOKUP(V17,Sheet1!$B$2:$C$12,2,TRUE) -> 7 | X17: =IFERROR(VLOOKUP($D17,'[2]Gui chi Quynh'!D$7:K$393,7,0),0) -> A4 | Y17: =VLOOKUP(X17,Sheet1!$B$2:$C$12,2,TRUE) -> 7 | Z17: A3 | AA17: 8 | AB17: =AVERAGE(F17:AA17) -> 8.8181818 | AC17: Xuất sắc | AD17: Tốt | AE17: Tốt | AF17: Hoàn thành tốt nhiệm vụ phân công
... A36: 31 | B36: 32 | C36: Trần Kim Tươi | D36: 01008039 | E36: Phòng Quản trị - DV | F36: A | G36: 10 | H36: A | I36: 10 | J36: A | K36: 10 | L36: A | M36: 10 | N36: A | O36: 10 | P36: A | Q36: 10 | R36: A4 | S36: =VLOOKUP(R36,Sheet1!$B$2:$C$12,2,TRUE) -> 7 | T36: A4 | U36: =VLOOKUP(T36,Sheet1!$B$2:$C$12,2,TRUE) -> 7 | V36: =IFERROR(VLOOKUP($D36,'[1]Chi tiet'!$D$7:$L$389,8,0),0) -> A4 | W36: =VLOOKUP(V36,Sheet1!$B$2:$C$12,2,TRUE) -> 7 | X36: =IFERROR(VLOOKUP($D36,'[2]Gui chi Quynh'!D$7:K$393,7,0),0) -> A4 | Y36: =VLOOKUP(X36,Sheet1!$B$2:$C$12,2,TRUE) -> 7 | Z36: A4 | AA36: 7 | AB36: =AVERAGE(F36:AA36) -> 8.6363636 | AC36: Xuất sắc | AD36: Tốt | AE36: Tốt | AF36: Hoàn thành tốt nhiệm vụ phân công
A37: 32 | B37: 33 | C37: Trương Thị Định | D37: 01008041 | E37: Phòng Quản trị - DV | N37: A | O37: 10 | P37: A | Q37: 10 | R37: A4 | S37: =VLOOKUP(R37,Sheet1!$B$2:$C$12,2,TRUE) -> 7 | T37: A4 | U37: =VLOOKUP(T37,Sheet1!$B$2:$C$12,2,TRUE) -> 7 | V37: =IFERROR(VLOOKUP($D37,'[1]Chi tiet'!$D$7:$L$389,8,0),0) -> A4 | W37: =VLOOKUP(V37,Sheet1!$B$2:$C$12,2,TRUE) -> 7 | X37: =IFERROR(VLOOKUP($D37,'[2]Gui chi Quynh'!D$7:K$393,7,0),0) -> A4 | Y37: =VLOOKUP(X37,Sheet1!$B$2:$C$12,2,TRUE) -> 7 | Z37: A4 | AA37: 7 | AB37: =AVERAGE(F37:AA37) -> 7.8571429 | AC37: Xuất sắc | AD37: Tốt | AE37: Tốt | AF37: Hoàn thành tốt nhiệm vụ phân công
A38: 33 | B38: 34 | C38: Trương Thị Bắc | D38: 01008040 | E38: Phòng Quản trị - DV | N38: A | O38: 10 | P38: A | Q38: 10 | R38: A4 | S38: =VLOOKUP(R38,Sheet1!$B$2:$C$12,2,TRUE) -> 7 | T38: A4 | U38: =VLOOKUP(T38,Sheet1!$B$2:$C$12,2,TRUE) -> 7 | V38: =IFERROR(VLOOKUP($D38,'[1]Chi tiet'!$D$7:$L$389,8,0),0) -> A4 | W38: =VLOOKUP(V38,Sheet1!$B$2:$C$12,2,TRUE) -> 7 | X38: =IFERROR(VLOOKUP($D38,'[2]Gui chi Quynh'!D$7:K$393,7,0),0) -> A4 | Y38: =VLOOKUP(X38,Sheet1!$B$2:$C$12,2,TRUE) -> 7 | Z38: A4 | AA38: 7 | AB38: =AVERAGE(F38:AA38) -> 7.8571429 | AC38: Xuất sắc | AD38: Tốt | AE38: Tốt | AF38: Hoàn thành tốt nhiệm vụ phân công
C39: Không thưc hiện đánh giá, xếp loại do thời gian công tác dưới 06 tháng
A40: 34 | C40: Trần Thị Kim Loan | E40: Phòng Quản trị - DV | AF40: Nghỉ hết tuổi LĐ từ ngày 01/11/2020
A41: 35 | C41: Trương Phú Cường | D41: 01008043 | E41: Phòng Quản trị - DV | AF41: Hợp đồng từ tháng 3/2021
A42: 36 | C42: Võ Tấn Đức | D42: 01008042 | E42: Phòng Quản trị - DV | AF42: Hợp đồng từ tháng 3/2021
A43: 37 | C43: Ngô Ngọc Của | D43: 01008044 | E43: Phòng Quản trị - DV | AF43: Hợp đồng từ tháng 3/2021
C44: Lưu ý: Quý Thầy Cô ẩn cột AC "Mức đánh giá, xếp loại tối đa" trước khi in và ký tên gửi về Phòng Tổ chức | T44: TPHCM, ngày tháng 5 năm 2021 TRƯỞNG ĐƠN VỊ

Sheet Sheet1
B2: A1 | C2: 10
B3: A2 | C3: 9
B4: A3 | C4: 8
B5: A4 | C5: 7
B6: A DN | C6: 7
B7: B1 | C7: 6
B8: B2 | C8: 5
B9: C1 | C9: 4
B10: C2 | C10: 3
B11: D | C11: 1
B12: E | C12: 0
