Workbook

Sheet TH HK1
A1: TRƯỜNG CĐ LÝ TỰ TRỌNG TP.HCM
A2: PHÒNG TỔ CHỨC-HÀNH CHÍNH-TH
A4: TỔNG HỢP THI ĐUA HKI NĂM HỌC 2018 - 2019
A6: TT | B6: Đơn vị | C6: Tập thể đơn vị đề nghị | G6: Ghi nhận từ Tổ Thanh tra - Pháp chế và phòng TC-HC-TH | H6: Đề xuất của đơn vị | I6: Ý kiến của nhóm thường trực
C7: Tổng số nhân sự | D7: VC | E7: Hợp đồng | F7: Lý do
A8: 1 | B8: Ban Giám hiệu | C8: 4 | D8: 4
C9: 4A | D9: 4A
A10: 2 | B10: Phòng Tổ chức -HC-TH | C10: 27 | D10: 16 | E10: 11
C11: 22A | D11: 9A | E11: 13A
C12: 1 A DN | D12: 1A DN | F12: Bà Trần Thị Ánh Phượng nghỉ hộ sản từ 08/6/2018 đến 07/12/2018: Thưởng thi đua 2 tháng
C13: 2 KXL | E13: 2 KXL | F13: - Ô Huỳnh Bá Thành - B Nguyễn Thị Vân: Hđồng thử việc từ 10/11/2017 2 cá nhân công tác chưa đủ 4 tháng trong HK1
A14: 3 | B14: Phòng Kế hoạch - TC | C14: 10 | D14: 7 | E14: 3 | J14: Chưa thấy bảng xét thi đua học kỳ
C15: 10A | D15: 7A | E15: 3A | F15: B Nguyễn Thị Minh Thùy: Thưởng thi đua 4 tháng (HĐồng thử việc từ 02/10/2017)
A16: 4 | B16: Phòng Tuyển sinh - ĐT | C16: 18 | D16: 12 | E16: 6
C17: 17A | D17: 12A | E17: 5A
C18: 1 AD N | E18: 1AD N | F18: B Phạm Huỳnh Kim Ngân, nghỉ HS từ ngày 25/9/2017-25/3/2018. Thưởng thi đua 1 tháng
A19: 5 | B19: Phòng Thiết bị - VT | C19: 5 | D19: 5 | J19: Chưa thấy bảng xét thi đua học kỳ
C20: 5A | D20: 5A | F20: B Trần Thị Phương Oanh: Nghỉ ốm hưởng BHXH từ 8/11/2017 đến 8/12/2017. Thưởng thi đua 4 tháng
A21: 6 | B21: Phòng CTCT - HSSV | C21: 20 | D21: 13 | E21: 7
C22: 19A | D22: 13A | E22: 6A
C23: 1 AD N | E23: 1AD N | F23: Cô Lê T Hà Giang nghỉ HS từ 20/11/2017-20/5/2018. Thưởng thi đua 3 tháng
A24: 7 | B24: Phòng Khảo thí và ĐB CL | C24: 8 | D24: 7 | E24: 1
C25: 8A | D25: 7A | E25: 1A
A26: 8 | B26: Phòng QLKH và HTQT | C26: 4 | D26: 2 | E26: 2
C27: 4A | D27: 2A | E27: 2A
A28: 9 | B28: Phòng Quản trị - DV | C28: 32 | D28: 13 | E28: 19
C29: 31A | D29: 13A | E29: 18A
C30: 1KXL | E30: 1KXL | F30: Bà Nguyễn Thị Vãng Nghỉ ốm hưởng BHXH. Không xét thi đua học kỳ 1
A31: 10 | B31: Khoa KHCB | C31: 32 | D31: 32 | G31: Tổ TT-PC: Tiết 3-4 ngày 18/01, giờ dạy của GV Nguyễn Mạnh Phương, 8g40->9g05 có SV nhưng không có GV. P.KT&ĐBCL: Ngày 29/12/2017, GV Ng Thị Cẩm Thạch, vắng coi thi, báo ốm lúc 7g30. | I31: Nhất trí xếp loại B theo đề nghị của đơn vị đối với GV Nguyễn Mạnh Phương và GV Nguyễn Thị Cẩm Thạch, loại D đối với GV Nguyễn Thị Thu Hà. Riêng trường hợp Nguyễn Phú Tân đề nghị Thường trực HĐTĐ xem xét. | J31: Chưa thấy bảng xét thi đua học kỳ
C32: 30A | D32: 30A
C33: 2D | D33: 2D | F33: - GV Ng Thị Thu Hà, không thực hiện đúng cam kết với Nhà trường, thiếu CC ngoại ngữ. Học kỳ có 2A+1B+1C+1D - GV Nguyễn Phú Tân, chưa hoàn thành khóa học (2013-2015). Học kỳ có 2A+1B+1C+1D | H33: GV Phú Tân nộp giấy xác nhận (đã học 02 học phần, 03 học phần đang đăng ký học tiếp), đề nghị HĐ xem xét.
A34: 11 | B34: Khoa Lý luận Chính trị | C34: 16 | D34: 16 | H34: Có 07 ý kiến đề nghị trong Biên bản họp khoa. | I34: Khoa Lý luận chính trị xem lại cách truyền thông công việc của khoa giữa trưởng khoa - tổ trưởng - giảng viên, có qui trình làm việc cụ thể tránh việc nhầm lẫn về TKB.
C35: 16A | D35: 16A | F35: Cô Lê Thị Mai Hường nghỉ HS từ 30/12/2017-30/6/2018. Thưởng thi đua 4 tháng
A36: 12 | B36: Khoa CN Cơ khí | C36: 24 | D36: 24 | G36: ` | H36: Có 04 ý kiến đề nghị trong Biên bản họp khoa. | I36: P.KT&ĐBCL có Tờ trình đề xuất về 02 trường hợp GV Trần Đình Khải và GV Trần Thị Hương. Nhóm TT: đề nghị xếp loại A.
C37: 24A | D37: 24A
A38: 13 | B38: Khoa CNTT | C38: 26 | D38: 26 | G38: P.KT&ĐBCL: GV Nguyễn Duy Đạt, ra đề thi môn lý thuyết Đồ thị câu 5 cho thiếu và sai dữ liệu. GV ra đề đã giải thích, thí sinh vẫn thi bình thường. | H38: Ý kiến của lãnh đạo khoa: GV Đạt mới vi phạm lần đầu về biên soạn đề thi, đã có mặt trực tiếp giải thích, đề nghị HĐ xem xét không hạ thi đua B. | I38: Đề nghị xếp B, đúng lỗi vi phạm.
C39: 26A | D39: 26A
A40: 14 | B40: Khoa CN Động lực | C40: 17 | D40: 17 | G40: P.KT&ĐBCL: Ngày 03/01, GV Trần Minh Tuấn, coi thi trễ 10 phút do nhầm lịch. - Ngày 10/01, GV Hồ Văn Hóa coi thi trễ do nhầm lịch | H40: Có 04 ý kiến đề nghị trong Biên bản họp khoa. | I40: P.KT&ĐBCL có Tờ trình đề xuất về 02 trường hợp GV Trần Minh Tuấn và GV Hồ Văn Hóa. Nhóm TT đề nghị xếp loại A, nhắc nhở đơn vị xếp loại thi đua đúng qui định | J40: Chưa thấy bảng xét thi đua học kỳ
C41: 17A | D41: 17A
A42: 15 | B42: Khoa CN Điện - Điện tử | C42: 30 | D42: 30 | I42: Đề nghị xếp loại B đ/v GV Ng Thùy Dương; nhắc nhở GV Nguyễn Vũ Thanh Nhàn, thực hiện qui định về giờ giấc học và giờ ra chơi của SV. Trường hợp GV Mạnh Lê Hoàn, đề nghị HĐTĐ xem xét vì có 04 GV cùng vắng mặt trong buổi họp này.
...

Sheet HOCKY-NAMHOC
A1: UBND THÀNH PHỐ HỒ CHÍ MINH
A2: TRƯỜNG CAO ĐẲNG
A3: LÝ TỰ TRỌNG TP.HỒ CHÍ MINH
A4: TỔNG HỢP THI ĐUA HỌC KỲ II NĂM HỌC 2018 - 2019
C5: Biên chế | D5: HĐ trường
A6: TT | C6: Họ và tên | D6: Đơn vị | E6: Tháng 9 | F6: Tháng 10 | G6: Tháng 11 | H6: Tháng 12 | I6: Tháng 01 | J6: HK1 | K6: Tháng 02 | L6: Tháng 3 | M6: Tháng 4 | N6: Tháng 5 | O6: Tháng 6 | P6: HK2 | Q6: Cả năm | R6: Danh hiệu | S6: Tháng 7 | T6: Tháng 8 | U6: Ghi chú HKI | V6: Ghi chú HKII
A7: 1 | C7: 2 | D7: 3 | E7: 4 | F7: 5 | G7: 6 | H7: 7 | I7: 8 | J7: 9
A8: 01 | B8: 01 | C8: Phạm Hữu Lộc | D8: BGH | E8: A | F8: A | G8: A | H8: A | I8: A | J8: A | K8: A | L8: A | M8: A
A9: 02 | B9: 02 | C9: Đinh Văn Đệ | E9: A | F9: A | G9: A | H9: A | I9: A | J9: A | K9: A | L9: A | M9: A
A10: 03 | B10: 03 | C10: Đinh Hồng Minh | E10: A | F10: A | G10: A | H10: A | I10: A | J10: A | K10: A | L10: A | M10: A
A11: 04 | B11: 04 | C11: Châu Văn Bảo | E11: A | F11: A | G11: A | H11: A | I11: A | J11: A | K11: A | L11: A | M11: A
C12: Nguyễn Văn Dũng | E12: A | F12: A | G12: A | H12: A | I12: A | J12: A
A13: 05 | B13: 01 | C13: Lâm Viết Dũng | D13: P.TC-HC-TH | E13: A | F13: A | G13: A | H13: A | I13: A | J13: A | K13: A | L13: A | M13: A
A14: 06 | B14: 02 | C14: Nguyễn Thị Hoa | E14: A | F14: A | G14: A | H14: A | I14: A | J14: A | K14: A | L14: A | M14: A
A15: 07 | B15: 03 | C15: Nguyễn Thành Nam | E15: A | F15: A | G15: A | H15: A | I15: A | J15: A | K15: A | L15: A | M15: A
A16: 08 | B16: 04 | C16: Lê Hùng Thanh | E16: A | F16: A | G16: A | H16: A | I16: A | J16: A | K16: A | L16: A | M16: A
A17: 09 | B17: 05 | C17: Vũ Như Quỳnh | E17: A | F17: A | G17: A | H17: A | I17: A | J17: A | K17: A | L17: A | M17: A
A18: 10 | B18: 06 | C18: Phan T Ngọc Phượng | E18: A | F18: A | G18: A | H18: A | I18: A | J18: A | K18: A | L18: A | M18: A
A19: 11 | B19: 07 | C19: Nguyễn Thị Bích Liễu | E19: A | F19: A | G19: A | H19: A | I19: A | J19: A | K19: A DN | L19: A DN | M19: A DN | V19: Nghỉ HS từ 03/2/2019-2/8/2019:
A20: 12 | B20: 08 | C20: Nguyễn Văn Chì | E20: A | F20: A | G20: A | H20: A | I20: A | J20: A | K20: A | L20: A | M20: A
A21: 13 | B21: 09 | C21: Trần Thị Ánh Phượng | E21: A DN | F21: A DN | G21: A DN | H21: A | I21: A | J21: A (2 tháng) | K21: A | L21: A | M21: A | U21: Nghỉ HS từ 8/6/2018-8/12/2018: Thưởng thi đua 2 tháng
A22: 14 | B22: 10 | C22: Trần Văn Cu Anh | E22: A | F22: A | G22: A | H22: A | I22: A | J22: A | K22: A | L22: A | M22: A
A23: 15 | B23: 11 | C23: Lưu Hoàng Hải Yến | E23: A | F23: A | G23: A | H23: A | I23: A | J23: A | K23: A | L23: A | M23: A
A24: 16 | B24: 12 | C24: Huỳnh Thị Minh Ly | E24: A | F24: A | G24: A | H24: A | I24: A | J24: A | K24: A | L24: A | M24: A
A25: 17 | B25: 13 | C25: Nguyễn Thị Vân | E25: A | F25: A | G25: A | H25: A | I25: A | J25: A | K25: A | L25: A | M25: A DN
A26: 18 | B26: 14 | C26: Huỳnh Thị Xuân Mai | E26: A | F26: A | G26: A | H26: A | I26: A | J26: A | K26: A | L26: A | M26: A
A27: 19 | B27: 15 | C27: Thân Thị Nhung | E27: A | F27: A | G27: A | H27: A | I27: A | J27: A | K27: A | L27: A | M27: A
A28: 20 | B28: 16 | C28: Trần Thị Phương Oanh | E28: A | F28: A | G28: A | H28: A | I28: A | J28: A | K28: A | L28: A | M28: A
A29: 21 | B29: 17 | C29: Phạm Hữu Tấn | E29: A | F29: A | G29: A | H29: A | I29: A | J29: A | K29: A | L29: A | M29: A
A30: 22 | B30: 18 | C30: Nguyễn Hữu Xuân Vũ | E30: A | F30: A | G30: A | H30: A | I30: A | J30: A | K30: A | L30: A | M30: A
A31: 23 | B31: 19 | C31: Lê Hồng Phúc | E31: A | F31: A | G31: A | H31: A | I31: A | J31: A | K31: A | L31: A | M31: A
A32: 24 | B32: 20 | C32: Nguyễn Tiến Hưng | E32: A | F32: A | G32: A | H32: A | I32: A | J32: A | K32: A | L32: A | M32: A
A33: 25 | B33: 21 | C33: Đồng Anh Tuấn | E33: A | F33: A | G33: A | H33: B | I33: A | J33: A | K33: A | L33: A | M33: A
... A37: 29 | B37: 25 | C37: Nguyễn Thanh Hiền | E37: A | F37: A | G37: B | H37: A | I37: A | J37: A | K37: A | L37: A | M37: A
A38: 30 | B38: 26 | C38: Trần Thanh Phương | F38: A | G38: A | H38: A | I38: A | J38: A | K38: A | L38: A | M38: A | U38: Thử việc từ 18/10/2018 | V38: Thử việc từ 18/10/2018
C39: Huỳnh Bá Thành | E39: A | F39: A | U39: Nghỉ hết tuổi lao động T11/2018 -> Làm tờ trình thưởng thi đua HK | V39: Nghỉ hết tuổi lao động T11/2018 -> Làm tờ trình thưởng thi đua HK
A40: 31 | B40: 01 | C40: Nguyễn Kính | D40: P. KH -TC | E40: A | F40: A | G40: A | H40: A | I40: A | J40: A | K40: A | L40: A | M40: A
A41: 32 | B41: 02 | C41: Nguyễn Thị Kim Dung | E41: A | F41: A | G41: A | H41: A | I41: A | J41: A | K41: A | L41: A | M41: A
A42: 33 | B42: 03 | C42: Hồng Mộng Tuyết Dung | E42: A | F42: A | G42: A | H42: A | I42: A | J42: A | K42: A | L42: A | M42: A
A43: 34 | B43: 04 | C43: Đỗ Thị Ngọc | E43: A | F43: A | G43: A | H43: A | I43: A | J43: A | K43: A | L43: A | M43: A
...

Sheet In minh chung
A1: UBND THÀNH PHỐ HỒ CHÍ MINH | O1: CỘNG HÒA XÃ HỘI CHỦ NGHĨA VIỆT NAM
A2: TRƯỜNG CAO ĐẲNG LÝ TỰ TRỌNG | O2: Độc lập - Tự do - Hạnh phúc
A3: THÀNH PHỐ HỒ CHÍ MINH
A4: TỔNG HỢP THI ĐUA NĂM HỌC 2019 - 2020
A6: TT | C6: Họ và tên | D6: Đơn vị | E6: Tháng 9/2019 | F6: Tháng 10/2019 | G6: Tháng 11/2019 | H6: Tháng 12/2019 | I6: Tháng 01/2020 | J6: HK1 | K6: Tháng 02/2020 | L6: Tháng 3/2020 | M6: Tháng 4/2020 | N6: Tháng 5/2020 | O6: Tháng 6/2020 | P6: Tháng 7/2020 | Q6: Tháng 8/2020 | R6: HK2 | S6: Cả năm | T6: Danh hiệu | U6: Thống kê số buổi vắng (học CT, hội, họp) | V6: Có bài viết SK | W6: Dư kiến đánh giá xếp loại cuối năm | X6: Ghi chú HKI | Y6: Ghi chú
A7: 1 | C7: 2 | D7: 3 | E7: 4 | F7: 5 | G7: 6 | H7: 7 | I7: 8 | J7: 9
A8: 01 | B8: 01 | C8: Phạm Hữu Lộc | D8: BGH | E8: A | F8: A | G8: A | H8: A | I8: A | J8: A | K8: A | L8: A | M8: A | N8: A | O8: A | P8: A | Q8: A | R8: A | S8: A | T8: LĐTT | V8: X | W8: XS
A9: 02 | B9: 02 | C9: Đinh Văn Đệ | E9: A | F9: A | G9: A | H9: A | I9: A | J9: A | K9: A | L9: A | M9: A | N9: A | O9: A | P9: A | Q9: A | R9: A | S9: A | T9: LĐTT | V9: X | W9: XS
A10: 03 | B10: 03 | C10: Đinh Hồng Minh | E10: A | F10: A | G10: A | H10: A | I10: A | J10: A | K10: A | L10: A | M10: A | N10: A | O10: A | P10: A | Q10: A | R10: A | S10: A | T10: LĐTT | V10: X | W10: XS
A11: 04 | B11: 04 | C11: Châu Văn Bảo | E11: A | F11: A | G11: A | H11: A | I11: A | J11: A | K11: A | L11: A | M11: A | N11: A | O11: A | P11: A | Q11: A | R11: A | S11: A | T11: LĐTT | V11: X | W11: XS
A12: 05 | B12: 01 | C12: Lâm Viết Dũng | D12: P.TC-HC-TH | E12: A | F12: A | G12: A | H12: A | I12: A | J12: A | K12: A | L12: A | M12: A | N12: A | O12: A | P12: A | Q12: A | R12: A | S12: A | T12: LĐTT | V12: X | W12: XS
A13: 06 | B13: 02 | C13: Nguyễn Thị Hoa | E13: A | F13: A | G13: A | H13: A | I13: A | J13: A | K13: A | L13: A | M13: A | N13: A | O13: A | P13: A | Q13: A | R13: A | S13: A | T13: LĐTT | V13: X | W13: XS
A14: 07 | B14: 04 | C14: Vũ Như Quỳnh | E14: A | F14: A | G14: A | H14: A | I14: A | J14: A | K14: A | L14: A | M14: A | N14: A | O14: A | P14: A | Q14: A | R14: A | S14: A | T14: LĐTT | V14: X | W14: XS
A15: 08 | B15: 05 | C15: Phan T Ngọc Phượng | E15: A | F15: A | G15: A | H15: A | I15: A | J15: A | K15: A | L15: A | M15: A | N15: A | O15: A | P15: A | Q15: A | R15: A | S15: A | T15: LĐTT | W15: T
A16: 09 | B16: 06 | C16: Nguyễn Thị Bích Liễu | E16: A | F16: A | G16: A | H16: A | I16: A | J16: A | K16: A | L16: A | M16: A | N16: A | O16: A | P16: A | Q16: A | R16: A | S16: A | T16: LĐTT | V16: X | W16: XS
A17: 10 | B17: 07 | C17: Nguyễn Văn Chì | E17: A | F17: A | G17: A | H17: A | I17: A | J17: A | K17: A | L17: A | M17: A | N17: A | O17: A | P17: A | Q17: A | R17: A | S17: A | T17: LĐTT | W17: T
A18: 11 | B18: 08 | C18: Trần Thị Ánh Phượng | E18: A | F18: A | G18: A | H18: A | I18: A | J18: A | K18: A | L18: A | M18: A | N18: A | O18: A | P18: A | Q18: A | R18: A | S18: A | T18: LĐTT | W18: T
A19: 12 | B19: 09 | C19: Trần Văn Cu Anh | E19: A | F19: A | G19: A | H19: A | I19: A | J19: A | K19: A | L19: A | M19: A | N19: A | O19: A | P19: A | Q19: A | R19: A | S19: A | T19: LĐTT | W19: T
A20: 13 | B20: 10 | C20: Lưu Hoàng Hải Yến | E20: A | F20: A | G20: A | H20: A | I20: A | J20: A | K20: A | L20: A | M20: A | N20: A | O20: A | P20: A | Q20: A | R20: A | S20: A | T20: LĐTT | W20: T
A21: 14 | B21: 11 | C21: Nguyễn Thị Vân | E21: A DN | F21: A | G21: A | H21: A | I21: A | J21: A (4 tháng) | K21: A | L21: A | M21: A | N21: A | O21: A | P21: A | Q21: A | R21: A | S21: A | T21: LĐTT | W21: T
A22: 15 | B22: 12 | C22: Huỳnh Thị Xuân Mai | E22: A | F22: A | G22: A | H22: A | I22: A | J22: A | K22: A | L22: A | M22: A | N22: A | O22: A | P22: A | Q22: A | R22: A | S22: A | T22: LĐTT | W22: T
A23: 16 | B23: 13 | C23: Trần Thị Phương Oanh | E23: A | F23: A | G23: A | H23: A | I23: A | J23: A | K23: A | L23: A | M23: A | N23: A | O23: A | P23: A | Q23: A | R23: A | S23: A | T23: LĐTT | V23: X | W23: XS
A24: 17 | B24: 14 | C24: Thân Thị Nhung | E24: A | F24: A | G24: A | H24: A | I24: A | J24: A | K24: A | L24: A | M24: A | N24: A | O24: A | P24: A | Q24: A | R24: A | S24: A | T24: LĐTT | V24: X | W24: XS
A25: 18 | B25: 15 | C25: Phạm Hữu Tấn | E25: A | F25: A | G25: A | H25: A | I25: A | J25: A | K25: A | L25: A | M25: A | N25: A | O25: A | P25: A | Q25: A | R25: A | S25: A | T25: LĐTT | W25: T
A26: 19 | B26: 16 | C26: Nguyễn Hữu Xuân Vũ | E26: A | F26: B | G26: A | H26: A | I26: A | J26: A | K26: A | L26: A | M26: A | N26: A | O26: A | P26: A | Q26: A | R26: A | S26: A | T26: LĐTT | W26: T
A27: 20 | B27: 17 | C27: Lê Hồng Phúc | E27: A | F27: A | G27: B | H27: A | I27: A | J27: A | K27: A | L27: A | M27: A | N27: A | O27: A | P27: A | Q27: A | R27: A | S27: A | T27: LĐTT | W27: T
A28: 21 | B28: 18 | C28: Phạm Hữu Thành Phú | E28: A | F28: A | G28: A | H28: A | I28: A | J28: A | K28: A | L28: A | M28: A | N28: A | O28: A | P28: A | Q28: A | R28: A | S28: A | T28: LĐTT | W28: T
A29: 22 | B29: 19 | C29: Huỳnh Thanh Nhàn | E29: A | F29: A | G29: A | H29: A | I29: A | J29: A | K29: A | L29: A | M29: A | N29: A | O29: A | P29: A | Q29: A | R29: A | S29: A | T29: LĐTT | W29: T
A30: 23 | B30: 20 | C30: Nguyễn Tiến Hưng | E30: A | F30: A | G30: A | H30: A | I30: A | J30: A | K30: A | L30: A | M30: A | N30: A | O30: A | P30: A | Q30: A | R30: A | S30: A | T30: LĐTT | W30: T
A31: 24 | B31: 21 | C31: Đồng Anh Tuấn | E31: A | F31: A | G31: A | H31: A | I31: A | J31: A | K31: A | L31: A | M31: A | N31: A | O31: A | P31: A | Q31: A | R31: A | S31: A | T31: LĐTT | W31: T
A32: 25 | B32: 22 | C32: Lê Hồng Sơn | E32: A | F32: A | G32: B | H32: A | I32: A | J32: A | K32: A | L32: A | M32: A | N32: A | O32: A | P32: A | Q32: A | R32: A | S32: A | T32: LĐTT | W32: T
A33: 26 | B33: 23 | C33: Nguyễn Thanh Hiền | E33: A | F33: A | G33: A | H33: B | I33: A | J33: A | K33: A | L33: A | M33: A | N33: A | O33: B | P33: A | Q33: A | R33: A | S33: A | T33: LĐTT | W33: T
A34: 27 | B34: 24 | C34: Trần Thanh Phương | E34: A | F34: A | G34: A | H34: A | I34: A | J34: A | K34: A | L34: A | M34: A | N34: A | O34: A | P34: A | Q34: A | R34: A | S34: A | T34: LĐTT | W34: T
A35: 28 | C35: Dương Văn Tâm | O35: A | P35: A | Q35: A | R35: Không đủ TG xét | S35: Không đủ TG xét | T35: Không đủ TG xét LĐTT | W35: T | Y35: Thử việc từ 01/6/2020
A36: 29 | B36: 01 | C36: Nguyễn Kính | D36: P. KH -TC | E36: A | F36: A | G36: A | H36: A | I36: A | J36: A | K36: A | L36: A | M36: A | N36: A | O36: A | P36: A | Q36: A | R36: A | S36: A | T36: LĐTT | V36: X | W36: XS
A37: 30 | B37: 02 | C37: Nguyễn Thị Kim Dung | E37: A | F37: A | G37: A | H37: A | I37: A | J37: A | K37: A | L37: A | M37: A | N37: A | O37: A | P37: A | Q37: A | R37: A | S37: A | T37: LĐTT | V37: X | W37: XS
A38: 31 | B38: 03 | C38: Hồng Mộng Tuyết Dung | E38: A | F38: A | G38: A | H38: A | I38: A | J38: A | K38: A | L38: A | M38: A | N38: A | O38: A | P38: A | Q38: A | R38: A | S38: A | T38: LĐTT | V38: X | W38: XS
A39: 32 | B39: 04 | C39: Trần Thị Minh Thoa | E39: A | F39: A | G39: A | H39: A | I39: A | J39: A | K39: A | L39: A | M39: A | N39: A | O39: A | P39: A | Q39: A | R39: A | S39: A | T39: LĐTT | V39: X | W39: XS
A40: 33 | B40: 05 | C40: Nguyễn Thị Hồng Thắm | E40: A | F40: A | G40: A | H40: A | I40: A | J40: A | K40: A | L40: A | M40: A | N40: A | O40: A | P40: A | Q40: A | R40: A | S40: A | T40: LĐTT | V40: X | W40: XS
A41: 34 | B41: 06 | C41: Đỗ Thị Ngọc | E41: A | F41: A | G41: A | H41: A | I41: A | J41: A | K41: A | L41: A | M41: A | N41: A | O41: A | P41: A | Q41: A | R41: A | S41: A | T41: LĐTT | W41: T
...

Sheet XET CUOI NAM
A1: TRƯỜNG CAO ĐẲNG LÝ TỰ TRỌNG THÀNH PHỐ HỒ CHÍ MINH ĐƠN VỊ:………….
A2: DANH SÁCH ĐÁNH GIÁ, XẾP LOẠI CHẤT LƯỢNG VIÊN CHỨC - NGƯỜI LAO ĐỘNG NĂM HỌC 2020 - 2021
A4: TT | C4: Họ và tên | E4: Đơn vị | F4: Tháng 7/2020 | H4: Tháng 8/2020 | J4: Tháng 9/2020 | L4: Tháng 10/2020 | N4: Tháng 11/2020 | P4: Tháng 12/2020 | R4: Tháng 01/2021 | T4: Tháng 02/2021 | V4: Tháng 03/2021 | X4: Tháng 04/2021 | Z4: Tháng 05/2021 | AB4: Điểm X (Điểm TB cả năm) | AC4: Mức đánh giá, xếp loại tối đa | AD4: Đơn vị thực hiện | AG4: Chi bộ đánh giá | AI4: Hội đồng đánh giá
D5: Mã số E-office | F5: Xếp loại | G5: Điểm | H5: Xếp loại | I5: Điểm | J5: Xếp loại | K5: Điểm | L5: Xếp loại | M5: Điểm | N5: Xếp loại | O5: Điểm | P5: Xếp loại | Q5: Điểm | R5: Xếp loại | S5: Điểm | T5: Xếp loại | U5: Điểm | V5: Xếp loại | W5: Điểm | X5: Xếp loại | Y5: Điểm | Z5: Xếp loại | AA5: Điểm | AD5: Cá nhân tự đánh giá | AE5: Kết quả đánh giá của đơn vị | AF5: Ý kiến đánh giá của đơn vị | AG5: Kết quả đánh giá của chi bộ | AH5: Ý kiến đánh giá của chi bộ | AI5: Kết quả đánh giá của Hội đồng | AJ5: Ý kiến đánh giá của Hội đồng
A6: 01 | B6: 01 | C6: Nguyễn Ngọc Quỳnh | D6: 01011012 | E6: Khoa Lý luận Chính trị | F6: A | G6: 10 | H6: A | I6: 10 | J6: A | K6: 10 | L6: A | M6: 10 | N6: A | O6: 10 | P6: A | Q6: 10 | R6: A3 | S6: =VLOOKUP(R6,Sheet1!$B$2:$C$12,2,TRUE) -> 8 | T6: A2 | U6: =VLOOKUP(T6,Sheet1!$B$2:$C$12,2,TRUE) -> 9 | V6: =IFERROR(VLOOKUP($D6,'[1]Chi tiet'!$D$7:$L$389,8,0),0) -> A3 | W6: =VLOOKUP(V6,Sheet1!$B$2:$C$12,2,TRUE) -> 8 | X6: =IFERROR(VLOOKUP($D6,'[2]Gui chi Quynh'!D$7:K$393,7,0),0) -> A4 | Y6: =VLOOKUP(X6,Sheet1!$B$2:$C$12,2,TRUE) -> 7 | Z6: A4 | AA6: =VLOOKUP(Z6,Sheet1!$B$2:$C$12,2,TRUE) -> 7 | AB6: =AVERAGE(F6:AA6) -> 9 | AC6: Xuất sắc
A7: 02 | B7: 02 | C7: Lê Thị Hồng Vân | D7: 01011002 | E7: Khoa Lý luận Chính trị | F7: A | G7: 10 | H7: A | I7: 10 | J7: A | K7: 10 | L7: A | M7: 10 | N7: A | O7: 10 | P7: A | Q7: 10 | R7: A3 | S7: =VLOOKUP(R7,Sheet1!$B$2:$C$12,2,TRUE) -> 8 | T7: A3 | U7: =VLOOKUP(T7,Sheet1!$B$2:$C$12,2,TRUE) -> 8 | V7: =IFERROR(VLOOKUP($D7,'[1]Chi tiet'!$D$7:$L$389,8,0),0) -> A3 | W7: =VLOOKUP(V7,Sheet1!$B$2:$C$12,2,TRUE) -> 8 | X7: =IFERROR(VLOOKUP($D7,'[2]Gui chi Quynh'!D$7:K$393,7,0),0) -> A2 | Y7: =VLOOKUP(X7,Sheet1!$B$2:$C$12,2,TRUE) -> 9 | Z7: A4 | AA7: =VLOOKUP(Z7,Sheet1!$B$2:$C$12,2,TRUE) -> 7 | AB7: =AVERAGE(F7:AA7) -> 9.0909091 | AC7: Xuất sắc
A8: 03 | B8: 03 | C8: Đinh Thị Huyên | D8: 01011009 | E8: Khoa Lý luận Chính trị | F8: B | G8: 6 | H8: A | I8: 10 | J8: A | K8: 10 | L8: A | M8: 10 | N8: A | O8: 10 | P8: A | Q8: 10 | R8: A3 | S8: =VLOOKUP(R8,Sheet1!$B$2:$C$12,2,TRUE) -> 8 | T8: A3 | U8: =VLOOKUP(T8,Sheet1!$B$2:$C$12,2,TRUE) -> 8 | V8: =IFERROR(VLOOKUP($D8,'[1]Chi tiet'!$D$7:$L$389,8,0),0) -> A3 | W8: =VLOOKUP(V8,Sheet1!$B$2:$C$12,2,TRUE) -> 8 | X8: =IFERROR(VLOOKUP($D8,'[2]Gui chi Quynh'!D$7:K$393,7,0),0) -> A2 | Y8: =VLOOKUP(X8,Sheet1!$B$2:$C$12,2,TRUE) -> 9 | Z8: A4 | AA8: =VLOOKUP(Z8,Sheet1!$B$2:$C$12,2,TRUE) -> 7 | AB8: =AVERAGE(F8:AA8) -> 8.7272727 | AC8: Tốt
A9: 04 | B9: 04 | C9: Phan Thị Thùy Trang | D9: 01011010 | E9: Khoa Lý luận Chính trị | F9: A | G9: 10 | H9: A | I9: 10 | J9: A | K9: 10 | L9: A | M9: 10 | N9: A | O9: 10 | P9: A | Q9: 10 | R9: A4 | S9: =VLOOKUP(R9,Sheet1!$B$2:$C$12,2,TRUE) -> 7 | T9: A3 | U9: =VLOOKUP(T9,Sheet1!$B$2:$C$12,2,TRUE) -> 8 | V9: =IFERROR(VLOOKUP($D9,'[1]Chi tiet'!$D$7:$L$389,8,0),0) -> A3 | W9: =VLOOKUP(V9,Sheet1!$B$2:$C$12,2,TRUE) -> 8 | X9: =IFERROR(VLOOKUP($D9,'[2]Gui chi Quynh'!D$7:K$393,7,0),0) -> A3 | Y9: =VLOOKUP(X9,Sheet1!$B$2:$C$12,2,TRUE) -> 8 | Z9: A3 | AA9: =VLOOKUP(Z9,Sheet1!$B$2:$C$12,2,TRUE) -> 8 | AB9: =AVERAGE(F9:AA9) -> 9 | AC9: Xuất sắc
A10: 05 | B10: 05 | C10: Đặng Thị Nhật Minh | D10: 01010005 | E10: Khoa Lý luận Chính trị | F10: A | G10: 10 | H10: A | I10: 10 | J10: A | K10: 10 | L10: A | M10: 10 | N10: A | O10: 10 | P10: A | Q10: 10 | R10: A2 | S10: =VLOOKUP(R10,Sheet1!$B$2:$C$12,2,TRUE) -> 9 | T10: A3 | U10: =VLOOKUP(T10,Sheet1!$B$2:$C$12,2,TRUE) -> 8 | V10: =IFERROR(VLOOKUP($D10,'[1]Chi tiet'!$D$7:$L$389,8,0),0) -> A3 | W10: =VLOOKUP(V10,Sheet1!$B$2:$C$12,2,TRUE) -> 8 | X10: =IFERROR(VLOOKUP($D10,'[2]Gui chi Quynh'!D$7:K$393,7,0),0) -> A3 | Y10: =VLOOKUP(X10,Sheet1!$B$2:$C$12,2,TRUE) -> 8 | Z10: A4 | AA10: =VLOOKUP(Z10,Sheet1!$B$2:$C$12,2,TRUE) -> 7 | AB10: =AVERAGE(F10:AA10) -> 9.0909091 | AC10: Xuất sắc
A11: 06 | B11: 06 | C11: Nguyễn Thị Dinh | D11: 01011005 | E11: Khoa Lý luận Chính trị | F11: B | G11: 6 | H11: A | I11: 10 | J11: A | K11: 10 | L11: A | M11: 10 | N11: A | O11: 10 | P11: A | Q11: 10 | R11: A4 | S11: =VLOOKUP(R11,Sheet1!$B$2:$C$12,2,TRUE) -> 7 | T11: A3 | U11: =VLOOKUP(T11,Sheet1!$B$2:$C$12,2,TRUE) -> 8 | V11: =IFERROR(VLOOKUP($D11,'[1]Chi tiet'!$D$7:$L$389,8,0),0) -> A3 | W11: =VLOOKUP(V11,Sheet1!$B$2:$C$12,2,TRUE) -> 8 | X11: =IFERROR(VLOOKUP($D11,'[2]Gui chi Quynh'!D$7:K$393,7,0),0) -> A3 | Y11: =VLOOKUP(X11,Sheet1!$B$2:$C$12,2,TRUE) -> 8 | Z11: A4 | AA11: =VLOOKUP(Z11,Sheet1!$B$2:$C$12,2,TRUE) -> 7 | AB11: =AVERAGE(F11:AA11) -> 8.5454545 | AC11: Tốt
A12: 07 | B12: 07 | C12: Lê Thị Mai Hường | D12: 01011013 | E12: Khoa Lý luận Chính trị | F12: A | G12: 10 | H12: A | I12: 10 | J12: A | K12: 10 | L12: A | M12: 10 | N12: A | O12: 10 | P12: A | Q12: 10 | R12: A4 | S12: =VLOOKUP(R12,Sheet1!$B$2:$C$12,2,TRUE) -> 7 | T12: A3 | U12: =VLOOKUP(T12,Sheet1!$B$2:$C$12,2,TRUE) -> 8 | V12: =IFERROR(VLOOKUP($D12,'[1]Chi tiet'!$D$7:$L$389,8,0),0) -> A3 | W12: =VLOOKUP(V12,Sheet1!$B$2:$C$12,2,TRUE) -> 8 | X12: =IFERROR(VLOOKUP($D12,'[2]Gui chi Quynh'!D$7:K$393,7,0),0) -> A2 | Y12: =VLOOKUP(X12,Sheet1!$B$2:$C$12,2,TRUE) -> 9 | Z12: A3 | AA12: =VLOOKUP(Z12,Sheet1!$B$2:$C$12,2,TRUE) -> 8 | AB12: =AVERAGE(F12:AA12) -> 9.0909091 | AC12: Xuất sắc
A13: 08 | B13: 08 | C13: Đỗ Thị Thơm | D13: 01011008 | E13: Khoa Lý luận Chính trị | F13: A | G13: 10 | H13: A | I13: 10 | J13: A | K13: 10 | L13: A | M13: 10 | N13: A | O13: 10 | P13: A | Q13: 10 | R13: A2 | S13: =VLOOKUP(R13,Sheet1!$B$2:$C$12,2,TRUE) -> 9 | T13: A4 | U13: =VLOOKUP(T13,Sheet1!$B$2:$C$12,2,TRUE) -> 7 | V13: =IFERROR(VLOOKUP($D13,'[1]Chi tiet'!$D$7:$L$389,8,0),0) -> A4 | W13: =VLOOKUP(V13,Sheet1!$B$2:$C$12,2,TRUE) -> 7 | X13: =IFERROR(VLOOKUP($D13,'[2]Gui chi Quynh'!D$7:K$393,7,0),0) -> A3 | Y13: =VLOOKUP(X13,Sheet1!$B$2:$C$12,2,TRUE) -> 8 | Z13: A4 | AA13: =VLOOKUP(Z13,Sheet1!$B$2:$C$12,2,TRUE) -> 7 | AB13: =AVERAGE(F13:AA13) -> 8.9090909 | AC13: Xuất sắc
A14: 09 | B14: 09 | C14: Trần Thị Hồng Thu | D14: 01011015 | E14: Khoa Lý luận Chính trị | F14: A | G14: 10 | H14: A | I14: 10 | J14: A | K14: 10 | L14: A | M14: 10 | N14: A | O14: 10 | P14: A | Q14: 10 | R14: A4 | S14: =VLOOKUP(R14,Sheet1!$B$2:$C$12,2,TRUE) -> 7 | T14: A4 | U14: =VLOOKUP(T14,Sheet1!$B$2:$C$12,2,TRUE) -> 7 | V14: =IFERROR(VLOOKUP($D14,'[1]Chi tiet'!$D$7:$L$389,8,0),0) -> A2 | W14: =VLOOKUP(V14,Sheet1!$B$2:$C$12,2,TRUE) -> 9 | X14: =IFERROR(VLOOKUP($D14,'[2]Gui chi Quynh'!D$7:K$393,7,0),0) -> A2 | Y14: =VLOOKUP(X14,Sheet1!$B$2:$C$12,2,TRUE) -> 9 | Z14: A4 | AA14: =VLOOKUP(Z14,Sheet1!$B$2:$C$12,2,TRUE) -> 7 | AB14: =AVERAGE(F14:AA14) -> 9 | AC14: Xuất sắc
A15: 10 | B15: 10 | C15: Cao Thị Hồng Thắm | D15: 01011007 | E15: Khoa Lý luận Chính trị | F15: C | G15: 4 | H15: A | I15: 10 | J15: A | K15: 10 | L15: A | M15: 10 | N15: A | O15: 10 | P15: A | Q15: 10 | R15: A4 | S15: =VLOOKUP(R15,Sheet1!$B$2:$C$12,2,TRUE) -> 7 | T15: A4 | U15: =VLOOKUP(T15,Sheet1!$B$2:$C$12,2,TRUE) -> 7 | V15: =IFERROR(VLOOKUP($D15,'[1]Chi tiet'!$D$7:$L$389,8,0),0) -> A4 | W15: =VLOOKUP(V15,Sheet1!$B$2:$C$12,2,TRUE) -> 7 | X15: =IFERROR(VLOOKUP($D15,'[2]Gui chi Quynh'!D$7:K$393,7,0),0) -> A3 | Y15: =VLOOKUP(X15,Sheet1!$B$2:$C$12,2,TRUE) -> 8 | Z15: A4 | AA15: =VLOOKUP(Z15,Sheet1!$B$2:$C$12,2,TRUE) -> 7 | AB15: =AVERAGE(F15:AA15) -> 8.1818182 | AC15: Tốt
A16: 11 | B16: 11 | C16: Bùi Thành Dũng | D16: 01011011 | E16: Khoa Lý luận Chính trị | F16: A | G16: 10 | H16: A | I16: 10 | J16: A | K16: 10 | L16: A | M16: 10 | N16: A | O16: 10 | P16: A | Q16: 10 | R16: A4 | S16: =VLOOKUP(R16,Sheet1!$B$2:$C$12,2,TRUE) -> 7 | T16: A4 | U16: =VLOOKUP(T16,Sheet1!$B$2:$C$12,2,TRUE) -> 7 | V16: =IFERROR(VLOOKUP($D16,'[1]Chi tiet'!$D$7:$L$389,8,0),0) -> A4 | W16: =VLOOKUP(V16,Sheet1!$B$2:$C$12,2,TRUE) -> 7 | X16: =IFERROR(VLOOKUP($D16,'[2]Gui chi Quynh'!D$7:K$393,7,0),0) -> A2 | Y16: =VLOOKUP(X16,Sheet1!$B$2:$C$12,2,TRUE) -> 9 | Z16: A4 | AA16: =VLOOKUP(Z16,Sheet1!$B$2:$C$12,2,TRUE) -> 7 | AB16: =AVERAGE(F16:AA16) -> 8.8181818 | AC16: Xuất sắc
A17: 12 | B17: 12 | C17: Trần Văn Lượng | D17: 01011014 | E17: Khoa Lý luận Chính trị | F17: A | G17: 10 | H17: A | I17: 10 | J17: A | K17: 10 | L17: A | M17: 10 | N17: A | O17: 10 | P17: A | Q17: 10 | R17: A4 | S17: =VLOOKUP(R17,Sheet1!$B$2:$C$12,2,TRUE) -> 7 | T17: A4 | U17: =VLOOKUP(T17,Sheet1!$B$2:$C$12,2,TRUE) -> 7 | V17: =IFERROR(VLOOKUP($D17,'[1]Chi tiet'!$D$7:$L$389,8,0),0) -> A4 | W17: =VLOOKUP(V17,Sheet1!$B$2:$C$12,2,TRUE) -> 7 | X17: =IFERROR(VLOOKUP($D17,'[2]Gui chi Quynh'!D$7:K$393,7,0),0) -> B1 | Y17: =VLOOKUP(X17,Sheet1!$B$2:$C$12,2,TRUE) -> 6 | Z17: A4 | AA17: =VLOOKUP(Z17,Sheet1!$B$2:$C$12,2,TRUE) -> 7 | AB17: =AVERAGE(F17:AA17) -> 8.5454545 | AC17: Tốt
... A20: 15 | B20: 15 | C20: Đỗ Thị Ngát | D20: 01011016 | E20: Khoa Lý luận Chính trị | F20: A | G20: 10 | H20: A | I20: 10 | J20: A | K20: 10 | L20: A | M20: 10 | N20: A | O20: 10 | P20: A | Q20: 10 | R20: A4 | S20: =VLOOKUP(R20,Sheet1!$B$2:$C$12,2,TRUE) -> 7 | T20: A4 | U20: =VLOOKUP(T20,Sheet1!$B$2:$C$12,2,TRUE) -> 7 | V20: =IFERROR(VLOOKUP($D20,'[1]Chi tiet'!$D$7:$L$389,8,0),0) -> A4 | W20: =VLOOKUP(V20,Sheet1!$B$2:$C$12,2,TRUE) -> 7 | X20: =IFERROR(VLOOKUP($D20,'[2]Gui chi Quynh'!D$7:K$393,7,0),0) -> A3 | Y20: =VLOOKUP(X20,Sheet1!$B$2:$C$12,2,TRUE) -> 8 | Z20: A4 | AA20: =VLOOKUP(Z20,Sheet1!$B$2:$C$12,2,TRUE) -> 7 | AB20: =AVERAGE(F20:AA20) -> 8.7272727 | AC20: Xuất sắc
A21: 16 | B21: 16 | C21: Hoàng Thị Trang | D21: 01011018 | E21: Khoa Lý luận Chính trị | F21: A | G21: 10 | H21: A | I21: 10 | J21: A | K21: 10 | L21: A | M21: 10 | N21: A | O21: 10 | P21: A | Q21: 10 | R21: A4 | S21: =VLOOKUP(R21,Sheet1!$B$2:$C$12,2,TRUE) -> 7 | T21: A4 | U21: =VLOOKUP(T21,Sheet1!$B$2:$C$12,2,TRUE) -> 7 | V21: =IFERROR(VLOOKUP($D21,'[1]Chi tiet'!$D$7:$L$389,8,0),0) -> A4 | W21: =VLOOKUP(V21,Sheet1!$B$2:$C$12,2,TRUE) -> 7 | X21: =IFERROR(VLOOKUP($D21,'[2]Gui chi Quynh'!D$7:K$393,7,0),0) -> A DN | Y21: 7 | Z21: A4 | AA21: =VLOOKUP(Z21,Sheet1!$B$2:$C$12,2,TRUE) -> 7 | AB21: =AVERAGE(F21:AA21) -> 8.6363636 | AC21: Xuất sắc | AF21: Nghỉ hộ sản từ 4/2021, đánh giá 09 tháng làm việc thực tế
C23: Lưu ý: Quý Thầy Cô ẩn cột AC "Mức đánh giá, xếp loại tối đa" trước khi in và ký tên gửi về Phòng Tổ chức | AA23: TPHCM, ngày tháng 5 năm 2021 TRƯỞNG ĐƠN VỊ

Sheet Sheet1
B2: A1 | C2: 10
B3: A2 | C3: 9
B4: A3 | C4: 8
B5: A4 | C5: 7
B6: A DN | C6: 7
B7: B1 | C7: 6
B8: B2 | C8: 5
B9: C1 | C9: 4
B10: C2 | C10: 3
B11: D | C11: 1
B12: E | C12: 0
