Workbook

Sheet 20C1-QTD1
A4: DANH SÁCH SINH VIÊN ĐANG HỌC
C5: Lớp: 20C1-QTD1 | J5: Khóa học: 2020
C6: Ngành: Quản trị doanh nghiệp vừa và nhỏ | J6: Bậc đào tạo: Cao đẳng
C7: Chuyên ngành: Quản trị doanh nghiệp vừa và nhỏ | J7: Loại đào tạo: Chính quy 2.5 năm
A9: STT | B9: Mã SV | C9: Họ đệm | D9: Tên | E9: Giới tính | F9: Ngày sinh | G9: Nơi sinh | H9: Dân tộc | I9: Tôn giáo | J9: Hộ khẩu thường trú | K9: Số ĐT | L9: Ghi chú
A10: 1 | B10: 20004541 | C10: Nguyễn Trường | D10: An | E10: Nam | F10: 10/12/1997 | G10: Đồng Tháp | H10: Kinh | J10: 1024/31 TL10 P.Tân Tạo, Bình Tân | K10: 0972980899 | L10: 1024/31 TL10 P.Tân Tạo, Bình Tân
A11: 2 | B11: 20003113 | C11: Tạ Phúc | D11: An | E11: Nam | F11: 15/11/2002 | G11: Tp. Hồ Chí Minh | H11: Kinh | J11: 96 Tổ 11 , ấp Tân Định , Đường Trần Tử Bình , xã Tân Thông Hội , huyện Củ Chi , TPHCM | K11: 0903174885
A12: 3 | B12: 20006658 | C12: Tăng Ngọc | D12: Anh | E12: Nữ | F12: 27/01/2002 | G12: Bạc Liêu | H12: Hoa | K12: 0925526461 | L12: Ấp Tân tạo, Thị trấn Châu Hưng, H Vĩnh Lợi, tỉnh Bạc Liêu
A13: 4 | B13: 20004277 | C13: Nguyễn Thị Bé | D13: Ba | E13: Nữ | F13: 25/05/2002 | G13: Long An | H13: Kinh | J13: ấp Mới II, xã Mỹ Hạnh Nam, huyện Đức Hòa, tỉnh Long An | K13: 0764981356
A14: 5 | B14: 20005322 | C14: Trượng Thị Mỹ | D14: Châu | E14: Nữ | F14: 10/02/2002 | G14: Ninh Thuận | H14: Chăm | J14: Khu phố 12, TT Phước Dân, huyện Ninh Phước, tỉnh Ninh Thuận | K14: 0384698641
A15: 6 | B15: 20003749 | C15: Dương Quốc | D15: Đạt | E15: Nam | F15: 29/06/2001 | G15: Tiền Giang | H15: Kinh | J15: 84, Ấp Tân Bường B, Xã Tân Phong, Huyện Cai Lậy, Tỉnh Tiền Giang | K15: 0946587772
A16: 7 | B16: 20004648 | C16: Trần Thị Thúy | D16: Diễm | E16: Nữ | F16: 15/07/2001 | G16: Bình Phước | H16: Kinh | J16: thôn Tân Hiệp 1, xã Bù Nho, huyện Bù Gia Mập, tỉnh Bình Phước | K16: 0358438370
A17: 8 | B17: 20004746 | C17: Đặng Đình | D17: Dinh | E17: Nam | F17: 29/09/2002 | G17: Đăk Nông | H17: Kinh | J17: Thôn Tân Bình, Xã Nam Dong, Huyện Cư Jút, Tỉnh Đăk Nông | K17: 0914873377 | L17: 339/7 Nguyễn Thái Bình, P11, Tân Bình, TPHCM
A18: 9 | B18: 20004742 | C18: Đồng Trần Quốc | D18: Dũng | E18: Nam | F18: 12/12/2001 | G18: Tp. Hồ Chí Minh | H18: Kinh | J18: 33/3 kp1A Nguyễn Văn Quá, Phường Đông Hưng Thuận, quận 12 | K18: 0707648966
A19: 10 | B19: 20005202 | C19: Đàm Văn | D19: Duy | E19: Nam | F19: 10/03/2001 | G19: Đắk Lắk | H19: Nùng | J19: Buôn Pon, xã Bình Thuận, Thị xã Buôn Hồ, tỉnh Đắk Lăk | K19: 0986134532
A20: 11 | B20: 20001118 | C20: Nguyễn Hoàng | D20: Duy | E20: Nam | F20: 09/02/2000 | G20: Kiên Giang | H20: Kinh | K20: 0938476347
A21: 12 | B21: 20005670 | C21: Nguyễn Hoàng Anh | D21: Duy | E21: Nam | F21: 22/03/1998 | G21: Tp. Hồ Chí Minh | H21: Kinh | J21: 6 Trần Văn Dư, phường 13, quận Tân Bình, Tp.HCM | K21: 0903733151
A22: 13 | B22: 20006682 | C22: Nguyễn Mạnh | D22: Duy | E22: Nam | F22: 04/05/2001 | G22: Tp. Hồ Chí Minh | H22: Kinh | J22: 111/22, đường số 8, phường 16, Quận Gò Vấp, Tp.HCM | K22: 0977254457
A23: 14 | B23: 20005128 | C23: Nguyễn Chí | D23: Hải | E23: Nam | F23: 25/08/2002 | G23: Bình Phước | H23: Kinh | J23: 349, Tổ 4, Ấp 3, xã Thanh Hòa, huyện Bù Đốp, tỉnh Bình Phước | K23: 0931886064
A24: 15 | B24: 20005728 | C24: Trần Văn Long | D24: Hải | E24: Nam | F24: 24/08/2002 | G24: Tp. Hồ Chí Minh | H24: Kinh | J24: 76/3 Khu phố 3, phường Thới An, quận 12, Tp.HCM | K24: 0395203628
A25: 16 | B25: 20002761 | C25: Đoàn Nguyễn Ngọc | D25: Hân | E25: Nữ | F25: 09/03/2002 | G25: Đồng Tháp | H25: Kinh | J25: Ấp 2 xã Mỹ Hòa, huyện Tháp Mười, tỉnh Đồng Tháp | K25: 0343615385
A26: 17 | B26: 20001085 | C26: Nguyễn Thị Ngọc | D26: Hân | E26: Nữ | F26: 23/07/2001 | G26: Tây Ninh | H26: Kinh | J26: Ấp An Bình, xã An Tịnh, huyện Trảng Bàng, tỉnh Tây Ninh | K26: 0902262271 | L26: Út là Chú, 87/89/8 Nguyễn Sĩ Sách, phường 15, quận Tân Bình, TP.HCM
A27: 18 | B27: 20003748 | C27: Trần Thị Thúy | D27: Hằng | E27: Nữ | F27: 21/05/2002 | G27: Tiền Giang | H27: Kinh | J27: Ấp Mỹ Phú, Xã Long Khánh, Thị Xã Cai Lậy, Tỉnh Tiền Giang | K27: 0962405079
A28: 19 | B28: 20006752 | C28: Trần Văn | D28: Hiệp | E28: Nam | F28: 03/07/2002 | G28: Đắk Lắk | H28: Kinh | J28: 181 Phước Tân 1, xã EaKuăng, Huyện Krông Pắc, tỉnh Đắk Lắk | K28: 0398382482
A29: 20 | B29: 20000666 | C29: Đặng Hồng | D29: Hoan | E29: Nữ | F29: 06/11/2002 | G29: Tp. Hồ Chí Minh | H29: Hoa | K29: 0932065702
A30: 21 | B30: 20006663 | C30: Võ Văn | D30: Huy | E30: Nam | F30: 10/09/2001 | G30: Long An | H30: Kinh | J30: ấp Rừng Sến, xã Mỹ Hạnh Bắc, huyện Đức Hòa, tỉnh Long An | K30: 0794866429
A31: 22 | B31: 20004283 | C31: Vũ Quốc | D31: Huy | E31: Nam | F31: 14/05/2002 | G31: Tp. Hồ Chí Minh | H31: Kinh | J31: 99/6, KP 4, Đường TA21, Phường Thới An, Quận 12, TP.HCM | K31: 0762802735
A32: 23 | B32: 20006755 | C32: Trần Quang | D32: Khải | E32: Nam | F32: 23/10/2000 | G32: Tiền Giang | H32: Kinh | J32: ấp Hưng Ngãi, xã Đăng Hưng Phước, huyện Chợ Gạo, tỉnh Tiền Giang | K32: 0971893088
A33: 24 | B33: 20003935 | C33: Phan Ngọc Thiên | D33: Kim | E33: Nữ | F33: 04/07/2002 | G33: Long An | H33: Kinh | J33: 98/1 Khu Vực 2, Thị Trấn Đức Hòa, huyện Đức Hòa, tỉnh Long An | K33: 0937162416
A34: 25 | B34: 20005356 | C34: Lê Văn | D34: Linh | E34: Nam | F34: 30/11/2002 | G34: Bình Thuận | H34: Kinh | J34: Dân phố 23, Minh Tân 3, Phan Rí Cửa, Tuy Phong, Bình Thuận | K34: 0818611930 | L34: BGH Duyệt cho BL.KQTS 2020-2021_x000D_ Lý do: Điều trị bệnh
A35: 26 | B35: 20000064 | C35: Huỳnh Hoàng | D35: Long | E35: Nam | F35: 30/04/2000 | G35: Tp. Hồ Chí Minh | H35: Kinh | J35: 325 Hoàng Văn Thụ, phường 2, quận Tân Bình, TP.HCM | K35: 0583301966
A36: 27 | B36: 20002614 | C36: Trương Phi | D36: Long | E36: Nam | F36: 28/07/2000 | G36: Tây Ninh | H36: Kinh | J36: ấp Thạnh Lộc, xã Thạnh Bình, huyện Tân Biên, tỉnh Tây Ninh | K36: 0325070986
A37: 28 | B37: 20007955 | C37: Nguyễn Thanh | D37: Luân | E37: Nam | F37: 07/07/2001 | G37: Tiền Giang | H37: Kinh | J37: ấp Cầu Dừa, xã Mỹ Phước Tây, thị xã Cai Lậy, tỉnh Tiền Giang | K37: 038544271
A38: 29 | B38: 20002596 | C38: Ngô Thị Ngọc | D38: Mai | E38: Nữ | F38: 25/08/1995 | G38: Đồng Tháp | H38: Kinh | J38: Ấp an hoà , xã an bình a , thị xã hồng ngự , Tỉnh đồng tháp | K38: 0364249005
A39: 30 | B39: 20003775 | C39: Phạm Thị | D39: Mến | E39: Nữ | F39: 10/10/2002 | G39: Quảng Ngãi | H39: Kinh | J39: 39/3 Hà Huy Tập, khu phố 4, thị trấn Tân Nghĩa, Hàm Tân, Bình Thuận | K39: 0355335067
A40: 31 | B40: 20004711 | C40: Nguyễn Thị Trà | D40: My | E40: Nữ | F40: 22/10/2002 | G40: Bình Định | H40: Kinh | J40: Thôn Mỹ Khánh, xã Hoài Mỹ, huyện Hoài Nhơn, tỉnh Bình Định | K40: 0347964203 | L40: 224 Pasteur, P.Tân Bình, Q3, TPHCM
A41: 32 | B41: 20005341 | C41: Trần Thị My | D41: My | E41: Nữ | F41: 06/06/2002 | G41: Lâm Đồng | H41: Kinh | J41: Tổ 16, Khu 4, thị trấn Lộc Thắng, huyện Bảo Lâm, tỉnh Lâm Đồng | K41: 0964730934
A42: 33 | B42: 20003908 | C42: Lương Võ Kim | D42: Ngân | E42: Nữ | F42: 05/05/2002 | G42: Tp. Hồ Chí Minh | H42: Kinh | J42: 264 Bùi Thị Điệt, tổ 20, ấp 3, xã Phạm Văn Cội, huyện Củ Chi, Thành phố Hồ Chí Minh | K42: 0985085127
A43: 34 | B43: 20003103 | C43: Nguyễn Thị Thanh | D43: Ngân | E43: Nữ | F43: 16/10/2002 | G43: Bình Thuận | H43: Chăm | J43: 16, Thôn Thanh Bình, xã Phan Thanh, huyện Bắc Bình, tỉnh Bình Thuận | K43: 0332976481
A44: 35 | B44: 20004522 | C44: Lê Thanh | D44: Ngọc | E44: Nam | F44: 10/03/2002 | G44: Tp. Hồ Chí Minh | H44: Kinh | J44: Số 75 đường 25, tổ 6, ấp Tân Lập, Xã Tân Thông Hội, huyện Củ Chi ,Tp.HCM | K44: 0342409126
...

Sheet 19C1-QTD1 nop bai KT so 1
A4: DANH SÁCH SINH VIÊN NỘP BÀI
B5: Lớp: 20C1-QTD1 | F5: Khóa học: 2019
B6: Ngành: Quản trị doanh nghiệp VVN | F6: Bậc đào tạo: Cao đẳng
B7: Môn: Chiến lược và chính sách kinh doanh | F7: Loại đào tạo: Chính quy 2 năm
A9: STT | B9: Mã SV | C9: Họ đệm | D9: Tên | E9: Ký tên Word | F9: Ký tên Excel | G9: Ghi chú
A10: 1 | B10: 20004541 | C10: Nguyễn Trường | D10: An
A11: 2 | B11: 20003113 | C11: Tạ Phúc | D11: An
A12: 3 | B12: 20006658 | C12: Tăng Ngọc | D12: Anh
A13: 4 | B13: 20004277 | C13: Nguyễn Thị Bé | D13: Ba
A14: 5 | B14: 20005322 | C14: Trượng Thị Mỹ | D14: Châu
A15: 6 | B15: 20003749 | C15: Dương Quốc | D15: Đạt
A16: 7 | B16: 20004648 | C16: Trần Thị Thúy | D16: Diễm
A17: 8 | B17: 20004746 | C17: Đặng Đình | D17: Dinh
A18: 9 | B18: 20004742 | C18: Đồng Trần Quốc | D18: Dũng
A19: 10 | B19: 20005202 | C19: Đàm Văn | D19: Duy
A20: 11 | B20: 20001118 | C20: Nguyễn Hoàng | D20: Duy
A21: 12 | B21: 20005670 | C21: Nguyễn Hoàng Anh | D21: Duy
... A65: 56 | B65: 20005428 | C65: Trần Ngọc | D65: Thư
A66: 57 | B66: 20006720 | C66: Hà Danh | D66: Tiến | E66: TP. HCM, ngày 29 tháng 07 năm 2020
A67: 58 | B67: 20002936 | C67: Nguyễn Minh | D67: Toản | F67: Trưởng khoa
A68: 59 | B68: 20005759 | C68: Nguyễn Thùy | D68: Trang
A69: 60 | B69: 20005172 | C69: Trần Cao | D69: Trí
A70: 61 | B70: 20005392 | C70: Tạ Thị Mai | D70: Trinh
A71: 62 | B71: 20004100 | C71: Nguyễn Thị Cẩm | D71: Tú
A72: 63 | B72: 20005135 | C72: Vũ Thị Cẩm | D72: Tú | F72: Nguyễn Trọng Nghĩa
A73: 64 | B73: 20005076 | C73: Lê Thiện | D73: Tuấn
A74: 65 | B74: 20005718 | C74: Trần Quốc | D74: Tuấn
A75: 66 | B75: 20003937 | C75: Nguyễn Quốc | D75: Tùng
A76: 67 | B76: 20004673 | C76: Nguyễn Thị Bích | D76: Tuyền
A77: 68 | B77: 20005054 | C77: Đào Văn | D77: Vĩ
A78: 69 | B78: 20005178 | C78: Huỳnh Quang | D78: Vinh
A79: 70 | B79: 20005037 | C79: Nguyễn Thanh | D79: Ý
A80: 71 | B80: 20004897 | C80: Y- Yô Sia Buôn | D80: Yă
A81: 72 | B81: 20004605 | C81: Nguyễn Thị Phượng | D81: Yến

Sheet 19C1-QTD1 Email
A4: DANH SÁCH SINH VIÊN
C5: Lớp: 20C1-QTD1 | E5: Khóa học: 2019
C6: Ngành: Quản trị doanh nghiệp | E6: Bậc đào tạo: Cao đẳng
C7: Chuyên ngành: Quản trị doanh nghiệp | E7: Loại đào tạo: Chính quy 2 năm
A9: STT | B9: Mã SV | C9: Họ đệm | D9: Tên | E9: Email | F9: Số ĐT | G9: Ghi chú
A10: 1 | B10: 20004541 | C10: Nguyễn Trường | D10: An
A11: 2 | B11: 20003113 | C11: Tạ Phúc | D11: An
A12: 3 | B12: 20006658 | C12: Tăng Ngọc | D12: Anh
A13: 4 | B13: 20004277 | C13: Nguyễn Thị Bé | D13: Ba
A14: 5 | B14: 20005322 | C14: Trượng Thị Mỹ | D14: Châu
A15: 6 | B15: 20003749 | C15: Dương Quốc | D15: Đạt
A16: 7 | B16: 20004648 | C16: Trần Thị Thúy | D16: Diễm
A17: 8 | B17: 20004746 | C17: Đặng Đình | D17: Dinh
A18: 9 | B18: 20004742 | C18: Đồng Trần Quốc | D18: Dũng
A19: 10 | B19: 20005202 | C19: Đàm Văn | D19: Duy
A20: 11 | B20: 20001118 | C20: Nguyễn Hoàng | D20: Duy
A21: 12 | B21: 20005670 | C21: Nguyễn Hoàng Anh | D21: Duy
... A81: 72 | B81: 20004605 | C81: Nguyễn Thị Phượng | D81: Yến
B84: Sỉ số: 79 | E84: TP. HCM, ngày 02 tháng 04 năm 2021
E85: Trưởng khoa
E89: Nguyễn Trọng Nghĩa

Sheet 19C1-QTD1 nop bai KT
A4: DANH SÁCH SINH VIÊN NỘP BÀI
C5: Lớp: 20C1-QTD1 | E5: Khóa học: 2020
C6: Ngành: Quản trị doanh nghiệp | E6: Bậc đào tạo: Cao đẳng
C7: Môn: Chiến lược và chính sách kinh doanh | E7: Loại đào tạo: Chính quy 2 năm
A9: STT | B9: Mã SV | C9: Họ đệm | D9: Tên | E9: Ký tên | F9: Ghi chú
A10: 1 | B10: 20004541 | C10: Nguyễn Trường | D10: An
A11: 2 | B11: 20003113 | C11: Tạ Phúc | D11: An
A12: 3 | B12: 20006658 | C12: Tăng Ngọc | D12: Anh
A13: 4 | B13: 20004277 | C13: Nguyễn Thị Bé | D13: Ba
A14: 5 | B14: 20005322 | C14: Trượng Thị Mỹ | D14: Châu
A15: 6 | B15: 20003749 | C15: Dương Quốc | D15: Đạt
A16: 7 | B16: 20004648 | C16: Trần Thị Thúy | D16: Diễm
A17: 8 | B17: 20004746 | C17: Đặng Đình | D17: Dinh
A18: 9 | B18: 20004742 | C18: Đồng Trần Quốc | D18: Dũng
A19: 10 | B19: 20005202 | C19: Đàm Văn | D19: Duy
A20: 11 | B20: 20001118 | C20: Nguyễn Hoàng | D20: Duy
A21: 12 | B21: 20005670 | C21: Nguyễn Hoàng Anh | D21: Duy
... A81: 72 | B81: 20004605 | C81: Nguyễn Thị Phượng | D81: Yến
E85: TP. HCM, ngày 22 tháng 12 năm 2020
E86: Trưởng khoa

Sheet 19C1-QTD1 CCan
E4: DANH SÁCH ĐIỂM DANH SINH VIÊN
A6: Lớp học : | C6: 20C1-QTD1
A7: Môn học : | C7: Chiến lược và chính sách kinh doanh | P7: Tên GV : TS Nguyễn Trọng Nghĩa
A8: Tổng số tiết môn học : 45 | P8: Số tiết dạy hàng ngày : 3
A9: Ngành: Quản trị doanh nghiệp vừa và nhỏ
B10: 1 | C10: 2 | D10: 3 | E10: 4 | F10: 5 | G10: 6 | H10: 7 | I10: 8 | J10: 9 | K10: 10 | L10: 11 | M10: 12 | N10: 13 | O10: 14 | P10: 15 | Q10: 16 | R10: 17 | S10: 18 | T10: 19 | U10: 20 | V10: 21 | W10: 22 | X10: 23 | Y10: 24 | Z10: 25 | AA10: 26 | AB10: 27 | AC10: 28 | AD10: 29 | AE10: 30 | AF10: 31 | AG10: 32 | AH10: 33 | AI10: 34 | AJ10: 35 | AK10: 36 | AL10: 37 | AM10: 38 | AN10: 39 | AO10: 40 | AP10: 41 | AQ10: 42 | AR10: 45 | AS10: 46
A11: STT | B11: Mã SV | C11: Họ và tên lót | D11: Tên | E11: Nhóm | F11: Điểm | N11: 44285 | P11: =N11+7 -> 44292 | R11: =P11+7 -> 44299 | T11: =R11+7 -> 44306 | V11: =T11+7 -> 44313 | X11: =V11+7 -> 44320 | Z11: =X11+7 -> 44327 | AB11: =Z11+7 -> 44334 | AD11: =AB11+7 -> 44341 | AF11: =AD11+7 -> 44348 | AH11: =AF11+7 -> 44355 | AJ11: =AH11+21 -> 44376 | AL11: =AJ11+7 -> 44383 | AN11: =AL11+7 -> 44390 | AP11: =AN11+7 -> 44397 | AR11: Tổng số tiết | AS11: Số điểm chuyên cần
F12: TT PB | G12: C4 | H12: C5 | I12: C6 | J12: C7 | K12: C8 | L12: C9 | M12: C10 | N12: K | O12: P | P12: K | Q12: P | R12: K | S12: P | T12: K | U12: P | V12: K | W12: P | X12: K | Y12: P | Z12: K | AA12: P | AB12: K | AC12: P | AD12: K | AE12: P | AF12: K | AG12: P | AH12: K | AI12: P | AJ12: K | AK12: P | AL12: K | AM12: P | AN12: K | AO12: P | AP12: K | AQ12: P
A13: 1 | B13: 20004541 | C13: Nguyễn Trường | D13: An | AR13: =SUM($N13:$AQ13) -> 0 | AS13: =ROUND((15-$AR13)/15*100,0) -> 100
A14: 2 | B14: 20003113 | C14: Tạ Phúc | D14: An | AR14: =SUM($N14:$AQ14) -> 0 | AS14: =ROUND((15-$AR14)/15*100,0) -> 100
A15: 3 | B15: 20006658 | C15: Tăng Ngọc | D15: Anh | AR15: =SUM($N15:$AQ15) -> 0 | AS15: =ROUND((15-$AR15)/15*100,0) -> 100
A16: 4 | B16: 20004277 | C16: Nguyễn Thị Bé | D16: Ba | AR16: =SUM($N16:$AQ16) -> 0 | AS16: =ROUND((15-$AR16)/15*100,0) -> 100
A17: 5 | B17: 20005322 | C17: Trượng Thị Mỹ | D17: Châu | AR17: =SUM($N17:$AQ17) -> 0 | AS17: =ROUND((15-$AR17)/15*100,0) -> 100
A18: 6 | B18: 20003749 | C18: Dương Quốc | D18: Đạt | AR18: =SUM($N18:$AQ18) -> 0 | AS18: =ROUND((15-$AR18)/15*100,0) -> 100
A19: 7 | B19: 20004648 | C19: Trần Thị Thúy | D19: Diễm | AR19: =SUM($N19:$AQ19) -> 0 | AS19: =ROUND((15-$AR19)/15*100,0) -> 100
A20: 8 | B20: 20004746 | C20: Đặng Đình | D20: Dinh | AR20: =SUM($N20:$AQ20) -> 0 | AS20: =ROUND((15-$AR20)/15*100,0) -> 100
A21: 9 | B21: 20004742 | C21: Đồng Trần Quốc | D21: Dũng | AR21: =SUM($N21:$AQ21) -> 0 | AS21: =ROUND((15-$AR21)/15*100,0) -> 100
A22: 10 | B22: 20005202 | C22: Đàm Văn | D22: Duy | AR22: =SUM($N22:$AQ22) -> 0 | AS22: =ROUND((15-$AR22)/15*100,0) -> 100
A23: 11 | B23: 20001118 | C23: Nguyễn Hoàng | D23: Duy | AR23: =SUM($N23:$AQ23) -> 0 | AS23: =ROUND((15-$AR23)/15*100,0) -> 100
A24: 12 | B24: 20005670 | C24: Nguyễn Hoàng Anh | D24: Duy | AR24: =SUM($N24:$AQ24) -> 0 | AS24: =ROUND((15-$AR24)/15*100,0) -> 100
A25: 13 | B25: 20006682 | C25: Nguyễn Mạnh | D25: Duy | AR25: =SUM($N25:$AQ25) -> 0 | AS25: =ROUND((15-$AR25)/15*100,0) -> 100
... A84: 72 | B84: 20004605 | C84: Nguyễn Thị Phượng | D84: Yến | AR84: =SUM($N84:$AQ84) -> 0 | AS84: =ROUND((15-$AR84)/15*100,0) -> 100
A85: 73 | AR85: =SUM($N85:$AQ85) -> 0 | AS85: =ROUND((15-$AR85)/15*100,0) -> 100
N87: =COUNTIF(N$13:N$84,"") -> 72 | O87: =COUNTIF(O$13:O$84,"") -> 72 | P87: =COUNTIF(P$13:P$84,"") -> 72 | Q87: =COUNTIF(Q$13:Q$84,"") -> 72 | R87: =COUNTIF(R$13:R$84,"") -> 72 | S87: =COUNTIF(S$13:S$84,"") -> 72 | T87: =COUNTIF(T$13:T$84,"") -> 72 | U87: =COUNTIF(U$13:U$84,"") -> 72 | ... AQ87: =COUNTIF(AQ$13:AQ$84,"") -> 72 | AR87: =COUNTIF(AR$13:AR$65,"") -> 0 | AS87: =COUNTIF(AS$13:AS$65,"") -> 0
N88: =COUNTIF(N$13:N$65,"3") -> 0 | O88: =COUNTIF(O$13:O$65,"3") -> 0 | P88: =COUNTIF(P$13:P$65,"3") -> 0 | Q88: =COUNTIF(Q$13:Q$65,"3") -> 0 | R88: =COUNTIF(R$13:R$65,"3") -> 0 | S88: =COUNTIF(S$13:S$65,"3") -> 0 | T88: =COUNTIF(T$13:T$65,"3") -> 0 | U88: =COUNTIF(U$13:U$65,"3") -> 0 | ... AQ88: =COUNTIF(AQ$13:AQ$65,"3") -> 0 | AR88: =COUNTIF(AR$13:AR$65,"4") -> 0 | AS88: =COUNTIF(AS$13:AS$65,"4") -> 0
N89: =SUM(N$87:N$88) -> 72 | O89: =SUM(O$87:O$88) -> 72 | P89: =SUM(P$87:P$88) -> 72 | Q89: =SUM(Q$87:Q$88) -> 72 | R89: =SUM(R$87:R$88) -> 72 | S89: =SUM(S$87:S$88) -> 72 | T89: =SUM(T$87:T$88) -> 72 | U89: =SUM(U$87:U$88) -> 72 | ... AQ89: =SUM(AQ$87:AQ$88) -> 72 | AR89: =SUM(AR$68:AR$69) -> 0 | AS89: =SUM(AS$68:AS$69) -> 200

Sheet 19C1-QTD1 KQua
E4: KẾT QUẢ HỌC TẬP
A6: Lớp học : | C6: 20C1-QTD1
A7: Môn học : | C7: Chiến lược và chính sách kinh doanh | G7: Tên GV : TS Nguyễn Trọng Nghĩa
A8: Tổng số tiết môn học : 45 | G8: Số tiết dạy hàng ngày : 3
A9: Ngành: Quản trị doanh nghiệp vừa và nhỏ
A11: No | B11: Mã SV | C11: Họ và tên lót | D11: Tên | F11: 2 | G11: 2 | H11: 3 | I11: TỔNG | J11: KẾT QUẢ | K11: GHI CHÚ
E12: CH CẦN | F12: KIỂM TRA | G12: GIỮA KỲ | H12: CUỐI KỲ
A13: 1 | B13: 20004541 | C13: Nguyễn Trường | D13: An | E13: =VLOOKUP($B13,'19C1-QTD1 KQua'!$B$13:$AU$95,46,0) -> 0 | I13: =ROUND(IF($E13<>"",($F$11*$F13+$G$11*$G13+$H$11*$H13)/7,""),0) -> 0 | J13: =IF($I13>=5,"ĐẬU",IF($I13>=4,"THI LẠI","K ĐẠT")) -> K ĐẠT
A14: 2 | B14: 20003113 | C14: Tạ Phúc | D14: An | E14: =VLOOKUP($B14,'19C1-QTD1 KQua'!$B$13:$AU$95,46,0) -> 0 | I14: =ROUND(IF($E14<>"",($F$11*$F14+$G$11*$G14+$H$11*$H14)/7,""),0) -> 0 | J14: =IF($I14>=5,"ĐẬU",IF($I14>=4,"THI LẠI","K ĐẠT")) -> K ĐẠT
A15: 3 | B15: 20006658 | C15: Tăng Ngọc | D15: Anh | E15: =VLOOKUP($B15,'19C1-QTD1 KQua'!$B$13:$AU$95,46,0) -> 0 | I15: =ROUND(IF($E15<>"",($F$11*$F15+$G$11*$G15+$H$11*$H15)/7,""),0) -> 0 | J15: =IF($I15>=5,"ĐẬU",IF($I15>=4,"THI LẠI","K ĐẠT")) -> K ĐẠT
A16: 4 | B16: 20004277 | C16: Nguyễn Thị Bé | D16: Ba | E16: =VLOOKUP($B16,'19C1-QTD1 KQua'!$B$13:$AU$95,46,0) -> 0 | I16: =ROUND(IF($E16<>"",($F$11*$F16+$G$11*$G16+$H$11*$H16)/7,""),0) -> 0 | J16: =IF($I16>=5,"ĐẬU",IF($I16>=4,"THI LẠI","K ĐẠT")) -> K ĐẠT
A17: 5 | B17: 20005322 | C17: Trượng Thị Mỹ | D17: Châu | E17: =VLOOKUP($B17,'19C1-QTD1 KQua'!$B$13:$AU$95,46,0) -> 0 | I17: =ROUND(IF($E17<>"",($F$11*$F17+$G$11*$G17+$H$11*$H17)/7,""),0) -> 0 | J17: =IF($I17>=5,"ĐẬU",IF($I17>=4,"THI LẠI","K ĐẠT")) -> K ĐẠT
A18: 6 | B18: 20003749 | C18: Dương Quốc | D18: Đạt | E18: =VLOOKUP($B18,'19C1-QTD1 KQua'!$B$13:$AU$95,46,0) -> 0 | I18: =ROUND(IF($E18<>"",($F$11*$F18+$G$11*$G18+$H$11*$H18)/7,""),0) -> 0 | J18: =IF($I18>=5,"ĐẬU",IF($I18>=4,"THI LẠI","K ĐẠT")) -> K ĐẠT
A19: 7 | B19: 20004648 | C19: Trần Thị Thúy | D19: Diễm | E19: =VLOOKUP($B19,'19C1-QTD1 KQua'!$B$13:$AU$95,46,0) -> 0 | I19: =ROUND(IF($E19<>"",($F$11*$F19+$G$11*$G19+$H$11*$H19)/7,""),0) -> 0 | J19: =IF($I19>=5,"ĐẬU",IF($I19>=4,"THI LẠI","K ĐẠT")) -> K ĐẠT
A20: 8 | B20: 20004746 | C20: Đặng Đình | D20: Dinh | E20: =VLOOKUP($B20,'19C1-QTD1 KQua'!$B$13:$AU$95,46,0) -> 0 | I20: =ROUND(IF($E20<>"",($F$11*$F20+$G$11*$G20+$H$11*$H20)/7,""),0) -> 0 | J20: =IF($I20>=5,"ĐẬU",IF($I20>=4,"THI LẠI","K ĐẠT")) -> K ĐẠT
A21: 9 | B21: 20004742 | C21: Đồng Trần Quốc | D21: Dũng | E21: =VLOOKUP($B21,'19C1-QTD1 KQua'!$B$13:$AU$95,46,0) -> 0 | I21: =ROUND(IF($E21<>"",($F$11*$F21+$G$11*$G21+$H$11*$H21)/7,""),0) -> 0 | J21: =IF($I21>=5,"ĐẬU",IF($I21>=4,"THI LẠI","K ĐẠT")) -> K ĐẠT
A22: 10 | B22: 20005202 | C22: Đàm Văn | D22: Duy | E22: =VLOOKUP($B22,'19C1-QTD1 KQua'!$B$13:$AU$95,46,0) -> 0 | I22: =ROUND(IF($E22<>"",($F$11*$F22+$G$11*$G22+$H$11*$H22)/7,""),0) -> 0 | J22: =IF($I22>=5,"ĐẬU",IF($I22>=4,"THI LẠI","K ĐẠT")) -> K ĐẠT
A23: 11 | B23: 20001118 | C23: Nguyễn Hoàng | D23: Duy | E23: =VLOOKUP($B23,'19C1-QTD1 KQua'!$B$13:$AU$95,46,0) -> 0 | I23: =ROUND(IF($E23<>"",($F$11*$F23+$G$11*$G23+$H$11*$H23)/7,""),0) -> 0 | J23: =IF($I23>=5,"ĐẬU",IF($I23>=4,"THI LẠI","K ĐẠT")) -> K ĐẠT
A24: 12 | B24: 20005670 | C24: Nguyễn Hoàng Anh | D24: Duy | E24: =VLOOKUP($B24,'19C1-QTD1 KQua'!$B$13:$AU$95,46,0) -> 0 | I24: =ROUND(IF($E24<>"",($F$11*$F24+$G$11*$G24+$H$11*$H24)/7,""),0) -> 0 | J24: =IF($I24>=5,"ĐẬU",IF($I24>=4,"THI LẠI","K ĐẠT")) -> K ĐẠT
... A84: 72 | B84: 20004605 | C84: Nguyễn Thị Phượng | D84: Yến | E84: =VLOOKUP($B84,'19C1-QTD1 KQua'!$B$13:$AU$95,46,0) -> 0 | I84: =ROUND(IF($E84<>"",($F$11*$F84+$G$11*$G84+$H$11*$H84)/7,""),0) -> 0 | J84: =IF($I84>=5,"ĐẬU",IF($I84>=4,"THI LẠI","K ĐẠT")) -> K ĐẠT
E85: =VLOOKUP($B85,'19C1-QTD1 KQua'!$B$13:$AU$95,46,0) -> #N/A | I85: =ROUND(IF($E85<>"",($F$11*$F85+$G$11*$G85+$H$11*$H85)/7,""),0) -> #N/A | J85: =IF($I85>=5,"ĐẬU",IF($I85>=4,"THI LẠI","K ĐẠT")) -> #N/A
E86: =VLOOKUP($B86,'19C1-QTD1 KQua'!$B$13:$AU$95,46,0) -> #N/A | I86: =ROUND(IF($E86<>"",($F$11*$F86+$G$11*$G86+$H$11*$H86)/7,""),0) -> #N/A | J86: =IF($I86>=5,"ĐẬU",IF($I86>=4,"THI LẠI","K ĐẠT")) -> #N/A
E87: =VLOOKUP($B87,'19C1-QTD1 KQua'!$B$13:$AU$95,46,0) -> #N/A | I87: =ROUND(IF($E87<>"",($F$11*$F87+$G$11*$G87+$H$11*$H87)/7,""),0) -> #N/A | J87: =IF($I87>=5,"ĐẬU",IF($I87>=4,"THI LẠI","K ĐẠT")) -> #N/A
E88: =VLOOKUP($B88,'19C1-QTD1 KQua'!$B$13:$AU$95,46,0) -> #N/A | I88: =ROUND(IF($E88<>"",($F$11*$F88+$G$11*$G88+$H$11*$H88)/7,""),0) -> #N/A | J88: =IF($I88>=5,"ĐẬU",IF($I88>=4,"THI LẠI","K ĐẠT")) -> #N/A
E89: =VLOOKUP($B89,'19C1-QTD1 KQua'!$B$13:$AU$95,46,0) -> #N/A | I89: =ROUND(IF($E89<>"",($F$11*$F89+$G$11*$G89+$H$11*$H89)/7,""),0) -> #N/A | J89: =IF($I89>=5,"ĐẬU",IF($I89>=4,"THI LẠI","K ĐẠT")) -> #N/A
E90: =VLOOKUP($B90,'19C1-QTD1 KQua'!$B$13:$AU$95,46,0) -> #N/A | I90: =ROUND(IF($E90<>"",($F$11*$F90+$G$11*$G90+$H$11*$H90)/7,""),0) -> #N/A | J90: =IF($I90>=5,"ĐẬU",IF($I90>=4,"THI LẠI","K ĐẠT")) -> #N/A
E91: =VLOOKUP($B91,'19C1-QTD1 KQua'!$B$13:$AU$95,46,0) -> #N/A | I91: =ROUND(IF($E91<>"",($F$11*$F91+$G$11*$G91+$H$11*$H91)/7,""),0) -> #N/A | J91: =IF($I91>=5,"ĐẬU",IF($I91>=4,"THI LẠI","K ĐẠT")) -> #N/A
E92: =VLOOKUP($B92,'19C1-QTD1 KQua'!$B$13:$AU$95,46,0) -> #N/A | I92: =ROUND(IF($E92<>"",($F$11*$F92+$G$11*$G92+$H$11*$H92)/7,""),0) -> #N/A | J92: =IF($I92>=5,"ĐẬU",IF($I92>=4,"THI LẠI","K ĐẠT")) -> #N/A
E93: =VLOOKUP($B93,'19C1-QTD1 KQua'!$B$13:$AU$95,46,0) -> #N/A | I93: =ROUND(IF($E93<>"",($F$11*$F93+$G$11*$G93+$H$11*$H93)/7,""),0) -> #N/A | J93: =IF($I93>=5,"ĐẬU",IF($I93>=4,"THI LẠI","K ĐẠT")) -> #N/A
E94: =VLOOKUP($B94,'19C1-QTD1 KQua'!$B$13:$AU$95,46,0) -> #N/A | I94: =ROUND(IF($E94<>"",($F$11*$F94+$G$11*$G94+$H$11*$H94)/7,""),0) -> #N/A | J94: =IF($I94>=5,"ĐẬU",IF($I94>=4,"THI LẠI","K ĐẠT")) -> #N/A
E95: =VLOOKUP($B95,'19C1-QTD1 KQua'!$B$13:$AU$95,46,0) -> #N/A | I95: =ROUND(IF($E95<>"",($F$11*$F95+$G$11*$G95+$H$11*$H95)/7,""),0) -> #N/A | J95: =IF($I95>=5,"ĐẬU",IF($I95>=4,"THI LẠI","K ĐẠT")) -> #N/A
E96: =VLOOKUP($B96,'19C1-QTD1 KQua'!$B$13:$AU$95,46,0) -> #N/A | I96: =ROUND(IF($E96<>"",($F$11*$F96+$G$11*$G96+$H$11*$H96)/7,""),0) -> #N/A | J96: =IF($I96>=5,"ĐẬU",IF($I96>=4,"THI LẠI","K ĐẠT")) -> #N/A
... E98: =VLOOKUP($B98,'19C1-QTD1 KQua'!$B$13:$AU$95,46,0) -> #N/A | I98: =ROUND(IF($E98<>"",($F$11*$F98+$G$11*$G98+$H$11*$H98)/7,""),0) -> #N/A | J98: =IF($I98>=5,"ĐẬU",IF($I98>=4,"THI LẠI","K ĐẠT")) -> #N/A
G101: Pass | J101: =COUNTIF($J$13:$J$53,"Pass") -> 0
G102: Fail | J102: =COUNTIF($J$13:$J$53,"Fail") -> 0
G103: Sup-Test | J103: =COUNTIF($J$13:$J$53,"Sup-Test") -> 0
G104: Total | J104: =SUM(J$101:J$103) -> 0
