Workbook

Sheet Danh sách khảo sát 2019-2020
B1: TRƯỜNG CAO ĐẲNG LÝ TỰ TRỌNG | D1: CỘNG HÒA XÃ HỘI CHỦ NGHĨA VIỆT NAM
B2: THÀNH PHỐ HỒ CHÍ MINH | D2: Độc lập - Tự do - Hạnh phúc
A3: TRUNG TÂM QUAN HỆ DOANH NGHIỆP
D4: Tp. Hồ Chí Minh, ngày 26 tháng 6 năm 2019
A5: DANH SÁCH Doanh nghiệp được khảo sát ý kiến về chất lượng đào tạo của trường Năm học 2019-2020
A7: STT | B7: Tên công ty | C7: Địa chỉ | D7: Số lượng cựu SV đang làm việc tại DN | E7: Chuyên ngành của cựu SV đang làm việc tại DN | F7: Ghi chú
A9: 1 | B9: Công ty TNHH TMDV AUTOSS | C9: 458 Quốc lộ 1, P. Bình Hưng Hòa A, Q. Bình Tân, Tp. HCM | D9: 4 | E9: Điện - Điện tử
A10: 2 | B10: Công ty cổ phần dây cáp điện Daphaco | C10: 15/15 Phan Văn Hớn, KP5, P.Tân Thới Nhất, Q.12, TP. HCM www.daphaco.com | D10: 27 | E10: Điện - Điện tử Cơ khí Kinh tế
A11: 3 | B11: Công ty TNHH Điện lạnh Miền Tây | C11: 28 An Hội, P.13, Q. Gò Vấp, Tp.HCM | D11: 3 | E11: Điện - Điện tử Cơ khí Nhiệt lạnh
A12: 4 | B12: Công ty Cổ phần Tập đoàn Thép Nguyễn Minh | C12: Lô D1-D9 đến D1-22, KCN Vĩnh Lộc 2, đường VL2, Ấp Voi Lá, xã Long Hiệp, huyện Bến Lức, tỉnh Long An | D12: 20 | E12: Cơ khí Điện - Điện tử Khác
A13: 5 | B13: Công ty Cổ phần Bách Khoa Group Holding | C13: 497/6 Sư Vạn Hạnh, P.12, Q.10, Tp. HCM | D13: 10 | E13: Cơ khí Điện - Điện tử Kinh tế
A14: 6 | B14: Công ty cổ phần SXTM Đào Tiên | C14: Lô II, đường E, KCN. Tân Tạo, Q. Bình Tân, Tp. HCM | D14: 19 | E14: Cơ khí; Điện - Điện tử
A15: 7 | B15: Công ty TNHH TMDV Cao Hùng | C15: 1686 Võ Văn Kiệt, P.16, Q.8, Tp. HCM | D15: 0 | E15: Cơ khí CNTT Kinh tế Khác
A16: 8 | B16: Công ty TNHH Thang máy Đông Dương | C16: 137/1A Bình Quới, P.27, Q. Bình Thạnh, Tp. HCM | D16: 0 | E16: Cơ khí Điện - Điện tử
A17: 9 | B17: Công ty TNHH Cơ điện Rapid Việt Nam | C17: 99 đường 60, P. Thạnh Mỹ Lợi, Q.2, Tp. HCM | D17: 6 | E17: Cơ khí Điện - Điện tử
A18: 10 | B18: Công ty TNHH Công nghệ Không Gian | C18: Số 01 Cộng Hòa 3, P. Tân Thành, Q. Tân Phú, TP. HCM | D18: 0 | E18: Cơ khí
A19: 11 | B19: Cty cổ phần tư vấn Phước Tài | C19: 196/2/5C Lê Thị Bạch Cát, P. 11, Q.11, Tp.HCM | D19: 0 | E19: Xuất khẩu lđ Cơ khí Điện - Điện tử Động lực CNTT
A20: 12 | B20: Công ty liên doanh TNHH Crow Sài Gòn (Sabeco) | C20: Số 700, xa lộ Hà Nội, P. Hiệp Phú, Q.9, Tp. HCM | D20: 5 | E20: Cơ khí Điện - Điện tử
... A42: 34 | B42: Công ty TNHH MTV TM DV KT TH FORKLIFT | C42: 557/57/23 Hương Lộ 3, KP.9, đường Bình Hưng Hòa, quận Bình Tân, Tp. HCM | D42: 10 | E42: Động lực
A43: Tổng | D43: 469
D46: TRƯỞNG TRUNG TÂM
D52: Nguyễn Văn Chiến

Sheet Tổng hợp phiếu 2020-2021
B1: TRƯỜNG CAO ĐẲNG LÝ TỰ TRỌNG | E1: CỘNG HÒA XÃ HỘI CHỦ NGHĨA VIỆT NAM
B2: THÀNH PHỐ HỒ CHÍ MINH | E2: Độc lập - Tự do - Hạnh phúc
B3: TRUNG TÂM QUAN HỆ DOANH NGHIỆP
BR4: =20.69+34.48+17.24 -> 72.41
A5: PHIẾU KHẢO SÁT DOANH NGHIỆP NĂM 2020 (chốt tổng 60 DN - sếp chốt 07/5/21)
A7: STT | B7: Tên công ty | C7: Địa chỉ | D7: Số lượng cựu HSSV đang làm việc tại công ty | E7: Người liên hệ | F7: 1. Loại hình doanh nghiệp | J7: 2. SL HSSV của trường đến làm việc hoặc thực tập | M7: 3. SL lao động của công ty | Q7: 4. Ngành nghề sản xuất/kinh doanh chính của DN | W7: 5. Thị trường hoạt động của DN | Z7: 6. Công nghệ SX/lắp ráp chính | AD7: 7. Nhu cầu tuyển dụng LĐ/HSSV thực tập trong 12 tháng tới (người) | AG7: 8. Nhu cầu tuyển dụng của DN trong thời gian tới (người) | AY7: 9. Số lượng HSSV trường CĐ LTT TP. HCM được DN tuyển dụng làm việc/TTTN và mức độ khó khăn trong tuyển dụng | BQ7: 10. Nguyên nhân khó khăn trong việc tuyển dụng HSSV | BU7: 11. Thời gian HSSV Trường CĐ LTT TP. HCM cần đào tạo trung bình trước khi bắt đầu công việc (ngày) | CD7: 12. Mức độ hài lòng đối với LĐ/HSSV TTTN từ trường CĐ LTT | DW7: 13. Sự phối hợp giữa DN và Trường CĐ LTT TP. HCM trong việc XD dữ liệu thông tin về việc làm và TTTN của HSSV | EA7: 14. Những kỹ năng chuyên ngành và kỹ năng mềm mà nhà trường cần bổ sung cho HSSV để phù hợp với công việc tại cơ quan, DN | EG7: 15. Chương trình đào tạo của Trường CĐ LTT TP. HCM | EK7: 16. Đề nghị của cơ quan, DN với Trường CĐ LTT TP. HCM | EL7: Ngành nghề | EM7: Ghi Chú
F8: DNNN | G8: DN ngoài NN | H8: DN có vốn ĐT nước ngoài | I8: DNTN | J8: Tổng | K8: CĐ | L8: TC | M8: Dưới 10 | N8: 11 đến 50 | O8: 51 đến 200 | P8: Trên 200 | Q8: Công nghiệp chế biến | R8: TM&DV (buôn bán lẻ) | S8: Dự án, công trình, thi công, xây dựng | T8: Sản xuất, phân phối | U8: Thông tin liên lạc, CNTT | V8: Ngành nghề khác, ghi cụ thể | W8: Trong nước | X8: Xuất khẩu | Y8: Cả hai | Z8: Thủ công | AA8: Bán tự động | AB8: Tự động | AC8: Không sx | AD8: CĐ | AE8: TC | AF8: Không có nhu cầu | AG8: Cơ khí | AI8: Điện-ĐT | AK8: Động lực (ô tô) | AM8: CNTT | AO8: Kinh tế | AQ8: MTT | AS8: Nhiệt lạnh | AU8: Xây dựng | AW8: Khác | AY8: Cơ khí | BA8: Điện-ĐT | BC8: Động lực (ô tô) | BE8: CNTT | BG8: Kinh tế | BI8: MTT | BK8: Nhiệt lạnh | BM8: Xây dựng | BO8: Khác | BQ8: Thiếu LĐ đáp ứng y.c về chuyên môn KT, tay nghề ở khu vực địa phương | BR8: Ứng viên có trình độ thấp | BS8: Mức thu nhập của ứng viên không được chấp thuận | BT8: Khác (nếu có) | BU8: Cơ khí | BV8: Đ-ĐT | BW8: Động lực | BX8: CNTT | BY8: Kinh tế | BZ8: MTT | CA8: Nhiệt lạnh | CB8: Xây dựng | CC8: Khác | CD8: Cơ khí | CI8: Đ-ĐT | CN8: Động lực (ô tô) | CS8: CNTT | CX8: Kinh tế | DC8: May-TT | DH8: Nhiệt lạnh | DM8: Xây dựng | DR8: Khác | DW8: Tốt | DX8: Khá | DY8: TB | DZ8: Chưa tốt | EA8: Kỹ năng giao tiếp | EB8: Kỹ năng thực hành | EC8: Lý thuyết chuyên môn | ED8: Kỹ năng sống | EE8: Kỹ năng làm việc nhóm | EF8: khác | EG8: Phù hợp | EH8: Phù hợp một phần | EI8: Chưa hoàn toàn phù hợp | EJ8: Khác
AG9: CĐ | AH9: TC | AI9: CĐ | AJ9: TC | AK9: CĐ | AL9: TC | AM9: CĐ | AN9: TC | AO9: CĐ | AP9: TC | AQ9: CĐ | AR9: TC | AS9: CĐ | AT9: TC | AU9: CĐ | AV9: TC | AW9: CĐ | AX9: TC | AY9: SL | AZ9: Khó tuyển | BA9: SL | BB9: Khó tuyển | BC9: SL | BD9: Khó tuyển | BE9: SL | BF9: Khó tuyển | BG9: SL | BH9: Khó tuyển | BI9: SL | BJ9: Khó tuyển | BK9: SL | BL9: Khó tuyển | BM9: SL | BN9: Khó tuyển | BO9: SL | BP9: Khó tuyển | CD9: Hoàn toàn hài lòng | CE9: Phần lớn hài lòng | CF9: Hài lòng | CG9: Phần lớn không hài lòng | CH9: Hoàn toàn không hài lòng | CI9: Hoàn toàn hài lòng | CJ9: Phần lớn hài lòng | CK9: Hài lòng | CL9: Phần lớn không hài lòng | CM9: Hoàn toàn không hài lòng | CN9: Hoàn toàn hài lòng | CO9: Phần lớn hài lòng | CP9: Hài lòng | CQ9: Phần lớn không hài lòng | CR9: Hoàn toàn không hài lòng | CS9: Hoàn toàn hài lòng | CT9: Phần lớn hài lòng | CU9: Hài lòng | CV9: Phần lớn không hài lòng | CW9: Hoàn toàn không hài lòng | CX9: Hoàn toàn hài lòng | CY9: Phần lớn hài lòng | CZ9: Hài lòng | DA9: Phần lớn không hài lòng | DB9: Hoàn toàn không hài lòng | DC9: Hoàn toàn hài lòng | DD9: Phần lớn hài lòng | DE9: Hài lòng | DF9: Phần lớn không hài lòng | DG9: Hoàn toàn không hài lòng | DH9: Hoàn toàn hài lòng | DI9: Phần lớn hài lòng | DJ9: Hài lòng | DK9: Phần lớn không hài lòng | DL9: Hoàn toàn không hài lòng | DM9: Hoàn toàn hài lòng | DN9: Phần lớn hài lòng | DO9: Hài lòng | DP9: Phần lớn không hài lòng | DQ9: Hoàn toàn không hài lòng | DR9: Hoàn toàn hài lòng | DS9: Phần lớn hài lòng | DT9: Hài lòng | DU9: Phần lớn không hài lòng | DV9: Hoàn toàn không hài lòng
A10: 1 | B10: Công ty TNHH SX TM Chu | C10: 459 Bến Phú Lâm, P.9, Q.6, Tp. HCM | D10: 6 | E10: Ms. Trần Thị Thu Anh 0908.087.982 | G10: x | J10: =K10+L10 -> 6 | K10: 6 | L10: 0 | N10: x | T10: x | X10: x | AB10: x | AD10: =AG10+AI10+AK10+AM10+AO10+AQ10+AS10+AU10+AW10 -> 10 | AE10: =AH10+AJ10+AL10+AN10+AP10+AR10+AT10+AV10+AX10 -> 5 | AG10: 10 | AH10: 5 | AY10: 3 | AZ10: x | BQ10: x | BU10: 50 | CD10: x | DW10: x | EA10: x | EG10: x | EL10: Cơ khí; Điện - Điện tử
A11: 2 | B11: Công ty TNHH SX TM Phana | C11: 1A Lý Thường Kiệt,P.7, Q. Tân Bình, Tp. HCM | D11: 7 | E11: Mr. Phan Phát Năng 028.3971.4034 0907.087.978 | I11: x | J11: =K11+L11 -> 0 | O11: x | T11: x | W11: x | AA11: x | AD11: =AG11+AI11+AK11+AM11+AO11+AQ11+AS11+AU11+AW11 -> 5 | AE11: =AH11+AJ11+AL11+AN11+AP11+AR11+AT11+AV11+AX11 -> 5 | AG11: 5 | AH11: 5 | AY11: 5 | BU11: 0 | CF11: x | DW11: x | EB11: x | EG11: x | EL11: Cơ khí; Điện - Điện tử
A12: 3 | B12: Công ty TNHH MTV Hải Vân SG | C12: 818/11/9B Nguyễn Kiệm, phường 3, quận Gò Vấp, Tp.HCM | D12: 3 | E12: Mr. Phạm Hồ Hải 0903953620 | I12: x | J12: =K12+L12 -> 0 | N12: x | T12: x | Y12: x | AB12: x | AD12: =AG12+AI12+AK12+AM12+AO12+AQ12+AS12+AU12+AW12 -> 0 | AE12: =AH12+AJ12+AL12+AN12+AP12+AR12+AT12+AV12+AX12 -> 0 | AY12: 0 | BA12: 0 | BC12: 0 | BE12: 0 | BG12: 0 | BI12: 0 | BK12: 0 | BM12: 0 | BO12: 0 | DW12: x | EB12: x | EG12: x | EL12: Cơ khí; Điện - Điện tử
A13: 4 | B13: Công ty TNHH SX TM DV Thiên Tân | C13: 184/26A/A Lê Đình Cẩn, P. Tân Tạo, Q. Bình Tân, Tp. HCM | D13: 4 | E13: 037624900 | I13: x | J13: =K13+L13 -> 0 | M13: x | V13: x | W13: x | AC13: x | AD13: =AG13+AI13+AK13+AM13+AO13+AQ13+AS13+AU13+AW13 -> 2 | AE13: =AH13+AJ13+AL13+AN13+AP13+AR13+AT13+AV13+AX13 -> 2 | AG13: 2 | AH13: 2 | AY13: 0 | AZ13: x | BR13: x | BU13: 60 | CF13: x | DX13: x | EB13: x | EH13: x | EL13: Cơ khí
A14: 5 | B14: Công ty TNHH H.T.F | C14: 45 đường 53, Khu dân cư Tân Tạo, Q. Bình Tân, Tp. HCM | D14: 0 | E14: 028.2245.1868 Fax: 028.3754.3457 www.htfmold.com | I14: x | J14: =K14+L14 -> 0 | M14: x | T14: x | W14: x | AA14: x | AD14: =AG14+AI14+AK14+AM14+AO14+AQ14+AS14+AU14+AW14 -> 3 | AE14: =AH14+AJ14+AL14+AN14+AP14+AR14+AT14+AV14+AX14 -> 3 | AG14: 3 | AH14: 3 | AY14: 0 | AZ14: x | BQ14: x | BU14: 90 | CF14: x | DY14: x | EB14: x | EH14: x | EL14: Cơ khí
A15: 6 | B15: Văn phòng đại diện Technostar Co.,LTD Nhật Bản tại Tp. HCM | C15: Tòa nhà Sabay Tower, 288-290 Phạm Văn Hai, P. 5, Q. Tân Bình, Tp. HCM | D15: 3 | E15: Mr. Hội Nguyễn (Mr. Yamato, PhD) Managing Director hoi@e-technostar.com 0909.075.089 www.e-technostar.com/ | F15: x | J15: =K15+L15 -> 3 | K15: 3 | L15: 0 | N15: x | U15: x | X15: x | AC15: x | AD15: =AG15+AI15+AK15+AM15+AO15+AQ15+AS15+AU15+AW15 -> 5 | AE15: =AH15+AJ15+AL15+AN15+AP15+AR15+AT15+AV15+AX15 -> 0 | AG15: 5 | AH15: 0 | AY15: 1 | BU15: 90 | CE15: x | DW15: x | EA15: x | EB15: x | EC15: x | ED15: x | EE15: x | EG15: x | EK15: - Tăng cường kỹ năng sử dụng máy tính cho sinh viên; - Tăng cường ngoại ngữ. | EL15: Cơ khí
A16: 7 | B16: Công ty TNHH Đào tạo nghề Cơ khí Bách Khoa | C16: 164 QL1A, Khu phố 10, P. Phường Bình Hưng Hòa B, Q. Bình Tân TP. HCM | D16: 3 | E16: Mr. Huỳnh Văn Nam 0908340151 ckbachkhoa@gmail.com www.ckbachkhoa.com | I16: x | J16: =K16+L16 -> 3 | K16: 3 | L16: 0 | N16: x | S16: x | AC16: x | AD16: 3 | AE16: =AH16+AJ16+AL16+AN16+AP16+AR16+AT16+AV16+AX16 -> 0 | AG16: 3 | AH16: 0 | AY16: 5 | AZ16: x | BU16: 0 | CD16: x | DW16: x | EA16: x | ED16: x | EG16: x | EL16: Cơ khí
A17: 8 | B17: Công ty TNHH Fujitek | C17: Số 1 Lũy Bán Bích, P. Tân Thới Hòa, Q. Tân Phú, Tp. HCM | D17: 5 | E17: Mr. Trần Gia Phương 0315647168 | I17: x | J17: =K17+L17 -> 5 | L17: 5 | M17: x | T17: x | W17: x | AB17: x | AE17: =AH17+AJ17+AL17+AN17+AP17+AR17+AT17+AV17+AX17 -> 5 | AG17: 5 | AH17: 5 | AY17: 5 | AZ17: x | BQ17: x | BU17: 30 | CD17: x | DX17: x | EA17: x | EB17: x | EC17: x | ED17: x | EE17: x | EH17: x | EL17: Cơ khí
A18: 9 | B18: Công ty cổ phần SX TM Đào Tiên | C18: Lô Số 2, Đường E, KCN Tân Tạo, P. Tân Tạo A, Q. Bình Tân, Tp. HCM | D18: 15 | E18: 0903720718 (028) 37541380 Fax: (028) 37541381 daotienco@yahoo.com www.daotiencompany.com | I18: x | J18: =K18+L18 -> 15 | K18: 5 | L18: 10 | O18: x | T18: x | W18: x | AA18: x | AD18: =AG18+AI18+AK18+AM18+AO18+AQ18+AS18+AU18+AW18 -> 14 | AE18: =AH18+AJ18+AL18+AN18+AP18+AR18+AT18+AV18+AX18 -> 15 | AG18: 10 | AH18: 15 | AI18: 4 | AY18: 10 | AZ18: x | BA18: 5 | BB18: x | BQ18: x | BR18: x | BU18: 0 | BV18: 0 | CE18: x | CJ18: x | DW18: x | EE18: x | EG18: x | EL18: Cơ khí; Đ-ĐT
A19: 10 | B19: Công ty TNHH cơ điện lạnh Hưng Kim Phúc | C19: Số 3 Quốc Hương, P. Thảo Điền, Q.2, Tp. HCM | D19: 5 | E19: Mr. Đào Phi Vũ (GĐ) 028.3744.6660 dienlanhphivu.com | I19: x | J19: =K19+L19 -> 5 | K19: 3 | L19: 2 | M19: x | S19: x | W19: x | Z19: x | AC19: x | AD19: =AG19+AI19+AK19+AM19+AO19+AQ19+AS19+AU19+AW19 -> 10 | AE19: =AH19+AJ19+AL19+AN19+AP19+AR19+AT19+AV19+AX19 -> 10 | AS19: 10 | AT19: 10 | BK19: 5 | CA19: 30 | CF19: x | DE19: x | DW19: x | EA19: x | EG19: x | EL19: Nhiệt lạnh
A20: 11 | B20: Công ty TNHH KT DV và TM CLP | C20: 135 Nguyễn Cư Trinh, P. Nguyễn Cư Trinh, Q.1, Tp. HCM | D20: 1 | E20: Mr. Nguyễn Trường Chiến 028.3920.5585 F: 028.3920.5586 www.cpl.vn | I20: x | J20: =K20+L20 -> 1 | K20: 1 | L20: 0 | N20: x | S20: x | W20: x | AC20: x | AD20: =AG20+AI20+AK20+AM20+AO20+AQ20+AS20+AU20+AW20 -> 2 | AE20: =AH20+AJ20+AL20+AN20+AP20+AR20+AT20+AV20+AX20 -> 0 | AS20: 2 | AT20: 0 | BK20: 1 | BS20: x | CA20: 30 | DH20: x | DX20: x | EC20: x | EH20: x | EL20: Nhiệt lạnh
A21: 12 | B21: Công ty TNHH Thanh Quân Phát | C21: 241 Trường Chinh, P.12, q. Tân Bình, Tp. HCM | D21: 15 | E21: Ms. Trần Thị Hồng Hạnh 028.3849.2183 thanhquanphat@gmail.com | I21: x | J21: =K21+L21 -> 15 | K21: 15 | N21: x | R21: x | W21: x | AC21: x | AD21: =AG21+AI21+AK21+AM21+AO21+AQ21+AS21+AU21+AW21 -> 12 | AE21: =AH21+AJ21+AL21+AN21+AP21+AR21+AT21+AV21+AX21 -> 0 | AI21: 2 | AJ21: 0 | AS21: 10 | AT21: 0 | BK21: 15 | BV21: 60 | CA21: 60 | CK21: x | DH21: x | DW21: x | EA21: x | EB21: x | EG21: x | EL21: Nhiệt lạnh; Đ-ĐT
A22: 13 | B22: Công ty TNHH Cơ điện Thanh Đa | C22: Số 146/59/18/107 Vũ Tùng, Phường 2, Quận Bình Thạnh, TP Hồ Chí Minh | D22: 40 | E22: Mr. Nguyễn Thanh Đa 0987941410 MST: 0312110600 | I22: x | J22: =K22+L22 -> 40 | K22: 30 | L22: 10 | O22: x | S22: x | Y22: x | AA22: x | AD22: =AG22+AI22+AK22+AM22+AO22+AQ22+AS22+AU22+AW22 -> 40 | AE22: =AH22+AJ22+AL22+AN22+AP22+AR22+AT22+AV22+AX22 -> 40 | AG22: 10 | AH22: 10 | AI22: 10 | AJ22: 10 | AS22: 20 | AT22: 20 | AY22: 10 | BA22: 10 | BK22: 20 | BL22: x | BQ22: x | BU22: 60 | BV22: 60 | CA22: 60 | CE22: x | CJ22: x | DI22: x | DX22: x | EA22: x | EB22: x | ED22: x | EE22: x | EG22: x | EL22: Nhiệt lạnh; Đ-ĐT; Cơ khí
A23: 14 | B23: Công ty TNHH B & K Engineering | C23: 89 Trần Bá Giao, P.5, Q. Gò Vấp, Tp. HCM | D23: 4 | E23: Mr. Đinh Văn Chuyên (GĐ) 028 3985 0593 | I23: x | J23: =K23+L23 -> 4 | K23: 3 | L23: 1 | M23: x | R23: x | AC23: x | AD23: =AG23+AI23+AK23+AM23+AO23+AQ23+AS23+AU23+AW23 -> 3 | AE23: =AH23+AJ23+AL23+AN23+AP23+AR23+AT23+AV23+AX23 -> 2 | AI23: 3 | AJ23: 2 | BA23: 4 | BV23: 30 | CK23: x | DW23: x | EA23: x | EB23: x | EE23: x | EG23: x | EL23: Đ-ĐT
A24: 15 | B24: Công ty Xây dựng Cơ điện Dương Gia | C24: 127/66/8 Âu Cơ, P.14, Q.11, Tp. HCM | D24: 1 | E24: Mr. Dương Như Thi 0902 863 677 | I24: x | J24: =K24+L24 -> 1 | K24: 1 | L24: 0 | N24: x | S24: x | W24: x | AC24: x | AD24: =AG24+AI24+AK24+AM24+AO24+AQ24+AS24+AU24+AW24 -> 5 | AE24: =AH24+AJ24+AL24+AN24+AP24+AR24+AT24+AV24+AX24 -> 0 | AI24: 3 | AS24: 2 | BA24: 3 | BK24: 2 | BV24: 30 | CA24: 30 | CJ24: x | DJ24: x | DX24: x | EH24: x | EL24: Đ-ĐT; Nhiệt lạnh
A25: 16 | B25: Công ty TNHH TM DV KT Quang Dũng | C25: Số 125/7G Lê Lợi, ấp Tân Thới 2, Xã Tân Hiệp, Huyện Hóc Môn, TP Hồ Chí Minh | D25: 5 | E25: Mr. Dương Văn Út 028 1833 4219 | I25: x | J25: =K25+L25 -> 5 | K25: 3 | L25: 2 | N25: x | R25: x | W25: x | AC25: x | AD25: =AG25+AI25+AK25+AM25+AO25+AQ25+AS25+AU25+AW25 -> 6 | AE25: =AH25+AJ25+AL25+AN25+AP25+AR25+AT25+AV25+AX25 -> 4 | AS25: 6 | AT25: 4 | BK25: 5 | BL25: x | BS25: x | CA25: 10 | DI25: x | DX25: x | EB25: x | EG25: x | EL25: Nhiệt lạnh
A26: 17 | B26: Công ty TNHH Cơ nhiệt Điện lạnh Bách Khoa | C26: 497/6, Sư Vạn Hạnh, P.12, Q. 10, Tp. HCM | D26: 1 | E26: Mr. Nguyễn Phước Thạnh 028 3863 6419 www.bkg.vn | I26: x | J26: =K26+L26 -> 1 | K26: 1 | L26: 0 | O26: x | R26: x | S26: x | W26: x | AA26: x | AD26: =AG26+AI26+AK26+AM26+AO26+AQ26+AS26+AU26+AW26 -> 10 | AE26: =AH26+AJ26+AL26+AN26+AP26+AR26+AT26+AV26+AX26 -> 0 | AG26: 4 | AI26: 4 | AS26: 2 | BK26: 1 | CA26: 10 | DJ26: x | DX26: x | EA26: x | ED26: x | EE26: x | EG26: x | EK26: Bách Khoa Group (BKG) sẽ tạo điều kiện để các em có môi trường thực tập, mong nhà trương sẽ phối hợp và tạo điều kiện để BKG tiếp nhận nhiều SVTT hơn | EL26: Cơ khí; Đ-ĐT; Nhiệt lạnh; Kinh tế
A27: 18 | B27: Công ty cổ phần Văn hóa Ngôi Nhà Xanh | C27: 159 Ter, Nam Kỳ Khởi Nghĩa, P.7, Q.3, Tp. HCM | D27: 15 | E27: Vũ Thị Thanh Nga 028 7107 9888 | I27: x | J27: =K27+L27 -> 15 | K27: 15 | L27: 0 | O27: x | U27: x | W27: x | AC27: x | AD27: =AG27+AI27+AK27+AM27+AO27+AQ27+AS27+AU27+AW27 -> 20 | AE27: =AH27+AJ27+AL27+AN27+AP27+AR27+AT27+AV27+AX27 -> 0 | AM27: 20 | BE27: 15 | BX27: 10 | CU27: x | DX27: x | EA27: x | EB27: x | ED27: x | EE27: x | EH27: x | EL27: CNTT
A28: 19 | B28: Công ty TNHH Tư vấn Đào tạo Xây dựng Phương Nam | C28: 126/25, đường số 20, Phường 5, Q. Gò Vấp, Tp. HCM | D28: 2 | E28: Mr. Nguyễn Trường Kiên 0907792590 F: 02862577311 | I28: x | J28: =K28+L28 -> 0 | N28: x | S28: x | W28: x | AC28: x | AD28: =AG28+AI28+AK28+AM28+AO28+AQ28+AS28+AU28+AW28 -> 5 | AE28: =AH28+AJ28+AL28+AN28+AP28+AR28+AT28+AV28+AX28 -> 0 | AU28: 5 | BM28: 2 | CB28: 15 | DN28: x | DW28: x | EA28: x | EB28: x | ED28: x | EE28: x | EH28: x | EL28: Xây dựng
A29: 20 | B29: Công ty cổ phần Xây dựng Dân dụng E & C | C29: 185, đường Hoa Lan, P. 2, Q. Phú Nhuận, Tp. HCM | D29: 3 | E29: Mr. Nguyễn Quang Cư 028 2253 4499 | I29: X | J29: =K29+L29 -> 3 | K29: 3 | L29: 0 | O29: X | S29: X | W29: X | AC29: X | AD29: =AG29+AI29+AK29+AM29+AO29+AQ29+AS29+AU29+AW29 -> 0 | AE29: =AH29+AJ29+AL29+AN29+AP29+AR29+AT29+AV29+AX29 -> 0 | CB29: 90 | DO29: X | DW29: X | EA29: X | EB29: X | EC29: X | ED29: X | EE29: X | EG29: X | EL29: Xây dựng
A30: 21 | B30: Công ty TNHH Cơ điện lạnh Nhất Tâm | C30: 119 Nguyễn Hữu Tiến, P. Tây Thạnh, Q. Tân Phú, Tp. HCM | D30: 1 | E30: Mr. Hà 028 3815 5345 www.nhattamme.com | I30: x | J30: =K30+L30 -> 17 | K30: 17 | L30: 0 | N30: x | S30: x | W30: x | AC30: x | AD30: =AG30+AI30+AK30+AM30+AO30+AQ30+AS30+AU30+AW30 -> 7 | AE30: =AH30+AJ30+AL30+AN30+AP30+AR30+AT30+AV30+AX30 -> 0 | AG30: 1 | AH30: 0 | AI30: 2 | AJ30: 0 | AS30: 3 | AT30: 0 | AW30: 1 | AX30: 0 | BA30: 8 | BB30: x | BG30: 1 | BY30: 60 | CC30: 60 | CK30: x | CZ30: x | DJ30: x | DW30: x | EA30: x | EB30: x | ED30: x | EF30: x | EG30: x | EK30: Công ty chuyên ngành về cơ điện lạnh nên các nhóm thực tập đều rất phù hợp | EL30: Cơ khí; Đ-ĐT; Nhiệt lạnh; Kinh tế
A31: 22 | B31: Công ty TNHH Quản lý Nhà Việt | C31: 52/1A, đường số 18, P. Hiệp Bình Chánh, q.Thủ Đức, Tp. HCM | D31: 8 | E31: Ms. Hà Thị Hớn 0919 053 898 www.quanlynhaviet.com.vn | I31: x | J31: =K31+L31 -> 8 | K31: 4 | L31: 4 | O31: x | V31: x | W31: x | AC31: x | AD31: =AG31+AI31+AK31+AM31+AO31+AQ31+AS31+AU31+AW31 -> 10 | AE31: =AH31+AJ31+AL31+AN31+AP31+AR31+AT31+AV31+AX31 -> 10 | AI31: 10 | AJ31: 10 | BQ31: x | BV31: 60 | CF31: x | DX31: x | EB31: x | EE31: x | EF31: x | EH31: x | EK31: - Cho HSSV thực tập và thao tác nhiều trên các thiết bị mới để đáp ứng công việc; - Trao đổi tư tưởng trước với HSSV về các công việc sẽ phải làm, môi trường sẽ phải công tác, nhằm tránh sự bỡ ngỡ và né việc, không nhận việc được giao ngoài chuyên môn. | EL31: Đ-ĐT
A32: 23 | B32: Công ty TNHH TMDVKT Toàn Danh | C32: 59/34/1, đường số 8, p. Trường Thọ, q. Thủ Đức, Tp. HCM | D32: 6 | E32: Mr. Lê Danh Phố 0986 303 910 | I32: x | J32: =K32+L32 -> 6 | K32: 4 | L32: 2 | N32: x | R32: x | T32: x | Y32: x | Z32: x | AA32: x | AD32: =AG32+AI32+AK32+AM32+AO32+AQ32+AS32+AU32+AW32 -> 10 | AE32: =AH32+AJ32+AL32+AN32+AP32+AR32+AT32+AV32+AX32 -> 10 | AG32: 5 | AH32: 5 | AI32: 5 | AJ32: 5 | AY32: 2 | BA32: 2 | BU32: 14 | BV32: 14 | CE32: x | CJ32: x | DX32: x | EB32: x | EE32: x | EG32: x | EL32: Đ-ĐT
A33: 24 | B33: Công ty TNHH Tiến Thành Tâm | C33: Số 62/10 Ngô Chí Quốc, Phường Bình Chiểu, Quận Thủ Đức, Thành Phố Hồ Chí Minh | D33: 9 | E33: Mr. Nguyễn Thành Tâm (028)37294161 | I33: x | J33: =K33+L33 -> 9 | K33: 5 | L33: 4 | N33: x | S33: x | W33: x | Z33: x | AD33: =AG33+AI33+AK33+AM33+AO33+AQ33+AS33+AU33+AW33 -> 4 | AE33: =AH33+AJ33+AL33+AN33+AP33+AR33+AT33+AV33+AX33 -> 10 | AG33: 2 | AH33: 5 | AI33: 2 | AJ33: 5 | AY33: 4 | BA33: 5 | BU33: 30 | BV33: 30 | CF33: x | CK33: x | DX33: x | EB33: x | EE33: x | EG33: x | EL33: Đ-ĐT; Cơ khí
A34: 25 | B34: Công ty TNHH Cơ điện Trí Trung | C34: 37 Lê Văn Huân, P.13, Q. Tân Bình, Tp. HCM | D34: 18 | E34: Mr. Nguyễn Tấn Tường 028 38 121 637 | I34: x | J34: =K34+L34 -> 18 | K34: 7 | L34: 11 | O34: x | S34: x | W34: x | Z34: x | AD34: =AG34+AI34+AK34+AM34+AO34+AQ34+AS34+AU34+AW34 -> 8 | AE34: =AH34+AJ34+AL34+AN34+AP34+AR34+AT34+AV34+AX34 -> 30 | AG34: 3 | AH34: 10 | AI34: 2 | AJ34: 10 | AU34: 3 | AV34: 10 | AY34: 5 | BA34: 5 | BU34: 15 | BV34: 15 | CF34: x | CJ34: x | DW34: x | EB34: x | EE34: x | EG34: x | EL34: Đ-ĐT
A35: 26 | B35: Công ty cổ phần TM và KT Điện Miền Trung | C35: 79 Bàn Cơ, Phường 03, Q. 3, Tp. HCM | D35: 50 | E35: Mr. Nguyễn Thúy Bình 028 3811 0858 F: 028 3811 0857 | I35: x | J35: =K35+L35 -> 50 | K35: 10 | L35: 40 | O35: x | S35: x | Y35: x | Z35: x | AD35: =AG35+AI35+AK35+AM35+AO35+AQ35+AS35+AU35+AW35 -> 10 | AE35: =AH35+AJ35+AL35+AN35+AP35+AR35+AT35+AV35+AX35 -> 50 | AG35: 5 | AH35: 20 | AI35: 5 | AJ35: 30 | AY35: 5 | AZ35: x | BA35: 5 | BB35: x | BS35: x | BU35: 10 | BV35: 5 | CF35: x | CJ35: x | DX35: x | EB35: x | EE35: x | EG35: x | EL35: Đ-ĐT; Cơ khí; Xây dựng
A36: 27 | B36: Công ty TNHH Ô tô Hùng Minh | C36: 324, Thoại Ngọc Hầu, P. Phú Thạnh, Q. Tân Phú, Tp. HCM | D36: 2 | E36: Mr. Ngô Phương Khải 0312665232 | I36: x | J36: =K36+L36 -> 2 | K36: 2 | L36: 0 | M36: x | V36: x | W36: x | AC36: x | AD36: =AG36+AI36+AK36+AM36+AO36+AQ36+AS36+AU36+AW36 -> 1 | AE36: =AH36+AJ36+AL36+AN36+AP36+AR36+AT36+AV36+AX36 -> 0 | AK36: 1 | AL36: 0 | BC36: 2 | BW36: 90 | CN36: x | DW36: x | EB36: x | EH36: x | EL36: Động lực
A37: 28 | B37: Công ty TNHH TM AHC | C37: 62 Dương Thị Giang, P. Tân Thới Nhất, Q.12, Tp.HCM | D37: 7 | E37: Mr. Trần Ý Đạt 0907 117 121 | I37: x | J37: =K37+L37 -> 7 | K37: 7 | L37: 0 | N37: x | V37: x | W37: x | AC37: x | AD37: =AG37+AI37+AK37+AM37+AO37+AQ37+AS37+AU37+AW37 -> 3 | AE37: =AH37+AJ37+AL37+AN37+AP37+AR37+AT37+AV37+AX37 -> 1 | AK37: 3 | AL37: 1 | BC37: 7 | BW37: 30 | CP37: x | DX37: x | EE37: x | EG37: x | EK37: Tạo điều kiện cho các em sinh viên tiếp xúc nhiều hơn với nghề công ty chúng tôi luôn luôn và sẵn sàng tạo điều kiện cho các em. | EL37: Động lực
A38: 29 | B38: Công ty TNHH TM DV Ô tô Bảo Tín | C38: Số 4, đường Kênh 19/5, O. Sơn Kỳ, Q. Tân Phú, Tp. HCM | D38: 5 | E38: Mr. Đỗ Văn Mạnh | I38: x | J38: =K38+L38 -> 5 | K38: 5 | L38: 0 | N38: x | R38: x | W38: x | Z38: x | AD38: =AG38+AI38+AK38+AM38+AO38+AQ38+AS38+AU38+AW38 -> 4 | AE38: =AH38+AJ38+AL38+AN38+AP38+AR38+AT38+AV38+AX38 -> 0 | AG38: 1 | AH38: 0 | AI38: 1 | AJ38: 0 | AK38: 1 | AL38: 0 | AM38: 1 | AN38: 0 | AY38: 2 | AZ38: x | BC38: 2 | BD38: x | BQ38: x | BU38: 30 | BW38: 30 | CD38: x | CN38: x | DW38: x | EA38: x | EG38: x | EK38: - Cần thêm kỹ năng thực hành; - Tính kỷ luật | EL38: Động lực
A39: 30 | B39: Chi nhánh Công ty TNHH MTV Thanh Phong Auto | C39: 793/57/3 Trần Xuân Soạn, Kp. 4, P. Tân Hưng, Q.7, Tp. HCM | D39: 2 | E39: Mr. Đào Quốc Thắng 0934222763 www. thanhphongauto.com Email: phongdichvu@thanhphongauto.com ĐT: (028) 37755429 – Fax: (028) 37751046 Hotline: 0934 79 71 79 – 0913 11 93 93- 0931 79 67 90- 0931 79 77 90 CSKH: 0934222763 | I39: x | J39: =K39+L39 -> 2 | K39: 2 | L39: 0 | N39: x | R39: x | W39: x | AC39: x | AD39: =AG39+AI39+AK39+AM39+AO39+AQ39+AS39+AU39+AW39 -> 3 | AE39: =AH39+AJ39+AL39+AN39+AP39+AR39+AT39+AV39+AX39 -> 2 | AK39: 3 | AL39: 2 | BC39: 2 | BD39: x | BQ39: x | BS39: x | BW39: 30 | CO39: x | DX39: x | EE39: x | EG39: x | EL39: Động lực
A40: 31 | B40: Công ty TNHH MTV DV KT ForKlift | C40: Số 557/57/23 Hương Lộ 3, Khu Phố 9, Phường Bình Hưng Hòa, Quận Bình Tân, TP Hồ Chí Minh | D40: 1 | E40: Mr. Nguyễn Tấn Hiệp 0903 138 881 028 3915 1616 E:sale.thforklift.ltd@gmail.com https://muabanxenanghang.com/ | I40: x | J40: =K40+L40 -> 1 | K40: 1 | L40: 0 | M40: x | V40: x | W40: x | AC40: x | AD40: =AG40+AI40+AK40+AM40+AO40+AQ40+AS40+AU40+AW40 -> 0 | AE40: 3 | AG40: 0 | AH40: 1 | AK40: 0 | AL40: 2 | BC40: 1 | BW40: 60 | CN40: x | DW40: x | EG40: x | EL40: Động lực; Cơ khí
A41: 32 | B41: Garage Hữu Nhựt | C41: Ô1, Quốc lộ 22B, Rạch Sơn, TT. Gò Dầu, Tây Ninh | D41: 0 | E41: Mr. Huỳnh Hữu Nhựt 0986 342 842 | I41: x | J41: =K41+L41 -> 0 | K41: 0 | L41: 0 | M41: x | R41: x | W41: x | AC41: x | AD41: =AG41+AI41+AK41+AM41+AO41+AQ41+AS41+AU41+AW41 -> 0 | AE41: =AH41+AJ41+AL41+AN41+AP41+AR41+AT41+AV41+AX41 -> 0 | AF41: x | BW41: 7 | CN41: x | DW41: x | EB41: x | EG41: x | EL41: Động lực
A42: 33 | B42: Công ty TNHH DV Hữu Thòn | C42: 250 Phạm Hữu Lầu, xã Phước Kiển, Nhà Bè, Tp. HCM | D42: 2 | E42: Mr. Nguyễn Hữu Thòn 0917 181 415 | I42: x | J42: =K42+L42 -> 2 | K42: 2 | L42: 0 | M42: x | V42: x | AC42: x | AD42: 1 | AE42: =AH42+AJ42+AL42+AN42+AP42+AR42+AT42+AV42+AX42 -> 0 | AK42: 1 | AL42: 0 | BC42: 2 | BQ42: x | BW42: 14 | CP42: x | DX42: x | EB42: x | EH42: x | EL42: Động lực
A43: 34 | B43: Kinh doanh hộ gia đình Hoàng Mỹ WorkShop | C43: Số 15, đường 7A, P. An Phú, Q.2, Tp. HCM | D43: 2 | E43: Mr. Trương Văn Liếu 0979 406 508 | I43: x | J43: =K43+L43 -> 2 | K43: 2 | L43: 0 | N43: x | V43: x | W43: x | Z43: x | AD43: 10 | AE43: 5 | AI43: 5 | AJ43: 2 | AK43: 5 | AL43: 3 | BA43: 1 | BB43: x | BC43: 1 | BD43: x | BT43: x | BV43: 180 | BW43: 180 | CI43: x | CN43: x | DW43: x | EB43: x | EG43: x | EK43: Cần cho Sinh viên có những buổi học thực tế ở garage nhiều hơn. | EL43: Động lực; Đ-ĐT
A44: 35 | B44: Công ty TNHH XD TM DV Nguyễn Minh Hoàng | C44: 167 Trường Chinh, P.12, Q. Tân Bình, Tp. HCM | D44: 5 | E44: Ms. Nguyễn Thị Kim Hà | I44: x | J44: =K44+L44 -> 5 | K44: 4 | L44: 1 | O44: x | R44: x | S44: x | V44: x | W44: x | AC44: x | AD44: 10 | AE44: 20 | AI44: 10 | AJ44: 20 | AU44: 5 | AV44: 5 | BA44: 10 | BB44: x | BM44: 5 | BN44: x | BQ44: x | BR44: x | BS44: x | BV44: 60 | CB44: 60 | CL44: x | DO44: x | DY44: x | EB44: x | ED44: x | EE44: x | EF44: x | EI44: x | EK44: - Nâng cao kỹ năng sống và kỹ năng làm việc theo nhóm; - Phát triển và nâng cao kỹ năng về chuyên môn của ngành; - Nâng cao kỹ năng tay nghề trong quá trình học tập để khi vào doanh nghiệp làm việc sẽ rành mạch hơn. | EL44: Đ-ĐT; Xây dựng
A45: 36 | B45: Công ty TNHH TM DV Hợp Long | C45: 1008/40 Trường Sa, P.12, Q.3, Tp. HCM | D45: 11 | E45: Lê Tiến Đức 0909888219 | G45: x | J45: =K45+L45 -> 11 | K45: 11 | L45: 0 | N45: x | R45: x | T45: x | W45: x | AC45: x | AD45: =AG45+AI45+AK45+AM45+AO45+AQ45+AS45+AU45+AW45 -> 4 | AE45: =AH45+AJ45+AL45+AN45+AP45+AR45+AT45+AV45+AX45 -> 0 | AI45: 2 | AJ45: 0 | AS45: 2 | BA45: 3 | BV45: 14 | CA45: 14 | CI45: x | DI45: x | DW45: x | EA45: x | EE45: x | EG45: x | EL45: Đ-ĐT; Nhiệt lạnh
A46: 37 | B46: Công ty cổ phần đầu tư Phát triển Liên Anh | C46: 38/9 Nguyễn Sơn, P. Phú Thọ Hòa, Q. Tân Phú, Tp. HCM | D46: 2 | E46: Phạm Liên Hoàn 028 3973 9899 lien@ha.com.vn | G46: x | J46: =K46+L46 -> 2 | K46: 2 | L46: 0 | N46: x | U46: x | W46: x | AC46: x | AD46: =AG46+AI46+AK46+AM46+AO46+AQ46+AS46+AU46+AW46 -> 2 | AE46: =AH46+AJ46+AL46+AN46+AP46+AR46+AT46+AV46+AX46 -> 0 | AM46: 2 | AN46: 0 | BE46: 2 | BX46: 21 | CT46: x | DW46: x | EA46: x | EE46: x | EG46: x | EL46: CNTT
A47: 38 | B47: Công ty TNHH Patcom | C47: 24A Hiền Vương, P. Phú Thạnh, Q. Tân Phú, Tp. HCM | D47: 2 | E47: Ms. Bùi Thị Hoàng Anh 028 6282 5656 | G47: x | J47: =K47+L47 -> 2 | K47: 2 | L47: 0 | N47: x | U47: x | W47: x | AC47: x | AD47: =AG47+AI47+AK47+AM47+AO47+AQ47+AS47+AU47+AW47 -> 2 | AE47: =AH47+AJ47+AL47+AN47+AP47+AR47+AT47+AV47+AX47 -> 0 | AM47: 2 | AN47: 0 | BE47: 2 | BX47: 90 | CT47: x | DW47: x | EA47: x | EB47: x | ED47: x | EE47: x | EH47: x | EL47: CNTT
A48: 39 | B48: Trung tâm Anh ngữ English With Wendy | C48: 213/8 Vườn Lài, P. Phú Thọ Hòa, Q. Tân Phú, Tp. HCM | D48: 8 | E48: Ms. Trần Thúy Quyên 0908625030 www.englishwithwendy.com/ 086.7137.843 | I48: x | J48: =K48+L48 -> 8 | K48: 3 | L48: 5 | M48: x | V48: x | W48: x | AC48: x | AD48: =AG48+AI48+AK48+AM48+AO48+AQ48+AS48+AU48+AW48 -> 1 | AE48: =AH48+AJ48+AL48+AN48+AP48+AR48+AT48+AV48+AX48 -> 1 | AW48: 1 | AX48: 1 | BO48: 3 | BP48: x | BR48: x | CC48: 0 | DT48: x | DW48: x | EA48: x | EB48: x | EC48: x | EE48: x | EG48: x | EL48: Tiếng Anh
A49: 40 | B49: Công ty TNHH TMDV Thiết bị Fuwes | C49: 2/7/26 Xô Viết Nghệ Tĩnh, P.17, Q. Bình Thạnh, Tp. HCM | D49: 5 | E49: Ms. Vũ Thị Loan Phụng 0938606280 | I49: x | J49: =K49+L49 -> 5 | K49: 5 | L49: 0 | N49: x | R49: x | W49: x | AC49: x | AD49: =AG49+AI49+AK49+AM49+AO49+AQ49+AS49+AU49+AW49 -> 1 | AE49: =AH49+AJ49+AL49+AN49+AP49+AR49+AT49+AV49+AX49 -> 0 | AF49: 0 | AW49: 1 | AX49: 0 | BO49: 5 | BP49: x | BQ49: x | CC49: 60 | DT49: x | DW49: x | EA49: x | EC49: x | EE49: x | EI49: x | EL49: Tiếng Anh
A50: 41 | B50: Công ty cổ phần Kỹ thuật Môi trường Nam Việt | C50: A4, Khu dân cư Thăng Long Gaden, Số 105, đường số 8, phường Trường Thạnh, Quận 9, Tp. HCM | D50: 7 | E50: Mr. Lê Hữu Nghiêm 0932562177 | F50: x | J50: =K50+L50 -> 7 | K50: 7 | L50: 0 | N50: x | T50: x | Y50: x | AC50: x | AD50: =AG50+AI50+AK50+AM50+AO50+AQ50+AS50+AU50+AW50 -> 1 | AE50: =AH50+AJ50+AL50+AN50+AP50+AR50+AT50+AV50+AX50 -> 0 | AW50: 1 | AX50: 0 | BO50: 1 | BP50: x | BS50: x | CC50: 90 | DT50: x | DW50: x | EA50: x | EB50: x | ED50: x | EH50: x | EL50: Tiếng Anh
A51: 42 | B51: Công ty TNHH CNTT Kết Nối Xanh | C51: 330/6C Lê Hồng Phong, P.1, Q.10, Tp. HCM | D51: 5 | E51: Mr. Lê Thanh Hùng 0903924569 | I51: x | J51: =K51+L51 -> 5 | K51: 5 | L51: 0 | N51: x | U51: x | Y51: x | AC51: x | AD51: =AG51+AI51+AK51+AM51+AO51+AQ51+AS51+AU51+AW51 -> 0 | AE51: =AH51+AJ51+AL51+AN51+AP51+AR51+AT51+AV51+AX51 -> 0 | AF51: 0 | BE51: 1 | BF51: x | BO51: 1 | BP51: x | BQ51: x | BX51: 60 | CC51: 60 | CU51: x | DT51: x | DW51: x | EA51: x | EE51: x | EH51: x | EL51: Tiếng Anh
A52: 43 | B52: Công ty TNHH MTV Khoa Topcare | C52: 238, đường Nguyễn Hoàng, phu phố 5, phường An Phú, quận 2, Tp. HCM | D52: 3 | E52: Mr. Ngô Đăng Khoa 0906 383 639 | I52: x | J52: =K52+L52 -> 3 | K52: 3 | L52: 0 | N52: x | R52: x | W52: x | AC52: x | AD52: =AG52+AI52+AK52+AM52+AO52+AQ52+AS52+AU52+AW52 -> 3 | AE52: =AH52+AJ52+AL52+AN52+AP52+AR52+AT52+AV52+AX52 -> 0 | AK52: 3 | AL52: 0 | BC52: 2 | BW52: 180 | CO52: x | DX52: x | EA52: x | EB52: x | ED52: x | EE52: x | EG52: x | EL52: Động lực
A53: 44 | B53: Công ty cổ phần tôn thép CPT | C53: 1/5 Phan Văn Hớn, ấp Tiền Lân, xã Bà Điểm, huyện Hóc Môn, Tp. HCM | D53: 3 | E53: Mr. Lê Văn Thắng 0975 556 585 | I53: x | J53: =K53+L53 -> 3 | K53: 3 | L53: 0 | M53: x | R53: x | T53: x | Y53: x | AC53: x | AD53: =AG53+AI53+AK53+AM53+AO53+AQ53+AS53+AU53+AW53 -> 0 | AE53: =AH53+AJ53+AL53+AN53+AP53+AR53+AT53+AV53+AX53 -> 0 | AF53: 0 | AM53: 0 | AN53: 0 | BE53: 2 | BF53: x | BR53: x | BX53: 60 | CT53: x | DY53: x | EB53: x | EE53: x | EH53: x | EL53: CNTT
A54: 45 | B54: Công ty TNHH SX TM DV Xây dựng Chinh Phú Thịnh | C54: 1/5 Phan Văn Hớn, ấp Tiền Lân, xã Bà Điểm, huyện Hóc Môn, Tp. HCM | D54: 5 | E54: Ms. Lê Văn Nhinh 028 6250 5650 www.tonsatthep.com | I54: x | J54: =K54+L54 -> 5 | K54: 5 | L54: 0 | N54: x | R54: x | S54: x | Y54: x | AC54: x | AD54: =AG54+AI54+AK54+AM54+AO54+AQ54+AS54+AU54+AW54 -> 0 | AE54: =AH54+AJ54+AL54+AN54+AP54+AR54+AT54+AV54+AX54 -> 0 | AF54: 0 | AM54: 0 | AN54: 0 | AU54: 0 | AV54: 0 | BE54: 1 | BF54: x | BG54: 1 | BH54: x | BM54: 1 | BN54: x | BR54: x | BX54: 15 | BY54: 15 | CB54: 30 | CT54: x | CZ54: x | DO54: x | DX54: x | EA54: x | ED54: x | EE54: x | EH54: x | EL54: CNTT; Xây dựng; Kinh tế
A55: 46 | B55: Doanh nghiệp tư nhân Toàn Gia Phúc | C55: 254 Nguyễn Thái Bình, P.12, Q. Tân Bình, Tp. HCM | D55: 4 | E55: Mr. Lại Tiến Phúc 0908 384 834 | I55: x | J55: =K55+L55 -> 4 | K55: 2 | L55: 2 | N55: x | R55: x | S55: x | U55: x | W55: x | Z55: x | AD55: =AG55+AI55+AK55+AM55+AO55+AQ55+AS55+AU55+AW55 -> 2 | AE55: =AH55+AJ55+AL55+AN55+AP55+AR55+AT55+AV55+AX55 -> 2 | AM55: 2 | AN55: 2 | BE55: 3 | BF55: x | BS55: x | BX55: 7 | CS55: x | DW55: x | EA55: x | ED55: x | EG55: x | EL55: CNTT
A56: 47 | B56: Công ty TNHH Bác sỹ máy tính Đăng Dũng | C56: 260B Bạch Đằng, P.24, Q. Bình Thạnh, Tp. HCM | D56: 4 | E56: Mr. Võ Hoa Sơn 0902952007 | I56: x | J56: =K56+L56 -> 4 | K56: 2 | L56: 2 | N56: x | R56: x | S56: x | T56: x | U56: x | W56: x | Z56: x | AA56: x | AD56: =AG56+AI56+AK56+AM56+AO56+AQ56+AS56+AU56+AW56 -> 2 | AE56: =AH56+AJ56+AL56+AN56+AP56+AR56+AT56+AV56+AX56 -> 2 | AM56: 2 | AN56: 2 | BE56: 2 | BF56: x | BS56: x | BX56: 4 | CS56: x | DW56: x | EA56: x | ED56: x | EG56: x | EL56: CNTT
A57: 48 | B57: Công ty TNHH SX TM Cầu trục Hoàng Anh | C57: Số 90/1, đường Đặng Thúc Vịnh, xã Thới Tam Thôn, huyện Hóc Môn, Tp. HCM | D57: 3 | E57: Mr. Nguyễn Hải Nam | G57: x | J57: =K57+L57 -> 3 | K57: 3 | L57: 0 | N57: x | T57: x | W57: x | AB57: x | AD57: =AG57+AI57+AK57+AM57+AO57+AQ57+AS57+AU57+AW57 -> 25 | AE57: =AH57+AJ57+AL57+AN57+AP57+AR57+AT57+AV57+AX57 -> 15 | AG57: 20 | AH57: 10 | AI57: 5 | AJ57: 5 | AY57: 3 | BU57: 30 | CF57: x | DW57: x | EB57: x | ED57: x | EG57: x | EL57: Cơ khí
A58: 49 | B58: Công ty TNHH SX-TM-DV Giang Thu | C58: 399/23, đường Bình Thành, P. Bình Hưng Hòa B, quận Bình Tân, Tp. HCM | D58: 7 | E58: Ms. Nguyễn Thị Thu 0903856864 0932368827 | I58: x | J58: =K58+L58 -> 7 | K58: 5 | L58: 2 | N58: x | T58: x | Y58: x | Z58: x | AA58: x | AD58: =AG58+AI58+AK58+AM58+AO58+AQ58+AS58+AU58+AW58 -> 4 | AE58: =AH58+AJ58+AL58+AN58+AP58+AR58+AT58+AV58+AX58 -> 10 | AQ58: 4 | AR58: 10 | BI58: 3 | BZ58: 7 | DC58: x | DW58: x | ED58: x | EG58: x | EL58: May - Thời trang
A59: 50 | B59: Công ty TNHH Sản xuất Thương mại May mặc Thiện Mỹ | C59: 9/1D, Tô Ký, ấp Tam Đông, xã Thới Tam Thôn, huyện Hóc Môn, Tp. HCM | D59: 3 | E59: Ms. Trần Thị Kiều Loan 028 3710 0520 | I59: x | J59: =K59+L59 -> 3 | K59: 3 | L59: 0 | O59: x | T59: x | Y59: x | Z59: x | AA59: x | AD59: =AG59+AI59+AK59+AM59+AO59+AQ59+AS59+AU59+AW59 -> 15 | AE59: =AH59+AJ59+AL59+AN59+AP59+AR59+AT59+AV59+AX59 -> 30 | AQ59: 15 | AR59: 30 | BI59: 5 | BZ59: 15 | DD59: x | DX59: x | EE59: x | EG59: x | EL59: May - Thời trang
A60: 51 | B60: Công ty TNHH MTV Khoa Topcare | C60: 238, đường Nguyễn Hoàng, phu phố 5, phường An Phú, quận 2, Tp. HCM | D60: 3 | E60: Mr. Ngô Đăng Khoa 0906 383 639 | I60: x | J60: =K60+L60 -> 3 | K60: 3 | L60: 0 | N60: x | R60: x | W60: x | AC60: x | AD60: =AG60+AI60+AK60+AM60+AO60+AQ60+AS60+AU60+AW60 -> 3 | AE60: =AH60+AJ60+AL60+AN60+AP60+AR60+AT60+AV60+AX60 -> 0 | AK60: 3 | AL60: 0 | BC60: 2 | BW60: 180 | CO60: x | DX60: x | EA60: x | EB60: x | ED60: x | EE60: x | EG60: x | EL60: Động lực
A61: 52 | B61: Công ty TNHHH TM DV Ô Tô Hoàng Phát | C61: 73/4, đường TA13, phường Thới An, Quận 12, Tp. Hồ Chí Minh | D61: 6 | E61: Mr. Hoàng Anh Tuấn 0908 643 528 | I61: x | J61: =K61+L61 -> 6 | K61: 6 | L61: 0 | O61: x | V61: x | W61: x | AC61: x | AD61: =AG61+AI61+AK61+AM61+AO61+AQ61+AS61+AU61+AW61 -> 10 | AE61: =AH61+AJ61+AL61+AN61+AP61+AR61+AT61+AV61+AX61 -> 20 | AK61: 10 | AL61: 20 | BC61: 12 | BD61: x | BR61: x | BW61: 90 | CP61: x | DW61: x | EB61: x | ED61: x | EE61: x | EG61: x | EL61: Động lực
A62: 53 | B62: Nissan Gò Vấp | C62: 786B Nguyễn Kiệm, phường 3, quận Gò Vấp, Tp.Hồ Chí Minh | D62: 8 | E62: Phòng Dịch vụ Mr. Đỗ Trọng Quyết 0962 332 266 | I62: x | J62: =K62+L62 -> 8 | K62: 6 | L62: 2 | O62: x | R62: x | W62: x | AC62: x | AD62: =AG62+AI62+AK62+AM62+AO62+AQ62+AS62+AU62+AW62 -> 4 | AE62: =AH62+AJ62+AL62+AN62+AP62+AR62+AT62+AV62+AX62 -> 2 | AK62: 4 | AL62: 2 | BC62: 2 | BD62: x | BS62: x | BW62: 30 | CN62: x | DW62: x | EA62: x | EC62: x | EE62: x | EG62: x | EK62: Cần cho Sinh viên tiếp xúc với xe nhiều hơn. | EL62: Động lực
A63: 54 | B63: Công ty cổ phần Bến Thành Ô tô | C63: 831 Trường Chinh, phường Tây Thạnh, quận Tân Phú, Tp. Hồ Chí Minh | D63: 10 | E63: 028 3815 7979 Fax: 028 3815 8989 www.benthanhford.com.vn | I63: x | J63: =K63+L63 -> 10 | K63: 5 | L63: 5 | N63: x | T63: x | W63: x | AC63: x | AD63: =AG63+AI63+AK63+AM63+AO63+AQ63+AS63+AU63+AW63 -> 3 | AE63: =AH63+AJ63+AL63+AN63+AP63+AR63+AT63+AV63+AX63 -> 5 | AK63: 3 | AL63: 5 | BC63: 5 | BD63: x | BS63: x | BW63: 0 | CO63: x | DW63: x | EA63: x | EB63: x | EE63: x | EG63: x | EL63: Động lực
A64: 55 | B64: Công ty TNHH SX TM DV vận tải ô tô Tiến Phát | C64: 1251, Quốc lộ 1A, phường Thới An, quận 12, Tp. Hồ Chí Minh | D64: 15 | E64: Ms. Đặng Huy Bình 028 6255 3745 www.xetaicenter.com | I64: x | J64: =K64+L64 -> 15 | K64: 8 | L64: 7 | N64: x | R64: x | W64: x | AC64: x | AD64: =AG64+AI64+AK64+AM64+AO64+AQ64+AS64+AU64+AW64 -> 10 | AE64: =AH64+AJ64+AL64+AN64+AP64+AR64+AT64+AV64+AX64 -> 0 | AK64: 8 | AO64: 2 | BC64: 8 | BD64: x | BG64: 1 | BH64: x | BS64: x | BW64: 15 | BY64: 30 | CP64: x | CZ64: x | DX64: x | EB64: x | EE64: x | EG64: x | EL64: Động lực, Kinh tế
A65: 56 | B65: Công ty cổ phần ô tô Gia Định | C65: 94 - 96, Phạm Đình Hổ, Phường 2, Quận 6, Tp. Hồ Chí Minh | D65: 20 | E65: 0932 800 619 http://hyundaigiadinh-phamdinhho.bonbanh.com | I65: x | J65: =K65+L65 -> 20 | K65: 10 | L65: 10 | N65: x | R65: x | W65: x | AC65: x | AD65: =AG65+AI65+AK65+AM65+AO65+AQ65+AS65+AU65+AW65 -> 12 | AE65: =AH65+AJ65+AL65+AN65+AP65+AR65+AT65+AV65+AX65 -> 14 | AK65: 10 | AL65: 10 | AO65: 2 | AP65: 4 | BC65: 10 | BD65: x | BG65: 2 | BH65: x | BS65: x | BW65: 15 | BY65: 30 | CP65: x | CZ65: x | DX65: x | EB65: x | EE65: x | EG65: x | EL65: Động lực, Kinh tế
A66: 57 | B66: Công ty TNHH KT Ô tô Minh Đạt | C66: 1/6, Trương Chinh, phường 15, quận Tân Bình, Tp. Hồ Chí Minh | D66: 50 | E66: Mr. Đỗ Tấn Đạt 0938 903 901 | I66: x | J66: =K66+L66 -> 50 | K66: 30 | L66: 20 | N66: x | R66: x | W66: x | AC66: x | AD66: =AG66+AI66+AK66+AM66+AO66+AQ66+AS66+AU66+AW66 -> 5 | AE66: =AH66+AJ66+AL66+AN66+AP66+AR66+AT66+AV66+AX66 -> 5 | AK66: 5 | AL66: 5 | BC66: 10 | BD66: x | BQ66: x | BW66: 10 | CO66: x | DW66: x | EA66: x | EE66: x | EG66: x | EL66: Động lực
A67: 58 | B67: Phòng dịch vụ I-Tructs Vân Nam (Đại lý ủy quyền của Isuzu) | C67: 111/2, đường số 18, khu phố 2, phường Bình Hưng Hòa, quận Bình Tân, Tp. Hồ Chí Minh | D67: 5 | E67: Mr. Nguyễn Anh Tuấn 0918.805.000 | I67: x | J67: =K67+L67 -> 5 | K67: 3 | L67: 2 | N67: x | R67: x | W67: x | AC67: x | AD67: =AG67+AI67+AK67+AM67+AO67+AQ67+AS67+AU67+AW67 -> 5 | AE67: =AH67+AJ67+AL67+AN67+AP67+AR67+AT67+AV67+AX67 -> 5 | AK67: 5 | AL67: 5 | BC67: 3 | BD67: x | BQ67: x | BW67: 0 | CN67: x | DW67: x | EA67: x | EB67: x | EE67: x | EG67: x | EL67: Động lực
A68: 59 | B68: Công ty TNHH TM DV Garage Đức Phát | C68: 95/5, Dương Thị Giang, P. Tân Thới Nhất, quận 12, Tp. HCM | D68: 7 | E68: Mr. Phạm Văn Thống 028. 2253 5660 | I68: x | J68: =K68+L68 -> 7 | K68: 5 | L68: 2 | N68: x | W68: x | AC68: x | AD68: =AG68+AI68+AK68+AM68+AO68+AQ68+AS68+AU68+AW68 -> 3 | AE68: =AH68+AJ68+AL68+AN68+AP68+AR68+AT68+AV68+AX68 -> 2 | AK68: 3 | AL68: 2 | BC68: 1 | BD68: x | BR68: x | BW68: 60 | CN68: x | DW68: x | EA68: x | EB68: x | EC68: x | EG68: x | EL68: Động lực
A69: 60 | B69: Công ty TNHH Auto Max | C69: 31/34, Nguyễn Thị Kiểu, Quận 12, Tp. HCM | D69: 5 | E69: Mr. Lê Cảnh Hoàng Long 0975 896 787 | I69: x | J69: =K69+L69 -> 5 | K69: 4 | L69: 1 | N69: x | R69: x | W69: x | AC69: x | AD69: =AG69+AI69+AK69+AM69+AO69+AQ69+AS69+AU69+AW69 -> 5 | AE69: =AH69+AJ69+AL69+AN69+AP69+AR69+AT69+AV69+AX69 -> 5 | AK69: 5 | AL69: 5 | BC69: 10 | BW69: 6 | CN69: x | DW69: x | EB69: x | EG69: x | EL69: Động lực
A70: 61 | B70: Công ty TNHH Công nghệ viễn thông Ngô Gia Phát | C70: 21C Bắc Hải, Phường 15, Quận 10, Tp. HCM | D70: 5 | E70: Mr. Ngô Quốc Thanh 0918 345 764 livolovietnam.com | I70: x | J70: =K70+L70 -> 5 | K70: 3 | L70: 2 | N70: x | S70: x | U70: x | W70: x | Z70: x | AD70: =AG70+AI70+AK70+AM70+AO70+AQ70+AS70+AU70+AW70 -> 11 | AE70: =AH70+AJ70+AL70+AN70+AP70+AR70+AT70+AV70+AX70 -> 9 | AI70: 3 | AJ70: 2 | AM70: 3 | AN70: 2 | AO70: 5 | AP70: 5 | BA70: 2 | BB70: x | BE70: 3 | BF70: x | BQ70: x | BR70: x | BS70: x | BV70: 30 | BX70: 15 | CK70: x | CU70: x | DY70: x | EA70: x | EB70: x | ED70: x | EE70: x | EH70: x | EK70: - Đào tạo sát nhu cầu thực tế xã hội và doanh nghiệp; - Chú trọng thực hành nhiều hơn. | EL70: Điện- Điện tử; CNTT Kinh tế | EM70: Chưa có SV Kinh tế
J71: =K71+L71 -> 0 | AD71: =AG71+AI71+AK71+AM71+AO71+AQ71+AS71+AU71+AW71 -> 0 | AE71: =AH71+AJ71+AL71+AN71+AP71+AR71+AT71+AV71+AX71 -> 0
J72: =K72+L72 -> 0 | AD72: =AG72+AI72+AK72+AM72+AO72+AQ72+AS72+AU72+AW72 -> 0 | AE72: =AH72+AJ72+AL72+AN72+AP72+AR72+AT72+AV72+AX72 -> 0
J73: =K73+L73 -> 0 | AD73: =AG73+AI73+AK73+AM73+AO73+AQ73+AS73+AU73+AW73 -> 0 | AE73: =AH73+AJ73+AL73+AN73+AP73+AR73+AT73+AV73+AX73 -> 0
J74: =K74+L74 -> 0 | AD74: =AG74+AI74+AK74+AM74+AO74+AQ74+AS74+AU74+AW74 -> 0 | AE74: =AH74+AJ74+AL74+AN74+AP74+AR74+AT74+AV74+AX74 -> 0
J76: =K76+L76 -> 0 | AD76: =AG76+AI76+AK76+AM76+AO76+AQ76+AS76+AU76+AW76 -> 0 | AE76: =AH76+AJ76+AL76+AN76+AP76+AR76+AT76+AV76+AX76 -> 0
J77: =K77+L77 -> 0 | AD77: =AG77+AI77+AK77+AM77+AO77+AQ77+AS77+AU77+AW77 -> 0 | AE77: =AH77+AJ77+AL77+AN77+AP77+AR77+AT77+AV77+AX77 -> 0
J78: =K78+L78 -> 0 | AD78: =AG78+AI78+AK78+AM78+AO78+AQ78+AS78+AU78+AW78 -> 0 | AE78: =AH78+AJ78+AL78+AN78+AP78+AR78+AT78+AV78+AX78 -> 0
A79: Tổng | D79: =SUM(D19:D78) -> 416 | F79: =COUNTIF(F10:F78,"x") -> 2 | G79: =COUNTIF(G10:G78,"x") -> 5 | H79: =COUNTIF(H10:H78,"x") -> 0 | I79: =COUNTIF(I10:I78,"x") -> 54 | J79: =SUM(J10:J78) -> 462 | K79: =SUM(K10:K78) -> 308 | L79: =SUM(L10:L78) -> 154 | M79: =COUNTIF(M10:M78,"x") -> 11 | N79: =COUNTIF(N10:N78,"x") -> 37 | O79: =COUNTIF(O10:O78,"x") -> 13 | P79: =COUNTIF(P10:P78,"x") -> 0 | Q79: =COUNTIF(Q10:Q78,"x") -> 0 | R79: =COUNTIF(R10:R78,"x") -> 23 | S79: =COUNTIF(S10:S78,"x") -> 17 | T79: =COUNTIF(T10:T78,"x") -> 15 | ... V79: =COUNTIF(V10:V78,"x") -> 10 | W79: =COUNTIF(W19:W78,"x") -> 41 | X79: =COUNTIF(X19:X78,"x") -> 0 | Y79: =COUNTIF(Y19:Y78,"x") -> 9 | Z79: =COUNTIF(Z19:Z78,"x") -> 12 | AA79: =COUNTIF(AA19:AA78,"x") -> 6 | AB79: =COUNTIF(AB19:AB78,"x") -> 1 | AC79: =COUNTIF(AC19:AC78,"x") -> 38 | AD79: =SUM(AD19:AD78) -> 327 | AE79: =SUM(AE19:AE78) -> 324 | AF79: =COUNTIF(AF19:AF78,"x") -> 1 | AG79: =SUM(AG10:AG78) -> 94 | AH79: =SUM(AH10:AH78) -> 96 | AI79: =SUM(AI10:AI78) -> 78 | AJ79: =SUM(AJ10:AJ78) -> 101 | AK79: =SUM(AK10:AK78) -> 73 | AL79: =SUM(AL10:AL78) -> 62 | AM79: =SUM(AM10:AM78) -> 32 | AN79: =SUM(AN10:AN78) -> 6 | ... AY79: =SUM(AY10:AY78) -> 60 | AZ79: =COUNTIF(AZ10:AZ78,"x") -> 8 | BA79: =SUM(BA10:BA78) -> 63 | BB79: =COUNTIF(BB10:BB78,"x") -> 6 | BC79: =SUM(BC10:BC78) -> 82 | BD79: =COUNTIF(BD10:BD78,"x") -> 11 | BE79: =SUM(BE10:BE78) -> 31 | BF79: =COUNTIF(BF10:BF78,"x") -> 6 | BG79: =SUM(BG10:BG78) -> 5 | BH79: =COUNTIF(BH10:BH78,"x") -> 3 | BI79: =SUM(BI10:BI78) -> 8 | BJ79: =COUNTIF(BJ10:BJ78,"x") -> 0 | BK79: =SUM(BK10:BK78) -> 49 | BL79: =COUNTIF(BL10:BL78,"x") -> 2 | BM79: =SUM(BM10:BM78) -> 8 | BN79: =COUNTIF(BN10:BN78,"x") -> 2 | BO79: =SUM(BO10:BO78) -> 10 | BP79: =COUNTIF(BP10:BP78,"x") -> 4 | BQ79: =COUNTIF(BQ19:BQ78,"x") -> 11 | BR79: =COUNTIF(BR19:BR78,"x") -> 7 | BS79: =COUNTIF(BS19:BS78,"x") -> 13 | BT79: =COUNTIF(BT19:BT78,"x") -> 1 | CD79: =COUNTIF(CD10:CD78,"x") -> 4 | CE79: =COUNTIF(CE10:CE78,"x") -> 4 | CF79: =COUNTIF(CF10:CF78,"x") -> 9 | CG79: =COUNTIF(CG10:CG78,"x") -> 0 | CH79: =COUNTIF(CH10:CH78,"x") -> 0 | CI79: =COUNTIF(CI10:CI78,"x") -> 2 | CJ79: =COUNTIF(CJ10:CJ78,"x") -> 6 | CK79: =COUNTIF(CK10:CK78,"x") -> 5 | ... EJ79: =COUNTIF(EJ10:EJ78,"x") -> 0
F80: =SUM(F79:I79) -> 61 | M80: =SUM(M79:P79) -> 61 | CD80: =SUM(CD79:CH79) -> 17 | CI80: =SUM(CI79:CM79) -> 14 | CN80: =SUM(CN79:CR79) -> 19 | CS80: =SUM(CS79:CW79) -> 9 | CX80: =SUM(CX79:DB79) -> 4 | DC80: =SUM(DC79:DG79) -> 3 | DH80: =SUM(DH79:DL79) -> 8 | DM80: =SUM(DM79:DQ79) -> 4 | DR80: =SUM(DR79:DV79) -> 4 | EG80: =SUM(EG79:EJ79) -> 61
AZ88: =AY79+BA79+BC79+BE79+BG79+BI79+BO79 -> 259

Sheet 1,Loại hình, 3,quy mô DN
A2: 1. Loại hình doanh nghiệp
A4: STT | B4: Loại hình doanh nghiệp | C4: Số lượng | D4: Tỉ lệ | F4: Ghi chú
A5: 1 | B5: Doanh nghiệp Nhà nước | C5: ='Tổng hợp phiếu 2020-2021'!F79 -> 2 | D5: =C5/C9*100 -> 3.2786885 | E5: %
A6: 2 | B6: Doanh nghiệp ngoài Nhà nước | C6: ='Tổng hợp phiếu 2020-2021'!G79 -> 5 | D6: =ROUND(C6/C9,3)*100 -> 8.2 | E6: %
A7: 3 | B7: Doanh nghiệp có vốn đầu tư từ nước ngoài | C7: ='Tổng hợp phiếu 2020-2021'!H79 -> 0 | D7: =ROUND(C7/C9*100,3) -> 0 | E7: %
A8: 4 | B8: Doanh nghiệp tư nhân | C8: ='Tổng hợp phiếu 2020-2021'!I79 -> 54 | D8: =ROUND(C8/C9*100,3) -> 88.525 | E8: %
A9: Tổng | C9: =SUM(C5:C8) -> 61 | D9: =SUM(D5:D8) -> 100.00369 | E9: %
A10: Bảng 2. Loại hình doanh nghiệp
A33: 3. Quy mô doanh nghiệp
A35: STT | B35: Số lao động của doanh nghiệp (lao động) | C35: Số lượng | D35: Tỉ lệ | F35: Ghi chú
A36: 1 | B36: Dưới 10 | C36: ='Tổng hợp phiếu 2020-2021'!M79 -> 11 | D36: =C36/C40*100 -> 18.032787 | E36: %
A37: 2 | B37: 11 đến 50 | C37: ='Tổng hợp phiếu 2020-2021'!N79 -> 37 | D37: =ROUND(C37/C40,3)*100 -> 60.7 | E37: %
A38: 3 | B38: 51 đến 200 | C38: ='Tổng hợp phiếu 2020-2021'!O79 -> 13 | D38: =ROUND(C38/C40*100,3) -> 21.311 | E38: %
A39: 4 | B39: Trên 200 | C39: ='Tổng hợp phiếu 2020-2021'!P79 -> 0 | D39: =ROUND(C39/C40*100,3) -> 0 | E39: %
A40: Tổng | C40: =SUM(C36:C39) -> 61 | D40: =SUM(D36:D39) -> 100.04379 | E40: %
A41: Bảng 3. Quy mô doanh nghiệp
A55: 1.3. Ngành nghề sản xuất/kinh doanh chính của DN
A57: STT | B57: Ngành nghề chính của DN | C57: Số lượng | D57: Tỉ lệ (%) | F57: Ghi chú
A58: 1 | B58: Công nghiệp chế biến | C58: ='Tổng hợp phiếu 2020-2021'!Q79 -> 0 | D58: =C58/C64*100 -> 0
A59: 2 | B59: TM&DV (buôn bán lẻ) | C59: ='Tổng hợp phiếu 2020-2021'!R79 -> 23 | D59: =C59/C64*100 -> 31.506849
A60: 3 | B60: Dự án, công trình, thi công, xây dựng | C60: ='Tổng hợp phiếu 2020-2021'!S79 -> 17 | D60: =C60/C64*100 -> 23.287671
A61: 4 | B61: Sản xuất, phân phối | C61: ='Tổng hợp phiếu 2020-2021'!T79 -> 15 | D61: =C61/C64*100 -> 20.547945
A62: 5 | B62: Thông tin liên lạc, CNTT | C62: ='Tổng hợp phiếu 2020-2021'!U79 -> 8 | D62: =C62/C64*100 -> 10.958904
A63: 6 | B63: Ngành nghề khác | C63: ='Tổng hợp phiếu 2020-2021'!V79 -> 10 | D63: =C63/C64*100 -> 13.69863
A64: Tổng | C64: =SUM(C58:C63) -> 73 | D64: =SUM(D58:D63) -> 100
A65: Bảng 4. Ngành nghề sản xuất/kinh doanh chính của DN

Sheet 7,8,9. SL lđ trường, dự kiến td
A1: 9, Số lượng lao động do Trường đào tạo được doanh nghiệp tuyển dụng
A3: STT | B3: Lao động do Trường đào tạo được DN tuyển dụng (người) | D3: Tỉ lệ | F3: Ghi chú
B4: Nhóm ngành | C4: Số lượng | D4: Tỉ lệ
A5: 1 | B5: Cơ khí | C5: ='Tổng hợp phiếu 2020-2021'!AY79 -> 60 | D5: =ROUND(C5/C14*100,1) -> 19 | E5: %
A6: 2 | B6: Điện - Điện tử | C6: ='Tổng hợp phiếu 2020-2021'!BA79 -> 63 | D6: =ROUND(C6/C14*100,1) -> 19.9 | E6: %
A7: 3 | B7: Động lực (ô tô) | C7: ='Tổng hợp phiếu 2020-2021'!BC79 -> 82 | D7: =ROUND(C7/C14*100,1) -> 25.9 | E7: %
A8: 4 | B8: Công nghệ thông tin | C8: ='Tổng hợp phiếu 2020-2021'!BE79 -> 31 | D8: =ROUND(C8/C14*100,1) -> 9.8 | E8: %
A9: 5 | B9: Kinh tế | C9: ='Tổng hợp phiếu 2020-2021'!BG79 -> 5 | D9: =ROUND(C9/C14*100,1) -> 1.6 | E9: %
A10: 6 | B10: May - Thời trang | C10: ='Tổng hợp phiếu 2020-2021'!BI79 -> 8 | D10: =ROUND(C10/C14*100,1) -> 2.5 | E10: %
A11: 7 | B11: Nhiệt lạnh | C11: ='Tổng hợp phiếu 2020-2021'!BK79 -> 49 | D11: =ROUND(C11/C14*100,1) -> 15.5 | E11: %
A12: 8 | B12: Xây dựng | C12: ='Tổng hợp phiếu 2020-2021'!BM79 -> 8 | D12: =ROUND(C12/C14*100,1) -> 2.5 | E12: %
A13: 9 | B13: Nghề khác (ngoại ngữ…) | C13: ='Tổng hợp phiếu 2020-2021'!BO79 -> 10 | D13: =ROUND(C13/C14*100,1) -> 3.2 | E13: %
A14: Tổng | C14: =SUM(C5:C13) -> 316 | D14: =SUM(D5:D13) -> 99.9 | E14: %
A15: Bảng 5. Số lượng lao động do Trường đào tạo được doanh nghiệp tuyển dụng
A36: 8. Nhu cầu tuyển dụng của DN trong thời gian tới (người)
A38: STT | B38: Kế hoạch tuyển dụng lao động, thực tập trong khoảng 12 tháng tới (người) | D38: Tỉ lệ | F38: Ghi chú
B39: Nhóm ngành | C39: Số lượng
A40: 1 | B40: Cơ khí | C40: ='Tổng hợp phiếu 2020-2021'!AG79+'Tổng hợp phiếu 2020-2021'!AH79 -> 190 | D40: =ROUND(C40/C49*100,1) -> 25.6 | E40: %
A41: 2 | B41: Điện - Điện tử | C41: ='Tổng hợp phiếu 2020-2021'!AI79+'Tổng hợp phiếu 2020-2021'!AJ79 -> 179 | D41: =ROUND(C41/C49*100,1) -> 24.1 | E41: %
A42: 3 | B42: Động lực (ô tô) | C42: ='Tổng hợp phiếu 2020-2021'!AK79+'Tổng hợp phiếu 2020-2021'!AL79 -> 135 | D42: =ROUND(C42/C49*100,1) -> 18.2 | E42: %
A43: 4 | B43: Công nghệ thông tin | C43: ='Tổng hợp phiếu 2020-2021'!AM79+'Tổng hợp phiếu 2020-2021'!AN79 -> 38 | D43: =ROUND(C43/C49*100,1) -> 5.1 | E43: %
A44: 5 | B44: Kinh tế | C44: ='Tổng hợp phiếu 2020-2021'!AO79+'Tổng hợp phiếu 2020-2021'!AP79 -> 18 | D44: =ROUND(C44/C49*100,1) -> 2.4 | E44: %
A45: 6 | B45: May - Thời trang | C45: ='Tổng hợp phiếu 2020-2021'!AQ79+'Tổng hợp phiếu 2020-2021'!AR79 -> 59 | D45: =ROUND(C45/C49*100,1) -> 7.9 | E45: %
A46: 7 | B46: Nhiệt lạnh | C46: ='Tổng hợp phiếu 2020-2021'!AS79+'Tổng hợp phiếu 2020-2021'!AT79 -> 91 | D46: =ROUND(C46/C49*100,1) -> 12.2 | E46: %
A47: 8 | B47: Xây dựng | C47: ='Tổng hợp phiếu 2020-2021'!AU79+'Tổng hợp phiếu 2020-2021'!AV79 -> 28 | D47: =ROUND(C47/C49*100,1) -> 3.8 | E47: %
A48: 9 | B48: Nghề khác (ngoại ngữ…) | C48: ='Tổng hợp phiếu 2020-2021'!AW79+'Tổng hợp phiếu 2020-2021'!AX79 -> 5 | D48: =ROUND(C48/C49*100,1) -> 0.7 | E48: %
A49: Tổng | C49: =SUM(C40:C48) -> 743 | D49: =SUM(D40:D48) -> 100 | E49: %
A50: Bảng 6: Nhu cầu tuyển dụng của các doanh nghiệp

Sheet 11. tg hướng dẫn cv tại DN
A2: STT | B2: Nhóm ngành | C2: Thời gian đào tạo lao động tại DN trước khi bắt đầu công việc | G2: Ghi chú
C3: 7-15 ngày | D3: 30 ngày | E3: 60 ngày | F3: 90 ngày
A4: 1 | B4: Cơ khí | C4: =COUNTIF('Tổng hợp phiếu 2020-2021'!BU19:BU78,"7")+COUNTIF('Tổng hợp phiếu 2020-2021'!BU19:BU78,"14")+COUNTIF('Tổng hợp phiếu 2020-2021'!BU19:BU78,"15")+COUNTIF('Tổng hợp phiếu 2020-2021'!BU19:BU78,"0") -> 2 | D4: =COUNTIF('Tổng hợp phiếu 2020-2021'!BU19:BU78,"30") -> 3 | E4: =COUNTIF('Tổng hợp phiếu 2020-2021'!BU19:BU78,"60") -> 1 | F4: =COUNTIF('Tổng hợp phiếu 2020-2021'!BU19:BU78,"90") -> 0
A5: 2 | B5: Điện - Điện tử | C5: =COUNTIF('Tổng hợp phiếu 2020-2021'!BV19:BV78,"7")+COUNTIF('Tổng hợp phiếu 2020-2021'!BV19:BV78,"14")+COUNTIF('Tổng hợp phiếu 2020-2021'!BV19:BV78,"15")+COUNTIF('Tổng hợp phiếu 2020-2021'!BV19:BV78,"0") -> 3 | D5: =COUNTIF('Tổng hợp phiếu 2020-2021'!BV19:BV78,"30") -> 4 | E5: =COUNTIF('Tổng hợp phiếu 2020-2021'!BV19:BV78,"60") -> 4 | F5: =COUNTIF('Tổng hợp phiếu 2020-2021'!BV19:BV78,"90") -> 0
A6: 3 | B6: Động lực (ô tô) | C6: =COUNTIF('Tổng hợp phiếu 2020-2021'!BW19:BW78,"7")+COUNTIF('Tổng hợp phiếu 2020-2021'!BW19:BW78,"14")+COUNTIF('Tổng hợp phiếu 2020-2021'!BW19:BW78,"15")+COUNTIF('Tổng hợp phiếu 2020-2021'!BW19:BW78,"0") -> 6 | D6: =COUNTIF('Tổng hợp phiếu 2020-2021'!BW19:BW78,"30") -> 4 | E6: =COUNTIF('Tổng hợp phiếu 2020-2021'!BW19:BW78,"60") -> 2 | F6: =COUNTIF('Tổng hợp phiếu 2020-2021'!BW19:BW78,"90") -> 2
A7: 4 | B7: Công nghệ thông tin | C7: =COUNTIF('Tổng hợp phiếu 2020-2021'!BX19:BX78,"7")+COUNTIF('Tổng hợp phiếu 2020-2021'!BX19:BX78,"14")+COUNTIF('Tổng hợp phiếu 2020-2021'!BX19:BX78,"15")+COUNTIF('Tổng hợp phiếu 2020-2021'!BX19:BX78,"0") -> 3 | D7: =COUNTIF('Tổng hợp phiếu 2020-2021'!BX19:BX78,"30") -> 0 | E7: =COUNTIF('Tổng hợp phiếu 2020-2021'!BX19:BX78,"60") -> 2 | F7: =COUNTIF('Tổng hợp phiếu 2020-2021'!BX19:BX78,"90") -> 1
A8: 5 | B8: Kinh tế | C8: =COUNTIF('Tổng hợp phiếu 2020-2021'!BY19:BY78,"7")+COUNTIF('Tổng hợp phiếu 2020-2021'!BY19:BY78,"14")+COUNTIF('Tổng hợp phiếu 2020-2021'!BY19:BY78,"15")+COUNTIF('Tổng hợp phiếu 2020-2021'!BY19:BY78,"0") -> 1 | D8: =COUNTIF('Tổng hợp phiếu 2020-2021'!BY19:BY78,"30") -> 2 | E8: =COUNTIF('Tổng hợp phiếu 2020-2021'!BY19:BY78,"60") -> 1 | F8: =COUNTIF('Tổng hợp phiếu 2020-2021'!BY19:BY78,"90") -> 0
A9: 6 | B9: May - Thời trang | C9: =COUNTIF('Tổng hợp phiếu 2020-2021'!BZ19:BZ78,"7")+COUNTIF('Tổng hợp phiếu 2020-2021'!BZ19:BZ78,"14")+COUNTIF('Tổng hợp phiếu 2020-2021'!BZ19:BZ78,"15")+COUNTIF('Tổng hợp phiếu 2020-2021'!BZ19:BZ78,"0") -> 2 | D9: =COUNTIF('Tổng hợp phiếu 2020-2021'!BZ19:BZ78,"30") -> 0 | E9: =COUNTIF('Tổng hợp phiếu 2020-2021'!BZ19:BZ78,"60") -> 0 | F9: =COUNTIF('Tổng hợp phiếu 2020-2021'!BZ19:BZ78,"90") -> 0
A10: 7 | B10: Nghề khác (Nhiệt lạnh, ngoại ngữ, xây dựng…) | C10: =COUNTIF('Tổng hợp phiếu 2020-2021'!CC19:CC78,"7")+COUNTIF('Tổng hợp phiếu 2020-2021'!CC19:CC78,"14")+COUNTIF('Tổng hợp phiếu 2020-2021'!CC19:CC78,"15")+COUNTIF('Tổng hợp phiếu 2020-2021'!CC19:CC78,"0") -> 1 | D10: =COUNTIF('Tổng hợp phiếu 2020-2021'!CC19:CC78,"30") -> 0 | E10: =COUNTIF('Tổng hợp phiếu 2020-2021'!CC19:CC78,"60") -> 3 | F10: =COUNTIF('Tổng hợp phiếu 2020-2021'!CC19:CC78,"90") -> 1
A11: Tổng | C11: =SUM(C4:C10) -> 18 | D11: =SUM(D4:D10) -> 13 | E11: =SUM(E4:E10) -> 13 | F11: =SUM(F4:F10) -> 4

Sheet 10, Lí do khó tuyển dụng
A2: 10. Nguyên nhân các doanh nghiệp khó tuyển dụng được lao động
A4: STT | B4: Nguyên nhân | C4: Số lượng ý kiến | D4: Tỉ lệ (%) | E4: Ghi chú
A5: 1 | B5: Thiếu lao động đáp ứng yêu cầu về chuyên môn kỹ thuật, tay nghề ở khu vực địa phương | C5: ='Tổng hợp phiếu 2020-2021'!BQ79 -> 11 | D5: =C5/C9*100 -> 34.375 | E5: Một số DN đưa ra 2 nguyên nhân trở lên
A6: 2 | B6: Ứng viên có trình độ thấp | C6: ='Tổng hợp phiếu 2020-2021'!BR79 -> 7 | D6: =C6/C9*100 -> 21.875
A7: 3 | B7: Mức thu nhập của ứng viên không được chấp thuận | C7: ='Tổng hợp phiếu 2020-2021'!BS79 -> 13 | D7: =C7/C9*100 -> 40.625
A8: 4 | B8: Nguyên nhân khác: Không tiếp cận được lao động; LĐ có nhiều lựa chọn… | C8: ='Tổng hợp phiếu 2020-2021'!BT79 -> 1 | D8: =C8/C9*100 -> 3.125
A9: Tổng | C9: =SUM(C5:C8) -> 32 | D9: =SUM(D5:D8) -> 100
A10: Tổng số DN gặp khó khăn trong tuyển dụng | C10: 18

Sheet 12, 13. mức độ hài lòng của dn
A1: 12. Mức độ hài lòng với lao động do Trường đào tạo
A3: STT | B3: Nhóm ngành | C3: Hoàn toàn hài lòng | D3: Phần lớn hài lòng | E3: Hài lòng | F3: Phần lớn không hài lòng | G3: Hoàn toàn không hài lòng | H3: Ghi chú
A4: 1 | B4: Cơ khí | C4: ='Tổng hợp phiếu 2020-2021'!CD79 -> 4 | D4: ='Tổng hợp phiếu 2020-2021'!CE79 -> 4 | E4: ='Tổng hợp phiếu 2020-2021'!CF79 -> 9 | F4: ='Tổng hợp phiếu 2020-2021'!CG79 -> 0 | G4: ='Tổng hợp phiếu 2020-2021'!CH79 -> 0 | I4: =SUM(C4:G4) -> 17
A5: 2 | B5: Điện - Điện tử | C5: ='Tổng hợp phiếu 2020-2021'!CI79 -> 2 | D5: ='Tổng hợp phiếu 2020-2021'!CJ79 -> 6 | E5: ='Tổng hợp phiếu 2020-2021'!CK79 -> 5 | F5: ='Tổng hợp phiếu 2020-2021'!CL79 -> 1 | G5: ='Tổng hợp phiếu 2020-2021'!CM79 -> 0 | I5: =SUM(C5:G5) -> 14
A6: 3 | B6: Động lực (ô tô) | C6: ='Tổng hợp phiếu 2020-2021'!CN79 -> 9 | D6: ='Tổng hợp phiếu 2020-2021'!CO79 -> 5 | E6: ='Tổng hợp phiếu 2020-2021'!CP79 -> 5 | F6: ='Tổng hợp phiếu 2020-2021'!CQ79 -> 0 | G6: ='Tổng hợp phiếu 2020-2021'!CR79 -> 0 | I6: =SUM(C6:G6) -> 19
A7: 4 | B7: Công nghệ thông tin | C7: ='Tổng hợp phiếu 2020-2021'!CS79 -> 2 | D7: ='Tổng hợp phiếu 2020-2021'!CT79 -> 4 | E7: ='Tổng hợp phiếu 2020-2021'!CU79 -> 3 | F7: ='Tổng hợp phiếu 2020-2021'!CV79 -> 0 | G7: ='Tổng hợp phiếu 2020-2021'!CW79 -> 0 | I7: =SUM(C7:G7) -> 9
A8: 5 | B8: Kinh tế | C8: ='Tổng hợp phiếu 2020-2021'!CX79 -> 0 | D8: ='Tổng hợp phiếu 2020-2021'!CY79 -> 0 | E8: ='Tổng hợp phiếu 2020-2021'!CZ79 -> 4 | F8: ='Tổng hợp phiếu 2020-2021'!DA79 -> 0 | G8: ='Tổng hợp phiếu 2020-2021'!DB79 -> 0 | I8: =SUM(C8:G8) -> 4
A9: 6 | B9: May - Thời trang | C9: ='Tổng hợp phiếu 2020-2021'!DC79 -> 1 | D9: ='Tổng hợp phiếu 2020-2021'!DD79 -> 1 | E9: ='Tổng hợp phiếu 2020-2021'!DE79 -> 1 | F9: ='Tổng hợp phiếu 2020-2021'!DF79 -> 0 | G9: ='Tổng hợp phiếu 2020-2021'!DG79 -> 0 | I9: =SUM(C9:G9) -> 3
A10: 7 | B10: Nhiệt lạnh | C10: ='Tổng hợp phiếu 2020-2021'!DH79 -> 2 | D10: ='Tổng hợp phiếu 2020-2021'!DI79 -> 3 | E10: ='Tổng hợp phiếu 2020-2021'!DJ79 -> 3 | F10: ='Tổng hợp phiếu 2020-2021'!DK79 -> 0 | G10: ='Tổng hợp phiếu 2020-2021'!DL79 -> 0 | I10: =SUM(C10:G10) -> 8
A11: 8 | B11: Xây dựng | C11: ='Tổng hợp phiếu 2020-2021'!DM79 -> 0 | D11: ='Tổng hợp phiếu 2020-2021'!DN79 -> 1 | E11: ='Tổng hợp phiếu 2020-2021'!DO79 -> 3 | F11: ='Tổng hợp phiếu 2020-2021'!DP79 -> 0 | G11: ='Tổng hợp phiếu 2020-2021'!DQ79 -> 0 | I11: =SUM(C11:G11) -> 4
A12: 9 | B12: Nghề khác (ngoại ngữ…) | C12: ='Tổng hợp phiếu 2020-2021'!DR79 -> 0 | D12: ='Tổng hợp phiếu 2020-2021'!DS79 -> 0 | E12: ='Tổng hợp phiếu 2020-2021'!DT79 -> 4 | F12: ='Tổng hợp phiếu 2020-2021'!DU79 -> 0 | G12: ='Tổng hợp phiếu 2020-2021'!DV79 -> 0 | I12: =SUM(C12:G12) -> 4
A13: ="Tổng số ý kiến: "&SUM(C13:G13) -> Tổng số ý kiến: 82 | C13: =SUM(C4:C12) -> 20 | D13: =SUM(D4:D12) -> 24 | E13: =SUM(E4:E12) -> 37 | F13: =SUM(F4:F12) -> 1 | G13: =SUM(G4:G12) -> 0 | H13: =SUM(C13:G13) -> 82 | I13: =SUM(C13:G13) -> 82
A14: Tỉ lệ (%) | C14: =C13/H13*100 -> 24.390244 | D14: =D13/H13*100 -> 29.268293 | E14: =E13/H13*100 -> 45.121951 | F14: =F13/H13*100 -> 1.2195122 | G14: =G13/H13*100 -> 0 | H14: =SUM(C14:G14) -> 100 | I14: =SUM(C14:G14) -> 100
C15: =C14+D14+E14 -> 98.780488 | F15: =F14+G14 -> 1.2195122 | I15: =SUM(C15:G15) -> 100
A16: Bảng 7. Mức độ hài lòng với lao động do Trường đào tạo
A18: Biểu đồ | B18: Ý kiến | C18: Số lượng | D18: Tỉ lệ
B19: Hoàn toàn hài lòng | C19: =C13 -> 20 | D19: =C14 -> 24.390244
B20: Phần lớn hài lòng | C20: =D13 -> 24 | D20: =D14 -> 29.268293
B21: Hài lòng | C21: =E13 -> 37 | D21: =E14 -> 45.121951
B22: Phần lớn không hài lòng | C22: =F13 -> 1 | D22: =F14 -> 1.2195122
B23: Hoàn toàn không hài lòng | C23: =G13 -> 0 | D23: =G14 -> 0
A43: 13. Mức độ hài lòng với lao động do Trường khác đào tạo
A45: STT | B45: Nhóm ngành | C45: Hoàn toàn hài lòng | D45: Phần lớn hài lòng | E45: Hài lòng | F45: Phần lớn không hài lòng | G45: Hoàn toàn không hài lòng | H45: Ghi chú
A46: 1 | B46: Cơ khí | C46: ='Tổng hợp phiếu 2020-2021'!#REF! -> #REF! | D46: ='Tổng hợp phiếu 2020-2021'!#REF! -> #REF! | E46: ='Tổng hợp phiếu 2020-2021'!#REF! -> #REF! | F46: ='Tổng hợp phiếu 2020-2021'!#REF! -> #REF! | G46: ='Tổng hợp phiếu 2020-2021'!#REF! -> #REF!
A47: 2 | B47: Điện - Điện tử | C47: ='Tổng hợp phiếu 2020-2021'!#REF! -> #REF! | D47: ='Tổng hợp phiếu 2020-2021'!#REF! -> #REF! | E47: ='Tổng hợp phiếu 2020-2021'!#REF! -> #REF! | F47: ='Tổng hợp phiếu 2020-2021'!#REF! -> #REF! | G47: ='Tổng hợp phiếu 2020-2021'!#REF! -> #REF!
A48: 3 | B48: Động lực (ô tô) | C48: ='Tổng hợp phiếu 2020-2021'!#REF! -> #REF! | D48: ='Tổng hợp phiếu 2020-2021'!#REF! -> #REF! | E48: ='Tổng hợp phiếu 2020-2021'!#REF! -> #REF! | F48: ='Tổng hợp phiếu 2020-2021'!#REF! -> #REF! | G48: ='Tổng hợp phiếu 2020-2021'!#REF! -> #REF!
A49: 4 | B49: Công nghệ thông tin | C49: ='Tổng hợp phiếu 2020-2021'!#REF! -> #REF! | D49: ='Tổng hợp phiếu 2020-2021'!#REF! -> #REF! | E49: ='Tổng hợp phiếu 2020-2021'!#REF! -> #REF! | F49: ='Tổng hợp phiếu 2020-2021'!#REF! -> #REF! | G49: ='Tổng hợp phiếu 2020-2021'!#REF! -> #REF!
A50: 5 | B50: Kinh tế | C50: ='Tổng hợp phiếu 2020-2021'!#REF! -> #REF! | D50: ='Tổng hợp phiếu 2020-2021'!#REF! -> #REF! | E50: ='Tổng hợp phiếu 2020-2021'!#REF! -> #REF! | F50: ='Tổng hợp phiếu 2020-2021'!#REF! -> #REF! | G50: ='Tổng hợp phiếu 2020-2021'!#REF! -> #REF!
A51: 6 | B51: May - Thời trang | C51: ='Tổng hợp phiếu 2020-2021'!#REF! -> #REF! | D51: ='Tổng hợp phiếu 2020-2021'!#REF! -> #REF! | E51: ='Tổng hợp phiếu 2020-2021'!#REF! -> #REF! | F51: ='Tổng hợp phiếu 2020-2021'!#REF! -> #REF! | G51: ='Tổng hợp phiếu 2020-2021'!#REF! -> #REF!
A52: 7 | B52: Nhiệt lạnh
A53: 8 | B53: Xây dựng
A54: 9 | B54: Nghề khác (ngoại ngữ…) | C54: ='Tổng hợp phiếu 2020-2021'!#REF! -> #REF! | D54: ='Tổng hợp phiếu 2020-2021'!#REF! -> #REF! | E54: ='Tổng hợp phiếu 2020-2021'!#REF! -> #REF! | F54: ='Tổng hợp phiếu 2020-2021'!#REF! -> #REF! | G54: ='Tổng hợp phiếu 2020-2021'!#REF! -> #REF!
A55: ="Tổng số ý kiến: "&SUM(C55:G55) -> #REF! | C55: =SUM(C46:C54) -> #REF! | D55: =SUM(D46:D54) -> #REF! | E55: =SUM(E46:E54) -> #REF! | F55: =SUM(F46:F54) -> #REF! | G55: =SUM(G46:G54) -> #REF! | H55: =SUM(C55:G55) -> #REF!
A56: Tỉ lệ (%) | C56: =C55/H55*100 -> #REF! | D56: =D55/H55*100 -> #REF! | E56: =E55/H55*100 -> #REF! | F56: =F55/H55*100 -> #REF! | G56: =G55/H55*100 -> #REF! | H56: =SUM(C56:G56) -> #REF!
C57: =C56+D56+E56 -> #REF! | F57: =F56+G56 -> #REF!
A60: Biểu đồ | B60: Ý kiến | C60: Số lượng | D60: Tỉ lệ
B61: Hoàn toàn hài lòng | C61: =C55 -> #REF! | D61: =C56 -> #REF!
B62: Phần lớn hài lòng | C62: =D55 -> #REF! | D62: =D56 -> #REF!
B63: Hài lòng | C63: =E55 -> #REF! | D63: =E56 -> #REF!
B64: Phần lớn không hài lòng | C64: =F55 -> #REF! | D64: =F56 -> #REF!
B65: Hoàn toàn không hài lòng | C65: =G55 -> #REF! | D65: =G56 -> #REF!

Sheet 15, 16
A1: 15.a. Mức độ đáp ứng năng lực chuyên môn gắn với công việc được giao
A3: TT | B3: Mức độ | C3: Số lượng DN đánh giá | D3: Tỉ lệ (%) | E3: Ghi chú
A4: 1 | B4: Đáp ứng tốt (Tốt) | C4: ='Tổng hợp phiếu 2020-2021'!#REF! -> #REF! | D4: =C4/C8*100 -> #REF! | E4: =D4+D5 -> #REF!
A5: 2 | B5: Đáp ứng cơ bản (Khá) | C5: ='Tổng hợp phiếu 2020-2021'!#REF! -> #REF! | D5: =C5/C8*100 -> #REF!
A6: 3 | B6: Không đáp ứng (Yếu) | C6: ='Tổng hợp phiếu 2020-2021'!#REF! -> #REF! | D6: =C6/C8*100 -> #REF! | E6: =D6+D7 -> #REF!
A7: 4 | B7: Hoàn toàn không đáp ứng (Kém) | C7: ='Tổng hợp phiếu 2020-2021'!#REF! -> #REF! | D7: =C7/C8*100 -> #REF!
A8: Tổng | C8: =SUM(C4:C7) -> #REF! | D8: 100
A9: Bảng 3.2 Mức độ đáp ứng năng lực chuyên môn gắn với công việc được giao
A27: 15b. Ý thức, thái độ, tinh thần trách nhiệm đối với công việc được giao
A29: TT | B29: Mức độ | C29: Số lượng DN đánh giá | D29: Tỉ lệ (%) | E29: Ghi chú
A30: 1 | B30: Tốt | C30: ='Tổng hợp phiếu 2020-2021'!#REF! -> #REF! | D30: =C30/C34*100 -> #REF!
A31: 2 | B31: Khá | C31: ='Tổng hợp phiếu 2020-2021'!#REF! -> #REF! | D31: =C31/C34*100 -> #REF!
A32: 3 | B32: Trung bình | C32: ='Tổng hợp phiếu 2020-2021'!#REF! -> #REF! | D32: =C32/C34*100 -> #REF!
A33: 4 | B33: Yếu | C33: ='Tổng hợp phiếu 2020-2021'!#REF! -> #REF! | D33: =C33/C34*100 -> #REF!
A34: Tổng | C34: =SUM(C30:C33) -> #REF! | D34: 100
A35: Bảng 3.3. Ý thức, thái độ, tinh thần trách nhiệm đối với công việc được giao
A55: 15c. Ý thức về tổ chức kỷ luật lao động, an toàn lao động
A57: TT | B57: Mức độ | C57: Số lượng DN đánh giá | D57: Tỉ lệ (%) | E57: Ghi chú
A58: 1 | B58: Tốt | C58: ='Tổng hợp phiếu 2020-2021'!#REF! -> #REF! | D58: =C58/C62*100 -> #REF!
A59: 2 | B59: Khá | C59: ='Tổng hợp phiếu 2020-2021'!#REF! -> #REF! | D59: =C59/C62*100 -> #REF!
A60: 3 | B60: Trung bình | C60: ='Tổng hợp phiếu 2020-2021'!#REF! -> #REF! | D60: =C60/C62*100 -> #REF!
A61: 4 | B61: Yếu | C61: ='Tổng hợp phiếu 2020-2021'!#REF! -> #REF! | D61: =C61/C62*100 -> #REF!
A62: Tổng | C62: =SUM(C58:C61) -> #REF! | D62: 100
A63: Bảng 3.4. Ý thức về tổ chức kỷ luật lao động, an toàn lao động
A84: 15.d. Kỹ năng giao tiếp với đội ngũ công nhân, kỹ sư và viên chức, cán bộ quản lý trong cơ quan, DN
A86: TT | B86: Mức độ | C86: Số lượng DN đánh giá | D86: Tỉ lệ (%) | E86: Ghi chú
A87: 1 | B87: Tốt | C87: ='Tổng hợp phiếu 2020-2021'!#REF! -> #REF! | D87: =C87/C91*100 -> #REF!
A88: 2 | B88: Khá | C88: ='Tổng hợp phiếu 2020-2021'!#REF! -> #REF! | D88: =C88/C91*100 -> #REF!
A89: 3 | B89: Trung bình | C89: ='Tổng hợp phiếu 2020-2021'!#REF! -> #REF! | D89: =C89/C91*100 -> #REF!
A90: 4 | B90: Yếu | C90: ='Tổng hợp phiếu 2020-2021'!#REF! -> #REF! | D90: =C90/C91*100 -> #REF!
A91: Tổng | C91: =SUM(C87:C90) -> #REF! | D91: 100
A92: Bảng 3.5. Kỹ năng giao tiếp với đội ngũ công nhân, kỹ sư và viên chức, cán bộ quản lý trong DN
A111: 15.e. Kỹ năng làm việc theo nhóm
A113: TT | B113: Mức độ | C113: Số lượng DN đánh giá | D113: Tỉ lệ (%) | E113: Ghi chú
A114: 1 | B114: Tốt | C114: ='Tổng hợp phiếu 2020-2021'!#REF! -> #REF! | D114: =C114/C118*100 -> #REF!
A115: 2 | B115: Khá | C115: ='Tổng hợp phiếu 2020-2021'!#REF! -> #REF! | D115: =C115/C118*100 -> #REF!
A116: 3 | B116: Trung bình | C116: ='Tổng hợp phiếu 2020-2021'!#REF! -> #REF! | D116: =C116/C118*100 -> #REF!
A117: 4 | B117: Yếu | C117: ='Tổng hợp phiếu 2020-2021'!#REF! -> #REF! | D117: =C117/C118*100 -> #REF!
A118: Tổng | C118: =SUM(C114:C117) -> #REF! | D118: 100
A119: Bảng 3.6. Đánh giá Kỹ năng làm việc theo nhóm
A140: 15.g. Kỹ năng phân tích, làm việc độc lập
A142: TT | B142: Mức độ | C142: Số lượng DN đánh giá | D142: Tỉ lệ (%) | E142: Ghi chú
A143: 1 | B143: Tốt | C143: ='Tổng hợp phiếu 2020-2021'!#REF! -> #REF! | D143: =C143/C147*100 -> #REF!
A144: 2 | B144: Khá | C144: ='Tổng hợp phiếu 2020-2021'!#REF! -> #REF! | D144: =C144/C147*100 -> #REF!
A145: 3 | B145: Trung bình | C145: ='Tổng hợp phiếu 2020-2021'!#REF! -> #REF! | D145: =C145/C147*100 -> #REF!
A146: 4 | B146: Yếu | C146: ='Tổng hợp phiếu 2020-2021'!#REF! -> #REF! | D146: =C146/C147*100 -> #REF!
A147: Tổng | C147: =SUM(C143:C146) -> #REF! | D147: 100
A148: Bảng 3.7. Kỹ năng phân tích, làm việc độc lập
A169: 15.h. Kỹ năng sẵn sàng học hỏi, định hướng nghề nghiệp khi làm việc
A171: TT | B171: Mức độ | C171: Số lượng DN đánh giá | D171: Tỉ lệ (%) | E171: Ghi chú
A172: 1 | B172: Tốt | C172: ='Tổng hợp phiếu 2020-2021'!#REF! -> #REF! | D172: =C172/C176*100 -> #REF!
A173: 2 | B173: Khá | C173: ='Tổng hợp phiếu 2020-2021'!#REF! -> #REF! | D173: =C173/C176*100 -> #REF!
A174: 3 | B174: Trung bình | C174: ='Tổng hợp phiếu 2020-2021'!#REF! -> #REF! | D174: =C174/C176*100 -> #REF!
A175: 4 | B175: Yếu | C175: ='Tổng hợp phiếu 2020-2021'!#REF! -> #REF! | D175: =C175/C176*100 -> #REF!
A176: Tổng | C176: =SUM(C172:C175) -> #REF! | D176: 100
A177: Bảng 3.8. Kỹ năng sẵn sàng học hỏi, định hướng nghề nghiệp khi làm việc
A197: 15.i. Kỹ năng lắng nghe và hành động cải tiến
A199: TT | B199: Mức độ | C199: Số lượng DN đánh giá | D199: Tỉ lệ (%) | E199: Ghi chú
A200: 1 | B200: Tốt | C200: ='Tổng hợp phiếu 2020-2021'!#REF! -> #REF! | D200: =C200/C204*100 -> #REF!
A201: 2 | B201: Khá | C201: ='Tổng hợp phiếu 2020-2021'!#REF! -> #REF! | D201: =C201/C204*100 -> #REF!
A202: 3 | B202: Trung bình | C202: ='Tổng hợp phiếu 2020-2021'!#REF! -> #REF! | D202: =C202/C204*100 -> #REF!
A203: 4 | B203: Yếu | C203: ='Tổng hợp phiếu 2020-2021'!#REF! -> #REF! | D203: =C203/C204*100 -> #REF!
A204: Tổng | C204: =SUM(C200:C203) -> #REF! | D204: 100
A205: Bảng 3.9. Kỹ năng lắng nghe và hành động cải tiến
A226: 15.k. Kỹ năng hòa nhập với môi trường làm việc
A228: TT | B228: Mức độ | C228: Số lượng DN đánh giá | D228: Tỉ lệ (%) | E228: Ghi chú
A229: 1 | B229: Tốt | C229: ='Tổng hợp phiếu 2020-2021'!#REF! -> #REF! | D229: =C229/C233*100 -> #REF!
A230: 2 | B230: Khá | C230: ='Tổng hợp phiếu 2020-2021'!#REF! -> #REF! | D230: =C230/C233*100 -> #REF!
A231: 3 | B231: Trung bình | C231: ='Tổng hợp phiếu 2020-2021'!#REF! -> #REF! | D231: =C231/C233*100 -> #REF!
A232: 4 | B232: Yếu | C232: ='Tổng hợp phiếu 2020-2021'!#REF! -> #REF! | D232: =C232/C233*100 -> #REF!
A233: Tổng | C233: =SUM(C229:C232) -> #REF! | D233: 100
A234: Bảng 3.10. Kỹ năng hòa nhập với môi trường làm việc
A255: 15.l. Khả năng sử dụng ngoại ngữ vào công việc chuyên môn
A257: TT | B257: Mức độ | C257: Số lượng DN đánh giá | D257: Tỉ lệ (%) | E257: Ghi chú
A258: 1 | B258: Tốt | C258: ='Tổng hợp phiếu 2020-2021'!#REF! -> #REF! | D258: =C258/C262*100 -> #REF!
A259: 2 | B259: Khá | C259: ='Tổng hợp phiếu 2020-2021'!#REF! -> #REF! | D259: =C259/C262*100 -> #REF!
A260: 3 | B260: Trung bình | C260: ='Tổng hợp phiếu 2020-2021'!#REF! -> #REF! | D260: =C260/C262*100 -> #REF!
A261: 4 | B261: Yếu | C261: ='Tổng hợp phiếu 2020-2021'!#REF! -> #REF! | D261: =C261/C262*100 -> #REF!
A262: Tổng | C262: =SUM(C258:C261) -> #REF! | D262: 100
A263: Bảng 3.11. Khả năng sử dụng ngoại ngữ vào công việc chuyên môn
A285: 15.m. Khả năng ứng dụng CNTT trong công việc chuyên môn
A287: TT | B287: Mức độ | C287: Số lượng DN đánh giá | D287: Tỉ lệ (%) | E287: Ghi chú
A288: 1 | B288: Tốt | C288: ='Tổng hợp phiếu 2020-2021'!#REF! -> #REF! | D288: =C288/C292*100 -> #REF!
A289: 2 | B289: Khá | C289: ='Tổng hợp phiếu 2020-2021'!#REF! -> #REF! | D289: =C289/C292*100 -> #REF!
A290: 3 | B290: Trung bình | C290: ='Tổng hợp phiếu 2020-2021'!#REF! -> #REF! | D290: =C290/C292*100 -> #REF!
A291: 4 | B291: Yếu | C291: ='Tổng hợp phiếu 2020-2021'!#REF! -> #REF! | D291: =C291/C292*100 -> #REF!
A292: Tổng | C292: =SUM(C288:C291) -> #REF! | D292: 100
A293: Bảng 3.12. Khả năng ứng dụng CNTT trong công việc chuyên môn
A314: 16. Sự phối hợp giữa DN và Trường trong việc xây dựng dữ liệu thông tin về việc làm và thực tập tốt nghiệp của HSSV
A316: TT | B316: Mức độ | C316: Số lượng DN đánh giá | D316: Tỉ lệ (%) | E316: Ghi chú
A317: 1 | B317: Tốt | C317: ='Tổng hợp phiếu 2020-2021'!DW79 -> 36 | D317: =C317/C321*100 -> 59.016393
A318: 2 | B318: Khá | C318: ='Tổng hợp phiếu 2020-2021'!DX79 -> 21 | D318: =C318/C321*100 -> 34.42623
A319: 3 | B319: Trung bình | C319: ='Tổng hợp phiếu 2020-2021'!DY79 -> 4 | D319: =C319/C321*100 -> 6.557377
A320: 4 | B320: Chưa tốt | C320: ='Tổng hợp phiếu 2020-2021'!DZ79 -> 0 | D320: =C320/C321*100 -> 0
A321: Tổng | C321: =SUM(C317:C320) -> 61 | D321: 100
A322: Bảng 4. Sự phối hợp giữa DN và Trường trong việc xây dựng dữ liệu thông tin về việc làm và thực tập tốt nghiệp của HSSV

Sheet 17,Kỹ năng cần bổ sung
A1: 17. Những kỹ năng chuyên ngành và kỹ năng mềm mà nhà trường cần bổ sung cho HSSV để phù hợp với công việc tại cơ quan, DN
A3: STT | B3: Kỹ năng cần bổ sung | C3: Số lượng ý kiến | D3: Tỉ lệ (%) | E3: Ghi chú
A4: 1 | B4: Kỹ năng giao tiếp | C4: ='Tổng hợp phiếu 2020-2021'!EA79 -> 32 | D4: =C4/C10*100 -> 23.021583
A5: 2 | B5: Kỹ năng thực hành | C5: ='Tổng hợp phiếu 2020-2021'!EB79 -> 39 | D5: =C5/C10*100 -> 28.057554
A6: 3 | B6: Lý thuyết chuyên môn | C6: ='Tổng hợp phiếu 2020-2021'!EC79 -> 8 | D6: =C6/C10*100 -> 5.7553957
A7: 4 | B7: Kỹ năng sống | C7: ='Tổng hợp phiếu 2020-2021'!ED79 -> 21 | D7: =C7/C10*100 -> 15.107914
A8: 5 | B8: Kỹ năng làm việc nhóm | C8: ='Tổng hợp phiếu 2020-2021'!EE79 -> 36 | D8: =C8/C10*100 -> 25.899281
A9: 6 | B9: Kỹ năng khác | C9: ='Tổng hợp phiếu 2020-2021'!EF79 -> 3 | D9: =C9/C10*100 -> 2.1582734
A10: Tổng | C10: =SUM(C4:C9) -> 139 | D10: =SUM(D4:D9) -> 100
A11: Bảng 9. Những kỹ năng nhà trường cần bổ sung cho sinh viên

Sheet 18, đánh giá chương trình ĐT 
A2: 18. Cơ quan, Doanh nghiệp đánh giá về Chương trình đào tạo của Trường
A4: STT | B4: Mức độ phù hợp của chương trình đào tạo với yêu cầu của cơ quan, doanh nghiệp | C4: Số lượng ý kiến | D4: Tỉ lệ (%) | E4: Ghi chú
A5: 1 | B5: Phù hợp | C5: ='Tổng hợp phiếu 2020-2021'!EG79 -> 43 | D5: =C5/C9*100 -> 70.491803
A6: 2 | B6: Phù hợp một phần | C6: ='Tổng hợp phiếu 2020-2021'!EH79 -> 16 | D6: =C6/C9*100 -> 26.229508
A7: 3 | B7: Chưa hoàn toàn phù hợp | C7: ='Tổng hợp phiếu 2020-2021'!EI79 -> 2 | D7: =C7/C9*100 -> 3.2786885
A8: 4 | B8: Khác | C8: ='Tổng hợp phiếu 2020-2021'!EJ79 -> 0 | D8: =C8/C9*100 -> 0
A9: Tổng | C9: =SUM(C5:C8) -> 61 | D9: =SUM(D5:D8) -> 100
A10: Bảng 8. Đánh giá của cơ quan, doanh nghiệp về Chương trình đào tạo của Trường

Sheet Các ý kiến của DN
A2: Các ý kiến của Doanh nghiệp với nhà trường: - Tăng cường kỹ năng sử dụng máy tính cho sinh viên; - Tăng cường ngoại ngữ; (Công ty Technostar) - Bách Khoa Group (BKG) sẽ tạo điều kiện để các em có môi trương thực tập, mong nhà trường sẽ phối hợp và tạo điều kiện để BKG tiếp nhận nhiều sinh viên thực tập hơn; - Công ty chuyên ngành về cơ điện lạnh nên các nhóm thực tập đều rất phù hợp; (Công ty Nhất Tâm); - Cho HSSV thực tập và thao tác nhiều trên các thiết bị mới để đáp ứng công việc; - Trao đổi tư tưởng trước với HSSV về các công việc sẽ phải làm, môi trường sẽ phải công tác, nhằm tránh sự bỡ ngỡ và né việc, không nhận việc được giao ngoài chuyên môn. (Công ty TNHH Quản lý Nhà Việt); - Tạo điều kiện cho các em sinh viên tiếp xúc nhiều hơn với nghề công ty chúng tôi luôn luôn và sẵn sàng tạo điều kiện cho các em; (Công ty TNHH TM AHC) - Cần thêm kỹ năng thực hành; Tính kỷ luật; (Công ty TNHH TM DV Ô tô Bảo Tín); - Cần cho Sinh viên có những buổi học thực tế ở garage nhiều hơn; (Kinh doanh hộ gia đình Hoàng Mỹ WorkShop); - Nâng cao kỹ năng sống và kỹ năng làm việc theo nhóm; - Phát triển và nâng cao kỹ năng về chuyên môn của ngành; - Nâng cao kỹ năng tay nghề trong quá trình học tập để khi vào doanh nghiệp làm việc sẽ rành mạch hơn; (Công ty TNHH XD TM DV Nguyễn Minh Hoàng).

Sheet Sheet1
A1: Tên công ty | B1: Địa chỉ | C1: Số lượng cựu HSSV đang làm việc tại công ty | D1: Người liên hệ
A4: Công ty TNHH Ô tô Hùng Minh | B4: 324, Thoại Ngọc Hầu, P. Phú Thạnh, Q. Tân Phú, Tp. HCM | C4: 2 | D4: Mr. Ngô Phương Khải 0312665232
A5: Công ty TNHH TM AHC | B5: 62 Dương Thị Giang, P. Tân Thới Nhất, Q.12, Tp.HCM | C5: 7 | D5: Mr. Trần Ý Đạt 0907 117 121
A6: Công ty TNHH TM DV Ô tô Bảo Tín | B6: Số 4, đường Kênh 19/5, O. Sơn Kỳ, Q. Tân Phú, Tp. HCM | C6: 5 | D6: Mr. Đỗ Văn Mạnh
A7: Chi nhánh Công ty TNHH MTV Thanh Phong Auto | B7: 793/57/3 Trần Xuân Soạn, Kp. 4, P. Tân Hưng, Q.7, Tp. HCM | C7: 2 | D7: Mr. Đào Quốc Thắng 0934222763 www. thanhphongauto.com Email: phongdichvu@thanhphongauto.com ĐT: (028) 37755429 – Fax: (028) 37751046 Hotline: 0934 79 71 79 – 0913 11 93 93- 0931 79 67 90- 0931 79 77 90 CSKH: 0934222763
A8: Công ty TNHH MTV DV KT ForKlift | B8: Số 557/57/23 Hương Lộ 3, Khu Phố 9, Phường Bình Hưng Hòa, Quận Bình Tân, TP Hồ Chí Minh | C8: 1 | D8: Mr. Nguyễn Tấn Hiệp 0903 138 881 028 3915 1616 E:sale.thforklift.ltd@gmail.com https://muabanxenanghang.com/
A9: Garage Hữu Nhựt | B9: Ô1, Quốc lộ 22B, Rạch Sơn, TT. Gò Dầu, Tây Ninh | C9: 0 | D9: Mr. Huỳnh Hữu Nhựt 0986 342 842
A10: Công ty TNHH DV Hữu Thòn | B10: 250 Phạm Hữu Lầu, xã Phước Kiển, Nhà Bè, Tp. HCM | C10: 2 | D10: Mr. Nguyễn Hữu Thòn 0917 181 415
A11: Kinh doanh hộ gia đình Hoàng Mỹ WorkShop | B11: Số 15, đường 7A, P. An Phú, Q.2, Tp. HCM | C11: 2 | D11: Mr. Trương Văn Liếu 0979 406 508
A12: Công ty TNHH MTV Khoa Topcare | B12: 238, đường Nguyễn Hoàng, phu phố 5, phường An Phú, quận 2, Tp. HCM | C12: 3 | D12: Mr. Ngô Đăng Khoa 0906 383 639
