Workbook

Sheet TONG HOP
A1: UBND THẢNH PHỐ HỒ CHÍ MINH TRƯỜNG CAO ĐẲNG LÝ TỰ TRỌNG THÀNH PHỐ HỒ CHÍ MINH | AG1: CỘNG HÒA XÃ HỘI CHỦ NGHĨA VIỆT NAM Độc lập - Tự do - Hạnh phúc
A2: BẢNG TỔNG HỢP KẾT QUẢ ĐÁNH GIÁ, XẾP LOẠI CHẤT LƯỢNG VIÊN CHỨC - NGƯỜI LAO ĐỘNG NĂM HỌC 2020 - 2021 (Tổng hợp kết quả đánh giá từ các đơn vị trực thuộc trường và kết quả đánh giá của Chi bộ đối với VCQL)
A4: TT | C4: Họ và tên | E4: Đơn vị | F4: Tháng 7/2020 | H4: Tháng 8/2020 | J4: Tháng 9/2020 | L4: Tháng 10/2020 | N4: Tháng 11/2020 | P4: Tháng 12/2020 | R4: Tháng 01/2021 | T4: Tháng 02/2021 | V4: Tháng 03/2021 | X4: Tháng 04/2021 | Z4: Tháng 05/2021 | AB4: Điểm X (Điểm TB cả năm) | AC4: Ghi chú | AD4: Mức đánh giá, xếp loại tối đa | AE4: Đơn vị thực hiện | AH4: Chi bộ đánh giá | AJ4: Hội đồng đánh giá | AL4: Ghi chú | AM4: VC/NLĐ
D5: Mã số E-office | F5: Xếp loại | G5: Điểm | H5: Xếp loại | I5: Điểm | J5: Xếp loại | K5: Điểm | L5: Xếp loại | M5: Điểm | N5: Xếp loại | O5: Điểm | P5: Xếp loại | Q5: Điểm | R5: Xếp loại | S5: Điểm | T5: Xếp loại | U5: Điểm | V5: Xếp loại | W5: Điểm | X5: Xếp loại | Y5: Điểm | Z5: Xếp loại | AA5: Điểm | AE5: Cá nhân tự đánh giá | AF5: Kết quả đánh giá của đơn vị | AG5: Ý kiến đánh giá của đơn vị | AH5: Kết quả đánh giá của chi bộ | AI5: Ý kiến đánh giá của chi bộ | AJ5: Kết quả đánh giá của Hội đồng | AK5: Ý kiến đánh giá của Hội đồng
A6: -1 | B6: -1 | C6: -2 | D6: -3 | E6: -4 | F6: -5 | G6: -6 | H6: -7 | I6: -8 | J6: -9 | K6: -10 | L6: -11 | M6: -12 | N6: -13 | O6: -14 | P6: -15 | Q6: -16 | R6: -17 | S6: -18 | T6: -19 | U6: -20 | V6: -21 | W6: -22 | X6: -23 | Y6: -24 | Z6: -25 | AA6: -26 | AB6: -27 | AC6: -28 | AD6: -29 | AE6: -30 | AF6: -31 | AG6: -32 | AH6: -33 | AI6: -34 | AJ6: -35 | AK6: -36 | AL6: -37
C7: I. VIÊN CHỨC HOÀN THÀNH XUẤT SẮC NHIỆM VỤ: 283 người
A8: 01 | B8: 01 | C8: Phạm Hữu Lộc | D8: 01001001 | E8: Ban Giám hiệu | F8: A | G8: 10 | H8: A | I8: 10 | J8: A | K8: 10 | L8: A | M8: 10 | N8: A | O8: 10 | P8: A | Q8: 10 | R8: A1 | S8: =VLOOKUP(R8,Sheet1!$B$2:$C$12,2,TRUE) -> 10 | T8: A1 | U8: =VLOOKUP(T8,Sheet1!$B$2:$C$12,2,TRUE) -> 10 | V8: =IFERROR(VLOOKUP($D8,'[1]Chi tiet'!$D$7:$L$389,8,0),0) -> A1 | W8: =VLOOKUP(V8,Sheet1!$B$2:$C$12,2,TRUE) -> 10 | X8: =IFERROR(VLOOKUP($D8,'[2]Gui chi Quynh'!D$7:K$393,7,0),0) -> A1 | Y8: =VLOOKUP(X8,Sheet1!$B$2:$C$12,2,TRUE) -> 10 | Z8: =IFERROR(VLOOKUP($D8,'[3]Chi tiet'!$D$7:$L$397,8,0),0) -> A1 | AA8: =VLOOKUP(Z8,[4]Sheet1!$B$2:$C$12,2,TRUE) -> 10 | AB8: =ROUND(AVERAGE(F8:AA8),1) -> 10 | AC8: =LEFT($AN8,4) -> 11A* | AD8: Xuất sắc | AE8: Xuất sắc | AF8: Xuất sắc | AH8: Xuất sắc | AJ8: Xuất sắc | AN8: =(COUNTIF($F8:$AA8,"A*")&"A*")&" + "&(COUNTIF($F8:$AA8,"B*")&"B*")&" + "&(COUNTIF($F8:$AA8,"C*")&"C*")&" + "&(COUNTIF($F8:$AA8,"D")&"D") -> 11A* + 0B* + 0C* + 0D
A9: 02 | B9: 02 | C9: Đinh Văn Đệ | D9: 01001006 | E9: Ban Giám hiệu | F9: A | G9: 10 | H9: A | I9: 10 | J9: A | K9: 10 | L9: A | M9: 10 | N9: A | O9: 10 | P9: A | Q9: 10 | R9: A1 | S9: =VLOOKUP(R9,Sheet1!$B$2:$C$12,2,TRUE) -> 10 | T9: A1 | U9: =VLOOKUP(T9,Sheet1!$B$2:$C$12,2,TRUE) -> 10 | V9: =IFERROR(VLOOKUP($D9,'[1]Chi tiet'!$D$7:$L$389,8,0),0) -> A1 | W9: =VLOOKUP(V9,Sheet1!$B$2:$C$12,2,TRUE) -> 10 | X9: =IFERROR(VLOOKUP($D9,'[2]Gui chi Quynh'!D$7:K$393,7,0),0) -> A1 | Y9: =VLOOKUP(X9,Sheet1!$B$2:$C$12,2,TRUE) -> 10 | Z9: =IFERROR(VLOOKUP($D9,'[3]Chi tiet'!$D$7:$L$397,8,0),0) -> A1 | AA9: =VLOOKUP(Z9,[4]Sheet1!$B$2:$C$12,2,TRUE) -> 10 | AB9: =AVERAGE(F9:AA9) -> 10 | AC9: =LEFT($AN9,4) -> 11A* | AD9: Xuất sắc | AE9: Xuất sắc | AF9: Xuất sắc | AH9: Xuất sắc | AJ9: Xuất sắc | AN9: =(COUNTIF($F9:$AA9,"A*")&"A*")&" + "&(COUNTIF($F9:$AA9,"B*")&"B*")&" + "&(COUNTIF($F9:$AA9,"C*")&"C*")&" + "&(COUNTIF($F9:$AA9,"D")&"D") -> 11A* + 0B* + 0C* + 0D
A10: 03 | B10: 03 | C10: Đinh Hồng Minh | D10: 01002001 | E10: Ban Giám hiệu | F10: A | G10: 10 | H10: A | I10: 10 | J10: A | K10: 10 | L10: A | M10: 10 | N10: A | O10: 10 | P10: A | Q10: 10 | R10: A1 | S10: =VLOOKUP(R10,Sheet1!$B$2:$C$12,2,TRUE) -> 10 | T10: A1 | U10: =VLOOKUP(T10,Sheet1!$B$2:$C$12,2,TRUE) -> 10 | V10: =IFERROR(VLOOKUP($D10,'[1]Chi tiet'!$D$7:$L$389,8,0),0) -> A1 | W10: =VLOOKUP(V10,Sheet1!$B$2:$C$12,2,TRUE) -> 10 | X10: =IFERROR(VLOOKUP($D10,'[2]Gui chi Quynh'!D$7:K$393,7,0),0) -> A1 | Y10: =VLOOKUP(X10,Sheet1!$B$2:$C$12,2,TRUE) -> 10 | Z10: =IFERROR(VLOOKUP($D10,'[3]Chi tiet'!$D$7:$L$397,8,0),0) -> A1 | AA10: =VLOOKUP(Z10,[4]Sheet1!$B$2:$C$12,2,TRUE) -> 10 | AB10: =AVERAGE(F10:AA10) -> 10 | AC10: =LEFT($AN10,4) -> 11A* | AD10: Xuất sắc | AE10: Xuất sắc | AF10: Xuất sắc | AH10: Xuất sắc | AJ10: Xuất sắc | AN10: =(COUNTIF($F10:$AA10,"A*")&"A*")&" + "&(COUNTIF($F10:$AA10,"B*")&"B*")&" + "&(COUNTIF($F10:$AA10,"C*")&"C*")&" + "&(COUNTIF($F10:$AA10,"D")&"D") -> 11A* + 0B* + 0C* + 0D
A11: 04 | B11: 04 | C11: Châu Văn Bảo | D11: 01014037 | E11: Ban Giám hiệu | F11: A | G11: 10 | H11: A | I11: 10 | J11: A | K11: 10 | L11: A | M11: 10 | N11: A | O11: 10 | P11: A | Q11: 10 | R11: A1 | S11: =VLOOKUP(R11,Sheet1!$B$2:$C$12,2,TRUE) -> 10 | T11: A1 | U11: =VLOOKUP(T11,Sheet1!$B$2:$C$12,2,TRUE) -> 10 | V11: =IFERROR(VLOOKUP($D11,'[1]Chi tiet'!$D$7:$L$389,8,0),0) -> A1 | W11: =VLOOKUP(V11,Sheet1!$B$2:$C$12,2,TRUE) -> 10 | X11: =IFERROR(VLOOKUP($D11,'[2]Gui chi Quynh'!D$7:K$393,7,0),0) -> A1 | Y11: =VLOOKUP(X11,Sheet1!$B$2:$C$12,2,TRUE) -> 10 | Z11: =IFERROR(VLOOKUP($D11,'[3]Chi tiet'!$D$7:$L$397,8,0),0) -> A1 | AA11: =VLOOKUP(Z11,[4]Sheet1!$B$2:$C$12,2,TRUE) -> 10 | AB11: =AVERAGE(F11:AA11) -> 10 | AC11: =LEFT($AN11,4) -> 11A* | AD11: Xuất sắc | AE11: Xuất sắc | AF11: Xuất sắc | AH11: Xuất sắc | AJ11: Xuất sắc | AN11: =(COUNTIF($F11:$AA11,"A*")&"A*")&" + "&(COUNTIF($F11:$AA11,"B*")&"B*")&" + "&(COUNTIF($F11:$AA11,"C*")&"C*")&" + "&(COUNTIF($F11:$AA11,"D")&"D") -> 11A* + 0B* + 0C* + 0D
A12: 05 | B12: 01 | C12: Lâm Viết Dũng | D12: 01007009 | E12: Phòng TC - HC - TH | F12: A | G12: 10 | H12: A | I12: 10 | J12: A | K12: 10 | L12: A | M12: 10 | N12: A | O12: 10 | P12: A | Q12: 10 | R12: A1 | S12: =VLOOKUP(R12,Sheet1!$B$2:$C$12,2,TRUE) -> 10 | T12: A1 | U12: =VLOOKUP(T12,Sheet1!$B$2:$C$12,2,TRUE) -> 10 | V12: =IFERROR(VLOOKUP($D12,'[1]Chi tiet'!$D$7:$L$389,8,0),0) -> A1 | W12: =VLOOKUP(V12,Sheet1!$B$2:$C$12,2,TRUE) -> 10 | X12: =IFERROR(VLOOKUP($D12,'[2]Gui chi Quynh'!D$7:K$393,7,0),0) -> A1 | Y12: =VLOOKUP(X12,Sheet1!$B$2:$C$12,2,TRUE) -> 10 | Z12: =IFERROR(VLOOKUP($D12,'[3]Chi tiet'!$D$7:$L$397,8,0),0) -> A1 | AA12: =VLOOKUP(Z12,[4]Sheet1!$B$2:$C$12,2,TRUE) -> 10 | AB12: =AVERAGE(F12:AA12) -> 10 | AC12: =LEFT($AN12,4) -> 11A* | AD12: Xuất sắc | AE12: Xuất sắc | AF12: Xuất sắc | AH12: Xuất sắc | AJ12: Xuất sắc | AN12: =(COUNTIF($F12:$AA12,"A*")&"A*")&" + "&(COUNTIF($F12:$AA12,"B*")&"B*")&" + "&(COUNTIF($F12:$AA12,"C*")&"C*")&" + "&(COUNTIF($F12:$AA12,"D")&"D") -> 11A* + 0B* + 0C* + 0D
A13: 06 | B13: 08 | C13: Lưu Hoàng Hải Yến | D13: 01002019 | E13: Phòng TC - HC - TH | F13: A | G13: 10 | H13: A | I13: 10 | J13: A | K13: 10 | L13: A | M13: 10 | N13: A | O13: 10 | P13: A | Q13: 10 | R13: A2 | S13: =VLOOKUP(R13,Sheet1!$B$2:$C$12,2,TRUE) -> 9 | T13: A2 | U13: =VLOOKUP(T13,Sheet1!$B$2:$C$12,2,TRUE) -> 9 | V13: =IFERROR(VLOOKUP($D13,'[1]Chi tiet'!$D$7:$L$389,8,0),0) -> A2 | W13: =VLOOKUP(V13,Sheet1!$B$2:$C$12,2,TRUE) -> 9 | X13: =IFERROR(VLOOKUP($D13,'[2]Gui chi Quynh'!D$7:K$393,7,0),0) -> A2 | Y13: =VLOOKUP(X13,Sheet1!$B$2:$C$12,2,TRUE) -> 9 | Z13: =IFERROR(VLOOKUP($D13,'[3]Chi tiet'!$D$7:$L$397,8,0),0) -> A1 | AA13: =VLOOKUP(Z13,[4]Sheet1!$B$2:$C$12,2,TRUE) -> 10 | AB13: =AVERAGE(F13:AA13) -> 9.6363636 | AC13: =LEFT($AN13,4) -> 11A* | AD13: Xuất sắc | AE13: Xuất sắc | AF13: Xuất sắc | AH13: Xuất sắc | AJ13: Xuất sắc | AN13: =(COUNTIF($F13:$AA13,"A*")&"A*")&" + "&(COUNTIF($F13:$AA13,"B*")&"B*")&" + "&(COUNTIF($F13:$AA13,"C*")&"C*")&" + "&(COUNTIF($F13:$AA13,"D")&"D") -> 11A* + 0B* + 0C* + 0D
A14: 07 | B14: 25 | C14: Huỳnh Thị Minh Ly | D14: 01004007 | E14: Phòng TC - HC - TH | F14: A | G14: 10 | H14: A | I14: 10 | J14: A | K14: 10 | L14: A | M14: 10 | N14: A | O14: 10 | P14: A | Q14: 10 | R14: A2 | S14: =VLOOKUP(R14,Sheet1!$B$2:$C$12,2,TRUE) -> 9 | T14: A2 | U14: =VLOOKUP(T14,Sheet1!$B$2:$C$12,2,TRUE) -> 9 | V14: =IFERROR(VLOOKUP($D14,'[1]Chi tiet'!$D$7:$L$389,8,0),0) -> A2 | W14: =VLOOKUP(V14,Sheet1!$B$2:$C$12,2,TRUE) -> 9 | X14: =IFERROR(VLOOKUP($D14,'[2]Gui chi Quynh'!D$7:K$393,7,0),0) -> A2 | Y14: =VLOOKUP(X14,Sheet1!$B$2:$C$12,2,TRUE) -> 9 | Z14: =IFERROR(VLOOKUP($D14,'[3]Chi tiet'!$D$7:$L$397,8,0),0) -> A1 | AA14: =VLOOKUP(Z14,[4]Sheet1!$B$2:$C$12,2,TRUE) -> 10 | AB14: =AVERAGE(F14:AA14) -> 9.6363636 | AC14: =LEFT($AN14,4) -> 11A* | AD14: Xuất sắc | AE14: Xuất sắc | AF14: Xuất sắc | AH14: Xuất sắc | AJ14: Xuất sắc | AN14: =(COUNTIF($F14:$AA14,"A*")&"A*")&" + "&(COUNTIF($F14:$AA14,"B*")&"B*")&" + "&(COUNTIF($F14:$AA14,"C*")&"C*")&" + "&(COUNTIF($F14:$AA14,"D")&"D") -> 11A* + 0B* + 0C* + 0D
A15: 08 | B15: 02 | C15: Vũ Như Quỳnh | D15: 01002017 | E15: Phòng TC - HC - TH | F15: A | G15: 10 | H15: A | I15: 10 | J15: A | K15: 10 | L15: A | M15: 10 | N15: A | O15: 10 | P15: A | Q15: 10 | R15: A2 | S15: =VLOOKUP(R15,Sheet1!$B$2:$C$12,2,TRUE) -> 9 | T15: A2 | U15: =VLOOKUP(T15,Sheet1!$B$2:$C$12,2,TRUE) -> 9 | V15: =IFERROR(VLOOKUP($D15,'[1]Chi tiet'!$D$7:$L$389,8,0),0) -> A2 | W15: =VLOOKUP(V15,Sheet1!$B$2:$C$12,2,TRUE) -> 9 | X15: =IFERROR(VLOOKUP($D15,'[2]Gui chi Quynh'!D$7:K$393,7,0),0) -> A2 | Y15: =VLOOKUP(X15,Sheet1!$B$2:$C$12,2,TRUE) -> 9 | Z15: =IFERROR(VLOOKUP($D15,'[3]Chi tiet'!$D$7:$L$397,8,0),0) -> A3 | AA15: =VLOOKUP(Z15,[4]Sheet1!$B$2:$C$12,2,TRUE) -> 8 | AB15: =AVERAGE(F15:AA15) -> 9.4545455 | AC15: =LEFT($AN15,4) -> 11A* | AD15: Xuất sắc | AE15: Xuất sắc | AF15: Xuất sắc | AJ15: Xuất sắc | AN15: =(COUNTIF($F15:$AA15,"A*")&"A*")&" + "&(COUNTIF($F15:$AA15,"B*")&"B*")&" + "&(COUNTIF($F15:$AA15,"C*")&"C*")&" + "&(COUNTIF($F15:$AA15,"D")&"D") -> 11A* + 0B* + 0C* + 0D
A16: 09 | B16: 03 | C16: Phan Thị Ngọc Phượng | D16: 01002018 | E16: Phòng TC - HC - TH | F16: A | G16: 10 | H16: A | I16: 10 | J16: A | K16: 10 | L16: A | M16: 10 | N16: A | O16: 10 | P16: A | Q16: 10 | R16: A3 | S16: =VLOOKUP(R16,Sheet1!$B$2:$C$12,2,TRUE) -> 8 | T16: A3 | U16: =VLOOKUP(T16,Sheet1!$B$2:$C$12,2,TRUE) -> 8 | V16: =IFERROR(VLOOKUP($D16,'[1]Chi tiet'!$D$7:$L$389,8,0),0) -> A2 | W16: =VLOOKUP(V16,Sheet1!$B$2:$C$12,2,TRUE) -> 9 | X16: =IFERROR(VLOOKUP($D16,'[2]Gui chi Quynh'!D$7:K$393,7,0),0) -> A3 | Y16: =VLOOKUP(X16,Sheet1!$B$2:$C$12,2,TRUE) -> 8 | Z16: =IFERROR(VLOOKUP($D16,'[3]Chi tiet'!$D$7:$L$397,8,0),0) -> A2 | AA16: =VLOOKUP(Z16,[4]Sheet1!$B$2:$C$12,2,TRUE) -> 9 | AB16: =AVERAGE(F16:AA16) -> 9.2727273 | AC16: =LEFT($AN16,4) -> 11A* | AD16: Xuất sắc | AE16: Xuất sắc | AF16: Xuất sắc | AJ16: Xuất sắc | AN16: =(COUNTIF($F16:$AA16,"A*")&"A*")&" + "&(COUNTIF($F16:$AA16,"B*")&"B*")&" + "&(COUNTIF($F16:$AA16,"C*")&"C*")&" + "&(COUNTIF($F16:$AA16,"D")&"D") -> 11A* + 0B* + 0C* + 0D
A17: 10 | B17: 04 | C17: Nguyễn Thị Bích Liễu | D17: 01002005 | E17: Phòng TC - HC - TH | F17: A | G17: 10 | H17: A | I17: 10 | J17: A | K17: 10 | L17: A | M17: 10 | N17: A | O17: 10 | P17: A | Q17: 10 | R17: A3 | S17: =VLOOKUP(R17,Sheet1!$B$2:$C$12,2,TRUE) -> 8 | T17: A3 | U17: =VLOOKUP(T17,Sheet1!$B$2:$C$12,2,TRUE) -> 8 | V17: =IFERROR(VLOOKUP($D17,'[1]Chi tiet'!$D$7:$L$389,8,0),0) -> A2 | W17: =VLOOKUP(V17,Sheet1!$B$2:$C$12,2,TRUE) -> 9 | X17: =IFERROR(VLOOKUP($D17,'[2]Gui chi Quynh'!D$7:K$393,7,0),0) -> A3 | Y17: =VLOOKUP(X17,Sheet1!$B$2:$C$12,2,TRUE) -> 8 | Z17: =IFERROR(VLOOKUP($D17,'[3]Chi tiet'!$D$7:$L$397,8,0),0) -> A3 | AA17: =VLOOKUP(Z17,[4]Sheet1!$B$2:$C$12,2,TRUE) -> 8 | AB17: =AVERAGE(F17:AA17) -> 9.1818182 | AC17: =LEFT($AN17,4) -> 11A* | AD17: Xuất sắc | AE17: Xuất sắc | AF17: Xuất sắc | AJ17: Xuất sắc | AN17: =(COUNTIF($F17:$AA17,"A*")&"A*")&" + "&(COUNTIF($F17:$AA17,"B*")&"B*")&" + "&(COUNTIF($F17:$AA17,"C*")&"C*")&" + "&(COUNTIF($F17:$AA17,"D")&"D") -> 11A* + 0B* + 0C* + 0D
A18: 11 | B18: 05 | C18: Nguyễn Văn Chì | D18: 01023001 | E18: Phòng TC - HC - TH | F18: A | G18: 10 | H18: A | I18: 10 | J18: A | K18: 10 | L18: A | M18: 10 | N18: A | O18: 10 | P18: A | Q18: 10 | R18: A4 | S18: =VLOOKUP(R18,Sheet1!$B$2:$C$12,2,TRUE) -> 7 | T18: A4 | U18: =VLOOKUP(T18,Sheet1!$B$2:$C$12,2,TRUE) -> 7 | V18: =IFERROR(VLOOKUP($D18,'[1]Chi tiet'!$D$7:$L$389,8,0),0) -> A2 | W18: =VLOOKUP(V18,Sheet1!$B$2:$C$12,2,TRUE) -> 9 | X18: =IFERROR(VLOOKUP($D18,'[2]Gui chi Quynh'!D$7:K$393,7,0),0) -> A3 | Y18: =VLOOKUP(X18,Sheet1!$B$2:$C$12,2,TRUE) -> 8 | Z18: =IFERROR(VLOOKUP($D18,'[3]Chi tiet'!$D$7:$L$397,8,0),0) -> A3 | AA18: =VLOOKUP(Z18,[4]Sheet1!$B$2:$C$12,2,TRUE) -> 8 | AB18: =AVERAGE(F18:AA18) -> 9 | AC18: =LEFT($AN18,4) -> 11A* | AD18: Xuất sắc | AE18: Xuất sắc | AF18: Xuất sắc | AJ18: Xuất sắc | AN18: =(COUNTIF($F18:$AA18,"A*")&"A*")&" + "&(COUNTIF($F18:$AA18,"B*")&"B*")&" + "&(COUNTIF($F18:$AA18,"C*")&"C*")&" + "&(COUNTIF($F18:$AA18,"D")&"D") -> 11A* + 0B* + 0C* + 0D
A19: 12 | B19: 06 | C19: Trần Thị Ánh Phượng | D19: 01017006 | E19: Phòng TC - HC - TH | F19: A | G19: 10 | H19: A | I19: 10 | J19: A | K19: 10 | L19: A | M19: 10 | N19: A | O19: 10 | P19: A | Q19: 10 | R19: A3 | S19: =VLOOKUP(R19,Sheet1!$B$2:$C$12,2,TRUE) -> 8 | T19: A3 | U19: =VLOOKUP(T19,Sheet1!$B$2:$C$12,2,TRUE) -> 8 | V19: =IFERROR(VLOOKUP($D19,'[1]Chi tiet'!$D$7:$L$389,8,0),0) -> A2 | W19: =VLOOKUP(V19,Sheet1!$B$2:$C$12,2,TRUE) -> 9 | X19: =IFERROR(VLOOKUP($D19,'[2]Gui chi Quynh'!D$7:K$393,7,0),0) -> A3 | Y19: =VLOOKUP(X19,Sheet1!$B$2:$C$12,2,TRUE) -> 8 | Z19: =IFERROR(VLOOKUP($D19,'[3]Chi tiet'!$D$7:$L$397,8,0),0) -> A2 | AA19: =VLOOKUP(Z19,[4]Sheet1!$B$2:$C$12,2,TRUE) -> 9 | AB19: =AVERAGE(F19:AA19) -> 9.2727273 | AC19: =LEFT($AN19,4) -> 11A* | AD19: Xuất sắc | AE19: Xuất sắc | AF19: Xuất sắc | AJ19: Xuất sắc | AN19: =(COUNTIF($F19:$AA19,"A*")&"A*")&" + "&(COUNTIF($F19:$AA19,"B*")&"B*")&" + "&(COUNTIF($F19:$AA19,"C*")&"C*")&" + "&(COUNTIF($F19:$AA19,"D")&"D") -> 11A* + 0B* + 0C* + 0D
A20: 13 | B20: 07 | C20: Trần Văn Cu Anh | D20: 01002007 | E20: Phòng TC - HC - TH | F20: A | G20: 10 | H20: A | I20: 10 | J20: A | K20: 10 | L20: A | M20: 10 | N20: A | O20: 10 | P20: A | Q20: 10 | R20: A4 | S20: =VLOOKUP(R20,Sheet1!$B$2:$C$12,2,TRUE) -> 7 | T20: A4 | U20: =VLOOKUP(T20,Sheet1!$B$2:$C$12,2,TRUE) -> 7 | V20: =IFERROR(VLOOKUP($D20,'[1]Chi tiet'!$D$7:$L$389,8,0),0) -> A3 | W20: =VLOOKUP(V20,Sheet1!$B$2:$C$12,2,TRUE) -> 8 | X20: =IFERROR(VLOOKUP($D20,'[2]Gui chi Quynh'!D$7:K$393,7,0),0) -> A3 | Y20: =VLOOKUP(X20,Sheet1!$B$2:$C$12,2,TRUE) -> 8 | Z20: =IFERROR(VLOOKUP($D20,'[3]Chi tiet'!$D$7:$L$397,8,0),0) -> A3 | AA20: =VLOOKUP(Z20,[4]Sheet1!$B$2:$C$12,2,TRUE) -> 8 | AB20: =AVERAGE(F20:AA20) -> 8.9090909 | AC20: =LEFT($AN20,4) -> 11A* | AD20: Xuất sắc | AE20: Xuất sắc | AF20: Xuất sắc | AJ20: Xuất sắc | AN20: =(COUNTIF($F20:$AA20,"A*")&"A*")&" + "&(COUNTIF($F20:$AA20,"B*")&"B*")&" + "&(COUNTIF($F20:$AA20,"C*")&"C*")&" + "&(COUNTIF($F20:$AA20,"D")&"D") -> 11A* + 0B* + 0C* + 0D
A21: 14 | B21: 09 | C21: Nguyễn Thị Vân | D21: 01002032 | E21: Phòng TC - HC - TH | F21: A | G21: 10 | H21: A | I21: 10 | J21: A | K21: 10 | L21: A | M21: 10 | N21: A | O21: 10 | P21: A | Q21: 10 | R21: A3 | S21: =VLOOKUP(R21,Sheet1!$B$2:$C$12,2,TRUE) -> 8 | T21: A3 | U21: =VLOOKUP(T21,Sheet1!$B$2:$C$12,2,TRUE) -> 8 | V21: =IFERROR(VLOOKUP($D21,'[1]Chi tiet'!$D$7:$L$389,8,0),0) -> A2 | W21: =VLOOKUP(V21,Sheet1!$B$2:$C$12,2,TRUE) -> 9 | X21: =IFERROR(VLOOKUP($D21,'[2]Gui chi Quynh'!D$7:K$393,7,0),0) -> A3 | Y21: =VLOOKUP(X21,Sheet1!$B$2:$C$12,2,TRUE) -> 8 | Z21: =IFERROR(VLOOKUP($D21,'[3]Chi tiet'!$D$7:$L$397,8,0),0) -> A2 | AA21: =VLOOKUP(Z21,[4]Sheet1!$B$2:$C$12,2,TRUE) -> 9 | AB21: =AVERAGE(F21:AA21) -> 9.2727273 | AC21: =LEFT($AN21,4) -> 11A* | AD21: Xuất sắc | AE21: Xuất sắc | AF21: Xuất sắc | AJ21: Xuất sắc | AN21: =(COUNTIF($F21:$AA21,"A*")&"A*")&" + "&(COUNTIF($F21:$AA21,"B*")&"B*")&" + "&(COUNTIF($F21:$AA21,"C*")&"C*")&" + "&(COUNTIF($F21:$AA21,"D")&"D") -> 11A* + 0B* + 0C* + 0D
A22: 15 | B22: 10 | C22: Huỳnh Thị Xuân Mai | D22: 01007006 | E22: Phòng TC - HC - TH | F22: A | G22: 10 | H22: A | I22: 10 | J22: A | K22: 10 | L22: A | M22: 10 | N22: A | O22: 10 | P22: A | Q22: 10 | R22: A3 | S22: =VLOOKUP(R22,Sheet1!$B$2:$C$12,2,TRUE) -> 8 | T22: A3 | U22: =VLOOKUP(T22,Sheet1!$B$2:$C$12,2,TRUE) -> 8 | V22: =IFERROR(VLOOKUP($D22,'[1]Chi tiet'!$D$7:$L$389,8,0),0) -> A3 | W22: =VLOOKUP(V22,Sheet1!$B$2:$C$12,2,TRUE) -> 8 | X22: =IFERROR(VLOOKUP($D22,'[2]Gui chi Quynh'!D$7:K$393,7,0),0) -> A3 | Y22: =VLOOKUP(X22,Sheet1!$B$2:$C$12,2,TRUE) -> 8 | Z22: =IFERROR(VLOOKUP($D22,'[3]Chi tiet'!$D$7:$L$397,8,0),0) -> A2 | AA22: =VLOOKUP(Z22,[4]Sheet1!$B$2:$C$12,2,TRUE) -> 9 | AB22: =AVERAGE(F22:AA22) -> 9.1818182 | AC22: =LEFT($AN22,4) -> 11A* | AD22: Xuất sắc | AE22: Xuất sắc | AF22: Xuất sắc | AJ22: Xuất sắc | AN22: =(COUNTIF($F22:$AA22,"A*")&"A*")&" + "&(COUNTIF($F22:$AA22,"B*")&"B*")&" + "&(COUNTIF($F22:$AA22,"C*")&"C*")&" + "&(COUNTIF($F22:$AA22,"D")&"D") -> 11A* + 0B* + 0C* + 0D
A23: 16 | B23: 11 | C23: Trần Thị Phương Oanh | D23: 01007007 | E23: Phòng TC - HC - TH | F23: A | G23: 10 | H23: A | I23: 10 | J23: A | K23: 10 | L23: A | M23: 10 | N23: A | O23: 10 | P23: A | Q23: 10 | R23: A3 | S23: =VLOOKUP(R23,Sheet1!$B$2:$C$12,2,TRUE) -> 8 | T23: A3 | U23: =VLOOKUP(T23,Sheet1!$B$2:$C$12,2,TRUE) -> 8 | V23: =IFERROR(VLOOKUP($D23,'[1]Chi tiet'!$D$7:$L$389,8,0),0) -> A3 | W23: =VLOOKUP(V23,Sheet1!$B$2:$C$12,2,TRUE) -> 8 | X23: =IFERROR(VLOOKUP($D23,'[2]Gui chi Quynh'!D$7:K$393,7,0),0) -> A3 | Y23: =VLOOKUP(X23,Sheet1!$B$2:$C$12,2,TRUE) -> 8 | Z23: =IFERROR(VLOOKUP($D23,'[3]Chi tiet'!$D$7:$L$397,8,0),0) -> A3 | AA23: =VLOOKUP(Z23,[4]Sheet1!$B$2:$C$12,2,TRUE) -> 8 | AB23: =AVERAGE(F23:AA23) -> 9.0909091 | AC23: =LEFT($AN23,4) -> 11A* | AD23: Xuất sắc | AE23: Xuất sắc | AF23: Xuất sắc | AJ23: Xuất sắc | AN23: =(COUNTIF($F23:$AA23,"A*")&"A*")&" + "&(COUNTIF($F23:$AA23,"B*")&"B*")&" + "&(COUNTIF($F23:$AA23,"C*")&"C*")&" + "&(COUNTIF($F23:$AA23,"D")&"D") -> 11A* + 0B* + 0C* + 0D
A24: 17 | B24: 12 | C24: Thân Thị Nhung | D24: 01007005 | E24: Phòng TC - HC - TH | F24: A | G24: 10 | H24: A | I24: 10 | J24: A | K24: 10 | L24: A | M24: 10 | N24: A | O24: 10 | P24: A | Q24: 10 | R24: A2 | S24: =VLOOKUP(R24,Sheet1!$B$2:$C$12,2,TRUE) -> 9 | T24: A2 | U24: =VLOOKUP(T24,Sheet1!$B$2:$C$12,2,TRUE) -> 9 | V24: =IFERROR(VLOOKUP($D24,'[1]Chi tiet'!$D$7:$L$389,8,0),0) -> A2 | W24: =VLOOKUP(V24,Sheet1!$B$2:$C$12,2,TRUE) -> 9 | X24: =IFERROR(VLOOKUP($D24,'[2]Gui chi Quynh'!D$7:K$393,7,0),0) -> A2 | Y24: =VLOOKUP(X24,Sheet1!$B$2:$C$12,2,TRUE) -> 9 | Z24: =IFERROR(VLOOKUP($D24,'[3]Chi tiet'!$D$7:$L$397,8,0),0) -> A2 | AA24: =VLOOKUP(Z24,[4]Sheet1!$B$2:$C$12,2,TRUE) -> 9 | AB24: =AVERAGE(F24:AA24) -> 9.5454545 | AC24: =LEFT($AN24,4) -> 11A* | AD24: Xuất sắc | AE24: Xuất sắc | AF24: Xuất sắc | AJ24: Xuất sắc | AN24: =(COUNTIF($F24:$AA24,"A*")&"A*")&" + "&(COUNTIF($F24:$AA24,"B*")&"B*")&" + "&(COUNTIF($F24:$AA24,"C*")&"C*")&" + "&(COUNTIF($F24:$AA24,"D")&"D") -> 11A* + 0B* + 0C* + 0D
A25: 18 | B25: 13 | C25: Phạm Hữu Tấn | D25: 01002023 | E25: Phòng TC - HC - TH | F25: A | G25: 10 | H25: A | I25: 10 | J25: A | K25: 10 | L25: A | M25: 10 | N25: A | O25: 10 | P25: A | Q25: 10 | R25: A3 | S25: =VLOOKUP(R25,Sheet1!$B$2:$C$12,2,TRUE) -> 8 | T25: A3 | U25: =VLOOKUP(T25,Sheet1!$B$2:$C$12,2,TRUE) -> 8 | V25: =IFERROR(VLOOKUP($D25,'[1]Chi tiet'!$D$7:$L$389,8,0),0) -> A3 | W25: =VLOOKUP(V25,Sheet1!$B$2:$C$12,2,TRUE) -> 8 | X25: =IFERROR(VLOOKUP($D25,'[2]Gui chi Quynh'!D$7:K$393,7,0),0) -> A2 | Y25: =VLOOKUP(X25,Sheet1!$B$2:$C$12,2,TRUE) -> 9 | Z25: =IFERROR(VLOOKUP($D25,'[3]Chi tiet'!$D$7:$L$397,8,0),0) -> A3 | AA25: =VLOOKUP(Z25,[4]Sheet1!$B$2:$C$12,2,TRUE) -> 8 | AB25: =AVERAGE(F25:AA25) -> 9.1818182 | AC25: =LEFT($AN25,4) -> 11A* | AD25: Xuất sắc | AE25: Xuất sắc | AF25: Xuất sắc | AJ25: Xuất sắc | AM25: NLĐ | AN25: =(COUNTIF($F25:$AA25,"A*")&"A*")&" + "&(COUNTIF($F25:$AA25,"B*")&"B*")&" + "&(COUNTIF($F25:$AA25,"C*")&"C*")&" + "&(COUNTIF($F25:$AA25,"D")&"D") -> 11A* + 0B* + 0C* + 0D
A26: 19 | B26: 14 | C26: Nguyễn Hữu Xuân Vũ | D26: 01002010 | E26: Phòng TC - HC - TH | F26: A | G26: 10 | H26: A | I26: 10 | J26: A | K26: 10 | L26: A | M26: 10 | N26: A | O26: 10 | P26: A | Q26: 10 | R26: A4 | S26: =VLOOKUP(R26,Sheet1!$B$2:$C$12,2,TRUE) -> 7 | T26: A4 | U26: =VLOOKUP(T26,Sheet1!$B$2:$C$12,2,TRUE) -> 7 | V26: =IFERROR(VLOOKUP($D26,'[1]Chi tiet'!$D$7:$L$389,8,0),0) -> A3 | W26: =VLOOKUP(V26,Sheet1!$B$2:$C$12,2,TRUE) -> 8 | X26: =IFERROR(VLOOKUP($D26,'[2]Gui chi Quynh'!D$7:K$393,7,0),0) -> A2 | Y26: =VLOOKUP(X26,Sheet1!$B$2:$C$12,2,TRUE) -> 9 | Z26: =IFERROR(VLOOKUP($D26,'[3]Chi tiet'!$D$7:$L$397,8,0),0) -> A3 | AA26: =VLOOKUP(Z26,[4]Sheet1!$B$2:$C$12,2,TRUE) -> 8 | AB26: =AVERAGE(F26:AA26) -> 9 | AC26: =LEFT($AN26,4) -> 11A* | AD26: Xuất sắc | AE26: Xuất sắc | AF26: Xuất sắc | AJ26: Xuất sắc | AM26: NLĐ | AN26: =(COUNTIF($F26:$AA26,"A*")&"A*")&" + "&(COUNTIF($F26:$AA26,"B*")&"B*")&" + "&(COUNTIF($F26:$AA26,"C*")&"C*")&" + "&(COUNTIF($F26:$AA26,"D")&"D") -> 11A* + 0B* + 0C* + 0D
A27: 20 | B27: 15 | C27: Lê Hồng Phúc | D27: 01002012 | E27: Phòng TC - HC - TH | F27: A | G27: 10 | H27: A | I27: 10 | J27: A | K27: 10 | L27: A | M27: 10 | N27: A | O27: 10 | P27: A | Q27: 10 | R27: A4 | S27: =VLOOKUP(R27,Sheet1!$B$2:$C$12,2,TRUE) -> 7 | T27: A4 | U27: =VLOOKUP(T27,Sheet1!$B$2:$C$12,2,TRUE) -> 7 | V27: =IFERROR(VLOOKUP($D27,'[1]Chi tiet'!$D$7:$L$389,8,0),0) -> A3 | W27: =VLOOKUP(V27,Sheet1!$B$2:$C$12,2,TRUE) -> 8 | X27: =IFERROR(VLOOKUP($D27,'[2]Gui chi Quynh'!D$7:K$393,7,0),0) -> A3 | Y27: =VLOOKUP(X27,Sheet1!$B$2:$C$12,2,TRUE) -> 8 | Z27: =IFERROR(VLOOKUP($D27,'[3]Chi tiet'!$D$7:$L$397,8,0),0) -> A3 | AA27: =VLOOKUP(Z27,[4]Sheet1!$B$2:$C$12,2,TRUE) -> 8 | AB27: =AVERAGE(F27:AA27) -> 8.9090909 | AC27: =LEFT($AN27,4) -> 11A* | AD27: Xuất sắc | AE27: Xuất sắc | AF27: Xuất sắc | AJ27: Xuất sắc | AM27: NLĐ | AN27: =(COUNTIF($F27:$AA27,"A*")&"A*")&" + "&(COUNTIF($F27:$AA27,"B*")&"B*")&" + "&(COUNTIF($F27:$AA27,"C*")&"C*")&" + "&(COUNTIF($F27:$AA27,"D")&"D") -> 11A* + 0B* + 0C* + 0D
A28: 21 | B28: 16 | C28: Phạm Hữu Thành Phú | D28: 01002028 | E28: Phòng TC - HC - TH | F28: A | G28: 10 | H28: A | I28: 10 | J28: A | K28: 10 | L28: A | M28: 10 | N28: A | O28: 10 | P28: A | Q28: 10 | R28: A4 | S28: =VLOOKUP(R28,Sheet1!$B$2:$C$12,2,TRUE) -> 7 | T28: A3 | U28: =VLOOKUP(T28,Sheet1!$B$2:$C$12,2,TRUE) -> 8 | V28: =IFERROR(VLOOKUP($D28,'[1]Chi tiet'!$D$7:$L$389,8,0),0) -> A3 | W28: =VLOOKUP(V28,Sheet1!$B$2:$C$12,2,TRUE) -> 8 | X28: =IFERROR(VLOOKUP($D28,'[2]Gui chi Quynh'!D$7:K$393,7,0),0) -> A3 | Y28: =VLOOKUP(X28,Sheet1!$B$2:$C$12,2,TRUE) -> 8 | Z28: =IFERROR(VLOOKUP($D28,'[3]Chi tiet'!$D$7:$L$397,8,0),0) -> A3 | AA28: =VLOOKUP(Z28,[4]Sheet1!$B$2:$C$12,2,TRUE) -> 8 | AB28: =AVERAGE(F28:AA28) -> 9 | AC28: =LEFT($AN28,4) -> 11A* | AD28: Xuất sắc | AE28: Xuất sắc | AF28: Xuất sắc | AJ28: Xuất sắc | AM28: NLĐ | AN28: =(COUNTIF($F28:$AA28,"A*")&"A*")&" + "&(COUNTIF($F28:$AA28,"B*")&"B*")&" + "&(COUNTIF($F28:$AA28,"C*")&"C*")&" + "&(COUNTIF($F28:$AA28,"D")&"D") -> 11A* + 0B* + 0C* + 0D
A29: 22 | B29: 17 | C29: Huỳnh Thanh Nhàn | D29: 01002027 | E29: Phòng TC - HC - TH | F29: A | G29: 10 | H29: A | I29: 10 | J29: A | K29: 10 | L29: A | M29: 10 | N29: A | O29: 10 | P29: A | Q29: 10 | R29: A3 | S29: =VLOOKUP(R29,Sheet1!$B$2:$C$12,2,TRUE) -> 8 | T29: A3 | U29: =VLOOKUP(T29,Sheet1!$B$2:$C$12,2,TRUE) -> 8 | V29: =IFERROR(VLOOKUP($D29,'[1]Chi tiet'!$D$7:$L$389,8,0),0) -> A2 | W29: =VLOOKUP(V29,Sheet1!$B$2:$C$12,2,TRUE) -> 9 | X29: =IFERROR(VLOOKUP($D29,'[2]Gui chi Quynh'!D$7:K$393,7,0),0) -> A2 | Y29: =VLOOKUP(X29,Sheet1!$B$2:$C$12,2,TRUE) -> 9 | Z29: =IFERROR(VLOOKUP($D29,'[3]Chi tiet'!$D$7:$L$397,8,0),0) -> A3 | AA29: =VLOOKUP(Z29,[4]Sheet1!$B$2:$C$12,2,TRUE) -> 8 | AB29: =AVERAGE(F29:AA29) -> 9.2727273 | AC29: =LEFT($AN29,4) -> 11A* | AD29: Xuất sắc | AE29: Xuất sắc | AF29: Xuất sắc | AJ29: Xuất sắc | AM29: NLĐ | AN29: =(COUNTIF($F29:$AA29,"A*")&"A*")&" + "&(COUNTIF($F29:$AA29,"B*")&"B*")&" + "&(COUNTIF($F29:$AA29,"C*")&"C*")&" + "&(COUNTIF($F29:$AA29,"D")&"D") -> 11A* + 0B* + 0C* + 0D
A30: 23 | B30: 18 | C30: Đồng Anh Tuấn | D30: 01002013 | E30: Phòng TC - HC - TH | F30: A | G30: 10 | H30: A | I30: 10 | J30: A | K30: 10 | L30: A | M30: 10 | N30: A | O30: 10 | P30: A | Q30: 10 | R30: A4 | S30: =VLOOKUP(R30,Sheet1!$B$2:$C$12,2,TRUE) -> 7 | T30: A4 | U30: =VLOOKUP(T30,Sheet1!$B$2:$C$12,2,TRUE) -> 7 | V30: =IFERROR(VLOOKUP($D30,'[1]Chi tiet'!$D$7:$L$389,8,0),0) -> A3 | W30: =VLOOKUP(V30,Sheet1!$B$2:$C$12,2,TRUE) -> 8 | X30: =IFERROR(VLOOKUP($D30,'[2]Gui chi Quynh'!D$7:K$393,7,0),0) -> A3 | Y30: =VLOOKUP(X30,Sheet1!$B$2:$C$12,2,TRUE) -> 8 | Z30: =IFERROR(VLOOKUP($D30,'[3]Chi tiet'!$D$7:$L$397,8,0),0) -> A3 | AA30: =VLOOKUP(Z30,[4]Sheet1!$B$2:$C$12,2,TRUE) -> 8 | AB30: =AVERAGE(F30:AA30) -> 8.9090909 | AC30: =LEFT($AN30,4) -> 11A* | AD30: Xuất sắc | AE30: Xuất sắc | AF30: Xuất sắc | AJ30: Xuất sắc | AM30: NLĐ | AN30: =(COUNTIF($F30:$AA30,"A*")&"A*")&" + "&(COUNTIF($F30:$AA30,"B*")&"B*")&" + "&(COUNTIF($F30:$AA30,"C*")&"C*")&" + "&(COUNTIF($F30:$AA30,"D")&"D") -> 11A* + 0B* + 0C* + 0D
A31: 24 | B31: 19 | C31: Lê Hồng Sơn | D31: 01002031 | E31: Phòng TC - HC - TH | F31: A | G31: 10 | H31: A | I31: 10 | J31: A | K31: 10 | L31: A | M31: 10 | N31: A | O31: 10 | P31: A | Q31: 10 | R31: A4 | S31: =VLOOKUP(R31,Sheet1!$B$2:$C$12,2,TRUE) -> 7 | T31: A4 | U31: =VLOOKUP(T31,Sheet1!$B$2:$C$12,2,TRUE) -> 7 | V31: =IFERROR(VLOOKUP($D31,'[1]Chi tiet'!$D$7:$L$389,8,0),0) -> A4 | W31: =VLOOKUP(V31,Sheet1!$B$2:$C$12,2,TRUE) -> 7 | X31: =IFERROR(VLOOKUP($D31,'[2]Gui chi Quynh'!D$7:K$393,7,0),0) -> A3 | Y31: =VLOOKUP(X31,Sheet1!$B$2:$C$12,2,TRUE) -> 8 | Z31: =IFERROR(VLOOKUP($D31,'[3]Chi tiet'!$D$7:$L$397,8,0),0) -> A3 | AA31: =VLOOKUP(Z31,[4]Sheet1!$B$2:$C$12,2,TRUE) -> 8 | AB31: =AVERAGE(F31:AA31) -> 8.8181818 | AC31: =LEFT($AN31,4) -> 11A* | AD31: Xuất sắc | AE31: Xuất sắc | AF31: Xuất sắc | AJ31: Xuất sắc | AM31: NLĐ | AN31: =(COUNTIF($F31:$AA31,"A*")&"A*")&" + "&(COUNTIF($F31:$AA31,"B*")&"B*")&" + "&(COUNTIF($F31:$AA31,"C*")&"C*")&" + "&(COUNTIF($F31:$AA31,"D")&"D") -> 11A* + 0B* + 0C* + 0D
A32: 25 | B32: 20 | C32: Nguyễn Thanh Hiền | D32: 01002033 | E32: Phòng TC - HC - TH | F32: A | G32: 10 | H32: A | I32: 10 | J32: A | K32: 10 | L32: A | M32: 10 | N32: A | O32: 10 | P32: A | Q32: 10 | R32: A3 | S32: =VLOOKUP(R32,Sheet1!$B$2:$C$12,2,TRUE) -> 8 | T32: A4 | U32: =VLOOKUP(T32,Sheet1!$B$2:$C$12,2,TRUE) -> 7 | V32: =IFERROR(VLOOKUP($D32,'[1]Chi tiet'!$D$7:$L$389,8,0),0) -> A4 | W32: =VLOOKUP(V32,Sheet1!$B$2:$C$12,2,TRUE) -> 7 | X32: =IFERROR(VLOOKUP($D32,'[2]Gui chi Quynh'!D$7:K$393,7,0),0) -> A3 | Y32: =VLOOKUP(X32,Sheet1!$B$2:$C$12,2,TRUE) -> 8 | Z32: =IFERROR(VLOOKUP($D32,'[3]Chi tiet'!$D$7:$L$397,8,0),0) -> A3 | AA32: =VLOOKUP(Z32,[4]Sheet1!$B$2:$C$12,2,TRUE) -> 8 | AB32: =AVERAGE(F32:AA32) -> 8.9090909 | AC32: =LEFT($AN32,4) -> 11A* | AD32: Xuất sắc | AE32: Xuất sắc | AF32: Xuất sắc | AJ32: Xuất sắc | AM32: NLĐ | AN32: =(COUNTIF($F32:$AA32,"A*")&"A*")&" + "&(COUNTIF($F32:$AA32,"B*")&"B*")&" + "&(COUNTIF($F32:$AA32,"C*")&"C*")&" + "&(COUNTIF($F32:$AA32,"D")&"D") -> 11A* + 0B* + 0C* + 0D
A33: 26 | B33: 21 | C33: Trần Thanh Phương | D33: 01002034 | E33: Phòng TC - HC - TH | F33: A | G33: 10 | H33: A | I33: 10 | J33: A | K33: 10 | L33: A | M33: 10 | N33: A | O33: 10 | P33: A | Q33: 10 | R33: A4 | S33: =VLOOKUP(R33,Sheet1!$B$2:$C$12,2,TRUE) -> 7 | T33: A3 | U33: =VLOOKUP(T33,Sheet1!$B$2:$C$12,2,TRUE) -> 8 | V33: =IFERROR(VLOOKUP($D33,'[1]Chi tiet'!$D$7:$L$389,8,0),0) -> A4 | W33: =VLOOKUP(V33,Sheet1!$B$2:$C$12,2,TRUE) -> 7 | X33: =IFERROR(VLOOKUP($D33,'[2]Gui chi Quynh'!D$7:K$393,7,0),0) -> A3 | Y33: =VLOOKUP(X33,Sheet1!$B$2:$C$12,2,TRUE) -> 8 | Z33: =IFERROR(VLOOKUP($D33,'[3]Chi tiet'!$D$7:$L$397,8,0),0) -> A3 | AA33: =VLOOKUP(Z33,[4]Sheet1!$B$2:$C$12,2,TRUE) -> 8 | AB33: =AVERAGE(F33:AA33) -> 8.9090909 | AC33: =LEFT($AN33,4) -> 11A* | AD33: Xuất sắc | AE33: Xuất sắc | AF33: Xuất sắc | AJ33: Xuất sắc | AM33: NLĐ | AN33: =(COUNTIF($F33:$AA33,"A*")&"A*")&" + "&(COUNTIF($F33:$AA33,"B*")&"B*")&" + "&(COUNTIF($F33:$AA33,"C*")&"C*")&" + "&(COUNTIF($F33:$AA33,"D")&"D") -> 11A* + 0B* + 0C* + 0D
A34: 27 | B34: 22 | C34: Dương Văn Tâm | D34: 01002035 | E34: Phòng TC - HC - TH | F34: A | G34: 10 | H34: A | I34: 10 | J34: A | K34: 10 | L34: A | M34: 10 | N34: A | O34: 10 | P34: A | Q34: 10 | R34: A3 | S34: =VLOOKUP(R34,Sheet1!$B$2:$C$12,2,TRUE) -> 8 | T34: A4 | U34: =VLOOKUP(T34,Sheet1!$B$2:$C$12,2,TRUE) -> 7 | V34: =IFERROR(VLOOKUP($D34,'[1]Chi tiet'!$D$7:$L$389,8,0),0) -> A2 | W34: =VLOOKUP(V34,Sheet1!$B$2:$C$12,2,TRUE) -> 9 | X34: =IFERROR(VLOOKUP($D34,'[2]Gui chi Quynh'!D$7:K$393,7,0),0) -> A2 | Y34: =VLOOKUP(X34,Sheet1!$B$2:$C$12,2,TRUE) -> 9 | Z34: =IFERROR(VLOOKUP($D34,'[3]Chi tiet'!$D$7:$L$397,8,0),0) -> A3 | AA34: =VLOOKUP(Z34,[4]Sheet1!$B$2:$C$12,2,TRUE) -> 8 | AB34: =AVERAGE(F34:AA34) -> 9.1818182 | AC34: =LEFT($AN34,4) -> 11A* | AD34: Xuất sắc | AE34: Xuất sắc | AF34: Xuất sắc | AJ34: Xuất sắc | AM34: NLĐ | AN34: =(COUNTIF($F34:$AA34,"A*")&"A*")&" + "&(COUNTIF($F34:$AA34,"B*")&"B*")&" + "&(COUNTIF($F34:$AA34,"C*")&"C*")&" + "&(COUNTIF($F34:$AA34,"D")&"D") -> 11A* + 0B* + 0C* + 0D
A35: 28 | B35: 23 | C35: Huỳnh Ngọc Liên | D35: 01002036 | E35: Phòng TC - HC - TH | F35: A | G35: 10 | H35: A | I35: 10 | J35: A | K35: 10 | L35: A | M35: 10 | N35: A | O35: 10 | P35: A | Q35: 10 | R35: A4 | S35: =VLOOKUP(R35,Sheet1!$B$2:$C$12,2,TRUE) -> 7 | T35: A3 | U35: =VLOOKUP(T35,Sheet1!$B$2:$C$12,2,TRUE) -> 8 | V35: =IFERROR(VLOOKUP($D35,'[1]Chi tiet'!$D$7:$L$389,8,0),0) -> A3 | W35: =VLOOKUP(V35,Sheet1!$B$2:$C$12,2,TRUE) -> 8 | X35: =IFERROR(VLOOKUP($D35,'[2]Gui chi Quynh'!D$7:K$393,7,0),0) -> A2 | Y35: =VLOOKUP(X35,Sheet1!$B$2:$C$12,2,TRUE) -> 9 | Z35: =IFERROR(VLOOKUP($D35,'[3]Chi tiet'!$D$7:$L$397,8,0),0) -> A3 | AA35: =VLOOKUP(Z35,[4]Sheet1!$B$2:$C$12,2,TRUE) -> 8 | AB35: =AVERAGE(F35:AA35) -> 9.0909091 | AC35: =LEFT($AN35,4) -> 11A* | AD35: Xuất sắc | AE35: Xuất sắc | AF35: Xuất sắc | AJ35: Xuất sắc | AM35: NLĐ | AN35: =(COUNTIF($F35:$AA35,"A*")&"A*")&" + "&(COUNTIF($F35:$AA35,"B*")&"B*")&" + "&(COUNTIF($F35:$AA35,"C*")&"C*")&" + "&(COUNTIF($F35:$AA35,"D")&"D") -> 11A* + 0B* + 0C* + 0D
A36: 29 | B36: 01 | C36: Nguyễn Kính | D36: 01002024 | E36: Phòng Kế hoạch - TC | F36: A | G36: 10 | H36: A | I36: 10 | J36: A | K36: 10 | L36: A | M36: 10 | N36: A | O36: 10 | P36: A | Q36: 10 | R36: A1 | S36: =VLOOKUP(R36,Sheet1!$B$2:$C$12,2,TRUE) -> 10 | T36: A1 | U36: =VLOOKUP(T36,Sheet1!$B$2:$C$12,2,TRUE) -> 10 | V36: =IFERROR(VLOOKUP($D36,'[1]Chi tiet'!$D$7:$L$389,8,0),0) -> A1 | W36: =VLOOKUP(V36,Sheet1!$B$2:$C$12,2,TRUE) -> 10 | X36: =IFERROR(VLOOKUP($D36,'[2]Gui chi Quynh'!D$7:K$393,7,0),0) -> A1 | Y36: =VLOOKUP(X36,Sheet1!$B$2:$C$12,2,TRUE) -> 10 | Z36: =IFERROR(VLOOKUP($D36,'[3]Chi tiet'!$D$7:$L$397,8,0),0) -> A1 | AA36: =VLOOKUP(Z36,[4]Sheet1!$B$2:$C$12,2,TRUE) -> 10 | AB36: =AVERAGE(F36:AA36) -> 10 | AC36: =LEFT($AN36,4) -> 11A* | AD36: Xuất sắc | AE36: Xuất sắc | AF36: Xuất sắc | AH36: Xuất sắc | AJ36: Xuất sắc | AN36: =(COUNTIF($F36:$AA36,"A*")&"A*")&" + "&(COUNTIF($F36:$AA36,"B*")&"B*")&" + "&(COUNTIF($F36:$AA36,"C*")&"C*")&" + "&(COUNTIF($F36:$AA36,"D")&"D") -> 11A* + 0B* + 0C* + 0D
A37: 30 | B37: 02 | C37: Nguyễn Thị Kim Dung | D37: 01003002 | E37: Phòng Kế hoạch - TC | F37: A | G37: 10 | H37: A | I37: 10 | J37: A | K37: 10 | L37: A | M37: 10 | N37: A | O37: 10 | P37: A | Q37: 10 | R37: A2 | S37: =VLOOKUP(R37,Sheet1!$B$2:$C$12,2,TRUE) -> 9 | T37: A2 | U37: =VLOOKUP(T37,Sheet1!$B$2:$C$12,2,TRUE) -> 9 | V37: =IFERROR(VLOOKUP($D37,'[1]Chi tiet'!$D$7:$L$389,8,0),0) -> A2 | W37: =VLOOKUP(V37,Sheet1!$B$2:$C$12,2,TRUE) -> 9 | X37: =IFERROR(VLOOKUP($D37,'[2]Gui chi Quynh'!D$7:K$393,7,0),0) -> A2 | Y37: =VLOOKUP(X37,Sheet1!$B$2:$C$12,2,TRUE) -> 9 | Z37: =IFERROR(VLOOKUP($D37,'[3]Chi tiet'!$D$7:$L$397,8,0),0) -> A2 | AA37: =VLOOKUP(Z37,[4]Sheet1!$B$2:$C$12,2,TRUE) -> 9 | AB37: =AVERAGE(F37:AA37) -> 9.5454545 | AC37: =LEFT($AN37,4) -> 11A* | AD37: Xuất sắc | AE37: Xuất sắc | AF37: Xuất sắc | AH37: Xuất sắc | AJ37: Xuất sắc | AN37: =(COUNTIF($F37:$AA37,"A*")&"A*")&" + "&(COUNTIF($F37:$AA37,"B*")&"B*")&" + "&(COUNTIF($F37:$AA37,"C*")&"C*")&" + "&(COUNTIF($F37:$AA37,"D")&"D") -> 11A* + 0B* + 0C* + 0D
A38: 31 | B38: 03 | C38: Hồng Mộng Tuyết Dung | D38: 01003009 | E38: Phòng Kế hoạch - TC | F38: A | G38: 10 | H38: A | I38: 10 | J38: A | K38: 10 | L38: A | M38: 10 | N38: A | O38: 10 | P38: A | Q38: 10 | R38: A2 | S38: =VLOOKUP(R38,Sheet1!$B$2:$C$12,2,TRUE) -> 9 | T38: A2 | U38: =VLOOKUP(T38,Sheet1!$B$2:$C$12,2,TRUE) -> 9 | V38: =IFERROR(VLOOKUP($D38,'[1]Chi tiet'!$D$7:$L$389,8,0),0) -> A2 | W38: =VLOOKUP(V38,Sheet1!$B$2:$C$12,2,TRUE) -> 9 | X38: =IFERROR(VLOOKUP($D38,'[2]Gui chi Quynh'!D$7:K$393,7,0),0) -> A2 | Y38: =VLOOKUP(X38,Sheet1!$B$2:$C$12,2,TRUE) -> 9 | Z38: =IFERROR(VLOOKUP($D38,'[3]Chi tiet'!$D$7:$L$397,8,0),0) -> A2 | AA38: =VLOOKUP(Z38,[4]Sheet1!$B$2:$C$12,2,TRUE) -> 9 | AB38: =AVERAGE(F38:AA38) -> 9.5454545 | AC38: =LEFT($AN38,4) -> 11A* | AD38: Xuất sắc | AE38: Xuất sắc | AF38: Xuất sắc | AJ38: Xuất sắc | AN38: =(COUNTIF($F38:$AA38,"A*")&"A*")&" + "&(COUNTIF($F38:$AA38,"B*")&"B*")&" + "&(COUNTIF($F38:$AA38,"C*")&"C*")&" + "&(COUNTIF($F38:$AA38,"D")&"D") -> 11A* + 0B* + 0C* + 0D
A39: 32 | B39: 04 | C39: Trần Thị Minh Thoa | D39: 01003005 | E39: Phòng Kế hoạch - TC | F39: A | G39: 10 | H39: A | I39: 10 | J39: A | K39: 10 | L39: A | M39: 10 | N39: A | O39: 10 | P39: A | Q39: 10 | R39: A2 | S39: =VLOOKUP(R39,Sheet1!$B$2:$C$12,2,TRUE) -> 9 | T39: A2 | U39: =VLOOKUP(T39,Sheet1!$B$2:$C$12,2,TRUE) -> 9 | V39: =IFERROR(VLOOKUP($D39,'[1]Chi tiet'!$D$7:$L$389,8,0),0) -> A2 | W39: =VLOOKUP(V39,Sheet1!$B$2:$C$12,2,TRUE) -> 9 | X39: =IFERROR(VLOOKUP($D39,'[2]Gui chi Quynh'!D$7:K$393,7,0),0) -> A2 | Y39: =VLOOKUP(X39,Sheet1!$B$2:$C$12,2,TRUE) -> 9 | Z39: =IFERROR(VLOOKUP($D39,'[3]Chi tiet'!$D$7:$L$397,8,0),0) -> A2 | AA39: =VLOOKUP(Z39,[4]Sheet1!$B$2:$C$12,2,TRUE) -> 9 | AB39: =AVERAGE(F39:AA39) -> 9.5454545 | AC39: =LEFT($AN39,4) -> 11A* | AD39: Xuất sắc | AE39: Xuất sắc | AF39: Xuất sắc | AJ39: Xuất sắc | AN39: =(COUNTIF($F39:$AA39,"A*")&"A*")&" + "&(COUNTIF($F39:$AA39,"B*")&"B*")&" + "&(COUNTIF($F39:$AA39,"C*")&"C*")&" + "&(COUNTIF($F39:$AA39,"D")&"D") -> 11A* + 0B* + 0C* + 0D
A40: 33 | B40: 05 | C40: Nguyễn Thị Hồng Thắm | D40: 01003007 | E40: Phòng Kế hoạch - TC | F40: A | G40: 10 | H40: A | I40: 10 | J40: A | K40: 10 | L40: A | M40: 10 | N40: A | O40: 10 | P40: A DN | R40: A DN | T40: A DN | V40: =IFERROR(VLOOKUP($D40,'[1]Chi tiet'!$D$7:$L$389,8,0),0) -> A DN | X40: =IFERROR(VLOOKUP($D40,'[2]Gui chi Quynh'!D$7:K$393,7,0),0) -> A DN | Z40: =IFERROR(VLOOKUP($D40,'[3]Chi tiet'!$D$7:$L$397,8,0),0) -> A2 | AA40: =VLOOKUP(Z40,[4]Sheet1!$B$2:$C$12,2,TRUE) -> 9 | AB40: =AVERAGE(F40:AA40) -> 9.8333333 | AC40: =LEFT($AN40,4) -> 11A* | AD40: Xuất sắc | AE40: Xuất sắc | AF40: Xuất sắc | AJ40: Xuất sắc | AL40: Nghỉ hộ sản 05 tháng, từ ngày 01/12/2020 - 01/5/2021, đánh giá 07 tháng làm việc thực tế | AN40: =(COUNTIF($F40:$AA40,"A*")&"A*")&" + "&(COUNTIF($F40:$AA40,"B*")&"B*")&" + "&(COUNTIF($F40:$AA40,"C*")&"C*")&" + "&(COUNTIF($F40:$AA40,"D")&"D") -> 11A* + 0B* + 0C* + 0D
A41: 34 | B41: 06 | C41: Võ Thị Lệ Trân | D41: 01023004 | E41: Phòng Kế hoạch - TC | F41: A | G41: 10 | H41: A | I41: 10 | J41: A | K41: 10 | L41: A | M41: 10 | N41: A | O41: 10 | P41: A | Q41: 10 | R41: A2 | S41: =VLOOKUP(R41,Sheet1!$B$2:$C$12,2,TRUE) -> 9 | T41: A2 | U41: =VLOOKUP(T41,Sheet1!$B$2:$C$12,2,TRUE) -> 9 | V41: =IFERROR(VLOOKUP($D41,'[1]Chi tiet'!$D$7:$L$389,8,0),0) -> A2 | W41: =VLOOKUP(V41,Sheet1!$B$2:$C$12,2,TRUE) -> 9 | X41: =IFERROR(VLOOKUP($D41,'[2]Gui chi Quynh'!D$7:K$393,7,0),0) -> A2 | Y41: =VLOOKUP(X41,Sheet1!$B$2:$C$12,2,TRUE) -> 9 | Z41: =IFERROR(VLOOKUP($D41,'[3]Chi tiet'!$D$7:$L$397,8,0),0) -> A2 | AA41: =VLOOKUP(Z41,[4]Sheet1!$B$2:$C$12,2,TRUE) -> 9 | AB41: =AVERAGE(F41:AA41) -> 9.5454545 | AC41: =LEFT($AN41,4) -> 11A* | AD41: Xuất sắc | AE41: Xuất sắc | AF41: Xuất sắc | AJ41: Xuất sắc | AN41: =(COUNTIF($F41:$AA41,"A*")&"A*")&" + "&(COUNTIF($F41:$AA41,"B*")&"B*")&" + "&(COUNTIF($F41:$AA41,"C*")&"C*")&" + "&(COUNTIF($F41:$AA41,"D")&"D") -> 11A* + 0B* + 0C* + 0D
A42: 35 | B42: 07 | C42: Trần Thị Thảo Vân | D42: 01003008 | E42: Phòng Kế hoạch - TC | F42: A | G42: 10 | H42: A | I42: 10 | J42: A | K42: 10 | L42: A | M42: 10 | N42: A | O42: 10 | P42: A | Q42: 10 | R42: A2 | S42: =VLOOKUP(R42,Sheet1!$B$2:$C$12,2,TRUE) -> 9 | T42: A2 | U42: =VLOOKUP(T42,Sheet1!$B$2:$C$12,2,TRUE) -> 9 | V42: =IFERROR(VLOOKUP($D42,'[1]Chi tiet'!$D$7:$L$389,8,0),0) -> A2 | W42: =VLOOKUP(V42,Sheet1!$B$2:$C$12,2,TRUE) -> 9 | X42: =IFERROR(VLOOKUP($D42,'[2]Gui chi Quynh'!D$7:K$393,7,0),0) -> A2 | Y42: =VLOOKUP(X42,Sheet1!$B$2:$C$12,2,TRUE) -> 9 | Z42: =IFERROR(VLOOKUP($D42,'[3]Chi tiet'!$D$7:$L$397,8,0),0) -> A2 | AA42: =VLOOKUP(Z42,[4]Sheet1!$B$2:$C$12,2,TRUE) -> 9 | AB42: =AVERAGE(F42:AA42) -> 9.5454545 | AC42: =LEFT($AN42,4) -> 11A* | AD42: Xuất sắc | AE42: Xuất sắc | AF42: Xuất sắc | AJ42: Xuất sắc | AM42: NLĐ | AN42: =(COUNTIF($F42:$AA42,"A*")&"A*")&" + "&(COUNTIF($F42:$AA42,"B*")&"B*")&" + "&(COUNTIF($F42:$AA42,"C*")&"C*")&" + "&(COUNTIF($F42:$AA42,"D")&"D") -> 11A* + 0B* + 0C* + 0D
A43: 36 | B43: 08 | C43: Nguyễn Thụy Nghiêm | D43: 01003014 | E43: Phòng Kế hoạch - TC | F43: A | G43: 10 | H43: A | I43: 10 | J43: A | K43: 10 | L43: A | M43: 10 | N43: A | O43: 10 | P43: A | Q43: 10 | R43: A2 | S43: =VLOOKUP(R43,Sheet1!$B$2:$C$12,2,TRUE) -> 9 | T43: A2 | U43: =VLOOKUP(T43,Sheet1!$B$2:$C$12,2,TRUE) -> 9 | V43: =IFERROR(VLOOKUP($D43,'[1]Chi tiet'!$D$7:$L$389,8,0),0) -> A2 | W43: =VLOOKUP(V43,Sheet1!$B$2:$C$12,2,TRUE) -> 9 | X43: =IFERROR(VLOOKUP($D43,'[2]Gui chi Quynh'!D$7:K$393,7,0),0) -> A2 | Y43: =VLOOKUP(X43,Sheet1!$B$2:$C$12,2,TRUE) -> 9 | Z43: =IFERROR(VLOOKUP($D43,'[3]Chi tiet'!$D$7:$L$397,8,0),0) -> A2 | AA43: =VLOOKUP(Z43,[4]Sheet1!$B$2:$C$12,2,TRUE) -> 9 | AB43: =AVERAGE(F43:AA43) -> 9.5454545 | AC43: =LEFT($AN43,4) -> 11A* | AD43: Xuất sắc | AE43: Xuất sắc | AF43: Xuất sắc | AJ43: Xuất sắc | AM43: NLĐ | AN43: =(COUNTIF($F43:$AA43,"A*")&"A*")&" + "&(COUNTIF($F43:$AA43,"B*")&"B*")&" + "&(COUNTIF($F43:$AA43,"C*")&"C*")&" + "&(COUNTIF($F43:$AA43,"D")&"D") -> 11A* + 0B* + 0C* + 0D
A44: 37 | B44: 01 | C44: Hồ Văn Sĩ | D44: 01004002 | E44: Phòng Tuyển sinh - ĐT | F44: A | G44: 10 | H44: A | I44: 10 | J44: A | K44: 10 | L44: A | M44: 10 | N44: A | O44: 10 | P44: A | Q44: 10 | R44: A1 | S44: =VLOOKUP(R44,Sheet1!$B$2:$C$12,2,TRUE) -> 10 | T44: A1 | U44: =VLOOKUP(T44,Sheet1!$B$2:$C$12,2,TRUE) -> 10 | V44: =IFERROR(VLOOKUP($D44,'[1]Chi tiet'!$D$7:$L$389,8,0),0) -> A1 | W44: =VLOOKUP(V44,Sheet1!$B$2:$C$12,2,TRUE) -> 10 | X44: =IFERROR(VLOOKUP($D44,'[2]Gui chi Quynh'!D$7:K$393,7,0),0) -> A1 | Y44: =VLOOKUP(X44,Sheet1!$B$2:$C$12,2,TRUE) -> 10 | Z44: =IFERROR(VLOOKUP($D44,'[3]Chi tiet'!$D$7:$L$397,8,0),0) -> A1 | AA44: =VLOOKUP(Z44,[4]Sheet1!$B$2:$C$12,2,TRUE) -> 10 | AB44: =AVERAGE(F44:AA44) -> 10 | AC44: =LEFT($AN44,4) -> 11A* | AD44: Xuất sắc | AE44: Xuất sắc | AF44: Xuất sắc | AH44: Xuất sắc | AJ44: Xuất sắc | AN44: =(COUNTIF($F44:$AA44,"A*")&"A*")&" + "&(COUNTIF($F44:$AA44,"B*")&"B*")&" + "&(COUNTIF($F44:$AA44,"C*")&"C*")&" + "&(COUNTIF($F44:$AA44,"D")&"D") -> 11A* + 0B* + 0C* + 0D
A45: 38 | B45: 03 | C45: Nguyễn Văn Tấn | D45: 01004001 | E45: Phòng Tuyển sinh - ĐT | F45: A | G45: 10 | H45: A | I45: 10 | J45: A | K45: 10 | L45: A | M45: 10 | N45: A | O45: 10 | P45: A | Q45: 10 | R45: A1 | S45: =VLOOKUP(R45,Sheet1!$B$2:$C$12,2,TRUE) -> 10 | T45: A1 | U45: =VLOOKUP(T45,Sheet1!$B$2:$C$12,2,TRUE) -> 10 | V45: =IFERROR(VLOOKUP($D45,'[1]Chi tiet'!$D$7:$L$389,8,0),0) -> A1 | W45: =VLOOKUP(V45,Sheet1!$B$2:$C$12,2,TRUE) -> 10 | X45: =IFERROR(VLOOKUP($D45,'[2]Gui chi Quynh'!D$7:K$393,7,0),0) -> A1 | Y45: =VLOOKUP(X45,Sheet1!$B$2:$C$12,2,TRUE) -> 10 | Z45: =IFERROR(VLOOKUP($D45,'[3]Chi tiet'!$D$7:$L$397,8,0),0) -> A1 | AA45: =VLOOKUP(Z45,[4]Sheet1!$B$2:$C$12,2,TRUE) -> 10 | AB45: =AVERAGE(F45:AA45) -> 10 | AC45: =LEFT($AN45,4) -> 11A* | AD45: Xuất sắc | AE45: Xuất sắc | AF45: Xuất sắc | AH45: Xuất sắc | AJ45: Xuất sắc | AN45: =(COUNTIF($F45:$AA45,"A*")&"A*")&" + "&(COUNTIF($F45:$AA45,"B*")&"B*")&" + "&(COUNTIF($F45:$AA45,"C*")&"C*")&" + "&(COUNTIF($F45:$AA45,"D")&"D") -> 11A* + 0B* + 0C* + 0D
A46: 39 | B46: 02 | C46: Huỳnh Thị Mai | D46: 01004004 | E46: Phòng Tuyển sinh - ĐT | F46: A | G46: 10 | H46: A | I46: 10 | J46: A | K46: 10 | L46: A | M46: 10 | N46: A | O46: 10 | P46: A | Q46: 10 | R46: A1 | S46: =VLOOKUP(R46,Sheet1!$B$2:$C$12,2,TRUE) -> 10 | T46: A1 | U46: =VLOOKUP(T46,Sheet1!$B$2:$C$12,2,TRUE) -> 10 | V46: =IFERROR(VLOOKUP($D46,'[1]Chi tiet'!$D$7:$L$389,8,0),0) -> A1 | W46: =VLOOKUP(V46,Sheet1!$B$2:$C$12,2,TRUE) -> 10 | X46: =IFERROR(VLOOKUP($D46,'[2]Gui chi Quynh'!D$7:K$393,7,0),0) -> A1 | Y46: =VLOOKUP(X46,Sheet1!$B$2:$C$12,2,TRUE) -> 10 | Z46: =IFERROR(VLOOKUP($D46,'[3]Chi tiet'!$D$7:$L$397,8,0),0) -> A1 | AA46: =VLOOKUP(Z46,[4]Sheet1!$B$2:$C$12,2,TRUE) -> 10 | AB46: =AVERAGE(F46:AA46) -> 10 | AC46: =LEFT($AN46,4) -> 11A* | AD46: Xuất sắc | AE46: Xuất sắc | AF46: Xuất sắc | AH46: Xuất sắc | AJ46: Xuất sắc | AN46: =(COUNTIF($F46:$AA46,"A*")&"A*")&" + "&(COUNTIF($F46:$AA46,"B*")&"B*")&" + "&(COUNTIF($F46:$AA46,"C*")&"C*")&" + "&(COUNTIF($F46:$AA46,"D")&"D") -> 11A* + 0B* + 0C* + 0D
A47: 40 | B47: 02 | C47: Lương Xuân Thịnh | D47: 01004005 | E47: Phòng Tuyển sinh - ĐT | F47: A | G47: 10 | H47: A | I47: 10 | J47: A | K47: 10 | L47: A | M47: 10 | N47: A | O47: 10 | P47: A | Q47: 10 | R47: A1 | S47: =VLOOKUP(R47,Sheet1!$B$2:$C$12,2,TRUE) -> 10 | T47: A1 | U47: =VLOOKUP(T47,Sheet1!$B$2:$C$12,2,TRUE) -> 10 | V47: =IFERROR(VLOOKUP($D47,'[1]Chi tiet'!$D$7:$L$389,8,0),0) -> A1 | W47: =VLOOKUP(V47,Sheet1!$B$2:$C$12,2,TRUE) -> 10 | X47: =IFERROR(VLOOKUP($D47,'[2]Gui chi Quynh'!D$7:K$393,7,0),0) -> A1 | Y47: =VLOOKUP(X47,Sheet1!$B$2:$C$12,2,TRUE) -> 10 | Z47: =IFERROR(VLOOKUP($D47,'[3]Chi tiet'!$D$7:$L$397,8,0),0) -> A1 | AA47: =VLOOKUP(Z47,[4]Sheet1!$B$2:$C$12,2,TRUE) -> 10 | AB47: =AVERAGE(F47:AA47) -> 10 | AC47: =LEFT($AN47,4) -> 11A* | AD47: Xuất sắc | AE47: Xuất sắc | AF47: Xuất sắc | AH47: Xuất sắc | AJ47: Xuất sắc | AN47: =(COUNTIF($F47:$AA47,"A*")&"A*")&" + "&(COUNTIF($F47:$AA47,"B*")&"B*")&" + "&(COUNTIF($F47:$AA47,"C*")&"C*")&" + "&(COUNTIF($F47:$AA47,"D")&"D") -> 11A* + 0B* + 0C* + 0D
A48: 41 | B48: 04 | C48: Võ Thị Xuân Thơ | D48: 01004003 | E48: Phòng Tuyển sinh - ĐT | F48: A | G48: 10 | H48: A | I48: 10 | J48: A | K48: 10 | L48: A | M48: 10 | N48: A | O48: 10 | P48: A | Q48: 10 | R48: A2 | S48: =VLOOKUP(R48,Sheet1!$B$2:$C$12,2,TRUE) -> 9 | T48: A2 | U48: =VLOOKUP(T48,Sheet1!$B$2:$C$12,2,TRUE) -> 9 | V48: =IFERROR(VLOOKUP($D48,'[1]Chi tiet'!$D$7:$L$389,8,0),0) -> A1 | W48: =VLOOKUP(V48,Sheet1!$B$2:$C$12,2,TRUE) -> 10 | X48: =IFERROR(VLOOKUP($D48,'[2]Gui chi Quynh'!D$7:K$393,7,0),0) -> A2 | Y48: =VLOOKUP(X48,Sheet1!$B$2:$C$12,2,TRUE) -> 9 | Z48: =IFERROR(VLOOKUP($D48,'[3]Chi tiet'!$D$7:$L$397,8,0),0) -> A1 | AA48: =VLOOKUP(Z48,[4]Sheet1!$B$2:$C$12,2,TRUE) -> 10 | AB48: =AVERAGE(F48:AA48) -> 9.7272727 | AC48: =LEFT($AN48,4) -> 11A* | AD48: Xuất sắc | AE48: Xuất sắc | AF48: Xuất sắc | AJ48: Xuất sắc | AN48: =(COUNTIF($F48:$AA48,"A*")&"A*")&" + "&(COUNTIF($F48:$AA48,"B*")&"B*")&" + "&(COUNTIF($F48:$AA48,"C*")&"C*")&" + "&(COUNTIF($F48:$AA48,"D")&"D") -> 11A* + 0B* + 0C* + 0D
A49: 42 | B49: 05 | C49: Nguyễn Thị Thanh Thảo | D49: 01004008 | E49: Phòng Tuyển sinh - ĐT | F49: A | G49: 10 | H49: A | I49: 10 | J49: A | K49: 10 | L49: A | M49: 10 | N49: A | O49: 10 | P49: A | Q49: 10 | R49: A2 | S49: =VLOOKUP(R49,Sheet1!$B$2:$C$12,2,TRUE) -> 9 | T49: A2 | U49: =VLOOKUP(T49,Sheet1!$B$2:$C$12,2,TRUE) -> 9 | V49: =IFERROR(VLOOKUP($D49,'[1]Chi tiet'!$D$7:$L$389,8,0),0) -> A1 | W49: =VLOOKUP(V49,Sheet1!$B$2:$C$12,2,TRUE) -> 10 | X49: =IFERROR(VLOOKUP($D49,'[2]Gui chi Quynh'!D$7:K$393,7,0),0) -> A1 | Y49: =VLOOKUP(X49,Sheet1!$B$2:$C$12,2,TRUE) -> 10 | Z49: =IFERROR(VLOOKUP($D49,'[3]Chi tiet'!$D$7:$L$397,8,0),0) -> A1 | AA49: =VLOOKUP(Z49,[4]Sheet1!$B$2:$C$12,2,TRUE) -> 10 | AB49: =AVERAGE(F49:AA49) -> 9.8181818 | AC49: =LEFT($AN49,4) -> 11A* | AD49: Xuất sắc | AE49: Xuất sắc | AF49: Xuất sắc | AJ49: Xuất sắc | AN49: =(COUNTIF($F49:$AA49,"A*")&"A*")&" + "&(COUNTIF($F49:$AA49,"B*")&"B*")&" + "&(COUNTIF($F49:$AA49,"C*")&"C*")&" + "&(COUNTIF($F49:$AA49,"D")&"D") -> 11A* + 0B* + 0C* + 0D
A50: 43 | B50: 06 | C50: Giáp Thị Vượng | D50: 01004009 | E50: Phòng Tuyển sinh - ĐT | F50: A | G50: 10 | H50: A | I50: 10 | J50: A | K50: 10 | L50: A | M50: 10 | N50: A | O50: 10 | P50: A | Q50: 10 | R50: A3 | S50: =VLOOKUP(R50,Sheet1!$B$2:$C$12,2,TRUE) -> 8 | T50: A3 | U50: =VLOOKUP(T50,Sheet1!$B$2:$C$12,2,TRUE) -> 8 | V50: =IFERROR(VLOOKUP($D50,'[1]Chi tiet'!$D$7:$L$389,8,0),0) -> A2 | W50: =VLOOKUP(V50,Sheet1!$B$2:$C$12,2,TRUE) -> 9 | X50: =IFERROR(VLOOKUP($D50,'[2]Gui chi Quynh'!D$7:K$393,7,0),0) -> A3 | Y50: =VLOOKUP(X50,Sheet1!$B$2:$C$12,2,TRUE) -> 8 | Z50: =IFERROR(VLOOKUP($D50,'[3]Chi tiet'!$D$7:$L$397,8,0),0) -> A2 | AA50: =VLOOKUP(Z50,[4]Sheet1!$B$2:$C$12,2,TRUE) -> 9 | AB50: =AVERAGE(F50:AA50) -> 9.2727273 | AC50: =LEFT($AN50,4) -> 11A* | AD50: Xuất sắc | AE50: Xuất sắc | AF50: Xuất sắc | AJ50: Xuất sắc | AN50: =(COUNTIF($F50:$AA50,"A*")&"A*")&" + "&(COUNTIF($F50:$AA50,"B*")&"B*")&" + "&(COUNTIF($F50:$AA50,"C*")&"C*")&" + "&(COUNTIF($F50:$AA50,"D")&"D") -> 11A* + 0B* + 0C* + 0D
A51: 44 | B51: 07 | C51: Nguyễn Thị Thùy | D51: 01022013 | E51: Phòng Tuyển sinh - ĐT | F51: A | G51: 10 | H51: A | I51: 10 | J51: A | K51: 10 | L51: A | M51: 10 | N51: A | O51: 10 | P51: A | Q51: 10 | R51: A1 | S51: =VLOOKUP(R51,Sheet1!$B$2:$C$12,2,TRUE) -> 10 | T51: A1 | U51: =VLOOKUP(T51,Sheet1!$B$2:$C$12,2,TRUE) -> 10 | V51: =IFERROR(VLOOKUP($D51,'[1]Chi tiet'!$D$7:$L$389,8,0),0) -> A2 | W51: =VLOOKUP(V51,Sheet1!$B$2:$C$12,2,TRUE) -> 9 | X51: =IFERROR(VLOOKUP($D51,'[2]Gui chi Quynh'!D$7:K$393,7,0),0) -> A1 | Y51: =VLOOKUP(X51,Sheet1!$B$2:$C$12,2,TRUE) -> 10 | Z51: =IFERROR(VLOOKUP($D51,'[3]Chi tiet'!$D$7:$L$397,8,0),0) -> A1 | AA51: =VLOOKUP(Z51,[4]Sheet1!$B$2:$C$12,2,TRUE) -> 10 | AB51: =AVERAGE(F51:AA51) -> 9.9090909 | AC51: =LEFT($AN51,4) -> 11A* | AD51: Xuất sắc | AE51: Xuất sắc | AF51: Xuất sắc | AJ51: Xuất sắc | AN51: =(COUNTIF($F51:$AA51,"A*")&"A*")&" + "&(COUNTIF($F51:$AA51,"B*")&"B*")&" + "&(COUNTIF($F51:$AA51,"C*")&"C*")&" + "&(COUNTIF($F51:$AA51,"D")&"D") -> 11A* + 0B* + 0C* + 0D
A52: 45 | B52: 08 | C52: Mai Nguyễn Hoàng Yến | D52: 01010038 | E52: Phòng Tuyển sinh - ĐT | F52: A | G52: 10 | H52: A | I52: 10 | J52: A | K52: 10 | L52: A | M52: 10 | N52: A | O52: 10 | P52: A | Q52: 10 | R52: A4 | S52: =VLOOKUP(R52,Sheet1!$B$2:$C$12,2,TRUE) -> 7 | T52: A3 | U52: =VLOOKUP(T52,Sheet1!$B$2:$C$12,2,TRUE) -> 8 | V52: =IFERROR(VLOOKUP($D52,'[1]Chi tiet'!$D$7:$L$389,8,0),0) -> A3 | W52: =VLOOKUP(V52,Sheet1!$B$2:$C$12,2,TRUE) -> 8 | X52: =IFERROR(VLOOKUP($D52,'[2]Gui chi Quynh'!D$7:K$393,7,0),0) -> A4 | Y52: =VLOOKUP(X52,Sheet1!$B$2:$C$12,2,TRUE) -> 7 | Z52: =IFERROR(VLOOKUP($D52,'[3]Chi tiet'!$D$7:$L$397,8,0),0) -> A3 | AA52: =VLOOKUP(Z52,[4]Sheet1!$B$2:$C$12,2,TRUE) -> 8 | AB52: =AVERAGE(F52:AA52) -> 8.9090909 | AC52: =LEFT($AN52,4) -> 11A* | AD52: Xuất sắc | AE52: Tốt | AF52: Xuất sắc | AJ52: Xuất sắc | AN52: =(COUNTIF($F52:$AA52,"A*")&"A*")&" + "&(COUNTIF($F52:$AA52,"B*")&"B*")&" + "&(COUNTIF($F52:$AA52,"C*")&"C*")&" + "&(COUNTIF($F52:$AA52,"D")&"D") -> 11A* + 0B* + 0C* + 0D
A53: 46 | B53: 09 | C53: Nguyễn Thị Hải Hà | D53: 01012026 | E53: Phòng Tuyển sinh - ĐT | F53: A | G53: 10 | H53: A | I53: 10 | J53: A | K53: 10 | L53: A | M53: 10 | N53: A | O53: 10 | P53: A | Q53: 10 | R53: A2 | S53: =VLOOKUP(R53,Sheet1!$B$2:$C$12,2,TRUE) -> 9 | T53: A2 | U53: =VLOOKUP(T53,Sheet1!$B$2:$C$12,2,TRUE) -> 9 | V53: =IFERROR(VLOOKUP($D53,'[1]Chi tiet'!$D$7:$L$389,8,0),0) -> A2 | W53: =VLOOKUP(V53,Sheet1!$B$2:$C$12,2,TRUE) -> 9 | X53: =IFERROR(VLOOKUP($D53,'[2]Gui chi Quynh'!D$7:K$393,7,0),0) -> A2 | Y53: =VLOOKUP(X53,Sheet1!$B$2:$C$12,2,TRUE) -> 9 | Z53: =IFERROR(VLOOKUP($D53,'[3]Chi tiet'!$D$7:$L$397,8,0),0) -> A1 | AA53: =VLOOKUP(Z53,[4]Sheet1!$B$2:$C$12,2,TRUE) -> 10 | AB53: =AVERAGE(F53:AA53) -> 9.6363636 | AC53: =LEFT($AN53,4) -> 11A* | AD53: Xuất sắc | AE53: Xuất sắc | AF53: Xuất sắc | AJ53: Xuất sắc | AN53: =(COUNTIF($F53:$AA53,"A*")&"A*")&" + "&(COUNTIF($F53:$AA53,"B*")&"B*")&" + "&(COUNTIF($F53:$AA53,"C*")&"C*")&" + "&(COUNTIF($F53:$AA53,"D")&"D") -> 11A* + 0B* + 0C* + 0D
A54: 47 | B54: 10 | C54: Thái Thị My Sa | D54: 01002020 | E54: Phòng Tuyển sinh - ĐT | F54: A | G54: 10 | H54: A | I54: 10 | J54: A | K54: 10 | L54: A | M54: 10 | N54: A | O54: 10 | P54: A | Q54: 10 | R54: A2 | S54: =VLOOKUP(R54,Sheet1!$B$2:$C$12,2,TRUE) -> 9 | T54: A3 | U54: =VLOOKUP(T54,Sheet1!$B$2:$C$12,2,TRUE) -> 8 | V54: =IFERROR(VLOOKUP($D54,'[1]Chi tiet'!$D$7:$L$389,8,0),0) -> A2 | W54: =VLOOKUP(V54,Sheet1!$B$2:$C$12,2,TRUE) -> 9 | X54: =IFERROR(VLOOKUP($D54,'[2]Gui chi Quynh'!D$7:K$393,7,0),0) -> A1 | Y54: =VLOOKUP(X54,Sheet1!$B$2:$C$12,2,TRUE) -> 10 | Z54: =IFERROR(VLOOKUP($D54,'[3]Chi tiet'!$D$7:$L$397,8,0),0) -> A1 | AA54: =VLOOKUP(Z54,[4]Sheet1!$B$2:$C$12,2,TRUE) -> 10 | AB54: =AVERAGE(F54:AA54) -> 9.6363636 | AC54: =LEFT($AN54,4) -> 11A* | AD54: Xuất sắc | AE54: Xuất sắc | AF54: Xuất sắc | AJ54: Xuất sắc | AN54: =(COUNTIF($F54:$AA54,"A*")&"A*")&" + "&(COUNTIF($F54:$AA54,"B*")&"B*")&" + "&(COUNTIF($F54:$AA54,"C*")&"C*")&" + "&(COUNTIF($F54:$AA54,"D")&"D") -> 11A* + 0B* + 0C* + 0D
A55: 48 | B55: 11 | C55: Huỳnh Thị Cẩm Hoa | D55: 01005009 | E55: Phòng Tuyển sinh - ĐT | F55: A | G55: 10 | H55: A | I55: 10 | J55: A | K55: 10 | L55: A | M55: 10 | N55: A | O55: 10 | P55: A | Q55: 10 | R55: A4 | S55: =VLOOKUP(R55,Sheet1!$B$2:$C$12,2,TRUE) -> 7 | T55: A4 | U55: =VLOOKUP(T55,Sheet1!$B$2:$C$12,2,TRUE) -> 7 | V55: =IFERROR(VLOOKUP($D55,'[1]Chi tiet'!$D$7:$L$389,8,0),0) -> A4 | W55: =VLOOKUP(V55,Sheet1!$B$2:$C$12,2,TRUE) -> 7 | X55: =IFERROR(VLOOKUP($D55,'[2]Gui chi Quynh'!D$7:K$393,7,0),0) -> A4 | Y55: =VLOOKUP(X55,Sheet1!$B$2:$C$12,2,TRUE) -> 7 | Z55: =IFERROR(VLOOKUP($D55,'[3]Chi tiet'!$D$7:$L$397,8,0),0) -> A4 | AA55: =VLOOKUP(Z55,[4]Sheet1!$B$2:$C$12,2,TRUE) -> 7 | AB55: =AVERAGE(F55:AA55) -> 8.6363636 | AC55: =LEFT($AN55,4) -> 11A* | AD55: Xuất sắc | AE55: Tốt | AF55: Xuất sắc | AJ55: Xuất sắc | AN55: =(COUNTIF($F55:$AA55,"A*")&"A*")&" + "&(COUNTIF($F55:$AA55,"B*")&"B*")&" + "&(COUNTIF($F55:$AA55,"C*")&"C*")&" + "&(COUNTIF($F55:$AA55,"D")&"D") -> 11A* + 0B* + 0C* + 0D
A56: 49 | B56: 12 | C56: Nguyễn Thị Nhung | D56: 01018006 | E56: Phòng Tuyển sinh - ĐT | F56: A | G56: 10 | H56: A | I56: 10 | J56: A | K56: 10 | L56: A | M56: 10 | N56: A | O56: 10 | P56: A | Q56: 10 | R56: A3 | S56: =VLOOKUP(R56,Sheet1!$B$2:$C$12,2,TRUE) -> 8 | T56: A2 | U56: =VLOOKUP(T56,Sheet1!$B$2:$C$12,2,TRUE) -> 9 | V56: =IFERROR(VLOOKUP($D56,'[1]Chi tiet'!$D$7:$L$389,8,0),0) -> A2 | W56: =VLOOKUP(V56,Sheet1!$B$2:$C$12,2,TRUE) -> 9 | X56: =IFERROR(VLOOKUP($D56,'[2]Gui chi Quynh'!D$7:K$393,7,0),0) -> A1 | Y56: =VLOOKUP(X56,Sheet1!$B$2:$C$12,2,TRUE) -> 10 | Z56: =IFERROR(VLOOKUP($D56,'[3]Chi tiet'!$D$7:$L$397,8,0),0) -> A2 | AA56: =VLOOKUP(Z56,[4]Sheet1!$B$2:$C$12,2,TRUE) -> 9 | AB56: =AVERAGE(F56:AA56) -> 9.5454545 | AC56: =LEFT($AN56,4) -> 11A* | AD56: Xuất sắc | AE56: Tốt | AF56: Xuất sắc | AJ56: Xuất sắc | AM56: NLĐ | AN56: =(COUNTIF($F56:$AA56,"A*")&"A*")&" + "&(COUNTIF($F56:$AA56,"B*")&"B*")&" + "&(COUNTIF($F56:$AA56,"C*")&"C*")&" + "&(COUNTIF($F56:$AA56,"D")&"D") -> 11A* + 0B* + 0C* + 0D
A57: 50 | B57: 13 | C57: Nguyễn Việt Tiến | D57: 01004013 | E57: Phòng Tuyển sinh - ĐT | F57: A | G57: 10 | H57: A | I57: 10 | J57: A | K57: 10 | L57: A | M57: 10 | N57: A | O57: 10 | P57: A | Q57: 10 | R57: A3 | S57: =VLOOKUP(R57,Sheet1!$B$2:$C$12,2,TRUE) -> 8 | T57: A4 | U57: =VLOOKUP(T57,Sheet1!$B$2:$C$12,2,TRUE) -> 7 | V57: =IFERROR(VLOOKUP($D57,'[1]Chi tiet'!$D$7:$L$389,8,0),0) -> A3 | W57: =VLOOKUP(V57,Sheet1!$B$2:$C$12,2,TRUE) -> 8 | X57: =IFERROR(VLOOKUP($D57,'[2]Gui chi Quynh'!D$7:K$393,7,0),0) -> A2 | Y57: =VLOOKUP(X57,Sheet1!$B$2:$C$12,2,TRUE) -> 9 | Z57: =IFERROR(VLOOKUP($D57,'[3]Chi tiet'!$D$7:$L$397,8,0),0) -> A2 | AA57: =VLOOKUP(Z57,[4]Sheet1!$B$2:$C$12,2,TRUE) -> 9 | AB57: =AVERAGE(F57:AA57) -> 9.1818182 | AC57: =LEFT($AN57,4) -> 11A* | AD57: Xuất sắc | AE57: Xuất sắc | AF57: Xuất sắc | AJ57: Xuất sắc | AM57: NLĐ | AN57: =(COUNTIF($F57:$AA57,"A*")&"A*")&" + "&(COUNTIF($F57:$AA57,"B*")&"B*")&" + "&(COUNTIF($F57:$AA57,"C*")&"C*")&" + "&(COUNTIF($F57:$AA57,"D")&"D") -> 11A* + 0B* + 0C* + 0D
A58: 51 | B58: 14 | C58: Sỹ Thị Chung | D58: 01011017 | E58: Phòng Tuyển sinh - ĐT | F58: A | G58: 10 | H58: A | I58: 10 | J58: A | K58: 10 | L58: A | M58: 10 | N58: A | O58: 10 | P58: A | Q58: 10 | R58: A3 | S58: =VLOOKUP(R58,Sheet1!$B$2:$C$12,2,TRUE) -> 8 | T58: A1 | U58: =VLOOKUP(T58,Sheet1!$B$2:$C$12,2,TRUE) -> 10 | V58: =IFERROR(VLOOKUP($D58,'[1]Chi tiet'!$D$7:$L$389,8,0),0) -> A1 | W58: =VLOOKUP(V58,Sheet1!$B$2:$C$12,2,TRUE) -> 10 | X58: =IFERROR(VLOOKUP($D58,'[2]Gui chi Quynh'!D$7:K$393,7,0),0) -> A1 | Y58: =VLOOKUP(X58,Sheet1!$B$2:$C$12,2,TRUE) -> 10 | Z58: =IFERROR(VLOOKUP($D58,'[3]Chi tiet'!$D$7:$L$397,8,0),0) -> A1 | AA58: =VLOOKUP(Z58,[4]Sheet1!$B$2:$C$12,2,TRUE) -> 10 | AB58: =AVERAGE(F58:AA58) -> 9.8181818 | AC58: =LEFT($AN58,4) -> 11A* | AD58: Xuất sắc | AE58: Xuất sắc | AF58: Xuất sắc | AJ58: Xuất sắc | AM58: NLĐ | AN58: =(COUNTIF($F58:$AA58,"A*")&"A*")&" + "&(COUNTIF($F58:$AA58,"B*")&"B*")&" + "&(COUNTIF($F58:$AA58,"C*")&"C*")&" + "&(COUNTIF($F58:$AA58,"D")&"D") -> 11A* + 0B* + 0C* + 0D
A59: 52 | B59: 15 | C59: Nguyễn Thị Tất | D59: 01022059 | E59: Phòng Tuyển sinh - ĐT | F59: A | G59: 10 | H59: A | I59: 10 | J59: A | K59: 10 | L59: A | M59: 10 | N59: A | O59: 10 | P59: A | Q59: 10 | R59: A1 | S59: =VLOOKUP(R59,Sheet1!$B$2:$C$12,2,TRUE) -> 10 | T59: A1 | U59: =VLOOKUP(T59,Sheet1!$B$2:$C$12,2,TRUE) -> 10 | V59: =IFERROR(VLOOKUP($D59,'[1]Chi tiet'!$D$7:$L$389,8,0),0) -> A1 | W59: =VLOOKUP(V59,Sheet1!$B$2:$C$12,2,TRUE) -> 10 | X59: =IFERROR(VLOOKUP($D59,'[2]Gui chi Quynh'!D$7:K$393,7,0),0) -> A1 | Y59: =VLOOKUP(X59,Sheet1!$B$2:$C$12,2,TRUE) -> 10 | Z59: =IFERROR(VLOOKUP($D59,'[3]Chi tiet'!$D$7:$L$397,8,0),0) -> A1 | AA59: =VLOOKUP(Z59,[4]Sheet1!$B$2:$C$12,2,TRUE) -> 10 | AB59: =AVERAGE(F59:AA59) -> 10 | AC59: =LEFT($AN59,4) -> 11A* | AD59: Xuất sắc | AE59: Xuất sắc | AF59: Xuất sắc | AJ59: Xuất sắc | AM59: NLĐ | AN59: =(COUNTIF($F59:$AA59,"A*")&"A*")&" + "&(COUNTIF($F59:$AA59,"B*")&"B*")&" + "&(COUNTIF($F59:$AA59,"C*")&"C*")&" + "&(COUNTIF($F59:$AA59,"D")&"D") -> 11A* + 0B* + 0C* + 0D
A60: 53 | B60: 01 | C60: Lê Xuân Thiện | D60: 01002002 | E60: Phòng CTCT - HSSV | F60: A | G60: 10 | H60: A | I60: 10 | J60: A | K60: 10 | L60: A | M60: 10 | N60: A | O60: 10 | P60: A | Q60: 10 | R60: A1 | S60: =VLOOKUP(R60,Sheet1!$B$2:$C$12,2,TRUE) -> 10 | T60: A2 | U60: =VLOOKUP(T60,Sheet1!$B$2:$C$12,2,TRUE) -> 9 | V60: =IFERROR(VLOOKUP($D60,'[1]Chi tiet'!$D$7:$L$389,8,0),0) -> A1 | W60: =VLOOKUP(V60,Sheet1!$B$2:$C$12,2,TRUE) -> 10 | X60: =IFERROR(VLOOKUP($D60,'[2]Gui chi Quynh'!D$7:K$393,7,0),0) -> A1 | Y60: =VLOOKUP(X60,Sheet1!$B$2:$C$12,2,TRUE) -> 10 | Z60: =IFERROR(VLOOKUP($D60,'[3]Chi tiet'!$D$7:$L$397,8,0),0) -> A1 | AA60: =VLOOKUP(Z60,[4]Sheet1!$B$2:$C$12,2,TRUE) -> 10 | AB60: =AVERAGE(F60:AA60) -> 9.9090909 | AC60: =LEFT($AN60,4) -> 11A* | AD60: Xuất sắc | AE60: Xuất sắc | AF60: Xuất sắc | AH60: Xuất sắc | AJ60: Xuất sắc | AN60: =(COUNTIF($F60:$AA60,"A*")&"A*")&" + "&(COUNTIF($F60:$AA60,"B*")&"B*")&" + "&(COUNTIF($F60:$AA60,"C*")&"C*")&" + "&(COUNTIF($F60:$AA60,"D")&"D") -> 11A* + 0B* + 0C* + 0D
A61: 54 | B61: 03 | C61: Hồ Minh Lợi | D61: 01007001 | E61: Phòng CTCT - HSSV | F61: A | G61: 10 | H61: A | I61: 10 | J61: A | K61: 10 | L61: A | M61: 10 | N61: A | O61: 10 | P61: A | Q61: 10 | R61: A2 | S61: =VLOOKUP(R61,Sheet1!$B$2:$C$12,2,TRUE) -> 9 | T61: A3 | U61: =VLOOKUP(T61,Sheet1!$B$2:$C$12,2,TRUE) -> 8 | V61: =IFERROR(VLOOKUP($D61,'[1]Chi tiet'!$D$7:$L$389,8,0),0) -> A2 | W61: =VLOOKUP(V61,Sheet1!$B$2:$C$12,2,TRUE) -> 9 | X61: =IFERROR(VLOOKUP($D61,'[2]Gui chi Quynh'!D$7:K$393,7,0),0) -> A2 | Y61: =VLOOKUP(X61,Sheet1!$B$2:$C$12,2,TRUE) -> 9 | Z61: =IFERROR(VLOOKUP($D61,'[3]Chi tiet'!$D$7:$L$397,8,0),0) -> A2 | AA61: =VLOOKUP(Z61,[4]Sheet1!$B$2:$C$12,2,TRUE) -> 9 | AB61: =AVERAGE(F61:AA61) -> 9.4545455 | AC61: =LEFT($AN61,4) -> 11A* | AD61: Xuất sắc | AE61: Tốt | AF61: Xuất sắc | AH61: Xuất sắc | AJ61: Xuất sắc | AN61: =(COUNTIF($F61:$AA61,"A*")&"A*")&" + "&(COUNTIF($F61:$AA61,"B*")&"B*")&" + "&(COUNTIF($F61:$AA61,"C*")&"C*")&" + "&(COUNTIF($F61:$AA61,"D")&"D") -> 11A* + 0B* + 0C* + 0D
A62: 55 | B62: 02 | C62: Nguyễn Ngọc Hiệp | D62: 01009006 | E62: Phòng CTCT - HSSV | F62: A | G62: 10 | H62: A | I62: 10 | J62: A | K62: 10 | L62: A | M62: 10 | N62: A | O62: 10 | P62: A | Q62: 10 | R62: A4 | S62: =VLOOKUP(R62,Sheet1!$B$2:$C$12,2,TRUE) -> 7 | T62: A3 | U62: =VLOOKUP(T62,Sheet1!$B$2:$C$12,2,TRUE) -> 8 | V62: =IFERROR(VLOOKUP($D62,'[1]Chi tiet'!$D$7:$L$389,8,0),0) -> A3 | W62: =VLOOKUP(V62,Sheet1!$B$2:$C$12,2,TRUE) -> 8 | X62: =IFERROR(VLOOKUP($D62,'[2]Gui chi Quynh'!D$7:K$393,7,0),0) -> A3 | Y62: =VLOOKUP(X62,Sheet1!$B$2:$C$12,2,TRUE) -> 8 | Z62: =IFERROR(VLOOKUP($D62,'[3]Chi tiet'!$D$7:$L$397,8,0),0) -> A2 | AA62: =VLOOKUP(Z62,[4]Sheet1!$B$2:$C$12,2,TRUE) -> 9 | AB62: =AVERAGE(F62:AA62) -> 9.0909091 | AC62: =LEFT($AN62,4) -> 11A* | AD62: Xuất sắc | AE62: Xuất sắc | AF62: Xuất sắc | AH62: Xuất sắc | AJ62: Xuất sắc | AN62: =(COUNTIF($F62:$AA62,"A*")&"A*")&" + "&(COUNTIF($F62:$AA62,"B*")&"B*")&" + "&(COUNTIF($F62:$AA62,"C*")&"C*")&" + "&(COUNTIF($F62:$AA62,"D")&"D") -> 11A* + 0B* + 0C* + 0D
A63: 56 | B63: 04 | C63: Nguyễn Thị Kim Anh | D63: 01009018 | E63: Phòng CTCT - HSSV | F63: A | G63: 10 | H63: A | I63: 10 | J63: A | K63: 10 | L63: A | M63: 10 | N63: A | O63: 10 | P63: A | Q63: 10 | R63: A4 | S63: =VLOOKUP(R63,Sheet1!$B$2:$C$12,2,TRUE) -> 7 | T63: A4 | U63: =VLOOKUP(T63,Sheet1!$B$2:$C$12,2,TRUE) -> 7 | V63: =IFERROR(VLOOKUP($D63,'[1]Chi tiet'!$D$7:$L$389,8,0),0) -> A3 | W63: =VLOOKUP(V63,Sheet1!$B$2:$C$12,2,TRUE) -> 8 | X63: =IFERROR(VLOOKUP($D63,'[2]Gui chi Quynh'!D$7:K$393,7,0),0) -> A4 | Y63: =VLOOKUP(X63,Sheet1!$B$2:$C$12,2,TRUE) -> 7 | Z63: =IFERROR(VLOOKUP($D63,'[3]Chi tiet'!$D$7:$L$397,8,0),0) -> A4 | AA63: =VLOOKUP(Z63,[4]Sheet1!$B$2:$C$12,2,TRUE) -> 7 | AB63: =AVERAGE(F63:AA63) -> 8.7272727 | AC63: =LEFT($AN63,4) -> 11A* | AD63: Xuất sắc | AE63: Tốt | AF63: Xuất sắc | AJ63: Xuất sắc | AN63: =(COUNTIF($F63:$AA63,"A*")&"A*")&" + "&(COUNTIF($F63:$AA63,"B*")&"B*")&" + "&(COUNTIF($F63:$AA63,"C*")&"C*")&" + "&(COUNTIF($F63:$AA63,"D")&"D") -> 11A* + 0B* + 0C* + 0D
A64: 57 | B64: 05 | C64: Nguyễn Tất Thắng | D64: 01009008 | E64: Phòng CTCT - HSSV | F64: A | G64: 10 | H64: A | I64: 10 | J64: A | K64: 10 | L64: A | M64: 10 | N64: A | O64: 10 | P64: A | Q64: 10 | R64: A4 | S64: =VLOOKUP(R64,Sheet1!$B$2:$C$12,2,TRUE) -> 7 | T64: A4 | U64: =VLOOKUP(T64,Sheet1!$B$2:$C$12,2,TRUE) -> 7 | V64: =IFERROR(VLOOKUP($D64,'[1]Chi tiet'!$D$7:$L$389,8,0),0) -> A3 | W64: =VLOOKUP(V64,Sheet1!$B$2:$C$12,2,TRUE) -> 8 | X64: =IFERROR(VLOOKUP($D64,'[2]Gui chi Quynh'!D$7:K$393,7,0),0) -> A3 | Y64: =VLOOKUP(X64,Sheet1!$B$2:$C$12,2,TRUE) -> 8 | Z64: =IFERROR(VLOOKUP($D64,'[3]Chi tiet'!$D$7:$L$397,8,0),0) -> A2 | AA64: =VLOOKUP(Z64,[4]Sheet1!$B$2:$C$12,2,TRUE) -> 9 | AB64: =AVERAGE(F64:AA64) -> 9 | AC64: =LEFT($AN64,4) -> 11A* | AD64: Xuất sắc | AE64: Xuất sắc | AF64: Xuất sắc | AJ64: Xuất sắc | AN64: =(COUNTIF($F64:$AA64,"A*")&"A*")&" + "&(COUNTIF($F64:$AA64,"B*")&"B*")&" + "&(COUNTIF($F64:$AA64,"C*")&"C*")&" + "&(COUNTIF($F64:$AA64,"D")&"D") -> 11A* + 0B* + 0C* + 0D
A65: 58 | B65: 06 | C65: Lê Thị Nữ | D65: 01009012 | E65: Phòng CTCT - HSSV | F65: A | G65: 10 | H65: A | I65: 10 | J65: A | K65: 10 | L65: A | M65: 10 | N65: A | O65: 10 | P65: A | Q65: 10 | R65: A2 | S65: =VLOOKUP(R65,Sheet1!$B$2:$C$12,2,TRUE) -> 9 | T65: A3 | U65: =VLOOKUP(T65,Sheet1!$B$2:$C$12,2,TRUE) -> 8 | V65: =IFERROR(VLOOKUP($D65,'[1]Chi tiet'!$D$7:$L$389,8,0),0) -> A2 | W65: =VLOOKUP(V65,Sheet1!$B$2:$C$12,2,TRUE) -> 9 | X65: =IFERROR(VLOOKUP($D65,'[2]Gui chi Quynh'!D$7:K$393,7,0),0) -> A2 | Y65: =VLOOKUP(X65,Sheet1!$B$2:$C$12,2,TRUE) -> 9 | Z65: =IFERROR(VLOOKUP($D65,'[3]Chi tiet'!$D$7:$L$397,8,0),0) -> A2 | AA65: =VLOOKUP(Z65,[4]Sheet1!$B$2:$C$12,2,TRUE) -> 9 | AB65: =AVERAGE(F65:AA65) -> 9.4545455 | AC65: =LEFT($AN65,4) -> 11A* | AD65: Xuất sắc | AE65: Xuất sắc | AF65: Xuất sắc | AJ65: Xuất sắc | AN65: =(COUNTIF($F65:$AA65,"A*")&"A*")&" + "&(COUNTIF($F65:$AA65,"B*")&"B*")&" + "&(COUNTIF($F65:$AA65,"C*")&"C*")&" + "&(COUNTIF($F65:$AA65,"D")&"D") -> 11A* + 0B* + 0C* + 0D
A66: 59 | B66: 07 | C66: Phạm Thị Lê Chi | D66: 01009010 | E66: Phòng CTCT - HSSV | F66: A | G66: 10 | H66: A | I66: 10 | J66: A | K66: 10 | L66: A | M66: 10 | N66: A | O66: 10 | P66: A | Q66: 10 | R66: A4 | S66: =VLOOKUP(R66,Sheet1!$B$2:$C$12,2,TRUE) -> 7 | T66: A4 | U66: =VLOOKUP(T66,Sheet1!$B$2:$C$12,2,TRUE) -> 7 | V66: =IFERROR(VLOOKUP($D66,'[1]Chi tiet'!$D$7:$L$389,8,0),0) -> A4 | W66: =VLOOKUP(V66,Sheet1!$B$2:$C$12,2,TRUE) -> 7 | X66: =IFERROR(VLOOKUP($D66,'[2]Gui chi Quynh'!D$7:K$393,7,0),0) -> A4 | Y66: =VLOOKUP(X66,Sheet1!$B$2:$C$12,2,TRUE) -> 7 | Z66: =IFERROR(VLOOKUP($D66,'[3]Chi tiet'!$D$7:$L$397,8,0),0) -> A3 | AA66: =VLOOKUP(Z66,[4]Sheet1!$B$2:$C$12,2,TRUE) -> 8 | AB66: =AVERAGE(F66:AA66) -> 8.7272727 | AC66: =LEFT($AN66,4) -> 11A* | AD66: Xuất sắc | AE66: Xuất sắc | AF66: Xuất sắc | AJ66: Xuất sắc | AN66: =(COUNTIF($F66:$AA66,"A*")&"A*")&" + "&(COUNTIF($F66:$AA66,"B*")&"B*")&" + "&(COUNTIF($F66:$AA66,"C*")&"C*")&" + "&(COUNTIF($F66:$AA66,"D")&"D") -> 11A* + 0B* + 0C* + 0D
A67: 60 | B67: 08 | C67: Trần Thị Thu Hà | D67: 01002004 | E67: Phòng CTCT - HSSV | F67: A | G67: 10 | H67: A | I67: 10 | J67: A | K67: 10 | L67: A | M67: 10 | N67: A | O67: 10 | P67: A | Q67: 10 | R67: A2 | S67: =VLOOKUP(R67,Sheet1!$B$2:$C$12,2,TRUE) -> 9 | T67: A2 | U67: =VLOOKUP(T67,Sheet1!$B$2:$C$12,2,TRUE) -> 9 | V67: =IFERROR(VLOOKUP($D67,'[1]Chi tiet'!$D$7:$L$389,8,0),0) -> A2 | W67: =VLOOKUP(V67,Sheet1!$B$2:$C$12,2,TRUE) -> 9 | X67: =IFERROR(VLOOKUP($D67,'[2]Gui chi Quynh'!D$7:K$393,7,0),0) -> A2 | Y67: =VLOOKUP(X67,Sheet1!$B$2:$C$12,2,TRUE) -> 9 | Z67: =IFERROR(VLOOKUP($D67,'[3]Chi tiet'!$D$7:$L$397,8,0),0) -> A2 | AA67: =VLOOKUP(Z67,[4]Sheet1!$B$2:$C$12,2,TRUE) -> 9 | AB67: =AVERAGE(F67:AA67) -> 9.5454545 | AC67: =LEFT($AN67,4) -> 11A* | AD67: Xuất sắc | AE67: Xuất sắc | AF67: Xuất sắc | AJ67: Xuất sắc | AN67: =(COUNTIF($F67:$AA67,"A*")&"A*")&" + "&(COUNTIF($F67:$AA67,"B*")&"B*")&" + "&(COUNTIF($F67:$AA67,"C*")&"C*")&" + "&(COUNTIF($F67:$AA67,"D")&"D") -> 11A* + 0B* + 0C* + 0D
A68: 61 | B68: 09 | C68: Nguyễn Thị Ngọc Anh | D68: 01022058 | E68: Phòng CTCT - HSSV | F68: A | G68: 10 | H68: A | I68: 10 | J68: A | K68: 10 | L68: A | M68: 10 | N68: A | O68: 10 | P68: A | Q68: 10 | R68: A3 | S68: =VLOOKUP(R68,Sheet1!$B$2:$C$12,2,TRUE) -> 8 | T68: A4 | U68: =VLOOKUP(T68,Sheet1!$B$2:$C$12,2,TRUE) -> 7 | V68: =IFERROR(VLOOKUP($D68,'[1]Chi tiet'!$D$7:$L$389,8,0),0) -> A3 | W68: =VLOOKUP(V68,Sheet1!$B$2:$C$12,2,TRUE) -> 8 | X68: =IFERROR(VLOOKUP($D68,'[2]Gui chi Quynh'!D$7:K$393,7,0),0) -> A3 | Y68: =VLOOKUP(X68,Sheet1!$B$2:$C$12,2,TRUE) -> 8 | Z68: =IFERROR(VLOOKUP($D68,'[3]Chi tiet'!$D$7:$L$397,8,0),0) -> A3 | AA68: =VLOOKUP(Z68,[4]Sheet1!$B$2:$C$12,2,TRUE) -> 8 | AB68: =AVERAGE(F68:AA68) -> 9 | AC68: =LEFT($AN68,4) -> 11A* | AD68: Xuất sắc | AE68: Tốt | AF68: Xuất sắc | AJ68: Xuất sắc | AN68: =(COUNTIF($F68:$AA68,"A*")&"A*")&" + "&(COUNTIF($F68:$AA68,"B*")&"B*")&" + "&(COUNTIF($F68:$AA68,"C*")&"C*")&" + "&(COUNTIF($F68:$AA68,"D")&"D") -> 11A* + 0B* + 0C* + 0D
A69: 62 | B69: 10 | C69: Mai Thu Hương | D69: 01007004 | E69: Phòng CTCT - HSSV | F69: A | G69: 10 | H69: A | I69: 10 | J69: A | K69: 10 | L69: A | M69: 10 | N69: A | O69: 10 | P69: A | Q69: 10 | R69: A4 | S69: =VLOOKUP(R69,Sheet1!$B$2:$C$12,2,TRUE) -> 7 | T69: A4 | U69: =VLOOKUP(T69,Sheet1!$B$2:$C$12,2,TRUE) -> 7 | V69: =IFERROR(VLOOKUP($D69,'[1]Chi tiet'!$D$7:$L$389,8,0),0) -> A3 | W69: =VLOOKUP(V69,Sheet1!$B$2:$C$12,2,TRUE) -> 8 | X69: =IFERROR(VLOOKUP($D69,'[2]Gui chi Quynh'!D$7:K$393,7,0),0) -> A3 | Y69: =VLOOKUP(X69,Sheet1!$B$2:$C$12,2,TRUE) -> 8 | Z69: =IFERROR(VLOOKUP($D69,'[3]Chi tiet'!$D$7:$L$397,8,0),0) -> A3 | AA69: =VLOOKUP(Z69,[4]Sheet1!$B$2:$C$12,2,TRUE) -> 8 | AB69: =AVERAGE(F69:AA69) -> 8.9090909 | AC69: =LEFT($AN69,4) -> 11A* | AD69: Xuất sắc | AE69: Xuất sắc | AF69: Xuất sắc | AJ69: Xuất sắc | AN69: =(COUNTIF($F69:$AA69,"A*")&"A*")&" + "&(COUNTIF($F69:$AA69,"B*")&"B*")&" + "&(COUNTIF($F69:$AA69,"C*")&"C*")&" + "&(COUNTIF($F69:$AA69,"D")&"D") -> 11A* + 0B* + 0C* + 0D
A70: 63 | B70: 11 | C70: Huỳnh Văn Hiếu | D70: 01009019 | E70: Phòng CTCT - HSSV | F70: A | G70: 10 | H70: A | I70: 10 | J70: A | K70: 10 | L70: A | M70: 10 | N70: A | O70: 10 | P70: A | Q70: 10 | R70: A3 | S70: =VLOOKUP(R70,Sheet1!$B$2:$C$12,2,TRUE) -> 8 | T70: A4 | U70: =VLOOKUP(T70,Sheet1!$B$2:$C$12,2,TRUE) -> 7 | V70: =IFERROR(VLOOKUP($D70,'[1]Chi tiet'!$D$7:$L$389,8,0),0) -> A3 | W70: =VLOOKUP(V70,Sheet1!$B$2:$C$12,2,TRUE) -> 8 | X70: =IFERROR(VLOOKUP($D70,'[2]Gui chi Quynh'!D$7:K$393,7,0),0) -> A3 | Y70: =VLOOKUP(X70,Sheet1!$B$2:$C$12,2,TRUE) -> 8 | Z70: =IFERROR(VLOOKUP($D70,'[3]Chi tiet'!$D$7:$L$397,8,0),0) -> A3 | AA70: =VLOOKUP(Z70,[4]Sheet1!$B$2:$C$12,2,TRUE) -> 8 | AB70: =AVERAGE(F70:AA70) -> 9 | AC70: =LEFT($AN70,4) -> 11A* | AD70: Xuất sắc | AE70: Tốt | AF70: Xuất sắc | AJ70: Xuất sắc | AM70: NLD | AN70: =(COUNTIF($F70:$AA70,"A*")&"A*")&" + "&(COUNTIF($F70:$AA70,"B*")&"B*")&" + "&(COUNTIF($F70:$AA70,"C*")&"C*")&" + "&(COUNTIF($F70:$AA70,"D")&"D") -> 11A* + 0B* + 0C* + 0D
A71: 64 | B71: 12 | C71: Nguyễn Trung Dũng | D71: 01002008 | E71: Phòng CTCT - HSSV | F71: A | G71: 10 | H71: A | I71: 10 | J71: A | K71: 10 | L71: A | M71: 10 | N71: A | O71: 10 | P71: A | Q71: 10 | R71: A3 | S71: =VLOOKUP(R71,Sheet1!$B$2:$C$12,2,TRUE) -> 8 | T71: A3 | U71: =VLOOKUP(T71,Sheet1!$B$2:$C$12,2,TRUE) -> 8 | V71: =IFERROR(VLOOKUP($D71,'[1]Chi tiet'!$D$7:$L$389,8,0),0) -> A2 | W71: =VLOOKUP(V71,Sheet1!$B$2:$C$12,2,TRUE) -> 9 | X71: =IFERROR(VLOOKUP($D71,'[2]Gui chi Quynh'!D$7:K$393,7,0),0) -> A2 | Y71: =VLOOKUP(X71,Sheet1!$B$2:$C$12,2,TRUE) -> 9 | Z71: =IFERROR(VLOOKUP($D71,'[3]Chi tiet'!$D$7:$L$397,8,0),0) -> A2 | AA71: =VLOOKUP(Z71,[4]Sheet1!$B$2:$C$12,2,TRUE) -> 9 | AB71: =AVERAGE(F71:AA71) -> 9.3636364 | AC71: =LEFT($AN71,4) -> 11A* | AD71: Xuất sắc | AE71: Tốt | AF71: Xuất sắc | AJ71: Xuất sắc | AM71: NLD | AN71: =(COUNTIF($F71:$AA71,"A*")&"A*")&" + "&(COUNTIF($F71:$AA71,"B*")&"B*")&" + "&(COUNTIF($F71:$AA71,"C*")&"C*")&" + "&(COUNTIF($F71:$AA71,"D")&"D") -> 11A* + 0B* + 0C* + 0D
A72: 65 | B72: 13 | C72: Phạm Huy Hoàng | D72: 01009011 | E72: Phòng CTCT - HSSV | F72: A | G72: 10 | H72: A | I72: 10 | J72: A | K72: 10 | L72: A | M72: 10 | N72: A | O72: 10 | P72: A | Q72: 10 | R72: A3 | S72: =VLOOKUP(R72,Sheet1!$B$2:$C$12,2,TRUE) -> 8 | T72: A4 | U72: =VLOOKUP(T72,Sheet1!$B$2:$C$12,2,TRUE) -> 7 | V72: =IFERROR(VLOOKUP($D72,'[1]Chi tiet'!$D$7:$L$389,8,0),0) -> A3 | W72: =VLOOKUP(V72,Sheet1!$B$2:$C$12,2,TRUE) -> 8 | X72: =IFERROR(VLOOKUP($D72,'[2]Gui chi Quynh'!D$7:K$393,7,0),0) -> A3 | Y72: =VLOOKUP(X72,Sheet1!$B$2:$C$12,2,TRUE) -> 8 | Z72: =IFERROR(VLOOKUP($D72,'[3]Chi tiet'!$D$7:$L$397,8,0),0) -> A3 | AA72: =VLOOKUP(Z72,[4]Sheet1!$B$2:$C$12,2,TRUE) -> 8 | AB72: =AVERAGE(F72:AA72) -> 9 | AC72: =LEFT($AN72,4) -> 11A* | AD72: Xuất sắc | AE72: Tốt | AF72: Xuất sắc | AJ72: Xuất sắc | AM72: NLD | AN72: =(COUNTIF($F72:$AA72,"A*")&"A*")&" + "&(COUNTIF($F72:$AA72,"B*")&"B*")&" + "&(COUNTIF($F72:$AA72,"C*")&"C*")&" + "&(COUNTIF($F72:$AA72,"D")&"D") -> 11A* + 0B* + 0C* + 0D
A73: 66 | B73: 15 | C73: Trần Anh Mỹ | D73: 01009028 | E73: Phòng CTCT - HSSV | F73: A | G73: 10 | H73: A | I73: 10 | J73: A | K73: 10 | L73: A | M73: 10 | N73: A | O73: 10 | P73: A | Q73: 10 | R73: A4 | S73: =VLOOKUP(R73,Sheet1!$B$2:$C$12,2,TRUE) -> 7 | T73: A4 | U73: =VLOOKUP(T73,Sheet1!$B$2:$C$12,2,TRUE) -> 7 | V73: =IFERROR(VLOOKUP($D73,'[1]Chi tiet'!$D$7:$L$389,8,0),0) -> A4 | W73: =VLOOKUP(V73,Sheet1!$B$2:$C$12,2,TRUE) -> 7 | X73: =IFERROR(VLOOKUP($D73,'[2]Gui chi Quynh'!D$7:K$393,7,0),0) -> A4 | Y73: =VLOOKUP(X73,Sheet1!$B$2:$C$12,2,TRUE) -> 7 | Z73: =IFERROR(VLOOKUP($D73,'[3]Chi tiet'!$D$7:$L$397,8,0),0) -> A4 | AA73: =VLOOKUP(Z73,[4]Sheet1!$B$2:$C$12,2,TRUE) -> 7 | AB73: =AVERAGE(F73:AA73) -> 8.6363636 | AC73: =LEFT($AN73,4) -> 11A* | AD73: Xuất sắc | AE73: Tốt | AF73: Xuất sắc | AJ73: Xuất sắc | AM73: NLD | AN73: =(COUNTIF($F73:$AA73,"A*")&"A*")&" + "&(COUNTIF($F73:$AA73,"B*")&"B*")&" + "&(COUNTIF($F73:$AA73,"C*")&"C*")&" + "&(COUNTIF($F73:$AA73,"D")&"D") -> 11A* + 0B* + 0C* + 0D
A74: 67 | B74: 16 | C74: Bùi Đức Phước | D74: 01009026 | E74: Phòng CTCT - HSSV | N74: A | O74: 10 | P74: A | Q74: 10 | R74: A4 | S74: =VLOOKUP(R74,Sheet1!$B$2:$C$12,2,TRUE) -> 7 | T74: A4 | U74: =VLOOKUP(T74,Sheet1!$B$2:$C$12,2,TRUE) -> 7 | V74: =IFERROR(VLOOKUP($D74,'[1]Chi tiet'!$D$7:$L$389,8,0),0) -> A3 | W74: =VLOOKUP(V74,Sheet1!$B$2:$C$12,2,TRUE) -> 8 | X74: =IFERROR(VLOOKUP($D74,'[2]Gui chi Quynh'!D$7:K$393,7,0),0) -> A3 | Y74: =VLOOKUP(X74,Sheet1!$B$2:$C$12,2,TRUE) -> 8 | Z74: =IFERROR(VLOOKUP($D74,'[3]Chi tiet'!$D$7:$L$397,8,0),0) -> A3 | AA74: =VLOOKUP(Z74,[4]Sheet1!$B$2:$C$12,2,TRUE) -> 8 | AB74: =AVERAGE(F74:AA74) -> 8.2857143 | AC74: =LEFT($AN74,4) -> 7A* | AD74: Xuất sắc | AE74: Tốt | AF74: Xuất sắc | AJ74: Xuất sắc | AL74: Hợp đồng từ tháng 12/2020, đánh giá 07 tháng làm việc thực tế | AM74: NLD | AN74: =(COUNTIF($F74:$AA74,"A*")&"A*")&" + "&(COUNTIF($F74:$AA74,"B*")&"B*")&" + "&(COUNTIF($F74:$AA74,"C*")&"C*")&" + "&(COUNTIF($F74:$AA74,"D")&"D") -> 7A* + 0B* + 0C* + 0D
A75: 68 | B75: 01 | C75: Nguyễn Chí Nhân | D75: 01009009 | E75: P. Khảo thí & ĐBCL | F75: A | G75: 10 | H75: A | I75: 10 | J75: A | K75: 10 | L75: A | M75: 10 | N75: A | O75: 10 | P75: A | Q75: 10 | R75: A2 | S75: =VLOOKUP(R75,Sheet1!$B$2:$C$12,2,TRUE) -> 9 | T75: A2 | U75: =VLOOKUP(T75,Sheet1!$B$2:$C$12,2,TRUE) -> 9 | V75: =IFERROR(VLOOKUP($D75,'[1]Chi tiet'!$D$7:$L$389,8,0),0) -> A1 | W75: =VLOOKUP(V75,Sheet1!$B$2:$C$12,2,TRUE) -> 10 | X75: =IFERROR(VLOOKUP($D75,'[2]Gui chi Quynh'!D$7:K$393,7,0),0) -> A1 | Y75: =VLOOKUP(X75,Sheet1!$B$2:$C$12,2,TRUE) -> 10 | Z75: =IFERROR(VLOOKUP($D75,'[3]Chi tiet'!$D$7:$L$397,8,0),0) -> A1 | AA75: =VLOOKUP(Z75,[4]Sheet1!$B$2:$C$12,2,TRUE) -> 10 | AB75: =AVERAGE(F75:AA75) -> 9.8181818 | AC75: =LEFT($AN75,4) -> 11A* | AD75: Xuất sắc | AE75: Tốt | AF75: Xuất sắc | AH75: Xuất sắc | AJ75: Xuất sắc | AN75: =(COUNTIF($F75:$AA75,"A*")&"A*")&" + "&(COUNTIF($F75:$AA75,"B*")&"B*")&" + "&(COUNTIF($F75:$AA75,"C*")&"C*")&" + "&(COUNTIF($F75:$AA75,"D")&"D") -> 11A* + 0B* + 0C* + 0D
A76: 69 | B76: 03 | C76: Nguyễn Thanh Sơn | D76: 01006003 | E76: P. Khảo thí & ĐBCL | F76: A | G76: 10 | H76: A | I76: 10 | J76: A | K76: 10 | L76: A | M76: 10 | N76: A | O76: 10 | P76: A | Q76: 10 | R76: A3 | S76: =VLOOKUP(R76,Sheet1!$B$2:$C$12,2,TRUE) -> 8 | T76: A4 | U76: =VLOOKUP(T76,Sheet1!$B$2:$C$12,2,TRUE) -> 7 | V76: =IFERROR(VLOOKUP($D76,'[1]Chi tiet'!$D$7:$L$389,8,0),0) -> A3 | W76: =VLOOKUP(V76,Sheet1!$B$2:$C$12,2,TRUE) -> 8 | X76: =IFERROR(VLOOKUP($D76,'[2]Gui chi Quynh'!D$7:K$393,7,0),0) -> A3 | Y76: =VLOOKUP(X76,Sheet1!$B$2:$C$12,2,TRUE) -> 8 | Z76: =IFERROR(VLOOKUP($D76,'[3]Chi tiet'!$D$7:$L$397,8,0),0) -> A3 | AA76: =VLOOKUP(Z76,[4]Sheet1!$B$2:$C$12,2,TRUE) -> 8 | AB76: =AVERAGE(F76:AA76) -> 9 | AC76: =LEFT($AN76,4) -> 11A* | AD76: Xuất sắc | AE76: Tốt | AF76: Xuất sắc | AJ76: Xuất sắc | AN76: =(COUNTIF($F76:$AA76,"A*")&"A*")&" + "&(COUNTIF($F76:$AA76,"B*")&"B*")&" + "&(COUNTIF($F76:$AA76,"C*")&"C*")&" + "&(COUNTIF($F76:$AA76,"D")&"D") -> 11A* + 0B* + 0C* + 0D
A77: 70 | B77: 04 | C77: Vũ Thị Thu Thủy | D77: 01013032 | E77: P. Khảo thí & ĐBCL | F77: A | G77: 10 | H77: A | I77: 10 | J77: A | K77: 10 | L77: A | M77: 10 | N77: A | O77: 10 | P77: A | Q77: 10 | R77: A4 | S77: =VLOOKUP(R77,Sheet1!$B$2:$C$12,2,TRUE) -> 7 | T77: A4 | U77: =VLOOKUP(T77,Sheet1!$B$2:$C$12,2,TRUE) -> 7 | V77: =IFERROR(VLOOKUP($D77,'[1]Chi tiet'!$D$7:$L$389,8,0),0) -> A3 | W77: =VLOOKUP(V77,Sheet1!$B$2:$C$12,2,TRUE) -> 8 | X77: =IFERROR(VLOOKUP($D77,'[2]Gui chi Quynh'!D$7:K$393,7,0),0) -> A3 | Y77: =VLOOKUP(X77,Sheet1!$B$2:$C$12,2,TRUE) -> 8 | Z77: =IFERROR(VLOOKUP($D77,'[3]Chi tiet'!$D$7:$L$397,8,0),0) -> A3 | AA77: =VLOOKUP(Z77,[4]Sheet1!$B$2:$C$12,2,TRUE) -> 8 | AB77: =AVERAGE(F77:AA77) -> 8.9090909 | AC77: =LEFT($AN77,4) -> 11A* | AD77: Xuất sắc | AE77: Tốt | AF77: Xuất sắc | AJ77: Xuất sắc | AN77: =(COUNTIF($F77:$AA77,"A*")&"A*")&" + "&(COUNTIF($F77:$AA77,"B*")&"B*")&" + "&(COUNTIF($F77:$AA77,"C*")&"C*")&" + "&(COUNTIF($F77:$AA77,"D")&"D") -> 11A* + 0B* + 0C* + 0D
A78: 71 | B78: 05 | C78: Nguyễn Thị Tuyết | D78: 01022061 | E78: P. Khảo thí & ĐBCL | F78: A | G78: 10 | H78: A | I78: 10 | J78: A | K78: 10 | L78: A | M78: 10 | N78: A | O78: 10 | P78: A | Q78: 10 | R78: A3 | S78: =VLOOKUP(R78,Sheet1!$B$2:$C$12,2,TRUE) -> 8 | T78: A3 | U78: =VLOOKUP(T78,Sheet1!$B$2:$C$12,2,TRUE) -> 8 | V78: =IFERROR(VLOOKUP($D78,'[1]Chi tiet'!$D$7:$L$389,8,0),0) -> A2 | W78: =VLOOKUP(V78,Sheet1!$B$2:$C$12,2,TRUE) -> 9 | X78: =IFERROR(VLOOKUP($D78,'[2]Gui chi Quynh'!D$7:K$393,7,0),0) -> A2 | Y78: =VLOOKUP(X78,Sheet1!$B$2:$C$12,2,TRUE) -> 9 | Z78: =IFERROR(VLOOKUP($D78,'[3]Chi tiet'!$D$7:$L$397,8,0),0) -> A2 | AA78: =VLOOKUP(Z78,[4]Sheet1!$B$2:$C$12,2,TRUE) -> 9 | AB78: =AVERAGE(F78:AA78) -> 9.3636364 | AC78: =LEFT($AN78,4) -> 11A* | AD78: Xuất sắc | AE78: Tốt | AF78: Xuất sắc | AJ78: Xuất sắc | AN78: =(COUNTIF($F78:$AA78,"A*")&"A*")&" + "&(COUNTIF($F78:$AA78,"B*")&"B*")&" + "&(COUNTIF($F78:$AA78,"C*")&"C*")&" + "&(COUNTIF($F78:$AA78,"D")&"D") -> 11A* + 0B* + 0C* + 0D
A79: 72 | B79: 32 | C79: Trương Thị Hồng | D79: 01023002 | E79: P. Khảo thí & ĐBCL | F79: A | G79: 10 | H79: A | I79: 10 | J79: A | K79: 10 | L79: A | M79: 10 | N79: A | O79: 10 | P79: A | Q79: 10 | R79: A2 | S79: =VLOOKUP(R79,Sheet1!$B$2:$C$12,2,TRUE) -> 9 | T79: A2 | U79: =VLOOKUP(T79,Sheet1!$B$2:$C$12,2,TRUE) -> 9 | V79: =IFERROR(VLOOKUP($D79,'[1]Chi tiet'!$D$7:$L$389,8,0),0) -> A2 | W79: =VLOOKUP(V79,Sheet1!$B$2:$C$12,2,TRUE) -> 9 | X79: =IFERROR(VLOOKUP($D79,'[2]Gui chi Quynh'!D$7:K$393,7,0),0) -> A2 | Y79: =VLOOKUP(X79,Sheet1!$B$2:$C$12,2,TRUE) -> 9 | Z79: =IFERROR(VLOOKUP($D79,'[3]Chi tiet'!$D$7:$L$397,8,0),0) -> A2 | AA79: =VLOOKUP(Z79,[4]Sheet1!$B$2:$C$12,2,TRUE) -> 9 | AB79: =AVERAGE(F79:AA79) -> 9.5454545 | AC79: =LEFT($AN79,4) -> 11A* | AD79: Xuất sắc | AE79: Xuất sắc | AF79: Xuất sắc | AJ79: Xuất sắc | AN79: =(COUNTIF($F79:$AA79,"A*")&"A*")&" + "&(COUNTIF($F79:$AA79,"B*")&"B*")&" + "&(COUNTIF($F79:$AA79,"C*")&"C*")&" + "&(COUNTIF($F79:$AA79,"D")&"D") -> 11A* + 0B* + 0C* + 0D
A80: 73 | B80: 06 | C80: Lương Minh Dũng | D80: 01015027 | E80: P. Khảo thí & ĐBCL | F80: A | G80: 10 | H80: A | I80: 10 | J80: A | K80: 10 | L80: A | M80: 10 | N80: A | O80: 10 | P80: A | Q80: 10 | R80: A3 | S80: =VLOOKUP(R80,Sheet1!$B$2:$C$12,2,TRUE) -> 8 | T80: A2 | U80: =VLOOKUP(T80,Sheet1!$B$2:$C$12,2,TRUE) -> 9 | V80: =IFERROR(VLOOKUP($D80,'[1]Chi tiet'!$D$7:$L$389,8,0),0) -> A3 | W80: =VLOOKUP(V80,Sheet1!$B$2:$C$12,2,TRUE) -> 8 | X80: =IFERROR(VLOOKUP($D80,'[2]Gui chi Quynh'!D$7:K$393,7,0),0) -> A3 | Y80: =VLOOKUP(X80,Sheet1!$B$2:$C$12,2,TRUE) -> 8 | Z80: =IFERROR(VLOOKUP($D80,'[3]Chi tiet'!$D$7:$L$397,8,0),0) -> A2 | AA80: =VLOOKUP(Z80,[4]Sheet1!$B$2:$C$12,2,TRUE) -> 9 | AB80: =AVERAGE(F80:AA80) -> 9.2727273 | AC80: =LEFT($AN80,4) -> 11A* | AD80: Xuất sắc | AE80: Tốt | AF80: Xuất sắc | AJ80: Xuất sắc | AN80: =(COUNTIF($F80:$AA80,"A*")&"A*")&" + "&(COUNTIF($F80:$AA80,"B*")&"B*")&" + "&(COUNTIF($F80:$AA80,"C*")&"C*")&" + "&(COUNTIF($F80:$AA80,"D")&"D") -> 11A* + 0B* + 0C* + 0D
A81: 74 | B81: 07 | C81: Nguyễn Yến Nhi | D81: 01006006 | E81: P. Khảo thí & ĐBCL | F81: A | G81: 10 | H81: A | I81: 10 | J81: A | K81: 10 | L81: A | M81: 10 | N81: A | O81: 10 | P81: A | Q81: 10 | R81: A3 | S81: =VLOOKUP(R81,Sheet1!$B$2:$C$12,2,TRUE) -> 8 | T81: A2 | U81: =VLOOKUP(T81,Sheet1!$B$2:$C$12,2,TRUE) -> 9 | V81: =IFERROR(VLOOKUP($D81,'[1]Chi tiet'!$D$7:$L$389,8,0),0) -> A1 | W81: =VLOOKUP(V81,Sheet1!$B$2:$C$12,2,TRUE) -> 10 | X81: =IFERROR(VLOOKUP($D81,'[2]Gui chi Quynh'!D$7:K$393,7,0),0) -> A1 | Y81: =VLOOKUP(X81,Sheet1!$B$2:$C$12,2,TRUE) -> 10 | Z81: =IFERROR(VLOOKUP($D81,'[3]Chi tiet'!$D$7:$L$397,8,0),0) -> A2 | AA81: =VLOOKUP(Z81,[4]Sheet1!$B$2:$C$12,2,TRUE) -> 9 | AB81: =AVERAGE(F81:AA81) -> 9.6363636 | AC81: =LEFT($AN81,4) -> 11A* | AD81: Xuất sắc | AE81: Xuất sắc | AF81: Xuất sắc | AJ81: Xuất sắc | AM81: NLD | AN81: =(COUNTIF($F81:$AA81,"A*")&"A*")&" + "&(COUNTIF($F81:$AA81,"B*")&"B*")&" + "&(COUNTIF($F81:$AA81,"C*")&"C*")&" + "&(COUNTIF($F81:$AA81,"D")&"D") -> 11A* + 0B* + 0C* + 0D
A82: 75 | B82: 01 | C82: Nguyễn Ngọc Trang | D82: 01005001 | E82: Phòng Quản lý KH - HTQT | F82: A | G82: 10 | H82: A | I82: 10 | J82: A | K82: 10 | L82: A | M82: 10 | N82: A | O82: 10 | P82: A | Q82: 10 | R82: A2 | S82: =VLOOKUP(R82,Sheet1!$B$2:$C$12,2,TRUE) -> 9 | T82: A2 | U82: =VLOOKUP(T82,Sheet1!$B$2:$C$12,2,TRUE) -> 9 | V82: =IFERROR(VLOOKUP($D82,'[1]Chi tiet'!$D$7:$L$389,8,0),0) -> A1 | W82: =VLOOKUP(V82,Sheet1!$B$2:$C$12,2,TRUE) -> 10 | X82: =IFERROR(VLOOKUP($D82,'[2]Gui chi Quynh'!D$7:K$393,7,0),0) -> A1 | Y82: =VLOOKUP(X82,Sheet1!$B$2:$C$12,2,TRUE) -> 10 | Z82: =IFERROR(VLOOKUP($D82,'[3]Chi tiet'!$D$7:$L$397,8,0),0) -> A1 | AA82: =VLOOKUP(Z82,[4]Sheet1!$B$2:$C$12,2,TRUE) -> 10 | AB82: =AVERAGE(F82:AA82) -> 9.8181818 | AC82: =LEFT($AN82,4) -> 11A* | AD82: Xuất sắc | AE82: Xuất sắc | AF82: Xuất sắc | AH82: Xuất sắc | AJ82: Xuất sắc | AN82: =(COUNTIF($F82:$AA82,"A*")&"A*")&" + "&(COUNTIF($F82:$AA82,"B*")&"B*")&" + "&(COUNTIF($F82:$AA82,"C*")&"C*")&" + "&(COUNTIF($F82:$AA82,"D")&"D") -> 11A* + 0B* + 0C* + 0D
A83: 76 | B83: 02 | C83: Lê Tiến Dũng | D83: 01005003 | E83: Phòng Quản lý KH - HTQT | F83: A | G83: 10 | H83: A | I83: 10 | J83: A | K83: 10 | L83: A | M83: 10 | N83: A | O83: 10 | P83: A | Q83: 10 | R83: A3 | S83: =VLOOKUP(R83,Sheet1!$B$2:$C$12,2,TRUE) -> 8 | T83: A4 | U83: =VLOOKUP(T83,Sheet1!$B$2:$C$12,2,TRUE) -> 7 | V83: =IFERROR(VLOOKUP($D83,'[1]Chi tiet'!$D$7:$L$389,8,0),0) -> A3 | W83: =VLOOKUP(V83,Sheet1!$B$2:$C$12,2,TRUE) -> 8 | X83: =IFERROR(VLOOKUP($D83,'[2]Gui chi Quynh'!D$7:K$393,7,0),0) -> A3 | Y83: =VLOOKUP(X83,Sheet1!$B$2:$C$12,2,TRUE) -> 8 | Z83: =IFERROR(VLOOKUP($D83,'[3]Chi tiet'!$D$7:$L$397,8,0),0) -> A4 | AA83: =VLOOKUP(Z83,[4]Sheet1!$B$2:$C$12,2,TRUE) -> 7 | AB83: =AVERAGE(F83:AA83) -> 8.9090909 | AC83: =LEFT($AN83,4) -> 11A* | AD83: Xuất sắc | AE83: Xuất sắc | AF83: Xuất sắc | AJ83: Xuất sắc | AM83: NLD | AN83: =(COUNTIF($F83:$AA83,"A*")&"A*")&" + "&(COUNTIF($F83:$AA83,"B*")&"B*")&" + "&(COUNTIF($F83:$AA83,"C*")&"C*")&" + "&(COUNTIF($F83:$AA83,"D")&"D") -> 11A* + 0B* + 0C* + 0D
A84: 77 | B84: 04 | C84: Lê Trần Thanh Nga | D84: 01005011 | E84: TT. KONE | K84: 10 | M84: 10 | N84: A | O84: 10 | P84: A | Q84: 10 | R84: A4 | S84: =VLOOKUP(R84,Sheet1!$B$2:$C$12,2,TRUE) -> 7 | T84: A4 | U84: =VLOOKUP(T84,Sheet1!$B$2:$C$12,2,TRUE) -> 7 | V84: =IFERROR(VLOOKUP($D84,'[1]Chi tiet'!$D$7:$L$389,8,0),0) -> A4 | W84: =VLOOKUP(V84,Sheet1!$B$2:$C$12,2,TRUE) -> 7 | X84: =IFERROR(VLOOKUP($D84,'[2]Gui chi Quynh'!D$7:K$393,7,0),0) -> A4 | Y84: =VLOOKUP(X84,Sheet1!$B$2:$C$12,2,TRUE) -> 7 | Z84: =IFERROR(VLOOKUP($D84,'[3]Chi tiet'!$D$7:$L$397,8,0),0) -> A4 | AA84: =VLOOKUP(Z84,[4]Sheet1!$B$2:$C$12,2,TRUE) -> 7 | AB84: =AVERAGE(F84:AA84) -> 8.3333333 | AC84: =LEFT($AN84,4) -> 7A* | AD84: Xuất sắc | AE84: Xuất sắc | AF84: Xuất sắc | AJ84: Xuất sắc | AL84: Hợp đồng từ tháng 11/2020, đánh giá 08 tháng làm việc thực tế | AM84: NLD | AN84: =(COUNTIF($F84:$AA84,"A*")&"A*")&" + "&(COUNTIF($F84:$AA84,"B*")&"B*")&" + "&(COUNTIF($F84:$AA84,"C*")&"C*")&" + "&(COUNTIF($F84:$AA84,"D")&"D") -> 7A* + 0B* + 0C* + 0D
A85: 78 | B85: 01 | C85: Lê Quang Liêm | D85: 01008028 | E85: Phòng Quản trị - DV | F85: A | G85: 10 | H85: A | I85: 10 | J85: A | K85: 10 | L85: A | M85: 10 | N85: A | O85: 10 | P85: A | Q85: 10 | R85: A1 | S85: =VLOOKUP(R85,Sheet1!$B$2:$C$12,2,TRUE) -> 10 | T85: A1 | U85: =VLOOKUP(T85,Sheet1!$B$2:$C$12,2,TRUE) -> 10 | V85: =IFERROR(VLOOKUP($D85,'[1]Chi tiet'!$D$7:$L$389,8,0),0) -> A1 | W85: =VLOOKUP(V85,Sheet1!$B$2:$C$12,2,TRUE) -> 10 | X85: =IFERROR(VLOOKUP($D85,'[2]Gui chi Quynh'!D$7:K$393,7,0),0) -> A1 | Y85: =VLOOKUP(X85,Sheet1!$B$2:$C$12,2,TRUE) -> 10 | Z85: =IFERROR(VLOOKUP($D85,'[3]Chi tiet'!$D$7:$L$397,8,0),0) -> A1 | AA85: =VLOOKUP(Z85,[4]Sheet1!$B$2:$C$12,2,TRUE) -> 10 | AB85: =AVERAGE(F85:AA85) -> 10 | AC85: =LEFT($AN85,4) -> 11A* | AD85: Xuất sắc | AE85: Xuất sắc | AF85: Xuất sắc | AH85: Xuất sắc | AJ85: Xuất sắc | AN85: =(COUNTIF($F85:$AA85,"A*")&"A*")&" + "&(COUNTIF($F85:$AA85,"B*")&"B*")&" + "&(COUNTIF($F85:$AA85,"C*")&"C*")&" + "&(COUNTIF($F85:$AA85,"D")&"D") -> 11A* + 0B* + 0C* + 0D
A86: 79 | B86: 02 | C86: Nguyễn Văn Thành | D86: 01008002 | E86: Phòng Quản trị - DV | F86: A | G86: 10 | H86: A | I86: 10 | J86: A | K86: 10 | L86: A | M86: 10 | N86: A | O86: 10 | P86: A | Q86: 10 | R86: A2 | S86: =VLOOKUP(R86,Sheet1!$B$2:$C$12,2,TRUE) -> 9 | T86: A2 | U86: =VLOOKUP(T86,Sheet1!$B$2:$C$12,2,TRUE) -> 9 | V86: =IFERROR(VLOOKUP($D86,'[1]Chi tiet'!$D$7:$L$389,8,0),0) -> A2 | W86: =VLOOKUP(V86,Sheet1!$B$2:$C$12,2,TRUE) -> 9 | X86: =IFERROR(VLOOKUP($D86,'[2]Gui chi Quynh'!D$7:K$393,7,0),0) -> A2 | Y86: =VLOOKUP(X86,Sheet1!$B$2:$C$12,2,TRUE) -> 9 | Z86: =IFERROR(VLOOKUP($D86,'[3]Chi tiet'!$D$7:$L$397,8,0),0) -> A2 | AA86: =VLOOKUP(Z86,[4]Sheet1!$B$2:$C$12,2,TRUE) -> 9 | AB86: =AVERAGE(F86:AA86) -> 9.5454545 | AC86: =LEFT($AN86,4) -> 11A* | AD86: Xuất sắc | AE86: Xuất sắc | AF86: Xuất sắc | AH86: Xuất sắc | AJ86: Xuất sắc | AN86: =(COUNTIF($F86:$AA86,"A*")&"A*")&" + "&(COUNTIF($F86:$AA86,"B*")&"B*")&" + "&(COUNTIF($F86:$AA86,"C*")&"C*")&" + "&(COUNTIF($F86:$AA86,"D")&"D") -> 11A* + 0B* + 0C* + 0D
A87: 80 | B87: 03 | C87: Trịnh Hoàng Hiệp | D87: 01025007 | E87: Phòng Quản trị - DV | F87: A | G87: 10 | H87: A | I87: 10 | J87: A | K87: 10 | L87: A | M87: 10 | N87: A | O87: 10 | P87: A | Q87: 10 | R87: A2 | S87: =VLOOKUP(R87,Sheet1!$B$2:$C$12,2,TRUE) -> 9 | T87: A2 | U87: =VLOOKUP(T87,Sheet1!$B$2:$C$12,2,TRUE) -> 9 | V87: =IFERROR(VLOOKUP($D87,'[1]Chi tiet'!$D$7:$L$389,8,0),0) -> A2 | W87: =VLOOKUP(V87,Sheet1!$B$2:$C$12,2,TRUE) -> 9 | X87: =IFERROR(VLOOKUP($D87,'[2]Gui chi Quynh'!D$7:K$393,7,0),0) -> A2 | Y87: =VLOOKUP(X87,Sheet1!$B$2:$C$12,2,TRUE) -> 9 | Z87: =IFERROR(VLOOKUP($D87,'[3]Chi tiet'!$D$7:$L$397,8,0),0) -> A2 | AA87: =VLOOKUP(Z87,[4]Sheet1!$B$2:$C$12,2,TRUE) -> 9 | AB87: =AVERAGE(F87:AA87) -> 9.5454545 | AC87: =LEFT($AN87,4) -> 11A* | AD87: Xuất sắc | AE87: Tốt | AF87: Xuất sắc | AH87: Xuất sắc | AJ87: Xuất sắc | AN87: =(COUNTIF($F87:$AA87,"A*")&"A*")&" + "&(COUNTIF($F87:$AA87,"B*")&"B*")&" + "&(COUNTIF($F87:$AA87,"C*")&"C*")&" + "&(COUNTIF($F87:$AA87,"D")&"D") -> 11A* + 0B* + 0C* + 0D
A88: 81 | B88: 04 | C88: Nguyễn Trọng Phú | D88: 01008004 | E88: Phòng Quản trị - DV | F88: A | G88: 10 | H88: A | I88: 10 | J88: A | K88: 10 | L88: A | M88: 10 | N88: A | O88: 10 | P88: A | Q88: 10 | R88: A2 | S88: =VLOOKUP(R88,Sheet1!$B$2:$C$12,2,TRUE) -> 9 | T88: A2 | U88: =VLOOKUP(T88,Sheet1!$B$2:$C$12,2,TRUE) -> 9 | V88: =IFERROR(VLOOKUP($D88,'[1]Chi tiet'!$D$7:$L$389,8,0),0) -> A2 | W88: =VLOOKUP(V88,Sheet1!$B$2:$C$12,2,TRUE) -> 9 | X88: =IFERROR(VLOOKUP($D88,'[2]Gui chi Quynh'!D$7:K$393,7,0),0) -> A2 | Y88: =VLOOKUP(X88,Sheet1!$B$2:$C$12,2,TRUE) -> 9 | Z88: =IFERROR(VLOOKUP($D88,'[3]Chi tiet'!$D$7:$L$397,8,0),0) -> A2 | AA88: =VLOOKUP(Z88,[4]Sheet1!$B$2:$C$12,2,TRUE) -> 9 | AB88: =AVERAGE(F88:AA88) -> 9.5454545 | AC88: =LEFT($AN88,4) -> 11A* | AD88: Xuất sắc | AE88: Xuất sắc | AF88: Xuất sắc | AJ88: Xuất sắc | AN88: =(COUNTIF($F88:$AA88,"A*")&"A*")&" + "&(COUNTIF($F88:$AA88,"B*")&"B*")&" + "&(COUNTIF($F88:$AA88,"C*")&"C*")&" + "&(COUNTIF($F88:$AA88,"D")&"D") -> 11A* + 0B* + 0C* + 0D
A89: 82 | B89: 05 | C89: Giáp Văn Thịnh | D89: 01008008 | E89: Phòng Quản trị - DV | F89: A | G89: 10 | H89: A | I89: 10 | J89: A | K89: 10 | L89: A | M89: 10 | N89: A | O89: 10 | P89: A | Q89: 10 | R89: A3 | S89: =VLOOKUP(R89,Sheet1!$B$2:$C$12,2,TRUE) -> 8 | T89: A3 | U89: =VLOOKUP(T89,Sheet1!$B$2:$C$12,2,TRUE) -> 8 | V89: =IFERROR(VLOOKUP($D89,'[1]Chi tiet'!$D$7:$L$389,8,0),0) -> A2 | W89: =VLOOKUP(V89,Sheet1!$B$2:$C$12,2,TRUE) -> 9 | X89: =IFERROR(VLOOKUP($D89,'[2]Gui chi Quynh'!D$7:K$393,7,0),0) -> A2 | Y89: =VLOOKUP(X89,Sheet1!$B$2:$C$12,2,TRUE) -> 9 | Z89: =IFERROR(VLOOKUP($D89,'[3]Chi tiet'!$D$7:$L$397,8,0),0) -> A DN | AB89: =AVERAGE(F89:AA89) -> 9.4 | AC89: =LEFT($AN89,4) -> 11A* | AD89: Xuất sắc | AE89: Tốt | AF89: Xuất sắc | AJ89: Xuất sắc | AN89: =(COUNTIF($F89:$AA89,"A*")&"A*")&" + "&(COUNTIF($F89:$AA89,"B*")&"B*")&" + "&(COUNTIF($F89:$AA89,"C*")&"C*")&" + "&(COUNTIF($F89:$AA89,"D")&"D") -> 11A* + 0B* + 0C* + 0D
A90: 83 | B90: 06 | C90: Vũ Ngọc Quang | D90: 01008006 | E90: Phòng Quản trị - DV | F90: A | G90: 10 | H90: A | I90: 10 | J90: A | K90: 10 | L90: A | M90: 10 | N90: A | O90: 10 | P90: A | Q90: 10 | R90: A3 | S90: =VLOOKUP(R90,Sheet1!$B$2:$C$12,2,TRUE) -> 8 | T90: A3 | U90: =VLOOKUP(T90,Sheet1!$B$2:$C$12,2,TRUE) -> 8 | V90: =IFERROR(VLOOKUP($D90,'[1]Chi tiet'!$D$7:$L$389,8,0),0) -> A4 | W90: =VLOOKUP(V90,Sheet1!$B$2:$C$12,2,TRUE) -> 7 | X90: =IFERROR(VLOOKUP($D90,'[2]Gui chi Quynh'!D$7:K$393,7,0),0) -> A3 | Y90: =VLOOKUP(X90,Sheet1!$B$2:$C$12,2,TRUE) -> 8 | Z90: =IFERROR(VLOOKUP($D90,'[3]Chi tiet'!$D$7:$L$397,8,0),0) -> A3 | AA90: =VLOOKUP(Z90,[4]Sheet1!$B$2:$C$12,2,TRUE) -> 8 | AB90: =AVERAGE(F90:AA90) -> 9 | AC90: =LEFT($AN90,4) -> 11A* | AD90: Xuất sắc | AE90: Xuất sắc | AF90: Xuất sắc | AJ90: Xuất sắc | AN90: =(COUNTIF($F90:$AA90,"A*")&"A*")&" + "&(COUNTIF($F90:$AA90,"B*")&"B*")&" + "&(COUNTIF($F90:$AA90,"C*")&"C*")&" + "&(COUNTIF($F90:$AA90,"D")&"D") -> 11A* + 0B* + 0C* + 0D
A91: 84 | B91: 07 | C91: Bùi Đặng Hoàng Tuấn | D91: 01015028 | E91: Phòng Quản trị - DV | F91: A | G91: 10 | H91: A | I91: 10 | J91: A | K91: 10 | L91: A | M91: 10 | N91: A | O91: 10 | P91: A | Q91: 10 | R91: A3 | S91: =VLOOKUP(R91,Sheet1!$B$2:$C$12,2,TRUE) -> 8 | T91: A4 | U91: =VLOOKUP(T91,Sheet1!$B$2:$C$12,2,TRUE) -> 7 | V91: =IFERROR(VLOOKUP($D91,'[1]Chi tiet'!$D$7:$L$389,8,0),0) -> A4 | W91: =VLOOKUP(V91,Sheet1!$B$2:$C$12,2,TRUE) -> 7 | X91: =IFERROR(VLOOKUP($D91,'[2]Gui chi Quynh'!D$7:K$393,7,0),0) -> A3 | Y91: =VLOOKUP(X91,Sheet1!$B$2:$C$12,2,TRUE) -> 8 | Z91: =IFERROR(VLOOKUP($D91,'[3]Chi tiet'!$D$7:$L$397,8,0),0) -> A3 | AA91: =VLOOKUP(Z91,[4]Sheet1!$B$2:$C$12,2,TRUE) -> 8 | AB91: =AVERAGE(F91:AA91) -> 8.9090909 | AC91: =LEFT($AN91,4) -> 11A* | AD91: Xuất sắc | AE91: Xuất sắc | AF91: Xuất sắc | AJ91: Xuất sắc | AN91: =(COUNTIF($F91:$AA91,"A*")&"A*")&" + "&(COUNTIF($F91:$AA91,"B*")&"B*")&" + "&(COUNTIF($F91:$AA91,"C*")&"C*")&" + "&(COUNTIF($F91:$AA91,"D")&"D") -> 11A* + 0B* + 0C* + 0D
A92: 85 | B92: 09 | C92: Phan Đức Long | D92: 01009007 | E92: Phòng Quản trị - DV | F92: A | G92: 10 | H92: A | I92: 10 | J92: A | K92: 10 | L92: A | M92: 10 | N92: A | O92: 10 | P92: A | Q92: 10 | R92: A2 | S92: =VLOOKUP(R92,Sheet1!$B$2:$C$12,2,TRUE) -> 9 | T92: A2 | U92: =VLOOKUP(T92,Sheet1!$B$2:$C$12,2,TRUE) -> 9 | V92: =IFERROR(VLOOKUP($D92,'[1]Chi tiet'!$D$7:$L$389,8,0),0) -> A2 | W92: =VLOOKUP(V92,Sheet1!$B$2:$C$12,2,TRUE) -> 9 | X92: =IFERROR(VLOOKUP($D92,'[2]Gui chi Quynh'!D$7:K$393,7,0),0) -> A2 | Y92: =VLOOKUP(X92,Sheet1!$B$2:$C$12,2,TRUE) -> 9 | Z92: =IFERROR(VLOOKUP($D92,'[3]Chi tiet'!$D$7:$L$397,8,0),0) -> A2 | AA92: =VLOOKUP(Z92,[4]Sheet1!$B$2:$C$12,2,TRUE) -> 9 | AB92: =AVERAGE(F92:AA92) -> 9.5454545 | AC92: =LEFT($AN92,4) -> 11A* | AD92: Xuất sắc | AE92: Xuất sắc | AF92: Xuất sắc | AJ92: Xuất sắc | AN92: =(COUNTIF($F92:$AA92,"A*")&"A*")&" + "&(COUNTIF($F92:$AA92,"B*")&"B*")&" + "&(COUNTIF($F92:$AA92,"C*")&"C*")&" + "&(COUNTIF($F92:$AA92,"D")&"D") -> 11A* + 0B* + 0C* + 0D
A93: 86 | B93: 10 | C93: Ninh Đỗ Hiệp | D93: 01017009 | E93: Phòng Quản trị - DV | F93: A | G93: 10 | H93: A | I93: 10 | J93: A | K93: 10 | L93: A | M93: 10 | N93: A | O93: 10 | P93: A | Q93: 10 | R93: A3 | S93: =VLOOKUP(R93,Sheet1!$B$2:$C$12,2,TRUE) -> 8 | T93: A2 | U93: =VLOOKUP(T93,Sheet1!$B$2:$C$12,2,TRUE) -> 9 | V93: =IFERROR(VLOOKUP($D93,'[1]Chi tiet'!$D$7:$L$389,8,0),0) -> A3 | W93: =VLOOKUP(V93,Sheet1!$B$2:$C$12,2,TRUE) -> 8 | X93: =IFERROR(VLOOKUP($D93,'[2]Gui chi Quynh'!D$7:K$393,7,0),0) -> A2 | Y93: =VLOOKUP(X93,Sheet1!$B$2:$C$12,2,TRUE) -> 9 | Z93: =IFERROR(VLOOKUP($D93,'[3]Chi tiet'!$D$7:$L$397,8,0),0) -> A2 | AA93: =VLOOKUP(Z93,[4]Sheet1!$B$2:$C$12,2,TRUE) -> 9 | AB93: =AVERAGE(F93:AA93) -> 9.3636364 | AC93: =LEFT($AN93,4) -> 11A* | AD93: Xuất sắc | AE93: Xuất sắc | AF93: Xuất sắc | AJ93: Xuất sắc | AN93: =(COUNTIF($F93:$AA93,"A*")&"A*")&" + "&(COUNTIF($F93:$AA93,"B*")&"B*")&" + "&(COUNTIF($F93:$AA93,"C*")&"C*")&" + "&(COUNTIF($F93:$AA93,"D")&"D") -> 11A* + 0B* + 0C* + 0D
A94: 87 | B94: 11 | C94: Lê Hồng Anh Tuấn | D94: 01008005 | E94: Phòng Quản trị - DV | F94: A | G94: 10 | H94: A | I94: 10 | J94: A | K94: 10 | L94: A | M94: 10 | N94: A | O94: 10 | P94: A | Q94: 10 | R94: A3 | S94: =VLOOKUP(R94,Sheet1!$B$2:$C$12,2,TRUE) -> 8 | T94: A3 | U94: =VLOOKUP(T94,Sheet1!$B$2:$C$12,2,TRUE) -> 8 | V94: =IFERROR(VLOOKUP($D94,'[1]Chi tiet'!$D$7:$L$389,8,0),0) -> A2 | W94: =VLOOKUP(V94,Sheet1!$B$2:$C$12,2,TRUE) -> 9 | X94: =IFERROR(VLOOKUP($D94,'[2]Gui chi Quynh'!D$7:K$393,7,0),0) -> A2 | Y94: =VLOOKUP(X94,Sheet1!$B$2:$C$12,2,TRUE) -> 9 | Z94: =IFERROR(VLOOKUP($D94,'[3]Chi tiet'!$D$7:$L$397,8,0),0) -> A2 | AA94: =VLOOKUP(Z94,[4]Sheet1!$B$2:$C$12,2,TRUE) -> 9 | AB94: =AVERAGE(F94:AA94) -> 9.3636364 | AC94: =LEFT($AN94,4) -> 11A* | AD94: Xuất sắc | AE94: Xuất sắc | AF94: Xuất sắc | AJ94: Xuất sắc | AN94: =(COUNTIF($F94:$AA94,"A*")&"A*")&" + "&(COUNTIF($F94:$AA94,"B*")&"B*")&" + "&(COUNTIF($F94:$AA94,"C*")&"C*")&" + "&(COUNTIF($F94:$AA94,"D")&"D") -> 11A* + 0B* + 0C* + 0D
A95: 88 | B95: 12 | C95: Nguyễn Cao Thắng | D95: 01002021 | E95: Phòng Quản trị - DV | F95: A | G95: 10 | H95: A | I95: 10 | J95: A | K95: 10 | L95: A | M95: 10 | N95: A | O95: 10 | P95: A | Q95: 10 | R95: A2 | S95: =VLOOKUP(R95,Sheet1!$B$2:$C$12,2,TRUE) -> 9 | T95: A2 | U95: =VLOOKUP(T95,Sheet1!$B$2:$C$12,2,TRUE) -> 9 | V95: =IFERROR(VLOOKUP($D95,'[1]Chi tiet'!$D$7:$L$389,8,0),0) -> A2 | W95: =VLOOKUP(V95,Sheet1!$B$2:$C$12,2,TRUE) -> 9 | X95: =IFERROR(VLOOKUP($D95,'[2]Gui chi Quynh'!D$7:K$393,7,0),0) -> A2 | Y95: =VLOOKUP(X95,Sheet1!$B$2:$C$12,2,TRUE) -> 9 | Z95: =IFERROR(VLOOKUP($D95,'[3]Chi tiet'!$D$7:$L$397,8,0),0) -> A2 | AA95: =VLOOKUP(Z95,[4]Sheet1!$B$2:$C$12,2,TRUE) -> 9 | AB95: =AVERAGE(F95:AA95) -> 9.5454545 | AC95: =LEFT($AN95,4) -> 11A* | AD95: Xuất sắc | AE95: Xuất sắc | AF95: Xuất sắc | AJ95: Xuất sắc | AN95: =(COUNTIF($F95:$AA95,"A*")&"A*")&" + "&(COUNTIF($F95:$AA95,"B*")&"B*")&" + "&(COUNTIF($F95:$AA95,"C*")&"C*")&" + "&(COUNTIF($F95:$AA95,"D")&"D") -> 11A* + 0B* + 0C* + 0D
A96: 89 | B96: 14 | C96: Võ Tấn Kiệt | D96: 01008034 | E96: Phòng Quản trị - DV | F96: A | G96: 10 | H96: A | I96: 10 | J96: A | K96: 10 | L96: A | M96: 10 | N96: A | O96: 10 | P96: A | Q96: 10 | R96: A3 | S96: =VLOOKUP(R96,Sheet1!$B$2:$C$12,2,TRUE) -> 8 | T96: A3 | U96: =VLOOKUP(T96,Sheet1!$B$2:$C$12,2,TRUE) -> 8 | V96: =IFERROR(VLOOKUP($D96,'[1]Chi tiet'!$D$7:$L$389,8,0),0) -> A3 | W96: =VLOOKUP(V96,Sheet1!$B$2:$C$12,2,TRUE) -> 8 | X96: =IFERROR(VLOOKUP($D96,'[2]Gui chi Quynh'!D$7:K$393,7,0),0) -> A2 | Y96: =VLOOKUP(X96,Sheet1!$B$2:$C$12,2,TRUE) -> 9 | Z96: =IFERROR(VLOOKUP($D96,'[3]Chi tiet'!$D$7:$L$397,8,0),0) -> A2 | AA96: =VLOOKUP(Z96,[4]Sheet1!$B$2:$C$12,2,TRUE) -> 9 | AB96: =AVERAGE(F96:AA96) -> 9.2727273 | AC96: =LEFT($AN96,4) -> 11A* | AD96: Xuất sắc | AE96: Xuất sắc | AF96: Xuất sắc | AJ96: Xuất sắc | AN96: =(COUNTIF($F96:$AA96,"A*")&"A*")&" + "&(COUNTIF($F96:$AA96,"B*")&"B*")&" + "&(COUNTIF($F96:$AA96,"C*")&"C*")&" + "&(COUNTIF($F96:$AA96,"D")&"D") -> 11A* + 0B* + 0C* + 0D
A97: 90 | B97: 19 | C97: Trần Thị Thu | D97: 01008021 | E97: Phòng Quản trị - DV | F97: A | G97: 10 | H97: A | I97: 10 | J97: A | K97: 10 | L97: A | M97: 10 | N97: A | O97: 10 | P97: A | Q97: 10 | R97: A4 | S97: =VLOOKUP(R97,Sheet1!$B$2:$C$12,2,TRUE) -> 7 | T97: A3 | U97: =VLOOKUP(T97,Sheet1!$B$2:$C$12,2,TRUE) -> 8 | V97: =IFERROR(VLOOKUP($D97,'[1]Chi tiet'!$D$7:$L$389,8,0),0) -> A4 | W97: =VLOOKUP(V97,Sheet1!$B$2:$C$12,2,TRUE) -> 7 | X97: =IFERROR(VLOOKUP($D97,'[2]Gui chi Quynh'!D$7:K$393,7,0),0) -> A3 | Y97: =VLOOKUP(X97,Sheet1!$B$2:$C$12,2,TRUE) -> 8 | Z97: =IFERROR(VLOOKUP($D97,'[3]Chi tiet'!$D$7:$L$397,8,0),0) -> A3 | AA97: =VLOOKUP(Z97,[4]Sheet1!$B$2:$C$12,2,TRUE) -> 8 | AB97: =AVERAGE(F97:AA97) -> 8.9090909 | AC97: =LEFT($AN97,4) -> 11A* | AD97: Xuất sắc | AE97: Tốt | AF97: Xuất sắc | AJ97: Xuất sắc | AM97: NLĐ | AN97: =(COUNTIF($F97:$AA97,"A*")&"A*")&" + "&(COUNTIF($F97:$AA97,"B*")&"B*")&" + "&(COUNTIF($F97:$AA97,"C*")&"C*")&" + "&(COUNTIF($F97:$AA97,"D")&"D") -> 11A* + 0B* + 0C* + 0D
A98: 91 | B98: 23 | C98: Dương Thị Thủy | D98: 01008009 | E98: Phòng Quản trị - DV | F98: A | G98: 10 | H98: A | I98: 10 | J98: A | K98: 10 | L98: A | M98: 10 | N98: A | O98: 10 | P98: A | Q98: 10 | R98: A4 | S98: =VLOOKUP(R98,Sheet1!$B$2:$C$12,2,TRUE) -> 7 | T98: A4 | U98: =VLOOKUP(T98,Sheet1!$B$2:$C$12,2,TRUE) -> 7 | V98: =IFERROR(VLOOKUP($D98,'[1]Chi tiet'!$D$7:$L$389,8,0),0) -> A3 | W98: =VLOOKUP(V98,Sheet1!$B$2:$C$12,2,TRUE) -> 8 | X98: =IFERROR(VLOOKUP($D98,'[2]Gui chi Quynh'!D$7:K$393,7,0),0) -> A3 | Y98: =VLOOKUP(X98,Sheet1!$B$2:$C$12,2,TRUE) -> 8 | Z98: =IFERROR(VLOOKUP($D98,'[3]Chi tiet'!$D$7:$L$397,8,0),0) -> A3 | AA98: =VLOOKUP(Z98,[4]Sheet1!$B$2:$C$12,2,TRUE) -> 8 | AB98: =AVERAGE(F98:AA98) -> 8.9090909 | AC98: =LEFT($AN98,4) -> 11A* | AD98: Xuất sắc | AE98: Xuất sắc | AF98: Xuất sắc | AJ98: Xuất sắc | AM98: NLĐ | AN98: =(COUNTIF($F98:$AA98,"A*")&"A*")&" + "&(COUNTIF($F98:$AA98,"B*")&"B*")&" + "&(COUNTIF($F98:$AA98,"C*")&"C*")&" + "&(COUNTIF($F98:$AA98,"D")&"D") -> 11A* + 0B* + 0C* + 0D
A99: 92 | B99: 25 | C99: Tạ Quốc Tấn | D99: 01008012 | E99: Phòng Quản trị - DV | F99: A | G99: 10 | H99: A | I99: 10 | J99: A | K99: 10 | L99: A | M99: 10 | N99: A | O99: 10 | P99: A | Q99: 10 | R99: A4 | S99: =VLOOKUP(R99,Sheet1!$B$2:$C$12,2,TRUE) -> 7 | T99: A4 | U99: =VLOOKUP(T99,Sheet1!$B$2:$C$12,2,TRUE) -> 7 | V99: =IFERROR(VLOOKUP($D99,'[1]Chi tiet'!$D$7:$L$389,8,0),0) -> A3 | W99: =VLOOKUP(V99,Sheet1!$B$2:$C$12,2,TRUE) -> 8 | X99: =IFERROR(VLOOKUP($D99,'[2]Gui chi Quynh'!D$7:K$393,7,0),0) -> A3 | Y99: =VLOOKUP(X99,Sheet1!$B$2:$C$12,2,TRUE) -> 8 | Z99: =IFERROR(VLOOKUP($D99,'[3]Chi tiet'!$D$7:$L$397,8,0),0) -> A3 | AA99: =VLOOKUP(Z99,[4]Sheet1!$B$2:$C$12,2,TRUE) -> 8 | AB99: =AVERAGE(F99:AA99) -> 8.9090909 | AC99: =LEFT($AN99,4) -> 11A* | AD99: Xuất sắc | AE99: Xuất sắc | AF99: Xuất sắc | AJ99: Xuất sắc | AM99: NLĐ | AN99: =(COUNTIF($F99:$AA99,"A*")&"A*")&" + "&(COUNTIF($F99:$AA99,"B*")&"B*")&" + "&(COUNTIF($F99:$AA99,"C*")&"C*")&" + "&(COUNTIF($F99:$AA99,"D")&"D") -> 11A* + 0B* + 0C* + 0D
A100: 93 | B100: 27 | C100: Võ Thị Tuyết | D100: 01013033 | E100: Phòng Quản trị - DV | F100: A | G100: 10 | H100: A | I100: 10 | J100: A | K100: 10 | L100: A | M100: 10 | N100: A | O100: 10 | P100: A | Q100: 10 | R100: A4 | S100: =VLOOKUP(R100,Sheet1!$B$2:$C$12,2,TRUE) -> 7 | T100: A4 | U100: =VLOOKUP(T100,Sheet1!$B$2:$C$12,2,TRUE) -> 7 | V100: =IFERROR(VLOOKUP($D100,'[1]Chi tiet'!$D$7:$L$389,8,0),0) -> A4 | W100: =VLOOKUP(V100,Sheet1!$B$2:$C$12,2,TRUE) -> 7 | X100: =IFERROR(VLOOKUP($D100,'[2]Gui chi Quynh'!D$7:K$393,7,0),0) -> A3 | Y100: =VLOOKUP(X100,Sheet1!$B$2:$C$12,2,TRUE) -> 8 | Z100: =IFERROR(VLOOKUP($D100,'[3]Chi tiet'!$D$7:$L$397,8,0),0) -> A4 | AA100: =VLOOKUP(Z100,[4]Sheet1!$B$2:$C$12,2,TRUE) -> 7 | AB100: =AVERAGE(F100:AA100) -> 8.7272727 | AC100: =LEFT($AN100,4) -> 11A* | AD100: Xuất sắc | AE100: Tốt | AF100: Xuất sắc | AJ100: Xuất sắc | AM100: NLĐ | AN100: =(COUNTIF($F100:$AA100,"A*")&"A*")&" + "&(COUNTIF($F100:$AA100,"B*")&"B*")&" + "&(COUNTIF($F100:$AA100,"C*")&"C*")&" + "&(COUNTIF($F100:$AA100,"D")&"D") -> 11A* + 0B* + 0C* + 0D
A101: 94 | B101: 29 | C101: Nguyễn Xuân Lợi | D101: 01017008 | E101: Phòng Quản trị - DV | F101: A | G101: 10 | H101: A | I101: 10 | J101: A | K101: 10 | L101: A | M101: 10 | N101: A | O101: 10 | P101: A | Q101: 10 | R101: A4 | S101: =VLOOKUP(R101,Sheet1!$B$2:$C$12,2,TRUE) -> 7 | T101: A4 | U101: =VLOOKUP(T101,Sheet1!$B$2:$C$12,2,TRUE) -> 7 | V101: =IFERROR(VLOOKUP($D101,'[1]Chi tiet'!$D$7:$L$389,8,0),0) -> A3 | W101: =VLOOKUP(V101,Sheet1!$B$2:$C$12,2,TRUE) -> 8 | X101: =IFERROR(VLOOKUP($D101,'[2]Gui chi Quynh'!D$7:K$393,7,0),0) -> A3 | Y101: =VLOOKUP(X101,Sheet1!$B$2:$C$12,2,TRUE) -> 8 | Z101: =IFERROR(VLOOKUP($D101,'[3]Chi tiet'!$D$7:$L$397,8,0),0) -> A3 | AA101: =VLOOKUP(Z101,[4]Sheet1!$B$2:$C$12,2,TRUE) -> 8 | AB101: =AVERAGE(F101:AA101) -> 8.9090909 | AC101: =LEFT($AN101,4) -> 11A* | AD101: Xuất sắc | AE101: Xuất sắc | AF101: Xuất sắc | AJ101: Xuất sắc | AM101: NLĐ | AN101: =(COUNTIF($F101:$AA101,"A*")&"A*")&" + "&(COUNTIF($F101:$AA101,"B*")&"B*")&" + "&(COUNTIF($F101:$AA101,"C*")&"C*")&" + "&(COUNTIF($F101:$AA101,"D")&"D") -> 11A* + 0B* + 0C* + 0D
...

Sheet Sheet1
B2: A1 | C2: 10
B3: A2 | C3: 9
B4: A3 | C4: 8
B5: A4 | C5: 7
B6: A DN | C6: 7
B7: B1 | C7: 6
B8: B2 | C8: 5
B9: C1 | C9: 4
B10: C2 | C10: 3
B11: D | C11: 1
B12: E | C12: 0

Sheet TY LE %
A1: KẾT QUẢ ĐÁNH GIÁ, XẾP LOẠI VC,NLĐ NĂM HỌC 2020-2021
A3: Stt | B3: Tên đơn vị | C3: Tổng số CB-GV-NV | D3: Tổng số CB-GV-NV hực hiện đánh giá | E3: Hoàn thành xuất sắc nhiệm vụ | G3: Hoàn thành tốt nhiệm vụ | I3: Hoàn thành nhiệm vụ | K3: Không hoàn thành nhiệm vụ | M3: Không đánh giá | N3: Xin ý kiến HĐ
E4: Số lượng | F4: Tỷ lệ | G4: Số lượng | H4: Tỷ lệ | I4: Số lượng | J4: Tỷ lệ | K4: Số lượng | L4: Tỷ lệ
A5: 01 | B5: Ban Giám hiệu | C5: =E5+G5+I5+K5+M5+N5 -> 4 | D5: 4 | E5: 4 | F5: =(E5/C5) -> 1
A6: 02 | B6: Phòng Tổ chức - Hành chính - Tổng hợp | C6: =SUM($C7:$C8) -> 26 | D6: =SUM($D7:$D8) -> 25 | E6: =SUM($E7:$E8) -> 24 | F6: =E6/$D6 -> 0.96 | G6: =SUM(G7:G8) -> 1 | H6: =G6/$D6 -> 0.04 | M6: 1
A7: a | B7: Viên chức | C7: =E7+G7+I7+K7+M7+N7 -> 13 | D7: =E7+G7+I7+K7 -> 13 | E7: 13 | F7: =(E7/C7) -> 1
A8: b | B8: Hợp đồng trường | C8: =E8+G8+I8+K8+M8+N8 -> 13 | D8: =E8+G8+I8+K8 -> 12 | E8: 11 | F8: =(E8/C8) -> 0.84615385 | G8: 1 | H8: =(G8/C8) -> 0.076923077 | M8: 1
A9: 03 | B9: Phòng TT Giáo dục - Công tác SV | C9: =SUM($C10:$C11) -> 15 | D9: =SUM($D10:$D11) -> 15 | E9: =SUM($E10:$E11) -> 15 | F9: =E9/$D9 -> 1
A10: a | B10: Viên chức + HĐ Sở | C10: =E10+G10+I10+K10+M10+N10 -> 10 | D10: =E10+G10+I10+K10 -> 10 | E10: 10 | F10: =(E10/C10) -> 1
A11: b | B11: Hợp đồng trường | C11: =E11+G11+I11+K11+M11+N11 -> 5 | D11: =E11+G11+I11+K11 -> 5 | E11: 5 | F11: =(E11/C11) -> 1
A12: 04 | B12: Phòng Khảo thí và Đảm bảo chất lượng | C12: =SUM($C13:$C14) -> 7 | D12: =SUM($D13:$D14) -> 7 | E12: =SUM($E13:$E14) -> 7 | F12: =E12/$D12 -> 1
A13: a | B13: Viên chức | C13: =E13+G13+I13+K13+M13+N13 -> 6 | D13: =E13+G13+I13+K13 -> 6 | E13: 6 | F13: =(E13/C13) -> 1
A14: b | B14: Hợp đồng trường | C14: =E14+G14+I14+K14+M14+N14 -> 1 | D14: =E14+G14+I14+K14 -> 1 | E14: 1 | F14: =(E14/C14) -> 1
A15: 05 | B15: Phòng Kế hoạch - Tài chính | C15: =SUM($C16:$C17) -> 9 | D15: =SUM($D16:$D17) -> 8 | E15: =SUM($E16:$E17) -> 8 | F15: =E15/$D15 -> 1 | M15: 1
A16: a | B16: Viên chức | C16: =E16+G16+I16+K16+M16+N16 -> 6 | D16: =E16+G16+I16+K16 -> 6 | E16: 6 | F16: =(E16/C16) -> 1
A17: b | B17: Hợp đồng trường | C17: =E17+G17+I17+K17+M17+N17 -> 3 | D17: =E17+G17+I17+K17 -> 2 | E17: 2 | F17: =(E17/C17) -> 0.66666667 | M17: 1
A18: 06 | B18: Phòng Quản trị - Dịch vụ | C18: =SUM($C19:$C20) -> 36 | D18: =SUM($D19:$D20) -> 33 | E18: =SUM($E19:$E20) -> 29 | F18: =E18/$D18 -> 0.87878788 | G18: =SUM(G19:G20) -> 4 | H18: =G18/$D18 -> 0.12121212 | M18: 3
A19: a | B19: Viên chức | C19: =E19+G19+I19+K19+M19+N19 -> 16 | D19: =E19+G19+I19+K19 -> 16 | E19: 14 | F19: =(E19/C19) -> 0.875 | G19: 2 | H19: =(G19/C19) -> 0.125
A20: b | B20: Hợp đồng trường | C20: =E20+G20+I20+K20+M20+N20 -> 20 | D20: =E20+G20+I20+K20 -> 17 | E20: 15 | F20: =(E20/C20) -> 0.75 | G20: 2 | H20: =(G20/C20) -> 0.1 | M20: 3
A21: 07 | B21: Phòng Tuyển sinh - Đào tạo | C21: =SUM($C22:$C23) -> 16 | D21: =SUM($D22:$D23) -> 16 | E21: =SUM($E22:$E23) -> 16 | F21: =E21/$D21 -> 1
A22: a | B22: Viên chức | C22: =E22+G22+I22+K22+M22+N22 -> 12 | D22: =E22+G22+I22+K22 -> 12 | E22: 12 | F22: =(E22/C22) -> 1
A23: b | B23: Hợp đồng trường | C23: =E23+G23+I23+K23+M23+N23 -> 4 | D23: =E23+G23+I23+K23 -> 4 | E23: 4 | F23: =(E23/C23) -> 1
A24: 08 | B24: Phòng Quản lý KH - HTQT | C24: =SUM($C25:$C26) -> 2 | D24: =SUM($D25:$D26) -> 2 | E24: =SUM($E25:$E26) -> 2 | F24: =E24/$D24 -> 1
A25: a | B25: Viên chức | C25: =E25+G25+I25+K25+M25+N25 -> 1 | D25: =E25+G25+I25+K25 -> 1 | E25: 1 | F25: =(E25/C25) -> 1
A26: b | B26: Hợp đồng trường | C26: =E26+G26+I26+K26+M26+N26 -> 1 | D26: =E26+G26+I26+K26 -> 1 | E26: 1 | F26: =(E26/C26) -> 1
A27: 9 | B27: Trung tâm Quan hệ doanh nghiệp | C27: =C28 -> 2 | D27: =D28 -> 2 | E27: =E28 -> 2 | F27: =E27/$D27 -> 1
A28: a | B28: Viên chức | C28: =E28+G28+I28+K28+M28+N28 -> 2 | D28: 2 | E28: 2 | F28: =(E28/C28) -> 1
A29: 10 | B29: Trung tâm điều hành và QLDL | C29: =SUM($C30:$C31) -> 5 | D29: =SUM($D30:$D31) -> 5 | E29: =SUM($E30:$E31) -> 5 | F29: =E29/$D29 -> 1
A30: a | B30: Viên chức | C30: =E30+G30+I30+K30+M30+N30 -> 3 | D30: =E30+G30+I30+K30 -> 3 | E30: 3 | F30: =(E30/C30) -> 1
A31: b | B31: Hợp đồng trường | C31: =E31+G31+I31+K31+M31+N31 -> 2 | D31: =E31+G31+I31+K31 -> 2 | E31: 2 | F31: =(E31/C31) -> 1
A32: 11 | B32: Trung tâm KONE | C32: =C33 -> 1 | D32: =D33 -> 1 | E32: =E33 -> 1 | F32: =E32/$D32 -> 1
A33: b | B33: Hợp đồng trường | C33: =E33+G33+I33+K33+M33+N33 -> 1 | D33: =E33+G33+I33+K33 -> 1 | E33: 1
A34: 12 | B34: Trung tâm Y tế | C34: =SUM($C35:$C36) -> 3 | D34: =SUM($D35:$D36) -> 3 | E34: =SUM($E35:$E36) -> 3 | F34: =E34/$D34 -> 1
A35: a | B35: Viên chức | C35: =E35+G35+I35+K35+M35+N35 -> 2 | D35: =E35+G35+I35+K35 -> 2 | E35: 2 | F35: =(E35/C35) -> 1
A36: b | B36: Hợp đồng trường | C36: =E36+G36+I36+K36+M36+N36 -> 1 | D36: =E36+G36+I36+K36 -> 1 | E36: 1 | F36: =(E36/C36) -> 1
A37: 13 | B37: Trung tâm Thư viện | C37: =SUM($C38:$C39) -> 7 | D37: =SUM($D38:$D39) -> 7 | E37: =SUM($E38:$E39) -> 7 | F37: =E37/$D37 -> 1
A38: a | B38: Viên chức | C38: =E38+G38+I38+K38+M38+N38 -> 4 | D38: =E38+G38+I38+K38 -> 4 | E38: 4 | F38: =(E38/C38) -> 1
A39: b | B39: Hợp đồng trường | C39: =E39+G39+I39+K39+M39+N39 -> 3 | D39: =E39+G39+I39+K39 -> 3 | E39: 3 | F39: =(E39/C39) -> 1
A40: 14 | B40: Trung tâm ĐT Lý Tự Trọng | C40: =SUM($C41:$C42) -> 3 | D40: =SUM($D41:$D42) -> 3 | E40: =SUM($E41:$E42) -> 3 | F40: =E40/$D40 -> 1
A41: a | B41: Viên chức + HĐ Sở | C41: =E41+G41+I41+K41+M41+N41 -> 2 | D41: =E41+G41+I41+K41 -> 2 | E41: 2 | F41: =(E41/C41) -> 1
A42: b | B42: Hợp đồng trường | C42: =E42+G42+I42+K42+M42+N42 -> 1 | D42: =E42+G42+I42+K42 -> 1 | E42: 1 | F42: =(E42/C42) -> 1
A43: 15 | B43: Khoa Khoa học cơ bản | C43: =C44 -> 33 | D43: =D44 -> 33 | E43: =E44 -> 28 | F43: =E43/$D43 -> 0.84848485 | G43: =G44 -> 5 | H43: =G43/$D43 -> 0.15151515
A44: a | B44: Viên chức | C44: =E44+G44+I44+K44+M44+N44 -> 33 | D44: =E44+G44+I44+K44 -> 33 | E44: 28 | F44: =(E44/C44) -> 0.84848485 | G44: 5 | H44: =(G44/C44) -> 0.15151515
A45: 16 | B45: Khoa Lý luận Chính trị | C45: =C46 -> 16 | D45: =D46 -> 16 | E45: =E46 -> 11 | F45: =E45/$D45 -> 0.6875 | G45: =G46 -> 5 | H45: =G45/$D45 -> 0.3125
A46: a | B46: Viên chức | C46: =E46+G46+I46+K46+M46+N46 -> 16 | D46: =E46+G46+I46+K46 -> 16 | E46: 11 | F46: =(E46/C46) -> 0.6875 | G46: 5 | H46: =(G46/C46) -> 0.3125
A47: 17 | B47: Khoa Công nghệ thông tin | C47: =C48 -> 25 | D47: =D48 -> 25 | E47: =E48 -> 21 | F47: =E47/$D47 -> 0.84 | G47: =G48 -> 2 | H47: =G47/$D47 -> 0.08 | I47: =I48 -> 2 | J47: =I47/$D47 -> 0.08
A48: a | B48: Viên chức | C48: =E48+G48+I48+K48+M48+N48 -> 25 | D48: =E48+G48+I48+K48 -> 25 | E48: 21 | F48: =(E48/C48) -> 0.84 | G48: 2 | H48: =(G48/C48) -> 0.08 | I48: 2 | J48: =(I48/C48) -> 0.08
A49: 18 | B49: Khoa Cơ khí | C49: =C50 -> 26 | D49: =D50 -> 25 | E49: =E50 -> 20 | F49: =E49/$D49 -> 0.8 | G49: =G50 -> 5 | H49: =G49/$D49 -> 0.2 | M49: 1
A50: a | B50: Viên chức | C50: =E50+G50+I50+K50+M50+N50 -> 26 | D50: =E50+G50+I50+K50 -> 25 | E50: 20 | F50: =(E50/C50) -> 0.76923077 | G50: 5 | H50: =(G50/C50) -> 0.19230769 | J50: =(I50/C50) -> 0 | M50: 1
A51: 19 | B51: Khoa Điện - Điện tử | C51: =C52 -> 30 | D51: =D52 -> 30 | E51: =E52 -> 29 | F51: =E51/$D51 -> 0.96666667 | G51: =G52 -> 1 | H51: =G51/$D51 -> 0.033333333
A52: a | B52: Viên chức | C52: =E52+G52+I52+K52+M52+N52 -> 30 | D52: =E52+G52+I52+K52 -> 30 | E52: 29 | F52: =(E52/C52) -> 0.96666667 | G52: 1 | H52: =(G52/C52) -> 0.033333333
A53: 20 | B53: Khoa Động lực | C53: =SUM($C54:$C55) -> 25 | D53: =SUM($D54:$D55) -> 22 | E53: =SUM($E54:$E55) -> 21 | F53: =E53/$D53 -> 0.95454545 | G53: =SUM(G54:G55) -> 1 | H53: =G53/$D53 -> 0.045454545 | M53: 3
A54: a | B54: Viên chức | C54: =E54+G54+I54+K54+M54 -> 24 | D54: =E54+G54+I54+K54 -> 21 | E54: 20 | F54: =(E54/C54) -> 0.83333333 | G54: 1 | H54: =(G54/C54) -> 0.041666667 | J54: =(I54/C54) -> 0 | M54: 3 | N54: 1
A55: b | B55: Hợp đồng trường | C55: =E55+G55+I55+K55+M55+N55 -> 1 | D55: =E55+G55+I55+K55 -> 1 | E55: 1 | F55: =(E55/C55) -> 1
A56: 21 | B56: Khoa Nhiệt - Lạnh | C56: =C57 -> 9 | D56: =D57 -> 8 | E56: =E57 -> 7 | F56: =E56/$D56 -> 0.875 | G56: =G57 -> 1 | H56: =G56/$D56 -> 0.125 | M56: 1
A57: a | B57: Viên chức | C57: =E57+G57+I57+K57+M57+N57 -> 9 | D57: =E57+G57+I57+K57 -> 8 | E57: 7 | F57: =(E57/C57) -> 0.77777778 | G57: 1 | H57: =(G57/C57) -> 0.11111111 | M57: 1
A58: 22 | B58: Khoa May - Thời trang | C58: =C59 -> 10 | D58: =D59 -> 10 | E58: =E59 -> 9 | F58: =E58/$D58 -> 0.9 | G58: =G59 -> 1 | H58: =G58/$D58 -> 0.1
A59: a | B59: Viên chức | C59: =E59+G59+I59+K59+M59+N59 -> 10 | D59: =E59+G59+I59+K59 -> 10 | E59: 9 | F59: =(E59/C59) -> 0.9 | G59: 1 | H59: =(G59/C59) -> 0.1
A60: 23 | B60: Khoa Kinh tế | C60: =C61 -> 18 | D60: =D61 -> 14 | E60: =E61 -> 8 | F60: =E60/$D60 -> 0.57142857 | G60: =G61 -> 6 | H60: =G60/$D60 -> 0.42857143 | M60: 4
A61: a | B61: Viên chức | C61: =E61+G61+I61+K61+M61 -> 18 | D61: =E61+G61+I61+K61 -> 14 | E61: 8 | F61: =(E61/C61) -> 0.44444444 | G61: 6 | H61: =(G61/C61) -> 0.33333333 | M61: 4 | N61: 1
A62: 24 | B62: Khoa Xây dựng | C62: =C63 -> 5 | D62: =D63 -> 4 | E62: =E63 -> 3 | F62: =E62/$D62 -> 0.75 | G62: =G63 -> 1 | H62: =G62/$D62 -> 0.25 | M62: 1
A63: a | B63: Viên chức | C63: =E63+G63+I63+K63+M63+N63 -> 5 | D63: =E63+G63+I63+K63 -> 4 | E63: 3 | F63: =(E63/C63) -> 0.6 | G63: 1 | H63: =(G63/C63) -> 0.2 | M63: 1
B64: TỔNG CỘNG | C64: =C5+C6+C9+C12+C15+C18+C21+C24+C27+C29+C32+C34+C37+C40+C43+C45+C47+C49+C51+C53+C56+C58+C60+C62 -> 333 | D64: =D5+D6+D9+D12+D15+D18+D21+D24+D27+D29+D32+D34+D37+D40+D43+D45+D47+D49+D51+D53+D56+D58+D60+D62 -> 318 | E64: =E5+E6+E9+E12+E15+E18+E21+E24+E27+E29+E32+E34+E37+E40+E43+E45+E47+E49+E51+E53+E56+E58+E60+E62 -> 283 | F64: =E64/$D$64 -> 0.88993711 | G64: =G5+G6+G9+G12+G15+G18+G21+G24+G27+G29+G32+G34+G37+G40+G43+G45+G47+G49+G51+G53+G56+G58+G60+G62 -> 33 | H64: =G64/$D$64 -> 0.10377358 | I64: =I5+I6+I9+I12+I15+I18+I21+I24+I27+I29+I32+I34+I37+I40+I43+I45+I47+I49+I51+I53+I56+I58+I60+I62 -> 2 | J64: =I64/$D$64 -> 0.0062893082 | M64: =M5+M6+M9+M12+M15+M18+M21+M24+M27+M29+M32+M34+M37+M40+M43+M45+M47+M49+M51+M53+M56+M58+M60+M62 -> 15
B66: Phân loại mức độ hoàn thành nhiệm vụ | D66: Viên chức | F66: HĐ trường | H66: Tổng cộng
D67: Số lượng | E67: Tỷ lệ | F67: Số lượng | G67: Tỷ lệ | H67: Số lượng | I67: Tỷ lệ
B68: Hoàn thành xuất sắc nhiệm vụ | D68: =E5+E7+E10+E13+E16+E19+E22+E25+E28+E30+E35+E38+E41+E44+E46+E48+E50+E52+E54+E57+E59+E61+E63 -> 235 | E68: =D68/$D$74 -> 0.88014981 | F68: =E8+E11+E14+E17+E20+E23+E26+E31+E33+E36+E39+E42+E55 -> 48 | G68: =F68/$F$74 -> 0.94117647 | H68: =D68+F68 -> 283 | I68: =H68/$H$74 -> 0.88993711
B69: Hoàn thành tốt nhiệm vụ | D69: =G7+G10+G13+G16+G19+G22+G25+G28+G30+G35+G38+G41+G44+G46+G48+G50+G52+G54+G57+G59+G61+G63 -> 30 | E69: =D69/$D$74 -> 0.11235955 | F69: =G8+G11+G14+G17+G20+G23+G26+G31+G33+G36+G39+G42 -> 3 | G69: =F69/$F$74 -> 0.058823529 | H69: =D69+F69 -> 33 | I69: =H69/$H$74 -> 0.10377358
B70: Hoàn thành nhiệm vụ | D70: =I7+I10+I13+I16+I19+I22+I25+I28+I30+I35+I38+I41+I44+I46+I48+I50+I52+I54+I57+I59+I61+I63 -> 2 | E70: =D70/$D$74 -> 0.0074906367 | H70: =D70+F70 -> 2 | I70: =H70/$H$74 -> 0.0062893082
B71: Không hoàn thành nhiệm vụ | E71: =D71/$D$73 -> 0 | H71: =D71+F71 -> 0
B72: Không đánh giá | D72: =M7+M10+M13+M16+M19+M22+M25+M28+M30+M35+M38+M41+M44+M46+M48+M50+M52+M54+M57+M59+M61+M63 -> 10 | F72: =M8+M11+M14+M17+M20+M23+M26+M31+M33+M36+M39+M42 -> 5 | H72: =D72+F72 -> 15
B73: TỔNG CC-VC-NLĐ | D73: =SUM(D68:D72) -> 277 | F73: =SUM(F68:F72) -> 56 | H73: =SUM(H68:H72) -> 333
B74: TỔNG CC-VC-NLĐ THỰC HIỆN ĐÁNH GIÁ | D74: =D73-D72 -> 267 | F74: =F73-F72 -> 51 | H74: =H73-H72 -> 318
