Workbook

Sheet TONG HOP
A1: UBND THẢNH PHỐ HỒ CHÍ MINH TRƯỜNG CAO ĐẲNG LÝ TỰ TRỌNG THÀNH PHỐ HỒ CHÍ MINH | AG1: CỘNG HÒA XÃ HỘI CHỦ NGHĨA VIỆT NAM Độc lập - Tự do - Hạnh phúc
A2: BẢNG TỔNG HỢP KẾT QUẢ ĐÁNH GIÁ, XẾP LOẠI CHẤT LƯỢNG VIÊN CHỨC - NGƯỜI LAO ĐỘNG NĂM HỌC 2020 - 2021 (Tổng hợp kết quả đánh giá từ các đơn vị trực thuộc trường và kết quả đánh giá của Chi bộ đối với VCQL)
A4: TT | C4: Họ và tên | E4: Đơn vị | F4: Tháng 7/2020 | H4: Tháng 8/2020 | J4: Tháng 9/2020 | L4: Tháng 10/2020 | N4: Tháng 11/2020 | P4: Tháng 12/2020 | R4: Tháng 01/2021 | T4: Tháng 02/2021 | V4: Tháng 03/2021 | X4: Tháng 04/2021 | Z4: Tháng 05/2021 | AB4: Điểm X (Điểm TB cả năm) | AC4: Ghi chú | AD4: Mức đánh giá, xếp loại tối đa | AE4: Đơn vị thực hiện | AH4: Chi bộ đánh giá | AJ4: Hội đồng đánh giá | AL4: Ghi chú | AM4: VC/NLĐ
D5: Mã số E-office | F5: Xếp loại | G5: Điểm | H5: Xếp loại | I5: Điểm | J5: Xếp loại | K5: Điểm | L5: Xếp loại | M5: Điểm | N5: Xếp loại | O5: Điểm | P5: Xếp loại | Q5: Điểm | R5: Xếp loại | S5: Điểm | T5: Xếp loại | U5: Điểm | V5: Xếp loại | W5: Điểm | X5: Xếp loại | Y5: Điểm | Z5: Xếp loại | AA5: Điểm | AE5: Cá nhân tự đánh giá | AF5: Kết quả đánh giá của đơn vị | AG5: Ý kiến đánh giá của đơn vị | AH5: Kết quả đánh giá của chi bộ | AI5: Ý kiến đánh giá của chi bộ | AJ5: Kết quả đánh giá của Hội đồng | AK5: Ý kiến đánh giá của Hội đồng
A6: -1 | B6: -1 | C6: -2 | D6: -3 | E6: -4 | F6: -5 | G6: -6 | H6: -7 | I6: -8 | J6: -9 | K6: -10 | L6: -11 | M6: -12 | N6: -13 | O6: -14 | P6: -15 | Q6: -16 | R6: -17 | S6: -18 | T6: -19 | U6: -20 | V6: -21 | W6: -22 | X6: -23 | Y6: -24 | Z6: -25 | AA6: -26 | AB6: -27 | AC6: -28 | AD6: -29 | AE6: -30 | AF6: -31 | AG6: -32 | AH6: -33 | AI6: -34 | AJ6: -35 | AK6: -36 | AL6: -37
C7: I. VIÊN CHỨC HOÀN THÀNH XUẤT SẮC NHIỆM VỤ: 283 người
A8: 01 | B8: 01 | C8: Phạm Hữu Lộc | D8: 01001001 | E8: Ban Giám hiệu | F8: A | G8: 10 | H8: A | I8: 10 | J8: A | K8: 10 | L8: A | M8: 10 | N8: A | O8: 10 | P8: A | Q8: 10 | R8: A1 | S8: =VLOOKUP(R8,Sheet1!$B$2:$C$12,2,TRUE) -> 10 | T8: A1 | U8: =VLOOKUP(T8,Sheet1!$B$2:$C$12,2,TRUE) -> 10 | V8: =IFERROR(VLOOKUP($D8,'[1]Chi tiet'!$D$7:$L$389,8,0),0) -> A1 | W8: =VLOOKUP(V8,Sheet1!$B$2:$C$12,2,TRUE) -> 10 | X8: =IFERROR(VLOOKUP($D8,'[2]Gui chi Quynh'!D$7:K$393,7,0),0) -> A1 | Y8: =VLOOKUP(X8,Sheet1!$B$2:$C$12,2,TRUE) -> 10 | Z8: =IFERROR(VLOOKUP($D8,'[3]Chi tiet'!$D$7:$L$397,8,0),0) -> A1 | AA8: =VLOOKUP(Z8,[4]Sheet1!$B$2:$C$12,2,TRUE) -> 10 | AB8: =ROUND(AVERAGE(F8:AA8),1) -> 10 | AC8: =LEFT($AN8,4) -> 11A* | AD8: Xuất sắc | AE8: Xuất sắc | AF8: Xuất sắc | AH8: Xuất sắc | AJ8: Xuất sắc | AN8: =(COUNTIF($F8:$AA8,"A*")&"A*")&" + "&(COUNTIF($F8:$AA8,"B*")&"B*")&" + "&(COUNTIF($F8:$AA8,"C*")&"C*")&" + "&(COUNTIF($F8:$AA8,"D")&"D") -> 11A* + 0B* + 0C* + 0D
A9: 02 | B9: 02 | C9: Đinh Văn Đệ | D9: 01001006 | E9: Ban Giám hiệu | F9: A | G9: 10 | H9: A | I9: 10 | J9: A | K9: 10 | L9: A | M9: 10 | N9: A | O9: 10 | P9: A | Q9: 10 | R9: A1 | S9: =VLOOKUP(R9,Sheet1!$B$2:$C$12,2,TRUE) -> 10 | T9: A1 | U9: =VLOOKUP(T9,Sheet1!$B$2:$C$12,2,TRUE) -> 10 | V9: =IFERROR(VLOOKUP($D9,'[1]Chi tiet'!$D$7:$L$389,8,0),0) -> A1 | W9: =VLOOKUP(V9,Sheet1!$B$2:$C$12,2,TRUE) -> 10 | X9: =IFERROR(VLOOKUP($D9,'[2]Gui chi Quynh'!D$7:K$393,7,0),0) -> A1 | Y9: =VLOOKUP(X9,Sheet1!$B$2:$C$12,2,TRUE) -> 10 | Z9: =IFERROR(VLOOKUP($D9,'[3]Chi tiet'!$D$7:$L$397,8,0),0) -> A1 | AA9: =VLOOKUP(Z9,[4]Sheet1!$B$2:$C$12,2,TRUE) -> 10 | AB9: =AVERAGE(F9:AA9) -> 10 | AC9: =LEFT($AN9,4) -> 11A* | AD9: Xuất sắc | AE9: Xuất sắc | AF9: Xuất sắc | AH9: Xuất sắc | AJ9: Xuất sắc | AN9: =(COUNTIF($F9:$AA9,"A*")&"A*")&" + "&(COUNTIF($F9:$AA9,"B*")&"B*")&" + "&(COUNTIF($F9:$AA9,"C*")&"C*")&" + "&(COUNTIF($F9:$AA9,"D")&"D") -> 11A* + 0B* + 0C* + 0D
A10: 03 | B10: 03 | C10: Đinh Hồng Minh | D10: 01002001 | E10: Ban Giám hiệu | F10: A | G10: 10 | H10: A | I10: 10 | J10: A | K10: 10 | L10: A | M10: 10 | N10: A | O10: 10 | P10: A | Q10: 10 | R10: A1 | S10: =VLOOKUP(R10,Sheet1!$B$2:$C$12,2,TRUE) -> 10 | T10: A1 | U10: =VLOOKUP(T10,Sheet1!$B$2:$C$12,2,TRUE) -> 10 | V10: =IFERROR(VLOOKUP($D10,'[1]Chi tiet'!$D$7:$L$389,8,0),0) -> A1 | W10: =VLOOKUP(V10,Sheet1!$B$2:$C$12,2,TRUE) -> 10 | X10: =IFERROR(VLOOKUP($D10,'[2]Gui chi Quynh'!D$7:K$393,7,0),0) -> A1 | Y10: =VLOOKUP(X10,Sheet1!$B$2:$C$12,2,TRUE) -> 10 | Z10: =IFERROR(VLOOKUP($D10,'[3]Chi tiet'!$D$7:$L$397,8,0),0) -> A1 | AA10: =VLOOKUP(Z10,[4]Sheet1!$B$2:$C$12,2,TRUE) -> 10 | AB10: =AVERAGE(F10:AA10) -> 10 | AC10: =LEFT($AN10,4) -> 11A* | AD10: Xuất sắc | AE10: Xuất sắc | AF10: Xuất sắc | AH10: Xuất sắc | AJ10: Xuất sắc | AN10: =(COUNTIF($F10:$AA10,"A*")&"A*")&" + "&(COUNTIF($F10:$AA10,"B*")&"B*")&" + "&(COUNTIF($F10:$AA10,"C*")&"C*")&" + "&(COUNTIF($F10:$AA10,"D")&"D") -> 11A* + 0B* + 0C* + 0D
A11: 04 | B11: 04 | C11: Châu Văn Bảo | D11: 01014037 | E11: Ban Giám hiệu | F11: A | G11: 10 | H11: A | I11: 10 | J11: A | K11: 10 | L11: A | M11: 10 | N11: A | O11: 10 | P11: A | Q11: 10 | R11: A1 | S11: =VLOOKUP(R11,Sheet1!$B$2:$C$12,2,TRUE) -> 10 | T11: A1 | U11: =VLOOKUP(T11,Sheet1!$B$2:$C$12,2,TRUE) -> 10 | V11: =IFERROR(VLOOKUP($D11,'[1]Chi tiet'!$D$7:$L$389,8,0),0) -> A1 | W11: =VLOOKUP(V11,Sheet1!$B$2:$C$12,2,TRUE) -> 10 | X11: =IFERROR(VLOOKUP($D11,'[2]Gui chi Quynh'!D$7:K$393,7,0),0) -> A1 | Y11: =VLOOKUP(X11,Sheet1!$B$2:$C$12,2,TRUE) -> 10 | Z11: =IFERROR(VLOOKUP($D11,'[3]Chi tiet'!$D$7:$L$397,8,0),0) -> A1 | AA11: =VLOOKUP(Z11,[4]Sheet1!$B$2:$C$12,2,TRUE) -> 10 | AB11: =AVERAGE(F11:AA11) -> 10 | AC11: =LEFT($AN11,4) -> 11A* | AD11: Xuất sắc | AE11: Xuất sắc | AF11: Xuất sắc | AH11: Xuất sắc | AJ11: Xuất sắc | AN11: =(COUNTIF($F11:$AA11,"A*")&"A*")&" + "&(COUNTIF($F11:$AA11,"B*")&"B*")&" + "&(COUNTIF($F11:$AA11,"C*")&"C*")&" + "&(COUNTIF($F11:$AA11,"D")&"D") -> 11A* + 0B* + 0C* + 0D
A12: 05 | B12: 01 | C12: Lâm Viết Dũng | D12: 01007009 | E12: Phòng TC - HC - TH | F12: A | G12: 10 | H12: A | I12: 10 | J12: A | K12: 10 | L12: A | M12: 10 | N12: A | O12: 10 | P12: A | Q12: 10 | R12: A1 | S12: =VLOOKUP(R12,Sheet1!$B$2:$C$12,2,TRUE) -> 10 | T12: A1 | U12: =VLOOKUP(T12,Sheet1!$B$2:$C$12,2,TRUE) -> 10 | V12: =IFERROR(VLOOKUP($D12,'[1]Chi tiet'!$D$7:$L$389,8,0),0) -> A1 | W12: =VLOOKUP(V12,Sheet1!$B$2:$C$12,2,TRUE) -> 10 | X12: =IFERROR(VLOOKUP($D12,'[2]Gui chi Quynh'!D$7:K$393,7,0),0) -> A1 | Y12: =VLOOKUP(X12,Sheet1!$B$2:$C$12,2,TRUE) -> 10 | Z12: =IFERROR(VLOOKUP($D12,'[3]Chi tiet'!$D$7:$L$397,8,0),0) -> A1 | AA12: =VLOOKUP(Z12,[4]Sheet1!$B$2:$C$12,2,TRUE) -> 10 | AB12: =AVERAGE(F12:AA12) -> 10 | AC12: =LEFT($AN12,4) -> 11A* | AD12: Xuất sắc | AE12: Xuất sắc | AF12: Xuất sắc | AH12: Xuất sắc | AJ12: Xuất sắc | AN12: =(COUNTIF($F12:$AA12,"A*")&"A*")&" + "&(COUNTIF($F12:$AA12,"B*")&"B*")&" + "&(COUNTIF($F12:$AA12,"C*")&"C*")&" + "&(COUNTIF($F12:$AA12,"D")&"D") -> 11A* + 0B* + 0C* + 0D
A13: 06 | B13: 08 | C13: Lưu Hoàng Hải Yến | D13: 01002019 | E13: Phòng TC - HC - TH | F13: A | G13: 10 | H13: A | I13: 10 | J13: A | K13: 10 | L13: A | M13: 10 | N13: A | O13: 10 | P13: A | Q13: 10 | R13: A2 | S13: =VLOOKUP(R13,Sheet1!$B$2:$C$12,2,TRUE) -> 9 | T13: A2 | U13: =VLOOKUP(T13,Sheet1!$B$2:$C$12,2,TRUE) -> 9 | V13: =IFERROR(VLOOKUP($D13,'[1]Chi tiet'!$D$7:$L$389,8,0),0) -> A2 | W13: =VLOOKUP(V13,Sheet1!$B$2:$C$12,2,TRUE) -> 9 | X13: =IFERROR(VLOOKUP($D13,'[2]Gui chi Quynh'!D$7:K$393,7,0),0) -> A2 | Y13: =VLOOKUP(X13,Sheet1!$B$2:$C$12,2,TRUE) -> 9 | Z13: =IFERROR(VLOOKUP($D13,'[3]Chi tiet'!$D$7:$L$397,8,0),0) -> A1 | AA13: =VLOOKUP(Z13,[4]Sheet1!$B$2:$C$12,2,TRUE) -> 10 | AB13: =AVERAGE(F13:AA13) -> 9.6363636 | AC13: =LEFT($AN13,4) -> 11A* | AD13: Xuất sắc | AE13: Xuất sắc | AF13: Xuất sắc | AH13: Xuất sắc | AJ13: Xuất sắc | AN13: =(COUNTIF($F13:$AA13,"A*")&"A*")&" + "&(COUNTIF($F13:$AA13,"B*")&"B*")&" + "&(COUNTIF($F13:$AA13,"C*")&"C*")&" + "&(COUNTIF($F13:$AA13,"D")&"D") -> 11A* + 0B* + 0C* + 0D
A14: 07 | B14: 25 | C14: Huỳnh Thị Minh Ly | D14: 01004007 | E14: Phòng TC - HC - TH | F14: A | G14: 10 | H14: A | I14: 10 | J14: A | K14: 10 | L14: A | M14: 10 | N14: A | O14: 10 | P14: A | Q14: 10 | R14: A2 | S14: =VLOOKUP(R14,Sheet1!$B$2:$C$12,2,TRUE) -> 9 | T14: A2 | U14: =VLOOKUP(T14,Sheet1!$B$2:$C$12,2,TRUE) -> 9 | V14: =IFERROR(VLOOKUP($D14,'[1]Chi tiet'!$D$7:$L$389,8,0),0) -> A2 | W14: =VLOOKUP(V14,Sheet1!$B$2:$C$12,2,TRUE) -> 9 | X14: =IFERROR(VLOOKUP($D14,'[2]Gui chi Quynh'!D$7:K$393,7,0),0) -> A2 | Y14: =VLOOKUP(X14,Sheet1!$B$2:$C$12,2,TRUE) -> 9 | Z14: =IFERROR(VLOOKUP($D14,'[3]Chi tiet'!$D$7:$L$397,8,0),0) -> A1 | AA14: =VLOOKUP(Z14,[4]Sheet1!$B$2:$C$12,2,TRUE) -> 10 | AB14: =AVERAGE(F14:AA14) -> 9.6363636 | AC14: =LEFT($AN14,4) -> 11A* | AD14: Xuất sắc | AE14: Xuất sắc | AF14: Xuất sắc | AH14: Xuất sắc | AJ14: Xuất sắc | AN14: =(COUNTIF($F14:$AA14,"A*")&"A*")&" + "&(COUNTIF($F14:$AA14,"B*")&"B*")&" + "&(COUNTIF($F14:$AA14,"C*")&"C*")&" + "&(COUNTIF($F14:$AA14,"D")&"D") -> 11A* + 0B* + 0C* + 0D
A15: 08 | B15: 02 | C15: Vũ Như Quỳnh | D15: 01002017 | E15: Phòng TC - HC - TH | F15: A | G15: 10 | H15: A | I15: 10 | J15: A | K15: 10 | L15: A | M15: 10 | N15: A | O15: 10 | P15: A | Q15: 10 | R15: A2 | S15: =VLOOKUP(R15,Sheet1!$B$2:$C$12,2,TRUE) -> 9 | T15: A2 | U15: =VLOOKUP(T15,Sheet1!$B$2:$C$12,2,TRUE) -> 9 | V15: =IFERROR(VLOOKUP($D15,'[1]Chi tiet'!$D$7:$L$389,8,0),0) -> A2 | W15: =VLOOKUP(V15,Sheet1!$B$2:$C$12,2,TRUE) -> 9 | X15: =IFERROR(VLOOKUP($D15,'[2]Gui chi Quynh'!D$7:K$393,7,0),0) -> A2 | Y15: =VLOOKUP(X15,Sheet1!$B$2:$C$12,2,TRUE) -> 9 | Z15: =IFERROR(VLOOKUP($D15,'[3]Chi tiet'!$D$7:$L$397,8,0),0) -> A3 | AA15: =VLOOKUP(Z15,[4]Sheet1!$B$2:$C$12,2,TRUE) -> 8 | AB15: =AVERAGE(F15:AA15) -> 9.4545455 | AC15: =LEFT($AN15,4) -> 11A* | AD15: Xuất sắc | AE15: Xuất sắc | AF15: Xuất sắc | AJ15: Xuất sắc | AN15: =(COUNTIF($F15:$AA15,"A*")&"A*")&" + "&(COUNTIF($F15:$AA15,"B*")&"B*")&" + "&(COUNTIF($F15:$AA15,"C*")&"C*")&" + "&(COUNTIF($F15:$AA15,"D")&"D") -> 11A* + 0B* + 0C* + 0D
A16: 09 | B16: 03 | C16: Phan Thị Ngọc Phượng | D16: 01002018 | E16: Phòng TC - HC - TH | F16: A | G16: 10 | H16: A | I16: 10 | J16: A | K16: 10 | L16: A | M16: 10 | N16: A | O16: 10 | P16: A | Q16: 10 | R16: A3 | S16: =VLOOKUP(R16,Sheet1!$B$2:$C$12,2,TRUE) -> 8 | T16: A3 | U16: =VLOOKUP(T16,Sheet1!$B$2:$C$12,2,TRUE) -> 8 | V16: =IFERROR(VLOOKUP($D16,'[1]Chi tiet'!$D$7:$L$389,8,0),0) -> A2 | W16: =VLOOKUP(V16,Sheet1!$B$2:$C$12,2,TRUE) -> 9 | X16: =IFERROR(VLOOKUP($D16,'[2]Gui chi Quynh'!D$7:K$393,7,0),0) -> A3 | Y16: =VLOOKUP(X16,Sheet1!$B$2:$C$12,2,TRUE) -> 8 | Z16: =IFERROR(VLOOKUP($D16,'[3]Chi tiet'!$D$7:$L$397,8,0),0) -> A2 | AA16: =VLOOKUP(Z16,[4]Sheet1!$B$2:$C$12,2,TRUE) -> 9 | AB16: =AVERAGE(F16:AA16) -> 9.2727273 | AC16: =LEFT($AN16,4) -> 11A* | AD16: Xuất sắc | AE16: Xuất sắc | AF16: Xuất sắc | AJ16: Xuất sắc | AN16: =(COUNTIF($F16:$AA16,"A*")&"A*")&" + "&(COUNTIF($F16:$AA16,"B*")&"B*")&" + "&(COUNTIF($F16:$AA16,"C*")&"C*")&" + "&(COUNTIF($F16:$AA16,"D")&"D") -> 11A* + 0B* + 0C* + 0D
A17: 10 | B17: 04 | C17: Nguyễn Thị Bích Liễu | D17: 01002005 | E17: Phòng TC - HC - TH | F17: A | G17: 10 | H17: A | I17: 10 | J17: A | K17: 10 | L17: A | M17: 10 | N17: A | O17: 10 | P17: A | Q17: 10 | R17: A3 | S17: =VLOOKUP(R17,Sheet1!$B$2:$C$12,2,TRUE) -> 8 | T17: A3 | U17: =VLOOKUP(T17,Sheet1!$B$2:$C$12,2,TRUE) -> 8 | V17: =IFERROR(VLOOKUP($D17,'[1]Chi tiet'!$D$7:$L$389,8,0),0) -> A2 | W17: =VLOOKUP(V17,Sheet1!$B$2:$C$12,2,TRUE) -> 9 | X17: =IFERROR(VLOOKUP($D17,'[2]Gui chi Quynh'!D$7:K$393,7,0),0) -> A3 | Y17: =VLOOKUP(X17,Sheet1!$B$2:$C$12,2,TRUE) -> 8 | Z17: =IFERROR(VLOOKUP($D17,'[3]Chi tiet'!$D$7:$L$397,8,0),0) -> A3 | AA17: =VLOOKUP(Z17,[4]Sheet1!$B$2:$C$12,2,TRUE) -> 8 | AB17: =AVERAGE(F17:AA17) -> 9.1818182 | AC17: =LEFT($AN17,4) -> 11A* | AD17: Xuất sắc | AE17: Xuất sắc | AF17: Xuất sắc | AJ17: Xuất sắc | AN17: =(COUNTIF($F17:$AA17,"A*")&"A*")&" + "&(COUNTIF($F17:$AA17,"B*")&"B*")&" + "&(COUNTIF($F17:$AA17,"C*")&"C*")&" + "&(COUNTIF($F17:$AA17,"D")&"D") -> 11A* + 0B* + 0C* + 0D
A18: 11 | B18: 05 | C18: Nguyễn Văn Chì | D18: 01023001 | E18: Phòng TC - HC - TH | F18: A | G18: 10 | H18: A | I18: 10 | J18: A | K18: 10 | L18: A | M18: 10 | N18: A | O18: 10 | P18: A | Q18: 10 | R18: A4 | S18: =VLOOKUP(R18,Sheet1!$B$2:$C$12,2,TRUE) -> 7 | T18: A4 | U18: =VLOOKUP(T18,Sheet1!$B$2:$C$12,2,TRUE) -> 7 | V18: =IFERROR(VLOOKUP($D18,'[1]Chi tiet'!$D$7:$L$389,8,0),0) -> A2 | W18: =VLOOKUP(V18,Sheet1!$B$2:$C$12,2,TRUE) -> 9 | X18: =IFERROR(VLOOKUP($D18,'[2]Gui chi Quynh'!D$7:K$393,7,0),0) -> A3 | Y18: =VLOOKUP(X18,Sheet1!$B$2:$C$12,2,TRUE) -> 8 | Z18: =IFERROR(VLOOKUP($D18,'[3]Chi tiet'!$D$7:$L$397,8,0),0) -> A3 | AA18: =VLOOKUP(Z18,[4]Sheet1!$B$2:$C$12,2,TRUE) -> 8 | AB18: =AVERAGE(F18:AA18) -> 9 | AC18: =LEFT($AN18,4) -> 11A* | AD18: Xuất sắc | AE18: Xuất sắc | AF18: Xuất sắc | AJ18: Xuất sắc | AN18: =(COUNTIF($F18:$AA18,"A*")&"A*")&" + "&(COUNTIF($F18:$AA18,"B*")&"B*")&" + "&(COUNTIF($F18:$AA18,"C*")&"C*")&" + "&(COUNTIF($F18:$AA18,"D")&"D") -> 11A* + 0B* + 0C* + 0D
A19: 12 | B19: 06 | C19: Trần Thị Ánh Phượng | D19: 01017006 | E19: Phòng TC - HC - TH | F19: A | G19: 10 | H19: A | I19: 10 | J19: A | K19: 10 | L19: A | M19: 10 | N19: A | O19: 10 | P19: A | Q19: 10 | R19: A3 | S19: =VLOOKUP(R19,Sheet1!$B$2:$C$12,2,TRUE) -> 8 | T19: A3 | U19: =VLOOKUP(T19,Sheet1!$B$2:$C$12,2,TRUE) -> 8 | V19: =IFERROR(VLOOKUP($D19,'[1]Chi tiet'!$D$7:$L$389,8,0),0) -> A2 | W19: =VLOOKUP(V19,Sheet1!$B$2:$C$12,2,TRUE) -> 9 | X19: =IFERROR(VLOOKUP($D19,'[2]Gui chi Quynh'!D$7:K$393,7,0),0) -> A3 | Y19: =VLOOKUP(X19,Sheet1!$B$2:$C$12,2,TRUE) -> 8 | Z19: =IFERROR(VLOOKUP($D19,'[3]Chi tiet'!$D$7:$L$397,8,0),0) -> A2 | AA19: =VLOOKUP(Z19,[4]Sheet1!$B$2:$C$12,2,TRUE) -> 9 | AB19: =AVERAGE(F19:AA19) -> 9.2727273 | AC19: =LEFT($AN19,4) -> 11A* | AD19: Xuất sắc | AE19: Xuất sắc | AF19: Xuất sắc | AJ19: Xuất sắc | AN19: =(COUNTIF($F19:$AA19,"A*")&"A*")&" + "&(COUNTIF($F19:$AA19,"B*")&"B*")&" + "&(COUNTIF($F19:$AA19,"C*")&"C*")&" + "&(COUNTIF($F19:$AA19,"D")&"D") -> 11A* + 0B* + 0C* + 0D
A20: 13 | B20: 07 | C20: Trần Văn Cu Anh | D20: 01002007 | E20: Phòng TC - HC - TH | F20: A | G20: 10 | H20: A | I20: 10 | J20: A | K20: 10 | L20: A | M20: 10 | N20: A | O20: 10 | P20: A | Q20: 10 | R20: A4 | S20: =VLOOKUP(R20,Sheet1!$B$2:$C$12,2,TRUE) -> 7 | T20: A4 | U20: =VLOOKUP(T20,Sheet1!$B$2:$C$12,2,TRUE) -> 7 | V20: =IFERROR(VLOOKUP($D20,'[1]Chi tiet'!$D$7:$L$389,8,0),0) -> A3 | W20: =VLOOKUP(V20,Sheet1!$B$2:$C$12,2,TRUE) -> 8 | X20: =IFERROR(VLOOKUP($D20,'[2]Gui chi Quynh'!D$7:K$393,7,0),0) -> A3 | Y20: =VLOOKUP(X20,Sheet1!$B$2:$C$12,2,TRUE) -> 8 | Z20: =IFERROR(VLOOKUP($D20,'[3]Chi tiet'!$D$7:$L$397,8,0),0) -> A3 | AA20: =VLOOKUP(Z20,[4]Sheet1!$B$2:$C$12,2,TRUE) -> 8 | AB20: =AVERAGE(F20:AA20) -> 8.9090909 | AC20: =LEFT($AN20,4) -> 11A* | AD20: Xuất sắc | AE20: Xuất sắc | AF20: Xuất sắc | AJ20: Xuất sắc | AN20: =(COUNTIF($F20:$AA20,"A*")&"A*")&" + "&(COUNTIF($F20:$AA20,"B*")&"B*")&" + "&(COUNTIF($F20:$AA20,"C*")&"C*")&" + "&(COUNTIF($F20:$AA20,"D")&"D") -> 11A* + 0B* + 0C* + 0D
A21: 14 | B21: 09 | C21: Nguyễn Thị Vân | D21: 01002032 | E21: Phòng TC - HC - TH | F21: A | G21: 10 | H21: A | I21: 10 | J21: A | K21: 10 | L21: A | M21: 10 | N21: A | O21: 10 | P21: A | Q21: 10 | R21: A3 | S21: =VLOOKUP(R21,Sheet1!$B$2:$C$12,2,TRUE) -> 8 | T21: A3 | U21: =VLOOKUP(T21,Sheet1!$B$2:$C$12,2,TRUE) -> 8 | V21: =IFERROR(VLOOKUP($D21,'[1]Chi tiet'!$D$7:$L$389,8,0),0) -> A2 | W21: =VLOOKUP(V21,Sheet1!$B$2:$C$12,2,TRUE) -> 9 | X21: =IFERROR(VLOOKUP($D21,'[2]Gui chi Quynh'!D$7:K$393,7,0),0) -> A3 | Y21: =VLOOKUP(X21,Sheet1!$B$2:$C$12,2,TRUE) -> 8 | Z21: =IFERROR(VLOOKUP($D21,'[3]Chi tiet'!$D$7:$L$397,8,0),0) -> A2 | AA21: =VLOOKUP(Z21,[4]Sheet1!$B$2:$C$12,2,TRUE) -> 9 | AB21: =AVERAGE(F21:AA21) -> 9.2727273 | AC21: =LEFT($AN21,4) -> 11A* | AD21: Xuất sắc | AE21: Xuất sắc | AF21: Xuất sắc | AJ21: Xuất sắc | AN21: =(COUNTIF($F21:$AA21,"A*")&"A*")&" + "&(COUNTIF($F21:$AA21,"B*")&"B*")&" + "&(COUNTIF($F21:$AA21,"C*")&"C*")&" + "&(COUNTIF($F21:$AA21,"D")&"D") -> 11A* + 0B* + 0C* + 0D
A22: 15 | B22: 10 | C22: Huỳnh Thị Xuân Mai | D22: 01007006 | E22: Phòng TC - HC - TH | F22: A | G22: 10 | H22: A | I22: 10 | J22: A | K22: 10 | L22: A | M22: 10 | N22: A | O22: 10 | P22: A | Q22: 10 | R22: A3 | S22: =VLOOKUP(R22,Sheet1!$B$2:$C$12,2,TRUE) -> 8 | T22: A3 | U22: =VLOOKUP(T22,Sheet1!$B$2:$C$12,2,TRUE) -> 8 | V22: =IFERROR(VLOOKUP($D22,'[1]Chi tiet'!$D$7:$L$389,8,0),0) -> A3 | W22: =VLOOKUP(V22,Sheet1!$B$2:$C$12,2,TRUE) -> 8 | X22: =IFERROR(VLOOKUP($D22,'[2]Gui chi Quynh'!D$7:K$393,7,0),0) -> A3 | Y22: =VLOOKUP(X22,Sheet1!$B$2:$C$12,2,TRUE) -> 8 | Z22: =IFERROR(VLOOKUP($D22,'[3]Chi tiet'!$D$7:$L$397,8,0),0) -> A2 | AA22: =VLOOKUP(Z22,[4]Sheet1!$B$2:$C$12,2,TRUE) -> 9 | AB22: =AVERAGE(F22:AA22) -> 9.1818182 | AC22: =LEFT($AN22,4) -> 11A* | AD22: Xuất sắc | AE22: Xuất sắc | AF22: Xuất sắc | AJ22: Xuất sắc | AN22: =(COUNTIF($F22:$AA22,"A*")&"A*")&" + "&(COUNTIF($F22:$AA22,"B*")&"B*")&" + "&(COUNTIF($F22:$AA22,"C*")&"C*")&" + "&(COUNTIF($F22:$AA22,"D")&"D") -> 11A* + 0B* + 0C* + 0D
A23: 16 | B23: 11 | C23: Trần Thị Phương Oanh | D23: 01007007 | E23: Phòng TC - HC - TH | F23: A | G23: 10 | H23: A | I23: 10 | J23: A | K23: 10 | L23: A | M23: 10 | N23: A | O23: 10 | P23: A | Q23: 10 | R23: A3 | S23: =VLOOKUP(R23,Sheet1!$B$2:$C$12,2,TRUE) -> 8 | T23: A3 | U23: =VLOOKUP(T23,Sheet1!$B$2:$C$12,2,TRUE) -> 8 | V23: =IFERROR(VLOOKUP($D23,'[1]Chi tiet'!$D$7:$L$389,8,0),0) -> A3 | W23: =VLOOKUP(V23,Sheet1!$B$2:$C$12,2,TRUE) -> 8 | X23: =IFERROR(VLOOKUP($D23,'[2]Gui chi Quynh'!D$7:K$393,7,0),0) -> A3 | Y23: =VLOOKUP(X23,Sheet1!$B$2:$C$12,2,TRUE) -> 8 | Z23: =IFERROR(VLOOKUP($D23,'[3]Chi tiet'!$D$7:$L$397,8,0),0) -> A3 | AA23: =VLOOKUP(Z23,[4]Sheet1!$B$2:$C$12,2,TRUE) -> 8 | AB23: =AVERAGE(F23:AA23) -> 9.0909091 | AC23: =LEFT($AN23,4) -> 11A* | AD23: Xuất sắc | AE23: Xuất sắc | AF23: Xuất sắc | AJ23: Xuất sắc | AN23: =(COUNTIF($F23:$AA23,"A*")&"A*")&" + "&(COUNTIF($F23:$AA23,"B*")&"B*")&" + "&(COUNTIF($F23:$AA23,"C*")&"C*")&" + "&(COUNTIF($F23:$AA23,"D")&"D") -> 11A* + 0B* + 0C* + 0D
A24: 17 | B24: 12 | C24: Thân Thị Nhung | D24: 01007005 | E24: Phòng TC - HC - TH | F24: A | G24: 10 | H24: A | I24: 10 | J24: A | K24: 10 | L24: A | M24: 10 | N24: A | O24: 10 | P24: A | Q24: 10 | R24: A2 | S24: =VLOOKUP(R24,Sheet1!$B$2:$C$12,2,TRUE) -> 9 | T24: A2 | U24: =VLOOKUP(T24,Sheet1!$B$2:$C$12,2,TRUE) -> 9 | V24: =IFERROR(VLOOKUP($D24,'[1]Chi tiet'!$D$7:$L$389,8,0),0) -> A2 | W24: =VLOOKUP(V24,Sheet1!$B$2:$C$12,2,TRUE) -> 9 | X24: =IFERROR(VLOOKUP($D24,'[2]Gui chi Quynh'!D$7:K$393,7,0),0) -> A2 | Y24: =VLOOKUP(X24,Sheet1!$B$2:$C$12,2,TRUE) -> 9 | Z24: =IFERROR(VLOOKUP($D24,'[3]Chi tiet'!$D$7:$L$397,8,0),0) -> A2 | AA24: =VLOOKUP(Z24,[4]Sheet1!$B$2:$C$12,2,TRUE) -> 9 | AB24: =AVERAGE(F24:AA24) -> 9.5454545 | AC24: =LEFT($AN24,4) -> 11A* | AD24: Xuất sắc | AE24: Xuất sắc | AF24: Xuất sắc | AJ24: Xuất sắc | AN24: =(COUNTIF($F24:$AA24,"A*")&"A*")&" + "&(COUNTIF($F24:$AA24,"B*")&"B*")&" + "&(COUNTIF($F24:$AA24,"C*")&"C*")&" + "&(COUNTIF($F24:$AA24,"D")&"D") -> 11A* + 0B* + 0C* + 0D
A25: 18 | B25: 13 | C25: Phạm Hữu Tấn | D25: 01002023 | E25: Phòng TC - HC - TH | F25: A | G25: 10 | H25: A | I25: 10 | J25: A | K25: 10 | L25: A | M25: 10 | N25: A | O25: 10 | P25: A | Q25: 10 | R25: A3 | S25: =VLOOKUP(R25,Sheet1!$B$2:$C$12,2,TRUE) -> 8 | T25: A3 | U25: =VLOOKUP(T25,Sheet1!$B$2:$C$12,2,TRUE) -> 8 | V25: =IFERROR(VLOOKUP($D25,'[1]Chi tiet'!$D$7:$L$389,8,0),0) -> A3 | W25: =VLOOKUP(V25,Sheet1!$B$2:$C$12,2,TRUE) -> 8 | X25: =IFERROR(VLOOKUP($D25,'[2]Gui chi Quynh'!D$7:K$393,7,0),0) -> A2 | Y25: =VLOOKUP(X25,Sheet1!$B$2:$C$12,2,TRUE) -> 9 | Z25: =IFERROR(VLOOKUP($D25,'[3]Chi tiet'!$D$7:$L$397,8,0),0) -> A3 | AA25: =VLOOKUP(Z25,[4]Sheet1!$B$2:$C$12,2,TRUE) -> 8 | AB25: =AVERAGE(F25:AA25) -> 9.1818182 | AC25: =LEFT($AN25,4) -> 11A* | AD25: Xuất sắc | AE25: Xuất sắc | AF25: Xuất sắc | AJ25: Xuất sắc | AM25: NLĐ | AN25: =(COUNTIF($F25:$AA25,"A*")&"A*")&" + "&(COUNTIF($F25:$AA25,"B*")&"B*")&" + "&(COUNTIF($F25:$AA25,"C*")&"C*")&" + "&(COUNTIF($F25:$AA25,"D")&"D") -> 11A* + 0B* + 0C* + 0D
A26: 19 | B26: 14 | C26: Nguyễn Hữu Xuân Vũ | D26: 01002010 | E26: Phòng TC - HC - TH | F26: A | G26: 10 | H26: A | I26: 10 | J26: A | K26: 10 | L26: A | M26: 10 | N26: A | O26: 10 | P26: A | Q26: 10 | R26: A4 | S26: =VLOOKUP(R26,Sheet1!$B$2:$C$12,2,TRUE) -> 7 | T26: A4 | U26: =VLOOKUP(T26,Sheet1!$B$2:$C$12,2,TRUE) -> 7 | V26: =IFERROR(VLOOKUP($D26,'[1]Chi tiet'!$D$7:$L$389,8,0),0) -> A3 | W26: =VLOOKUP(V26,Sheet1!$B$2:$C$12,2,TRUE) -> 8 | X26: =IFERROR(VLOOKUP($D26,'[2]Gui chi Quynh'!D$7:K$393,7,0),0) -> A2 | Y26: =VLOOKUP(X26,Sheet1!$B$2:$C$12,2,TRUE) -> 9 | Z26: =IFERROR(VLOOKUP($D26,'[3]Chi tiet'!$D$7:$L$397,8,0),0) -> A3 | AA26: =VLOOKUP(Z26,[4]Sheet1!$B$2:$C$12,2,TRUE) -> 8 | AB26: =AVERAGE(F26:AA26) -> 9 | AC26: =LEFT($AN26,4) -> 11A* | AD26: Xuất sắc | AE26: Xuất sắc | AF26: Xuất sắc | AJ26: Xuất sắc | AM26: NLĐ | AN26: =(COUNTIF($F26:$AA26,"A*")&"A*")&" + "&(COUNTIF($F26:$AA26,"B*")&"B*")&" + "&(COUNTIF($F26:$AA26,"C*")&"C*")&" + "&(COUNTIF($F26:$AA26,"D")&"D") -> 11A* + 0B* + 0C* + 0D
A27: 20 | B27: 15 | C27: Lê Hồng Phúc | D27: 01002012 | E27: Phòng TC - HC - TH | F27: A | G27: 10 | H27: A | I27: 10 | J27: A | K27: 10 | L27: A | M27: 10 | N27: A | O27: 10 | P27: A | Q27: 10 | R27: A4 | S27: =VLOOKUP(R27,Sheet1!$B$2:$C$12,2,TRUE) -> 7 | T27: A4 | U27: =VLOOKUP(T27,Sheet1!$B$2:$C$12,2,TRUE) -> 7 | V27: =IFERROR(VLOOKUP($D27,'[1]Chi tiet'!$D$7:$L$389,8,0),0) -> A3 | W27: =VLOOKUP(V27,Sheet1!$B$2:$C$12,2,TRUE) -> 8 | X27: =IFERROR(VLOOKUP($D27,'[2]Gui chi Quynh'!D$7:K$393,7,0),0) -> A3 | Y27: =VLOOKUP(X27,Sheet1!$B$2:$C$12,2,TRUE) -> 8 | Z27: =IFERROR(VLOOKUP($D27,'[3]Chi tiet'!$D$7:$L$397,8,0),0) -> A3 | AA27: =VLOOKUP(Z27,[4]Sheet1!$B$2:$C$12,2,TRUE) -> 8 | AB27: =AVERAGE(F27:AA27) -> 8.9090909 | AC27: =LEFT($AN27,4) -> 11A* | AD27: Xuất sắc | AE27: Xuất sắc | AF27: Xuất sắc | AJ27: Xuất sắc | AM27: NLĐ | AN27: =(COUNTIF($F27:$AA27,"A*")&"A*")&" + "&(COUNTIF($F27:$AA27,"B*")&"B*")&" + "&(COUNTIF($F27:$AA27,"C*")&"C*")&" + "&(COUNTIF($F27:$AA27,"D")&"D") -> 11A* + 0B* + 0C* + 0D
A28: 21 | B28: 16 | C28: Phạm Hữu Thành Phú | D28: 01002028 | E28: Phòng TC - HC - TH | F28: A | G28: 10 | H28: A | I28: 10 | J28: A | K28: 10 | L28: A | M28: 10 | N28: A | O28: 10 | P28: A | Q28: 10 | R28: A4 | S28: =VLOOKUP(R28,Sheet1!$B$2:$C$12,2,TRUE) -> 7 | T28: A3 | U28: =VLOOKUP(T28,Sheet1!$B$2:$C$12,2,TRUE) -> 8 | V28: =IFERROR(VLOOKUP($D28,'[1]Chi tiet'!$D$7:$L$389,8,0),0) -> A3 | W28: =VLOOKUP(V28,Sheet1!$B$2:$C$12,2,TRUE) -> 8 | X28: =IFERROR(VLOOKUP($D28,'[2]Gui chi Quynh'!D$7:K$393,7,0),0) -> A3 | Y28: =VLOOKUP(X28,Sheet1!$B$2:$C$12,2,TRUE) -> 8 | Z28: =IFERROR(VLOOKUP($D28,'[3]Chi tiet'!$D$7:$L$397,8,0),0) -> A3 | AA28: =VLOOKUP(Z28,[4]Sheet1!$B$2:$C$12,2,TRUE) -> 8 | AB28: =AVERAGE(F28:AA28) -> 9 | AC28: =LEFT($AN28,4) -> 11A* | AD28: Xuất sắc | AE28: Xuất sắc | AF28: Xuất sắc | AJ28: Xuất sắc | AM28: NLĐ | AN28: =(COUNTIF($F28:$AA28,"A*")&"A*")&" + "&(COUNTIF($F28:$AA28,"B*")&"B*")&" + "&(COUNTIF($F28:$AA28,"C*")&"C*")&" + "&(COUNTIF($F28:$AA28,"D")&"D") -> 11A* + 0B* + 0C* + 0D
A29: 22 | B29: 17 | C29: Huỳnh Thanh Nhàn | D29: 01002027 | E29: Phòng TC - HC - TH | F29: A | G29: 10 | H29: A | I29: 10 | J29: A | K29: 10 | L29: A | M29: 10 | N29: A | O29: 10 | P29: A | Q29: 10 | R29: A3 | S29: =VLOOKUP(R29,Sheet1!$B$2:$C$12,2,TRUE) -> 8 | T29: A3 | U29: =VLOOKUP(T29,Sheet1!$B$2:$C$12,2,TRUE) -> 8 | V29: =IFERROR(VLOOKUP($D29,'[1]Chi tiet'!$D$7:$L$389,8,0),0) -> A2 | W29: =VLOOKUP(V29,Sheet1!$B$2:$C$12,2,TRUE) -> 9 | X29: =IFERROR(VLOOKUP($D29,'[2]Gui chi Quynh'!D$7:K$393,7,0),0) -> A2 | Y29: =VLOOKUP(X29,Sheet1!$B$2:$C$12,2,TRUE) -> 9 | Z29: =IFERROR(VLOOKUP($D29,'[3]Chi tiet'!$D$7:$L$397,8,0),0) -> A3 | AA29: =VLOOKUP(Z29,[4]Sheet1!$B$2:$C$12,2,TRUE) -> 8 | AB29: =AVERAGE(F29:AA29) -> 9.2727273 | AC29: =LEFT($AN29,4) -> 11A* | AD29: Xuất sắc | AE29: Xuất sắc | AF29: Xuất sắc | AJ29: Xuất sắc | AM29: NLĐ | AN29: =(COUNTIF($F29:$AA29,"A*")&"A*")&" + "&(COUNTIF($F29:$AA29,"B*")&"B*")&" + "&(COUNTIF($F29:$AA29,"C*")&"C*")&" + "&(COUNTIF($F29:$AA29,"D")&"D") -> 11A* + 0B* + 0C* + 0D
A30: 23 | B30: 18 | C30: Đồng Anh Tuấn | D30: 01002013 | E30: Phòng TC - HC - TH | F30: A | G30: 10 | H30: A | I30: 10 | J30: A | K30: 10 | L30: A | M30: 10 | N30: A | O30: 10 | P30: A | Q30: 10 | R30: A4 | S30: =VLOOKUP(R30,Sheet1!$B$2:$C$12,2,TRUE) -> 7 | T30: A4 | U30: =VLOOKUP(T30,Sheet1!$B$2:$C$12,2,TRUE) -> 7 | V30: =IFERROR(VLOOKUP($D30,'[1]Chi tiet'!$D$7:$L$389,8,0),0) -> A3 | W30: =VLOOKUP(V30,Sheet1!$B$2:$C$12,2,TRUE) -> 8 | X30: =IFERROR(VLOOKUP($D30,'[2]Gui chi Quynh'!D$7:K$393,7,0),0) -> A3 | Y30: =VLOOKUP(X30,Sheet1!$B$2:$C$12,2,TRUE) -> 8 | Z30: =IFERROR(VLOOKUP($D30,'[3]Chi tiet'!$D$7:$L$397,8,0),0) -> A3 | AA30: =VLOOKUP(Z30,[4]Sheet1!$B$2:$C$12,2,TRUE) -> 8 | AB30: =AVERAGE(F30:AA30) -> 8.9090909 | AC30: =LEFT($AN30,4) -> 11A* | AD30: Xuất sắc | AE30: Xuất sắc | AF30: Xuất sắc | AJ30: Xuất sắc | AM30: NLĐ | AN30: =(COUNTIF($F30:$AA30,"A*")&"A*")&" + "&(COUNTIF($F30:$AA30,"B*")&"B*")&" + "&(COUNTIF($F30:$AA30,"C*")&"C*")&" + "&(COUNTIF($F30:$AA30,"D")&"D") -> 11A* + 0B* + 0C* + 0D
A31: 24 | B31: 19 | C31: Lê Hồng Sơn | D31: 01002031 | E31: Phòng TC - HC - TH | F31: A | G31: 10 | H31: A | I31: 10 | J31: A | K31: 10 | L31: A | M31: 10 | N31: A | O31: 10 | P31: A | Q31: 10 | R31: A4 | S31: =VLOOKUP(R31,Sheet1!$B$2:$C$12,2,TRUE) -> 7 | T31: A4 | U31: =VLOOKUP(T31,Sheet1!$B$2:$C$12,2,TRUE) -> 7 | V31: =IFERROR(VLOOKUP($D31,'[1]Chi tiet'!$D$7:$L$389,8,0),0) -> A4 | W31: =VLOOKUP(V31,Sheet1!$B$2:$C$12,2,TRUE) -> 7 | X31: =IFERROR(VLOOKUP($D31,'[2]Gui chi Quynh'!D$7:K$393,7,0),0) -> A3 | Y31: =VLOOKUP(X31,Sheet1!$B$2:$C$12,2,TRUE) -> 8 | Z31: =IFERROR(VLOOKUP($D31,'[3]Chi tiet'!$D$7:$L$397,8,0),0) -> A3 | AA31: =VLOOKUP(Z31,[4]Sheet1!$B$2:$C$12,2,TRUE) -> 8 | AB31: =AVERAGE(F31:AA31) -> 8.8181818 | AC31: =LEFT($AN31,4) -> 11A* | AD31: Xuất sắc | AE31: Xuất sắc | AF31: Xuất sắc | AJ31: Xuất sắc | AM31: NLĐ | AN31: =(COUNTIF($F31:$AA31,"A*")&"A*")&" + "&(COUNTIF($F31:$AA31,"B*")&"B*")&" + "&(COUNTIF($F31:$AA31,"C*")&"C*")&" + "&(COUNTIF($F31:$AA31,"D")&"D") -> 11A* + 0B* + 0C* + 0D
A32: 25 | B32: 20 | C32: Nguyễn Thanh Hiền | D32: 01002033 | E32: Phòng TC - HC - TH | F32: A | G32: 10 | H32: A | I32: 10 | J32: A | K32: 10 | L32: A | M32: 10 | N32: A | O32: 10 | P32: A | Q32: 10 | R32: A3 | S32: =VLOOKUP(R32,Sheet1!$B$2:$C$12,2,TRUE) -> 8 | T32: A4 | U32: =VLOOKUP(T32,Sheet1!$B$2:$C$12,2,TRUE) -> 7 | V32: =IFERROR(VLOOKUP($D32,'[1]Chi tiet'!$D$7:$L$389,8,0),0) -> A4 | W32: =VLOOKUP(V32,Sheet1!$B$2:$C$12,2,TRUE) -> 7 | X32: =IFERROR(VLOOKUP($D32,'[2]Gui chi Quynh'!D$7:K$393,7,0),0) -> A3 | Y32: =VLOOKUP(X32,Sheet1!$B$2:$C$12,2,TRUE) -> 8 | Z32: =IFERROR(VLOOKUP($D32,'[3]Chi tiet'!$D$7:$L$397,8,0),0) -> A3 | AA32: =VLOOKUP(Z32,[4]Sheet1!$B$2:$C$12,2,TRUE) -> 8 | AB32: =AVERAGE(F32:AA32) -> 8.9090909 | AC32: =LEFT($AN32,4) -> 11A* | AD32: Xuất sắc | AE32: Xuất sắc | AF32: Xuất sắc | AJ32: Xuất sắc | AM32: NLĐ | AN32: =(COUNTIF($F32:$AA32,"A*")&"A*")&" + "&(COUNTIF($F32:$AA32,"B*")&"B*")&" + "&(COUNTIF($F32:$AA32,"C*")&"C*")&" + "&(COUNTIF($F32:$AA32,"D")&"D") -> 11A* + 0B* + 0C* + 0D
A33: 26 | B33: 21 | C33: Trần Thanh Phương | D33: 01002034 | E33: Phòng TC - HC - TH | F33: A | G33: 10 | H33: A | I33: 10 | J33: A | K33: 10 | L33: A | M33: 10 | N33: A | O33: 10 | P33: A | Q33: 10 | R33: A4 | S33: =VLOOKUP(R33,Sheet1!$B$2:$C$12,2,TRUE) -> 7 | T33: A3 | U33: =VLOOKUP(T33,Sheet1!$B$2:$C$12,2,TRUE) -> 8 | V33: =IFERROR(VLOOKUP($D33,'[1]Chi tiet'!$D$7:$L$389,8,0),0) -> A4 | W33: =VLOOKUP(V33,Sheet1!$B$2:$C$12,2,TRUE) -> 7 | X33: =IFERROR(VLOOKUP($D33,'[2]Gui chi Quynh'!D$7:K$393,7,0),0) -> A3 | Y33: =VLOOKUP(X33,Sheet1!$B$2:$C$12,2,TRUE) -> 8 | Z33: =IFERROR(VLOOKUP($D33,'[3]Chi tiet'!$D$7:$L$397,8,0),0) -> A3 | AA33: =VLOOKUP(Z33,[4]Sheet1!$B$2:$C$12,2,TRUE) -> 8 | AB33: =AVERAGE(F33:AA33) -> 8.9090909 | AC33: =LEFT($AN33,4) -> 11A* | AD33: Xuất sắc | AE33: Xuất sắc | AF33: Xuất sắc | AJ33: Xuất sắc | AM33: NLĐ | AN33: =(COUNTIF($F33:$AA33,"A*")&"A*")&" + "&(COUNTIF($F33:$AA33,"B*")&"B*")&" + "&(COUNTIF($F33:$AA33,"C*")&"C*")&" + "&(COUNTIF($F33:$AA33,"D")&"D") -> 11A* + 0B* + 0C* + 0D
A34: 27 | B34: 22 | C34: Dương Văn Tâm | D34: 01002035 | E34: Phòng TC - HC - TH | F34: A | G34: 10 | H34: A | I34: 10 | J34: A | K34: 10 | L34: A | M34: 10 | N34: A | O34: 10 | P34: A | Q34: 10 | R34: A3 | S34: =VLOOKUP(R34,Sheet1!$B$2:$C$12,2,TRUE) -> 8 | T34: A4 | U34: =VLOOKUP(T34,Sheet1!$B$2:$C$12,2,TRUE) -> 7 | V34: =IFERROR(VLOOKUP($D34,'[1]Chi tiet'!$D$7:$L$389,8,0),0) -> A2 | W34: =VLOOKUP(V34,Sheet1!$B$2:$C$12,2,TRUE) -> 9 | X34: =IFERROR(VLOOKUP($D34,'[2]Gui chi Quynh'!D$7:K$393,7,0),0) -> A2 | Y34: =VLOOKUP(X34,Sheet1!$B$2:$C$12,2,TRUE) -> 9 | Z34: =IFERROR(VLOOKUP($D34,'[3]Chi tiet'!$D$7:$L$397,8,0),0) -> A3 | AA34: =VLOOKUP(Z34,[4]Sheet1!$B$2:$C$12,2,TRUE) -> 8 | AB34: =AVERAGE(F34:AA34) -> 9.1818182 | AC34: =LEFT($AN34,4) -> 11A* | AD34: Xuất sắc | AE34: Xuất sắc | AF34: Xuất sắc | AJ34: Xuất sắc | AM34: NLĐ | AN34: =(COUNTIF($F34:$AA34,"A*")&"A*")&" + "&(COUNTIF($F34:$AA34,"B*")&"B*")&" + "&(COUNTIF($F34:$AA34,"C*")&"C*")&" + "&(COUNTIF($F34:$AA34,"D")&"D") -> 11A* + 0B* + 0C* + 0D
A35: 28 | B35: 23 | C35: Huỳnh Ngọc Liên | D35: 01002036 | E35: Phòng TC - HC - TH | F35: A | G35: 10 | H35: A | I35: 10 | J35: A | K35: 10 | L35: A | M35: 10 | N35: A | O35: 10 | P35: A | Q35: 10 | R35: A4 | S35: =VLOOKUP(R35,Sheet1!$B$2:$C$12,2,TRUE) -> 7 | T35: A3 | U35: =VLOOKUP(T35,Sheet1!$B$2:$C$12,2,TRUE) -> 8 | V35: =IFERROR(VLOOKUP($D35,'[1]Chi tiet'!$D$7:$L$389,8,0),0) -> A3 | W35: =VLOOKUP(V35,Sheet1!$B$2:$C$12,2,TRUE) -> 8 | X35: =IFERROR(VLOOKUP($D35,'[2]Gui chi Quynh'!D$7:K$393,7,0),0) -> A2 | Y35: =VLOOKUP(X35,Sheet1!$B$2:$C$12,2,TRUE) -> 9 | Z35: =IFERROR(VLOOKUP($D35,'[3]Chi tiet'!$D$7:$L$397,8,0),0) -> A3 | AA35: =VLOOKUP(Z35,[4]Sheet1!$B$2:$C$12,2,TRUE) -> 8 | AB35: =AVERAGE(F35:AA35) -> 9.0909091 | AC35: =LEFT($AN35,4) -> 11A* | AD35: Xuất sắc | AE35: Xuất sắc | AF35: Xuất sắc | AJ35: Xuất sắc | AM35: NLĐ | AN35: =(COUNTIF($F35:$AA35,"A*")&"A*")&" + "&(COUNTIF($F35:$AA35,"B*")&"B*")&" + "&(COUNTIF($F35:$AA35,"C*")&"C*")&" + "&(COUNTIF($F35:$AA35,"D")&"D") -> 11A* + 0B* + 0C* + 0D
A36: 29 | B36: 01 | C36: Nguyễn Kính | D36: 01002024 | E36: Phòng Kế hoạch - TC | F36: A | G36: 10 | H36: A | I36: 10 | J36: A | K36: 10 | L36: A | M36: 10 | N36: A | O36: 10 | P36: A | Q36: 10 | R36: A1 | S36: =VLOOKUP(R36,Sheet1!$B$2:$C$12,2,TRUE) -> 10 | T36: A1 | U36: =VLOOKUP(T36,Sheet1!$B$2:$C$12,2,TRUE) -> 10 | V36: =IFERROR(VLOOKUP($D36,'[1]Chi tiet'!$D$7:$L$389,8,0),0) -> A1 | W36: =VLOOKUP(V36,Sheet1!$B$2:$C$12,2,TRUE) -> 10 | X36: =IFERROR(VLOOKUP($D36,'[2]Gui chi Quynh'!D$7:K$393,7,0),0) -> A1 | Y36: =VLOOKUP(X36,Sheet1!$B$2:$C$12,2,TRUE) -> 10 | Z36: =IFERROR(VLOOKUP($D36,'[3]Chi tiet'!$D$7:$L$397,8,0),0) -> A1 | AA36: =VLOOKUP(Z36,[4]Sheet1!$B$2:$C$12,2,TRUE) -> 10 | AB36: =AVERAGE(F36:AA36) -> 10 | AC36: =LEFT($AN36,4) -> 11A* | AD36: Xuất sắc | AE36: Xuất sắc | AF36: Xuất sắc | AH36: Xuất sắc | AJ36: Xuất sắc | AN36: =(COUNTIF($F36:$AA36,"A*")&"A*")&" + "&(COUNTIF($F36:$AA36,"B*")&"B*")&" + "&(COUNTIF($F36:$AA36,"C*")&"C*")&" + "&(COUNTIF($F36:$AA36,"D")&"D") -> 11A* + 0B* + 0C* + 0D
A37: 30 | B37: 02 | C37: Nguyễn Thị Kim Dung | D37: 01003002 | E37: Phòng Kế hoạch - TC | F37: A | G37: 10 | H37: A | I37: 10 | J37: A | K37: 10 | L37: A | M37: 10 | N37: A | O37: 10 | P37: A | Q37: 10 | R37: A2 | S37: =VLOOKUP(R37,Sheet1!$B$2:$C$12,2,TRUE) -> 9 | T37: A2 | U37: =VLOOKUP(T37,Sheet1!$B$2:$C$12,2,TRUE) -> 9 | V37: =IFERROR(VLOOKUP($D37,'[1]Chi tiet'!$D$7:$L$389,8,0),0) -> A2 | W37: =VLOOKUP(V37,Sheet1!$B$2:$C$12,2,TRUE) -> 9 | X37: =IFERROR(VLOOKUP($D37,'[2]Gui chi Quynh'!D$7:K$393,7,0),0) -> A2 | Y37: =VLOOKUP(X37,Sheet1!$B$2:$C$12,2,TRUE) -> 9 | Z37: =IFERROR(VLOOKUP($D37,'[3]Chi tiet'!$D$7:$L$397,8,0),0) -> A2 | AA37: =VLOOKUP(Z37,[4]Sheet1!$B$2:$C$12,2,TRUE) -> 9 | AB37: =AVERAGE(F37:AA37) -> 9.5454545 | AC37: =LEFT($AN37,4) -> 11A* | AD37: Xuất sắc | AE37: Xuất sắc | AF37: Xuất sắc | AH37: Xuất sắc | AJ37: Xuất sắc | AN37: =(COUNTIF($F37:$AA37,"A*")&"A*")&" + "&(COUNTIF($F37:$AA37,"B*")&"B*")&" + "&(COUNTIF($F37:$AA37,"C*")&"C*")&" + "&(COUNTIF($F37:$AA37,"D")&"D") -> 11A* + 0B* + 0C* + 0D
A38: 31 | B38: 03 | C38: Hồng Mộng Tuyết Dung | D38: 01003009 | E38: Phòng Kế hoạch - TC | F38: A | G38: 10 | H38: A | I38: 10 | J38: A | K38: 10 | L38: A | M38: 10 | N38: A | O38: 10 | P38: A | Q38: 10 | R38: A2 | S38: =VLOOKUP(R38,Sheet1!$B$2:$C$12,2,TRUE) -> 9 | T38: A2 | U38: =VLOOKUP(T38,Sheet1!$B$2:$C$12,2,TRUE) -> 9 | V38: =IFERROR(VLOOKUP($D38,'[1]Chi tiet'!$D$7:$L$389,8,0),0) -> A2 | W38: =VLOOKUP(V38,Sheet1!$B$2:$C$12,2,TRUE) -> 9 | X38: =IFERROR(VLOOKUP($D38,'[2]Gui chi Quynh'!D$7:K$393,7,0),0) -> A2 | Y38: =VLOOKUP(X38,Sheet1!$B$2:$C$12,2,TRUE) -> 9 | Z38: =IFERROR(VLOOKUP($D38,'[3]Chi tiet'!$D$7:$L$397,8,0),0) -> A2 | AA38: =VLOOKUP(Z38,[4]Sheet1!$B$2:$C$12,2,TRUE) -> 9 | AB38: =AVERAGE(F38:AA38) -> 9.5454545 | AC38: =LEFT($AN38,4) -> 11A* | AD38: Xuất sắc | AE38: Xuất sắc | AF38: Xuất sắc | AJ38: Xuất sắc | AN38: =(COUNTIF($F38:$AA38,"A*")&"A*")&" + "&(COUNTIF($F38:$AA38,"B*")&"B*")&" + "&(COUNTIF($F38:$AA38,"C*")&"C*")&" + "&(COUNTIF($F38:$AA38,"D")&"D") -> 11A* + 0B* + 0C* + 0D
A39: 32 | B39: 04 | C39: Trần Thị Minh Thoa | D39: 01003005 | E39: Phòng Kế hoạch - TC | F39: A | G39: 10 | H39: A | I39: 10 | J39: A | K39: 10 | L39: A | M39: 10 | N39: A | O39: 10 | P39: A | Q39: 10 | R39: A2 | S39: =VLOOKUP(R39,Sheet1!$B$2:$C$12,2,TRUE) -> 9 | T39: A2 | U39: =VLOOKUP(T39,Sheet1!$B$2:$C$12,2,TRUE) -> 9 | V39: =IFERROR(VLOOKUP($D39,'[1]Chi tiet'!$D$7:$L$389,8,0),0) -> A2 | W39: =VLOOKUP(V39,Sheet1!$B$2:$C$12,2,TRUE) -> 9 | X39: =IFERROR(VLOOKUP($D39,'[2]Gui chi Quynh'!D$7:K$393,7,0),0) -> A2 | Y39: =VLOOKUP(X39,Sheet1!$B$2:$C$12,2,TRUE) -> 9 | Z39: =IFERROR(VLOOKUP($D39,'[3]Chi tiet'!$D$7:$L$397,8,0),0) -> A2 | AA39: =VLOOKUP(Z39,[4]Sheet1!$B$2:$C$12,2,TRUE) -> 9 | AB39: =AVERAGE(F39:AA39) -> 9.5454545 | AC39: =LEFT($AN39,4) -> 11A* | AD39: Xuất sắc | AE39: Xuất sắc | AF39: Xuất sắc | AJ39: Xuất sắc | AN39: =(COUNTIF($F39:$AA39,"A*")&"A*")&" + "&(COUNTIF($F39:$AA39,"B*")&"B*")&" + "&(COUNTIF($F39:$AA39,"C*")&"C*")&" + "&(COUNTIF($F39:$AA39,"D")&"D") -> 11A* + 0B* + 0C* + 0D
A40: 33 | B40: 05 | C40: Nguyễn Thị Hồng Thắm | D40: 01003007 | E40: Phòng Kế hoạch - TC | F40: A | G40: 10 | H40: A | I40: 10 | J40: A | K40: 10 | L40: A | M40: 10 | N40: A | O40: 10 | P40: A DN | R40: A DN | T40: A DN | V40: =IFERROR(VLOOKUP($D40,'[1]Chi tiet'!$D$7:$L$389,8,0),0) -> A DN | X40: =IFERROR(VLOOKUP($D40,'[2]Gui chi Quynh'!D$7:K$393,7,0),0) -> A DN | Z40: =IFERROR(VLOOKUP($D40,'[3]Chi tiet'!$D$7:$L$397,8,0),0) -> A2 | AA40: =VLOOKUP(Z40,[4]Sheet1!$B$2:$C$12,2,TRUE) -> 9 | AB40: =AVERAGE(F40:AA40) -> 9.8333333 | AC40: =LEFT($AN40,4) -> 11A* | AD40: Xuất sắc | AE40: Xuất sắc | AF40: Xuất sắc | AJ40: Xuất sắc | AL40: Nghỉ hộ sản 05 tháng, từ ngày 01/12/2020 - 01/5/2021, đánh giá 07 tháng làm việc thực tế | AN40: =(COUNTIF($F40:$AA40,"A*")&"A*")&" + "&(COUNTIF($F40:$AA40,"B*")&"B*")&" + "&(COUNTIF($F40:$AA40,"C*")&"C*")&" + "&(COUNTIF($F40:$AA40,"D")&"D") -> 11A* + 0B* + 0C* + 0D
A41: 34 | B41: 06 | C41: Võ Thị Lệ Trân | D41: 01023004 | E41: Phòng Kế hoạch - TC | F41: A | G41: 10 | H41: A | I41: 10 | J41: A | K41: 10 | L41: A | M41: 10 | N41: A | O41: 10 | P41: A | Q41: 10 | R41: A2 | S41: =VLOOKUP(R41,Sheet1!$B$2:$C$12,2,TRUE) -> 9 | T41: A2 | U41: =VLOOKUP(T41,Sheet1!$B$2:$C$12,2,TRUE) -> 9 | V41: =IFERROR(VLOOKUP($D41,'[1]Chi tiet'!$D$7:$L$389,8,0),0) -> A2 | W41: =VLOOKUP(V41,Sheet1!$B$2:$C$12,2,TRUE) -> 9 | X41: =IFERROR(VLOOKUP($D41,'[2]Gui chi Quynh'!D$7:K$393,7,0),0) -> A2 | Y41: =VLOOKUP(X41,Sheet1!$B$2:$C$12,2,TRUE) -> 9 | Z41: =IFERROR(VLOOKUP($D41,'[3]Chi tiet'!$D$7:$L$397,8,0),0) -> A2 | AA41: =VLOOKUP(Z41,[4]Sheet1!$B$2:$C$12,2,TRUE) -> 9 | AB41: =AVERAGE(F41:AA41) -> 9.5454545 | AC41: =LEFT($AN41,4) -> 11A* | AD41: Xuất sắc | AE41: Xuất sắc | AF41: Xuất sắc | AJ41: Xuất sắc | AN41: =(COUNTIF($F41:$AA41,"A*")&"A*")&" + "&(COUNTIF($F41:$AA41,"B*")&"B*")&" + "&(COUNTIF($F41:$AA41,"C*")&"C*")&" + "&(COUNTIF($F41:$AA41,"D")&"D") -> 11A* + 0B* + 0C* + 0D
...

Sheet Sheet1
B2: A1 | C2: 10
B3: A2 | C3: 9
B4: A3 | C4: 8
B5: A4 | C5: 7
B6: A DN | C6: 7
B7: B1 | C7: 6
B8: B2 | C8: 5
B9: C1 | C9: 4
B10: C2 | C10: 3
B11: D | C11: 1
B12: E | C12: 0

Sheet TY LE %
A1: KẾT QUẢ ĐÁNH GIÁ, XẾP LOẠI VC,NLĐ NĂM HỌC 2020-2021
A3: Stt | B3: Tên đơn vị | C3: Tổng số CB-GV-NV | D3: Tổng số CB-GV-NV hực hiện đánh giá | E3: Hoàn thành xuất sắc nhiệm vụ | G3: Hoàn thành tốt nhiệm vụ | I3: Hoàn thành nhiệm vụ | K3: Không hoàn thành nhiệm vụ | M3: Không đánh giá | N3: Xin ý kiến HĐ
E4: Số lượng | F4: Tỷ lệ | G4: Số lượng | H4: Tỷ lệ | I4: Số lượng | J4: Tỷ lệ | K4: Số lượng | L4: Tỷ lệ
A5: 01 | B5: Ban Giám hiệu | C5: =E5+G5+I5+K5+M5+N5 -> 4 | D5: 4 | E5: 4 | F5: =(E5/C5) -> 1
A6: 02 | B6: Phòng Tổ chức - Hành chính - Tổng hợp | C6: =SUM($C7:$C8) -> 26 | D6: =SUM($D7:$D8) -> 25 | E6: =SUM($E7:$E8) -> 24 | F6: =E6/$D6 -> 0.96 | G6: =SUM(G7:G8) -> 1 | H6: =G6/$D6 -> 0.04 | M6: 1
A7: a | B7: Viên chức | C7: =E7+G7+I7+K7+M7+N7 -> 13 | D7: =E7+G7+I7+K7 -> 13 | E7: 13 | F7: =(E7/C7) -> 1
A8: b | B8: Hợp đồng trường | C8: =E8+G8+I8+K8+M8+N8 -> 13 | D8: =E8+G8+I8+K8 -> 12 | E8: 11 | F8: =(E8/C8) -> 0.84615385 | G8: 1 | H8: =(G8/C8) -> 0.076923077 | M8: 1
A9: 03 | B9: Phòng TT Giáo dục - Công tác SV | C9: =SUM($C10:$C11) -> 15 | D9: =SUM($D10:$D11) -> 15 | E9: =SUM($E10:$E11) -> 15 | F9: =E9/$D9 -> 1
A10: a | B10: Viên chức + HĐ Sở | C10: =E10+G10+I10+K10+M10+N10 -> 10 | D10: =E10+G10+I10+K10 -> 10 | E10: 10 | F10: =(E10/C10) -> 1
A11: b | B11: Hợp đồng trường | C11: =E11+G11+I11+K11+M11+N11 -> 5 | D11: =E11+G11+I11+K11 -> 5 | E11: 5 | F11: =(E11/C11) -> 1
A12: 04 | B12: Phòng Khảo thí và Đảm bảo chất lượng | C12: =SUM($C13:$C14) -> 7 | D12: =SUM($D13:$D14) -> 7 | E12: =SUM($E13:$E14) -> 7 | F12: =E12/$D12 -> 1
A13: a | B13: Viên chức | C13: =E13+G13+I13+K13+M13+N13 -> 6 | D13: =E13+G13+I13+K13 -> 6 | E13: 6 | F13: =(E13/C13) -> 1
A14: b | B14: Hợp đồng trường | C14: =E14+G14+I14+K14+M14+N14 -> 1 | D14: =E14+G14+I14+K14 -> 1 | E14: 1 | F14: =(E14/C14) -> 1
A15: 05 | B15: Phòng Kế hoạch - Tài chính | C15: =SUM($C16:$C17) -> 9 | D15: =SUM($D16:$D17) -> 8 | E15: =SUM($E16:$E17) -> 8 | F15: =E15/$D15 -> 1 | M15: 1
A16: a | B16: Viên chức | C16: =E16+G16+I16+K16+M16+N16 -> 6 | D16: =E16+G16+I16+K16 -> 6 | E16: 6 | F16: =(E16/C16) -> 1
A17: b | B17: Hợp đồng trường | C17: =E17+G17+I17+K17+M17+N17 -> 3 | D17: =E17+G17+I17+K17 -> 2 | E17: 2 | F17: =(E17/C17) -> 0.66666667 | M17: 1
A18: 06 | B18: Phòng Quản trị - Dịch vụ | C18: =SUM($C19:$C20) -> 36 | D18: =SUM($D19:$D20) -> 33 | E18: =SUM($E19:$E20) -> 29 | F18: =E18/$D18 -> 0.87878788 | G18: =SUM(G19:G20) -> 4 | H18: =G18/$D18 -> 0.12121212 | M18: 3
A19: a | B19: Viên chức | C19: =E19+G19+I19+K19+M19+N19 -> 16 | D19: =E19+G19+I19+K19 -> 16 | E19: 14 | F19: =(E19/C19) -> 0.875 | G19: 2 | H19: =(G19/C19) -> 0.125
A20: b | B20: Hợp đồng trường | C20: =E20+G20+I20+K20+M20+N20 -> 20 | D20: =E20+G20+I20+K20 -> 17 | E20: 15 | F20: =(E20/C20) -> 0.75 | G20: 2 | H20: =(G20/C20) -> 0.1 | M20: 3
A21: 07 | B21: Phòng Tuyển sinh - Đào tạo | C21: =SUM($C22:$C23) -> 16 | D21: =SUM($D22:$D23) -> 16 | E21: =SUM($E22:$E23) -> 16 | F21: =E21/$D21 -> 1
A22: a | B22: Viên chức | C22: =E22+G22+I22+K22+M22+N22 -> 12 | D22: =E22+G22+I22+K22 -> 12 | E22: 12 | F22: =(E22/C22) -> 1
A23: b | B23: Hợp đồng trường | C23: =E23+G23+I23+K23+M23+N23 -> 4 | D23: =E23+G23+I23+K23 -> 4 | E23: 4 | F23: =(E23/C23) -> 1
A24: 08 | B24: Phòng Quản lý KH - HTQT | C24: =SUM($C25:$C26) -> 2 | D24: =SUM($D25:$D26) -> 2 | E24: =SUM($E25:$E26) -> 2 | F24: =E24/$D24 -> 1
A25: a | B25: Viên chức | C25: =E25+G25+I25+K25+M25+N25 -> 1 | D25: =E25+G25+I25+K25 -> 1 | E25: 1 | F25: =(E25/C25) -> 1
A26: b | B26: Hợp đồng trường | C26: =E26+G26+I26+K26+M26+N26 -> 1 | D26: =E26+G26+I26+K26 -> 1 | E26: 1 | F26: =(E26/C26) -> 1
A27: 9 | B27: Trung tâm Quan hệ doanh nghiệp | C27: =C28 -> 2 | D27: =D28 -> 2 | E27: =E28 -> 2 | F27: =E27/$D27 -> 1
A28: a | B28: Viên chức | C28: =E28+G28+I28+K28+M28+N28 -> 2 | D28: 2 | E28: 2 | F28: =(E28/C28) -> 1
A29: 10 | B29: Trung tâm điều hành và QLDL | C29: =SUM($C30:$C31) -> 5 | D29: =SUM($D30:$D31) -> 5 | E29: =SUM($E30:$E31) -> 5 | F29: =E29/$D29 -> 1
A30: a | B30: Viên chức | C30: =E30+G30+I30+K30+M30+N30 -> 3 | D30: =E30+G30+I30+K30 -> 3 | E30: 3 | F30: =(E30/C30) -> 1
A31: b | B31: Hợp đồng trường | C31: =E31+G31+I31+K31+M31+N31 -> 2 | D31: =E31+G31+I31+K31 -> 2 | E31: 2 | F31: =(E31/C31) -> 1
A32: 11 | B32: Trung tâm KONE | C32: =C33 -> 1 | D32: =D33 -> 1 | E32: =E33 -> 1 | F32: =E32/$D32 -> 1
A33: b | B33: Hợp đồng trường | C33: =E33+G33+I33+K33+M33+N33 -> 1 | D33: =E33+G33+I33+K33 -> 1 | E33: 1
A34: 12 | B34: Trung tâm Y tế | C34: =SUM($C35:$C36) -> 3 | D34: =SUM($D35:$D36) -> 3 | E34: =SUM($E35:$E36) -> 3 | F34: =E34/$D34 -> 1
A35: a | B35: Viên chức | C35: =E35+G35+I35+K35+M35+N35 -> 2 | D35: =E35+G35+I35+K35 -> 2 | E35: 2 | F35: =(E35/C35) -> 1
A36: b | B36: Hợp đồng trường | C36: =E36+G36+I36+K36+M36+N36 -> 1 | D36: =E36+G36+I36+K36 -> 1 | E36: 1 | F36: =(E36/C36) -> 1
A37: 13 | B37: Trung tâm Thư viện | C37: =SUM($C38:$C39) -> 7 | D37: =SUM($D38:$D39) -> 7 | E37: =SUM($E38:$E39) -> 7 | F37: =E37/$D37 -> 1
A38: a | B38: Viên chức | C38: =E38+G38+I38+K38+M38+N38 -> 4 | D38: =E38+G38+I38+K38 -> 4 | E38: 4 | F38: =(E38/C38) -> 1
A39: b | B39: Hợp đồng trường | C39: =E39+G39+I39+K39+M39+N39 -> 3 | D39: =E39+G39+I39+K39 -> 3 | E39: 3 | F39: =(E39/C39) -> 1
A40: 14 | B40: Trung tâm ĐT Lý Tự Trọng | C40: =SUM($C41:$C42) -> 3 | D40: =SUM($D41:$D42) -> 3 | E40: =SUM($E41:$E42) -> 3 | F40: =E40/$D40 -> 1
A41: a | B41: Viên chức + HĐ Sở | C41: =E41+G41+I41+K41+M41+N41 -> 2 | D41: =E41+G41+I41+K41 -> 2 | E41: 2 | F41: =(E41/C41) -> 1
...
