Workbook

Sheet Mau 1
H1: Mẫu 1
A2: TRƯỜNG CAO ĐẲNG LÝ TỰ TRỌNG | E2: CỘNG HÒA XÃ HỘI CHỦ NGHĨA VIỆT NAM
A3: THÀNH PHỐ HỒ CHÍ MINH | E3: Độc lập - Tự do - Hạnh phúc
A4: TRUNG TÂM ĐIỀU HÀNH VÀ QUẢN LÝ DỮ LIỆU
A6: DANH SÁCH CB-GV-NV ĐẠT TIÊU CHUẨN XẾP LOẠI THI ĐUA (Quy định số 1310/QyĐ-LTT-TĐ ngày 09/11/2020 của Trường)
A8: TT | B8: Họ tên | C8: Mã E-Office | D8: Tiêu chuẩn xếp loại thi đua A1 (Ghi rõ nội dung tiêu chuẩn: số Quyết định, thời gian, cơ quan ban hành,…) | E8: Tiêu chuẩn xếp loại thi đua A2 (Ghi rõ nội dung tiêu chuẩn: số Quyết định, thời gian, cơ quan ban hành,…) | F8: Tiêu chuẩn xếp loại thi đua A3 (Ghi rõ nội dung tiêu chuẩn: số Quyết định, thời gian, cơ quan ban hành,…) | G8: Tiêu chuẩn xếp loại thi đua A4 (Ghi rõ nội dung tiêu chuẩn: số Quyết định, thời gian, cơ quan ban hành,…) | H8: Ghi chú
A9: I. Viên chức
A10: 01 | B10: Nguyễn Hữu Thiện | C10: 01017003 | D10: - Tham gia Đề án hợp tác đào tạo trình độ cao đẳng chất lượng cao giữa Trường CĐ Lý Tự Trọng Tp.HCM với công ty TNHH Sản xuất và Kinh doanh VINFAST (QĐ số 496A/QĐ-LTT-ĐT ngày 30/5/2020) | E10: Quyết định 1720/QĐ-GDĐT-VP ngày 21/08/2020 Công nhận Sáng kiến có phạm vi ảnh hưởng cấp Ngành NH 2019-2020
A11: 02 | B11: Vương Hội Khánh | C11: 01017010 | F11: Kết quả đánh giá sáng kiến năm học 2019 - 2020 - Đạt loại Khá
A12: 03 | B12: Trương Hữu Lộc | C12: 01018004 | F12: Kết quả đánh giá sáng kiến năm học 2019 - 2020 - Đạt loại Khá
A13: II. Hợp đồng trường
A14: 01 | B14: Nguyễn Thị Thanh Hòa | C14: 01009027 | F14: Kết quả đánh giá sáng kiến năm học 2019 - 2020 - Đạt yêu cầu
A15: 02 | B15: Phạm Huỳnh Kim Ngân | C15: 01025013 | F15: Kết quả xếp loại A3 vì tham gia viết bài tham luận tại Hội thảo cấp Khoa (Khoa CNTT)
A17: Ghi chú: Gửi kèm minh chứng về phòng Tổ chức - Hành chính - Tổng hợp.
E18: TPHCM, ngày 19 tháng 01 năm 2021
E19: TRƯỞNG ĐƠN VỊ
E26: Nguyễn Hữu Thiện

Sheet Mau 2
A1: TRƯỜNG CAO ĐẲNG LÝ TỰ TRỌNG THÀNH PHỐ HỒ CHÍ MINH TRUNG TÂM ĐIỀU HÀNH VÀ QUẢN LÝ DỮ LIỆU | C1: CỘNG HÒA XÃ HỘI CHỦ NGHĨA VIỆT NAM Độc lập - Tự do - Hạnh phúc
E2: Mẫu 2
A3: BẢNG TỔNG HỢP NHIỆM VỤ CHUNG VÀ RIÊNG CỦA ĐƠN VỊ (Gửi file mềm ngày 25 hàng tháng)
A6: TT | B6: Nội dung công việc | C6: Thời gian thực hiện | D6: Kết quả | E6: Ghi chú
A7: A | B7: TỔNG KẾT CÔNG VIỆC TRONG THÁNG
A8: I. | B8: Công việc chung của Trường
A9: 01 | B9: Nhiệm vụ 1: Công tác chuẩn bị tư vấn tuyển sinh trực tuyến đợt 2 | C9: 05/2021 | D9: Đạt
A10: 02 | B10: Nhiệm vụ 2: Tham gia/ hỗ trợ tổ chức buổi đối thoại giữa Lãnh đạo trường với CB lớp, CB Đoàn - Hội (28/4) | C10: 05/2021 | D10: Đạt
A11: 03 | B11: Nhiệm vụ 3: Thực hiện hỗ trợ kỹ thuật, kiểm tra công tác giảng dạy trực tuyến từ 10/5/2021 do ảnh hưởng dịch COVID-19. | C11: 05/2021 | D11: Đạt
A12: 04 | B12: Nhiệm vụ 4: Thực hiện thống kê báo cáo về việc khai báo Y tế theo yêu cầu của Sở GD và hỗ trợ thực hiện đo nhiệt độ SV tại cổng trường | C12: 05/2021 | D12: Đạt
A13: 05 | B13: Nhiệm vụ 5: Hỗ trợ các buổi họp trực tuyến với Vinfast | C13: 05/2021 | D13: Đạt
A14: 06 | B14: Nhiệm vụ 6: Hỗ trợ hướng dẫn sử dụng phần mềm giảng dạy trực tuyến | C14: 05/2021 | D14: Đạt
A15: II. | B15: Công việc riêng của đơn vị
A16: 01 | B16: Nhiệm vụ 1: Tổng hợp Like và Share Fanpage Facebook Nhà trường | C16: 05/2021 | D16: Đạt
A17: 02 | B17: Nhiệm vụ 2: Thực hiện Like và Share Fanpage Facebook Nhà trường | C17: 05/2021 | D17: Đạt
A18: 03 | B18: Nhiệm vụ 3: Tham gia trả lời tư vấn tuyến sinh trên fanpage Nhà trường | C18: 05/2021 | D18: Đạt
A19: 04 | B19: Nhiệm vụ 4: Hỗ trợ trực các lớp học trực tuyến tại các phòng Zoom và các Trung tâm GDTX-GDNN | C19: 05/2021 | D19: Đạt
A20: 05 | B20: Nhiệm vụ 5: Hỗ trợ lập danh sách tạo địa chỉ email cho CB-GV-NV trường | C20: 05/2021 | D20: Đạt
A21: 06 | B21: Nhiệm vụ 6: Hỗ trợ kỹ thuật diễn đàn trực tuyến “Khát vọng thanh niên – Khát vọng Việt Nam" | C21: 05/2021 | D21: Đạt
A22: B | B22: ĐỀ XUẤT NỘI DUNG CÔNG VIỆC THÁNG 05/2021
A23: I. | B23: Công việc chung của Trường (nếu có)
A24: 01 | B24: Nhiệm vụ 1: Công tác chuẩn bị tư vấn tuyển sinh trực tuyến đợt 2 | C24: 06/2021
A25: 02 | B25: Nhiệm vụ 3: Đi chụp hình, quay phim ở DN, xây dựng các video quảng bá hình ảnh và thương hiệu nhà trường | C25: 06/2021
A26: II. | B26: Công việc riêng của đơn vị
A27: 01 | B27: Nhiệm vụ 1: Tham gia trả lời tư vấn tuyến sinh trên fanpage Nhà trường | C27: 06/2021
A28: 02 | B28: Nhiệm vụ 2: Tổng hợp Like và Share Fanpage Facebook Nhà trường | C28: 06/2021
A29: 03 | B29: Nhiệm vụ 3: Thực hiện Like và Share Fanpage Facebook Nhà trường | C29: 06/2021
A30: 04 | B30: Nhiệm vụ 4: Tham gia hỗ trợ kỹ thuật các lớp trực tuyến tại các phòng Zoom và các Trung tâm GDTX-GDNN | C30: 06/2021
A32: Lưu ý: - Nhóm công việc của đơn vị không tính nội dung công việc đã được quy định ở vị trí việc làm (đối với nhân viên); chế độ làm việc của giảng viên/ đã được tính chế độ, thù lao (đối với giảng viên). - Các đơn vị gửi file điện tử về phòng TC-HC-TH (Cô Trần Thị Ánh Phượng) qua hệ thống điện tử E-office nhà trường (không gửi văn bản giấy) ngày 25 hàng tháng./.
B33: Thành phố Hồ Chí Minh, ngày 18 tháng 5 Năm 2021
C34: TRƯỞNG ĐƠN VỊ
C38: Nguyễn Hữu Thiện

Sheet Mau 3
A1: TRƯỜNG CAO ĐẲNG LÝ TỰ TRỌNG | M1: CỘNG HÒA XÃ HỘI CHỦ NGHĨA VIỆT NAM
A2: THÀNH PHỐ HỒ CHÍ MINH | M2: Độc lập - Tự do - Hạnh phúc
A3: TRUNG TÂM ĐIỀU HÀNH VÀ QUẢN LÝ DỮ LIỆU
R4: Mẫu 3
A5: THỐNG KÊ CHI TIẾT KHỐI LƯỢNG CÔNG VIỆC THỰC HIỆN THÁNG 05/2021
A7: TT | B7: Tên nội dung công việc | D7: Công việc chung của trường | K7: Công việc riêng của đơn vị | R7: Ghi chú
B8: Họ và tên | C8: Mã E-ofice | D8: Nhiệm vụ 1 | E8: Nhiệm vụ 2 | F8: Nhiệm vụ 3 | G8: Nhiệm vụ 4 | H8: Nhiệm vụ 5 | I8: Nhiệm vụ 6 | J8: Tổng | K8: Nhiệm vụ 1 | L8: Nhiệm vụ 2 | M8: Nhiệm vụ 3 | N8: Nhiệm vụ 4 | O8: Nhiệm vụ 5 | P8: Nhiệm vụ 6 | Q8: Tổng
A9: I. Viên chức
A10: 01 | B10: Nguyễn Hữu Thiện | C10: 01017003 | D10: x | F10: x | G10: x | H10: x | I10: x | J10: =COUNTA(D10:I10) -> 5 | L10: x | M10: x | O10: x | P10: x | Q10: =COUNTA(K10:P10) -> 4
A11: 02 | B11: Vương Hội Khánh | C11: 01017010 | D11: x | F11: x | H11: x | I11: x | J11: =COUNTA(D11:I11) -> 4 | L11: x | M11: x | O11: x | Q11: =COUNTA(K11:O11) -> 3
A12: 03 | B12: Trương Hữu Lộc | C12: 01018004 | D12: x | F12: x | H12: x | J12: =COUNTA(D12:I12) -> 3 | L12: x | M12: x | O12: x | P12: x | Q12: =COUNTA(K12:P12) -> 4
A13: II. Hợp đồng trường
A14: 04 | B14: Nguyễn Thị Thanh Hòa | C14: 01009027 | F14: x | G14: x | J14: =COUNTA(D14:I14) -> 2 | K14: x | L14: x | M14: x | N14: x | O14: x | Q14: =COUNTA(K14:O14) -> 5
A15: 05 | B15: Phạm Huỳnh Kim Ngân | C15: 01025013 | G15: x | J15: =COUNTA(D15:I15) -> 1 | K15: x | L15: x | M15: x | N15: x | O15: x | Q15: =COUNTA(K15:O15) -> 5
A16: Lưu ý: Các đơn vị gửi file mềm qua hệ thống điện tử E-office nhà trường và văn bản giấy về phòng TC-HC-TH (Cô Trần Thị Ánh Phượng).
K17: TPHCM, ngày 18 tháng 5 năm 2021
K18: TRƯỞNG ĐƠN VỊ
K23: Nguyễn Hữu Thiện

Sheet Mau 4 
A1: TRƯỜNG CAO ĐẲNG LÝ TỰ TRỌNG | F1: CỘNG HÒA XÃ HỘI CHỦ NGHĨA VIỆT NAM
A2: THÀNH PHỐ HỒ CHÍ MINH | F2: Độc lập - Tự do - Hạnh phúc
A3: TRUNG TÂM ĐIỀU HÀNH VÀ QUẢN LÝ DỮ LIỆU
J4: Mẫu 4
A5: DANH SÁCH XẾP LOẠI THI ĐUA THÁNG 05/2021
A7: TT | B7: Họ tên | C7: Mã E-Office | D7: Tập thể đơn vị đề nghị | F7: Số lượng công việc tham gia | H7: Số ngày/giờ vượt so với ngày công kế hoạch (đối với CB-NV) | I7: Số ngày nghỉ/ tiết nghỉ (đối với GV) | J7: Ghi chú
D8: Xếp loại | E8: Lý do | F8: Công việc chung của trường | G8: Công việc riêng của đơn vị
A9: I. Viên chức
A10: 01 | B10: Nguyễn Hữu Thiện | C10: 01017003 | D10: A1 | F10: ='Mau 3'!J10 -> 5 | G10: =+'Mau 3'!Q10 -> 4
A11: 02 | B11: Vương Hội Khánh | C11: 01017010 | D11: A3 | F11: ='Mau 3'!J11 -> 4 | G11: =+'Mau 3'!Q11 -> 3 | J11: Đề xuất xếp loại A2 vì tham gia nhiều công tác của trường, đơn vị và vượt ngày công kế hoạch
A12: 03 | B12: Trương Hữu Lộc | C12: 01018004 | D12: A3 | F12: ='Mau 3'!J12 -> 3 | G12: =+'Mau 3'!Q12 -> 4 | J12: Đề xuất xếp loại A2 vì tham gia nhiều công tác của trường, đơn vị và vượt ngày công kế hoạch
A13: II. Hợp đồng trường
A14: 01 | B14: Nguyễn Thị Thanh Hòa | C14: 01009027 | D14: A3 | F14: ='Mau 3'!J14 -> 2 | G14: =+'Mau 3'!Q14 -> 5
A15: 02 | B15: Phạm Huỳnh Kim Ngân | C15: 01025013 | D15: A3 | F15: ='Mau 3'!J15 -> 1 | G15: =+'Mau 3'!Q15 -> 5
B17: Kết quả xếp loại | E17: Viên chức | F17: Hợp đồng trường | H17: Ý kiến TT HĐ TĐ-KT
B18: A1 | E18: 1
B19: A2 | E19: 2
B20: A3 | E20: 0 | F20: 1
B21: A3 | E21: 0 | F21: 1
B22: Tổng số nhân sự: | E22: =SUM(E18:E21) -> 3 | F22: =SUM(F18:F21) -> 2
A24: Lưu ý: Các đơn vị gửi file mềm qua hệ thống điện tử E-office nhà trường và văn bản giấy về phòng TC-HC-TH (Cô Trần Thị Ánh Phượng).
F25: TPHCM, ngày 18 tháng 5 năm 2021
F26: TRƯỞNG ĐƠN VỊ
F31: Nguyễn Hữu Thiện
