Workbook

Sheet KHOA KHCB
A1: UBND THÀNH PHỐ HỒ CHÍ MINH TRƯỜNG CAO ĐẲNG LÝ TỰ TRỌNG THÀNH PHỐ HỒ CHÍ MINH | D1: CỘNG HÒA XÃ HỘI CHỦ NGHĨA VIỆT NAM Độc lập - Tự do - Hạnh phúc
D2: TP.Hồ Chí Minh, ngày tháng năm 2021
A4: BIÊN BẢN KIỂM PHIẾU TÍN NHIỆM NHÂN SỰ ĐƯA VÀO QUY HOẠCH CÁC CHỨC DANH QUẢN LÝ
A5: KHOA KHOA HỌC CƠ BẢN - NĂM 2021
A7: Hôm nay, vào lúc giờ , ngày / /2021
A8: Tại: Phòng Họp - Trường Cao đẳng Lý Tự Trọng TP. Hồ Chí Minh
A9: Chúng tôi gồm có:
A10: 1. Ông Châu Văn Bảo, Phó Chủ tịch Công đoàn trường: | G10: Tổ trưởng;
A11: 2. Bà Lưu Hoàng Hải Yến, Phó Trưởng phòng TC-HC-TH: | G11: Thành viên;
A12: 3. Bà Nguyễn Thị Nhuận, Bí thư Chi bộ Sinh viên: | G12: Thành viên;
A13: 4. Ông Trịnh Hoàng Hiệp, Phó Trưởng ban Thanh tra nhân dân: | G13: Thành viên;
A14: 5. Ông Lương Xuân Thịnh, Bí thư Đoàn trường: | G14: Thành viên;
A15: Là các thành viên Tổ kiểm phiếu 1 theo Quyết định số /QĐ-LTT-TC ngày tháng năm 2020 của Trường Cao đẳng Lý Tự Trọng TP. Hồ Chí Minh.
A16: Tiến hành kiểm phiếu do CB-GV khoa Khoa học cơ bản bỏ phiếu trong cuộc họp lấy phiếu tham khảo tín nhiệm nhân sự đề cử đưa vào quy hoạch các chức danh quản lý tại phòng vào ngày 08/01/2021
B17: Tổng số CB-GV đơn vị: | C17: 34
B18: Tổng số phiếu: | C18: 27
A19: Kết quả kiểm phiếu cụ thể như sau:
A21: TT | B21: Họ và tên | C21: Chức vụ/Chức danh, Đơn vị công tác | E21: Số phiếu hợp lệ | F21: Số phiếu không hợp lệ | G21: Số phiếu tín nhiệm | H21: Tỷ lệ phiếu tín nhiệm
B22: Chức danh: Trưởng khoa
A23: 1 | B23: Phạm Thị Thu Nga | C23: Phó Trưởng khoa KHCB | E23: =$C$18-$F23 -> 27 | G23: 24 | H23: =$G23/$C$18 -> 0.88888889
A24: 2 | B24: Giang Phi Hùng | C24: Giảng viên khoa KHCB | E24: =$C$18-$F24 -> 27 | G24: 18 | H24: =$G24/$C$18 -> 0.66666667
A25: 3 | B25: Nguyễn Thị Thủy | C25: Giảng viên khoa KHCB | E25: =$C$18-$F25 -> 27 | G25: 22 | H25: =$G25/$C$18 -> 0.81481481
B26: Chức danh: Phó Trưởng khoa
A27: 1 | B27: Giang Phi Hùng | C27: Giảng viên khoa KHCB | E27: =$C$18-$F27 -> 27 | G27: 24 | H27: =$G27/$C$18 -> 0.88888889
A28: 2 | B28: Nguyễn Thị Thủy | C28: Giảng viên khoa KHCB | E28: =$C$18-$F28 -> 27 | G28: 23 | H28: =$G28/$C$18 -> 0.85185185
B29: Chức danh: Trưởng bộ môn Toán
A30: 1 | B30: Dương Đức Kiên | C30: Giảng viên khoa KHCB | E30: =$C$18-$F30 -> 27 | G30: 19 | H30: =$G30/$C$18 -> 0.7037037
A31: 2 | B31: Hà Như Mai | C31: Giảng viên khoa KHCB | E31: =$C$18-$F31 -> 27 | G31: 20 | H31: =$G31/$C$18 -> 0.74074074
A32: 3 | B32: Nguyễn Thị Thủy | C32: Giảng viên khoa KHCB | E32: =$C$18-$F32 -> 27 | G32: 24 | H32: =$G32/$C$18 -> 0.88888889
B33: Chức danh: Trưởng bộ môn Lý - Hóa
A34: 1 | B34: Nguyễn Thanh Tú | C34: Giảng viên khoa KHCB | E34: =$C$18-$F34 -> 27 | G34: 24 | H34: =$G34/$C$18 -> 0.88888889
A35: 2 | B35: Trịnh Khắc Vũ | C35: Giảng viên khoa KHCB | E35: =$C$18-$F35 -> 27 | G35: 15 | H35: =$G35/$C$18 -> 0.55555556
B36: Chức danh: Trưởng bộ môn Giáo dục thể chất
A37: 1 | B37: Giang Phi Hùng | C37: Giảng viên khoa KHCB | E37: =$C$18-$F37 -> 27 | G37: 21 | H37: =$G37/$C$18 -> 0.77777778
A38: 2 | B38: Ngô Thanh Điền | C38: Giảng viên khoa KHCB | E38: =$C$18-$F38 -> 27 | G38: 24 | H38: =$G38/$C$18 -> 0.88888889
B39: Chức danh: Trưởng bộ môn Văn
A40: 1 | B40: Trương Thị Hồng | C40: Giảng viên khoa KHCB | E40: =$C$18-$F40 -> 27 | G40: 21 | H40: =$G40/$C$18 -> 0.77777778
B41: Chức danh: Trưởng bộ môn Ngoại ngữ
A42: 1 | B42: Phạm Thị Thu Hiền | C42: Giảng viên khoa KHCB | E42: =$C$18-$F42 -> 27 | G42: 23 | H42: =$G42/$C$18 -> 0.85185185
A43: 2 | B43: Trần Thanh Trúc | C43: Giảng viên khoa KHCB | E43: =$C$18-$F43 -> 27 | G43: 18 | H43: =$G43/$C$18 -> 0.66666667
...

Sheet KHOA LLCT
A1: UBND THÀNH PHỐ HỒ CHÍ MINH TRƯỜNG CAO ĐẲNG LÝ TỰ TRỌNG THÀNH PHỐ HỒ CHÍ MINH | D1: CỘNG HÒA XÃ HỘI CHỦ NGHĨA VIỆT NAM Độc lập - Tự do - Hạnh phúc
D2: ='KHOA KHCB'!D2:H2 -> TP.Hồ Chí Minh, ngày tháng năm 2021
A4: BIÊN BẢN KIỂM PHIẾU TÍN NHIỆM NHÂN SỰ ĐƯA VÀO QUY HOẠCH CÁC CHỨC DANH QUẢN LÝ
A5: KHOA LÝ LUẬN CHÍNH TRỊ - NĂM 2021
A7: ='KHOA KHCB'!A7:H7 -> Hôm nay, vào lúc giờ , ngày / /2021
A8: ='KHOA KHCB'!$A$8:$H$8 -> Tại: Phòng Họp - Trường Cao đẳng Lý Tự Trọng TP. Hồ Chí Minh
A9: ='KHOA KHCB'!$A$9:$H$9 -> Chúng tôi gồm có:
A10: ='KHOA KHCB'!$A$10:$F$10 -> 1. Ông Châu Văn Bảo, Phó Chủ tịch Công đoàn trường: | G10: ='KHOA KHCB'!$G$10 -> Tổ trưởng;
A11: ='KHOA KHCB'!$A$11:$F$11 -> 2. Bà Lưu Hoàng Hải Yến, Phó Trưởng phòng TC-HC-TH: | G11: ='KHOA KHCB'!$G$11 -> Thành viên;
A12: ='KHOA KHCB'!$A$12:$F$12 -> 3. Bà Nguyễn Thị Nhuận, Bí thư Chi bộ Sinh viên: | G12: ='KHOA KHCB'!$G$12 -> Thành viên;
A13: ='KHOA KHCB'!$A$13:$F$13 -> 4. Ông Trịnh Hoàng Hiệp, Phó Trưởng ban Thanh tra nhân dân: | G13: ='KHOA KHCB'!$G$14 -> Thành viên;
A14: 5. Ông Lương Xuân Thịnh, Bí thư Đoàn trường: | G14: Thành viên;
A15: ='KHOA KHCB'!$A$15:$H$15 -> Là các thành viên Tổ kiểm phiếu 1 theo Quyết định số /QĐ-LTT-TC ngày tháng năm 2020 của Trường Cao đẳng Lý Tự Trọng TP. Hồ Chí Minh.
A16: Tiến hành kiểm phiếu do CB-NV khoa Lý luận Chính trị bỏ phiếu trong cuộc họp tham khảo tín nhiệm nhân sự đề cử đưa vào quy hoạch các chức danh quản lý tại phòng vào ngày 22/01/2021
B17: ='KHOA KHCB'!$B$17 -> Tổng số CB-GV đơn vị: | C17: 14
B18: ='KHOA KHCB'!B18 -> Tổng số phiếu: | C18: 14
A19: ='KHOA KHCB'!$A$19:$H$19 -> Kết quả kiểm phiếu cụ thể như sau:
A21: TT | B21: Họ và tên | C21: Chức vụ/Chức danh, Đơn vị công tác | E21: Số phiếu hợp lệ | F21: Số phiếu không hợp lệ | G21: Số phiếu tín nhiệm | H21: Tỷ lệ phiếu tín nhiệm
B22: Chức danh: Trưởng khoa
A23: 1 | B23: Lê Thị Hồng Vân | C23: Phó Trưởng khoa Lý luận Chính trị | E23: =$C$18-$F23 -> 14 | G23: 10 | H23: =$G23/$C$18 -> 0.71428571
A24: 2 | B24: Nguyễn Ngọc Quỳnh | C24: Phó Trưởng khoa Lý luận Chính trị | E24: =$C$18-$F24 -> 14 | G24: 9 | H24: =$G24/$C$18 -> 0.64285714
A25: 3 | B25: Phan Thị Thùy Trang | C25: Trưởng bộ môn thuộc khoa Lý luận Chính trị | E25: =$C$18-$F25 -> 14 | G25: 7 | H25: =$G25/$C$18 -> 0.5
B26: Chức danh: Phó Trưởng khoa
A27: 1 | B27: Đinh Thị Huyên | C27: Giảng viên khoa Lý luận Chính trị | E27: =$C$18-$F27 -> 14 | G27: 8 | H27: =$G27/$C$18 -> 0.57142857
A28: 2 | B28: Phan Thị Thùy Trang | C28: Giảng viên khoa Lý luận Chính trị | E28: =$C$18-$F28 -> 14 | G28: 8 | H28: =$G28/$C$18 -> 0.57142857
A29: 3 | B29: Đỗ Thị Thơm | C29: Giảng viên khoa Lý luận Chính trị | E29: =$C$18-$F29 -> 14 | G29: 10 | H29: =$G29/$C$18 -> 0.71428571
B30: Chức danh: Trưởng bộ môn Giáo dục Chính trị
A31: 1 | B31: Đỗ Thị Ngát | C31: Giảng viên khoa Lý luận Chính trị | E31: =$C$18-$F31 -> 14 | G31: 11 | H31: =$G31/$C$18 -> 0.78571429
A32: 2 | B32: Phan Thị Thùy Trang | C32: Giảng viên khoa Lý luận Chính trị | E32: =$C$18-$F32 -> 14 | G32: 6 | H32: =$G32/$C$18 -> 0.42857143
A33: 3 | B33: Phạm Thị Vinh | C33: Giảng viên khoa Lý luận Chính trị | E33: =$C$18-$F33 -> 14 | G33: 8 | H33: =$G33/$C$18 -> 0.57142857
B34: Chức danh: Trưởng bộ môn Pháp luật
A35: 1 | B35: Bùi Thành Dũng | C35: Giảng viên khoa Lý luận Chính trị | E35: =$C$18-$F35 -> 13 | F35: 1 | G35: 8 | H35: =$G35/$C$18 -> 0.57142857
A36: 2 | B36: Trần Văn Lượng | C36: Giảng viên khoa Lý luận Chính trị | E36: =$C$18-$F36 -> 13 | F36: 1 | G36: 10 | H36: =$G36/$C$18 -> 0.71428571
A38: ……………………………………………………………………………………………… …………………………………………………………………………………………………… …………………………………………………………………………………………………… …………………………………………………………………………………………………….
A39: ='KHOA KHCB'!$A$46:$H$46 -> Chúng tôi đồng ký tên dưới đây, xác nhận việc kiểm phiếu được thực hiện chính xác, đúng quy định.
A40: ='KHOA KHCB'!A47:H47 -> Biên bản kết thúc lúc ……. ngày ……/….../2021.
B43: ='KHOA KHCB'!$B$50 -> THÀNH VIÊN TỔ KIỂM PHIẾU | E43: ='KHOA KHCB'!$E$50:$H$50 -> TỔ TRƯỞNG TỔ KIỂM PHIẾU
A45: ='KHOA KHCB'!$A$52:$D$52 -> Lưu Hoàng Hải Yến: ………………………………
A46: ='KHOA KHCB'!$A$53:$D$53 -> Nguyễn Thị Nhuận: …………………………
A47: ='KHOA KHCB'!$A$54:$D$54 -> Trịnh Hoàng Hiệp: ………………………………. | E47: ='KHOA KHCB'!$E$54:$H$54 -> Châu Văn Bảo
...

Sheet KHOA CƠ KHÍ
A1: UBND THÀNH PHỐ HỒ CHÍ MINH TRƯỜNG CAO ĐẲNG LÝ TỰ TRỌNG THÀNH PHỐ HỒ CHÍ MINH | D1: CỘNG HÒA XÃ HỘI CHỦ NGHĨA VIỆT NAM Độc lập - Tự do - Hạnh phúc
D2: ='KHOA LLCT'!D2:H2 -> TP.Hồ Chí Minh, ngày tháng năm 2021
A4: BIÊN BẢN KIỂM PHIẾU TÍN NHIỆM NHÂN SỰ ĐƯA VÀO QUY HOẠCH CÁC CHỨC DANH QUẢN LÝ
A5: KHOA CƠ KHÍ - NĂM 2021
A7: ='KHOA LLCT'!A7:H7 -> Hôm nay, vào lúc giờ , ngày / /2021
A8: ='KHOA KHCB'!$A$8:$H$8 -> Tại: Phòng Họp - Trường Cao đẳng Lý Tự Trọng TP. Hồ Chí Minh
A9: ='KHOA KHCB'!$A$9:$H$9 -> Chúng tôi gồm có:
A10: ='KHOA KHCB'!$A$10:$F$10 -> 1. Ông Châu Văn Bảo, Phó Chủ tịch Công đoàn trường: | G10: ='KHOA KHCB'!$G$10 -> Tổ trưởng;
A11: ='KHOA KHCB'!$A$11:$F$11 -> 2. Bà Lưu Hoàng Hải Yến, Phó Trưởng phòng TC-HC-TH: | G11: ='KHOA KHCB'!$G$11 -> Thành viên;
A12: ='KHOA KHCB'!$A$12:$F$12 -> 3. Bà Nguyễn Thị Nhuận, Bí thư Chi bộ Sinh viên: | G12: ='KHOA KHCB'!$G$12 -> Thành viên;
A13: ='KHOA KHCB'!$A$13:$F$13 -> 4. Ông Trịnh Hoàng Hiệp, Phó Trưởng ban Thanh tra nhân dân: | G13: ='KHOA KHCB'!$G$14 -> Thành viên;
A14: 5. Ông Lương Xuân Thịnh, Bí thư Đoàn trường: | G14: Thành viên;
A15: ='KHOA KHCB'!$A$15:$H$15 -> Là các thành viên Tổ kiểm phiếu 1 theo Quyết định số /QĐ-LTT-TC ngày tháng năm 2020 của Trường Cao đẳng Lý Tự Trọng TP. Hồ Chí Minh.
A16: Tiến hành kiểm phiếu do CB-NV khoa Cơ khí bỏ phiếu trong cuộc họp tham khảo tín nhiệm nhân sự đề cử đưa vào quy hoạch các chức danh quản lý tại phòng vào ngày 08/01/2021
B17: ='KHOA KHCB'!$B$17 -> Tổng số CB-GV đơn vị: | C17: 25
B18: ='KHOA KHCB'!B18 -> Tổng số phiếu: | C18: 24
A19: ='KHOA KHCB'!$A$19:$H$19 -> Kết quả kiểm phiếu cụ thể như sau:
A21: TT | B21: Họ và tên | C21: Chức vụ/Chức danh, Đơn vị công tác | E21: Số phiếu hợp lệ | F21: Số phiếu không hợp lệ | G21: Số phiếu tín nhiệm | H21: Tỷ lệ phiếu tín nhiệm
B22: Chức danh: Trưởng khoa
A23: 1 | B23: Trần Đình Khải | C23: Phó Trưởng khoa Cơ khí | E23: =$C$18-$F23 -> 24 | G23: 20 | H23: =$G23/$C$18 -> 0.83333333
A24: 2 | B24: Vũ Đức Pháp | C24: Trưởng bộ môn thuộc khoa Cơ khí | E24: =$C$18-$F24 -> 24 | G24: 19 | H24: =$G24/$C$18 -> 0.79166667
A25: 2 | B25: Bùi Anh Tuấn | C25: Trưởng bộ môn thuộc khoa Cơ khí | E25: =$C$18-$F25 -> 23 | F25: 1 | G25: 15 | H25: =$G25/$C$18 -> 0.625
B26: Chức danh: Phó Trưởng khoa
A27: 1 | B27: Vũ Đức Pháp | C27: Trưởng bộ môn thuộc khoa Cơ khí | E27: =$C$18-$F27 -> 24 | G27: 24 | H27: =$G27/$C$18 -> 1
A28: 2 | B28: Bùi Anh Tuấn | C28: Trưởng bộ môn thuộc khoa Cơ khí | E28: =$C$18-$F28 -> 24 | G28: 17 | H28: =$G28/$C$18 -> 0.70833333
A29: 3 | B29: Đỗ Thị Phương Khanh | C29: Giảng viên khoa Cơ khí | E29: =$C$18-$F29 -> 24 | G29: 20 | H29: =$G29/$C$18 -> 0.83333333
B30: Chức danh: Trưởng bộ môn Cơ sở cơ khí
A31: 1 | B31: Dương Thị Hồng | C31: Giảng viên khoa Cơ khí | E31: =$C$18-$F31 -> 24 | G31: 21 | H31: =$G31/$C$18 -> 0.875
A32: 2 | B32: Trần Minh Thông | C32: Giảng viên khoa Cơ khí | E32: =$C$18-$F32 -> 23 | F32: 1 | G32: 19 | H32: =$G32/$C$18 -> 0.79166667
B33: Chức danh: Trưởng bộ môn Cad/Cam-CNC
A34: 1 | B34: Đỗ Thị Phương Khanh | C34: Giảng viên khoa Cơ khí | E34: =$C$18-$F34 -> 24 | G34: 21 | H34: =$G34/$C$18 -> 0.875
A35: 2 | B35: Trần Minh Thông | C35: Giảng viên khoa Cơ khí | E35: =$C$18-$F35 -> 24 | G35: 18 | H35: =$G35/$C$18 -> 0.75
A36: 3 | B36: Nguyễn Ngọc Quỳnh | C36: Giảng viên khoa Cơ khí | E36: =$C$18-$F36 -> 24 | G36: 19 | H36: =$G36/$C$18 -> 0.79166667
B37: Chức danh: Trưởng bộ môn Công nghệ chế tạo
A38: 1 | B38: Nguyễn Thành Long | C38: Giảng viên khoa Cơ khí | E38: =$C$18-$F38 -> 24 | G38: 22 | H38: =$G38/$C$18 -> 0.91666667
A39: 2 | B39: Nguyễn Tiến Dũng | C39: Giảng viên khoa Cơ khí | E39: =$C$18-$F39 -> 24 | G39: 22 | H39: =$G39/$C$18 -> 0.91666667
A41: ……………………………………………………………………………………………… …………………………………………………………………………………………………… …………………………………………………………………………………………………… …………………………………………………………………………………………………….
A42: ='KHOA KHCB'!$A$46:$H$46 -> Chúng tôi đồng ký tên dưới đây, xác nhận việc kiểm phiếu được thực hiện chính xác, đúng quy định.
A43: ='KHOA LLCT'!A40:H40 -> Biên bản kết thúc lúc ……. ngày ……/….../2021.
B46: ='KHOA KHCB'!$B$50 -> THÀNH VIÊN TỔ KIỂM PHIẾU | E46: ='KHOA KHCB'!$E$50:$H$50 -> TỔ TRƯỞNG TỔ KIỂM PHIẾU
...

Sheet KHOA CNTT
A1: UBND THÀNH PHỐ HỒ CHÍ MINH TRƯỜNG CAO ĐẲNG LÝ TỰ TRỌNG THÀNH PHỐ HỒ CHÍ MINH | D1: CỘNG HÒA XÃ HỘI CHỦ NGHĨA VIỆT NAM Độc lập - Tự do - Hạnh phúc
D2: ='KHOA CƠ KHÍ'!D2:H2 -> TP.Hồ Chí Minh, ngày tháng năm 2021
A4: BIÊN BẢN KIỂM PHIẾU TÍN NHIỆM NHÂN SỰ ĐƯA VÀO QUY HOẠCH CÁC CHỨC DANH QUẢN LÝ
A5: KHOA CÔNG NGHỆ THÔNG TIN - NĂM 2021
A7: ='KHOA CƠ KHÍ'!A7:H7 -> Hôm nay, vào lúc giờ , ngày / /2021
A8: ='KHOA KHCB'!$A$8:$H$8 -> Tại: Phòng Họp - Trường Cao đẳng Lý Tự Trọng TP. Hồ Chí Minh
A9: ='KHOA KHCB'!$A$9:$H$9 -> Chúng tôi gồm có:
A10: ='KHOA KHCB'!$A$10:$F$10 -> 1. Ông Châu Văn Bảo, Phó Chủ tịch Công đoàn trường: | G10: ='KHOA KHCB'!$G$10 -> Tổ trưởng;
A11: ='KHOA KHCB'!$A$11:$F$11 -> 2. Bà Lưu Hoàng Hải Yến, Phó Trưởng phòng TC-HC-TH: | G11: ='KHOA KHCB'!$G$11 -> Thành viên;
A12: ='KHOA KHCB'!$A$12:$F$12 -> 3. Bà Nguyễn Thị Nhuận, Bí thư Chi bộ Sinh viên: | G12: ='KHOA KHCB'!$G$12 -> Thành viên;
A13: ='KHOA KHCB'!$A$13:$F$13 -> 4. Ông Trịnh Hoàng Hiệp, Phó Trưởng ban Thanh tra nhân dân: | G13: ='KHOA KHCB'!$G$14 -> Thành viên;
A14: 5. Ông Lương Xuân Thịnh, Bí thư Đoàn trường: | G14: Thành viên;
A15: ='KHOA KHCB'!$A$15:$H$15 -> Là các thành viên Tổ kiểm phiếu 1 theo Quyết định số /QĐ-LTT-TC ngày tháng năm 2020 của Trường Cao đẳng Lý Tự Trọng TP. Hồ Chí Minh.
A16: Tiến hành kiểm phiếu do CB-NV khoa Công nghệ thông tin bỏ phiếu trong cuộc họp tham khảo tín nhiệm nhân sự đề cử đưa vào quy hoạch các chức danh quản lý tại phòng vào ngày ……………
B17: ='KHOA KHCB'!$B$17 -> Tổng số CB-GV đơn vị: | C17: 26
B18: ='KHOA KHCB'!B18 -> Tổng số phiếu: | C18: 26
A19: ='KHOA KHCB'!$A$19:$H$19 -> Kết quả kiểm phiếu cụ thể như sau:
A21: TT | B21: Họ và tên | C21: Chức vụ/Chức danh, Đơn vị công tác | E21: Số phiếu hợp lệ | F21: Số phiếu không hợp lệ | G21: Số phiếu tín nhiệm | H21: Tỷ lệ phiếu tín nhiệm
B22: Chức danh: Trưởng khoa
A23: 1 | B23: Hồ Ngọc Chi | C23: Phó Trưởng khoa CNTT | E23: =$C$18-$F23 -> 26 | G23: 13 | H23: =$G23/$C$18 -> 0.5
A24: 2 | B24: Nguyễn Văn Danh | C24: Trưởng bộ môn thuộc khoa CNTT | E24: =$C$18-$F24 -> 25 | F24: 1 | G24: 16 | H24: =$G24/$C$18 -> 0.61538462
A25: 3 | B25: Nguyễn Văn Đôn | C25: Trưởng bộ môn thuộc khoa CNTT | E25: =$C$18-$F25 -> 24 | F25: 2 | G25: 12 | H25: =$G25/$C$18 -> 0.46153846
B26: Chức danh: Phó Trưởng khoa
A27: 1 | B27: Nguyễn Văn Danh | C27: Trưởng bộ môn thuộc khoa CNTT | E27: =$C$18-$F27 -> 25 | F27: 1 | G27: 20 | H27: =$G27/$C$18 -> 0.76923077
A28: 2 | B28: Nguyễn Văn Minh | C28: Giảng viên khoa CNTT | E28: =$C$18-$F28 -> 24 | F28: 2 | G28: 22 | H28: =$G28/$C$18 -> 0.84615385
A29: 3 | B29: Nguyễn Văn Đôn | C29: Trưởng bộ môn thuộc khoa CNTT | E29: =$C$18-$F29 -> 25 | F29: 1 | G29: 18 | H29: =$G29/$C$18 -> 0.69230769
A30: 4 | B30: Trần Việt Khánh | C30: Trưởng bộ môn thuộc khoa CNTT | E30: =$C$18-$F30 -> 24 | F30: 2 | G30: 18 | H30: =$G30/$C$18 -> 0.69230769
A31: 5 | B31: Lê Quý Hưng Quốc | C31: Giảng viên khoa CNTT | E31: =$C$18-$F31 -> 24 | F31: 2 | G31: 16 | H31: =$G31/$C$18 -> 0.61538462
B32: Chức danh: Trưởng bộ môn Công nghệ phần mềm
A33: 1 | B33: Trần Vĩnh Xuyên | C33: Giảng viên khoa CNTT | E33: =$C$18-$F33 -> 24 | F33: 2 | G33: 12 | H33: =$G33/$C$18 -> 0.46153846
A34: 2 | B34: Mai Chiếm Tuấn | C34: Giảng viên khoa CNTT | E34: =$C$18-$F34 -> 25 | F34: 1 | G34: 20 | H34: =$G34/$C$18 -> 0.76923077
A35: 3 | B35: Nguyễn Cao Phong | C35: Giảng viên khoa CNTT | E35: =$C$18-$F35 -> 25 | F35: 1 | G35: 14 | H35: =$G35/$C$18 -> 0.53846154
B36: Chức danh: Trưởng bộ môn Khoa học máy tính
A37: 1 | B37: Nguyễn Văn Minh | C37: Giảng viên khoa CNTT | E37: =$C$18-$F37 -> 25 | F37: 1 | G37: 24 | H37: =$G37/$C$18 -> 0.92307692
A38: 2 | B38: Huỳnh Quốc Dũng | C38: Giảng viên khoa CNTT | E38: =$C$18-$F38 -> 23 | F38: 3 | G38: 9 | H38: =$G38/$C$18 -> 0.34615385
A39: 3 | B39: Nguyễn Thị Thu hồng | C39: Giảng viên khoa CNTT | E39: =$C$18-$F39 -> 25 | F39: 1 | G39: 13 | H39: =$G39/$C$18 -> 0.5
B40: Chức danh: Trưởng bộ môn Mạng máy tính
A41: 1 | B41: Lê Quý Hưng Quốc | C41: Giảng viên khoa CNTT | E41: =$C$18-$F41 -> 26 | G41: 19 | H41: =$G41/$C$18 -> 0.73076923
A42: 2 | B42: Đỗ Tuấn Việt | C42: Giảng viên khoa CNTT | E42: =$C$18-$F42 -> 25 | F42: 1 | G42: 22 | H42: =$G42/$C$18 -> 0.84615385
A43: 3 | B43: Nguyễn Ngọc Tuyên | C43: Giảng viên khoa CNTT | E43: =$C$18-$F43 -> 24 | F43: 2 | G43: 10 | H43: =$G43/$C$18 -> 0.38461538
...

Sheet KHOA ĐIỆN-ĐIỆN TỬ
A1: UBND THÀNH PHỐ HỒ CHÍ MINH TRƯỜNG CAO ĐẲNG LÝ TỰ TRỌNG THÀNH PHỐ HỒ CHÍ MINH | D1: CỘNG HÒA XÃ HỘI CHỦ NGHĨA VIỆT NAM Độc lập - Tự do - Hạnh phúc
D2: ='KHOA CNTT'!D2:H2 -> TP.Hồ Chí Minh, ngày tháng năm 2021
A4: BIÊN BẢN KIỂM PHIẾU TÍN NHIỆM NHÂN SỰ ĐƯA VÀO QUY HOẠCH CÁC CHỨC DANH QUẢN LÝ
A5: KHOA ĐIỆN - ĐIỆN TỬ - NĂM 2021
A7: ='KHOA CNTT'!A7:H7 -> Hôm nay, vào lúc giờ , ngày / /2021
A8: ='KHOA KHCB'!$A$8:$H$8 -> Tại: Phòng Họp - Trường Cao đẳng Lý Tự Trọng TP. Hồ Chí Minh
A9: ='KHOA KHCB'!$A$9:$H$9 -> Chúng tôi gồm có:
A10: ='KHOA KHCB'!$A$10:$F$10 -> 1. Ông Châu Văn Bảo, Phó Chủ tịch Công đoàn trường: | G10: ='KHOA KHCB'!$G$10 -> Tổ trưởng;
A11: ='KHOA KHCB'!$A$11:$F$11 -> 2. Bà Lưu Hoàng Hải Yến, Phó Trưởng phòng TC-HC-TH: | G11: ='KHOA KHCB'!$G$11 -> Thành viên;
A12: ='KHOA KHCB'!$A$12:$F$12 -> 3. Bà Nguyễn Thị Nhuận, Bí thư Chi bộ Sinh viên: | G12: ='KHOA KHCB'!$G$12 -> Thành viên;
A13: ='KHOA KHCB'!$A$13:$F$13 -> 4. Ông Trịnh Hoàng Hiệp, Phó Trưởng ban Thanh tra nhân dân: | G13: ='KHOA KHCB'!$G$14 -> Thành viên;
A14: 5. Ông Lương Xuân Thịnh, Bí thư Đoàn trường: | G14: Thành viên;
A15: ='KHOA KHCB'!$A$15:$H$15 -> Là các thành viên Tổ kiểm phiếu 1 theo Quyết định số /QĐ-LTT-TC ngày tháng năm 2020 của Trường Cao đẳng Lý Tự Trọng TP. Hồ Chí Minh.
A16: Tiến hành kiểm phiếu do CB-NV khoa Điện - Điện tử bỏ phiếu trong cuộc họp tham khảo tín nhiệm nhân sự đề cử đưa vào quy hoạch các chức danh quản lý tại phòng vào ngày 20/01/2021
B17: ='KHOA KHCB'!$B$17 -> Tổng số CB-GV đơn vị: | C17: 30
B18: ='KHOA KHCB'!B18 -> Tổng số phiếu: | C18: 30
A19: ='KHOA KHCB'!$A$19:$H$19 -> Kết quả kiểm phiếu cụ thể như sau:
A21: TT | B21: Họ và tên | C21: Chức vụ/Chức danh, Đơn vị công tác | E21: Số phiếu hợp lệ | F21: Số phiếu không hợp lệ | G21: Số phiếu tín nhiệm | H21: Tỷ lệ phiếu tín nhiệm
B22: Chức danh: Trưởng khoa
A23: 1 | B23: Huỳnh Ngọc Mai | C23: Phó Trưởng khoa khoa Điện - Điện tử | E23: =$C$18-$F23 -> 27 | F23: 3 | G23: 25 | H23: =$G23/$C$18 -> 0.83333333
A24: 2 | B24: Quách Minh Thử | C24: Trưởng BM Điện công nghiệp thuộc khoa Đ-ĐT | E24: =$C$18-$F24 -> 29 | F24: 1 | G24: 28 | H24: =$G24/$C$18 -> 0.93333333
A25: 3 | B25: Trần Nguyên Bảo Trân | C25: Trưởng BM CCĐT&TĐH thuộc khoa Đ-ĐT | E25: =$C$18-$F25 -> 27 | F25: 3 | G25: 20 | H25: =$G25/$C$18 -> 0.66666667
B26: Chức danh: Phó Trưởng khoa
A27: 1 | B27: Võ Cường | C27: Trưởng BM Kỹ thuật Đ-ĐT thuộc khoa Đ-ĐT | E27: =$C$18-$F27 -> 27 | F27: 3 | G27: 24 | H27: =$G27/$C$18 -> 0.8
A28: 2 | B28: Quách Minh Thử | C28: TrưởngBM Điện công nghiệp thuộc khoa Đ-ĐT | E28: =$C$18-$F28 -> 28 | F28: 2 | G28: 25 | H28: =$G28/$C$18 -> 0.83333333
A29: 3 | B29: Trần Nguyên Bảo Trân | C29: Trưởng BM CCĐT&TĐH thuộc khoa Đ-ĐT | E29: =$C$18-$F29 -> 28 | F29: 2 | G29: 23 | H29: =$G29/$C$18 -> 0.76666667
B30: Chức danh: Trưởng bộ môn Điện công nghiệp
A31: 1 | B31: Nguyễn Minh Đức Cường | C31: Giảng viên khoa Điện - Điện tử | E31: =$C$18-$F31 -> 28 | F31: 2 | G31: 27 | H31: =$G31/$C$18 -> 0.9
A32: 2 | B32: Đỗ Huỳnh Thanh Phong | C32: Giảng viên khoa Điện - Điện tử | E32: =$C$18-$F32 -> 27 | F32: 3 | G32: 21 | H32: =$G32/$C$18 -> 0.7
A33: 3 | B33: Nguyễn Anh Tăng | C33: Giảng viên khoa Điện - Điện tử | E33: =$C$18-$F33 -> 28 | F33: 2 | G33: 21 | H33: =$G33/$C$18 -> 0.7
B34: Chức danh: Trưởng bộ môn Kỹ thuật Điện - Điện tử
A35: 1 | B35: Tăng Cẩm Huê | C35: Giảng viên khoa Điện - Điện tử | E35: =$C$18-$F35 -> 27 | F35: 3 | G35: 19 | H35: =$G35/$C$18 -> 0.63333333
A36: 2 | B36: Trần Công Tiến | C36: Giảng viên khoa Điện - Điện tử | E36: =$C$18-$F36 -> 28 | F36: 2 | G36: 22 | H36: =$G36/$C$18 -> 0.73333333
A37: 3 | B37: Cao Văn Tuấn | C37: Giảng viên khoa Điện - Điện tử | E37: =$C$18-$F37 -> 28 | F37: 2 | G37: 24 | H37: =$G37/$C$18 -> 0.8
B38: Chức danh: Trưởng bộ môn Cơ điện tử và Tự động hóa
A39: 1 | B39: Ngô Phong Cường | C39: Giảng viên khoa Điện - Điện tử | E39: =$C$18-$F39 -> 27 | F39: 3 | G39: 24 | H39: =$G39/$C$18 -> 0.8
A40: 1 | B40: Đặng Đức Minh | C40: Giảng viên khoa Điện - Điện tử | E40: =$C$18-$F40 -> 27 | F40: 3 | G40: 25 | H40: =$G40/$C$18 -> 0.83333333
A41: 2 | B41: Trần Giang Nam | C41: Giảng viên khoa Điện - Điện tử | E41: =$C$18-$F41 -> 29 | F41: 1 | G41: 21 | H41: =$G41/$C$18 -> 0.7
A43: ……………………………………………………………………………………………… …………………………………………………………………………………………………… …………………………………………………………………………………………………… …………………………………………………………………………………………………….
A44: ='KHOA KHCB'!$A$46:$H$46 -> Chúng tôi đồng ký tên dưới đây, xác nhận việc kiểm phiếu được thực hiện chính xác, đúng quy định.
...

Sheet KHOA ĐỘNG LỰC
A1: UBND THÀNH PHỐ HỒ CHÍ MINH TRƯỜNG CAO ĐẲNG LÝ TỰ TRỌNG THÀNH PHỐ HỒ CHÍ MINH | D1: CỘNG HÒA XÃ HỘI CHỦ NGHĨA VIỆT NAM Độc lập - Tự do - Hạnh phúc
D2: ='KHOA ĐIỆN-ĐIỆN TỬ'!D2:H2 -> TP.Hồ Chí Minh, ngày tháng năm 2021
A4: BIÊN BẢN KIỂM PHIẾU TÍN NHIỆM NHÂN SỰ ĐƯA VÀO QUY HOẠCH CÁC CHỨC DANH QUẢN LÝ
A5: KHOA ĐỘNG LỰC - NĂM 2021
A7: ='KHOA ĐIỆN-ĐIỆN TỬ'!A7:H7 -> Hôm nay, vào lúc giờ , ngày / /2021
A8: ='KHOA KHCB'!$A$8:$H$8 -> Tại: Phòng Họp - Trường Cao đẳng Lý Tự Trọng TP. Hồ Chí Minh
A9: ='KHOA KHCB'!$A$9:$H$9 -> Chúng tôi gồm có:
A10: ='KHOA KHCB'!$A$10:$F$10 -> 1. Ông Châu Văn Bảo, Phó Chủ tịch Công đoàn trường: | G10: ='KHOA KHCB'!$G$10 -> Tổ trưởng;
A11: ='KHOA KHCB'!$A$11:$F$11 -> 2. Bà Lưu Hoàng Hải Yến, Phó Trưởng phòng TC-HC-TH: | G11: ='KHOA KHCB'!$G$11 -> Thành viên;
A12: ='KHOA KHCB'!$A$12:$F$12 -> 3. Bà Nguyễn Thị Nhuận, Bí thư Chi bộ Sinh viên: | G12: ='KHOA KHCB'!$G$12 -> Thành viên;
A13: ='KHOA KHCB'!$A$13:$F$13 -> 4. Ông Trịnh Hoàng Hiệp, Phó Trưởng ban Thanh tra nhân dân: | G13: ='KHOA KHCB'!$G$14 -> Thành viên;
A14: 5. Ông Lương Xuân Thịnh, Bí thư Đoàn trường: | G14: Thành viên;
A15: ='KHOA KHCB'!$A$15:$H$15 -> Là các thành viên Tổ kiểm phiếu 1 theo Quyết định số /QĐ-LTT-TC ngày tháng năm 2020 của Trường Cao đẳng Lý Tự Trọng TP. Hồ Chí Minh.
A16: Tiến hành kiểm phiếu do CB-NV khoa Động lực bỏ phiếu trong cuộc họp tham khảo tín nhiệm nhân sự đề cử đưa vào quy hoạch các chức danh quản lý tại phòng vào ngày ……………..
B17: ='KHOA KHCB'!$B$17 -> Tổng số CB-GV đơn vị:
B18: ='KHOA KHCB'!B18 -> Tổng số phiếu: | C18: 17
A19: ='KHOA KHCB'!$A$19:$H$19 -> Kết quả kiểm phiếu cụ thể như sau:
A21: TT | B21: Họ và tên | C21: Chức vụ/Chức danh, Đơn vị công tác | E21: Số phiếu hợp lệ | F21: Số phiếu không hợp lệ | G21: Số phiếu tín nhiệm | H21: Tỷ lệ phiếu tín nhiệm
B22: Chức danh: Trưởng khoa
A23: 1 | B23: Triệu Phú Nguyên | C23: Trưởng bộ môn thuộc khoa Động lực | E23: =$C$18-$F23 -> 17 | G23: 15 | H23: =$G23/$C$18 -> 0.88235294
A24: 2 | B24: Võ Đắc Thịnh | C24: Phó Trưởng khoa Động lực | E24: =$C$18-$F24 -> 17 | G24: 13 | H24: =$G24/$C$18 -> 0.76470588
B25: Chức danh: Phó Trưởng khoa
A26: 1 | B26: Triệu Phú Nguyên | C26: Trưởng bộ môn thuộc khoa Động lực | E26: =$C$18-$F26 -> 17 | G26: 12 | H26: =$G26/$C$18 -> 0.70588235
A27: 2 | B27: Nguyễn Hữu Mạnh | C27: Trưởng bộ môn thuộc khoa Động lực | E27: =$C$18-$F27 -> 17 | G27: 15 | H27: =$G27/$C$18 -> 0.88235294
B28: Chức danh: Trưởng bộ môn Động cơ ô tô
A29: 1 | B29: Trần Quốc Duy | C29: Giảng viên khoa Động lực | E29: =$C$18-$F29 -> 17 | G29: 16 | H29: =$G29/$C$18 -> 0.94117647
A30: 2 | B30: Hoàng Phúc Bảo | C30: Giảng viên khoa Động lực | E30: =$C$18-$F30 -> 17 | G30: 11 | H30: =$G30/$C$18 -> 0.64705882
B31: Chức danh: Trưởng bộ môn Điện ô tô
A32: 1 | B32: Nguyễn Thanh Hùng | C32: Giảng viên khoa Động lực | E32: =$C$18-$F32 -> 17 | G32: 16 | H32: =$G32/$C$18 -> 0.94117647
A33: 2 | B33: Trần Văn Đông | C33: Giảng viên khoa Động lực | E33: =$C$18-$F33 -> 17 | G33: 10 | H33: =$G33/$C$18 -> 0.58823529
B34: Chức danh: Trưởng bộ môn Gầm ô tô
A35: 1 | B35: Kiều Trung Tín | C35: Giảng viên khoa Động lực | E35: =$C$18-$F35 -> 17 | G35: 16 | H35: =$G35/$C$18 -> 0.94117647
A36: 2 | B36: Hồ Văn Hóa | C36: Giảng viên khoa Động lực | E36: =$C$18-$F36 -> 17 | G36: 15 | H36: =$G36/$C$18 -> 0.88235294
B37: Chức danh: Trưởng bộ môn Ô tô điện và Hybrid
A38: 1 | B38: Trần Văn Đông | C38: Giảng viên khoa Động lực | E38: =$C$18-$F38 -> 17 | G38: 16 | H38: =$G38/$C$18 -> 0.94117647
A39: 2 | B39: Lý Văn Trung | C39: Giảng viên khoa Động lực | E39: =$C$18-$F39 -> 17 | G39: 11 | H39: =$G39/$C$18 -> 0.64705882
A41: ……………………………………………………………………………………………… …………………………………………………………………………………………………… …………………………………………………………………………………………………… …………………………………………………………………………………………………….
A42: ='KHOA KHCB'!$A$46:$H$46 -> Chúng tôi đồng ký tên dưới đây, xác nhận việc kiểm phiếu được thực hiện chính xác, đúng quy định.
A43: ='KHOA ĐIỆN-ĐIỆN TỬ'!A45:H45 -> Biên bản kết thúc lúc ……. ngày ……/….../2021.
B46: ='KHOA KHCB'!$B$50 -> THÀNH VIÊN TỔ KIỂM PHIẾU | E46: ='KHOA KHCB'!$E$50:$H$50 -> TỔ TRƯỞNG TỔ KIỂM PHIẾU
...

Sheet KHOA NHIỆT - LẠNH
A1: UBND THÀNH PHỐ HỒ CHÍ MINH TRƯỜNG CAO ĐẲNG LÝ TỰ TRỌNG THÀNH PHỐ HỒ CHÍ MINH | D1: CỘNG HÒA XÃ HỘI CHỦ NGHĨA VIỆT NAM Độc lập - Tự do - Hạnh phúc
D2: ='KHOA ĐỘNG LỰC'!D2:H2 -> TP.Hồ Chí Minh, ngày tháng năm 2021
A4: BIÊN BẢN KIỂM PHIẾU TÍN NHIỆM NHÂN SỰ ĐƯA VÀO QUY HOẠCH CÁC CHỨC DANH QUẢN LÝ
A5: KHOA NHIỆT - LẠNH - NĂM 2021
A7: ='KHOA ĐỘNG LỰC'!A7:H7 -> Hôm nay, vào lúc giờ , ngày / /2021
A8: ='KHOA KHCB'!$A$8:$H$8 -> Tại: Phòng Họp - Trường Cao đẳng Lý Tự Trọng TP. Hồ Chí Minh
A9: ='KHOA KHCB'!$A$9:$H$9 -> Chúng tôi gồm có:
A10: ='KHOA KHCB'!$A$10:$F$10 -> 1. Ông Châu Văn Bảo, Phó Chủ tịch Công đoàn trường: | G10: ='KHOA KHCB'!$G$10 -> Tổ trưởng;
A11: ='KHOA KHCB'!$A$11:$F$11 -> 2. Bà Lưu Hoàng Hải Yến, Phó Trưởng phòng TC-HC-TH: | G11: ='KHOA KHCB'!$G$11 -> Thành viên;
A12: ='KHOA KHCB'!$A$12:$F$12 -> 3. Bà Nguyễn Thị Nhuận, Bí thư Chi bộ Sinh viên: | G12: ='KHOA KHCB'!$G$12 -> Thành viên;
A13: ='KHOA KHCB'!$A$13:$F$13 -> 4. Ông Trịnh Hoàng Hiệp, Phó Trưởng ban Thanh tra nhân dân: | G13: ='KHOA KHCB'!$G$14 -> Thành viên;
A14: 5. Ông Lương Xuân Thịnh, Bí thư Đoàn trường: | G14: Thành viên;
A15: ='KHOA KHCB'!$A$15:$H$15 -> Là các thành viên Tổ kiểm phiếu 1 theo Quyết định số /QĐ-LTT-TC ngày tháng năm 2020 của Trường Cao đẳng Lý Tự Trọng TP. Hồ Chí Minh.
A16: Tiến hành kiểm phiếu do CB-NV khoa Nhiệt - Lạnh bỏ phiếu trong cuộc họp tham khảo tín nhiệm nhân sự đề cử đưa vào quy hoạch các chức danh quản lý tại phòng vào ngày …………….
B17: ='KHOA KHCB'!$B$17 -> Tổng số CB-GV đơn vị: | C17: 8
B18: ='KHOA KHCB'!B18 -> Tổng số phiếu: | C18: 8
A19: ='KHOA KHCB'!$A$19:$H$19 -> Kết quả kiểm phiếu cụ thể như sau:
A21: TT | B21: Họ và tên | C21: Chức vụ/Chức danh, Đơn vị công tác | E21: Số phiếu hợp lệ | F21: Số phiếu không hợp lệ | G21: Số phiếu tín nhiệm | H21: Tỷ lệ phiếu tín nhiệm
B22: Chức danh: Trưởng khoa
A23: 1 | B23: Võ Anh Hào | C23: Phụ trách tổ Cơ sở ngành thuộc khoa Nhiệt - Lạnh | E23: =$C$18-$F23 -> 8 | G23: 5 | H23: =$G23/$C$18 -> 0.625
A24: 2 | B24: Hoàng Văn Viết | C24: Phó Trưởng khoa Nhiệt - Lạnh | E24: =$C$18-$F24 -> 8 | G24: 8 | H24: =$G24/$C$18 -> 1
B25: Chức danh: Phó Trưởng khoa
A26: 1 | B26: Võ Anh Hào | C26: Phụ trách tổ Cơ sở ngành thuộc khoa Nhiệt - Lạnh | E26: =$C$18-$F26 -> 8 | G26: 6 | H26: =$G26/$C$18 -> 0.75
A27: 2 | B27: Đặng Thế Huân | C27: Phụ trách tổ Nhiệt - Lạnh chuyên ngành thuộc khoa Nhiệt - Lạnh | E27: =$C$18-$F27 -> 8 | G27: 8 | H27: =$G27/$C$18 -> 1
A28: 3 | B28: Nguyễn Vũ Xuân Thì | C28: Giảng viên khoa Nhiệt - Lạnh | E28: =$C$18-$F28 -> 8 | G28: 7 | H28: =$G28/$C$18 -> 0.875
B29: Chức danh: Trưởng bộ môn Nhiệt - Lạnh chuyên ngành
A30: 1 | B30: Nguyễn Hữu Xuân Thì | C30: Giảng viên khoa Nhiệt - Lạnh | E30: =$C$18-$F30 -> 8 | G30: 8 | H30: =$G30/$C$18 -> 1
B31: Chức danh: Trưởng bộ môn Cơ sở ngành
A32: 1 | B32: Trần Đình Khoa | C32: Giảng viên khoa Nhiệt - Lạnh | E32: =$C$18-$F32 -> 8 | G32: 8 | H32: =$G32/$C$18 -> 1
A34: ……………………………………………………………………………………………… …………………………………………………………………………………………………… …………………………………………………………………………………………………… …………………………………………………………………………………………………….
A35: ='KHOA KHCB'!$A$46:$H$46 -> Chúng tôi đồng ký tên dưới đây, xác nhận việc kiểm phiếu được thực hiện chính xác, đúng quy định.
A36: ='KHOA ĐỘNG LỰC'!A43:H43 -> Biên bản kết thúc lúc ……. ngày ……/….../2021.
B39: ='KHOA KHCB'!$B$50 -> THÀNH VIÊN TỔ KIỂM PHIẾU | E39: ='KHOA KHCB'!$E$50:$H$50 -> TỔ TRƯỞNG TỔ KIỂM PHIẾU
A41: ='KHOA KHCB'!$A$52:$D$52 -> Lưu Hoàng Hải Yến: ………………………………
A42: ='KHOA KHCB'!$A$53:$D$53 -> Nguyễn Thị Nhuận: …………………………
A43: ='KHOA KHCB'!$A$54:$D$54 -> Trịnh Hoàng Hiệp: ………………………………. | E43: ='KHOA KHCB'!$E$54:$H$54 -> Châu Văn Bảo
A44: ='KHOA KHCB'!$A$55:$D$55 -> Lương Xuân Thịnh: ………………………………..

Sheet KHOA MAY - TT
A1: UBND THÀNH PHỐ HỒ CHÍ MINH TRƯỜNG CAO ĐẲNG LÝ TỰ TRỌNG THÀNH PHỐ HỒ CHÍ MINH | D1: CỘNG HÒA XÃ HỘI CHỦ NGHĨA VIỆT NAM Độc lập - Tự do - Hạnh phúc
D2: ='KHOA NHIỆT - LẠNH'!D2:H2 -> TP.Hồ Chí Minh, ngày tháng năm 2021
A4: BIÊN BẢN KIỂM PHIẾU TÍN NHIỆM NHÂN SỰ ĐƯA VÀO QUY HOẠCH CÁC CHỨC DANH QUẢN LÝ
A5: KHOA MAY - THỜI TRANG - NĂM 2021
A7: ='KHOA NHIỆT - LẠNH'!A7:H7 -> Hôm nay, vào lúc giờ , ngày / /2021
A8: ='KHOA KHCB'!$A$8:$H$8 -> Tại: Phòng Họp - Trường Cao đẳng Lý Tự Trọng TP. Hồ Chí Minh
A9: ='KHOA KHCB'!$A$9:$H$9 -> Chúng tôi gồm có:
A10: ='KHOA KHCB'!$A$10:$F$10 -> 1. Ông Châu Văn Bảo, Phó Chủ tịch Công đoàn trường: | G10: ='KHOA KHCB'!$G$10 -> Tổ trưởng;
A11: ='KHOA KHCB'!$A$11:$F$11 -> 2. Bà Lưu Hoàng Hải Yến, Phó Trưởng phòng TC-HC-TH: | G11: ='KHOA KHCB'!$G$11 -> Thành viên;
A12: ='KHOA KHCB'!$A$12:$F$12 -> 3. Bà Nguyễn Thị Nhuận, Bí thư Chi bộ Sinh viên: | G12: ='KHOA KHCB'!$G$12 -> Thành viên;
A13: ='KHOA KHCB'!$A$13:$F$13 -> 4. Ông Trịnh Hoàng Hiệp, Phó Trưởng ban Thanh tra nhân dân: | G13: ='KHOA KHCB'!$G$14 -> Thành viên;
A14: 5. Ông Lương Xuân Thịnh, Bí thư Đoàn trường: | G14: Thành viên;
A15: ='KHOA KHCB'!$A$15:$H$15 -> Là các thành viên Tổ kiểm phiếu 1 theo Quyết định số /QĐ-LTT-TC ngày tháng năm 2020 của Trường Cao đẳng Lý Tự Trọng TP. Hồ Chí Minh.
A16: Tiến hành kiểm phiếu do CB-NV khoa May - Thời trang bỏ phiếu trong cuộc họp tham khảo tín nhiệm nhân sự đề cử đưa vào quy hoạch các chức danh quản lý tại phòng vào ngày 29/01/2021
B17: ='KHOA KHCB'!$B$17 -> Tổng số CB-GV đơn vị: | C17: 10
B18: ='KHOA KHCB'!B18 -> Tổng số phiếu: | C18: 9
A19: ='KHOA KHCB'!$A$19:$H$19 -> Kết quả kiểm phiếu cụ thể như sau:
A21: TT | B21: Họ và tên | C21: Chức vụ/Chức danh, Đơn vị công tác | E21: Số phiếu hợp lệ | F21: Số phiếu không hợp lệ | G21: Số phiếu tín nhiệm | H21: Tỷ lệ phiếu tín nhiệm
B22: Chức danh: Trưởng khoa
A23: 1 | B23: Nguyễn Bạch Cẩm Dung | C23: Giảng viên khoa May - Thời trang | E23: =$C$18-$F23 -> 9 | G23: 6 | H23: =$G23/$C$18 -> 0.66666667
A24: 2 | B24: Trần Hồng Thảo | C24: Giảng viên khoa May - Thời trang | E24: =$C$18-$F24 -> 9 | G24: 3 | H24: =$G24/$C$18 -> 0.33333333
A25: 3 | B25: Lâm Thị Phương Thùy | C25: Giảng viên khoa May - Thời trang | E25: =$C$18-$F25 -> 9 | G25: 5 | H25: =$G25/$C$18 -> 0.55555556
B26: Chức danh: Phó Trưởng khoa
A27: 1 | B27: Nguyễn Bạch Cẩm Dung | C27: Giảng viên khoa May - Thời trang | E27: =$C$18-$F27 -> 9 | G27: 9 | H27: =$G27/$C$18 -> 1
A28: 2 | B28: Trần Hồng Thảo | C28: Giảng viên khoa May - Thời trang | E28: =$C$18-$F28 -> 9 | G28: 4 | H28: =$G28/$C$18 -> 0.44444444
A29: 3 | B29: Lâm Thị Phương Thùy | C29: Giảng viên khoa May - Thời trang | E29: =$C$18-$F29 -> 9 | G29: 3 | H29: =$G29/$C$18 -> 0.33333333
B30: Chức danh: Trưởng bộ môn Thiết kế
A31: 1 | B31: Bùi Thị Ngọc Sương | C31: Giảng viên khoa May - Thời trang | E31: =$C$18-$F31 -> 9 | G31: 9 | H31: =$G31/$C$18 -> 1
A32: 2 | B32: Trần Hồng Thảo | C32: Giảng viên khoa May - Thời trang | E32: =$C$18-$F32 -> 9 | G32: 7 | H32: =$G32/$C$18 -> 0.77777778
B33: Chức danh: Trưởng bộ môn Công nghệ
A34: 1 | B34: Nguyễn Bạch Cẩm Dung | C34: Giảng viên khoa May - Thời trang | E34: =$C$18-$F34 -> 9 | G34: 8 | H34: =$G34/$C$18 -> 0.88888889
A35: 2 | B35: Lâm Thị Phương Thùy | C35: Giảng viên khoa May - Thời trang | E35: =$C$18-$F35 -> 9 | G35: 7 | H35: =$G35/$C$18 -> 0.77777778
A37: ……………………………………………………………………………………………… …………………………………………………………………………………………………… …………………………………………………………………………………………………… …………………………………………………………………………………………………….
A38: ='KHOA KHCB'!$A$46:$H$46 -> Chúng tôi đồng ký tên dưới đây, xác nhận việc kiểm phiếu được thực hiện chính xác, đúng quy định.
A39: ='KHOA NHIỆT - LẠNH'!A36:H36 -> Biên bản kết thúc lúc ……. ngày ……/….../2021.
B42: ='KHOA KHCB'!$B$50 -> THÀNH VIÊN TỔ KIỂM PHIẾU | E42: ='KHOA KHCB'!$E$50:$H$50 -> TỔ TRƯỞNG TỔ KIỂM PHIẾU
A44: ='KHOA KHCB'!$A$52:$D$52 -> Lưu Hoàng Hải Yến: ………………………………
A45: ='KHOA KHCB'!$A$53:$D$53 -> Nguyễn Thị Nhuận: …………………………
A46: ='KHOA KHCB'!$A$54:$D$54 -> Trịnh Hoàng Hiệp: ………………………………. | E46: ='KHOA KHCB'!$E$54:$H$54 -> Châu Văn Bảo
A47: ='KHOA KHCB'!$A$55:$D$55 -> Lương Xuân Thịnh: ………………………………..

Sheet KHOA KINH TẾ
A1: UBND THÀNH PHỐ HỒ CHÍ MINH TRƯỜNG CAO ĐẲNG LÝ TỰ TRỌNG THÀNH PHỐ HỒ CHÍ MINH | D1: CỘNG HÒA XÃ HỘI CHỦ NGHĨA VIỆT NAM Độc lập - Tự do - Hạnh phúc
D2: ='KHOA MAY - TT'!D2:H2 -> TP.Hồ Chí Minh, ngày tháng năm 2021
A4: BIÊN BẢN KIỂM PHIẾU TÍN NHIỆM NHÂN SỰ ĐƯA VÀO QUY HOẠCH CÁC CHỨC DANH QUẢN LÝ
A5: KHOA KINH TẾ - NĂM 2021
A7: ='KHOA MAY - TT'!A7:H7 -> Hôm nay, vào lúc giờ , ngày / /2021
A8: ='KHOA KHCB'!$A$8:$H$8 -> Tại: Phòng Họp - Trường Cao đẳng Lý Tự Trọng TP. Hồ Chí Minh
A9: ='KHOA KHCB'!$A$9:$H$9 -> Chúng tôi gồm có:
A10: ='KHOA KHCB'!$A$10:$F$10 -> 1. Ông Châu Văn Bảo, Phó Chủ tịch Công đoàn trường: | G10: ='KHOA KHCB'!$G$10 -> Tổ trưởng;
A11: ='KHOA KHCB'!$A$11:$F$11 -> 2. Bà Lưu Hoàng Hải Yến, Phó Trưởng phòng TC-HC-TH: | G11: ='KHOA KHCB'!$G$11 -> Thành viên;
A12: ='KHOA KHCB'!$A$12:$F$12 -> 3. Bà Nguyễn Thị Nhuận, Bí thư Chi bộ Sinh viên: | G12: ='KHOA KHCB'!$G$12 -> Thành viên;
A13: ='KHOA KHCB'!$A$13:$F$13 -> 4. Ông Trịnh Hoàng Hiệp, Phó Trưởng ban Thanh tra nhân dân: | G13: ='KHOA KHCB'!$G$14 -> Thành viên;
A14: 5. Ông Lương Xuân Thịnh, Bí thư Đoàn trường: | G14: Thành viên;
A15: ='KHOA KHCB'!$A$15:$H$15 -> Là các thành viên Tổ kiểm phiếu 1 theo Quyết định số /QĐ-LTT-TC ngày tháng năm 2020 của Trường Cao đẳng Lý Tự Trọng TP. Hồ Chí Minh.
A16: Tiến hành kiểm phiếu do CB-NV khoa Kinh tế bỏ phiếu trong cuộc họp tham khảo tín nhiệm nhân sự đề cử đưa vào quy hoạch các chức danh quản lý tại phòng vào ngày ……………..
B17: ='KHOA KHCB'!$B$17 -> Tổng số CB-GV đơn vị: | C17: 14
B18: ='KHOA KHCB'!B18 -> Tổng số phiếu: | C18: 13
A19: ='KHOA KHCB'!$A$19:$H$19 -> Kết quả kiểm phiếu cụ thể như sau:
A21: TT | B21: Họ và tên | C21: Chức vụ/Chức danh, Đơn vị công tác | E21: Số phiếu hợp lệ | F21: Số phiếu không hợp lệ | G21: Số phiếu tín nhiệm | H21: Tỷ lệ phiếu tín nhiệm
B22: Chức danh: Trưởng khoa
A23: 1 | B23: Phạm Quỳnh Như | C23: Trưởng BM Kế toán - Tài chính thuộc khoa Kinh tế | E23: =$C$18-$F23 -> 13 | G23: 12 | H23: =$G23/$C$18 -> 0.92307692
A24: 2 | B24: Lữ Xuân Trang | C24: Trưởng BM Cơ sở ngành thuộc khoa Kinh tế | E24: =$C$18-$F24 -> 13 | G24: 10 | H24: =$G24/$C$18 -> 0.76923077
A25: 3 | B25: Lưu Thị Thúy | C25: Giảng viên khoa Kinh tế | E25: =$C$18-$F25 -> 13 | G25: 11 | H25: =$G25/$C$18 -> 0.84615385
B26: Chức danh: Trưởng bộ môn Quản trị kinh doanh
A27: 1 | B27: Cao Xuân Giang | C27: Giảng viên khoa Kinh tế | E27: =$C$18-$F27 -> 13 | G27: 11 | H27: =$G27/$C$18 -> 0.84615385
A28: 2 | B28: Huỳnh Chí Giỏi | C28: Giảng viên khoa Kinh tế | E28: =$C$18-$F28 -> 13 | G28: 10 | H28: =$G28/$C$18 -> 0.76923077
A29: 2 | B29: Lê Thị Thúy Oanh | C29: Giảng viên khoa Kinh tế | E29: =$C$18-$F29 -> 13 | G29: 8 | H29: =$G29/$C$18 -> 0.61538462
B30: Chức danh: Trưởng bộ môn Kế toán tài chính
A31: 1 | B31: Lê Thị Phương Thảo | C31: Giảng viên khoa Kinh tế | E31: =$C$18-$F31 -> 13 | G31: 10 | H31: =$G31/$C$18 -> 0.76923077
A32: 1 | B32: Lưu Thị Thúy | C32: Giảng viên khoa Kinh tế | E32: =$C$18-$F32 -> 13 | G32: 12 | H32: =$G32/$C$18 -> 0.92307692
A33: 2 | B33: Nguyễn Thị Minh Thùy | C33: Giảng viên khoa Kinh tế | E33: =$C$18-$F33 -> 13 | G33: 10 | H33: =$G33/$C$18 -> 0.76923077
B34: Chức danh: Trưởng bộ môn Cơ sở ngành
A35: 1 | B35: Trần Thị Ngọc Dung | C35: Giảng viên khoa Kinh tế | E35: =$C$18-$F35 -> 13 | G35: 11 | H35: =$G35/$C$18 -> 0.84615385
A36: 1 | B36: Võ Thị Kim Thư | C36: Giảng viên khoa Kinh tế | E36: =$C$18-$F36 -> 13 | G36: 10 | H36: =$G36/$C$18 -> 0.76923077
A37: 2 | B37: Đào Anh Tuấn | C37: Giảng viên khoa Kinh tế | E37: =$C$18-$F37 -> 13 | G37: 9 | H37: =$G37/$C$18 -> 0.69230769
A39: ……………………………………………………………………………………………… …………………………………………………………………………………………………… …………………………………………………………………………………………………… …………………………………………………………………………………………………….
A40: ='KHOA KHCB'!$A$46:$H$46 -> Chúng tôi đồng ký tên dưới đây, xác nhận việc kiểm phiếu được thực hiện chính xác, đúng quy định.
A41: ='KHOA MAY - TT'!A39:H39 -> Biên bản kết thúc lúc ……. ngày ……/….../2021.
B44: ='KHOA KHCB'!$B$50 -> THÀNH VIÊN TỔ KIỂM PHIẾU | E44: ='KHOA KHCB'!$E$50:$H$50 -> TỔ TRƯỞNG TỔ KIỂM PHIẾU
A46: ='KHOA KHCB'!$A$52:$D$52 -> Lưu Hoàng Hải Yến: ………………………………
A47: ='KHOA KHCB'!$A$53:$D$53 -> Nguyễn Thị Nhuận: …………………………
...

Sheet KHOA XÂY DỰNG
A1: UBND THÀNH PHỐ HỒ CHÍ MINH TRƯỜNG CAO ĐẲNG LÝ TỰ TRỌNG THÀNH PHỐ HỒ CHÍ MINH | D1: CỘNG HÒA XÃ HỘI CHỦ NGHĨA VIỆT NAM Độc lập - Tự do - Hạnh phúc
D2: ='KHOA KINH TẾ'!D2:H2 -> TP.Hồ Chí Minh, ngày tháng năm 2021
A4: BIÊN BẢN KIỂM PHIẾU TÍN NHIỆM NHÂN SỰ ĐƯA VÀO QUY HOẠCH CÁC CHỨC DANH QUẢN LÝ
A5: KHOA XÂY DỰNG - NĂM 2021
A7: ='KHOA KINH TẾ'!A7:H7 -> Hôm nay, vào lúc giờ , ngày / /2021
A8: ='KHOA KHCB'!$A$8:$H$8 -> Tại: Phòng Họp - Trường Cao đẳng Lý Tự Trọng TP. Hồ Chí Minh
A9: ='KHOA KHCB'!$A$9:$H$9 -> Chúng tôi gồm có:
A10: ='KHOA KHCB'!$A$10:$F$10 -> 1. Ông Châu Văn Bảo, Phó Chủ tịch Công đoàn trường: | G10: ='KHOA KHCB'!$G$10 -> Tổ trưởng;
A11: ='KHOA KHCB'!$A$11:$F$11 -> 2. Bà Lưu Hoàng Hải Yến, Phó Trưởng phòng TC-HC-TH: | G11: ='KHOA KHCB'!$G$11 -> Thành viên;
A12: ='KHOA KHCB'!$A$12:$F$12 -> 3. Bà Nguyễn Thị Nhuận, Bí thư Chi bộ Sinh viên: | G12: ='KHOA KHCB'!$G$12 -> Thành viên;
A13: ='KHOA KHCB'!$A$13:$F$13 -> 4. Ông Trịnh Hoàng Hiệp, Phó Trưởng ban Thanh tra nhân dân: | G13: ='KHOA KHCB'!$G$14 -> Thành viên;
A14: 5. Ông Lương Xuân Thịnh, Bí thư Đoàn trường: | G14: Thành viên;
A15: ='KHOA KHCB'!$A$15:$H$15 -> Là các thành viên Tổ kiểm phiếu 1 theo Quyết định số /QĐ-LTT-TC ngày tháng năm 2020 của Trường Cao đẳng Lý Tự Trọng TP. Hồ Chí Minh.
A16: Tiến hành kiểm phiếu do CB-NV khoa Xây dựng bỏ phiếu trong cuộc họp tham khảo tín nhiệm nhân sự đề cử đưa vào quy hoạch các chức danh quản lý tại phòng vào ngày 20/03/2021
B17: ='KHOA KHCB'!$B$17 -> Tổng số CB-GV đơn vị: | C17: 4
B18: ='KHOA KHCB'!B18 -> Tổng số phiếu: | C18: 3
A19: ='KHOA KHCB'!$A$19:$H$19 -> Kết quả kiểm phiếu cụ thể như sau:
A21: TT | B21: Họ và tên | C21: Chức vụ/Chức danh, Đơn vị công tác | E21: Số phiếu hợp lệ | F21: Số phiếu không hợp lệ | G21: Số phiếu tín nhiệm | H21: Tỷ lệ phiếu tín nhiệm
B22: Chức danh: Trưởng khoa
A23: 1 | B23: Phạm Quang Vũ | C23: Phó Trưởng khoa, Phụ trách khoa Xây dựng | E23: =$C$18-$F23 -> 3 | G23: 3 | H23: =$G23/$C$18 -> 1
B24: Chức danh: Trưởng bộ môn Kỹ thuật xây dựng
A25: 1 | B25: Trình Minh Phong | C25: Giảng viên khoa Xây dựng | E25: =$C$18-$F25 -> 3 | G25: 3 | H25: =$G25/$C$18 -> 1
A27: ……………………………………………………………………………………………… …………………………………………………………………………………………………… …………………………………………………………………………………………………… …………………………………………………………………………………………………….
A28: ='KHOA KHCB'!$A$46:$H$46 -> Chúng tôi đồng ký tên dưới đây, xác nhận việc kiểm phiếu được thực hiện chính xác, đúng quy định.
A29: ='KHOA KINH TẾ'!A41:H41 -> Biên bản kết thúc lúc ……. ngày ……/….../2021.
B32: ='KHOA KHCB'!$B$50 -> THÀNH VIÊN TỔ KIỂM PHIẾU | E32: ='KHOA KHCB'!$E$50:$H$50 -> TỔ TRƯỞNG TỔ KIỂM PHIẾU
A34: ='KHOA KHCB'!$A$52:$D$52 -> Lưu Hoàng Hải Yến: ………………………………
A35: ='KHOA KHCB'!$A$53:$D$53 -> Nguyễn Thị Nhuận: …………………………
A36: ='KHOA KHCB'!$A$54:$D$54 -> Trịnh Hoàng Hiệp: ………………………………. | E36: ='KHOA KHCB'!$E$54:$H$54 -> Châu Văn Bảo
A37: ='KHOA KHCB'!$A$55:$D$55 -> Lương Xuân Thịnh: ………………………………..

Sheet KHOA NGOẠI NGỮ
A1: UBND THÀNH PHỐ HỒ CHÍ MINH TRƯỜNG CAO ĐẲNG LÝ TỰ TRỌNG THÀNH PHỐ HỒ CHÍ MINH | D1: CỘNG HÒA XÃ HỘI CHỦ NGHĨA VIỆT NAM Độc lập - Tự do - Hạnh phúc
D2: ='KHOA KINH TẾ'!D2:H2 -> TP.Hồ Chí Minh, ngày tháng năm 2021
A4: BIÊN BẢN KIỂM PHIẾU TÍN NHIỆM NHÂN SỰ ĐƯA VÀO QUY HOẠCH CÁC CHỨC DANH QUẢN LÝ
A5: KHOA NGOẠI NGỮ - NĂM 2021
A7: ='KHOA KINH TẾ'!A7:H7 -> Hôm nay, vào lúc giờ , ngày / /2021
A8: ='KHOA KHCB'!$A$8:$H$8 -> Tại: Phòng Họp - Trường Cao đẳng Lý Tự Trọng TP. Hồ Chí Minh
A9: ='KHOA KHCB'!$A$9:$H$9 -> Chúng tôi gồm có:
A10: ='KHOA KHCB'!$A$10:$F$10 -> 1. Ông Châu Văn Bảo, Phó Chủ tịch Công đoàn trường: | G10: ='KHOA KHCB'!$G$10 -> Tổ trưởng;
A11: ='KHOA KHCB'!$A$11:$F$11 -> 2. Bà Lưu Hoàng Hải Yến, Phó Trưởng phòng TC-HC-TH: | G11: ='KHOA KHCB'!$G$11 -> Thành viên;
A12: ='KHOA KHCB'!$A$12:$F$12 -> 3. Bà Nguyễn Thị Nhuận, Bí thư Chi bộ Sinh viên: | G12: ='KHOA KHCB'!$G$12 -> Thành viên;
A13: ='KHOA KHCB'!$A$13:$F$13 -> 4. Ông Trịnh Hoàng Hiệp, Phó Trưởng ban Thanh tra nhân dân: | G13: ='KHOA KHCB'!$G$14 -> Thành viên;
A14: 5. Ông Lương Xuân Thịnh, Bí thư Đoàn trường: | G14: Thành viên;
A15: ='KHOA KHCB'!$A$15:$H$15 -> Là các thành viên Tổ kiểm phiếu 1 theo Quyết định số /QĐ-LTT-TC ngày tháng năm 2020 của Trường Cao đẳng Lý Tự Trọng TP. Hồ Chí Minh.
A16: Tiến hành kiểm phiếu do CB-NV khoa Khoa học cơ bản bỏ phiếu trong cuộc họp tham khảo tín nhiệm nhân sự đề cử đưa vào quy hoạch các chức danh quản lý tại phòng vào ngày 08/01/2021
B17: ='KHOA KHCB'!$B$17 -> Tổng số CB-GV đơn vị: | C17: 34
B18: ='KHOA KHCB'!B18 -> Tổng số phiếu: | C18: 27
A19: ='KHOA KHCB'!$A$19:$H$19 -> Kết quả kiểm phiếu cụ thể như sau:
A21: TT | B21: Họ và tên | C21: Chức vụ/Chức danh, Đơn vị công tác | E21: Số phiếu hợp lệ | F21: Số phiếu không hợp lệ | G21: Số phiếu tín nhiệm | H21: Tỷ lệ phiếu tín nhiệm
B22: Chức danh: Trưởng khoa
A23: 1 | B23: Phạm Thị Thu Hiền | E23: =$C$18-$F23 -> 27 | G23: 22 | H23: =$G23/$C$18 -> 0.81481481
A24: 1 | B24: Trần Thanh Trúc | E24: =$C$18-$F24 -> 27 | G24: 17 | H24: =$G24/$C$18 -> 0.62962963
A26: ……………………………………………………………………………………………… …………………………………………………………………………………………………… …………………………………………………………………………………………………… …………………………………………………………………………………………………….
A27: ='KHOA KHCB'!$A$46:$H$46 -> Chúng tôi đồng ký tên dưới đây, xác nhận việc kiểm phiếu được thực hiện chính xác, đúng quy định.
A28: ='KHOA KINH TẾ'!A41:H41 -> Biên bản kết thúc lúc ……. ngày ……/….../2021.
B31: ='KHOA KHCB'!$B$50 -> THÀNH VIÊN TỔ KIỂM PHIẾU | E31: ='KHOA KHCB'!$E$50:$H$50 -> TỔ TRƯỞNG TỔ KIỂM PHIẾU
A33: ='KHOA KHCB'!$A$52:$D$52 -> Lưu Hoàng Hải Yến: ………………………………
A34: ='KHOA KHCB'!$A$53:$D$53 -> Nguyễn Thị Nhuận: …………………………
A35: ='KHOA KHCB'!$A$54:$D$54 -> Trịnh Hoàng Hiệp: ………………………………. | E35: ='KHOA KHCB'!$E$54:$H$54 -> Châu Văn Bảo
A36: ='KHOA KHCB'!$A$55:$D$55 -> Lương Xuân Thịnh: ………………………………..

Sheet TB-VT
C2: Thành phố Hồ Chí Minh, ngày tháng 01 năm 2018
A4: BIÊN BẢN KIỂM PHIẾU TÍN NHIỆM CÁN BỘ ĐƯA VÀO QUY HOẠCH CÁC CHỨC DANH QUẢN LÝ CỦA PHÒNG QUẢN TRỊ - DỊCH VỤ ĐẾN NĂM 2020 VÀ NHỮNG NĂM TIẾP THEO
A6: Hôm nay, vào lúc giờ , ngày /01/2018
A7: Tại: Hội trường B - Trường Cao đẳng Lý Tự Trọng Tp. Hồ Chí Minh
A8: Chúng tôi gồm có:
A9: 1. Ông Lê Xuân Thiện, Phó Trưởng phòng TC-HC-TH: | E9: Tổ trưởng;
A10: 2. Ông Châu Văn Bảo, Phó Chủ tịch Công đoàn trường: | E10: Thành viên;
A11: 3. Ông Nguyễn Văn Chì, Chi ủy viên Chi bộ 2: | E11: Thành viên;
A12: 4. Ông Huỳnh Ngọc Mai, Trưởng Ban Thanh tra nhân dân: | E12: Thành viên;
A13: 5. Ông Nguyễn Hữu Thiện, Bí thư Đoàn trường: | E13: Thành viên;
A14: Là các thành viên Tổ kiểm phiếu 1 theo Quyết định số 1364/QĐ-LTT-TC ngày 29 tháng 12 năm 2017 của Trường Cao đẳng Lý Tự Trọng Tp. Hồ Chí Minh.
A15: Tiến hành kiểm phiếu do CB-NV phòng Thiết bị - Vật tư bỏ phiếu trong cuộc họp tham khảo tín nhiệm nhân sự đề cử đưa vào quy hoạch các chức danh quản lý tại phòng vào ngày 28/12/2017
A16: Tổng số phiếu: | C16: 5
A17: Kết quả kiểm phiếu theo tỷ lệ từ cao xuống thấp, cụ thể như sau:
A19: TT | B19: Họ và tên | C19: Chức vụ/Chức danh, Đơn vị công tác | D19: Số phiếu hợp lệ | E19: Số phiếu không hợp lệ | F19: Số phiếu tín nhiệm | G19: Tỷ lệ phiếu tín nhiệm
B20: Chức danh: TRƯỞNG PHÒNG
A21: 1 | B21: NGUYỄN VĂN CHIẾN | C21: Phó Trưởng phòng Thiết bị - Vật tư | E21: =$C$16-D21 -> 5 | G21: =F21/$C$16 -> 0
A22: 2 | B22: NGUYỄN CHÍ NHÂN | C22: Phó Trưởng phòng Khảo thí - Đảm bảo chất lượng | E22: =$C$16-D22 -> 5 | G22: =F22/$C$16 -> 0
B23: Chức danh: PHÓ TRƯỞNG PHÒNG
A24: 1 | B24: THÂN THỊ NHUNG | C24: Nhân viên Phòng Thiết bị - Vật tư | E24: =$C$16-D24 -> 5 | G24: =F24/$C$16 -> 0
A26: ……………………………………………………………………………………………… …………………………………………………………………………………………………… ……………………………………………………………………………………………
A27: Chúng tôi đồng ký tên dưới đây, xác nhận việc kiểm phiếu được thực hiện chính xác, đúng quy định.
A28: Biên bản kết thúc lúc ……. ngày ……/01/2018.
B30: THÀNH VIÊN TỔ KIỂM PHIẾU | D30: TỔ TRƯỞNG TỔ KIỂM PHIẾU
A32: Châu Văn Bảo: …………………………………
A33: Nguyễn Văn Chì: ……………………………
A34: Huỳnh Ngọc Mai: ………………………………. | D34: Lê Xuân Thiện
A35: Nguyễn Hữu Thiện: ……………………………..
