Workbook

Sheet Mau 1
G1: Mẫu 1
A2: TRƯỜNG CAO ĐẲNG LÝ TỰ TRỌNG | E2: CỘNG HÒA XÃ HỘI CHỦ NGHĨA VIỆT NAM
A3: THÀNH PHỐ HỒ CHÍ MINH | E3: Độc lập - Tự do - Hạnh phúc
A4: PHÒNG THANH TRA GIÁO DỤC - CÔNG TÁC SINH VIÊN
A6: DANH SÁCH CB-GV-NV ĐẠT TIÊU CHUẨN XẾP LOẠI THI ĐUA (Quy định số 1310/QyĐ-LTT-TĐ ngày 09/11/2020 của Trường)
A8: TT | B8: Họ tên | C8: Mã E-Office | D8: Tiêu chuẩn xếp loại thi đua A1 (Ghi rõ nội dung tiêu chuẩn: số Quyết định, thời gian, cơ quan ban hành,…) | E8: Tiêu chuẩn xếp loại thi đua A2 (Ghi rõ nội dung tiêu chuẩn: số Quyết định, thời gian, cơ quan ban hành,…) | F8: Tiêu chuẩn xếp loại thi đua A3 (Ghi rõ nội dung tiêu chuẩn: số Quyết định, thời gian, cơ quan ban hành,…) | G8: Ghi chú
A9: I. Viên chức
A10: 01 | B10: Lê Xuân Thiện | C10: 01002002 | E10: - Bài viết đăng kỷ yếu Hội thảo quốc tế năm 2020 (Trang 175) do Nhà trường phối hợp với Trường ĐH Bang Arizona Hoa Kỳ, Trường CĐ City of Glasgow - Anh Quốc và Sở KHCN TPHCM tổ chức. - Sáng kiến có phạm vi ảnh hưởng cấp Ngành NH 2019-2020 (theo QĐ số 1720/QĐ-GDĐT-VP ngày 21/08/2020 của Sở GDĐT TPHCM). | F10: - Bài viết đăng kỷ yếu Hội thảo quốc tế năm 2020 (Trang 175) do Nhà trường phối hợp với Trường ĐH Bang Arizona Hoa Kỳ, Trường CĐ City of Glasgow - Anh Quốc và Sở KHCN TPHCM tổ chức. - Sáng kiến có phạm vi ảnh hưởng cấp Ngành NH 2019-2020 (theo QĐ số 1720/QĐ-GDĐT-VP ngày 21/08/2020 của Sở GDĐT TPHCM).
A11: 02 | B11: Hồ Minh Lợi | C11: 01007001 | E11: Bài viết đăng kỷ yếu Hội thảo quốc tế năm 2020 (Trang 231) do Nhà trường phối hợp với Trường ĐH Bang Arizona Hoa Kỳ, Trường CĐ City of Glasgow - Anh Quốc và Sở KHCN TPHCM tổ chức. | F11: - Bài viết đăng kỷ yếu Hội thảo quốc tế năm 2020 (Trang 231) do Nhà trường phối hợp với Trường ĐH Bang Arizona Hoa Kỳ, Trường CĐ City of Glasgow - Anh Quốc và Sở KHCN TPHCM tổ chức. - Bài viết tham luận Hội nghị dạy - học trực tuyến
A12: 03 | B12: Nguyễn Ngọc Hiệp | C12: 01009006 | F12: Bài viết tham luận Hội nghị dạy - học trực tuyến
A13: 04 | B13: Nguyễn Thị Kim Anh | C13: 01009018
A14: 05 | B14: Phạm Thị Lê Chi | C14: 01009010
A15: 06 | B15: Trần Thị Thu Hà | C15: 01002004 | E15: Bài viết đăng kỷ yếu Hội thảo quốc tế năm 2020 (Trang 175) do Nhà trường phối hợp với Trường ĐH Bang Arizona Hoa Kỳ, Trường CĐ City of Glasgow - Anh Quốc và Sở KHCN TPHCM tổ chức | F15: - Sáng kiến được HĐ nhà trường công nhận NH 2019-2020 (theo QĐ số 270/QĐ-LTT-HĐSK ngày 30 tháng 3 năm 2020 của Hiệu trưởng). - Bài viết tham luận Hội nghị dạy - học trực tuyến.
A16: 07 | B16: Nguyễn Tất Thắng | C16: 01009008 | F16: Bài viết tham luận Hội nghị dạy - học trực tuyến
A17: 08 | B17: Nguyễn Thị Ngọc Anh | C17: 01022058 | F17: Sáng kiến được HĐ nhà trường công nhận NH 2019-2020 (theo QĐ số 270/QĐ-LTT-HĐSK ngày 30 tháng 3 năm 2020 của Hiệu trưởng)
A18: 09 | B18: Mai Thu Hương | C18: 01007004 | F18: Bài viết tham luận Hội nghị dạy - học trực tuyến
A19: 10 | B19: Lê Thị Nữ | C19: 01009012 | E19: Sáng kiến có phạm vi ảnh hưởng cấp Ngành NH 2019-2020 (theo QĐ số 1720/QĐ-GDĐT-VP ngày 21/08/2020 của Sở GDĐT TPHCM). | F19: Sáng kiến có phạm vi ảnh hưởng cấp Ngành NH 2019-2020 (theo QĐ số 1720/QĐ-GDĐT-VP ngày 21/08/2020 của Sở GDĐT TPHCM).
A20: II. Hợp đồng trường
A21: 01 | B21: Nguyễn Trung Dũng | C21: 01002008 | E21: Sáng kiến có phạm vi ảnh hưởng cấp Ngành NH 2019-2020 (theo QĐ số 1720/QĐ-GDĐT-VP ngày 21/08/2020 của Sở GDĐT TPHCM). | F21: - Sáng kiến có phạm vi ảnh hưởng cấp Ngành NH 2019-2020 (theo QĐ số 1720/QĐ-GDĐT-VP ngày 21/08/2020 của Sở GDĐT TPHCM). - Bài viết tham luận Hội nghị dạy - học trực tuyến.
A22: 02 | B22: Phạm Huy Hoàng | C22: 01009011 | F22: - Sáng kiến được HĐ nhà trường công nhận NH 2019-2020 (theo QĐ số 270/QĐ-LTT-HĐSK ngày 30 tháng 3 năm 2020 của Hiệu trưởng). - Bài viết tham luận Hội nghị dạy - học trực tuyến.
A23: 03 | B23: Huỳnh Văn Hiếu | C23: 01009019 | F23: Sáng kiến được HĐ nhà trường công nhận NH 2019-2020 (theo QĐ số 270/QĐ-LTT-HĐSK ngày 30 tháng 3 năm 2020 của Hiệu trưởng)
A24: 04 | B24: Trần Anh Mỹ | C24: 01009028
A25: 05 | B25: Bùi Đức Phước | C25: 01009026
A27: Ghi chú: Gửi kèm minh chứng về phòng Tổ chức - Hành chính - Tổng hợp.
E28: TPHCM, ngày 26 tháng 4 năm 2021
E29: TRƯỞNG ĐƠN VỊ
E35: Lê Xuân Thiện

Sheet Mau 2
A1: TRƯỜNG CAO ĐẲNG LÝ TỰ TRỌNG THÀNH PHỐ HỒ CHÍ MINH PHÒNG THANH TRA GIÁO DỤC - CÔNG TÁC SINH VIÊN | D1: CỘNG HÒA XÃ HỘI CHỦ NGHĨA VIỆT NAM Độc lập - Tự do - Hạnh phúc
E2: Mẫu 2
A3: BẢNG TỔNG HỢP NHIỆM VỤ CHUNG VÀ RIÊNG CỦA ĐƠN VỊ (Gửi file mềm ngày 25 hàng tháng)
A6: TT | B6: Nội dung công việc | C6: Thời gian thực hiện | D6: Kết quả | E6: Ghi chú
A7: A | B7: TỔNG KẾT CÔNG VIỆC TRONG THÁNG
A8: I. | B8: Công việc chung của Trường
A9: 01 | B9: Nhiệm vụ 1: Thực hiện kiểm tra công tác giảng dạy trực tuyến do ảnh hưởng dịch COVID-19. | C9: 19/5 - 20/6/2021 | D9: Tốt
A10: 02 | B10: Nhiệm vụ 2: Thực hiện hồ sơ xét chọn SV GDNN xuất sắc, tiêu biểu năm 2021. | C10: Tháng 6/2021 | D10: Tốt
A11: 03 | B11: Nhiệm vụ 3: Biên soạn Sổ tay giáo dục định hướng năm 2021. | C11: 10/5/2021 đến nay | D11: Tốt
A12: 04 | B12: Nhiệm vụ 4: Thực hiện rà soát hồ sơ chấm điểm về công tác GD chính trị tư tưởng NH 2020-2021 đã gửi cho Sở LĐ-TB&XH | C12: 06-08/6/2021 | D12: Tốt
A13: 05 | B13: Nhiệm vụ 5: Chọn SV ở các xã thuộc tỉnh Long An và Kon Tum tham gia phỏng vấn theo yêu cầu của Tổng cục GDNN | C13: 09 - 12/6/2021 | D13: Tốt
A14: II. | B14: Công việc riêng của đơn vị
A15: 01 | B15: Nhiệm vụ 1: Trực tăng cường chấm công GV ca 3 + CN | C15: 19/5-20/6/2021 | D15: Tốt
A16: 02 | B16: Nhiệm vụ 2: Thực hiện bài viết Hội thảo khoa học năm 2021 | C16: Tháng 6/2021 | D16: Tốt
A17: 03 | B17: Nhiệm vụ 3: Tham gia khảo sát ý kiến đề nghị sửa đổi, bổ sung Nghị định 27/2015/NĐ-CP | C17: 05 - 08/6/2021 | D17: Tốt
A18: 04 | B18: Nhiệm vụ 4: Tham gia đóng góp ý kiến để biên soạn Sổ tay GDĐH năm 2021 | C18: 01 - 15/6/2021 | D18: Tốt
A19: 05 | B19: Nhiệm vụ 5: Hỗ trợ đồng nghiệp hoàn chỉnh bài tham luận Hội thảo KH năm 2021 | C19: 14 - 20/6/2021 | D19: Tốt
A20: B | B20: ĐỀ XUẤT NỘI DUNG CÔNG VIỆC THÁNG 7/2021
A21: I | B21: Công việc chung của Trường (nếu có)
A22: 01 | B22: Nhiệm vụ 1:
A23: 02 | B23: Nhiệm vụ 2:
A24: 03 | B24: Nhiệm vụ 3:
A25: 04 | B25: Nhiệm vụ 4:
A26: II | B26: Công việc riêng của đơn vị
A27: 01 | B27: Nhiệm vụ 1:
A28: 02 | B28: Nhiệm vụ 2:
A29: 03 | B29: Nhiệm vụ 3:
A30: 04 | B30: Nhiệm vụ 4:
A32: Lưu ý: - Nhóm công việc của đơn vị không tính nội dung công việc đã được quy định ở vị trí việc làm (đối với nhân viên); chế độ làm việc của giảng viên/ đã được tính chế độ, thù lao (đối với giảng viên). - Các đơn vị gửi file điện tử về phòng TC-HC-TH (Cô Trần Thị Ánh Phượng) qua hệ thống điện tử E-office nhà trường (không gửi văn bản giấy) ngày 25 hàng tháng./.
C33: Thành phố Hồ Chí Minh, ngày 21 tháng 6 năm 2021
C34: TRƯỞNG ĐƠN VỊ
C39: Lê Xuân Thiện

Sheet Mau 3
A1: TRƯỜNG CAO ĐẲNG LÝ TỰ TRỌNG | I1: CỘNG HÒA XÃ HỘI CHỦ NGHĨA VIỆT NAM
A2: THÀNH PHỐ HỒ CHÍ MINH | I2: Độc lập - Tự do - Hạnh phúc
A3: PHÒNG THANH TRA GIÁO DỤC - CÔNG TÁC SINH VIÊN
P4: Mẫu 3
A5: THỐNG KÊ CHI TIẾT KHỐI LƯỢNG CÔNG VIỆC THỰC HIỆN THÁNG 06/2021
A7: TT | B7: Tên nội dung công việc | D7: Công việc chung của trường | I7: Công việc riêng của đơn vị | P7: Ghi chú
B8: Họ và tên | C8: Mã E-office | D8: Nhiệm vụ 1 | E8: Nhiệm vụ 2 | F8: Nhiệm vụ 3 | G8: Nhiệm vụ 4 | H8: Nhiệm vụ 5 | I8: Nhiệm vụ 1 | J8: Nhiệm vụ 2 | K8: Nhiệm vụ 3 | L8: Nhiệm vụ 4 | M8: Nhiệm vụ 5 | N8: Nhiệm vụ 6 | O8: Nhiệm vụ 7
A9: I. Viên chức
A10: 01 | B10: Lê Xuân Thiện | C10: 01002002 | D10: X | E10: X | F10: X | G10: X | H10: X | I10: X | J10: X | K10: X | L10: X | M10: X
A11: 02 | B11: Hồ Minh Lợi | C11: 01007001 | D11: X | J11: X | K11: X | L11: X
A12: 03 | B12: Nguyễn Ngọc Hiệp | C12: 01009006 | J12: X | K12: X
A13: 04 | B13: Nguyễn Thị Kim Anh | C13: 01009018 | D13: X | H13: X | K13: X
A14: 05 | B14: Phạm Thị Lê Chi | C14: 01009010 | D14: X | K14: X
A15: 06 | B15: Trần Thị Thu Hà | C15: 01002004 | D15: X | E15: X | F15: X | J15: X | K15: X | L15: X | M15: X
A16: 07 | B16: Nguyễn Tất Thắng | C16: 01009008 | D16: X | K16: X
A17: 08 | B17: Nguyễn Thị Ngọc Anh | C17: 01022058 | D17: X | K17: X
A18: 09 | B18: Mai Thu Hương | C18: 01007004 | D18: X | K18: X
A19: 10 | B19: Lê Thị Nữ | C19: 01009012 | E19: X | G19: X | H19: X | K19: X | L19: X
A20: II. Hợp đồng trường
A21: 01 | B21: Nguyễn Trung Dũng | C21: 01002008 | D21: X | K21: X | L21: X
A22: 02 | B22: Huỳnh Văn Hiếu | C22: 01009019 | D22: X | E22: X | J22: X | K22: X
A23: 03 | B23: Phạm Huy Hoàng | C23: 01009011 | D23: X | K23: X
A24: 04 | B24: Trần Anh Mỹ | C24: 01009028 | D24: X | K24: X
A25: 05 | B25: Bùi Đức Phước | C25: 01009026 | H25: X | K25: X
A27: Lưu ý: Các đơn vị gửi file mềm qua hệ thống điện tử E-office nhà trường và văn bản giấy về phòng TC-HC-TH (Cô Trần Thị Ánh Phượng).
P28: Thành phố Hồ Chí Minh, ngày 21 tháng 6 năm 2021
I29: TRƯỞNG ĐƠN VỊ
I34: Lê Xuân Thiện

Sheet Mau 4 
A1: TRƯỜNG CAO ĐẲNG LÝ TỰ TRỌNG | F1: CỘNG HÒA XÃ HỘI CHỦ NGHĨA VIỆT NAM
A2: THÀNH PHỐ HỒ CHÍ MINH | F2: Độc lập - Tự do - Hạnh phúc
A3: PHÒNG THANH TRA GIÁO DỤC - CÔNG TÁC SINH VIÊN
J4: Mẫu 4
A5: DANH SÁCH XẾP LOẠI THI ĐUA THÁNG 06/2021
A7: TT | B7: Họ tên | C7: Mã E-Office | D7: Tập thể đơn vị đề nghị | F7: Số lượng công việc tham gia | H7: Số ngày/giờ vượt so với ngày công kế hoạch (đối với CB-NV) | I7: Số ngày nghỉ | J7: Ghi chú
D8: Xếp loại | E8: Lý do | F8: Công việc chung của trường | G8: Công việc riêng của đơn vị
A9: I. Viên chức
A10: 01 | B10: Lê Xuân Thiện | C10: 01002002 | D10: =IF(AND(F10>=2,G10>=2,H10>=1,'Mau 1'!D10<>0),"A1",IF(AND(F10>=2,G10>=2,H10>=1,'Mau 1'!E10<>0),"A2",IF(AND(OR(F10>=1,G10>=2),'Mau 1'!F10<>0,H10>=0),"A3","A4"))) -> A3 | F10: =COUNTIF('Mau 3'!D10:H10,"X") -> 5 | G10: =COUNTIF('Mau 3'!I10:O10,"X") -> 5
A11: 02 | B11: Hồ Minh Lợi | C11: 01007001 | D11: =IF(AND(F11>=2,G11>=2,H11>=1,'Mau 1'!D11<>0),"A1",IF(AND(F11>=2,G11>=2,H11>=1,'Mau 1'!E11<D10>0),"A2",IF(AND(OR(F11>=1,G11>=2),'Mau 1'!F11<>0,H11>=0),"A3","A4"))) -> A3 | F11: =COUNTIF('Mau 3'!D11:H11,"X") -> 1 | G11: =COUNTIF('Mau 3'!I11:O11,"X") -> 3
A12: 03 | B12: Nguyễn Ngọc Hiệp | C12: 01009006 | D12: =IF(AND(F12>=2,G12>=2,H12>=1,'Mau 1'!D12<>0),"A1",IF(AND(F12>=2,G12>=2,H12>=1,'Mau 1'!E12<>0),"A2",IF(AND(OR(F12>=1,G12>=2),'Mau 1'!F12<>0,H12>=0),"A3","A4"))) -> A3 | F12: =COUNTIF('Mau 3'!D12:H12,"X") -> 0 | G12: =COUNTIF('Mau 3'!I12:O12,"X") -> 2
A13: 04 | B13: Nguyễn Thị Kim Anh | C13: 01009018 | D13: =IF(AND(F13>=2,G13>=2,H13>=1,'Mau 1'!D13<>0),"A1",IF(AND(F13>=2,G13>=2,H13>=1,'Mau 1'!E13<>0),"A2",IF(AND(OR(F13>=1,G13>=2),'Mau 1'!F13<>0,H13>=0),"A3","A4"))) -> A4 | F13: =COUNTIF('Mau 3'!D13:H13,"X") -> 2 | G13: =COUNTIF('Mau 3'!I13:O13,"X") -> 1
A14: 05 | B14: Phạm Thị Lê Chi | C14: 01009010 | D14: =IF(AND(F14>=2,G14>=2,H14>=1,'Mau 1'!D14<>0),"A1",IF(AND(F14>=2,G14>=2,H14>=1,'Mau 1'!E14<>0),"A2",IF(AND(OR(F14>=1,G14>=2),'Mau 1'!F14<>0,H14>=0),"A3","A4"))) -> A4 | F14: =COUNTIF('Mau 3'!D14:H14,"X") -> 1 | G14: =COUNTIF('Mau 3'!I14:O14,"X") -> 1
A15: 06 | B15: Trần Thị Thu Hà | C15: 01002004 | D15: =IF(AND(F15>=2,G15>=2,H15>=1,'Mau 1'!D15<>0),"A1",IF(AND(F15>=2,G15>=2,H15>=1,'Mau 1'!E15<>0),"A2",IF(AND(OR(F15>=1,G15>=2),'Mau 1'!F15<>0,H15>=0),"A3","A4"))) -> A3 | F15: =COUNTIF('Mau 3'!D15:H15,"X") -> 3 | G15: =COUNTIF('Mau 3'!I15:O15,"X") -> 4
A16: 07 | B16: Nguyễn Tất Thắng | C16: 01009008 | D16: =IF(AND(F16>=2,G16>=2,H16>=1,'Mau 1'!D16<>0),"A1",IF(AND(F16>=2,G16>=2,H16>=1,'Mau 1'!E16<>0),"A2",IF(AND(OR(F16>=1,G16>=2),'Mau 1'!F16<>0,H16>=0),"A3","A4"))) -> A3 | F16: =COUNTIF('Mau 3'!D16:H16,"X") -> 1 | G16: =COUNTIF('Mau 3'!I16:O16,"X") -> 1
A17: 08 | B17: Nguyễn Thị Ngọc Anh | C17: 01022058 | D17: =IF(AND(F17>=2,G17>=2,H17>=1,'Mau 1'!D17<>0),"A1",IF(AND(F17>=2,G17>=2,H17>=1,'Mau 1'!E17<>0),"A2",IF(AND(OR(F17>=1,G17>=2),'Mau 1'!F17<>0,H17>=0),"A3","A4"))) -> A3 | F17: =COUNTIF('Mau 3'!D17:H17,"X") -> 1 | G17: =COUNTIF('Mau 3'!I17:O17,"X") -> 1
A18: 09 | B18: Mai Thu Hương | C18: 01007004 | D18: =IF(AND(F18>=2,G18>=2,H18>=1,'Mau 1'!D18<>0),"A1",IF(AND(F18>=2,G18>=2,H18>=1,'Mau 1'!E18<>0),"A2",IF(AND(OR(F18>=1,G18>=2),'Mau 1'!F18<>0,H18>=0),"A3","A4"))) -> A3 | F18: =COUNTIF('Mau 3'!D18:H18,"X") -> 1 | G18: =COUNTIF('Mau 3'!I18:O18,"X") -> 1
A19: 10 | B19: Lê Thị Nữ | C19: 01009012 | D19: =IF(AND(F19>=2,G19>=2,H19>=1,'Mau 1'!D19<>0),"A1",IF(AND(F19>=2,G19>=2,H19>=1,'Mau 1'!E19<>0),"A2",IF(AND(OR(F19>=1,G19>=2),'Mau 1'!F19<>0,H19>=0),"A3","A4"))) -> A3 | F19: =COUNTIF('Mau 3'!D19:H19,"X") -> 3 | G19: =COUNTIF('Mau 3'!I19:O19,"X") -> 2
A20: II. Hợp đồng trường
A21: 01 | B21: Nguyễn Trung Dũng | C21: 01002008 | D21: =IF(AND(F21>=2,G21>=2,H21>=1,'Mau 1'!D21<>0),"A1",IF(AND(F21>=2,G21>=2,H21>=1,'Mau 1'!E21<>0),"A2",IF(AND(OR(F21>=1,G21>=2),'Mau 1'!F21<>0,H21>=0),"A3","A4"))) -> A3 | F21: =COUNTIF('Mau 3'!D21:H21,"X") -> 1 | G21: =COUNTIF('Mau 3'!I21:O21,"X") -> 2
A22: 02 | B22: Huỳnh Văn Hiếu | C22: 01009019 | D22: =IF(AND(F22>=2,G22>=2,H22>=1,'Mau 1'!D23<>0),"A1",IF(AND(F22>=2,G22>=2,H22>=1,'Mau 1'!E23<>0),"A2",IF(AND(OR(F22>=1,G22>=2),'Mau 1'!F23<>0,H22>=0),"A3","A4"))) -> A3 | F22: =COUNTIF('Mau 3'!D22:H22,"X") -> 2 | G22: =COUNTIF('Mau 3'!I22:O22,"X") -> 2
A23: 03 | B23: Phạm Huy Hoàng | C23: 01009011 | D23: =IF(AND(F23>=2,G23>=2,H23>=1,'Mau 1'!D22<>0),"A1",IF(AND(F23>=2,G23>=2,H23>=1,'Mau 1'!E22<>0),"A2",IF(AND(OR(F23>=1,G23>=2),'Mau 1'!F22<>0,H23>=0),"A3","A4"))) -> A3 | F23: =COUNTIF('Mau 3'!D23:H23,"X") -> 1 | G23: =COUNTIF('Mau 3'!I23:O23,"X") -> 1
A24: 04 | B24: Trần Anh Mỹ | C24: 01009028 | D24: =IF(AND(F24>=2,G24>=2,H24>=1,'Mau 1'!D24<>0),"A1",IF(AND(F24>=2,G24>=2,H24>=1,'Mau 1'!E24<>0),"A2",IF(AND(OR(F24>=1,G24>=2),'Mau 1'!F24<>0,H24>=0),"A3","A4"))) -> A4 | F24: =COUNTIF('Mau 3'!D24:H24,"X") -> 1 | G24: =COUNTIF('Mau 3'!I24:O24,"X") -> 1
A25: 05 | B25: Bùi Đức Phước | C25: 01009026 | D25: =IF(AND(F25>=2,G25>=2,H25>=1,'Mau 1'!D25<>0),"A1",IF(AND(F25>=2,G25>=2,H25>=1,'Mau 1'!E25<>0),"A2",IF(AND(OR(F25>=1,G25>=2),'Mau 1'!F25<>0,H25>=0),"A3","A4"))) -> A4 | F25: =COUNTIF('Mau 3'!D25:H25,"X") -> 1 | G25: =COUNTIF('Mau 3'!I25:O25,"X") -> 1
B27: Kết quả xếp loại | E27: Viên chức | F27: Hợp đồng trường | H27: Ý kiến TT HĐ TĐ-KT
B28: A1 | E28: =COUNTIF($D$10:$D$19,"A1") -> 0 | F28: =COUNTIF($D$21:$D$25,"A1") -> 0
B29: A2 | E29: =COUNTIF($D$10:$D$19,"A2") -> 0 | F29: =COUNTIF($D$21:$D$25,"A2") -> 0
B30: A3 | E30: =COUNTIF($D$10:$D$19,"A3") -> 8 | F30: =COUNTIF($D$21:$D$25,"A3") -> 3
B31: A4 | E31: =COUNTIF($D$10:$D$19,"A4") -> 2 | F31: =COUNTIF($D$21:$D$25,"A4") -> 2
B32: B1 | E32: =COUNTIF($D$10:$D$19,"B1") -> 0 | F32: =COUNTIF($D$10:$D$19,"B1") -> 0
B33: B2 | E33: =COUNTIF($D$10:$D$19,"B2") -> 0 | F33: =COUNTIF($D$10:$D$19,"B2") -> 0
B34: C1 | E34: =COUNTIF($D$10:$D$19,"C1") -> 0 | F34: =COUNTIF($D$10:$D$19,"C1") -> 0
B35: C2 | E35: =COUNTIF($D$10:$D$19,"C2") -> 0 | F35: =COUNTIF($D$10:$D$19,"C2") -> 0
B36: D | E36: =COUNTIF($D$10:$D$19,"D") -> 0 | F36: =COUNTIF($D$10:$D$19,"D") -> 0
B37: E | E37: =COUNTIF($D$10:$D$19,"E") -> 0 | F37: =COUNTIF($D$10:$D$19,"E") -> 0
B38: Tổng số nhân sự: | E38: =SUM(E28:E37) -> 10 | F38: =SUM(F28:G37) -> 5
A40: Lưu ý: Các đơn vị gửi file mềm qua hệ thống điện tử E-office nhà trường và văn bản giấy về phòng TC-HC-TH (Cô Trần Thị Ánh Phượng).
F41: Thành phố Hồ Chí Minh, ngày 21 tháng 6 năm 2021
F42: TRƯỞNG ĐƠN VỊ
F47: Lê Xuân Thiện
