Workbook
Name OLE_LINK1: 'PHEP NH 2015-2016'!$A$1

Sheet T09-2013
A1: TRƯỜNG CĐKT LÝ TƯ TRỌNG TP.HCM | J1: BẢNG CHẤM CÔNG
A2: ĐƠN VỊ : PHÒNG KT&KĐCLGD | M2: THÁNG | P2: 9 | R2: NĂM | T2: 2013
A4: STT | B4: HỌ VÀ TÊN | D4: 41518 | E4: =D4+1 -> 41519 | F4: =E4+1 -> 41520 | G4: =F4+1 -> 41521 | H4: =G4+1 -> 41522 | I4: =H4+1 -> 41523 | J4: =I4+1 -> 41524 | K4: =J4+1 -> 41525 | L4: =K4+1 -> 41526 | ... AH4: =AG4+1 -> 41548 | AI4: TS.NGÀY LV
C5: THỨ | D5: =IF(WEEKDAY(D4)=1,"CN",IF(WEEKDAY(D4)=2,"T2",IF(WEEKDAY(D4)=3,"T3",IF(WEEKDAY(D4)=4,"T4",IF(WEEKDAY(D4)=5,"T5",IF(WEEKDAY(D4)=6,"T6","T7")))))) -> CN | E5: =IF(WEEKDAY(E4)=1,"CN",IF(WEEKDAY(E4)=2,"T2",IF(WEEKDAY(E4)=3,"T3",IF(WEEKDAY(E4)=4,"T4",IF(WEEKDAY(E4)=5,"T5",IF(WEEKDAY(E4)=6,"T6","T7")))))) -> T2 | F5: =IF(WEEKDAY(F4)=1,"CN",IF(WEEKDAY(F4)=2,"T2",IF(WEEKDAY(F4)=3,"T3",IF(WEEKDAY(F4)=4,"T4",IF(WEEKDAY(F4)=5,"T5",IF(WEEKDAY(F4)=6,"T6","T7")))))) -> T3 | G5: =IF(WEEKDAY(G4)=1,"CN",IF(WEEKDAY(G4)=2,"T2",IF(WEEKDAY(G4)=3,"T3",IF(WEEKDAY(G4)=4,"T4",IF(WEEKDAY(G4)=5,"T5",IF(WEEKDAY(G4)=6,"T6","T7")))))) -> T4 | H5: =IF(WEEKDAY(H4)=1,"CN",IF(WEEKDAY(H4)=2,"T2",IF(WEEKDAY(H4)=3,"T3",IF(WEEKDAY(H4)=4,"T4",IF(WEEKDAY(H4)=5,"T5",IF(WEEKDAY(H4)=6,"T6","T7")))))) -> T5 | I5: =IF(WEEKDAY(I4)=1,"CN",IF(WEEKDAY(I4)=2,"T2",IF(WEEKDAY(I4)=3,"T3",IF(WEEKDAY(I4)=4,"T4",IF(WEEKDAY(I4)=5,"T5",IF(WEEKDAY(I4)=6,"T6","T7")))))) -> T6 | J5: =IF(WEEKDAY(J4)=1,"CN",IF(WEEKDAY(J4)=2,"T2",IF(WEEKDAY(J4)=3,"T3",IF(WEEKDAY(J4)=4,"T4",IF(WEEKDAY(J4)=5,"T5",IF(WEEKDAY(J4)=6,"T6","T7")))))) -> T7 | K5: =IF(WEEKDAY(K4)=1,"CN",IF(WEEKDAY(K4)=2,"T2",IF(WEEKDAY(K4)=3,"T3",IF(WEEKDAY(K4)=4,"T4",IF(WEEKDAY(K4)=5,"T5",IF(WEEKDAY(K4)=6,"T6","T7")))))) -> CN | ... AH5: =IF(WEEKDAY(AH4)=1,"CN",IF(WEEKDAY(AH4)=2,"T2",IF(WEEKDAY(AH4)=3,"T3",IF(WEEKDAY(AH4)=4,"T4",IF(WEEKDAY(AH4)=5,"T5",IF(WEEKDAY(AH4)=6,"T6","T7")))))) -> T3
A6: 1 | B6: HÀ PHƯỚC | C6: TUẤN | F6: X | G6: X | H6: X | I6: X | J6: X | L6: X | M6: X | N6: X | O6: X | P6: X | Q6: X | S6: X | T6: X | U6: X | V6: X | W6: X | X6: X | Z6: X | AA6: X | AB6: X | AC6: X | AD6: X | AE6: X | AG6: X | AI6: =COUNTIF(D6:AH6,"X")+COUNTIF(D6:AH6,"Tr")+COUNTIF(D6:AH6,"BL") -> 24
A7: 2 | B7: TRẦN THỊ DIỄM | C7: THÚY | F7: X | G7: X | H7: X | I7: X | J7: X | L7: X | M7: X | N7: X | O7: X | P7: X | Q7: X | S7: X | T7: X | U7: X | V7: X | AI7: =COUNTIF(D7:AH7,"X")+COUNTIF(D7:AH7,"Tr")+COUNTIF(D7:AH7,"BL") -> 15
A8: 3 | B8: ĐÀM QUANG | C8: HIỆP | F8: X | G8: X | H8: X | I8: X | L8: X | M8: X | N8: X | O8: X | P8: X | S8: X | T8: X | U8: X | V8: X | AI8: =COUNTIF(D8:AH8,"X")+COUNTIF(D8:AH8,"Tr")+COUNTIF(D8:AH8,"BL") -> 13
A9: 4 | B9: VÕ THỊ THU | C9: THỦY | F9: X | G9: X | H9: X | I9: X | L9: X | M9: X | N9: X | O9: X | P9: X | S9: X | T9: X | U9: X | V9: X | AI9: =COUNTIF(D9:AH9,"X")+COUNTIF(D9:AH9,"Tr")+COUNTIF(D9:AH9,"BL") -> 13
A10: 5 | B10: NGUYỄN THỊ TUYẾT | C10: MAI | F10: X | G10: X | H10: X | I10: X | J10: X | L10: X | M10: X | N10: X | O10: X | P10: X | Q10: X | S10: X | T10: X | U10: X | V10: X | AI10: =COUNTIF(D10:AH10,"X")+COUNTIF(D10:AH10,"Tr")+COUNTIF(D10:AH10,"BL") -> 15
A11: 6 | B11: NGUYỄN THANH | C11: SƠN A | F11: X | G11: X | H11: X | I11: X | L11: X | M11: X | N11: X | O11: X | P11: X | S11: X | T11: X | U11: X | V11: X | AI11: =COUNTIF(D11:AH11,"X")+COUNTIF(D11:AH11,"Tr")+COUNTIF(D11:AH11,"BL") -> 13
A12: 7 | B12: NGUYỄN THANH | C12: SƠN B | F12: X | G12: X | H12: X | I12: X | L12: X | M12: X | N12: X | O12: X | P12: X | S12: X | T12: X | U12: X | V12: X | W12: X | X12: X | Z12: X | AA12: X | AB12: X | AC12: X | AD12: X | AG12: X | AI12: =COUNTIF(D12:AH12,"X")+COUNTIF(D12:AH12,"Tr")+COUNTIF(D12:AH12,"BL") -> 21
A13: 8 | B13: NGUYỄN THỊ | C13: THU | F13: X | G13: X | H13: X | I13: X | J13: X | L13: X | M13: X | N13: X | O13: X | P13: X | Q13: X | S13: X | T13: X | U13: X | V13: X | W13: X | X13: X | Z13: X | AA13: P | AB13: X | AC13: X | AD13: X | AE13: X | AG13: X | AI13: =COUNTIF(D13:AH13,"X")+COUNTIF(D13:AH13,"Tr")+COUNTIF(D13:AH13,"BL") -> 23
B21: KÝ HIỆU: | C21: LÀM VIỆC | I21: X | L21: NGHỈ PHÉP | R21: P | U21: NGHỈ CON ỐM | AB21: CÔ | AE21: NGHỈ KHÔNG LƯƠNG Ro
C22: TRỰC TRƯỜNG | I22: Tr | L22: NGHỈ TAI NẠN LĐ | R22: T | U22: NGHỈ VIỆC RIÊNG | AB22: R | AE22: NGHỈ KHÔNG PHÉP KP
C23: ĐI HỌC | I23: Ho | L23: NGHỈ ỐM | R23: Ô | U23: NGHỈ LỄ , TẾT | AB23: L | AE23: NGHỈ THAI SẢN S
C24: Chủ nhật | L24: LÀM BÙ LỄ | R24: BL
B25: Ghi chú: STT từ 2 đến 6 do trung tâm Truyền thông và Thư viện chấm công từ ngày 20/09/2013 | V25: Ngày 30 tháng 09 năm 2013
C26: TRƯỞNG ĐƠN VỊ | W26: NGƯỜI CHẤM CÔNG
C30: HÀ PHƯỚC TUẤN | W30: HÀ PHƯỚC TUẤN

Sheet T10-2013
A1: TRƯỜNG CĐKT LÝ TƯ TRỌNG TP.HCM | J1: BẢNG CHẤM CÔNG
A2: ĐƠN VỊ : PHÒNG KT&KĐCLGD | M2: THÁNG | P2: 10 | R2: NĂM | T2: 2013
A4: STT | B4: HỌ VÀ TÊN | D4: 41548 | E4: =D4+1 -> 41549 | F4: =E4+1 -> 41550 | G4: =F4+1 -> 41551 | H4: =G4+1 -> 41552 | I4: =H4+1 -> 41553 | J4: =I4+1 -> 41554 | K4: =J4+1 -> 41555 | L4: =K4+1 -> 41556 | ... AH4: =AG4+1 -> 41578 | AI4: TS.NGÀY LV
C5: THỨ | D5: =IF(WEEKDAY(D4)=1,"CN",IF(WEEKDAY(D4)=2,"T2",IF(WEEKDAY(D4)=3,"T3",IF(WEEKDAY(D4)=4,"T4",IF(WEEKDAY(D4)=5,"T5",IF(WEEKDAY(D4)=6,"T6","T7")))))) -> T3 | E5: =IF(WEEKDAY(E4)=1,"CN",IF(WEEKDAY(E4)=2,"T2",IF(WEEKDAY(E4)=3,"T3",IF(WEEKDAY(E4)=4,"T4",IF(WEEKDAY(E4)=5,"T5",IF(WEEKDAY(E4)=6,"T6","T7")))))) -> T4 | F5: =IF(WEEKDAY(F4)=1,"CN",IF(WEEKDAY(F4)=2,"T2",IF(WEEKDAY(F4)=3,"T3",IF(WEEKDAY(F4)=4,"T4",IF(WEEKDAY(F4)=5,"T5",IF(WEEKDAY(F4)=6,"T6","T7")))))) -> T5 | G5: =IF(WEEKDAY(G4)=1,"CN",IF(WEEKDAY(G4)=2,"T2",IF(WEEKDAY(G4)=3,"T3",IF(WEEKDAY(G4)=4,"T4",IF(WEEKDAY(G4)=5,"T5",IF(WEEKDAY(G4)=6,"T6","T7")))))) -> T6 | H5: =IF(WEEKDAY(H4)=1,"CN",IF(WEEKDAY(H4)=2,"T2",IF(WEEKDAY(H4)=3,"T3",IF(WEEKDAY(H4)=4,"T4",IF(WEEKDAY(H4)=5,"T5",IF(WEEKDAY(H4)=6,"T6","T7")))))) -> T7 | I5: =IF(WEEKDAY(I4)=1,"CN",IF(WEEKDAY(I4)=2,"T2",IF(WEEKDAY(I4)=3,"T3",IF(WEEKDAY(I4)=4,"T4",IF(WEEKDAY(I4)=5,"T5",IF(WEEKDAY(I4)=6,"T6","T7")))))) -> CN | J5: =IF(WEEKDAY(J4)=1,"CN",IF(WEEKDAY(J4)=2,"T2",IF(WEEKDAY(J4)=3,"T3",IF(WEEKDAY(J4)=4,"T4",IF(WEEKDAY(J4)=5,"T5",IF(WEEKDAY(J4)=6,"T6","T7")))))) -> T2 | K5: =IF(WEEKDAY(K4)=1,"CN",IF(WEEKDAY(K4)=2,"T2",IF(WEEKDAY(K4)=3,"T3",IF(WEEKDAY(K4)=4,"T4",IF(WEEKDAY(K4)=5,"T5",IF(WEEKDAY(K4)=6,"T6","T7")))))) -> T3 | ... AH5: =IF(WEEKDAY(AH4)=1,"CN",IF(WEEKDAY(AH4)=2,"T2",IF(WEEKDAY(AH4)=3,"T3",IF(WEEKDAY(AH4)=4,"T4",IF(WEEKDAY(AH4)=5,"T5",IF(WEEKDAY(AH4)=6,"T6","T7")))))) -> T5
A6: 1 | B6: HÀ PHƯỚC | C6: TUẤN | D6: X | E6: X | F6: X | G6: X | H6: X | J6: X | K6: X | L6: X | M6: X | N6: X | O6: X | Q6: X | R6: X | S6: X | T6: X | U6: X | V6: X | X6: X | Y6: X | Z6: X | AA6: X | AB6: X | AC6: X | AE6: X | AF6: X | AG6: X | AH6: X | AI6: =COUNTIF(D6:AH6,"X")+COUNTIF(D6:AH6,"Tr")+COUNTIF(D6:AH6,"BL") -> 27
A7: 2 | B7: NGUYỄN THANH | C7: SƠN B | D7: X | E7: X | F7: X | G7: X | J7: X | K7: X | L7: X | M7: X | N7: X | Q7: X | R7: X | S7: X | T7: X | U7: X | X7: X | Y7: X | Z7: P | AA7: X | AB7: X | AE7: X | AF7: X | AG7: P | AH7: P | AI7: =COUNTIF(D7:AH7,"X")+COUNTIF(D7:AH7,"Tr")+COUNTIF(D7:AH7,"BL") -> 20
A8: 3 | B8: NGUYỄN THỊ | C8: THU | D8: X | E8: X | F8: X | G8: X | H8: X | J8: X | K8: X | L8: X | M8: X | N8: X | O8: X | Q8: X | R8: X | S8: X | T8: X | U8: X | V8: X | X8: X | Y8: X | Z8: X | AA8: X | AB8: X | AC8: X | AE8: X | AF8: X | AG8: X | AH8: X | AI8: =COUNTIF(D8:AH8,"X")+COUNTIF(D8:AH8,"Tr")+COUNTIF(D8:AH8,"BL") -> 27
B16: KÝ HIỆU: | C16: LÀM VIỆC | I16: X | L16: NGHỈ PHÉP | R16: P | U16: NGHỈ CON ỐM | AB16: CÔ | AE16: NGHỈ KHÔNG LƯƠNG Ro
C17: TRỰC TRƯỜNG | I17: Tr | L17: NGHỈ TAI NẠN LĐ | R17: T | U17: NGHỈ VIỆC RIÊNG | AB17: R | AE17: NGHỈ KHÔNG PHÉP KP
C18: ĐI HỌC | I18: Ho | L18: NGHỈ ỐM | R18: Ô | U18: NGHỈ LỄ , TẾT | AB18: L | AE18: NGHỈ THAI SẢN S
C19: Chủ nhật | L19: LÀM BÙ LỄ | R19: BL
V20: Ngày 31 tháng 10 năm 2013
C21: TRƯỞNG ĐƠN VỊ | W21: NGƯỜI CHẤM CÔNG
C25: HÀ PHƯỚC TUẤN | W25: HÀ PHƯỚC TUẤN

Sheet T11-2013
A1: TRƯỜNG CĐKT LÝ TƯ TRỌNG TP.HCM | J1: BẢNG CHẤM CÔNG
A2: ĐƠN VỊ : PHÒNG KT&KĐCLGD | M2: THÁNG | P2: 11 | R2: NĂM | T2: 2013
A4: STT | B4: HỌ VÀ TÊN | D4: 41579 | E4: =D4+1 -> 41580 | F4: =E4+1 -> 41581 | G4: =F4+1 -> 41582 | H4: =G4+1 -> 41583 | I4: =H4+1 -> 41584 | J4: =I4+1 -> 41585 | K4: =J4+1 -> 41586 | L4: =K4+1 -> 41587 | ... AH4: =AG4+1 -> 41609 | AI4: TS.NGÀY LV
C5: THỨ | D5: =IF(WEEKDAY(D4)=1,"CN",IF(WEEKDAY(D4)=2,"T2",IF(WEEKDAY(D4)=3,"T3",IF(WEEKDAY(D4)=4,"T4",IF(WEEKDAY(D4)=5,"T5",IF(WEEKDAY(D4)=6,"T6","T7")))))) -> T6 | E5: =IF(WEEKDAY(E4)=1,"CN",IF(WEEKDAY(E4)=2,"T2",IF(WEEKDAY(E4)=3,"T3",IF(WEEKDAY(E4)=4,"T4",IF(WEEKDAY(E4)=5,"T5",IF(WEEKDAY(E4)=6,"T6","T7")))))) -> T7 | F5: =IF(WEEKDAY(F4)=1,"CN",IF(WEEKDAY(F4)=2,"T2",IF(WEEKDAY(F4)=3,"T3",IF(WEEKDAY(F4)=4,"T4",IF(WEEKDAY(F4)=5,"T5",IF(WEEKDAY(F4)=6,"T6","T7")))))) -> CN | G5: =IF(WEEKDAY(G4)=1,"CN",IF(WEEKDAY(G4)=2,"T2",IF(WEEKDAY(G4)=3,"T3",IF(WEEKDAY(G4)=4,"T4",IF(WEEKDAY(G4)=5,"T5",IF(WEEKDAY(G4)=6,"T6","T7")))))) -> T2 | H5: =IF(WEEKDAY(H4)=1,"CN",IF(WEEKDAY(H4)=2,"T2",IF(WEEKDAY(H4)=3,"T3",IF(WEEKDAY(H4)=4,"T4",IF(WEEKDAY(H4)=5,"T5",IF(WEEKDAY(H4)=6,"T6","T7")))))) -> T3 | I5: =IF(WEEKDAY(I4)=1,"CN",IF(WEEKDAY(I4)=2,"T2",IF(WEEKDAY(I4)=3,"T3",IF(WEEKDAY(I4)=4,"T4",IF(WEEKDAY(I4)=5,"T5",IF(WEEKDAY(I4)=6,"T6","T7")))))) -> T4 | J5: =IF(WEEKDAY(J4)=1,"CN",IF(WEEKDAY(J4)=2,"T2",IF(WEEKDAY(J4)=3,"T3",IF(WEEKDAY(J4)=4,"T4",IF(WEEKDAY(J4)=5,"T5",IF(WEEKDAY(J4)=6,"T6","T7")))))) -> T5 | K5: =IF(WEEKDAY(K4)=1,"CN",IF(WEEKDAY(K4)=2,"T2",IF(WEEKDAY(K4)=3,"T3",IF(WEEKDAY(K4)=4,"T4",IF(WEEKDAY(K4)=5,"T5",IF(WEEKDAY(K4)=6,"T6","T7")))))) -> T6 | ... AH5: =IF(WEEKDAY(AH4)=1,"CN",IF(WEEKDAY(AH4)=2,"T2",IF(WEEKDAY(AH4)=3,"T3",IF(WEEKDAY(AH4)=4,"T4",IF(WEEKDAY(AH4)=5,"T5",IF(WEEKDAY(AH4)=6,"T6","T7")))))) -> CN
A6: 1 | B6: HÀ PHƯỚC | C6: TUẤN | D6: X | E6: X | G6: X | H6: X | I6: X | J6: X | K6: X | L6: X | N6: X | O6: X | P6: X | Q6: X | R6: X | S6: X | U6: X | V6: X | W6: X | X6: X | Y6: X | Z6: X | AB6: X | AC6: X | AD6: X | AE6: X | AF6: X | AG6: X | AI6: =COUNTIF(D6:AH6,"X")+COUNTIF(D6:AH6,"Tr")+COUNTIF(D6:AH6,"BL") -> 26
A7: 2 | B7: NGUYỄN THANH | C7: SƠN B | D7: P | G7: X | H7: X | I7: X | J7: X | K7: X | N7: X | O7: X | P7: X | Q7: X | R7: X | U7: X | V7: X | W7: X | X7: X | Y7: X | AB7: X | AC7: X | AD7: X | AE7: X | AF7: X | AI7: =COUNTIF(D7:AH7,"X")+COUNTIF(D7:AH7,"Tr")+COUNTIF(D7:AH7,"BL") -> 20
A8: 3 | B8: NGUYỄN THỊ | C8: THU | D8: X | E8: X | G8: X | H8: X | I8: X | J8: X | K8: X | L8: X | N8: X | O8: X | P8: X | Q8: P | R8: X | S8: X | U8: X | V8: X | W8: X | X8: X | Y8: X | Z8: X | AB8: X | AC8: X | AD8: X | AE8: X | AF8: P | AG8: P | AI8: =COUNTIF(D8:AH8,"X")+COUNTIF(D8:AH8,"Tr")+COUNTIF(D8:AH8,"BL") -> 23
A9: 4 | B9: VÕ THỊ ANH | C9: ĐÀO | N9: X | O9: X | P9: X | Q9: X | R9: X | S9: X | U9: X | V9: X | W9: X | X9: X | Y9: X | Z9: X | AB9: X | AC9: X | AD9: X | AE9: X | AF9: X | AG9: X | AI9: =COUNTIF(D9:AH9,"X")+COUNTIF(D9:AH9,"Tr")+COUNTIF(D9:AH9,"BL") -> 18
A10: 5 | B10: NGUYỄN THỊ ÁNH | C10: THU | N10: X | O10: X | P10: X | Q10: X | R10: X | U10: X | V10: X | W10: X | X10: X | Y10: X | AB10: X | AC10: X | AD10: X | AE10: X | AF10: X | AI10: =COUNTIF(D10:AH10,"X")+COUNTIF(D10:AH10,"Tr")+COUNTIF(D10:AH10,"BL") -> 15
A11: 6 | B11: NGUYỄN VĂN | C11: SƠN | N11: X | O11: X | P11: X | Q11: X | R11: X | U11: X | V11: X | W11: X | X11: X | Y11: X | AB11: X | AC11: X | AD11: X | AE11: X | AF11: X | AI11: =COUNTIF(D11:AH11,"X")+COUNTIF(D11:AH11,"Tr")+COUNTIF(D11:AH11,"BL") -> 15
A12: 7 | B12: NGUYỄN THỊ THANH | C12: THẢO | N12: X | O12: X | P12: X | Q12: X | R12: X | U12: X | V12: X | W12: X | X12: X | Y12: X | AB12: X | AC12: X | AD12: X | AE12: X | AF12: X | AI12: =COUNTIF(D12:AH12,"X")+COUNTIF(D12:AH12,"Tr")+COUNTIF(D12:AH12,"BL") -> 15
A13: 8 | B13: GIÁP THỊ | C13: VƯỢNG | N13: X | O13: X | P13: X | Q13: X | R13: X | U13: X | V13: X | W13: X | X13: X | Y13: X | AB13: X | AC13: X | AD13: X | AE13: X | AF13: X | AI13: =COUNTIF(D13:AH13,"X")+COUNTIF(D13:AH13,"Tr")+COUNTIF(D13:AH13,"BL") -> 15
A14: 9 | B14: NGUYỄN YẾN | C14: NHI | N14: X | O14: X | P14: X | Q14: X | R14: X | S14: X | U14: X | V14: X | W14: X | X14: X | Y14: X | Z14: X | AB14: X | AC14: X | AD14: X | AE14: X | AF14: X | AG14: X | AI14: =COUNTIF(D14:AH14,"X")+COUNTIF(D14:AH14,"Tr")+COUNTIF(D14:AH14,"BL") -> 18
B16: KÝ HIỆU: | C16: LÀM VIỆC | I16: X | L16: NGHỈ PHÉP | R16: P | U16: NGHỈ CON ỐM | AB16: CÔ | AE16: NGHỈ KHÔNG LƯƠNG Ro
C17: TRỰC TRƯỜNG | I17: Tr | L17: NGHỈ TAI NẠN LĐ | R17: T | U17: NGHỈ VIỆC RIÊNG | AB17: R | AE17: NGHỈ KHÔNG PHÉP KP
C18: ĐI HỌC | I18: Ho | L18: NGHỈ ỐM | R18: Ô | U18: NGHỈ LỄ , TẾT | AB18: L | AE18: NGHỈ THAI SẢN S
C19: Chủ nhật | L19: LÀM BÙ LỄ | R19: BL
V20: Ngày 30 tháng 11 năm 2013
C21: TRƯỞNG ĐƠN VỊ | W21: NGƯỜI CHẤM CÔNG
C25: HÀ PHƯỚC TUẤN | W25: HÀ PHƯỚC TUẤN

Sheet T12-2013
A1: TRƯỜNG CĐKT LÝ TƯ TRỌNG TP.HCM | J1: BẢNG CHẤM CÔNG
A2: ĐƠN VỊ : PHÒNG KT&KĐCLGD | M2: THÁNG | P2: 12 | R2: NĂM | T2: 2013
A4: STT | B4: HỌ VÀ TÊN | D4: 41609 | E4: =D4+1 -> 41610 | F4: =E4+1 -> 41611 | G4: =F4+1 -> 41612 | H4: =G4+1 -> 41613 | I4: =H4+1 -> 41614 | J4: =I4+1 -> 41615 | K4: =J4+1 -> 41616 | L4: =K4+1 -> 41617 | ... AH4: =AG4+1 -> 41639 | AI4: TS.NGÀY LV
C5: THỨ | D5: =IF(WEEKDAY(D4)=1,"CN",IF(WEEKDAY(D4)=2,"T2",IF(WEEKDAY(D4)=3,"T3",IF(WEEKDAY(D4)=4,"T4",IF(WEEKDAY(D4)=5,"T5",IF(WEEKDAY(D4)=6,"T6","T7")))))) -> CN | E5: =IF(WEEKDAY(E4)=1,"CN",IF(WEEKDAY(E4)=2,"T2",IF(WEEKDAY(E4)=3,"T3",IF(WEEKDAY(E4)=4,"T4",IF(WEEKDAY(E4)=5,"T5",IF(WEEKDAY(E4)=6,"T6","T7")))))) -> T2 | F5: =IF(WEEKDAY(F4)=1,"CN",IF(WEEKDAY(F4)=2,"T2",IF(WEEKDAY(F4)=3,"T3",IF(WEEKDAY(F4)=4,"T4",IF(WEEKDAY(F4)=5,"T5",IF(WEEKDAY(F4)=6,"T6","T7")))))) -> T3 | G5: =IF(WEEKDAY(G4)=1,"CN",IF(WEEKDAY(G4)=2,"T2",IF(WEEKDAY(G4)=3,"T3",IF(WEEKDAY(G4)=4,"T4",IF(WEEKDAY(G4)=5,"T5",IF(WEEKDAY(G4)=6,"T6","T7")))))) -> T4 | H5: =IF(WEEKDAY(H4)=1,"CN",IF(WEEKDAY(H4)=2,"T2",IF(WEEKDAY(H4)=3,"T3",IF(WEEKDAY(H4)=4,"T4",IF(WEEKDAY(H4)=5,"T5",IF(WEEKDAY(H4)=6,"T6","T7")))))) -> T5 | I5: =IF(WEEKDAY(I4)=1,"CN",IF(WEEKDAY(I4)=2,"T2",IF(WEEKDAY(I4)=3,"T3",IF(WEEKDAY(I4)=4,"T4",IF(WEEKDAY(I4)=5,"T5",IF(WEEKDAY(I4)=6,"T6","T7")))))) -> T6 | J5: =IF(WEEKDAY(J4)=1,"CN",IF(WEEKDAY(J4)=2,"T2",IF(WEEKDAY(J4)=3,"T3",IF(WEEKDAY(J4)=4,"T4",IF(WEEKDAY(J4)=5,"T5",IF(WEEKDAY(J4)=6,"T6","T7")))))) -> T7 | K5: =IF(WEEKDAY(K4)=1,"CN",IF(WEEKDAY(K4)=2,"T2",IF(WEEKDAY(K4)=3,"T3",IF(WEEKDAY(K4)=4,"T4",IF(WEEKDAY(K4)=5,"T5",IF(WEEKDAY(K4)=6,"T6","T7")))))) -> CN | ... AH5: =IF(WEEKDAY(AH4)=1,"CN",IF(WEEKDAY(AH4)=2,"T2",IF(WEEKDAY(AH4)=3,"T3",IF(WEEKDAY(AH4)=4,"T4",IF(WEEKDAY(AH4)=5,"T5",IF(WEEKDAY(AH4)=6,"T6","T7")))))) -> T3
A6: 1 | B6: HÀ PHƯỚC | C6: TUẤN | E6: X | F6: X | G6: X | H6: X | I6: TN | J6: X | L6: X | M6: X | N6: X | O6: X | P6: X | Q6: X | S6: X | T6: X | U6: X | V6: X | W6: X | X6: X | Z6: X | AA6: X | AB6: X | AC6: X | AD6: X | AE6: X | AG6: X | AH6: X | AI6: =COUNTIF(D6:AH6,"X")+COUNTIF(D6:AH6,"Tr")+COUNTIF(D6:AH6,"BL") -> 25
A7: 2 | B7: NGUYỄN THANH | C7: SƠN B | E7: X | F7: X | G7: X | H7: X | I7: TN | L7: X | M7: P | N7: X | O7: X | P7: X | S7: X | T7: X | U7: X | V7: X | W7: X | Z7: X | AA7: X | AB7: X | AC7: X | AD7: X | AG7: X | AH7: X | AI7: =COUNTIF(D7:AH7,"X")+COUNTIF(D7:AH7,"Tr")+COUNTIF(D7:AH7,"BL") -> 20
A8: 3 | B8: NGUYỄN THỊ | C8: THU | E8: X | F8: X | G8: X | H8: X | I8: TN | J8: X | L8: X | M8: X | N8: X | O8: X | P8: X | Q8: X | S8: X | T8: P | U8: X | V8: X | W8: X | X8: X | Z8: X | AA8: X | AB8: X | AC8: X | AD8: X | AE8: X | AG8: X | AH8: X | AI8: =COUNTIF(D8:AH8,"X")+COUNTIF(D8:AH8,"Tr")+COUNTIF(D8:AH8,"BL") -> 24
A9: 4 | B9: VÕ THỊ ANH | C9: ĐÀO | E9: X | F9: X | G9: X | H9: X | I9: TN | L9: X | M9: X | N9: X | O9: X | P9: X | S9: X | T9: X | U9: X | V9: X | W9: X | Z9: X | AA9: X | AB9: X | AC9: X | AD9: X | AG9: X | AH9: X | AI9: =COUNTIF(D9:AH9,"X")+COUNTIF(D9:AH9,"Tr")+COUNTIF(D9:AH9,"BL") -> 21
A10: 5 | B10: NGUYỄN THỊ ÁNH | C10: THU | E10: X | F10: X | G10: X | H10: X | I10: TN | L10: X | M10: X | N10: X | O10: X | P10: X | S10: X | T10: X | U10: X | V10: X | W10: X | Z10: X | AA10: X | AB10: X | AC10: X | AD10: X | AG10: X | AH10: X | AI10: =COUNTIF(D10:AH10,"X")+COUNTIF(D10:AH10,"Tr")+COUNTIF(D10:AH10,"BL") -> 21
A11: 6 | B11: NGUYỄN VĂN | C11: SƠN | E11: X | F11: X | G11: X | H11: X | I11: TN | L11: X | M11: X | N11: X | O11: X | P11: X | S11: X | T11: X | U11: X | V11: X | W11: X | Z11: X | AA11: X | AB11: X | AC11: X | AD11: X | AG11: X | AH11: X | AI11: =COUNTIF(D11:AH11,"X")+COUNTIF(D11:AH11,"Tr")+COUNTIF(D11:AH11,"BL") -> 21
A12: 7 | B12: NGUYỄN THỊ THANH | C12: THẢO | E12: X | F12: X | G12: X | H12: X | I12: TN | L12: X | M12: X | N12: X | O12: X | P12: X | S12: X | T12: X | U12: X | V12: X | W12: X | X12: X | Z12: X | AA12: X | AB12: X | AC12: X | AD12: X | AG12: X | AH12: X | AI12: =COUNTIF(D12:AH12,"X")+COUNTIF(D12:AH12,"Tr")+COUNTIF(D12:AH12,"BL") -> 22
A13: 8 | B13: GIÁP THỊ | C13: VƯỢNG | E13: X | F13: X | G13: X | H13: X | I13: TN | L13: X | M13: X | N13: X | O13: X | P13: X | S13: X | T13: X | U13: X | V13: X | W13: X | Z13: X | AA13: X | AB13: X | AC13: X | AD13: X | AG13: P | AH13: P | AI13: =COUNTIF(D13:AH13,"X")+COUNTIF(D13:AH13,"Tr")+COUNTIF(D13:AH13,"BL") -> 19
A14: 9 | B14: NGUYỄN YẾN | C14: NHI | E14: X | F14: X | G14: X | H14: X | I14: TN | J14: X | L14: X | M14: X | N14: X | O14: X | P14: X | Q14: P | S14: P | T14: X | U14: X | V14: X | W14: X | X14: X | Z14: X | AA14: X | AB14: X | AC14: X | AD14: X | AE14: X | AG14: X | AH14: X | AI14: =COUNTIF(D14:AH14,"X")+COUNTIF(D14:AH14,"Tr")+COUNTIF(D14:AH14,"BL") -> 23
B16: KÝ HIỆU: | C16: LÀM VIỆC | I16: X | L16: NGHỈ PHÉP | R16: P | U16: NGHỈ CON ỐM | AB16: CÔ | AE16: NGHỈ KHÔNG LƯƠNG Ro
C17: TRỰC TRƯỜNG | I17: Tr | L17: NGHỈ TAI NẠN LĐ | R17: T | U17: NGHỈ VIỆC RIÊNG | AB17: R | AE17: NGHỈ KHÔNG PHÉP KP
C18: ĐI HỌC | I18: Ho | L18: NGHỈ ỐM | R18: Ô | U18: NGHỈ LỄ , TẾT | AB18: L | AE18: NGHỈ THAI SẢN S
C19: Chủ nhật | L19: LÀM BÙ LỄ | R19: BL | U19: TRƯỜNG NGHỈ | AB19: TN
V20: Ngày 31 tháng 12 năm 2013
C21: TRƯỞNG ĐƠN VỊ | W21: NGƯỜI CHẤM CÔNG
C25: HÀ PHƯỚC TUẤN | W25: HÀ PHƯỚC TUẤN

Sheet T01-2014
A1: TRƯỜNG CĐKT LÝ TƯ TRỌNG TP.HCM | J1: BẢNG CHẤM CÔNG
A2: ĐƠN VỊ : PHÒNG KT&KĐCLGD | M2: THÁNG | P2: 1 | R2: NĂM | T2: 2014
U3: 18/12
A4: STT | B4: HỌ VÀ TÊN | D4: 41640 | E4: =D4+1 -> 41641 | F4: =E4+1 -> 41642 | G4: =F4+1 -> 41643 | H4: =G4+1 -> 41644 | I4: =H4+1 -> 41645 | J4: =I4+1 -> 41646 | K4: =J4+1 -> 41647 | L4: =K4+1 -> 41648 | ... AH4: =AG4+1 -> 41670 | AI4: TS.NGÀY LV
C5: THỨ | D5: =IF(WEEKDAY(D4)=1,"CN",IF(WEEKDAY(D4)=2,"T2",IF(WEEKDAY(D4)=3,"T3",IF(WEEKDAY(D4)=4,"T4",IF(WEEKDAY(D4)=5,"T5",IF(WEEKDAY(D4)=6,"T6","T7")))))) -> T4 | E5: =IF(WEEKDAY(E4)=1,"CN",IF(WEEKDAY(E4)=2,"T2",IF(WEEKDAY(E4)=3,"T3",IF(WEEKDAY(E4)=4,"T4",IF(WEEKDAY(E4)=5,"T5",IF(WEEKDAY(E4)=6,"T6","T7")))))) -> T5 | F5: =IF(WEEKDAY(F4)=1,"CN",IF(WEEKDAY(F4)=2,"T2",IF(WEEKDAY(F4)=3,"T3",IF(WEEKDAY(F4)=4,"T4",IF(WEEKDAY(F4)=5,"T5",IF(WEEKDAY(F4)=6,"T6","T7")))))) -> T6 | G5: =IF(WEEKDAY(G4)=1,"CN",IF(WEEKDAY(G4)=2,"T2",IF(WEEKDAY(G4)=3,"T3",IF(WEEKDAY(G4)=4,"T4",IF(WEEKDAY(G4)=5,"T5",IF(WEEKDAY(G4)=6,"T6","T7")))))) -> T7 | H5: =IF(WEEKDAY(H4)=1,"CN",IF(WEEKDAY(H4)=2,"T2",IF(WEEKDAY(H4)=3,"T3",IF(WEEKDAY(H4)=4,"T4",IF(WEEKDAY(H4)=5,"T5",IF(WEEKDAY(H4)=6,"T6","T7")))))) -> CN | I5: =IF(WEEKDAY(I4)=1,"CN",IF(WEEKDAY(I4)=2,"T2",IF(WEEKDAY(I4)=3,"T3",IF(WEEKDAY(I4)=4,"T4",IF(WEEKDAY(I4)=5,"T5",IF(WEEKDAY(I4)=6,"T6","T7")))))) -> T2 | J5: =IF(WEEKDAY(J4)=1,"CN",IF(WEEKDAY(J4)=2,"T2",IF(WEEKDAY(J4)=3,"T3",IF(WEEKDAY(J4)=4,"T4",IF(WEEKDAY(J4)=5,"T5",IF(WEEKDAY(J4)=6,"T6","T7")))))) -> T3 | K5: =IF(WEEKDAY(K4)=1,"CN",IF(WEEKDAY(K4)=2,"T2",IF(WEEKDAY(K4)=3,"T3",IF(WEEKDAY(K4)=4,"T4",IF(WEEKDAY(K4)=5,"T5",IF(WEEKDAY(K4)=6,"T6","T7")))))) -> T4 | ... AH5: =IF(WEEKDAY(AH4)=1,"CN",IF(WEEKDAY(AH4)=2,"T2",IF(WEEKDAY(AH4)=3,"T3",IF(WEEKDAY(AH4)=4,"T4",IF(WEEKDAY(AH4)=5,"T5",IF(WEEKDAY(AH4)=6,"T6","T7")))))) -> T6
A6: 1 | B6: HÀ PHƯỚC | C6: TUẤN | E6: X | F6: X | G6: X | I6: X | J6: X | K6: X | L6: X | M6: X | N6: X | P6: X | Q6: X | R6: X | S6: X | T6: X | U6: X | W6: X | X6: X | Y6: X | Z6: X | AA6: X | AB6: X | AD6: X | AI6: =COUNTIF(D6:AH6,"X")+COUNTIF(D6:AH6,"Tr")+COUNTIF(D6:AH6,"BL")+COUNTIF(D6:AH6,"H")/2 -> 22
A7: 2 | B7: VÕ THỊ ANH | C7: ĐÀO | E7: X | F7: X | I7: X | J7: X | K7: X | L7: X | M7: X | P7: X | Q7: X | R7: X | S7: X | T7: X | U7: X | W7: X | X7: X | Z7: X | AD7: H | AI7: =COUNTIF(D7:AH7,"X")+COUNTIF(D7:AH7,"Tr")+COUNTIF(D7:AH7,"BL")+COUNTIF(D7:AH7,"H")/2 -> 16.5
A8: 3 | B8: NGUYỄN VĂN | C8: SƠN | E8: X | F8: X | I8: X | J8: X | K8: X | L8: X | M8: X | P8: X | Q8: X | R8: X | S8: X | T8: X | U8: X | X8: X | Y8: X | Z8: X | AD8: H | AI8: =COUNTIF(D8:AH8,"X")+COUNTIF(D8:AH8,"Tr")+COUNTIF(D8:AH8,"BL")+COUNTIF(D8:AH8,"H")/2 -> 16.5
A9: 4 | B9: NGUYỄN THANH | C9: SƠN B | E9: X | F9: X | I9: X | J9: X | K9: X | L9: X | M9: X | P9: X | Q9: X | R9: X | S9: X | T9: X | U9: X | X9: X | Y9: X | AA9: X | AI9: =COUNTIF(D9:AH9,"X")+COUNTIF(D9:AH9,"Tr")+COUNTIF(D9:AH9,"BL")+COUNTIF(D9:AH9,"H")/2 -> 16
A10: 5 | B10: NGUYỄN THỊ ÁNH | C10: THU | E10: X | F10: X | I10: X | J10: X | K10: X | L10: X | M10: X | P10: X | Q10: X | R10: X | S10: X | T10: X | U10: X | W10: X | Z10: H | AB10: X | AD10: H | AI10: =COUNTIF(D10:AH10,"X")+COUNTIF(D10:AH10,"Tr")+COUNTIF(D10:AH10,"BL")+COUNTIF(D10:AH10,"H")/2 -> 16
A11: 6 | B11: NGUYỄN THỊ THANH | C11: THẢO | E11: X | F11: X | G11: X | I11: X | J11: X | K11: X | L11: X | M11: X | P11: X | Q11: X | R11: X | S11: X | T11: X | U11: X | W11: X | X11: H | Z11: H | AB11: X | AD11: X | AI11: =COUNTIF(D11:AH11,"X")+COUNTIF(D11:AH11,"Tr")+COUNTIF(D11:AH11,"BL")+COUNTIF(D11:AH11,"H")/2 -> 18
A12: 7 | B12: GIÁP THỊ | C12: VƯỢNG | E12: P | F12: P | I12: X | J12: X | K12: X | L12: X | M12: X | P12: X | Q12: X | R12: X | S12: X | T12: X | U12: X | X12: X | Y12: X | AA12: X | AB12: X | AD12: H | AI12: =COUNTIF(D12:AH12,"X")+COUNTIF(D12:AH12,"Tr")+COUNTIF(D12:AH12,"BL")+COUNTIF(D12:AH12,"H")/2 -> 15.5
A13: 8 | B13: NGUYỄN YẾN | C13: NHI | E13: X | F13: X | G13: X | I13: X | J13: X | K13: X | L13: X | M13: X | N13: X | P13: X | Q13: X | R13: X | S13: X | T13: X | U13: X | W13: X | Z13: X | AB13: X | AI13: =COUNTIF(D13:AH13,"X")+COUNTIF(D13:AH13,"Tr")+COUNTIF(D13:AH13,"BL")+COUNTIF(D13:AH13,"H")/2 -> 18
A14: 9 | B14: NGUYỄN THỊ | C14: THU | E14: X | F14: X | G14: X | I14: X | J14: X | K14: X | L14: X | M14: X | N14: X | P14: X | Q14: X | R14: P | S14: P | T14: X | U14: X | W14: X | Y14: X | AA14: X | AD14: X | AI14: =COUNTIF(D14:AH14,"X")+COUNTIF(D14:AH14,"Tr")+COUNTIF(D14:AH14,"BL")+COUNTIF(D14:AH14,"H")/2 -> 17
B16: KÝ HIỆU: | C16: LÀM VIỆC | I16: X | L16: NGHỈ PHÉP | R16: P | U16: NGHỈ CON ỐM | AB16: CÔ | AE16: NGHỈ KHÔNG LƯƠNG Ro
C17: TRỰC TRƯỜNG | I17: Tr | L17: NGHỈ TAI NẠN LĐ | R17: T | U17: NGHỈ VIỆC RIÊNG | AB17: R | AE17: NGHỈ KHÔNG PHÉP KP
C18: ĐI HỌC | I18: Ho | L18: NGHỈ ỐM | R18: Ô | U18: NGHỈ LỄ , TẾT | AB18: L | AE18: NGHỈ THAI SẢN S
C19: Chủ nhật | L19: LÀM BÙ LỄ | R19: BL | U19: TRƯỜNG NGHỈ | AB19: TN | AE19: LÀM 1/2 NGÀY H
V20: Ngày 27 tháng 01 năm 2014
C21: TRƯỞNG ĐƠN VỊ | W21: NGƯỜI CHẤM CÔNG
C25: HÀ PHƯỚC TUẤN | W25: HÀ PHƯỚC TUẤN

Sheet T02-2014
A1: TRƯỜNG CĐKT LÝ TƯ TRỌNG TP.HCM | J1: BẢNG CHẤM CÔNG
A2: ĐƠN VỊ : PHÒNG KT&KĐCLGD | M2: THÁNG | P2: 2 | R2: NĂM | T2: 2014
M3: 11/1
A4: STT | B4: HỌ VÀ TÊN | D4: 41671 | E4: =D4+1 -> 41672 | F4: =E4+1 -> 41673 | G4: =F4+1 -> 41674 | H4: =G4+1 -> 41675 | I4: =H4+1 -> 41676 | J4: =I4+1 -> 41677 | K4: =J4+1 -> 41678 | L4: =K4+1 -> 41679 | ... AH4: =AG4+1 -> 41701 | AI4: TS.NGÀY LV
C5: THỨ | D5: =IF(WEEKDAY(D4)=1,"CN",IF(WEEKDAY(D4)=2,"T2",IF(WEEKDAY(D4)=3,"T3",IF(WEEKDAY(D4)=4,"T4",IF(WEEKDAY(D4)=5,"T5",IF(WEEKDAY(D4)=6,"T6","T7")))))) -> T7 | E5: =IF(WEEKDAY(E4)=1,"CN",IF(WEEKDAY(E4)=2,"T2",IF(WEEKDAY(E4)=3,"T3",IF(WEEKDAY(E4)=4,"T4",IF(WEEKDAY(E4)=5,"T5",IF(WEEKDAY(E4)=6,"T6","T7")))))) -> CN | F5: =IF(WEEKDAY(F4)=1,"CN",IF(WEEKDAY(F4)=2,"T2",IF(WEEKDAY(F4)=3,"T3",IF(WEEKDAY(F4)=4,"T4",IF(WEEKDAY(F4)=5,"T5",IF(WEEKDAY(F4)=6,"T6","T7")))))) -> T2 | G5: =IF(WEEKDAY(G4)=1,"CN",IF(WEEKDAY(G4)=2,"T2",IF(WEEKDAY(G4)=3,"T3",IF(WEEKDAY(G4)=4,"T4",IF(WEEKDAY(G4)=5,"T5",IF(WEEKDAY(G4)=6,"T6","T7")))))) -> T3 | H5: =IF(WEEKDAY(H4)=1,"CN",IF(WEEKDAY(H4)=2,"T2",IF(WEEKDAY(H4)=3,"T3",IF(WEEKDAY(H4)=4,"T4",IF(WEEKDAY(H4)=5,"T5",IF(WEEKDAY(H4)=6,"T6","T7")))))) -> T4 | I5: =IF(WEEKDAY(I4)=1,"CN",IF(WEEKDAY(I4)=2,"T2",IF(WEEKDAY(I4)=3,"T3",IF(WEEKDAY(I4)=4,"T4",IF(WEEKDAY(I4)=5,"T5",IF(WEEKDAY(I4)=6,"T6","T7")))))) -> T5 | J5: =IF(WEEKDAY(J4)=1,"CN",IF(WEEKDAY(J4)=2,"T2",IF(WEEKDAY(J4)=3,"T3",IF(WEEKDAY(J4)=4,"T4",IF(WEEKDAY(J4)=5,"T5",IF(WEEKDAY(J4)=6,"T6","T7")))))) -> T6 | K5: =IF(WEEKDAY(K4)=1,"CN",IF(WEEKDAY(K4)=2,"T2",IF(WEEKDAY(K4)=3,"T3",IF(WEEKDAY(K4)=4,"T4",IF(WEEKDAY(K4)=5,"T5",IF(WEEKDAY(K4)=6,"T6","T7")))))) -> T7 | ... AH5: =IF(WEEKDAY(AH4)=1,"CN",IF(WEEKDAY(AH4)=2,"T2",IF(WEEKDAY(AH4)=3,"T3",IF(WEEKDAY(AH4)=4,"T4",IF(WEEKDAY(AH4)=5,"T5",IF(WEEKDAY(AH4)=6,"T6","T7")))))) -> T2
A6: 1 | B6: HÀ PHƯỚC | C6: TUẤN | I6: X | J6: X | K6: X | M6: X | N6: X | O6: X | P6: X | Q6: X | R6: X | T6: X | U6: X | V6: X | W6: X | X6: X | Y6: X | AA6: X | AB6: X | AC6: X | AD6: X | AE6: X | AI6: =COUNTIF(D6:AH6,"X")+COUNTIF(D6:AH6,"Tr")+COUNTIF(D6:AH6,"BL")+COUNTIF(D6:AH6,"H")/2 -> 20
A7: 2 | B7: VÕ THỊ ANH | C7: ĐÀO | I7: X | J7: H | M7: X | N7: X | O7: X | P7: X | Q7: X | R7: X | T7: X | U7: X | V7: X | W7: X | X7: X | Y7: X | AA7: X | AB7: X | AC7: X | AD7: X | AE7: X | AI7: =COUNTIF(D7:AH7,"X")+COUNTIF(D7:AH7,"Tr")+COUNTIF(D7:AH7,"BL")+COUNTIF(D7:AH7,"H")/2 -> 18.5
A8: 3 | B8: NGUYỄN VĂN | C8: SƠN | I8: X | J8: H | M8: X | N8: X | O8: X | P8: X | Q8: X | T8: X | U8: X | V8: X | W8: X | X8: X | AA8: X | AB8: X | AC8: X | AD8: X | AE8: X | AI8: =COUNTIF(D8:AH8,"X")+COUNTIF(D8:AH8,"Tr")+COUNTIF(D8:AH8,"BL")+COUNTIF(D8:AH8,"H")/2 -> 16.5
A9: 4 | B9: NGUYỄN THANH | C9: SƠN B | I9: X | K9: X | M9: X | N9: X | O9: X | P9: X | Q9: X | T9: X | U9: X | V9: X | W9: X | X9: X | AA9: X | AB9: X | AC9: X | AD9: X | AE9: X | AI9: =COUNTIF(D9:AH9,"X")+COUNTIF(D9:AH9,"Tr")+COUNTIF(D9:AH9,"BL")+COUNTIF(D9:AH9,"H")/2 -> 17
A10: 5 | B10: NGUYỄN THỊ ÁNH | C10: THU | I10: X | J10: H | K10: H | M10: X | N10: X | O10: X | P10: X | Q10: X | T10: X | U10: X | V10: X | W10: X | X10: X | AA10: X | AB10: X | AC10: X | AD10: X | AE10: X | AI10: =COUNTIF(D10:AH10,"X")+COUNTIF(D10:AH10,"Tr")+COUNTIF(D10:AH10,"BL")+COUNTIF(D10:AH10,"H")/2 -> 17
A11: 6 | B11: NGUYỄN THỊ THANH | C11: THẢO | K11: X | M11: X | N11: X | O11: X | P11: X | Q11: X | R11: X | T11: X | U11: X | V11: X | W11: X | X11: X | Y11: X | AA11: X | AB11: X | AC11: X | AD11: X | AE11: X | AI11: =COUNTIF(D11:AH11,"X")+COUNTIF(D11:AH11,"Tr")+COUNTIF(D11:AH11,"BL")+COUNTIF(D11:AH11,"H")/2 -> 18
A12: 7 | B12: GIÁP THỊ | C12: VƯỢNG | J12: H | M12: X | N12: X | O12: X | P12: X | Q12: X | R12: X | T12: X | U12: X | V12: X | W12: X | X12: X | Y12: X | AA12: X | AB12: X | AC12: X | AD12: X | AE12: X | AI12: =COUNTIF(D12:AH12,"X")+COUNTIF(D12:AH12,"Tr")+COUNTIF(D12:AH12,"BL")+COUNTIF(D12:AH12,"H")/2 -> 17.5
A13: 8 | B13: NGUYỄN YẾN | C13: NHI | J13: X | K13: X | M13: X | N13: X | O13: X | P13: X | Q13: X | R13: X | T13: X | U13: X | V13: X | W13: X | X13: X | Y13: X | AA13: X | AB13: X | AC13: X | AD13: X | AE13: X | AI13: =COUNTIF(D13:AH13,"X")+COUNTIF(D13:AH13,"Tr")+COUNTIF(D13:AH13,"BL")+COUNTIF(D13:AH13,"H")/2 -> 19
A14: 9 | B14: NGUYỄN THỊ | C14: THU | J14: H | M14: X | N14: X | O14: X | P14: X | Q14: X | R14: X | T14: X | U14: X | V14: X | W14: X | X14: X | Y14: X | AA14: X | AB14: X | AC14: X | AD14: X | AE14: X | AI14: =COUNTIF(D14:AH14,"X")+COUNTIF(D14:AH14,"Tr")+COUNTIF(D14:AH14,"BL")+COUNTIF(D14:AH14,"H")/2 -> 17.5
B16: KÝ HIỆU: | C16: LÀM VIỆC | I16: X | L16: NGHỈ PHÉP | R16: P | T16: NGHỈ CON ỐM | AA16: CÔ | AC16: NGHỈ KHÔNG LƯƠNG Ro
C17: TRỰC TRƯỜNG | I17: Tr | L17: NGHỈ TAI NẠN LĐ | R17: T | T17: NGHỈ VIỆC RIÊNG | AA17: R | AC17: NGHỈ KHÔNG PHÉP KP
C18: ĐI HỌC | I18: Ho | L18: NGHỈ ỐM | R18: Ô | T18: NGHỈ LỄ , TẾT | AA18: L | AC18: NGHỈ THAI SẢN S
C19: Chủ nhật | L19: LÀM BÙ LỄ | R19: BL | T19: TRƯỜNG NGHỈ | AA19: TN | AC19: LÀM 1/2 NGÀY H
V20: Ngày 28 tháng 02 năm 2014
C21: TRƯỞNG ĐƠN VỊ | W21: NGƯỜI CHẤM CÔNG
C25: HÀ PHƯỚC TUẤN | W25: HÀ PHƯỚC TUẤN

Sheet T03-2014
A1: TRƯỜNG CĐKT LÝ TƯ TRỌNG TP.HCM | J1: BẢNG CHẤM CÔNG
A2: ĐƠN VỊ : PHÒNG KT&KĐCLGD | M2: THÁNG | P2: =D4 -> 41699 | R2: NĂM | T2: =D4 -> 41699
A4: STT | B4: HỌ VÀ TÊN | D4: 41699 | E4: =D4+1 -> 41700 | F4: =E4+1 -> 41701 | G4: =F4+1 -> 41702 | H4: =G4+1 -> 41703 | I4: =H4+1 -> 41704 | J4: =I4+1 -> 41705 | K4: =J4+1 -> 41706 | L4: =K4+1 -> 41707 | ... AH4: =AG4+1 -> 41729 | AI4: TS.NGÀY LV
C5: THỨ | D5: =IF(WEEKDAY(D4)=1,"CN",IF(WEEKDAY(D4)=2,"T2",IF(WEEKDAY(D4)=3,"T3",IF(WEEKDAY(D4)=4,"T4",IF(WEEKDAY(D4)=5,"T5",IF(WEEKDAY(D4)=6,"T6","T7")))))) -> T7 | E5: =IF(WEEKDAY(E4)=1,"CN",IF(WEEKDAY(E4)=2,"T2",IF(WEEKDAY(E4)=3,"T3",IF(WEEKDAY(E4)=4,"T4",IF(WEEKDAY(E4)=5,"T5",IF(WEEKDAY(E4)=6,"T6","T7")))))) -> CN | F5: =IF(WEEKDAY(F4)=1,"CN",IF(WEEKDAY(F4)=2,"T2",IF(WEEKDAY(F4)=3,"T3",IF(WEEKDAY(F4)=4,"T4",IF(WEEKDAY(F4)=5,"T5",IF(WEEKDAY(F4)=6,"T6","T7")))))) -> T2 | G5: =IF(WEEKDAY(G4)=1,"CN",IF(WEEKDAY(G4)=2,"T2",IF(WEEKDAY(G4)=3,"T3",IF(WEEKDAY(G4)=4,"T4",IF(WEEKDAY(G4)=5,"T5",IF(WEEKDAY(G4)=6,"T6","T7")))))) -> T3 | H5: =IF(WEEKDAY(H4)=1,"CN",IF(WEEKDAY(H4)=2,"T2",IF(WEEKDAY(H4)=3,"T3",IF(WEEKDAY(H4)=4,"T4",IF(WEEKDAY(H4)=5,"T5",IF(WEEKDAY(H4)=6,"T6","T7")))))) -> T4 | I5: =IF(WEEKDAY(I4)=1,"CN",IF(WEEKDAY(I4)=2,"T2",IF(WEEKDAY(I4)=3,"T3",IF(WEEKDAY(I4)=4,"T4",IF(WEEKDAY(I4)=5,"T5",IF(WEEKDAY(I4)=6,"T6","T7")))))) -> T5 | J5: =IF(WEEKDAY(J4)=1,"CN",IF(WEEKDAY(J4)=2,"T2",IF(WEEKDAY(J4)=3,"T3",IF(WEEKDAY(J4)=4,"T4",IF(WEEKDAY(J4)=5,"T5",IF(WEEKDAY(J4)=6,"T6","T7")))))) -> T6 | K5: =IF(WEEKDAY(K4)=1,"CN",IF(WEEKDAY(K4)=2,"T2",IF(WEEKDAY(K4)=3,"T3",IF(WEEKDAY(K4)=4,"T4",IF(WEEKDAY(K4)=5,"T5",IF(WEEKDAY(K4)=6,"T6","T7")))))) -> T7 | ... AH5: =IF(WEEKDAY(AH4)=1,"CN",IF(WEEKDAY(AH4)=2,"T2",IF(WEEKDAY(AH4)=3,"T3",IF(WEEKDAY(AH4)=4,"T4",IF(WEEKDAY(AH4)=5,"T5",IF(WEEKDAY(AH4)=6,"T6","T7")))))) -> T2
A6: 1 | B6: HÀ PHƯỚC | C6: TUẤN | D6: X | F6: X | G6: X | H6: X | I6: X | J6: X | K6: X | M6: X | N6: HT | O6: X | P6: X | Q6: X | R6: X | T6: X | U6: X | V6: X | W6: X | X6: X | Y6: X | AA6: X | AB6: X | AC6: X | AD6: X | AE6: X | AF6: X | AH6: X | AI6: =COUNTIF(D6:AH6,"X")+COUNTIF(D6:AH6,"Tr")+COUNTIF(D6:AH6,"BL")+COUNTIF(D6:AH6,"HT") -> 26
A7: 2 | B7: VÕ THỊ ANH | C7: ĐÀO | D7: X | F7: X | G7: X | H7: X | I7: X | J7: X | K7: X | M7: X | N7: X | O7: X | P7: X | Q7: X | R7: X | T7: X | U7: X | V7: X | W7: X | X7: X | AA7: X | AB7: X | AC7: X | AD7: X | AE7: X | AF7: X | AH7: X | AI7: =COUNTIF(D7:AH7,"X")+COUNTIF(D7:AH7,"Tr")+COUNTIF(D7:AH7,"BL")+COUNTIF(D7:AH7,"HT") -> 25
A8: 3 | B8: NGUYỄN VĂN | C8: SƠN | F8: X | G8: X | H8: X | I8: X | J8: X | K8: X | M8: X | N8: X | O8: X | P8: X | Q8: X | T8: X | U8: X | V8: X | W8: X | X8: X | AA8: X | AB8: X | AC8: X | AD8: X | AE8: X | AH8: X | AI8: =COUNTIF(D8:AH8,"X")+COUNTIF(D8:AH8,"Tr")+COUNTIF(D8:AH8,"BL")+COUNTIF(D8:AH8,"HT") -> 22
A9: 4 | B9: NGUYỄN THANH | C9: SƠN B | F9: X | G9: X | H9: X | I9: X | J9: X | K9: X | M9: X | N9: X | O9: X | P9: X | Q9: X | T9: X | U9: X | V9: X | W9: X | X9: X | AA9: X | AB9: X | AC9: X | AD9: X | AE9: X | AH9: X | AI9: =COUNTIF(D9:AH9,"X")+COUNTIF(D9:AH9,"Tr")+COUNTIF(D9:AH9,"BL")+COUNTIF(D9:AH9,"HT") -> 22
A10: 5 | B10: NGUYỄN THỊ ÁNH | C10: THU | F10: X | G10: X | H10: X | I10: X | J10: X | K10: X | M10: X | N10: X | O10: X | P10: X | Q10: X | T10: X | U10: X | V10: X | W10: X | X10: X | AA10: X | AB10: X | AC10: X | AD10: X | AE10: X | AH10: X | AI10: =COUNTIF(D10:AH10,"X")+COUNTIF(D10:AH10,"Tr")+COUNTIF(D10:AH10,"BL")+COUNTIF(D10:AH10,"HT") -> 22
A11: 6 | B11: NGUYỄN THỊ THANH | C11: THẢO | F11: X | G11: X | H11: X | I11: X | J11: X | K11: X | M11: X | N11: X | O11: X | P11: X | Q11: X | R11: X | T11: X | U11: X | V11: X | W11: X | X11: X | Y11: X | AA11: X | AB11: X | AC11: X | AD11: X | AE11: X | AF11: X | AH11: X | AI11: =COUNTIF(D11:AH11,"X")+COUNTIF(D11:AH11,"Tr")+COUNTIF(D11:AH11,"BL")+COUNTIF(D11:AH11,"HT") -> 25
A12: 7 | B12: GIÁP THỊ | C12: VƯỢNG | F12: X | G12: X | H12: X | I12: X | J12: X | K12: X | M12: X | N12: X | O12: X | P12: X | Q12: X | T12: X | U12: X | V12: X | W12: X | X12: X | AA12: X | AB12: X | AC12: X | AD12: X | AE12: X | AH12: X | AI12: =COUNTIF(D12:AH12,"X")+COUNTIF(D12:AH12,"Tr")+COUNTIF(D12:AH12,"BL")+COUNTIF(D12:AH12,"HT") -> 22
A13: 8 | B13: NGUYỄN YẾN | C13: NHI | D13: X | F13: X | G13: X | H13: X | I13: X | J13: X | K13: X | M13: X | N13: X | O13: X | P13: X | Q13: X | R13: X | T13: X | U13: X | V13: X | W13: X | X13: X | Y13: X | AA13: X | AB13: X | AC13: X | AD13: X | AE13: X | AF13: P | AH13: P | AI13: =COUNTIF(D13:AH13,"X")+COUNTIF(D13:AH13,"Tr")+COUNTIF(D13:AH13,"BL")+COUNTIF(D13:AH13,"HT") -> 24
A14: 9 | B14: NGUYỄN THỊ | C14: THU | D14: X | F14: X | G14: X | H14: X | I14: X | J14: X | K14: X | M14: X | N14: X | O14: X | P14: X | Q14: P | R14: P | T14: X | U14: X | V14: X | W14: X | X14: X | Y14: X | AA14: X | AB14: X | AC14: X | AD14: X | AE14: X | AF14: X | AH14: X | AI14: =COUNTIF(D14:AH14,"X")+COUNTIF(D14:AH14,"Tr")+COUNTIF(D14:AH14,"BL")+COUNTIF(D14:AH14,"HT") -> 24
B16: KÝ HIỆU: | C16: LÀM VIỆC | I16: X | L16: NGHỈ PHÉP | R16: P | U16: NGHỈ CON ỐM | AB16: CÔ | AE16: NGHỈ KHÔNG LƯƠNG Ro
C17: TRỰC TRƯỜNG | I17: Tr | L17: NGHỈ TAI NẠN LĐ | R17: T | U17: NGHỈ VIỆC RIÊNG | AB17: R | AE17: NGHỈ KHÔNG PHÉP KP
C18: ĐI HỌC | I18: Ho | L18: NGHỈ ỐM | R18: Ô | U18: NGHỈ LỄ , TẾT | AB18: L | AE18: NGHỈ THAI SẢN S
C19: Chủ nhật | L19: LÀM BÙ LỄ | R19: BL | U19: ĐI HỘI THẢO | AB19: HT
V20: ="Ngày "&DAY(EOMONTH(D4,P2))&" tháng "&MONTH(P2)&" năm "&YEAR(T2) -> Ngày 28 tháng 3 năm 2014
C21: TRƯỞNG ĐƠN VỊ | W21: NGƯỜI CHẤM CÔNG
C25: HÀ PHƯỚC TUẤN | W25: HÀ PHƯỚC TUẤN

Sheet T04-2014
A1: TRƯỜNG CĐKT LÝ TƯ TRỌNG TP.HCM | J1: BẢNG CHẤM CÔNG
A2: ĐƠN VỊ : PHÒNG KT&KĐCLGD | M2: THÁNG | P2: =D4 -> 41730 | R2: NĂM | T2: 2014
A4: STT | B4: HỌ VÀ TÊN | D4: 41730 | E4: =D4+1 -> 41731 | F4: =E4+1 -> 41732 | G4: =F4+1 -> 41733 | H4: =G4+1 -> 41734 | I4: =H4+1 -> 41735 | J4: =I4+1 -> 41736 | K4: =J4+1 -> 41737 | L4: =K4+1 -> 41738 | ... AH4: =AG4+1 -> 41760 | AI4: TS.NGÀY LV
C5: THỨ | D5: =IF(WEEKDAY(D4)=1,"CN",IF(WEEKDAY(D4)=2,"T2",IF(WEEKDAY(D4)=3,"T3",IF(WEEKDAY(D4)=4,"T4",IF(WEEKDAY(D4)=5,"T5",IF(WEEKDAY(D4)=6,"T6","T7")))))) -> T3 | E5: =IF(WEEKDAY(E4)=1,"CN",IF(WEEKDAY(E4)=2,"T2",IF(WEEKDAY(E4)=3,"T3",IF(WEEKDAY(E4)=4,"T4",IF(WEEKDAY(E4)=5,"T5",IF(WEEKDAY(E4)=6,"T6","T7")))))) -> T4 | F5: =IF(WEEKDAY(F4)=1,"CN",IF(WEEKDAY(F4)=2,"T2",IF(WEEKDAY(F4)=3,"T3",IF(WEEKDAY(F4)=4,"T4",IF(WEEKDAY(F4)=5,"T5",IF(WEEKDAY(F4)=6,"T6","T7")))))) -> T5 | G5: =IF(WEEKDAY(G4)=1,"CN",IF(WEEKDAY(G4)=2,"T2",IF(WEEKDAY(G4)=3,"T3",IF(WEEKDAY(G4)=4,"T4",IF(WEEKDAY(G4)=5,"T5",IF(WEEKDAY(G4)=6,"T6","T7")))))) -> T6 | H5: =IF(WEEKDAY(H4)=1,"CN",IF(WEEKDAY(H4)=2,"T2",IF(WEEKDAY(H4)=3,"T3",IF(WEEKDAY(H4)=4,"T4",IF(WEEKDAY(H4)=5,"T5",IF(WEEKDAY(H4)=6,"T6","T7")))))) -> T7 | I5: =IF(WEEKDAY(I4)=1,"CN",IF(WEEKDAY(I4)=2,"T2",IF(WEEKDAY(I4)=3,"T3",IF(WEEKDAY(I4)=4,"T4",IF(WEEKDAY(I4)=5,"T5",IF(WEEKDAY(I4)=6,"T6","T7")))))) -> CN | J5: =IF(WEEKDAY(J4)=1,"CN",IF(WEEKDAY(J4)=2,"T2",IF(WEEKDAY(J4)=3,"T3",IF(WEEKDAY(J4)=4,"T4",IF(WEEKDAY(J4)=5,"T5",IF(WEEKDAY(J4)=6,"T6","T7")))))) -> T2 | K5: =IF(WEEKDAY(K4)=1,"CN",IF(WEEKDAY(K4)=2,"T2",IF(WEEKDAY(K4)=3,"T3",IF(WEEKDAY(K4)=4,"T4",IF(WEEKDAY(K4)=5,"T5",IF(WEEKDAY(K4)=6,"T6","T7")))))) -> T3 | ... AH5: =IF(WEEKDAY(AH4)=1,"CN",IF(WEEKDAY(AH4)=2,"T2",IF(WEEKDAY(AH4)=3,"T3",IF(WEEKDAY(AH4)=4,"T4",IF(WEEKDAY(AH4)=5,"T5",IF(WEEKDAY(AH4)=6,"T6","T7")))))) -> T5
A6: 1 | B6: HÀ PHƯỚC | C6: TUẤN | D6: X | E6: X | F6: X | G6: X | H6: X | J6: X | K6: X | M6: X | N6: X | O6: X | P6: X | Q6: X | R6: X | S6: X | T6: X | U6: X | V6: X | X6: X | Y6: X | Z6: X | AA6: X | AB6: X | AC6: X | AD6: X | AE6: X | AF6: X | AI6: =COUNTIF(D6:AH6,"X")+COUNTIF(D6:AH6,"Tr")+COUNTIF(D6:AH6,"BL") -> 26
A7: 2 | B7: VÕ THỊ ANH | C7: ĐÀO | D7: X | E7: X | F7: X | G7: X | J7: X | K7: X | M7: X | N7: X | O7: X | Q7: X | R7: X | S7: X | T7: X | U7: X | V7: X | X7: X | Y7: X | Z7: X | AA7: X | AB7: X | AC7: X | AE7: X | AF7: X | AI7: =COUNTIF(D7:AH7,"X")+COUNTIF(D7:AH7,"Tr")+COUNTIF(D7:AH7,"BL") -> 23
A8: 3 | B8: NGUYỄN VĂN | C8: SƠN | D8: X | E8: X | F8: X | G8: X | J8: X | K8: X | M8: X | N8: X | Q8: X | R8: X | S8: X | T8: X | U8: X | X8: X | Y8: X | Z8: X | AA8: X | AB8: X | AD8: X | AE8: X | AF8: X | AI8: =COUNTIF(D8:AH8,"X")+COUNTIF(D8:AH8,"Tr")+COUNTIF(D8:AH8,"BL") -> 21
A9: 4 | B9: NGUYỄN THANH | C9: SƠN B | D9: X | E9: X | F9: X | G9: X | J9: X | K9: X | M9: X | N9: X | Q9: X | R9: X | S9: X | T9: X | U9: X | X9: X | Y9: X | Z9: X | AA9: X | AB9: X | AE9: X | AF9: X | AI9: =COUNTIF(D9:AH9,"X")+COUNTIF(D9:AH9,"Tr")+COUNTIF(D9:AH9,"BL") -> 20
A10: 5 | B10: NGUYỄN THỊ ÁNH | C10: THU | D10: X | E10: X | F10: X | G10: X | J10: X | K10: X | M10: X | N10: X | Q10: X | R10: X | S10: X | T10: X | U10: X | X10: X | Y10: X | Z10: X | AA10: X | AB10: X | AE10: X | AF10: X | AI10: =COUNTIF(D10:AH10,"X")+COUNTIF(D10:AH10,"Tr")+COUNTIF(D10:AH10,"BL") -> 20
A11: 6 | B11: NGUYỄN THỊ THANH | C11: THẢO | D11: X | E11: X | F11: X | G11: X | H11: X | J11: X | K11: X | M11: X | N11: X | O11: X | Q11: X | R11: X | S11: X | T11: X | U11: X | V11: X | X11: X | Y11: X | Z11: X | AA11: X | AB11: X | AC11: BL | AE11: X | AF11: X | AI11: =COUNTIF(D11:AH11,"X")+COUNTIF(D11:AH11,"Tr")+COUNTIF(D11:AH11,"BL") -> 24
A12: 7 | B12: GIÁP THỊ | C12: VƯỢNG | D12: X | E12: X | F12: X | G12: X | J12: X | K12: X | M12: X | N12: X | O12: X | Q12: X | R12: X | S12: X | T12: X | U12: X | X12: X | Y12: X | Z12: X | AA12: X | AB12: X | AE12: X | AF12: X | AI12: =COUNTIF(D12:AH12,"X")+COUNTIF(D12:AH12,"Tr")+COUNTIF(D12:AH12,"BL") -> 21
A13: 8 | B13: NGUYỄN YẾN | C13: NHI | D13: X | E13: X | F13: X | G13: X | H13: X | J13: X | K13: X | M13: X | N13: X | O13: X | Q13: X | R13: X | S13: X | T13: X | U13: X | V13: X | X13: X | Y13: X | Z13: X | AA13: X | AB13: X | AC13: X | AE13: X | AF13: X | AI13: =COUNTIF(D13:AH13,"X")+COUNTIF(D13:AH13,"Tr")+COUNTIF(D13:AH13,"BL") -> 24
A14: 9 | B14: NGUYỄN THỊ | C14: THU | D14: X | E14: X | F14: X | G14: X | H14: X | J14: X | K14: X | M14: X | N14: X | O14: X | Q14: X | R14: X | S14: X | T14: X | U14: X | V14: X | X14: X | Y14: X | Z14: X | AA14: X | AB14: X | AC14: X | AE14: X | AF14: X | AI14: =COUNTIF(D14:AH14,"X")+COUNTIF(D14:AH14,"Tr")+COUNTIF(D14:AH14,"BL") -> 24
B16: KÝ HIỆU: | C16: LÀM VIỆC | I16: X | L16: NGHỈ PHÉP | R16: P | U16: NGHỈ CON ỐM | AB16: CÔ | AE16: NGHỈ KHÔNG LƯƠNG Ro
C17: TRỰC TRƯỜNG | I17: Tr | L17: NGHỈ TAI NẠN LĐ | R17: T | U17: NGHỈ VIỆC RIÊNG | AB17: R | AE17: NGHỈ KHÔNG PHÉP KP
C18: ĐI HỌC | I18: Ho | L18: NGHỈ ỐM | R18: Ô | U18: NGHỈ LỄ , TẾT | AB18: L | AE18: NGHỈ THAI SẢN S
C19: Chủ nhật | L19: LÀM BÙ LỄ | R19: BL
B20: GHI CHÚ: | C20: 1. Ngày 13/04 họp toạ đàm nhà trường với sinh viên tại Hội trường A.
C21: 2. Ngày 27/04 Hội thao Công đoàn. | V21: Ngày 30 tháng 04 năm 2014
C22: TRƯỞNG ĐƠN VỊ | W22: NGƯỜI CHẤM CÔNG
C26: HÀ PHƯỚC TUẤN | W26: HÀ PHƯỚC TUẤN

Sheet T05-2014
A1: TRƯỜNG CĐKT LÝ TƯ TRỌNG TP.HCM | J1: BẢNG CHẤM CÔNG
A2: ĐƠN VỊ : PHÒNG KT&KĐCLGD | M2: THÁNG | P2: =D4 -> 41760 | R2: NĂM | T2: =D4 -> 41760
A4: STT | B4: HỌ VÀ TÊN | D4: 41760 | E4: =D4+1 -> 41761 | F4: =E4+1 -> 41762 | G4: =F4+1 -> 41763 | H4: =G4+1 -> 41764 | I4: =H4+1 -> 41765 | J4: =I4+1 -> 41766 | K4: =J4+1 -> 41767 | L4: =K4+1 -> 41768 | ... AH4: =AG4+1 -> 41790 | AI4: TS.NGÀY LV
C5: THỨ | D5: =IF(WEEKDAY(D4)=1,"CN",IF(WEEKDAY(D4)=2,"T2",IF(WEEKDAY(D4)=3,"T3",IF(WEEKDAY(D4)=4,"T4",IF(WEEKDAY(D4)=5,"T5",IF(WEEKDAY(D4)=6,"T6","T7")))))) -> T5 | E5: =IF(WEEKDAY(E4)=1,"CN",IF(WEEKDAY(E4)=2,"T2",IF(WEEKDAY(E4)=3,"T3",IF(WEEKDAY(E4)=4,"T4",IF(WEEKDAY(E4)=5,"T5",IF(WEEKDAY(E4)=6,"T6","T7")))))) -> T6 | F5: =IF(WEEKDAY(F4)=1,"CN",IF(WEEKDAY(F4)=2,"T2",IF(WEEKDAY(F4)=3,"T3",IF(WEEKDAY(F4)=4,"T4",IF(WEEKDAY(F4)=5,"T5",IF(WEEKDAY(F4)=6,"T6","T7")))))) -> T7 | G5: =IF(WEEKDAY(G4)=1,"CN",IF(WEEKDAY(G4)=2,"T2",IF(WEEKDAY(G4)=3,"T3",IF(WEEKDAY(G4)=4,"T4",IF(WEEKDAY(G4)=5,"T5",IF(WEEKDAY(G4)=6,"T6","T7")))))) -> CN | H5: =IF(WEEKDAY(H4)=1,"CN",IF(WEEKDAY(H4)=2,"T2",IF(WEEKDAY(H4)=3,"T3",IF(WEEKDAY(H4)=4,"T4",IF(WEEKDAY(H4)=5,"T5",IF(WEEKDAY(H4)=6,"T6","T7")))))) -> T2 | I5: =IF(WEEKDAY(I4)=1,"CN",IF(WEEKDAY(I4)=2,"T2",IF(WEEKDAY(I4)=3,"T3",IF(WEEKDAY(I4)=4,"T4",IF(WEEKDAY(I4)=5,"T5",IF(WEEKDAY(I4)=6,"T6","T7")))))) -> T3 | J5: =IF(WEEKDAY(J4)=1,"CN",IF(WEEKDAY(J4)=2,"T2",IF(WEEKDAY(J4)=3,"T3",IF(WEEKDAY(J4)=4,"T4",IF(WEEKDAY(J4)=5,"T5",IF(WEEKDAY(J4)=6,"T6","T7")))))) -> T4 | K5: =IF(WEEKDAY(K4)=1,"CN",IF(WEEKDAY(K4)=2,"T2",IF(WEEKDAY(K4)=3,"T3",IF(WEEKDAY(K4)=4,"T4",IF(WEEKDAY(K4)=5,"T5",IF(WEEKDAY(K4)=6,"T6","T7")))))) -> T5 | ... AH5: =IF(WEEKDAY(AH4)=1,"CN",IF(WEEKDAY(AH4)=2,"T2",IF(WEEKDAY(AH4)=3,"T3",IF(WEEKDAY(AH4)=4,"T4",IF(WEEKDAY(AH4)=5,"T5",IF(WEEKDAY(AH4)=6,"T6","T7")))))) -> T7
A6: 1 | B6: HÀ PHƯỚC | C6: TUẤN | E6: X | F6: X | H6: X | I6: X | J6: X | K6: X | L6: X | M6: X | N6: X | O6: X | P6: X | Q6: X | R6: X | S6: X | T6: X | V6: X | W6: X | X6: X | Y6: X | Z6: X | AC6: X | AD6: X | AE6: X | AF6: X | AG6: X | AH6: X | AI6: =COUNTIF(D6:AH6,"X")+COUNTIF(D6:AH6,"Tr")+COUNTIF(D6:AH6,"BL") -> 26
A7: 2 | B7: VÕ THỊ ANH | C7: ĐÀO | E7: X | H7: X | I7: X | J7: X | K7: X | L7: X | N7: X | O7: X | P7: X | Q7: X | R7: X | S7: X | V7: X | W7: X | X7: X | Y7: X | Z7: X | AC7: Ô | AD7: Ô | AE7: Ô | AF7: Ô | AG7: Ô | AI7: =COUNTIF(D7:AH7,"X")+COUNTIF(D7:AH7,"Tr")+COUNTIF(D7:AH7,"BL") -> 17
A8: 3 | B8: NGUYỄN VĂN | C8: SƠN | E8: X | H8: X | I8: X | J8: X | K8: X | L8: X | N8: X | O8: X | P8: X | Q8: X | R8: X | S8: X | V8: X | W8: X | X8: X | Y8: X | Z8: X | AC8: X | AD8: X | AE8: X | AF8: X | AG8: X | AI8: =COUNTIF(D8:AH8,"X")+COUNTIF(D8:AH8,"Tr")+COUNTIF(D8:AH8,"BL") -> 22
A9: 4 | B9: NGUYỄN THANH | C9: SƠN B | E9: X | H9: X | I9: X | J9: X | K9: X | L9: X | N9: X | O9: X | P9: X | Q9: X | R9: X | S9: X | V9: X | W9: X | X9: X | Y9: X | Z9: X | AC9: X | AD9: X | AE9: X | AF9: X | AG9: X | AI9: =COUNTIF(D9:AH9,"X")+COUNTIF(D9:AH9,"Tr")+COUNTIF(D9:AH9,"BL") -> 22
A10: 5 | B10: NGUYỄN THỊ ÁNH | C10: THU | E10: X | H10: X | I10: X | J10: P | K10: P | L10: P | O10: X | P10: X | Q10: X | R10: X | S10: X | V10: X | W10: X | X10: X | Y10: X | Z10: X | AC10: X | AD10: X | AE10: X | AF10: X | AG10: X | AI10: =COUNTIF(D10:AH10,"X")+COUNTIF(D10:AH10,"Tr")+COUNTIF(D10:AH10,"BL") -> 18
A11: 6 | B11: NGUYỄN THỊ THANH | C11: THẢO | H11: X | I11: X | J11: X | K11: X | L11: X | N11: X | O11: X | P11: X | Q11: X | R11: X | S11: X | V11: X | W11: X | X11: X | Y11: X | Z11: X | AC11: X | AD11: X | AE11: X | AF11: X | AG11: X | AI11: =COUNTIF(D11:AH11,"X")+COUNTIF(D11:AH11,"Tr")+COUNTIF(D11:AH11,"BL") -> 21
A12: 7 | B12: GIÁP THỊ | C12: VƯỢNG | E12: X | H12: X | I12: X | J12: X | K12: X | L12: X | N12: X | O12: X | P12: X | Q12: X | R12: X | S12: X | V12: X | W12: X | X12: X | Y12: X | Z12: X | AC12: X | AD12: X | AE12: X | AF12: X | AG12: X | AI12: =COUNTIF(D12:AH12,"X")+COUNTIF(D12:AH12,"Tr")+COUNTIF(D12:AH12,"BL") -> 22
A13: 8 | B13: NGUYỄN YẾN | C13: NHI | E13: P | F13: X | H13: X | I13: X | J13: X | K13: X | L13: X | M13: X | N13: X | O13: X | P13: X | Q13: X | R13: X | S13: X | T13: X | V13: X | W13: X | X13: X | Y13: X | Z13: X | AA13: X | AC13: X | AD13: X | AE13: X | AF13: X | AG13: X | AH13: X | AI13: =COUNTIF(D13:AH13,"X")+COUNTIF(D13:AH13,"Tr")+COUNTIF(D13:AH13,"BL") -> 26
A14: 9 | B14: NGUYỄN THỊ | C14: THU | E14: Ro | F14: Ro | H14: Ro | I14: Ro | J14: Ro | K14: Ro | L14: Ro | M14: Ro | O14: Ro | P14: Ro | Q14: Ro | R14: Ro | S14: Ro | T14: Ro | V14: Ro | W14: Ro | X14: Ro | Y14: Ro | Z14: Ro | AA14: Ro | AC14: Ro | AD14: Ro | AE14: Ro | AF14: Ro | AG14: Ro | AH14: Ro | AI14: =COUNTIF(D14:AH14,"X")+COUNTIF(D14:AH14,"Tr")+COUNTIF(D14:AH14,"BL") -> 0
B16: KÝ HIỆU: | C16: LÀM VIỆC | I16: X | L16: NGHỈ PHÉP | R16: P | U16: NGHỈ CON ỐM | AB16: CÔ | AE16: NGHỈ KHÔNG LƯƠNG Ro
C17: TRỰC TRƯỜNG | I17: Tr | L17: NGHỈ TAI NẠN LĐ | R17: T | U17: NGHỈ VIỆC RIÊNG | AB17: R | AE17: NGHỈ KHÔNG PHÉP KP
C18: ĐI HỌC | I18: Ho | L18: NGHỈ ỐM | R18: Ô | U18: NGHỈ LỄ , TẾT | AB18: L | AE18: NGHỈ THAI SẢN S
C19: Chủ nhật | L19: LÀM BÙ LỄ | R19: BL
B20: GHI CHÚ: | C20: 1. Ngày 11/05 - Hội thao Công đoàn
V22: Ngày 31 tháng 05 năm 2014
C23: TRƯỞNG ĐƠN VỊ | W23: NGƯỜI CHẤM CÔNG
C27: HÀ PHƯỚC TUẤN | W27: HÀ PHƯỚC TUẤN

Sheet T06-2014
A1: TRƯỜNG CĐKT LÝ TƯ TRỌNG TP.HCM | J1: BẢNG CHẤM CÔNG
A2: ĐƠN VỊ : PHÒNG KT&KĐCLGD | M2: THÁNG | P2: 6 | R2: NĂM | T2: 2014
A4: STT | B4: HỌ VÀ TÊN | D4: =DATEVALUE("01/"&P2&"/"&T2) -> 41645 | E4: =D4+1 -> 41646 | F4: =E4+1 -> 41647 | G4: =F4+1 -> 41648 | H4: =G4+1 -> 41649 | I4: =H4+1 -> 41650 | J4: =I4+1 -> 41651 | K4: =J4+1 -> 41652 | L4: =K4+1 -> 41653 | ... AH4: =AG4+1 -> 41675 | AI4: TS.NGÀY LV
C5: THỨ | D5: =IF(WEEKDAY(D4)=1,"CN",IF(WEEKDAY(D4)=2,"T2",IF(WEEKDAY(D4)=3,"T3",IF(WEEKDAY(D4)=4,"T4",IF(WEEKDAY(D4)=5,"T5",IF(WEEKDAY(D4)=6,"T6","T7")))))) -> T2 | E5: =IF(WEEKDAY(E4)=1,"CN",IF(WEEKDAY(E4)=2,"T2",IF(WEEKDAY(E4)=3,"T3",IF(WEEKDAY(E4)=4,"T4",IF(WEEKDAY(E4)=5,"T5",IF(WEEKDAY(E4)=6,"T6","T7")))))) -> T3 | F5: =IF(WEEKDAY(F4)=1,"CN",IF(WEEKDAY(F4)=2,"T2",IF(WEEKDAY(F4)=3,"T3",IF(WEEKDAY(F4)=4,"T4",IF(WEEKDAY(F4)=5,"T5",IF(WEEKDAY(F4)=6,"T6","T7")))))) -> T4 | G5: =IF(WEEKDAY(G4)=1,"CN",IF(WEEKDAY(G4)=2,"T2",IF(WEEKDAY(G4)=3,"T3",IF(WEEKDAY(G4)=4,"T4",IF(WEEKDAY(G4)=5,"T5",IF(WEEKDAY(G4)=6,"T6","T7")))))) -> T5 | H5: =IF(WEEKDAY(H4)=1,"CN",IF(WEEKDAY(H4)=2,"T2",IF(WEEKDAY(H4)=3,"T3",IF(WEEKDAY(H4)=4,"T4",IF(WEEKDAY(H4)=5,"T5",IF(WEEKDAY(H4)=6,"T6","T7")))))) -> T6 | I5: =IF(WEEKDAY(I4)=1,"CN",IF(WEEKDAY(I4)=2,"T2",IF(WEEKDAY(I4)=3,"T3",IF(WEEKDAY(I4)=4,"T4",IF(WEEKDAY(I4)=5,"T5",IF(WEEKDAY(I4)=6,"T6","T7")))))) -> T7 | J5: =IF(WEEKDAY(J4)=1,"CN",IF(WEEKDAY(J4)=2,"T2",IF(WEEKDAY(J4)=3,"T3",IF(WEEKDAY(J4)=4,"T4",IF(WEEKDAY(J4)=5,"T5",IF(WEEKDAY(J4)=6,"T6","T7")))))) -> CN | K5: =IF(WEEKDAY(K4)=1,"CN",IF(WEEKDAY(K4)=2,"T2",IF(WEEKDAY(K4)=3,"T3",IF(WEEKDAY(K4)=4,"T4",IF(WEEKDAY(K4)=5,"T5",IF(WEEKDAY(K4)=6,"T6","T7")))))) -> T2 | ... AH5: =IF(WEEKDAY(AH4)=1,"CN",IF(WEEKDAY(AH4)=2,"T2",IF(WEEKDAY(AH4)=3,"T3",IF(WEEKDAY(AH4)=4,"T4",IF(WEEKDAY(AH4)=5,"T5",IF(WEEKDAY(AH4)=6,"T6","T7")))))) -> T4
A6: 1 | B6: HÀ PHƯỚC | C6: TUẤN | E6: X | F6: X | G6: X | H6: X | I6: X | J6: X | L6: X | M6: X | N6: X | O6: X | P6: X | Q6: X | S6: X | T6: X | U6: X | V6: X | W6: X | X6: X | Z6: X | AA6: X | AB6: X | AC6: X | AD6: X | AE6: X | AG6: X | AI6: =COUNTIF(D6:AH6,"X")+COUNTIF(D6:AH6,"Tr")+COUNTIF(D6:AH6,"BL") -> 25
A7: 2 | B7: VÕ THỊ ANH | C7: ĐÀO | E7: X | F7: X | G7: X | H7: X | I7: X | L7: Ô | M7: Ô | N7: Ô | O7: Ô | P7: Ô | S7: Ô | T7: Ô | U7: Ô | V7: Ô | W7: Ô | Z7: Ô | AA7: Ô | AB7: Ô | AC7: Ô | AD7: Ô | AG7: Ô | AI7: =COUNTIF(D7:AH7,"X")+COUNTIF(D7:AH7,"Tr")+COUNTIF(D7:AH7,"BL") -> 5
A8: 3 | B8: NGUYỄN VĂN | C8: SƠN | E8: X | F8: X | G8: X | H8: X | I8: X | L8: X | M8: X | N8: X | O8: X | P8: X | S8: X | T8: X | U8: X | V8: X | W8: X | Z8: X | AA8: X | AB8: X | AC8: X | AD8: X | AG8: X | AI8: =COUNTIF(D8:AH8,"X")+COUNTIF(D8:AH8,"Tr")+COUNTIF(D8:AH8,"BL") -> 21
A9: 4 | B9: NGUYỄN THANH | C9: SƠN B | E9: X | F9: X | G9: X | H9: X | I9: X | L9: X | M9: X | N9: X | O9: X | P9: X | S9: X | T9: X | U9: X | V9: Ho | W9: Ho | Z9: X | AA9: X | AB9: X | AC9: X | AD9: X | AG9: X | AI9: =COUNTIF(D9:AH9,"X")+COUNTIF(D9:AH9,"Tr")+COUNTIF(D9:AH9,"BL") -> 19
A10: 5 | B10: NGUYỄN THỊ ÁNH | C10: THU | E10: X | F10: X | G10: X | H10: X | I10: X | L10: X | M10: X | N10: X | O10: X | P10: X | S10: X | T10: X | U10: X | V10: X | W10: X | X10: X | Z10: X | AA10: X | AB10: X | AC10: X | AD10: X | AG10: X | AI10: =COUNTIF(D10:AH10,"X")+COUNTIF(D10:AH10,"Tr")+COUNTIF(D10:AH10,"BL") -> 22
A11: 6 | B11: NGUYỄN THỊ THANH | C11: THẢO | E11: X | F11: X | G11: X | H11: X | I11: X | L11: X | M11: X | N11: X | O11: X | P11: X | S11: X | T11: X | U11: X | V11: X | W11: X | X11: X | Z11: X | AA11: X | AB11: X | AC11: X | AD11: X | AG11: X | AI11: =COUNTIF(D11:AH11,"X")+COUNTIF(D11:AH11,"Tr")+COUNTIF(D11:AH11,"BL") -> 22
A12: 7 | B12: GIÁP THỊ | C12: VƯỢNG | E12: X | F12: X | G12: X | H12: X | I12: X | L12: X | M12: X | N12: X | O12: X | P12: X | S12: DL | T12: DL | U12: DL | V12: X | W12: X | X12: X | Z12: X | AA12: X | AB12: X | AC12: X | AD12: X | AG12: X | AI12: =COUNTIF(D12:AH12,"X")+COUNTIF(D12:AH12,"Tr")+COUNTIF(D12:AH12,"BL") -> 19
A13: 8 | B13: NGUYỄN YẾN | C13: NHI | E13: X | F13: X | G13: X | H13: X | I13: X | J13: P | L13: X | M13: X | N13: X | O13: X | P13: X | Q13: X | S13: X | T13: X | U13: X | V13: X | W13: X | X13: X | Z13: X | AA13: X | AB13: X | AC13: X | AD13: X | AE13: X | AG13: X | AI13: =COUNTIF(D13:AH13,"X")+COUNTIF(D13:AH13,"Tr")+COUNTIF(D13:AH13,"BL") -> 24
A14: 9 | B14: NGUYỄN THỊ | C14: THU | E14: X | F14: X | G14: X | H14: X | I14: X | J14: X | L14: X | M14: X | N14: X | O14: X | P14: X | Q14: X | S14: X | T14: X | U14: X | V14: Ho | W14: Ho | X14: X | Z14: X | AA14: X | AB14: X | AC14: X | AD14: X | AE14: X | AG14: X | AI14: =COUNTIF(D14:AH14,"X")+COUNTIF(D14:AH14,"Tr")+COUNTIF(D14:AH14,"BL") -> 23
B16: KÝ HIỆU: | C16: LÀM VIỆC | I16: X | L16: NGHỈ PHÉP | R16: P | U16: NGHỈ CON ỐM | AB16: CÔ | AE16: NGHỈ KHÔNG LƯƠNG Ro
C17: TRỰC TRƯỜNG | I17: Tr | L17: NGHỈ TAI NẠN LĐ | R17: T | U17: NGHỈ VIỆC RIÊNG | AB17: R | AE17: NGHỈ KHÔNG PHÉP KP
C18: ĐI HỌC | I18: Ho | L18: NGHỈ ỐM | R18: Ô | U18: NGHỈ LỄ , TẾT | AB18: L | AE18: NGHỈ THAI SẢN S
C19: Chủ nhật | L19: LÀM BÙ LỄ | R19: BL | U19: DU LỊCH HÈ | AB19: DL
V20: ="Ngày "&DAY(EOMONTH(D4,0))&" tháng "&P2&" năm "&T2 -> Ngày 31 tháng 6 năm 2014
C21: TRƯỞNG ĐƠN VỊ | W21: NGƯỜI CHẤM CÔNG
C25: HÀ PHƯỚC TUẤN | W25: HÀ PHƯỚC TUẤN

Sheet T07-2014
A1: TRƯỜNG CĐKT LÝ TƯ TRỌNG TP.HCM | J1: BẢNG CHẤM CÔNG
A2: ĐƠN VỊ : PHÒNG KT&KĐCLGD | M2: THÁNG | P2: 7 | R2: NĂM | T2: 2014
A4: STT | B4: HỌ VÀ TÊN | D4: 41821 | E4: =D4+1 -> 41822 | F4: =E4+1 -> 41823 | G4: =F4+1 -> 41824 | H4: =G4+1 -> 41825 | I4: =H4+1 -> 41826 | J4: =I4+1 -> 41827 | K4: =J4+1 -> 41828 | L4: =K4+1 -> 41829 | ... AH4: =AG4+1 -> 41851 | AI4: TS.NGÀY LV
C5: THỨ | D5: =IF(WEEKDAY(D4)=1,"CN",IF(WEEKDAY(D4)=2,"T2",IF(WEEKDAY(D4)=3,"T3",IF(WEEKDAY(D4)=4,"T4",IF(WEEKDAY(D4)=5,"T5",IF(WEEKDAY(D4)=6,"T6","T7")))))) -> T3 | E5: =IF(WEEKDAY(E4)=1,"CN",IF(WEEKDAY(E4)=2,"T2",IF(WEEKDAY(E4)=3,"T3",IF(WEEKDAY(E4)=4,"T4",IF(WEEKDAY(E4)=5,"T5",IF(WEEKDAY(E4)=6,"T6","T7")))))) -> T4 | F5: =IF(WEEKDAY(F4)=1,"CN",IF(WEEKDAY(F4)=2,"T2",IF(WEEKDAY(F4)=3,"T3",IF(WEEKDAY(F4)=4,"T4",IF(WEEKDAY(F4)=5,"T5",IF(WEEKDAY(F4)=6,"T6","T7")))))) -> T5 | G5: =IF(WEEKDAY(G4)=1,"CN",IF(WEEKDAY(G4)=2,"T2",IF(WEEKDAY(G4)=3,"T3",IF(WEEKDAY(G4)=4,"T4",IF(WEEKDAY(G4)=5,"T5",IF(WEEKDAY(G4)=6,"T6","T7")))))) -> T6 | H5: =IF(WEEKDAY(H4)=1,"CN",IF(WEEKDAY(H4)=2,"T2",IF(WEEKDAY(H4)=3,"T3",IF(WEEKDAY(H4)=4,"T4",IF(WEEKDAY(H4)=5,"T5",IF(WEEKDAY(H4)=6,"T6","T7")))))) -> T7 | I5: =IF(WEEKDAY(I4)=1,"CN",IF(WEEKDAY(I4)=2,"T2",IF(WEEKDAY(I4)=3,"T3",IF(WEEKDAY(I4)=4,"T4",IF(WEEKDAY(I4)=5,"T5",IF(WEEKDAY(I4)=6,"T6","T7")))))) -> CN | J5: =IF(WEEKDAY(J4)=1,"CN",IF(WEEKDAY(J4)=2,"T2",IF(WEEKDAY(J4)=3,"T3",IF(WEEKDAY(J4)=4,"T4",IF(WEEKDAY(J4)=5,"T5",IF(WEEKDAY(J4)=6,"T6","T7")))))) -> T2 | K5: =IF(WEEKDAY(K4)=1,"CN",IF(WEEKDAY(K4)=2,"T2",IF(WEEKDAY(K4)=3,"T3",IF(WEEKDAY(K4)=4,"T4",IF(WEEKDAY(K4)=5,"T5",IF(WEEKDAY(K4)=6,"T6","T7")))))) -> T3 | ... AH5: =IF(WEEKDAY(AH4)=1,"CN",IF(WEEKDAY(AH4)=2,"T2",IF(WEEKDAY(AH4)=3,"T3",IF(WEEKDAY(AH4)=4,"T4",IF(WEEKDAY(AH4)=5,"T5",IF(WEEKDAY(AH4)=6,"T6","T7")))))) -> T5
A6: 1 | B6: HÀ PHƯỚC | C6: TUẤN | D6: X | E6: X | F6: X | G6: CĐ | J6: X | K6: X | L6: X | M6: X | N6: X | Q6: X | R6: X | S6: X | T6: X | U6: X | V6: X | X6: X | Y6: X | Z6: X | AA6: X | AB6: X | AC6: X | AE6: X | AF6: X | AG6: X | AH6: X | AI6: =COUNTIF(D6:AH6,"X")+COUNTIF(D6:AH6,"Tr")+COUNTIF(D6:AH6,"BL") -> 24
A7: 2 | B7: VÕ THỊ ANH | C7: ĐÀO | D7: X | E7: X | F7: X | G7: X | J7: X | K7: X | L7: X | M7: X | N7: X | Q7: X | R7: X | S7: Ô | T7: Ô | U7: Ô | X7: Ô | Y7: Ô | Z7: X | AA7: X | AB7: X | AE7: X | AF7: X | AG7: X | AH7: X | AI7: =COUNTIF(D7:AH7,"X")+COUNTIF(D7:AH7,"Tr")+COUNTIF(D7:AH7,"BL") -> 18
A8: 3 | B8: NGUYỄN VĂN | C8: SƠN | D8: X | E8: X | F8: X | G8: X | J8: X | K8: X | L8: X | M8: X | N8: X | O8: X | Q8: X | R8: X | S8: X | T8: X | U8: X | X8: X | Y8: P | Z8: P | AA8: P | AB8: P | AE8: X | AF8: X | AG8: X | AH8: X | AI8: =COUNTIF(D8:AH8,"X")+COUNTIF(D8:AH8,"Tr")+COUNTIF(D8:AH8,"BL") -> 20
A9: 4 | B9: NGUYỄN THANH | C9: SƠN B | D9: X | E9: X | F9: X | G9: X | J9: X | K9: X | L9: X | M9: X | N9: X | Q9: X | R9: X | S9: P | T9: P | U9: P | X9: P | Y9: P | Z9: P | AA9: P | AB9: P | AE9: X | AF9: X | AG9: X | AH9: X | AI9: =COUNTIF(D9:AH9,"X")+COUNTIF(D9:AH9,"Tr")+COUNTIF(D9:AH9,"BL") -> 15
A10: 5 | B10: NGUYỄN THỊ ÁNH | C10: THU | D10: X | E10: X | F10: X | G10: X | J10: X | K10: X | L10: X | M10: X | N10: X | Q10: X | R10: X | S10: X | T10: P | U10: P | X10: X | Y10: X | Z10: X | AA10: X | AB10: P | AE10: X | AF10: X | AG10: X | AH10: X | AI10: =COUNTIF(D10:AH10,"X")+COUNTIF(D10:AH10,"Tr")+COUNTIF(D10:AH10,"BL") -> 20
A11: 6 | B11: NGUYỄN THỊ THANH | C11: THẢO | D11: X | E11: X | F11: X | G11: X | J11: X | K11: X | L11: X | M11: X | N11: X | Q11: X | R11: X | S11: X | T11: X | U11: X | V11: X | X11: X | Y11: X | Z11: X | AA11: X | AB11: X | AE11: X | AF11: X | AG11: X | AH11: X | AI11: =COUNTIF(D11:AH11,"X")+COUNTIF(D11:AH11,"Tr")+COUNTIF(D11:AH11,"BL") -> 24
A12: 7 | B12: GIÁP THỊ | C12: VƯỢNG | D12: X | E12: X | F12: X | G12: X | J12: X | K12: X | L12: X | M12: X | N12: X | O12: X | Q12: X | R12: X | S12: X | T12: X | U12: X | V12: X | X12: X | Y12: X | Z12: X | AA12: X | AB12: X | AE12: X | AF12: X | AG12: X | AH12: X | AI12: =COUNTIF(D12:AH12,"X")+COUNTIF(D12:AH12,"Tr")+COUNTIF(D12:AH12,"BL") -> 25
A13: 8 | B13: NGUYỄN YẾN | C13: NHI | D13: X | E13: X | F13: X | G13: X | H13: X | J13: X | K13: X | L13: X | M13: X | N13: X | O13: DL | Q13: X | R13: X | S13: X | T13: X | U13: X | V13: X | X13: X | Y13: X | Z13: X | AA13: X | AB13: X | AC13: X | AE13: X | AF13: X | AG13: X | AH13: X | AI13: =COUNTIF(D13:AH13,"X")+COUNTIF(D13:AH13,"Tr")+COUNTIF(D13:AH13,"BL") -> 26
A14: 9 | B14: NGUYỄN THỊ | C14: THU | D14: X | E14: X | F14: X | G14: X | H14: X | J14: X | K14: X | L14: X | M14: X | N14: X | O14: X | Q14: X | R14: X | S14: X | T14: P | U14: P | V14: P | X14: X | Y14: X | Z14: X | AA14: X | AB14: X | AC14: X | AE14: X | AF14: X | AG14: X | AH14: X | AI14: =COUNTIF(D14:AH14,"X")+COUNTIF(D14:AH14,"Tr")+COUNTIF(D14:AH14,"BL") -> 24
B16: KÝ HIỆU: | C16: LÀM VIỆC | I16: X | L16: NGHỈ PHÉP | R16: P | U16: NGHỈ CON ỐM | AB16: CÔ | AE16: NGHỈ KHÔNG LƯƠNG Ro
C17: TRỰC TRƯỜNG | I17: Tr | L17: NGHỈ TAI NẠN LĐ | R17: T | U17: NGHỈ VIỆC RIÊNG | AB17: R | AE17: NGHỈ KHÔNG PHÉP KP
C18: ĐI HỌC | I18: Ho | L18: NGHỈ ỐM | R18: Ô | U18: NGHỈ LỄ , TẾT | AB18: L | AE18: NGHỈ THAI SẢN S
C19: Chủ nhật | L19: LÀM BÙ LỄ | R19: BL | U19: DU LỊCH HÈ | AB19: DL | AE19: NGHỈ CHẾ ĐỘ CĐ
V20: Ngày 31 tháng 07 năm 2014
C21: TRƯỞNG ĐƠN VỊ | W21: NGƯỜI CHẤM CÔNG
C25: HÀ PHƯỚC TUẤN | W25: HÀ PHƯỚC TUẤN

Sheet T08-2014
A1: TRƯỜNG CĐKT LÝ TƯ TRỌNG TP.HCM | J1: BẢNG CHẤM CÔNG
A2: ĐƠN VỊ : PHÒNG KT&KĐCLGD | M2: THÁNG | P2: 8 | R2: NĂM | T2: 2014
A4: STT | B4: HỌ VÀ TÊN | D4: 41852 | E4: =D4+1 -> 41853 | F4: =E4+1 -> 41854 | G4: =F4+1 -> 41855 | H4: =G4+1 -> 41856 | I4: =H4+1 -> 41857 | J4: =I4+1 -> 41858 | K4: =J4+1 -> 41859 | L4: =K4+1 -> 41860 | ... AH4: =AG4+1 -> 41882 | AI4: TS.NGÀY LV
C5: THỨ | D5: =IF(WEEKDAY(D4)=1,"CN",IF(WEEKDAY(D4)=2,"T2",IF(WEEKDAY(D4)=3,"T3",IF(WEEKDAY(D4)=4,"T4",IF(WEEKDAY(D4)=5,"T5",IF(WEEKDAY(D4)=6,"T6","T7")))))) -> T6 | E5: =IF(WEEKDAY(E4)=1,"CN",IF(WEEKDAY(E4)=2,"T2",IF(WEEKDAY(E4)=3,"T3",IF(WEEKDAY(E4)=4,"T4",IF(WEEKDAY(E4)=5,"T5",IF(WEEKDAY(E4)=6,"T6","T7")))))) -> T7 | F5: =IF(WEEKDAY(F4)=1,"CN",IF(WEEKDAY(F4)=2,"T2",IF(WEEKDAY(F4)=3,"T3",IF(WEEKDAY(F4)=4,"T4",IF(WEEKDAY(F4)=5,"T5",IF(WEEKDAY(F4)=6,"T6","T7")))))) -> CN | G5: =IF(WEEKDAY(G4)=1,"CN",IF(WEEKDAY(G4)=2,"T2",IF(WEEKDAY(G4)=3,"T3",IF(WEEKDAY(G4)=4,"T4",IF(WEEKDAY(G4)=5,"T5",IF(WEEKDAY(G4)=6,"T6","T7")))))) -> T2 | H5: =IF(WEEKDAY(H4)=1,"CN",IF(WEEKDAY(H4)=2,"T2",IF(WEEKDAY(H4)=3,"T3",IF(WEEKDAY(H4)=4,"T4",IF(WEEKDAY(H4)=5,"T5",IF(WEEKDAY(H4)=6,"T6","T7")))))) -> T3 | I5: =IF(WEEKDAY(I4)=1,"CN",IF(WEEKDAY(I4)=2,"T2",IF(WEEKDAY(I4)=3,"T3",IF(WEEKDAY(I4)=4,"T4",IF(WEEKDAY(I4)=5,"T5",IF(WEEKDAY(I4)=6,"T6","T7")))))) -> T4 | J5: =IF(WEEKDAY(J4)=1,"CN",IF(WEEKDAY(J4)=2,"T2",IF(WEEKDAY(J4)=3,"T3",IF(WEEKDAY(J4)=4,"T4",IF(WEEKDAY(J4)=5,"T5",IF(WEEKDAY(J4)=6,"T6","T7")))))) -> T5 | K5: =IF(WEEKDAY(K4)=1,"CN",IF(WEEKDAY(K4)=2,"T2",IF(WEEKDAY(K4)=3,"T3",IF(WEEKDAY(K4)=4,"T4",IF(WEEKDAY(K4)=5,"T5",IF(WEEKDAY(K4)=6,"T6","T7")))))) -> T6 | ... AH5: =IF(WEEKDAY(AH4)=1,"CN",IF(WEEKDAY(AH4)=2,"T2",IF(WEEKDAY(AH4)=3,"T3",IF(WEEKDAY(AH4)=4,"T4",IF(WEEKDAY(AH4)=5,"T5",IF(WEEKDAY(AH4)=6,"T6","T7")))))) -> CN
A6: 1 | B6: HÀ PHƯỚC | C6: TUẤN | D6: X | E6: X | G6: X | H6: X | I6: X | J6: X | K6: X | L6: X | N6: X | O6: X | P6: X | Q6: X | R6: X | S6: X | U6: X | V6: X | W6: X | X6: X | Y6: X | Z6: X | AB6: VN | AC6: VN | AD6: VN | AE6: VN | AF6: X | AG6: X | AI6: =COUNTIF(D6:AH6,"X")+COUNTIF(D6:AH6,"Tr")+COUNTIF(D6:AH6,"BL") -> 22
A7: 2 | B7: VÕ THỊ ANH | C7: ĐÀO | D7: X | G7: X | H7: Ô | I7: Ô | J7: Ô | K7: Ô | N7: Ô | O7: X | P7: X | Q7: X | R7: X | U7: X | V7: X | W7: X | X7: X | Y7: X | Z7: X | AB7: X | AC7: Ô | AD7: Ô | AE7: Ô | AF7: Ô | AI7: =COUNTIF(D7:AH7,"X")+COUNTIF(D7:AH7,"Tr")+COUNTIF(D7:AH7,"BL") -> 13
A8: 3 | B8: NGUYỄN VĂN | C8: SƠN | D8: X | G8: X | H8: X | I8: X | J8: X | K8: X | N8: X | O8: X | P8: X | Q8: X | R8: X | U8: P | V8: P | W8: P | X8: X | Y8: X | AB8: X | AC8: X | AD8: X | AE8: X | AF8: X | AI8: =COUNTIF(D8:AH8,"X")+COUNTIF(D8:AH8,"Tr")+COUNTIF(D8:AH8,"BL") -> 18
A9: 4 | B9: NGUYỄN THANH | C9: SƠN B | D9: X | G9: X | H9: X | I9: X | J9: X | K9: X | N9: P | O9: P | P9: P | Q9: P | R9: P | U9: X | V9: X | W9: X | X9: X | Y9: X | AB9: X | AC9: X | AD9: X | AE9: X | AF9: X | AI9: =COUNTIF(D9:AH9,"X")+COUNTIF(D9:AH9,"Tr")+COUNTIF(D9:AH9,"BL") -> 16
A10: 5 | B10: NGUYỄN THỊ ÁNH | C10: THU | D10: X | G10: X | H10: X | I10: X | J10: X | K10: X | N10: X | O10: X | P10: X | Q10: X | R10: X | U10: X | V10: X | W10: X | X10: X | Y10: X | AB10: X | AC10: X | AD10: X | AE10: X | AF10: X | AI10: =COUNTIF(D10:AH10,"X")+COUNTIF(D10:AH10,"Tr")+COUNTIF(D10:AH10,"BL") -> 21
A11: 6 | B11: NGUYỄN THỊ THANH | C11: THẢO | D11: X | E11: X | G11: X | H11: X | I11: X | J11: X | K11: X | L11: X | N11: X | O11: X | P11: X | Q11: X | R11: X | U11: X | V11: X | W11: X | X11: X | Y11: X | Z11: X | AB11: X | AC11: X | AD11: X | AE11: X | AF11: X | AG11: X | AI11: =COUNTIF(D11:AH11,"X")+COUNTIF(D11:AH11,"Tr")+COUNTIF(D11:AH11,"BL") -> 25
A12: 7 | B12: GIÁP THỊ | C12: VƯỢNG | D12: X | E12: X | G12: X | H12: X | I12: X | J12: X | K12: X | N12: CÔ | O12: CÔ | P12: CÔ | Q12: CÔ | R12: CÔ | U12: X | V12: X | W12: X | X12: X | Y12: X | Z12: X | AB12: X | AC12: X | AD12: X | AE12: X | AF12: X | AI12: =COUNTIF(D12:AH12,"X")+COUNTIF(D12:AH12,"Tr")+COUNTIF(D12:AH12,"BL") -> 18
A13: 8 | B13: NGUYỄN YẾN | C13: NHI | D13: X | E13: X | G13: X | H13: X | I13: X | J13: X | K13: X | L13: X | N13: X | O13: X | P13: X | Q13: X | R13: X | S13: X | U13: X | V13: X | W13: X | X13: X | Y13: X | Z13: X | AB13: X | AC13: X | AD13: X | AE13: X | AF13: X | AG13: X | AI13: =COUNTIF(D13:AH13,"X")+COUNTIF(D13:AH13,"Tr")+COUNTIF(D13:AH13,"BL") -> 26
A14: 9 | B14: NGUYỄN THỊ | C14: THU | D14: X | E14: X | G14: X | H14: X | I14: X | J14: X | K14: X | L14: X | N14: X | O14: X | P14: X | Q14: X | R14: X | S14: X | U14: X | V14: X | W14: X | X14: X | Y14: X | Z14: X | AB14: X | AC14: X | AD14: X | AE14: X | AF14: X | AG14: X | AI14: =COUNTIF(D14:AH14,"X")+COUNTIF(D14:AH14,"Tr")+COUNTIF(D14:AH14,"BL") -> 26
B16: KÝ HIỆU: | C16: LÀM VIỆC | I16: X | L16: NGHỈ PHÉP | R16: P | U16: NGHỈ CON ỐM | AB16: CÔ | AE16: NGHỈ KHÔNG LƯƠNG Ro
C17: TRỰC TRƯỜNG | I17: Tr | L17: NGHỈ TAI NẠN LĐ | R17: T | U17: NGHỈ VIỆC RIÊNG | AB17: R | AE17: NGHỈ KHÔNG PHÉP KP
C18: ĐI HỌC | I18: Ho | L18: NGHỈ ỐM | R18: Ô | U18: NGHỈ LỄ , TẾT | AB18: L | AE18: NGHỈ THAI SẢN S
