Workbook

Sheet Mau 1
H1: Mẫu 1
A2: TRƯỜNG CAO ĐẲNG LÝ TỰ TRỌNG | E2: CỘNG HÒA XÃ HỘI CHỦ NGHĨA VIỆT NAM
A3: THÀNH PHỐ HỒ CHÍ MINH | E3: Độc lập - Tự do - Hạnh phúc
A4: TRUNG TÂM ĐIỀU HÀNH VÀ QUẢN LÝ DỮ LIỆU
A6: DANH SÁCH CB-GV-NV ĐẠT TIÊU CHUẨN XẾP LOẠI THI ĐUA (Quy định số 1310/QyĐ-LTT-TĐ ngày 09/11/2020 của Trường)
A8: TT | B8: Họ tên | C8: Mã E-Office | D8: Tiêu chuẩn xếp loại thi đua A1 (Ghi rõ nội dung tiêu chuẩn: số Quyết định, thời gian, cơ quan ban hành,…) | E8: Tiêu chuẩn xếp loại thi đua A2 (Ghi rõ nội dung tiêu chuẩn: số Quyết định, thời gian, cơ quan ban hành,…) | F8: Tiêu chuẩn xếp loại thi đua A3 (Ghi rõ nội dung tiêu chuẩn: số Quyết định, thời gian, cơ quan ban hành,…) | G8: Tiêu chuẩn xếp loại thi đua A4 (Ghi rõ nội dung tiêu chuẩn: số Quyết định, thời gian, cơ quan ban hành,…) | H8: Ghi chú
A9: I. Viên chức
A10: 01 | B10: Nguyễn Hữu Thiện | C10: 01017003 | D10: - Tham gia Đề án hợp tác đào tạo trình độ cao đẳng chất lượng cao giữa Trường CĐ Lý Tự Trọng Tp.HCM với công ty TNHH Sản xuất và Kinh doanh VINFAST (QĐ số 496A/QĐ-LTT-ĐT ngày 30/5/2020) | E10: Quyết định 1720/QĐ-GDĐT-VP ngày 21/08/2020 Công nhận Sáng kiến có phạm vi ảnh hưởng cấp Ngành NH 2019-2020
A11: 02 | B11: Vương Hội Khánh | C11: 01017010 | F11: Kết quả đánh giá sáng kiến năm học 2019 - 2020 - Đạt loại Khá
A12: 03 | B12: Trương Hữu Lộc | C12: 01018004 | F12: Kết quả đánh giá sáng kiến năm học 2019 - 2020 - Đạt loại Khá
A13: II. Hợp đồng trường
A14: 01 | B14: Nguyễn Thị Thanh Hòa | C14: 01009027 | F14: Kết quả đánh giá sáng kiến năm học 2019 - 2020 - Đạt yêu cầu
A15: 02 | B15: Phạm Huỳnh Kim Ngân | C15: 01025013 | F15: Kết quả xếp loại A3 vì tham gia viết bài tham luận tại Hội thảo cấp Khoa (Khoa CNTT)
A17: Ghi chú: Gửi kèm minh chứng về phòng Tổ chức - Hành chính - Tổng hợp.
E18: TPHCM, ngày 19 tháng 01 năm 2021
E19: TRƯỞNG ĐƠN VỊ
E26: Nguyễn Hữu Thiện

Sheet Mau 2
A1: TRƯỜNG CAO ĐẲNG LÝ TỰ TRỌNG THÀNH PHỐ HỒ CHÍ MINH TRUNG TÂM ĐIỀU HÀNH VÀ QUẢN LÝ DỮ LIỆU | C1: CỘNG HÒA XÃ HỘI CHỦ NGHĨA VIỆT NAM Độc lập - Tự do - Hạnh phúc
E2: Mẫu 2
A3: BẢNG TỔNG HỢP NHIỆM VỤ CHUNG VÀ RIÊNG CỦA ĐƠN VỊ (Gửi file mềm ngày 25 hàng tháng)
A6: TT | B6: Nội dung công việc | C6: Thời gian thực hiện | D6: Kết quả | E6: Ghi chú
A7: A | B7: TỔNG KẾT CÔNG VIỆC TRONG THÁNG
A8: I. | B8: Công việc chung của Trường
A9: 01 | B9: Nhiệm vụ 1: Công tác tư vấn tuyển sinh trực tuyến | C9: 07/2021 | D9: Đạt
A10: 02 | B10: Nhiệm vụ 2: Hỗ trợ kỹ thuật các buổi Hội thảo nâng cao chất lượng giảng dạy trực tuyến cấp trường | C10: 07/2021 | D10: Đạt
A11: 03 | B11: Nhiệm vụ 3: Xây dựng các video quảng bá hình ảnh và thương hiệu nhà trường | C11: 07/2021 | D11: Đạt
A12: 04 | B12: Nhiệm vụ 4: Tham gia quản lý và vận hành kênh truyền thông Zalo của Nhà trường | C12: 07/2021 | D12: Đạt
A13: 04
A14: 05
A15: II. | B15: Công việc riêng của đơn vị
A16: 01 | B16: Nhiệm vụ 1: Tổng hợp Like và Share Fanpage Facebook Nhà trường | C16: 07/2021 | D16: Đạt
A17: 02 | B17: Nhiệm vụ 2: Thực hiện Like và Share Fanpage Facebook Nhà trường | C17: 07/2021 | D17: Đạt
A18: 03 | B18: Nhiệm vụ 3: Tham gia trả lời tư vấn tuyển sinh trên fanpage Nhà trường | C18: 07/2021 | D18: Đạt
A19: 04 | B19: Nhiệm vụ 4: Tham gia cấp mật khẩu trực tuyến Email sinh viên | C19: 07/2021 | D19: Đạt
A20: B | B20: ĐỀ XUẤT NỘI DUNG CÔNG VIỆC THÁNG 08/2021
A21: I. | B21: Công việc chung của Trường (nếu có)
A22: 01 | B22: Nhiệm vụ 1: Công tác chuẩn bị tư vấn tuyển sinh trực tuyến đợt 3 | C22: 08/2021
B23: Nhiệm vụ 1: Thực hiện tư vấn tuyển sinh theo điều động của Nhà trường | C23: 08/2021
A24: 02 | B24: Nhiệm vụ 3: Xây dựng các video quảng bá hình ảnh và thương hiệu nhà trường | C24: 08/2021
A25: II. | B25: Công việc riêng của đơn vị
A26: 01 | B26: Nhiệm vụ 1: Tham gia trả lời tư vấn tuyến sinh trên fanpage Nhà trường | C26: 08/2021
A27: 02 | B27: Nhiệm vụ 2: Tổng hợp Like và Share Fanpage Facebook Nhà trường | C27: 08/2021
A28: 03 | B28: Nhiệm vụ 3: Thực hiện Like và Share Fanpage Facebook Nhà trường | C28: 08/2021
A30: Lưu ý: - Nhóm công việc của đơn vị không tính nội dung công việc đã được quy định ở vị trí việc làm (đối với nhân viên); chế độ làm việc của giảng viên/ đã được tính chế độ, thù lao (đối với giảng viên). - Các đơn vị gửi file điện tử về phòng TC-HC-TH (Cô Trần Thị Ánh Phượng) qua hệ thống điện tử E-office nhà trường (không gửi văn bản giấy) ngày 25 hàng tháng./.
B31: Thành phố Hồ Chí Minh, ngày 24 tháng 7 Năm 2021
C32: TRƯỞNG ĐƠN VỊ
C36: Nguyễn Hữu Thiện

Sheet Mau 3
A1: TRƯỜNG CAO ĐẲNG LÝ TỰ TRỌNG | L1: CỘNG HÒA XÃ HỘI CHỦ NGHĨA VIỆT NAM
A2: THÀNH PHỐ HỒ CHÍ MINH | L2: Độc lập - Tự do - Hạnh phúc
A3: TRUNG TÂM ĐIỀU HÀNH VÀ QUẢN LÝ DỮ LIỆU
O4: Mẫu 3
A5: THỐNG KÊ CHI TIẾT KHỐI LƯỢNG CÔNG VIỆC THỰC HIỆN THÁNG 07/2021
A7: TT | B7: Tên nội dung công việc | D7: Công việc chung của trường | J7: Công việc riêng của đơn vị | O7: Ghi chú
B8: Họ và tên | C8: Mã E-ofice | D8: Nhiệm vụ 1 | E8: Nhiệm vụ 2 | F8: Nhiệm vụ 3 | G8: Nhiệm vụ 4 | H8: Nhiệm vụ 5 | I8: Tổng | J8: Nhiệm vụ 1 | K8: Nhiệm vụ 2 | L8: Nhiệm vụ 3 | M8: Nhiệm vụ 4 | N8: Tổng
A9: I. Viên chức
A10: 01 | B10: Nguyễn Hữu Thiện | C10: 01017003 | D10: x | E10: x | F10: x | G10: x | I10: =COUNTA(D10:H10) -> 4 | M10: x | N10: =COUNTA(J10:M10) -> 1
A11: 02 | B11: Vương Hội Khánh | C11: 01017010 | D11: x | E11: x | F11: x | I11: =COUNTA(D11:H11) -> 3 | M11: x | N11: =COUNTA(J11:M11) -> 1
A12: 03 | B12: Trương Hữu Lộc | C12: 01018004 | D12: x | E12: x | F12: x | G12: x | I12: =COUNTA(D12:H12) -> 4 | K12: x | N12: =COUNTA(J12:M12) -> 1
A13: II. Hợp đồng trường
A14: 04 | B14: Nguyễn Thị Thanh Hòa | C14: 01009027 | D14: x | I14: =COUNTA(D14:H14) -> 1 | J14: x | K14: x | L14: x | N14: =COUNTA(J14:M14) -> 3
A15: 05 | B15: Phạm Huỳnh Kim Ngân | C15: 01025013 | I15: =COUNTA(D15:H15) -> 0 | K15: x | L15: x | N15: =COUNTA(J15:M15) -> 2
A16: Lưu ý: Các đơn vị gửi file mềm qua hệ thống điện tử E-office nhà trường và văn bản giấy về phòng TC-HC-TH (Cô Trần Thị Ánh Phượng).
J17: TPHCM, ngày 26 tháng 7 năm 2021
J18: TRƯỞNG ĐƠN VỊ
J23: Nguyễn Hữu Thiện

Sheet Mau 4 
A1: TRƯỜNG CAO ĐẲNG LÝ TỰ TRỌNG | F1: CỘNG HÒA XÃ HỘI CHỦ NGHĨA VIỆT NAM
A2: THÀNH PHỐ HỒ CHÍ MINH | F2: Độc lập - Tự do - Hạnh phúc
A3: TRUNG TÂM ĐIỀU HÀNH VÀ QUẢN LÝ DỮ LIỆU
J4: Mẫu 4
A5: DANH SÁCH XẾP LOẠI THI ĐUA THÁNG 07/2021
A7: TT | B7: Họ tên | C7: Mã E-Office | D7: Tập thể đơn vị đề nghị | F7: Số lượng công việc tham gia | H7: Số ngày/giờ vượt so với ngày công kế hoạch (đối với CB-NV) | I7: Số ngày nghỉ/ tiết nghỉ (đối với GV) | J7: Ghi chú
D8: Xếp loại | E8: Lý do | F8: Công việc chung của trường | G8: Công việc riêng của đơn vị
A9: I. Viên chức
A10: 01 | B10: Nguyễn Hữu Thiện | C10: 01017003 | D10: A1 | F10: ='Mau 3'!I10 -> 4 | G10: =+'Mau 3'!N10 -> 1
A11: 02 | B11: Vương Hội Khánh | C11: 01017010 | D11: A3 | F11: ='Mau 3'!I11 -> 3 | G11: =+'Mau 3'!N11 -> 1 | J11: Đề xuất xếp loại A2 vì tham gia công tác tuyển sinh trực tuyến tại Trường
A12: 03 | B12: Trương Hữu Lộc | C12: 01018004 | D12: A4 | E12: Thực hiện giảng cách xã hội nên làm việc Online | F12: ='Mau 3'!I12 -> 4 | G12: =+'Mau 3'!N12 -> 1 | J12: Đề xuất xếp loại A3 vì tham gia xây dựng video clip quảng bá và quản lý kênh zalo của trường
A13: II. Hợp đồng trường
A14: 01 | B14: Nguyễn Thị Thanh Hòa | C14: 01009027 | D14: A4 | E14: Thực hiện giảng cách xã hội nên làm việc Online | F14: ='Mau 3'!I14 -> 1 | G14: =+'Mau 3'!N14 -> 3
A15: 02 | B15: Phạm Huỳnh Kim Ngân | C15: 01025013 | D15: A4 | E15: Thực hiện giảng cách xã hội nên làm việc Online | F15: ='Mau 3'!I15 -> 0 | G15: =+'Mau 3'!N15 -> 2
B17: Kết quả xếp loại | E17: Viên chức | F17: Hợp đồng trường | H17: Ý kiến TT HĐ TĐ-KT
B18: A1 | E18: 1
B19: A2 | E19: 2
B20: A3 | E20: 0 | F20: 1
B21: A3 | E21: 0 | F21: 1
B22: Tổng số nhân sự: | E22: =SUM(E18:E21) -> 3 | F22: =SUM(F18:F21) -> 2
A24: Lưu ý: Các đơn vị gửi file mềm qua hệ thống điện tử E-office nhà trường và văn bản giấy về phòng TC-HC-TH (Cô Trần Thị Ánh Phượng).
F25: TPHCM, ngày 26 tháng 7 năm 2021
F26: TRƯỞNG ĐƠN VỊ
G31: Nguyễn Hữu Thiện
