Workbook

Sheet Mau 1
G1: Mẫu 1
A2: TRƯỜNG CAO ĐẲNG LÝ TỰ TRỌNG | E2: CỘNG HÒA XÃ HỘI CHỦ NGHĨA VIỆT NAM
A3: THÀNH PHỐ HỒ CHÍ MINH | E3: Độc lập - Tự do - Hạnh phúc
A4: ĐƠN VỊ: Phòng QT - DV
A6: DANH SÁCH CB-GV-NV ĐẠT TIÊU CHUẨN XẾP LOẠI THI ĐUA (Quy định số 1310/QyĐ-LTT-TĐ ngày 09/11/2020 của Trường)
A8: TT | B8: Họ tên | C8: Mã E-Office | D8: Tiêu chuẩn xếp loại thi đua A1 (Ghi rõ nội dung tiêu chuẩn: số Quyết định, thời gian, cơ quan ban hành,…) | E8: Tiêu chuẩn xếp loại thi đua A2 (Ghi rõ nội dung tiêu chuẩn: số Quyết định, thời gian, cơ quan ban hành,…) | F8: Tiêu chuẩn xếp loại thi đua A3 (Ghi rõ nội dung tiêu chuẩn: số Quyết định, thời gian, cơ quan ban hành,…) | G8: Ghi chú
A9: I. Viên chức
A10: 1 | B10: Lê Quang Liêm | C10: 01008028 | D10: 1. SKKN: Văn hóa trong nhà trường và hướng xây dựng, phát triển; Quyết định Số: 1720/QĐ-GDĐT-VP ngày 21/8/2020 của Sở Giáo dục và Đào tạo TP. HCM công nhận sáng kiến có phạm vi hảnh hưởng cáp ngành; năm học 2019-2020
D11: 2. Hội thảo khoa học: Gắn kết doanh nghiệp trong mô hình đào tạo, bồi dưỡng, phát triển nguồn nhân lực chất lượng cao trong bối cảnh công nghiệp 4.0; Trường CĐ Lý Tự Trọng TPHCM; năm 2020.
D12: 3. Tên sáng kiến: Mô hình động cơ phun xăng điện tử được kết nối và chuẩn đoán bằng wifi hoăc 3G trên smart phone; Quyết định Số: 1664/QĐ-UBND ngày 28/7/2020 của chủ tịch UBND TP. HCM về việc công nhận sáng kiến có phạm vi ảnh hưởng tại TP.HCM; năm học 2018-2019
A13: 2 | B13: Nguyễn Văn Thành | C13: 01008002 | E13: 1. SKKN: Chế tạo máy quấn dây; Quyết định Số: 1720/QĐ-GDĐT-VP ngày 21/8/2020 của Sở Giáo dục và Đào tạo TP. HCM công nhận sáng kiến có phạm vi hảnh hưởng cáp ngành; năm học 2019-2020
A14: 3 | B14: Trịnh Hoàng Hiệp | C14: 01025007 | E14: 1. Hội thảo khoa học: Xây dựng mô hình liên kết nhà trường- Doanh nghiệp trong đào tạo chất lượng cao; Trường CĐ Lý Tự Trọng TPHCM; năm 2020.
A15: 4 | B15: Nguyễn Trọng Phú | C15: 01008004 | F15: Giải pháp sửa đèn let tuýp (khá)
A16: 5 | B16: Phan Đức Long | C16: 01009007 | E16: 1. SKKN: một số giải pháp quản lý nâng cao chất lượng công tác học sinh sinh viên tại ký túc xá Trường CĐ Lý Tự Trọng TPHCM; Quyết định Số: 1720/QĐ-GDĐT-VP ngày 21/8/2020 của Sở Giáo dục và Đào tạo TP. HCM công nhận sáng kiến có phạm vi ảnh hưởng cấp ngành; năm học 2019-2020
A17: 6 | B17: Giáp Văn Thịnh | C17: 01008008 | F17: Giải pháp nghiền cành cây bằng máy tự chế (khá)
A18: 7 | B18: Vũ Ngọc Quang | C18: 01008006
A19: 8 | B19: Nguyễn Cao Thắng | C19: 01002021 | E19: 1. SKKN: ứng dụng công nghệ kết nối trình chiếu không dây tại Trường CĐ Lý Tự Trọng TPHCM; Quyết định Số: 1720/QĐ-GDĐT-VP ngày 21/8/2020 của Sở Giáo dục và Đào tạo TP. HCM công nhận sáng kiến có phạm vi ảnh hưởng cấp ngành; năm học 2019-2020
A20: 9 | B20: Ninh Đỗ Hiệp | C20: 01017009 | F20: Giải pháp ứng dụng phần mềm Easeus Data Recovery Wizard giúp khôi phục dữ liệu máy tính và các thiết bị ngoại vi ở Trường Cao Đẳng Lý Tự Trọng TP. Hồ Chí Minh.(khá)
A21: 10 | B21: Nguyễn Tiến Việt Dũng | C21: 01015026
A22: 11 | B22: Bùi Đặng Hoàng Tuấn | C22: 01015028
A23: 12 | B23: Lê Hồng Anh Tuấn | C23: 01008005 | F23: Giải pháp hút chân không cho máy lạnh bằng block nén cũ.(khá)
A24: 13 | B24: Hà Nhật Thanh | C24: 01009005
A25: 14 | B25: Trần Văn Lý | C25: 01002003
A26: 15 | B26: Bùi Thị Dương | C26: 01009014
A27: 16 | B27: Võ Tấn Kiệt | C27: 01008034 | F27: Ứng dụng plesk Panel quản lý máy chủ web hosting.(khá)
A28: II. Hợp đồng trường
A29: 1 | B29: Trần Thị Thu | C29: 01008021
A30: 2 | B30: Dương Thị Thủy | C30: 01008009
A31: 3 | B31: Nguyễn Thị Thảo | C31: 01007003
A32: 4 | B32: Đỗ Thị Bích Thủy | C32: 01008031
A33: 5 | B33: Nguyễn Thị Thu Trang | C33: 01008018
A34: 6 | B34: Thân Thị Quyết | C34: 01008024
A35: 7 | B35: Trần Kim Tươi | C35: 01008039
A36: 8 | B36: Trương Thị Bắc | C36: 01008040
A37: 9 | B37: Trương Thị Định | C37: 01008041
A38: 10 | B38: Giáp Đức Nhận | C38: 01012027 | F38: Giải pháp thay thế phích tỳ thay từ gang sang thép C45.(khá)
A39: 11 | B39: Tạ Quốc Tấn | C39: 01008012
A40: 12 | B40: Nguyễn Xuân Lợi | C40: 01017008
A41: 13 | B41: Huỳnh Bá Triết | C41: 01008033
A42: 14 | B42: Trần Thanh Quí | C42: 01008032
...

Sheet Mau 2
A1: TRƯỜNG CAO ĐẲNG LÝ TỰ TRỌNG THÀNH PHỐ HỒ CHÍ MINH ĐƠN VỊ: Phòng QT - DV | D1: CỘNG HÒA XÃ HỘI CHỦ NGHĨA VIỆT NAM Độc lập - Tự do - Hạnh phúc
E2: Mẫu 2
A3: BẢNG TỔNG HỢP NHIỆM VỤ CHUNG VÀ RIÊNG CỦA ĐƠN VỊ (Gửi file mềm ngày 25 hàng tháng)
A6: TT | B6: Nội dung công việc | C6: Thời gian thực hiện | D6: Kết quả | E6: Ghi chú
A7: A | B7: TỔNG KẾT CÔNG VIỆC TRONG THÁNG
A8: I. | B8: Công việc chung của Trường
A9: 01 | B9: Nhiệm vụ 1:
A10: 02 | B10: Nhiệm vụ 2:
A11: 03 | B11: Nhiệm vụ 3:
A12: 04 | B12: Nhiệm vụ 4:
A13: 05 | B13: Nhiệm vụ 5:
A14: 06 | B14: Nhiệm vụ 6:
A15: 07 | B15: Nhiệm vụ 7:
A16: 08 | B16: Nhiệm vụ 8:
A17: 09 | B17: Nhiệm vụ 9:
A18: II. | B18: Công việc riêng của đơn vị
... A27: 09 | B27: Nhiệm vụ 9:
A28: 10 | B28: Nhiệm vụ 10:
A29: B | B29: ĐỀ XUẤT NỘI DUNG CÔNG VIỆC THÁNG………….
A30: I. | B30: Công việc chung của Trường (nếu có)
A31: 01 | B31: Nhiệm vụ 1:
A32: 02 | B32: Nhiệm vụ 2:
A33: 03 | B33: Nhiệm vụ 3:
A34: 04 | B34: Nhiệm vụ 4:
A35: 05 | B35: Nhiệm vụ 5:
A36: 06 | B36: Nhiệm vụ 6:
A37: 07 | B37: Nhiệm vụ 7:
A38: 08 | B38: Nhiệm vụ 8:
A39: II. | B39: Công việc riêng của đơn vị
A40: 01 | B40: Nhiệm vụ 1:
... A43: 04 | B43: Nhiệm vụ 4:
A45: Lưu ý: - Nhóm công việc của đơn vị không tính nội dung công việc đã được quy định ở vị trí việc làm (đối với nhân viên); chế độ làm việc của giảng viên/ đã được tính chế độ, thù lao (đối với giảng viên). - Các đơn vị gửi file điện tử về phòng TC-HC-TH (Cô Trần Thị Ánh Phượng) qua hệ thống điện tử E-office nhà trường (không gửi văn bản giấy) ngày 25 hàng tháng./.
D46: Thành phố Hồ Chí Minh, ngày …. tháng…. năm …..
D47: TRƯỞNG ĐƠN VỊ

Sheet Mau 3
A1: TRƯỜNG CAO ĐẲNG LÝ TỰ TRỌNG | L1: CỘNG HÒA XÃ HỘI CHỦ NGHĨA VIỆT NAM
A2: THÀNH PHỐ HỒ CHÍ MINH | L2: Độc lập - Tự do - Hạnh phúc
A3: ĐƠN VỊ :Phòng QT-DV
T4: Mẫu 3
A5: THỐNG KÊ CHI TIẾT KHỐI LƯỢNG CÔNG VIỆC THỰC HIỆN THÁNG 07/2021
A7: TT | B7: Tên nội dung công việc | L7: Công việc riêng của đơn vị | T7: Ghi chú
B8: Họ và tên | C8: Mã E-ofice | D8: Nhiệm vụ 1 | E8: Nhiệm vụ 2 | F8: Nhiệm vụ 3 | G8: Nhiệm vụ 4 | H8: Nhiệm vụ 5 | I8: Nhiệm vụ 6 | J8: Nhiệm vụ 7 | K8: Nhiệm vụ 8 | L8: Nhiệm vụ 1 | M8: Nhiệm vụ 2 | N8: Nhiệm vụ 3 | O8: Nhiệm vụ 4 | P8: Nhiệm vụ 5 | Q8: Nhiệm vụ 6 | R8: Nhiệm vụ 7 | S8: Nhiệm vụ 8
A9: I. Viên chức
A10: 1 | B10: Lê Quang Liêm | C10: 01008028 | V10: =COUNTIF(D10:K10,"x") -> 0 | W10: =COUNTIF(L10:S10,"x") -> 0
A11: 2 | B11: Nguyễn Văn Thành | C11: 01008002 | V11: =COUNTIF(D11:K11,"x") -> 0 | W11: =COUNTIF(L11:S11,"x") -> 0
A12: 3 | B12: Trịnh Hoàng Hiệp | C12: 01025007 | V12: =COUNTIF(D12:K12,"x") -> 0 | W12: =COUNTIF(L12:S12,"x") -> 0
A13: 4 | B13: Nguyễn Trọng Phú | C13: 01008004 | V13: =COUNTIF(D13:K13,"x") -> 0 | W13: =COUNTIF(L13:S13,"x") -> 0
A14: 5 | B14: Phan Đức Long | C14: 01009007 | V14: =COUNTIF(D14:K14,"x") -> 0 | W14: =COUNTIF(L14:S14,"x") -> 0
A15: 6 | B15: Giáp Văn Thịnh | C15: 01008008 | V15: =COUNTIF(D15:K15,"x") -> 0 | W15: =COUNTIF(L15:S15,"x") -> 0
A16: 7 | B16: Vũ Ngọc Quang | C16: 01008006 | V16: =COUNTIF(D16:K16,"x") -> 0 | W16: =COUNTIF(L16:S16,"x") -> 0
A17: 8 | B17: Nguyễn Cao Thắng | C17: 01002021 | V17: =COUNTIF(D17:K17,"x") -> 0 | W17: =COUNTIF(L17:S17,"x") -> 0
A18: 9 | B18: Ninh Đỗ Hiệp | C18: 01017009 | V18: =COUNTIF(D18:K18,"x") -> 0 | W18: =COUNTIF(L18:S18,"x") -> 0
A19: 10 | B19: Nguyễn Tiến Việt Dũng | C19: 01015026 | V19: =COUNTIF(D19:K19,"x") -> 0 | W19: =COUNTIF(L19:S19,"x") -> 0
A20: 11 | B20: Bùi Đặng Hoàng Tuấn | C20: 01015028 | V20: =COUNTIF(D20:K20,"x") -> 0 | W20: =COUNTIF(L20:S20,"x") -> 0
A21: 12 | B21: Lê Hồng Anh Tuấn | C21: 01008005 | V21: =COUNTIF(D21:K21,"x") -> 0 | W21: =COUNTIF(L21:S21,"x") -> 0
... A25: 16 | B25: Võ Tấn Kiệt | C25: 01008034 | V25: =COUNTIF(D25:K25,"x") -> 0 | W25: =COUNTIF(L25:S25,"x") -> 0
A26: II. Hợp đồng trường | W26: =COUNTIF(L26:S26,"x") -> 0
A27: 1 | B27: Trần Thị Thu | C27: 01008021 | V27: =COUNTIF(D27:K27,"x") -> 0 | W27: =COUNTIF(L27:S27,"x") -> 0
A28: 2 | B28: Dương Thị Thủy | C28: 01008009 | V28: =COUNTIF(D28:K28,"x") -> 0 | W28: =COUNTIF(L28:S28,"x") -> 0
A29: 3 | B29: Nguyễn Thị Thảo | C29: 01007003 | V29: =COUNTIF(D29:K29,"x") -> 0 | W29: =COUNTIF(L29:S29,"x") -> 0
A30: 4 | B30: Đỗ Thị Bích Thủy | C30: 01008031 | V30: =COUNTIF(D30:K30,"x") -> 0 | W30: =COUNTIF(L30:S30,"x") -> 0
A31: 5 | B31: Nguyễn Thị Thu Trang | C31: 01008018 | V31: =COUNTIF(D31:K31,"x") -> 0 | W31: =COUNTIF(L31:S31,"x") -> 0
A32: 6 | B32: Thân Thị Quyết | C32: 01008024 | V32: =COUNTIF(D32:K32,"x") -> 0 | W32: =COUNTIF(L32:S32,"x") -> 0
A33: 7 | B33: Trần Kim Tươi | C33: 01008039 | V33: =COUNTIF(D33:K33,"x") -> 0 | W33: =COUNTIF(L33:S33,"x") -> 0
A34: 8 | B34: Trương Thị Bắc | C34: 01008040 | V34: =COUNTIF(D34:K34,"x") -> 0 | W34: =COUNTIF(L34:S34,"x") -> 0
A35: 9 | B35: Trương Thị Định | C35: 01008041 | V35: =COUNTIF(D35:K35,"x") -> 0 | W35: =COUNTIF(L35:S35,"x") -> 0
A36: 10 | B36: Giáp Đức Nhận | C36: 01012027 | V36: =COUNTIF(D36:K36,"x") -> 0 | W36: =COUNTIF(L36:S36,"x") -> 0
A37: 11 | B37: Tạ Quốc Tấn | C37: 01008012 | V37: =COUNTIF(D37:K37,"x") -> 0 | W37: =COUNTIF(L37:S37,"x") -> 0
A38: 12 | B38: Nguyễn Xuân Lợi | C38: 01017008 | V38: =COUNTIF(D38:K38,"x") -> 0 | W38: =COUNTIF(L38:S38,"x") -> 0
... A45: 19 | B45: Ngô Ngọc Của | C45: 01008044 | V45: =COUNTIF(D45:K45,"x") -> 0 | W45: =COUNTIF(L45:S45,"x") -> 0
A47: Lưu ý: Các đơn vị gửi file mềm qua hệ thống điện tử E-office nhà trường và văn bản giấy về phòng TC-HC-TH (Cô Trần Thị Ánh Phượng).
L48: TPHCM, ngày …... tháng …… năm 2021
L49: TRƯỞNG ĐƠN VỊ
L55: Lê Quang Liêm

Sheet Mau 4 
A1: TRƯỜNG CAO ĐẲNG LÝ TỰ TRỌNG | F1: CỘNG HÒA XÃ HỘI CHỦ NGHĨA VIỆT NAM
A2: THÀNH PHỐ HỒ CHÍ MINH | F2: Độc lập - Tự do - Hạnh phúc
A3: ĐƠN VỊ: Phòng QT - DV
J4: Mẫu 4
A5: DANH SÁCH XẾP LOẠI THI ĐUA THÁNG 07/2021
A7: TT | B7: Họ tên | C7: Mã E-Office | D7: Tập thể đơn vị đề nghị | F7: Số lượng công việc tham gia | H7: Số ngày/giờ vượt so với ngày công kế hoạch (đối với CB-NV) | I7: Số ngày nghỉ/ tiết nghỉ (đối với GV) | J7: Ghi chú
D8: Xếp loại | E8: Lý do | F8: Công việc chung của trường | G8: Công việc riêng của đơn vị
A9: I. Viên chức
A10: 1 | B10: Lê Quang Liêm | C10: 01008028 | D10: A1 | F10: ='Mau 3'!V10 -> 0 | G10: ='Mau 3'!W10 -> 0
A11: 2 | B11: Nguyễn Văn Thành | C11: 01008002 | D11: A2 | F11: ='Mau 3'!V11 -> 0 | G11: ='Mau 3'!W11 -> 0
A12: 3 | B12: Trịnh Hoàng Hiệp | C12: 01025007 | D12: A2 | F12: ='Mau 3'!V12 -> 0 | G12: ='Mau 3'!W12 -> 0
A13: 4 | B13: Nguyễn Trọng Phú | C13: 01008004 | D13: A3 | F13: ='Mau 3'!V13 -> 0 | G13: ='Mau 3'!W13 -> 0
A14: 5 | B14: Phan Đức Long | C14: 01009007 | D14: A2 | F14: ='Mau 3'!V14 -> 0 | G14: ='Mau 3'!W14 -> 0
A15: 6 | B15: Giáp Văn Thịnh | C15: 01008008 | D15: A3 | F15: ='Mau 3'!V15 -> 0 | G15: ='Mau 3'!W15 -> 0
A16: 7 | B16: Vũ Ngọc Quang | C16: 01008006 | D16: A4 | F16: ='Mau 3'!V16 -> 0 | G16: ='Mau 3'!W16 -> 0
A17: 8 | B17: Nguyễn Cao Thắng | C17: 01002021 | D17: A2 | F17: ='Mau 3'!V17 -> 0 | G17: ='Mau 3'!W17 -> 0
A18: 9 | B18: Ninh Đỗ Hiệp | C18: 01017009 | D18: A3 | F18: ='Mau 3'!V18 -> 0 | G18: ='Mau 3'!W18 -> 0
A19: 10 | B19: Nguyễn Tiến Việt Dũng | C19: 01015026 | D19: A4 | F19: ='Mau 3'!V19 -> 0 | G19: ='Mau 3'!W19 -> 0
A20: 11 | B20: Bùi Đặng Hoàng Tuấn | C20: 01015028 | D20: A4 | F20: ='Mau 3'!V20 -> 0 | G20: ='Mau 3'!W20 -> 0
A21: 12 | B21: Lê Hồng Anh Tuấn | C21: 01008005 | D21: A3 | F21: ='Mau 3'!V21 -> 0 | G21: ='Mau 3'!W21 -> 0
A22: 13 | B22: Hà Nhật Thanh | C22: 01009005 | D22: A DN | F22: ='Mau 3'!V22 -> 0 | G22: ='Mau 3'!W22 -> 0 | J22: Khu phong tỏa
A23: 14 | B23: Trần Văn Lý | C23: 01002003 | D23: A4 | F23: ='Mau 3'!V23 -> 0 | G23: ='Mau 3'!W23 -> 0
A24: 15 | B24: Bùi Thị Dương | C24: 01009014 | D24: A4 | F24: ='Mau 3'!V24 -> 0 | G24: ='Mau 3'!W24 -> 0
A25: 16 | B25: Võ Tấn Kiệt | C25: 01008034 | D25: A3 | F25: ='Mau 3'!V25 -> 0 | G25: ='Mau 3'!W25 -> 0
A26: II. Hợp đồng trường
A27: 1 | B27: Trần Thị Thu | C27: 01008021 | D27: A4 | F27: ='Mau 3'!V27 -> 0 | G27: ='Mau 3'!W27 -> 0
A28: 2 | B28: Dương Thị Thủy | C28: 01008009 | D28: A4 | F28: ='Mau 3'!V28 -> 0 | G28: ='Mau 3'!W28 -> 0
A29: 3 | B29: Nguyễn Thị Thảo | C29: 01007003 | D29: A4 | F29: ='Mau 3'!V29 -> 0 | G29: ='Mau 3'!W29 -> 0
A30: 4 | B30: Đỗ Thị Bích Thủy | C30: 01008031 | D30: A4 | F30: ='Mau 3'!V30 -> 0 | G30: ='Mau 3'!W30 -> 0
A31: 5 | B31: Nguyễn Thị Thu Trang | C31: 01008018 | D31: A4 | F31: ='Mau 3'!V31 -> 0 | G31: ='Mau 3'!W31 -> 0
A32: 6 | B32: Thân Thị Quyết | C32: 01008024 | D32: A4 | F32: ='Mau 3'!V32 -> 0 | G32: ='Mau 3'!W32 -> 0
A33: 7 | B33: Trần Kim Tươi | C33: 01008039 | D33: A4 | F33: ='Mau 3'!V33 -> 0 | G33: ='Mau 3'!W33 -> 0
A34: 8 | B34: Trương Thị Bắc | C34: 01008040 | D34: A4 | F34: ='Mau 3'!V34 -> 0 | G34: ='Mau 3'!W34 -> 0
A35: 9 | B35: Trương Thị Định | C35: 01008041 | D35: A4 | F35: ='Mau 3'!V35 -> 0 | G35: ='Mau 3'!W35 -> 0
A36: 10 | B36: Giáp Đức Nhận | C36: 01012027 | D36: A3 | F36: ='Mau 3'!V36 -> 0 | G36: ='Mau 3'!W36 -> 0
A37: 11 | B37: Tạ Quốc Tấn | C37: 01008012 | D37: A4 | F37: ='Mau 3'!V37 -> 0 | G37: ='Mau 3'!W37 -> 0
A38: 12 | B38: Nguyễn Xuân Lợi | C38: 01017008 | D38: A4 | F38: ='Mau 3'!V38 -> 0 | G38: ='Mau 3'!W38 -> 0
... A42: 16 | B42: Trịnh Tuấn Vũ | C42: 01009015 | D42: A4 | F42: ='Mau 3'!V42 -> 0 | G42: ='Mau 3'!W42 -> 0
A43: 17 | B43: Trương Phú Cường | C43: 01008043 | D43: A DN | F43: ='Mau 3'!V43 -> 0 | G43: ='Mau 3'!W43 -> 0 | J43: Khu phong tỏa
A44: 18 | B44: Võ Tấn Đức | C44: 01008042 | D44: A4 | F44: ='Mau 3'!V44 -> 0 | G44: ='Mau 3'!W44 -> 0
...
