Workbook

Sheet ks thong tin sv
A1: TỔNG HỢP KHẢO SÁT THÔNG TIN SINH VIÊN LỚP: 18T4-CNO1, KHOA: Động lực (Đính kèm Thông báo số 978 /TB-LTT-TTGD ngày 24 tháng 9 năm 2021 của Trường Cao đẳng Lý Tự Trọng Thành phố Hồ Chí Minh)
B2: CVHT: Đặng Thái Sơn, Số điện thoại: 0937681703
A4: TT | B4: Họ và tên SV | C4: MSSV | D4: Nơi ở hiện nay (tính tại thời điểm khai báo thông tin) | H4: Thông tiêm chủng ngừa Covid-19 | K4: Ghi chú
D5: Số nhà, tên đường, tổ… | E5: Phường/ Xã | F5: Quận/ Huyện | G5: Thành phố/ Tỉnh | H5: Chưa tiêm (X) | I5: Đã tiêm mũi 1 (Ghi rõ ngày, tháng, năm) | J5: Đã tiêm mũi 2 (Ghi rõ ngày, tháng, năm)
A6: 1 | B6: =INDEX([1]TỔNG!D$1:D$65536,'[1]18T4-CNÔ1'!$A7) -> Nguyễn Hoài Ân | C6: =INDEX([1]TỔNG!B$1:B$65536,'[1]18T4-CNÔ1'!$A7) -> 18003210 | E6: Tân Phú Trung | F6: Củ Chi | G6: TPHCM
A7: 2 | B7: =INDEX([1]TỔNG!D$1:D$65536,'[1]18T4-CNÔ1'!$A8) -> Phan Thanh Bình | C7: =INDEX([1]TỔNG!B$1:B$65536,'[1]18T4-CNÔ1'!$A8) -> 18000044 | D7: 37/9W- Ấp Hậu Lân | E7: Bà Điểm | F7: Hóc Môn | G7: TPHCM | H7: X
A8: 3 | B8: =INDEX([1]TỔNG!D$1:D$65536,'[1]18T4-CNÔ1'!$A9) -> Trần Công Chính | C8: =INDEX([1]TỔNG!B$1:B$65536,'[1]18T4-CNÔ1'!$A9) -> 18000037 | D8: An Lương | E8: Mỹ Chánh | F8: Phù Mỹ | G8: Bình Định | H8: X
A9: 4 | B9: =INDEX([1]TỔNG!D$1:D$65536,'[1]18T4-CNÔ1'!$A10) -> Phạm Nhật Cường | C9: =INDEX([1]TỔNG!B$1:B$65536,'[1]18T4-CNÔ1'!$A10) -> 18004582 | D9: 29/1 ấp 2 | E9: Xuân Thới Thượng | F9: Hóc Môn | G9: TPHCM | I9: 44438
A10: 5 | B10: =INDEX([1]TỔNG!D$1:D$65536,'[1]18T4-CNÔ1'!$A11) -> Trương Gia Định | C10: =INDEX([1]TỔNG!B$1:B$65536,'[1]18T4-CNÔ1'!$A11) -> 18000116 | D10: 302/31/1 Phan Huy Ích,Tổ 48 | E10: 12 | F10: Gò Vấp | G10: TPHCM | I10: 44419
A11: 6 | B11: =INDEX([1]TỔNG!D$1:D$65536,'[1]18T4-CNÔ1'!$A12) -> Hoàng Tiến Dũng | C11: =INDEX([1]TỔNG!B$1:B$65536,'[1]18T4-CNÔ1'!$A12) -> 18000048 | D11: 14/9 Trần Mai Ninh | E11: 12 | F11: Tân Bình | G11: TPHCM | H11: X
A12: 7 | B12: =INDEX([1]TỔNG!D$1:D$65536,'[1]18T4-CNÔ1'!$A13) -> Nguyễn Trần Tấn Dương | C12: =INDEX([1]TỔNG!B$1:B$65536,'[1]18T4-CNÔ1'!$A13) -> 18002008 | D12: 371/7 Trường Chinh | E12: 14 | F12: Tân Bình | G12: TPHCM | H12: X
A13: 8 | B13: =INDEX([1]TỔNG!D$1:D$65536,'[1]18T4-CNÔ1'!$A14) -> Võ Quốc Duy | C13: =INDEX([1]TỔNG!B$1:B$65536,'[1]18T4-CNÔ1'!$A14) -> 18000237 | D13: 788/37/4 Nguyễn Kiệm | E13: 3 | F13: Gò Vấp | G13: TPHCM | I13: 04/08/2021
A14: 9 | B14: =INDEX([1]TỔNG!D$1:D$65536,'[1]18T4-CNÔ1'!$A15) -> Lưu Đinh Trường Giang | C14: =INDEX([1]TỔNG!B$1:B$65536,'[1]18T4-CNÔ1'!$A15) -> 18000097 | D14: D9/11/2T Phạm Thị Tư | E14: Vĩnh Lộc A | F14: Bình Chánh | G14: TPHCM | I14: 44413 | J14: 44451
A15: 10 | B15: =INDEX([1]TỔNG!D$1:D$65536,'[1]18T4-CNÔ1'!$A16) -> Nguyễn Huỳnh Hồ Hiếu | C15: =INDEX([1]TỔNG!B$1:B$65536,'[1]18T4-CNÔ1'!$A16) -> 18000209 | D15: E2/10A ấp 5 | E15: Vĩnh Lộc A | F15: Bình Chánh | G15: TPHCM
A16: 11 | B16: =INDEX([1]TỔNG!D$1:D$65536,'[1]18T4-CNÔ1'!$A17) -> Trần Minh Hiếu | C16: =INDEX([1]TỔNG!B$1:B$65536,'[1]18T4-CNÔ1'!$A17) -> 18000447 | D16: 300/19/20E Trịnh Đình Trọng | E16: Hoà Thạnh | F16: Tân Phú | G16: TPHCM | H16: X
A17: 12 | B17: =INDEX([1]TỔNG!D$1:D$65536,'[1]18T4-CNÔ1'!$A18) -> Nguyễn Gia Huy | C17: =INDEX([1]TỔNG!B$1:B$65536,'[1]18T4-CNÔ1'!$A18) -> 18000125 | D17: 862/107 lê đức thọ | E17: 15 | F17: Gò Vấp | G17: TPHCM
A18: 13 | B18: =INDEX([1]TỔNG!D$1:D$65536,'[1]18T4-CNÔ1'!$A19) -> Nguyễn Hồ Hoàng Huynh | C18: =INDEX([1]TỔNG!B$1:B$65536,'[1]18T4-CNÔ1'!$A19) -> 18000060 | D18: 429/35 Hoàng Văn Thụ | E18: 2 | F18: Tân Bình | G18: TPHCM | I18: 44453
A19: 14 | B19: =INDEX([1]TỔNG!D$1:D$65536,'[1]18T4-CNÔ1'!$A20) -> Trương Minh Kha | C19: =INDEX([1]TỔNG!B$1:B$65536,'[1]18T4-CNÔ1'!$A20) -> 18000275 | D19: 3395/30 Phạm thế Hiển tổ 45 | E19: 7 | F19: 8 | G19: TPHCM | H19: X
A20: 15 | B20: =INDEX([1]TỔNG!D$1:D$65536,'[1]18T4-CNÔ1'!$A21) -> Dương Tấn Khang | C20: =INDEX([1]TỔNG!B$1:B$65536,'[1]18T4-CNÔ1'!$A21) -> 18000268 | D20: 91/17/14 Trần Tấn Khu phố 7 tổ 72 | E20: Tân Sơn Nhì | F20: Tân Phú | G20: TPHCM | H20: X
A21: 16 | B21: =INDEX([1]TỔNG!D$1:D$65536,'[1]18T4-CNÔ1'!$A22) -> Lê Quốc Khánh | C21: =INDEX([1]TỔNG!B$1:B$65536,'[1]18T4-CNÔ1'!$A22) -> 18000098 | D21: 758 An Phú Đông | E21: 11 | F21: 12 | G21: TPHCM | I21: 02/08 /2021 | J21: 44458
A22: 17 | B22: =INDEX([1]TỔNG!D$1:D$65536,'[1]18T4-CNÔ1'!$A23) -> Nguyễn Lê Anh Khôi | C22: =INDEX([1]TỔNG!B$1:B$65536,'[1]18T4-CNÔ1'!$A23) -> 18000093 | D22: D36 cư xá Vĩnh Hội tổ 33 | E22: 2 | F22: 4 | G22: TPHCM | I22: 44418 | J22: 44452
A23: 18 | B23: =INDEX([1]TỔNG!D$1:D$65536,'[1]18T4-CNÔ1'!$A24) -> Nguyễn Văn Kỳ | C23: =INDEX([1]TỔNG!B$1:B$65536,'[1]18T4-CNÔ1'!$A24) -> 18000065 | D23: 735 lạc long quân | E23: 10 | F23: Tân Bình | G23: TPHCM | I23: 44390
A24: 19 | B24: =INDEX([1]TỔNG!D$1:D$65536,'[1]18T4-CNÔ1'!$A25) -> Lý Hữu Lợi | C24: =INDEX([1]TỔNG!B$1:B$65536,'[1]18T4-CNÔ1'!$A25) -> 18000211 | D24: 82/61,đường huỳnh văn nghệ Tổ 42 | E24: 15 | F24: Tân Bình | G24: TPHCM | I24: 44423 | J24: 44445
A25: 20 | B25: =INDEX([1]TỔNG!D$1:D$65536,'[1]18T4-CNÔ1'!$A26) -> Võ Phương Nam | C25: =INDEX([1]TỔNG!B$1:B$65536,'[1]18T4-CNÔ1'!$A26) -> 18000004 | E25: Mỹ Quí Đông | F25: Đức Huệ | G25: Long An | I25: 44421
A26: 21 | B26: =INDEX([1]TỔNG!D$1:D$65536,'[1]18T4-CNÔ1'!$A27) -> Đoàn Hữu Nghĩa | C26: =INDEX([1]TỔNG!B$1:B$65536,'[1]18T4-CNÔ1'!$A27) -> 18000064 | D26: 7/3K, ấp 3 tổ 3 | E26: Xuân Thới Thượng, | F26: Hóc môn | G26: TPHCM | I26: 44422
A27: 22 | B27: =INDEX([1]TỔNG!D$1:D$65536,'[1]18T4-CNÔ1'!$A28) -> Trần Hữu Nguyên | C27: =INDEX([1]TỔNG!B$1:B$65536,'[1]18T4-CNÔ1'!$A28) -> 18000024 | D27: D32, Đường số 5, Tổ 12 Ấp Mỹ Hòa | E27: Xuân Thới Đông | F27: Hóc Môn | G27: TPHCM | I27: 44438 | J27: 44451
A28: 23 | B28: =INDEX([1]TỔNG!D$1:D$65536,'[1]18T4-CNÔ1'!$A29) -> Ngô Minh Tâm | C28: =INDEX([1]TỔNG!B$1:B$65536,'[1]18T4-CNÔ1'!$A29) -> 18000200 | D28: 413/42/31 Lê Văn Quới | E28: Bình Trị Đông A | F28: Bình Tân | G28: TPHCM | I28: 44447
A29: 24 | B29: =INDEX([1]TỔNG!D$1:D$65536,'[1]18T4-CNÔ1'!$A30) -> Lê Công Thành | C29: =INDEX([1]TỔNG!B$1:B$65536,'[1]18T4-CNÔ1'!$A30) -> 18000213 | D29: 29/71 đường b3 tổ 86 | E29: Tây Thạnh | F29: Tân Phú | G29: TPHCM | H29: X
A30: 25 | B30: =INDEX([1]TỔNG!D$1:D$65536,'[1]18T4-CNÔ1'!$A31) -> Lê Trần Phước Tín | C30: =INDEX([1]TỔNG!B$1:B$65536,'[1]18T4-CNÔ1'!$A31) -> 18001739 | D30: 337/2 Phan Đình Phùng | E30: 15 | F30: Phú Nhuận | G30: TPHCM | I30: 44415
A31: 26 | B31: =INDEX([1]TỔNG!D$1:D$65536,'[1]18T4-CNÔ1'!$A32) -> Lê Quốc Vũ | C31: =INDEX([1]TỔNG!B$1:B$65536,'[1]18T4-CNÔ1'!$A32) -> 18000216 | E31: Lộc Trì | F31: Phú Lộc | G31: Thừa Thiên Huế
