Workbook

Sheet 19C1-CNÔ1
A1: ỦY BAN NHÂN DÂN THÀNH PHỐ HỒ CHÍ MINH | L1: CỘNG HOÀ XÃ HỘI CHỦ NGHĨA VIỆT NAM
B2: TRƯỜNG CAO ĐẢNG LÝ TỰ TRỌNG THÀNH PHỐ HỒ CHÍ MINH | L2: Độc lập - Tự do - Hạnh phúc
C3: Lớp | D3: 19C1-CNÔ1 | E3: Số hàng | F3: =COUNTIFS([1]TỔNG!$C$2:$C$12467,'19C1-CNÔ1'!D3) -> 55
A4: MẪU THỐNG KÊ TÌNH HÌNH TIÊM VẮC XIN NGỪA COVID -19 CỦA HSSV
B6: Stt | C6: Mã HS-SV | D6: Tên lớp | E6: Họ và tên | F6: Giới tính | G6: Nghề nghiệp /vị trí công việc | H6: Ngày sinh/ Năm sinh | I6: Số điện thoại | J6: Số CMT/ CCCD | K6: Số thẻ BHYT | L6: Dân tộc | M6: Quốc tịch | N6: Số nhà/ Tổ | O6: Xã/ Phường | P6: Quận/ Huyện | Q6: Tỉnh/TP | R6: Địa chỉ làm việc (số nhà, đường) | S6: Phường xã làm việc | T6: Quận huyện làm việc | U6: Nhóm đối tượng | V6: Chưa tiêm | W6: Đã tiêm mũi 1 (Ghi rõ ngày tháng năm TIÊM) | X6: Đã tiêm mũi 2 (Ghi rõ ngày tháng năm TIÊM)
A7: =A6+MATCH(D7,OFFSET([1]TỔNG!$C$1,'19C1-CNÔ1'!A6,0,14000),0) -> 2864 | B7: 1 | C7: =INDEX([1]TỔNG!B$1:B$65536,'19C1-CNÔ1'!$A7) -> 19000204 | D7: =IF(COUNTIFS($D$6:D6,$D$3)<$F$3,$D$3,"") -> 19C1-CNÔ1 | E7: =INDEX([1]TỔNG!D$1:D$65536,'19C1-CNÔ1'!$A7) -> Hoàng Hoài Bắc | F7: =INDEX([1]TỔNG!E$1:E$65536,'19C1-CNÔ1'!$A7) -> Nam | G7: =INDEX([1]TỔNG!F$1:F$65536,'19C1-CNÔ1'!$A7) -> Sinh viên | H7: =INDEX([1]TỔNG!G$1:G$65536,'19C1-CNÔ1'!$A7) -> 01/10/1998 | I7: =INDEX([1]TỔNG!H$1:H$65536,'19C1-CNÔ1'!$A7) -> 0337411133 | J7: =INDEX([1]TỔNG!I$1:I$65536,'19C1-CNÔ1'!$A7) -> 273700672 | K7: =INDEX([1]TỔNG!J$1:J$65536,'19C1-CNÔ1'!$A7) -> 0 | L7: =INDEX([1]TỔNG!M$1:M$65536,'19C1-CNÔ1'!$A7) -> Kinh | M7: =INDEX([1]TỔNG!N$1:N$65536,'19C1-CNÔ1'!$A7) -> Việt Nam | N7: =INDEX([1]TỔNG!O$1:O$65536,'19C1-CNÔ1'!$A7) -> 0 | O7: =INDEX([1]TỔNG!P$1:P$65536,'19C1-CNÔ1'!$A7) -> Xã Xuyên Mộc | P7: =INDEX([1]TỔNG!Q$1:Q$65536,'19C1-CNÔ1'!$A7) -> Huyện Xuyên Mộc | Q7: =INDEX([1]TỔNG!R$1:R$65536,'19C1-CNÔ1'!$A7) -> Bà Rịa-Vũng Tàu | R7: =INDEX([1]TỔNG!S$1:S$65536,'19C1-CNÔ1'!$A7) -> 390 Hoàng Văn Thụ | S7: =INDEX([1]TỔNG!T$1:T$65536,'19C1-CNÔ1'!$A7) -> Phường 4 | T7: =INDEX([1]TỔNG!U$1:U$65536,'19C1-CNÔ1'!$A7) -> Quận Tân Bình
A8: =A7+MATCH(D8,OFFSET([1]TỔNG!$C$1,'19C1-CNÔ1'!A7,0,100),0) -> 2865 | B8: =B7+1 -> 2 | C8: =INDEX([1]TỔNG!B$1:B$65536,'19C1-CNÔ1'!$A8) -> 19004457 | D8: =IF(COUNTIFS($D$6:D7,$D$3)<$F$3,$D$3,"") -> 19C1-CNÔ1 | E8: =INDEX([1]TỔNG!D$1:D$65536,'19C1-CNÔ1'!$A8) -> Dương Quốc Khánh Chương | F8: =INDEX([1]TỔNG!E$1:E$65536,'19C1-CNÔ1'!$A8) -> Nam | G8: =INDEX([1]TỔNG!F$1:F$65536,'19C1-CNÔ1'!$A8) -> Sinh viên | H8: =INDEX([1]TỔNG!G$1:G$65536,'19C1-CNÔ1'!$A8) -> 17/10/2000 | I8: =INDEX([1]TỔNG!H$1:H$65536,'19C1-CNÔ1'!$A8) -> 0932307601 | J8: =INDEX([1]TỔNG!I$1:I$65536,'19C1-CNÔ1'!$A8) -> 301762808 | K8: =INDEX([1]TỔNG!J$1:J$65536,'19C1-CNÔ1'!$A8) -> SV 479 7935727731 | L8: =INDEX([1]TỔNG!M$1:M$65536,'19C1-CNÔ1'!$A8) -> Kinh | M8: =INDEX([1]TỔNG!N$1:N$65536,'19C1-CNÔ1'!$A8) -> Việt Nam | N8: =INDEX([1]TỔNG!O$1:O$65536,'19C1-CNÔ1'!$A8) -> 0 | O8: =INDEX([1]TỔNG!P$1:P$65536,'19C1-CNÔ1'!$A8) -> 0 | P8: =INDEX([1]TỔNG!Q$1:Q$65536,'19C1-CNÔ1'!$A8) -> 0 | Q8: =INDEX([1]TỔNG!R$1:R$65536,'19C1-CNÔ1'!$A8) -> 0 | R8: =INDEX([1]TỔNG!S$1:S$65536,'19C1-CNÔ1'!$A8) -> 390 Hoàng Văn Thụ | S8: =INDEX([1]TỔNG!T$1:T$65536,'19C1-CNÔ1'!$A8) -> Phường 4 | T8: =INDEX([1]TỔNG!U$1:U$65536,'19C1-CNÔ1'!$A8) -> Quận Tân Bình
A9: =A8+MATCH(D9,OFFSET([1]TỔNG!$C$1,'19C1-CNÔ1'!A8,0,100),0) -> 2866 | B9: =B8+1 -> 3 | C9: =INDEX([1]TỔNG!B$1:B$65536,'19C1-CNÔ1'!$A9) -> 19004580 | D9: =IF(COUNTIFS($D$6:D8,$D$3)<$F$3,$D$3,"") -> 19C1-CNÔ1 | E9: =INDEX([1]TỔNG!D$1:D$65536,'19C1-CNÔ1'!$A9) -> Nguyễn Quang Cơ | F9: =INDEX([1]TỔNG!E$1:E$65536,'19C1-CNÔ1'!$A9) -> Nam | G9: =INDEX([1]TỔNG!F$1:F$65536,'19C1-CNÔ1'!$A9) -> Sinh viên | H9: =INDEX([1]TỔNG!G$1:G$65536,'19C1-CNÔ1'!$A9) -> 27/10/1999 | I9: =INDEX([1]TỔNG!H$1:H$65536,'19C1-CNÔ1'!$A9) -> 0362467528 | J9: =INDEX([1]TỔNG!I$1:I$65536,'19C1-CNÔ1'!$A9) -> 079099013090 | K9: =INDEX([1]TỔNG!J$1:J$65536,'19C1-CNÔ1'!$A9) -> 0 | L9: =INDEX([1]TỔNG!M$1:M$65536,'19C1-CNÔ1'!$A9) -> Kinh | M9: =INDEX([1]TỔNG!N$1:N$65536,'19C1-CNÔ1'!$A9) -> Việt Nam | N9: =INDEX([1]TỔNG!O$1:O$65536,'19C1-CNÔ1'!$A9) -> 0 | O9: =INDEX([1]TỔNG!P$1:P$65536,'19C1-CNÔ1'!$A9) -> 0 | P9: =INDEX([1]TỔNG!Q$1:Q$65536,'19C1-CNÔ1'!$A9) -> 0 | Q9: =INDEX([1]TỔNG!R$1:R$65536,'19C1-CNÔ1'!$A9) -> 0 | R9: =INDEX([1]TỔNG!S$1:S$65536,'19C1-CNÔ1'!$A9) -> 390 Hoàng Văn Thụ | S9: =INDEX([1]TỔNG!T$1:T$65536,'19C1-CNÔ1'!$A9) -> Phường 4 | T9: =INDEX([1]TỔNG!U$1:U$65536,'19C1-CNÔ1'!$A9) -> Quận Tân Bình
A10: =A9+MATCH(D10,OFFSET([1]TỔNG!$C$1,'19C1-CNÔ1'!A9,0,100),0) -> 2867 | B10: =B9+1 -> 4 | C10: =INDEX([1]TỔNG!B$1:B$65536,'19C1-CNÔ1'!$A10) -> 19004515 | D10: =IF(COUNTIFS($D$6:D9,$D$3)<$F$3,$D$3,"") -> 19C1-CNÔ1 | E10: =INDEX([1]TỔNG!D$1:D$65536,'19C1-CNÔ1'!$A10) -> Ha Công | F10: =INDEX([1]TỔNG!E$1:E$65536,'19C1-CNÔ1'!$A10) -> Nam | G10: =INDEX([1]TỔNG!F$1:F$65536,'19C1-CNÔ1'!$A10) -> Sinh viên | H10: =INDEX([1]TỔNG!G$1:G$65536,'19C1-CNÔ1'!$A10) -> 24/07/2001 | I10: =INDEX([1]TỔNG!H$1:H$65536,'19C1-CNÔ1'!$A10) -> 0797046550 | J10: =INDEX([1]TỔNG!I$1:I$65536,'19C1-CNÔ1'!$A10) -> 251210758 | K10: =INDEX([1]TỔNG!J$1:J$65536,'19C1-CNÔ1'!$A10) -> 0 | L10: =INDEX([1]TỔNG!M$1:M$65536,'19C1-CNÔ1'!$A10) -> Cil | M10: =INDEX([1]TỔNG!N$1:N$65536,'19C1-CNÔ1'!$A10) -> Việt Nam | N10: =INDEX([1]TỔNG!O$1:O$65536,'19C1-CNÔ1'!$A10) -> 0 | O10: =INDEX([1]TỔNG!P$1:P$65536,'19C1-CNÔ1'!$A10) -> 0 | P10: =INDEX([1]TỔNG!Q$1:Q$65536,'19C1-CNÔ1'!$A10) -> 0 | Q10: =INDEX([1]TỔNG!R$1:R$65536,'19C1-CNÔ1'!$A10) -> 0 | R10: =INDEX([1]TỔNG!S$1:S$65536,'19C1-CNÔ1'!$A10) -> 390 Hoàng Văn Thụ | S10: =INDEX([1]TỔNG!T$1:T$65536,'19C1-CNÔ1'!$A10) -> Phường 4 | T10: =INDEX([1]TỔNG!U$1:U$65536,'19C1-CNÔ1'!$A10) -> Quận Tân Bình
A11: =A10+MATCH(D11,OFFSET([1]TỔNG!$C$1,'19C1-CNÔ1'!A10,0,100),0) -> 2868 | B11: =B10+1 -> 5 | C11: =INDEX([1]TỔNG!B$1:B$65536,'19C1-CNÔ1'!$A11) -> 19000111 | D11: =IF(COUNTIFS($D$6:D10,$D$3)<$F$3,$D$3,"") -> 19C1-CNÔ1 | E11: =INDEX([1]TỔNG!D$1:D$65536,'19C1-CNÔ1'!$A11) -> Bùi Tiến Đạt | F11: =INDEX([1]TỔNG!E$1:E$65536,'19C1-CNÔ1'!$A11) -> Nam | G11: =INDEX([1]TỔNG!F$1:F$65536,'19C1-CNÔ1'!$A11) -> Sinh viên | H11: =INDEX([1]TỔNG!G$1:G$65536,'19C1-CNÔ1'!$A11) -> 26/11/1999 | I11: =INDEX([1]TỔNG!H$1:H$65536,'19C1-CNÔ1'!$A11) -> 0969776001 | J11: =INDEX([1]TỔNG!I$1:I$65536,'19C1-CNÔ1'!$A11) -> 285764933 | K11: =INDEX([1]TỔNG!J$1:J$65536,'19C1-CNÔ1'!$A11) -> SV 479 7021566369 | L11: =INDEX([1]TỔNG!M$1:M$65536,'19C1-CNÔ1'!$A11) -> Kinh | M11: =INDEX([1]TỔNG!N$1:N$65536,'19C1-CNÔ1'!$A11) -> Việt Nam | N11: =INDEX([1]TỔNG!O$1:O$65536,'19C1-CNÔ1'!$A11) -> 0 | O11: =INDEX([1]TỔNG!P$1:P$65536,'19C1-CNÔ1'!$A11) -> Xã Gia Vân | P11: =INDEX([1]TỔNG!Q$1:Q$65536,'19C1-CNÔ1'!$A11) -> Huyện Gia Viễn | Q11: =INDEX([1]TỔNG!R$1:R$65536,'19C1-CNÔ1'!$A11) -> Ninh Bình | R11: =INDEX([1]TỔNG!S$1:S$65536,'19C1-CNÔ1'!$A11) -> 390 Hoàng Văn Thụ | S11: =INDEX([1]TỔNG!T$1:T$65536,'19C1-CNÔ1'!$A11) -> Phường 4 | T11: =INDEX([1]TỔNG!U$1:U$65536,'19C1-CNÔ1'!$A11) -> Quận Tân Bình
A12: =A11+MATCH(D12,OFFSET([1]TỔNG!$C$1,'19C1-CNÔ1'!A11,0,100),0) -> 2869 | B12: =B11+1 -> 6 | C12: =INDEX([1]TỔNG!B$1:B$65536,'19C1-CNÔ1'!$A12) -> 19004685 | D12: =IF(COUNTIFS($D$6:D11,$D$3)<$F$3,$D$3,"") -> 19C1-CNÔ1 | E12: =INDEX([1]TỔNG!D$1:D$65536,'19C1-CNÔ1'!$A12) -> Dương Tấn Đạt | F12: =INDEX([1]TỔNG!E$1:E$65536,'19C1-CNÔ1'!$A12) -> Nam | G12: =INDEX([1]TỔNG!F$1:F$65536,'19C1-CNÔ1'!$A12) -> Sinh viên | H12: =INDEX([1]TỔNG!G$1:G$65536,'19C1-CNÔ1'!$A12) -> 22/11/2000 | I12: =INDEX([1]TỔNG!H$1:H$65536,'19C1-CNÔ1'!$A12) -> 0964480467 | J12: =INDEX([1]TỔNG!I$1:I$65536,'19C1-CNÔ1'!$A12) -> 082200000048 | K12: =INDEX([1]TỔNG!J$1:J$65536,'19C1-CNÔ1'!$A12) -> 0 | L12: =INDEX([1]TỔNG!M$1:M$65536,'19C1-CNÔ1'!$A12) -> Kinh | M12: =INDEX([1]TỔNG!N$1:N$65536,'19C1-CNÔ1'!$A12) -> Việt Nam | N12: =INDEX([1]TỔNG!O$1:O$65536,'19C1-CNÔ1'!$A12) -> 0 | O12: =INDEX([1]TỔNG!P$1:P$65536,'19C1-CNÔ1'!$A12) -> 0 | P12: =INDEX([1]TỔNG!Q$1:Q$65536,'19C1-CNÔ1'!$A12) -> 0 | Q12: =INDEX([1]TỔNG!R$1:R$65536,'19C1-CNÔ1'!$A12) -> 0 | R12: =INDEX([1]TỔNG!S$1:S$65536,'19C1-CNÔ1'!$A12) -> 390 Hoàng Văn Thụ | S12: =INDEX([1]TỔNG!T$1:T$65536,'19C1-CNÔ1'!$A12) -> Phường 4 | T12: =INDEX([1]TỔNG!U$1:U$65536,'19C1-CNÔ1'!$A12) -> Quận Tân Bình
A13: =A12+MATCH(D13,OFFSET([1]TỔNG!$C$1,'19C1-CNÔ1'!A12,0,100),0) -> 2870 | B13: =B12+1 -> 7 | C13: =INDEX([1]TỔNG!B$1:B$65536,'19C1-CNÔ1'!$A13) -> 19001137 | D13: =IF(COUNTIFS($D$6:D12,$D$3)<$F$3,$D$3,"") -> 19C1-CNÔ1 | E13: =INDEX([1]TỔNG!D$1:D$65536,'19C1-CNÔ1'!$A13) -> Nguyễn Ngô Tường Duy | F13: =INDEX([1]TỔNG!E$1:E$65536,'19C1-CNÔ1'!$A13) -> Nam | G13: =INDEX([1]TỔNG!F$1:F$65536,'19C1-CNÔ1'!$A13) -> Sinh viên | H13: =INDEX([1]TỔNG!G$1:G$65536,'19C1-CNÔ1'!$A13) -> 19/10/2000 | I13: =INDEX([1]TỔNG!H$1:H$65536,'19C1-CNÔ1'!$A13) -> 0916852709 | J13: =INDEX([1]TỔNG!I$1:I$65536,'19C1-CNÔ1'!$A13) -> 371907491 | K13: =INDEX([1]TỔNG!J$1:J$65536,'19C1-CNÔ1'!$A13) -> 0 | L13: =INDEX([1]TỔNG!M$1:M$65536,'19C1-CNÔ1'!$A13) -> Kinh | M13: =INDEX([1]TỔNG!N$1:N$65536,'19C1-CNÔ1'!$A13) -> Việt Nam | N13: =INDEX([1]TỔNG!O$1:O$65536,'19C1-CNÔ1'!$A13) -> 0 | O13: =INDEX([1]TỔNG!P$1:P$65536,'19C1-CNÔ1'!$A13) -> 0 | P13: =INDEX([1]TỔNG!Q$1:Q$65536,'19C1-CNÔ1'!$A13) -> 0 | Q13: =INDEX([1]TỔNG!R$1:R$65536,'19C1-CNÔ1'!$A13) -> 0 | R13: =INDEX([1]TỔNG!S$1:S$65536,'19C1-CNÔ1'!$A13) -> 390 Hoàng Văn Thụ | S13: =INDEX([1]TỔNG!T$1:T$65536,'19C1-CNÔ1'!$A13) -> Phường 4 | T13: =INDEX([1]TỔNG!U$1:U$65536,'19C1-CNÔ1'!$A13) -> Quận Tân Bình
A14: =A13+MATCH(D14,OFFSET([1]TỔNG!$C$1,'19C1-CNÔ1'!A13,0,100),0) -> 2871 | B14: =B13+1 -> 8 | C14: =INDEX([1]TỔNG!B$1:B$65536,'19C1-CNÔ1'!$A14) -> 19001271 | D14: =IF(COUNTIFS($D$6:D13,$D$3)<$F$3,$D$3,"") -> 19C1-CNÔ1 | E14: =INDEX([1]TỔNG!D$1:D$65536,'19C1-CNÔ1'!$A14) -> Huỳnh Nhật Hào | F14: =INDEX([1]TỔNG!E$1:E$65536,'19C1-CNÔ1'!$A14) -> Nam | G14: =INDEX([1]TỔNG!F$1:F$65536,'19C1-CNÔ1'!$A14) -> Sinh viên | H14: =INDEX([1]TỔNG!G$1:G$65536,'19C1-CNÔ1'!$A14) -> 24/01/2001 | I14: =INDEX([1]TỔNG!H$1:H$65536,'19C1-CNÔ1'!$A14) -> 0987648164 | J14: =INDEX([1]TỔNG!I$1:I$65536,'19C1-CNÔ1'!$A14) -> 212848490 | K14: =INDEX([1]TỔNG!J$1:J$65536,'19C1-CNÔ1'!$A14) -> 0 | L14: =INDEX([1]TỔNG!M$1:M$65536,'19C1-CNÔ1'!$A14) -> Kinh | M14: =INDEX([1]TỔNG!N$1:N$65536,'19C1-CNÔ1'!$A14) -> Việt Nam | N14: =INDEX([1]TỔNG!O$1:O$65536,'19C1-CNÔ1'!$A14) -> 0 | O14: =INDEX([1]TỔNG!P$1:P$65536,'19C1-CNÔ1'!$A14) -> Thị trấn La Hà | P14: =INDEX([1]TỔNG!Q$1:Q$65536,'19C1-CNÔ1'!$A14) -> Huyện Đức Phổ | Q14: =INDEX([1]TỔNG!R$1:R$65536,'19C1-CNÔ1'!$A14) -> Quảng Ngãi | R14: =INDEX([1]TỔNG!S$1:S$65536,'19C1-CNÔ1'!$A14) -> 390 Hoàng Văn Thụ | S14: =INDEX([1]TỔNG!T$1:T$65536,'19C1-CNÔ1'!$A14) -> Phường 4 | T14: =INDEX([1]TỔNG!U$1:U$65536,'19C1-CNÔ1'!$A14) -> Quận Tân Bình
A15: =A14+MATCH(D15,OFFSET([1]TỔNG!$C$1,'19C1-CNÔ1'!A14,0,100),0) -> 2872 | B15: =B14+1 -> 9 | C15: =INDEX([1]TỔNG!B$1:B$65536,'19C1-CNÔ1'!$A15) -> 19001041 | D15: =IF(COUNTIFS($D$6:D14,$D$3)<$F$3,$D$3,"") -> 19C1-CNÔ1 | E15: =INDEX([1]TỔNG!D$1:D$65536,'19C1-CNÔ1'!$A15) -> Lê Hữu Hậu | F15: =INDEX([1]TỔNG!E$1:E$65536,'19C1-CNÔ1'!$A15) -> Nam | G15: =INDEX([1]TỔNG!F$1:F$65536,'19C1-CNÔ1'!$A15) -> Sinh viên | H15: =INDEX([1]TỔNG!G$1:G$65536,'19C1-CNÔ1'!$A15) -> 06/12/2001 | I15: =INDEX([1]TỔNG!H$1:H$65536,'19C1-CNÔ1'!$A15) -> 0376314723 | J15: =INDEX([1]TỔNG!I$1:I$65536,'19C1-CNÔ1'!$A15) -> 312497283 | K15: =INDEX([1]TỔNG!J$1:J$65536,'19C1-CNÔ1'!$A15) -> SV 479 8222271324 | L15: =INDEX([1]TỔNG!M$1:M$65536,'19C1-CNÔ1'!$A15) -> Kinh | M15: =INDEX([1]TỔNG!N$1:N$65536,'19C1-CNÔ1'!$A15) -> Việt Nam | N15: =INDEX([1]TỔNG!O$1:O$65536,'19C1-CNÔ1'!$A15) -> 0 | O15: =INDEX([1]TỔNG!P$1:P$65536,'19C1-CNÔ1'!$A15) -> Xã An Cư | P15: =INDEX([1]TỔNG!Q$1:Q$65536,'19C1-CNÔ1'!$A15) -> Huyện Cái Bè | Q15: =INDEX([1]TỔNG!R$1:R$65536,'19C1-CNÔ1'!$A15) -> Tiền Giang | R15: =INDEX([1]TỔNG!S$1:S$65536,'19C1-CNÔ1'!$A15) -> 390 Hoàng Văn Thụ | S15: =INDEX([1]TỔNG!T$1:T$65536,'19C1-CNÔ1'!$A15) -> Phường 4 | T15: =INDEX([1]TỔNG!U$1:U$65536,'19C1-CNÔ1'!$A15) -> Quận Tân Bình
A16: =A15+MATCH(D16,OFFSET([1]TỔNG!$C$1,'19C1-CNÔ1'!A15,0,100),0) -> 2873 | B16: =B15+1 -> 10 | C16: =INDEX([1]TỔNG!B$1:B$65536,'19C1-CNÔ1'!$A16) -> 19005385 | D16: =IF(COUNTIFS($D$6:D15,$D$3)<$F$3,$D$3,"") -> 19C1-CNÔ1 | E16: =INDEX([1]TỔNG!D$1:D$65536,'19C1-CNÔ1'!$A16) -> Đặng Tấn Hiển | F16: =INDEX([1]TỔNG!E$1:E$65536,'19C1-CNÔ1'!$A16) -> Nam | G16: =INDEX([1]TỔNG!F$1:F$65536,'19C1-CNÔ1'!$A16) -> Sinh viên | H16: =INDEX([1]TỔNG!G$1:G$65536,'19C1-CNÔ1'!$A16) -> 28/04/2000 | I16: =INDEX([1]TỔNG!H$1:H$65536,'19C1-CNÔ1'!$A16) -> 0949310339 | J16: =INDEX([1]TỔNG!I$1:I$65536,'19C1-CNÔ1'!$A16) -> 312413099 | K16: =INDEX([1]TỔNG!J$1:J$65536,'19C1-CNÔ1'!$A16) -> 0 | L16: =INDEX([1]TỔNG!M$1:M$65536,'19C1-CNÔ1'!$A16) -> Kinh | M16: =INDEX([1]TỔNG!N$1:N$65536,'19C1-CNÔ1'!$A16) -> Việt Nam | N16: =INDEX([1]TỔNG!O$1:O$65536,'19C1-CNÔ1'!$A16) -> 0 | O16: =INDEX([1]TỔNG!P$1:P$65536,'19C1-CNÔ1'!$A16) -> 0 | P16: =INDEX([1]TỔNG!Q$1:Q$65536,'19C1-CNÔ1'!$A16) -> 0 | Q16: =INDEX([1]TỔNG!R$1:R$65536,'19C1-CNÔ1'!$A16) -> 0 | R16: =INDEX([1]TỔNG!S$1:S$65536,'19C1-CNÔ1'!$A16) -> 390 Hoàng Văn Thụ | S16: =INDEX([1]TỔNG!T$1:T$65536,'19C1-CNÔ1'!$A16) -> Phường 4 | T16: =INDEX([1]TỔNG!U$1:U$65536,'19C1-CNÔ1'!$A16) -> Quận Tân Bình
A17: =A16+MATCH(D17,OFFSET([1]TỔNG!$C$1,'19C1-CNÔ1'!A16,0,100),0) -> 2874 | B17: =B16+1 -> 11 | C17: =INDEX([1]TỔNG!B$1:B$65536,'19C1-CNÔ1'!$A17) -> 19004566 | D17: =IF(COUNTIFS($D$6:D16,$D$3)<$F$3,$D$3,"") -> 19C1-CNÔ1 | E17: =INDEX([1]TỔNG!D$1:D$65536,'19C1-CNÔ1'!$A17) -> Nguyễn Minh Hiếu | F17: =INDEX([1]TỔNG!E$1:E$65536,'19C1-CNÔ1'!$A17) -> Nam | G17: =INDEX([1]TỔNG!F$1:F$65536,'19C1-CNÔ1'!$A17) -> Sinh viên | H17: =INDEX([1]TỔNG!G$1:G$65536,'19C1-CNÔ1'!$A17) -> 31/05/2000 | I17: =INDEX([1]TỔNG!H$1:H$65536,'19C1-CNÔ1'!$A17) -> 0348026831 | J17: =INDEX([1]TỔNG!I$1:I$65536,'19C1-CNÔ1'!$A17) -> 026067002 | K17: =INDEX([1]TỔNG!J$1:J$65536,'19C1-CNÔ1'!$A17) -> 0 | L17: =INDEX([1]TỔNG!M$1:M$65536,'19C1-CNÔ1'!$A17) -> Kinh | M17: =INDEX([1]TỔNG!N$1:N$65536,'19C1-CNÔ1'!$A17) -> Việt Nam | N17: =INDEX([1]TỔNG!O$1:O$65536,'19C1-CNÔ1'!$A17) -> 0 | O17: =INDEX([1]TỔNG!P$1:P$65536,'19C1-CNÔ1'!$A17) -> 0 | P17: =INDEX([1]TỔNG!Q$1:Q$65536,'19C1-CNÔ1'!$A17) -> 0 | Q17: =INDEX([1]TỔNG!R$1:R$65536,'19C1-CNÔ1'!$A17) -> 0 | R17: =INDEX([1]TỔNG!S$1:S$65536,'19C1-CNÔ1'!$A17) -> 390 Hoàng Văn Thụ | S17: =INDEX([1]TỔNG!T$1:T$65536,'19C1-CNÔ1'!$A17) -> Phường 4 | T17: =INDEX([1]TỔNG!U$1:U$65536,'19C1-CNÔ1'!$A17) -> Quận Tân Bình
A18: =A17+MATCH(D18,OFFSET([1]TỔNG!$C$1,'19C1-CNÔ1'!A17,0,100),0) -> 2875 | B18: =B17+1 -> 12 | C18: =INDEX([1]TỔNG!B$1:B$65536,'19C1-CNÔ1'!$A18) -> 19004411 | D18: =IF(COUNTIFS($D$6:D17,$D$3)<$F$3,$D$3,"") -> 19C1-CNÔ1 | E18: =INDEX([1]TỔNG!D$1:D$65536,'19C1-CNÔ1'!$A18) -> Huỳnh Hữu Hiệu | F18: =INDEX([1]TỔNG!E$1:E$65536,'19C1-CNÔ1'!$A18) -> Nam | G18: =INDEX([1]TỔNG!F$1:F$65536,'19C1-CNÔ1'!$A18) -> Sinh viên | H18: =INDEX([1]TỔNG!G$1:G$65536,'19C1-CNÔ1'!$A18) -> 20/11/2001 | I18: =INDEX([1]TỔNG!H$1:H$65536,'19C1-CNÔ1'!$A18) -> 0989419216 | J18: =INDEX([1]TỔNG!I$1:I$65536,'19C1-CNÔ1'!$A18) -> 212886253 | K18: =INDEX([1]TỔNG!J$1:J$65536,'19C1-CNÔ1'!$A18) -> SV 479 5120048576 | L18: =INDEX([1]TỔNG!M$1:M$65536,'19C1-CNÔ1'!$A18) -> Kinh | M18: =INDEX([1]TỔNG!N$1:N$65536,'19C1-CNÔ1'!$A18) -> Việt Nam | N18: =INDEX([1]TỔNG!O$1:O$65536,'19C1-CNÔ1'!$A18) -> 0 | O18: =INDEX([1]TỔNG!P$1:P$65536,'19C1-CNÔ1'!$A18) -> 0 | P18: =INDEX([1]TỔNG!Q$1:Q$65536,'19C1-CNÔ1'!$A18) -> 0 | Q18: =INDEX([1]TỔNG!R$1:R$65536,'19C1-CNÔ1'!$A18) -> 0 | R18: =INDEX([1]TỔNG!S$1:S$65536,'19C1-CNÔ1'!$A18) -> 390 Hoàng Văn Thụ | S18: =INDEX([1]TỔNG!T$1:T$65536,'19C1-CNÔ1'!$A18) -> Phường 4 | T18: =INDEX([1]TỔNG!U$1:U$65536,'19C1-CNÔ1'!$A18) -> Quận Tân Bình
A19: =A18+MATCH(D19,OFFSET([1]TỔNG!$C$1,'19C1-CNÔ1'!A18,0,100),0) -> 2876 | B19: =B18+1 -> 13 | C19: =INDEX([1]TỔNG!B$1:B$65536,'19C1-CNÔ1'!$A19) -> 19000389 | D19: =IF(COUNTIFS($D$6:D18,$D$3)<$F$3,$D$3,"") -> 19C1-CNÔ1 | E19: =INDEX([1]TỔNG!D$1:D$65536,'19C1-CNÔ1'!$A19) -> Trần Gia Hưng | F19: =INDEX([1]TỔNG!E$1:E$65536,'19C1-CNÔ1'!$A19) -> Nam | G19: =INDEX([1]TỔNG!F$1:F$65536,'19C1-CNÔ1'!$A19) -> Sinh viên | H19: =INDEX([1]TỔNG!G$1:G$65536,'19C1-CNÔ1'!$A19) -> 14/09/2001 | I19: =INDEX([1]TỔNG!H$1:H$65536,'19C1-CNÔ1'!$A19) -> 0332559254 | J19: =INDEX([1]TỔNG!I$1:I$65536,'19C1-CNÔ1'!$A19) -> 321774378 | K19: =INDEX([1]TỔNG!J$1:J$65536,'19C1-CNÔ1'!$A19) -> SV 479 8321514431 | L19: =INDEX([1]TỔNG!M$1:M$65536,'19C1-CNÔ1'!$A19) -> Kinh | M19: =INDEX([1]TỔNG!N$1:N$65536,'19C1-CNÔ1'!$A19) -> Việt Nam | N19: =INDEX([1]TỔNG!O$1:O$65536,'19C1-CNÔ1'!$A19) -> 0 | O19: =INDEX([1]TỔNG!P$1:P$65536,'19C1-CNÔ1'!$A19) -> Xã Tiên Long | P19: =INDEX([1]TỔNG!Q$1:Q$65536,'19C1-CNÔ1'!$A19) -> Huyện Châu Thành | Q19: =INDEX([1]TỔNG!R$1:R$65536,'19C1-CNÔ1'!$A19) -> Bến Tre | R19: =INDEX([1]TỔNG!S$1:S$65536,'19C1-CNÔ1'!$A19) -> 390 Hoàng Văn Thụ | S19: =INDEX([1]TỔNG!T$1:T$65536,'19C1-CNÔ1'!$A19) -> Phường 4 | T19: =INDEX([1]TỔNG!U$1:U$65536,'19C1-CNÔ1'!$A19) -> Quận Tân Bình
... A61: =A60+MATCH(D61,OFFSET([1]TỔNG!$C$1,'19C1-CNÔ1'!A60,0,100),0) -> 2918 | B61: =B60+1 -> 55 | C61: =INDEX([1]TỔNG!B$1:B$65536,'19C1-CNÔ1'!$A61) -> 19001283 | D61: =IF(COUNTIFS($D$6:D60,$D$3)<$F$3,$D$3,"") -> 19C1-CNÔ1 | E61: =INDEX([1]TỔNG!D$1:D$65536,'19C1-CNÔ1'!$A61) -> Phạm Văn Vũ | F61: =INDEX([1]TỔNG!E$1:E$65536,'19C1-CNÔ1'!$A61) -> Nam | G61: =INDEX([1]TỔNG!F$1:F$65536,'19C1-CNÔ1'!$A61) -> Sinh viên | H61: =INDEX([1]TỔNG!G$1:G$65536,'19C1-CNÔ1'!$A61) -> 07/02/1996 | I61: =INDEX([1]TỔNG!H$1:H$65536,'19C1-CNÔ1'!$A61) -> 0347273310 | J61: =INDEX([1]TỔNG!I$1:I$65536,'19C1-CNÔ1'!$A61) -> 371653258 | K61: =INDEX([1]TỔNG!J$1:J$65536,'19C1-CNÔ1'!$A61) -> SV 479 9121925350 | L61: =INDEX([1]TỔNG!M$1:M$65536,'19C1-CNÔ1'!$A61) -> Kinh | M61: =INDEX([1]TỔNG!N$1:N$65536,'19C1-CNÔ1'!$A61) -> Việt Nam | N61: =INDEX([1]TỔNG!O$1:O$65536,'19C1-CNÔ1'!$A61) -> 0 | O61: =INDEX([1]TỔNG!P$1:P$65536,'19C1-CNÔ1'!$A61) -> Xã Kiên Bình | P61: =INDEX([1]TỔNG!Q$1:Q$65536,'19C1-CNÔ1'!$A61) -> Huyện Kiên Lương | Q61: =INDEX([1]TỔNG!R$1:R$65536,'19C1-CNÔ1'!$A61) -> Kiên Giang | R61: =INDEX([1]TỔNG!S$1:S$65536,'19C1-CNÔ1'!$A61) -> 390 Hoàng Văn Thụ | S61: =INDEX([1]TỔNG!T$1:T$65536,'19C1-CNÔ1'!$A61) -> Phường 4 | T61: =INDEX([1]TỔNG!U$1:U$65536,'19C1-CNÔ1'!$A61) -> Quận Tân Bình
