Workbook

Sheet Sheet1
A1: ỦY BAN NHÂN DÂN THÀNH PHỐ HỒ CHÍ MINH | L1: CỘNG HOÀ XÃ HỘI CHỦ NGHĨA VIỆT NAM
B2: TRƯỜNG CAO ĐẢNG LÝ TỰ TRỌNG THÀNH PHỐ HỒ CHÍ MINH | L2: Độc lập - Tự do - Hạnh phúc
C3: Lớp | D3: 20C1-CNÔ13 | E3: Số hàng | F3: =COUNTIFS([1]TỔNG!$C$2:$C$12467,'[1]20C1-CNÔ13'!D3) -> 56
A4: MẪU THỐNG KÊ TÌNH HÌNH TIÊM VẮC XIN NGỪA COVID -19 CỦA HSSV
B6: Stt | C6: Mã HS-SV | D6: Tên lớp | E6: Họ và tên | F6: Giới tính | G6: Nghề nghiệp /vị trí công việc | H6: Ngày sinh/ Năm sinh | I6: Số điện thoại | J6: Số CMT/ CCCD | K6: Số thẻ BHYT | L6: Dân tộc | M6: Quốc tịch | N6: Số nhà/ Tổ | O6: Xã/ Phường | P6: Quận/ Huyện | Q6: Tỉnh/TP | R6: Địa chỉ làm việc (số nhà, đường) | S6: Phường xã làm việc | T6: Quận huyện làm việc | U6: Nhóm đối tượng | V6: Chưa tiêm | W6: Đã tiêm mũi 1 (Ghi rõ ngày tháng năm TIÊM) | X6: Đã tiêm mũi 2 (Ghi rõ ngày tháng năm TIÊM)
A7: =A6+MATCH(D7,OFFSET([1]TỔNG!$C$1,'[1]20C1-CNÔ13'!A6,0,14000),0) -> 6674 | B7: 1 | C7: =INDEX([1]TỔNG!B$1:B$65536,'[1]20C1-CNÔ13'!$A7) -> 20004271 | D7: =IF(COUNTIFS($D$6:D6,$D$3)<$F$3,$D$3,"") -> 20C1-CNÔ13 | E7: =INDEX([1]TỔNG!D$1:D$65536,'[1]20C1-CNÔ13'!$A7) -> Thạch Bảo | F7: =INDEX([1]TỔNG!E$1:E$65536,'[1]20C1-CNÔ13'!$A7) -> Nam | G7: =INDEX([1]TỔNG!F$1:F$65536,'[1]20C1-CNÔ13'!$A7) -> Sinh viên | H7: =INDEX([1]TỔNG!G$1:G$65536,'[1]20C1-CNÔ13'!$A7) -> 03/04/2002 | I7: =INDEX([1]TỔNG!H$1:H$65536,'[1]20C1-CNÔ13'!$A7) -> 0833940530 | J7: =INDEX([1]TỔNG!I$1:I$65536,'[1]20C1-CNÔ13'!$A7) -> 079202004810 | K7: =INDEX([1]TỔNG!J$1:J$65536,'[1]20C1-CNÔ13'!$A7) -> SV 479 7933277113 | L7: =INDEX([1]TỔNG!M$1:M$65536,'[1]20C1-CNÔ13'!$A7) -> Khmer | M7: =INDEX([1]TỔNG!N$1:N$65536,'[1]20C1-CNÔ13'!$A7) -> Việt Nam | N7: =INDEX([1]TỔNG!O$1:O$65536,'[1]20C1-CNÔ13'!$A7) -> 0 | O7: =INDEX([1]TỔNG!P$1:P$65536,'[1]20C1-CNÔ13'!$A7) -> Phường 12 | P7: =INDEX([1]TỔNG!Q$1:Q$65536,'[1]20C1-CNÔ13'!$A7) -> Quận 6 | Q7: =INDEX([1]TỔNG!R$1:R$65536,'[1]20C1-CNÔ13'!$A7) -> Tp. Hồ Chí Minh | R7: =INDEX([1]TỔNG!S$1:S$65536,'[1]20C1-CNÔ13'!$A7) -> 390 Hoàng Văn Thụ | S7: =INDEX([1]TỔNG!T$1:T$65536,'[1]20C1-CNÔ13'!$A7) -> Phường 4 | T7: =INDEX([1]TỔNG!U$1:U$65536,'[1]20C1-CNÔ13'!$A7) -> Quận Tân Bình
A8: =A7+MATCH(D8,OFFSET([1]TỔNG!$C$1,'[1]20C1-CNÔ13'!A7,0,100),0) -> 6675 | B8: =B7+1 -> 2 | C8: =INDEX([1]TỔNG!B$1:B$65536,'[1]20C1-CNÔ13'!$A8) -> 20004269 | D8: =IF(COUNTIFS($D$6:D7,$D$3)<$F$3,$D$3,"") -> 20C1-CNÔ13 | E8: =INDEX([1]TỔNG!D$1:D$65536,'[1]20C1-CNÔ13'!$A8) -> Trần Cao Bình | F8: =INDEX([1]TỔNG!E$1:E$65536,'[1]20C1-CNÔ13'!$A8) -> Nam | G8: =INDEX([1]TỔNG!F$1:F$65536,'[1]20C1-CNÔ13'!$A8) -> Sinh viên | H8: =INDEX([1]TỔNG!G$1:G$65536,'[1]20C1-CNÔ13'!$A8) -> 29/06/2002 | I8: =INDEX([1]TỔNG!H$1:H$65536,'[1]20C1-CNÔ13'!$A8) -> 0916400383 | J8: =INDEX([1]TỔNG!I$1:I$65536,'[1]20C1-CNÔ13'!$A8) -> 264548854 | K8: =INDEX([1]TỔNG!J$1:J$65536,'[1]20C1-CNÔ13'!$A8) -> SV 479 5820658703 | L8: =INDEX([1]TỔNG!M$1:M$65536,'[1]20C1-CNÔ13'!$A8) -> Kinh | M8: =INDEX([1]TỔNG!N$1:N$65536,'[1]20C1-CNÔ13'!$A8) -> Việt Nam | N8: =INDEX([1]TỔNG!O$1:O$65536,'[1]20C1-CNÔ13'!$A8) -> 0 | O8: =INDEX([1]TỔNG!P$1:P$65536,'[1]20C1-CNÔ13'!$A8) -> Phường Văn Hải | P8: =INDEX([1]TỔNG!Q$1:Q$65536,'[1]20C1-CNÔ13'!$A8) -> Th. phố Phan Rang -Tháp Chàm | Q8: =INDEX([1]TỔNG!R$1:R$65536,'[1]20C1-CNÔ13'!$A8) -> Ninh Thuận | R8: =INDEX([1]TỔNG!S$1:S$65536,'[1]20C1-CNÔ13'!$A8) -> 390 Hoàng Văn Thụ | S8: =INDEX([1]TỔNG!T$1:T$65536,'[1]20C1-CNÔ13'!$A8) -> Phường 4 | T8: =INDEX([1]TỔNG!U$1:U$65536,'[1]20C1-CNÔ13'!$A8) -> Quận Tân Bình
A9: =A8+MATCH(D9,OFFSET([1]TỔNG!$C$1,'[1]20C1-CNÔ13'!A8,0,100),0) -> 6676 | B9: =B8+1 -> 3 | C9: =INDEX([1]TỔNG!B$1:B$65536,'[1]20C1-CNÔ13'!$A9) -> 20004220 | D9: =IF(COUNTIFS($D$6:D8,$D$3)<$F$3,$D$3,"") -> 20C1-CNÔ13 | E9: =INDEX([1]TỔNG!D$1:D$65536,'[1]20C1-CNÔ13'!$A9) -> Tô Chí Cường | F9: =INDEX([1]TỔNG!E$1:E$65536,'[1]20C1-CNÔ13'!$A9) -> Nam | G9: =INDEX([1]TỔNG!F$1:F$65536,'[1]20C1-CNÔ13'!$A9) -> Sinh viên | H9: =INDEX([1]TỔNG!G$1:G$65536,'[1]20C1-CNÔ13'!$A9) -> 12/04/2002 | I9: =INDEX([1]TỔNG!H$1:H$65536,'[1]20C1-CNÔ13'!$A9) -> 0397757695 | J9: =INDEX([1]TỔNG!I$1:I$65536,'[1]20C1-CNÔ13'!$A9) -> 321842994 | K9: =INDEX([1]TỔNG!J$1:J$65536,'[1]20C1-CNÔ13'!$A9) -> 0 | L9: =INDEX([1]TỔNG!M$1:M$65536,'[1]20C1-CNÔ13'!$A9) -> Kinh | M9: =INDEX([1]TỔNG!N$1:N$65536,'[1]20C1-CNÔ13'!$A9) -> Việt Nam | N9: =INDEX([1]TỔNG!O$1:O$65536,'[1]20C1-CNÔ13'!$A9) -> 0 | O9: =INDEX([1]TỔNG!P$1:P$65536,'[1]20C1-CNÔ13'!$A9) -> 0 | P9: =INDEX([1]TỔNG!Q$1:Q$65536,'[1]20C1-CNÔ13'!$A9) -> 0 | Q9: =INDEX([1]TỔNG!R$1:R$65536,'[1]20C1-CNÔ13'!$A9) -> 0 | R9: =INDEX([1]TỔNG!S$1:S$65536,'[1]20C1-CNÔ13'!$A9) -> 390 Hoàng Văn Thụ | S9: =INDEX([1]TỔNG!T$1:T$65536,'[1]20C1-CNÔ13'!$A9) -> Phường 4 | T9: =INDEX([1]TỔNG!U$1:U$65536,'[1]20C1-CNÔ13'!$A9) -> Quận Tân Bình
A10: =A9+MATCH(D10,OFFSET([1]TỔNG!$C$1,'[1]20C1-CNÔ13'!A9,0,100),0) -> 6677 | B10: =B9+1 -> 4 | C10: =INDEX([1]TỔNG!B$1:B$65536,'[1]20C1-CNÔ13'!$A10) -> 20004164 | D10: =IF(COUNTIFS($D$6:D9,$D$3)<$F$3,$D$3,"") -> 20C1-CNÔ13 | E10: =INDEX([1]TỔNG!D$1:D$65536,'[1]20C1-CNÔ13'!$A10) -> Nguyễn Hải Đăng | F10: =INDEX([1]TỔNG!E$1:E$65536,'[1]20C1-CNÔ13'!$A10) -> Nam | G10: =INDEX([1]TỔNG!F$1:F$65536,'[1]20C1-CNÔ13'!$A10) -> Sinh viên | H10: =INDEX([1]TỔNG!G$1:G$65536,'[1]20C1-CNÔ13'!$A10) -> 08/10/2002 | I10: =INDEX([1]TỔNG!H$1:H$65536,'[1]20C1-CNÔ13'!$A10) -> 0346989421 | J10: =INDEX([1]TỔNG!I$1:I$65536,'[1]20C1-CNÔ13'!$A10) -> 321841497 | K10: =INDEX([1]TỔNG!J$1:J$65536,'[1]20C1-CNÔ13'!$A10) -> SV 479 8322146905 | L10: =INDEX([1]TỔNG!M$1:M$65536,'[1]20C1-CNÔ13'!$A10) -> Kinh | M10: =INDEX([1]TỔNG!N$1:N$65536,'[1]20C1-CNÔ13'!$A10) -> Việt Nam | N10: =INDEX([1]TỔNG!O$1:O$65536,'[1]20C1-CNÔ13'!$A10) -> 017/HB | O10: =INDEX([1]TỔNG!P$1:P$65536,'[1]20C1-CNÔ13'!$A10) -> Xã Mỹ Hòa | P10: =INDEX([1]TỔNG!Q$1:Q$65536,'[1]20C1-CNÔ13'!$A10) -> Huyện Ba Tri | Q10: =INDEX([1]TỔNG!R$1:R$65536,'[1]20C1-CNÔ13'!$A10) -> Bến Tre | R10: =INDEX([1]TỔNG!S$1:S$65536,'[1]20C1-CNÔ13'!$A10) -> 390 Hoàng Văn Thụ | S10: =INDEX([1]TỔNG!T$1:T$65536,'[1]20C1-CNÔ13'!$A10) -> Phường 4 | T10: =INDEX([1]TỔNG!U$1:U$65536,'[1]20C1-CNÔ13'!$A10) -> Quận Tân Bình
A11: =A10+MATCH(D11,OFFSET([1]TỔNG!$C$1,'[1]20C1-CNÔ13'!A10,0,100),0) -> 6678 | B11: =B10+1 -> 5 | C11: =INDEX([1]TỔNG!B$1:B$65536,'[1]20C1-CNÔ13'!$A11) -> 20004325 | D11: =IF(COUNTIFS($D$6:D10,$D$3)<$F$3,$D$3,"") -> 20C1-CNÔ13 | E11: =INDEX([1]TỔNG!D$1:D$65536,'[1]20C1-CNÔ13'!$A11) -> Ngô Hoàng Đôn | F11: =INDEX([1]TỔNG!E$1:E$65536,'[1]20C1-CNÔ13'!$A11) -> Nam | G11: =INDEX([1]TỔNG!F$1:F$65536,'[1]20C1-CNÔ13'!$A11) -> Sinh viên | H11: =INDEX([1]TỔNG!G$1:G$65536,'[1]20C1-CNÔ13'!$A11) -> 22/11/2002 | I11: =INDEX([1]TỔNG!H$1:H$65536,'[1]20C1-CNÔ13'!$A11) -> 0334033186 | J11: =INDEX([1]TỔNG!I$1:I$65536,'[1]20C1-CNÔ13'!$A11) -> 301772978 | K11: =INDEX([1]TỔNG!J$1:J$65536,'[1]20C1-CNÔ13'!$A11) -> SV 479 8022727518 | L11: =INDEX([1]TỔNG!M$1:M$65536,'[1]20C1-CNÔ13'!$A11) -> Kinh | M11: =INDEX([1]TỔNG!N$1:N$65536,'[1]20C1-CNÔ13'!$A11) -> Việt Nam | N11: =INDEX([1]TỔNG!O$1:O$65536,'[1]20C1-CNÔ13'!$A11) -> số nhà 319, Ấp 4, xã Phước Đông, huyện Cần Đước, tỉnh Long An | O11: =INDEX([1]TỔNG!P$1:P$65536,'[1]20C1-CNÔ13'!$A11) -> 0 | P11: =INDEX([1]TỔNG!Q$1:Q$65536,'[1]20C1-CNÔ13'!$A11) -> 0 | Q11: =INDEX([1]TỔNG!R$1:R$65536,'[1]20C1-CNÔ13'!$A11) -> 0 | R11: =INDEX([1]TỔNG!S$1:S$65536,'[1]20C1-CNÔ13'!$A11) -> 390 Hoàng Văn Thụ | S11: =INDEX([1]TỔNG!T$1:T$65536,'[1]20C1-CNÔ13'!$A11) -> Phường 4 | T11: =INDEX([1]TỔNG!U$1:U$65536,'[1]20C1-CNÔ13'!$A11) -> Quận Tân Bình
A12: =A11+MATCH(D12,OFFSET([1]TỔNG!$C$1,'[1]20C1-CNÔ13'!A11,0,100),0) -> 6679 | B12: =B11+1 -> 6 | C12: =INDEX([1]TỔNG!B$1:B$65536,'[1]20C1-CNÔ13'!$A12) -> 20004327 | D12: =IF(COUNTIFS($D$6:D11,$D$3)<$F$3,$D$3,"") -> 20C1-CNÔ13 | E12: =INDEX([1]TỔNG!D$1:D$65536,'[1]20C1-CNÔ13'!$A12) -> Nguyễn Khuyến Du | F12: =INDEX([1]TỔNG!E$1:E$65536,'[1]20C1-CNÔ13'!$A12) -> Nam | G12: =INDEX([1]TỔNG!F$1:F$65536,'[1]20C1-CNÔ13'!$A12) -> Sinh viên | H12: =INDEX([1]TỔNG!G$1:G$65536,'[1]20C1-CNÔ13'!$A12) -> 02/02/2002 | I12: =INDEX([1]TỔNG!H$1:H$65536,'[1]20C1-CNÔ13'!$A12) -> 0357299374 | J12: =INDEX([1]TỔNG!I$1:I$65536,'[1]20C1-CNÔ13'!$A12) -> 272872221 | K12: =INDEX([1]TỔNG!J$1:J$65536,'[1]20C1-CNÔ13'!$A12) -> SV 479 7524111311 | L12: =INDEX([1]TỔNG!M$1:M$65536,'[1]20C1-CNÔ13'!$A12) -> Kinh | M12: =INDEX([1]TỔNG!N$1:N$65536,'[1]20C1-CNÔ13'!$A12) -> Việt Nam | N12: =INDEX([1]TỔNG!O$1:O$65536,'[1]20C1-CNÔ13'!$A12) -> 0 | O12: =INDEX([1]TỔNG!P$1:P$65536,'[1]20C1-CNÔ13'!$A12) -> Phường Xuân Hoà | P12: =INDEX([1]TỔNG!Q$1:Q$65536,'[1]20C1-CNÔ13'!$A12) -> Thị xã Long Khánh | Q12: =INDEX([1]TỔNG!R$1:R$65536,'[1]20C1-CNÔ13'!$A12) -> Đồng Nai | R12: =INDEX([1]TỔNG!S$1:S$65536,'[1]20C1-CNÔ13'!$A12) -> 390 Hoàng Văn Thụ | S12: =INDEX([1]TỔNG!T$1:T$65536,'[1]20C1-CNÔ13'!$A12) -> Phường 4 | T12: =INDEX([1]TỔNG!U$1:U$65536,'[1]20C1-CNÔ13'!$A12) -> Quận Tân Bình
A13: =A12+MATCH(D13,OFFSET([1]TỔNG!$C$1,'[1]20C1-CNÔ13'!A12,0,100),0) -> 6680 | B13: =B12+1 -> 7 | C13: =INDEX([1]TỔNG!B$1:B$65536,'[1]20C1-CNÔ13'!$A13) -> 20004225 | D13: =IF(COUNTIFS($D$6:D12,$D$3)<$F$3,$D$3,"") -> 20C1-CNÔ13 | E13: =INDEX([1]TỔNG!D$1:D$65536,'[1]20C1-CNÔ13'!$A13) -> Lê Xuân Giang | F13: =INDEX([1]TỔNG!E$1:E$65536,'[1]20C1-CNÔ13'!$A13) -> Nam | G13: =INDEX([1]TỔNG!F$1:F$65536,'[1]20C1-CNÔ13'!$A13) -> Sinh viên | H13: =INDEX([1]TỔNG!G$1:G$65536,'[1]20C1-CNÔ13'!$A13) -> 16/04/2002 | I13: =INDEX([1]TỔNG!H$1:H$65536,'[1]20C1-CNÔ13'!$A13) -> 0355534908 | J13: =INDEX([1]TỔNG!I$1:I$65536,'[1]20C1-CNÔ13'!$A13) -> 241983405 | K13: =INDEX([1]TỔNG!J$1:J$65536,'[1]20C1-CNÔ13'!$A13) -> SV 479 6623023031 | L13: =INDEX([1]TỔNG!M$1:M$65536,'[1]20C1-CNÔ13'!$A13) -> Kinh | M13: =INDEX([1]TỔNG!N$1:N$65536,'[1]20C1-CNÔ13'!$A13) -> Việt Nam | N13: =INDEX([1]TỔNG!O$1:O$65536,'[1]20C1-CNÔ13'!$A13) -> 0 | O13: =INDEX([1]TỔNG!P$1:P$65536,'[1]20C1-CNÔ13'!$A13) -> Xã Ea Tih | P13: =INDEX([1]TỔNG!Q$1:Q$65536,'[1]20C1-CNÔ13'!$A13) -> Huyện Ea Kar | Q13: =INDEX([1]TỔNG!R$1:R$65536,'[1]20C1-CNÔ13'!$A13) -> Đắk Lắk | R13: =INDEX([1]TỔNG!S$1:S$65536,'[1]20C1-CNÔ13'!$A13) -> 390 Hoàng Văn Thụ | S13: =INDEX([1]TỔNG!T$1:T$65536,'[1]20C1-CNÔ13'!$A13) -> Phường 4 | T13: =INDEX([1]TỔNG!U$1:U$65536,'[1]20C1-CNÔ13'!$A13) -> Quận Tân Bình
A14: =A13+MATCH(D14,OFFSET([1]TỔNG!$C$1,'[1]20C1-CNÔ13'!A13,0,100),0) -> 6681 | B14: =B13+1 -> 8 | C14: =INDEX([1]TỔNG!B$1:B$65536,'[1]20C1-CNÔ13'!$A14) -> 20004308 | D14: =IF(COUNTIFS($D$6:D13,$D$3)<$F$3,$D$3,"") -> 20C1-CNÔ13 | E14: =INDEX([1]TỔNG!D$1:D$65536,'[1]20C1-CNÔ13'!$A14) -> Nguyễn Quốc Hải | F14: =INDEX([1]TỔNG!E$1:E$65536,'[1]20C1-CNÔ13'!$A14) -> Nam | G14: =INDEX([1]TỔNG!F$1:F$65536,'[1]20C1-CNÔ13'!$A14) -> Sinh viên | H14: =INDEX([1]TỔNG!G$1:G$65536,'[1]20C1-CNÔ13'!$A14) -> 02/03/2002 | I14: =INDEX([1]TỔNG!H$1:H$65536,'[1]20C1-CNÔ13'!$A14) -> 0909282621 | J14: =INDEX([1]TỔNG!I$1:I$65536,'[1]20C1-CNÔ13'!$A14) -> 371998234 | K14: =INDEX([1]TỔNG!J$1:J$65536,'[1]20C1-CNÔ13'!$A14) -> SV 479 9124045748 | L14: =INDEX([1]TỔNG!M$1:M$65536,'[1]20C1-CNÔ13'!$A14) -> Kinh | M14: =INDEX([1]TỔNG!N$1:N$65536,'[1]20C1-CNÔ13'!$A14) -> Việt Nam | N14: =INDEX([1]TỔNG!O$1:O$65536,'[1]20C1-CNÔ13'!$A14) -> 0 | O14: =INDEX([1]TỔNG!P$1:P$65536,'[1]20C1-CNÔ13'!$A14) -> Thị trấn Kiên Lương | P14: =INDEX([1]TỔNG!Q$1:Q$65536,'[1]20C1-CNÔ13'!$A14) -> Huyện Kiên Lương | Q14: =INDEX([1]TỔNG!R$1:R$65536,'[1]20C1-CNÔ13'!$A14) -> Kiên Giang | R14: =INDEX([1]TỔNG!S$1:S$65536,'[1]20C1-CNÔ13'!$A14) -> 390 Hoàng Văn Thụ | S14: =INDEX([1]TỔNG!T$1:T$65536,'[1]20C1-CNÔ13'!$A14) -> Phường 4 | T14: =INDEX([1]TỔNG!U$1:U$65536,'[1]20C1-CNÔ13'!$A14) -> Quận Tân Bình
A15: =A14+MATCH(D15,OFFSET([1]TỔNG!$C$1,'[1]20C1-CNÔ13'!A14,0,100),0) -> 6682 | B15: =B14+1 -> 9 | C15: =INDEX([1]TỔNG!B$1:B$65536,'[1]20C1-CNÔ13'!$A15) -> 20004224 | D15: =IF(COUNTIFS($D$6:D14,$D$3)<$F$3,$D$3,"") -> 20C1-CNÔ13 | E15: =INDEX([1]TỔNG!D$1:D$65536,'[1]20C1-CNÔ13'!$A15) -> Nguyễn Quang Hậu | F15: =INDEX([1]TỔNG!E$1:E$65536,'[1]20C1-CNÔ13'!$A15) -> Nam | G15: =INDEX([1]TỔNG!F$1:F$65536,'[1]20C1-CNÔ13'!$A15) -> Sinh viên | H15: =INDEX([1]TỔNG!G$1:G$65536,'[1]20C1-CNÔ13'!$A15) -> 06/06/2002 | I15: =INDEX([1]TỔNG!H$1:H$65536,'[1]20C1-CNÔ13'!$A15) -> 0918248109 | J15: =INDEX([1]TỔNG!I$1:I$65536,'[1]20C1-CNÔ13'!$A15) -> 215600430 | K15: =INDEX([1]TỔNG!J$1:J$65536,'[1]20C1-CNÔ13'!$A15) -> SV 479 5221896234 | L15: =INDEX([1]TỔNG!M$1:M$65536,'[1]20C1-CNÔ13'!$A15) -> Kinh | M15: =INDEX([1]TỔNG!N$1:N$65536,'[1]20C1-CNÔ13'!$A15) -> Việt Nam | N15: =INDEX([1]TỔNG!O$1:O$65536,'[1]20C1-CNÔ13'!$A15) -> 0 | O15: =INDEX([1]TỔNG!P$1:P$65536,'[1]20C1-CNÔ13'!$A15) -> Xã Hoài Hương | P15: =INDEX([1]TỔNG!Q$1:Q$65536,'[1]20C1-CNÔ13'!$A15) -> Huyện Hoài Nhơn | Q15: =INDEX([1]TỔNG!R$1:R$65536,'[1]20C1-CNÔ13'!$A15) -> Bình Định | R15: =INDEX([1]TỔNG!S$1:S$65536,'[1]20C1-CNÔ13'!$A15) -> 390 Hoàng Văn Thụ | S15: =INDEX([1]TỔNG!T$1:T$65536,'[1]20C1-CNÔ13'!$A15) -> Phường 4 | T15: =INDEX([1]TỔNG!U$1:U$65536,'[1]20C1-CNÔ13'!$A15) -> Quận Tân Bình
A16: =A15+MATCH(D16,OFFSET([1]TỔNG!$C$1,'[1]20C1-CNÔ13'!A15,0,100),0) -> 6683 | B16: =B15+1 -> 10 | C16: =INDEX([1]TỔNG!B$1:B$65536,'[1]20C1-CNÔ13'!$A16) -> 20003503 | D16: =IF(COUNTIFS($D$6:D15,$D$3)<$F$3,$D$3,"") -> 20C1-CNÔ13 | E16: =INDEX([1]TỔNG!D$1:D$65536,'[1]20C1-CNÔ13'!$A16) -> Nguyễn Ngọc Hiếu | F16: =INDEX([1]TỔNG!E$1:E$65536,'[1]20C1-CNÔ13'!$A16) -> Nam | G16: =INDEX([1]TỔNG!F$1:F$65536,'[1]20C1-CNÔ13'!$A16) -> Sinh viên | H16: =INDEX([1]TỔNG!G$1:G$65536,'[1]20C1-CNÔ13'!$A16) -> 12/02/2002 | I16: =INDEX([1]TỔNG!H$1:H$65536,'[1]20C1-CNÔ13'!$A16) -> 0386800222 | J16: =INDEX([1]TỔNG!I$1:I$65536,'[1]20C1-CNÔ13'!$A16) -> 285823318 | K16: =INDEX([1]TỔNG!J$1:J$65536,'[1]20C1-CNÔ13'!$A16) -> SV 479 7021709524 | L16: =INDEX([1]TỔNG!M$1:M$65536,'[1]20C1-CNÔ13'!$A16) -> Kinh | M16: =INDEX([1]TỔNG!N$1:N$65536,'[1]20C1-CNÔ13'!$A16) -> Việt Nam | N16: =INDEX([1]TỔNG!O$1:O$65536,'[1]20C1-CNÔ13'!$A16) -> 0 | O16: =INDEX([1]TỔNG!P$1:P$65536,'[1]20C1-CNÔ13'!$A16) -> Thị trấn Chơn Thành | P16: =INDEX([1]TỔNG!Q$1:Q$65536,'[1]20C1-CNÔ13'!$A16) -> Huyện Chơn Thành | Q16: =INDEX([1]TỔNG!R$1:R$65536,'[1]20C1-CNÔ13'!$A16) -> Bình Phước | R16: =INDEX([1]TỔNG!S$1:S$65536,'[1]20C1-CNÔ13'!$A16) -> 390 Hoàng Văn Thụ | S16: =INDEX([1]TỔNG!T$1:T$65536,'[1]20C1-CNÔ13'!$A16) -> Phường 4 | T16: =INDEX([1]TỔNG!U$1:U$65536,'[1]20C1-CNÔ13'!$A16) -> Quận Tân Bình
A17: =A16+MATCH(D17,OFFSET([1]TỔNG!$C$1,'[1]20C1-CNÔ13'!A16,0,100),0) -> 6684 | B17: =B16+1 -> 11 | C17: =INDEX([1]TỔNG!B$1:B$65536,'[1]20C1-CNÔ13'!$A17) -> 20004298 | D17: =IF(COUNTIFS($D$6:D16,$D$3)<$F$3,$D$3,"") -> 20C1-CNÔ13 | E17: =INDEX([1]TỔNG!D$1:D$65536,'[1]20C1-CNÔ13'!$A17) -> Trần Văn Hiếu | F17: =INDEX([1]TỔNG!E$1:E$65536,'[1]20C1-CNÔ13'!$A17) -> Nam | G17: =INDEX([1]TỔNG!F$1:F$65536,'[1]20C1-CNÔ13'!$A17) -> Sinh viên | H17: =INDEX([1]TỔNG!G$1:G$65536,'[1]20C1-CNÔ13'!$A17) -> 16/08/2002 | I17: =INDEX([1]TỔNG!H$1:H$65536,'[1]20C1-CNÔ13'!$A17) -> 09140237172 | J17: =INDEX([1]TỔNG!I$1:I$65536,'[1]20C1-CNÔ13'!$A17) -> 212816739 | K17: =INDEX([1]TỔNG!J$1:J$65536,'[1]20C1-CNÔ13'!$A17) -> SV 479 5120996394 | L17: =INDEX([1]TỔNG!M$1:M$65536,'[1]20C1-CNÔ13'!$A17) -> Kinh | M17: =INDEX([1]TỔNG!N$1:N$65536,'[1]20C1-CNÔ13'!$A17) -> Việt Nam | N17: =INDEX([1]TỔNG!O$1:O$65536,'[1]20C1-CNÔ13'!$A17) -> 0 | O17: =INDEX([1]TỔNG!P$1:P$65536,'[1]20C1-CNÔ13'!$A17) -> Xã Đức Hòa | P17: =INDEX([1]TỔNG!Q$1:Q$65536,'[1]20C1-CNÔ13'!$A17) -> Huyện Mộ Đức | Q17: =INDEX([1]TỔNG!R$1:R$65536,'[1]20C1-CNÔ13'!$A17) -> Quảng Ngãi | R17: =INDEX([1]TỔNG!S$1:S$65536,'[1]20C1-CNÔ13'!$A17) -> 390 Hoàng Văn Thụ | S17: =INDEX([1]TỔNG!T$1:T$65536,'[1]20C1-CNÔ13'!$A17) -> Phường 4 | T17: =INDEX([1]TỔNG!U$1:U$65536,'[1]20C1-CNÔ13'!$A17) -> Quận Tân Bình
A18: =A17+MATCH(D18,OFFSET([1]TỔNG!$C$1,'[1]20C1-CNÔ13'!A17,0,100),0) -> 6685 | B18: =B17+1 -> 12 | C18: =INDEX([1]TỔNG!B$1:B$65536,'[1]20C1-CNÔ13'!$A18) -> 20004279 | D18: =IF(COUNTIFS($D$6:D17,$D$3)<$F$3,$D$3,"") -> 20C1-CNÔ13 | E18: =INDEX([1]TỔNG!D$1:D$65536,'[1]20C1-CNÔ13'!$A18) -> Trần Trương Hoài | F18: =INDEX([1]TỔNG!E$1:E$65536,'[1]20C1-CNÔ13'!$A18) -> Nam | G18: =INDEX([1]TỔNG!F$1:F$65536,'[1]20C1-CNÔ13'!$A18) -> Sinh viên | H18: =INDEX([1]TỔNG!G$1:G$65536,'[1]20C1-CNÔ13'!$A18) -> 31/08/2002 | I18: =INDEX([1]TỔNG!H$1:H$65536,'[1]20C1-CNÔ13'!$A18) -> 0965367264 | J18: =INDEX([1]TỔNG!I$1:I$65536,'[1]20C1-CNÔ13'!$A18) -> 0 | K18: =INDEX([1]TỔNG!J$1:J$65536,'[1]20C1-CNÔ13'!$A18) -> SV 479 5220311746 | L18: =INDEX([1]TỔNG!M$1:M$65536,'[1]20C1-CNÔ13'!$A18) -> Kinh | M18: =INDEX([1]TỔNG!N$1:N$65536,'[1]20C1-CNÔ13'!$A18) -> Việt Nam | N18: =INDEX([1]TỔNG!O$1:O$65536,'[1]20C1-CNÔ13'!$A18) -> 0 | O18: =INDEX([1]TỔNG!P$1:P$65536,'[1]20C1-CNÔ13'!$A18) -> 0 | P18: =INDEX([1]TỔNG!Q$1:Q$65536,'[1]20C1-CNÔ13'!$A18) -> 0 | Q18: =INDEX([1]TỔNG!R$1:R$65536,'[1]20C1-CNÔ13'!$A18) -> 0 | R18: =INDEX([1]TỔNG!S$1:S$65536,'[1]20C1-CNÔ13'!$A18) -> 390 Hoàng Văn Thụ | S18: =INDEX([1]TỔNG!T$1:T$65536,'[1]20C1-CNÔ13'!$A18) -> Phường 4 | T18: =INDEX([1]TỔNG!U$1:U$65536,'[1]20C1-CNÔ13'!$A18) -> Quận Tân Bình
A19: =A18+MATCH(D19,OFFSET([1]TỔNG!$C$1,'[1]20C1-CNÔ13'!A18,0,100),0) -> 6686 | B19: =B18+1 -> 13 | C19: =INDEX([1]TỔNG!B$1:B$65536,'[1]20C1-CNÔ13'!$A19) -> 20004241 | D19: =IF(COUNTIFS($D$6:D18,$D$3)<$F$3,$D$3,"") -> 20C1-CNÔ13 | E19: =INDEX([1]TỔNG!D$1:D$65536,'[1]20C1-CNÔ13'!$A19) -> Chu Văn Học | F19: =INDEX([1]TỔNG!E$1:E$65536,'[1]20C1-CNÔ13'!$A19) -> Nam | G19: =INDEX([1]TỔNG!F$1:F$65536,'[1]20C1-CNÔ13'!$A19) -> Sinh viên | H19: =INDEX([1]TỔNG!G$1:G$65536,'[1]20C1-CNÔ13'!$A19) -> 01/12/2002 | I19: =INDEX([1]TỔNG!H$1:H$65536,'[1]20C1-CNÔ13'!$A19) -> 0971988208 | J19: =INDEX([1]TỔNG!I$1:I$65536,'[1]20C1-CNÔ13'!$A19) -> 251247844 | K19: =INDEX([1]TỔNG!J$1:J$65536,'[1]20C1-CNÔ13'!$A19) -> SV 479 6822141862 | L19: =INDEX([1]TỔNG!M$1:M$65536,'[1]20C1-CNÔ13'!$A19) -> Kinh | M19: =INDEX([1]TỔNG!N$1:N$65536,'[1]20C1-CNÔ13'!$A19) -> Việt Nam | N19: =INDEX([1]TỔNG!O$1:O$65536,'[1]20C1-CNÔ13'!$A19) -> 0 | O19: =INDEX([1]TỔNG!P$1:P$65536,'[1]20C1-CNÔ13'!$A19) -> Xã Đà Loan | P19: =INDEX([1]TỔNG!Q$1:Q$65536,'[1]20C1-CNÔ13'!$A19) -> Huyện Đức Trọng | Q19: =INDEX([1]TỔNG!R$1:R$65536,'[1]20C1-CNÔ13'!$A19) -> Lâm Đồng | R19: =INDEX([1]TỔNG!S$1:S$65536,'[1]20C1-CNÔ13'!$A19) -> 390 Hoàng Văn Thụ | S19: =INDEX([1]TỔNG!T$1:T$65536,'[1]20C1-CNÔ13'!$A19) -> Phường 4 | T19: =INDEX([1]TỔNG!U$1:U$65536,'[1]20C1-CNÔ13'!$A19) -> Quận Tân Bình
... A62: =A61+MATCH(D62,OFFSET([1]TỔNG!$C$1,'[1]20C1-CNÔ13'!A61,0,100),0) -> 6729 | B62: =B61+1 -> 56 | C62: =INDEX([1]TỔNG!B$1:B$65536,'[1]20C1-CNÔ13'!$A62) -> 20004295 | D62: =IF(COUNTIFS($D$6:D61,$D$3)<$F$3,$D$3,"") -> 20C1-CNÔ13 | E62: =INDEX([1]TỔNG!D$1:D$65536,'[1]20C1-CNÔ13'!$A62) -> Đào Linh Vương | F62: =INDEX([1]TỔNG!E$1:E$65536,'[1]20C1-CNÔ13'!$A62) -> Nam | G62: =INDEX([1]TỔNG!F$1:F$65536,'[1]20C1-CNÔ13'!$A62) -> Sinh viên | H62: =INDEX([1]TỔNG!G$1:G$65536,'[1]20C1-CNÔ13'!$A62) -> 15/04/2002 | I62: =INDEX([1]TỔNG!H$1:H$65536,'[1]20C1-CNÔ13'!$A62) -> 0344135611 | J62: =INDEX([1]TỔNG!I$1:I$65536,'[1]20C1-CNÔ13'!$A62) -> 072202007511 | K62: =INDEX([1]TỔNG!J$1:J$65536,'[1]20C1-CNÔ13'!$A62) -> SV 479 7221350785 | L62: =INDEX([1]TỔNG!M$1:M$65536,'[1]20C1-CNÔ13'!$A62) -> Kinh | M62: =INDEX([1]TỔNG!N$1:N$65536,'[1]20C1-CNÔ13'!$A62) -> Việt Nam | N62: =INDEX([1]TỔNG!O$1:O$65536,'[1]20C1-CNÔ13'!$A62) -> 0 | O62: =INDEX([1]TỔNG!P$1:P$65536,'[1]20C1-CNÔ13'!$A62) -> Thị trấn Tân Biên | P62: =INDEX([1]TỔNG!Q$1:Q$65536,'[1]20C1-CNÔ13'!$A62) -> Huyện Tân Biên | Q62: =INDEX([1]TỔNG!R$1:R$65536,'[1]20C1-CNÔ13'!$A62) -> Tây Ninh | R62: =INDEX([1]TỔNG!S$1:S$65536,'[1]20C1-CNÔ13'!$A62) -> 390 Hoàng Văn Thụ | S62: =INDEX([1]TỔNG!T$1:T$65536,'[1]20C1-CNÔ13'!$A62) -> Phường 4 | T62: =INDEX([1]TỔNG!U$1:U$65536,'[1]20C1-CNÔ13'!$A62) -> Quận Tân Bình
