Workbook

Sheet 19C1-CNÔ5
A1: ỦY BAN NHÂN DÂN THÀNH PHỐ HỒ CHÍ MINH | L1: CỘNG HOÀ XÃ HỘI CHỦ NGHĨA VIỆT NAM
B2: TRƯỜNG CAO ĐẢNG LÝ TỰ TRỌNG THÀNH PHỐ HỒ CHÍ MINH | L2: Độc lập - Tự do - Hạnh phúc
C3: Lớp | D3: 19C1-CNÔ5 | E3: Số hàng | F3: =COUNTIFS([1]TỔNG!$C$2:$C$12467,'19C1-CNÔ5'!D3) -> 58
A4: MẪU THỐNG KÊ TÌNH HÌNH TIÊM VẮC XIN NGỪA COVID -19 CỦA HSSV
B6: Stt | C6: Mã HS-SV | D6: Tên lớp | E6: Họ và tên | F6: Giới tính | G6: Nghề nghiệp /vị trí công việc | H6: Ngày sinh/ Năm sinh | I6: Số điện thoại | J6: Số CMT/ CCCD | K6: Số thẻ BHYT | L6: Dân tộc | M6: Quốc tịch | N6: Số nhà/ Tổ | O6: Xã/ Phường | P6: Quận/ Huyện | Q6: Tỉnh/TP | R6: Địa chỉ làm việc (số nhà, đường) | S6: Phường xã làm việc | T6: Quận huyện làm việc | U6: Nhóm đối tượng | V6: Chưa tiêm | W6: Đã tiêm mũi 1 (Ghi rõ ngày tháng năm TIÊM) | X6: Đã tiêm mũi 2 (Ghi rõ ngày tháng năm TIÊM)
A7: =A6+MATCH(D7,OFFSET([1]TỔNG!$C$1,'19C1-CNÔ5'!A6,0,14000),0) -> 3091 | B7: 1 | C7: =INDEX([1]TỔNG!B$1:B$65536,'19C1-CNÔ5'!$A7) -> 19002122 | D7: =IF(COUNTIFS($D$6:D6,$D$3)<$F$3,$D$3,"") -> 19C1-CNÔ5 | E7: =INDEX([1]TỔNG!D$1:D$65536,'19C1-CNÔ5'!$A7) -> Phạm Thái Ân | F7: =INDEX([1]TỔNG!E$1:E$65536,'19C1-CNÔ5'!$A7) -> Nam | G7: =INDEX([1]TỔNG!F$1:F$65536,'19C1-CNÔ5'!$A7) -> Sinh viên | H7: =INDEX([1]TỔNG!G$1:G$65536,'19C1-CNÔ5'!$A7) -> 19/01/2001 | I7: =INDEX([1]TỔNG!H$1:H$65536,'19C1-CNÔ5'!$A7) -> 0944066376 | J7: =INDEX([1]TỔNG!I$1:I$65536,'19C1-CNÔ5'!$A7) -> 301776849 | K7: =INDEX([1]TỔNG!J$1:J$65536,'19C1-CNÔ5'!$A7) -> SV 479 8022050408 | L7: =INDEX([1]TỔNG!M$1:M$65536,'19C1-CNÔ5'!$A7) -> Kinh | M7: =INDEX([1]TỔNG!N$1:N$65536,'19C1-CNÔ5'!$A7) -> Việt Nam | N7: =INDEX([1]TỔNG!O$1:O$65536,'19C1-CNÔ5'!$A7) -> 0 | O7: =INDEX([1]TỔNG!P$1:P$65536,'19C1-CNÔ5'!$A7) -> Xã Hòa Khánh Tây | P7: =INDEX([1]TỔNG!Q$1:Q$65536,'19C1-CNÔ5'!$A7) -> Huyện Đức Hoà | Q7: =INDEX([1]TỔNG!R$1:R$65536,'19C1-CNÔ5'!$A7) -> Long An | R7: =INDEX([1]TỔNG!S$1:S$65536,'19C1-CNÔ5'!$A7) -> 390 Hoàng Văn Thụ | S7: =INDEX([1]TỔNG!T$1:T$65536,'19C1-CNÔ5'!$A7) -> Phường 4 | T7: =INDEX([1]TỔNG!U$1:U$65536,'19C1-CNÔ5'!$A7) -> Quận Tân Bình
A8: =A7+MATCH(D8,OFFSET([1]TỔNG!$C$1,'19C1-CNÔ5'!A7,0,100),0) -> 3092 | B8: =B7+1 -> 2 | C8: =INDEX([1]TỔNG!B$1:B$65536,'19C1-CNÔ5'!$A8) -> 19002095 | D8: =IF(COUNTIFS($D$6:D7,$D$3)<$F$3,$D$3,"") -> 19C1-CNÔ5 | E8: =INDEX([1]TỔNG!D$1:D$65536,'19C1-CNÔ5'!$A8) -> Nguyễn Văn Bình | F8: =INDEX([1]TỔNG!E$1:E$65536,'19C1-CNÔ5'!$A8) -> Nam | G8: =INDEX([1]TỔNG!F$1:F$65536,'19C1-CNÔ5'!$A8) -> Sinh viên | H8: =INDEX([1]TỔNG!G$1:G$65536,'19C1-CNÔ5'!$A8) -> 24/06/2001 | I8: =INDEX([1]TỔNG!H$1:H$65536,'19C1-CNÔ5'!$A8) -> 0866738928 | J8: =INDEX([1]TỔNG!I$1:I$65536,'19C1-CNÔ5'!$A8) -> 036201012094 | K8: =INDEX([1]TỔNG!J$1:J$65536,'19C1-CNÔ5'!$A8) -> 0 | L8: =INDEX([1]TỔNG!M$1:M$65536,'19C1-CNÔ5'!$A8) -> Kinh | M8: =INDEX([1]TỔNG!N$1:N$65536,'19C1-CNÔ5'!$A8) -> Việt Nam | N8: =INDEX([1]TỔNG!O$1:O$65536,'19C1-CNÔ5'!$A8) -> 0 | O8: =INDEX([1]TỔNG!P$1:P$65536,'19C1-CNÔ5'!$A8) -> Xã Phước Tỉnh | P8: =INDEX([1]TỔNG!Q$1:Q$65536,'19C1-CNÔ5'!$A8) -> Huyện Long Điền | Q8: =INDEX([1]TỔNG!R$1:R$65536,'19C1-CNÔ5'!$A8) -> Bà Rịa-Vũng Tàu | R8: =INDEX([1]TỔNG!S$1:S$65536,'19C1-CNÔ5'!$A8) -> 390 Hoàng Văn Thụ | S8: =INDEX([1]TỔNG!T$1:T$65536,'19C1-CNÔ5'!$A8) -> Phường 4 | T8: =INDEX([1]TỔNG!U$1:U$65536,'19C1-CNÔ5'!$A8) -> Quận Tân Bình
A9: =A8+MATCH(D9,OFFSET([1]TỔNG!$C$1,'19C1-CNÔ5'!A8,0,100),0) -> 3093 | B9: =B8+1 -> 3 | C9: =INDEX([1]TỔNG!B$1:B$65536,'19C1-CNÔ5'!$A9) -> 19002210 | D9: =IF(COUNTIFS($D$6:D8,$D$3)<$F$3,$D$3,"") -> 19C1-CNÔ5 | E9: =INDEX([1]TỔNG!D$1:D$65536,'19C1-CNÔ5'!$A9) -> Hồ Thế Dân | F9: =INDEX([1]TỔNG!E$1:E$65536,'19C1-CNÔ5'!$A9) -> Nam | G9: =INDEX([1]TỔNG!F$1:F$65536,'19C1-CNÔ5'!$A9) -> Sinh viên | H9: =INDEX([1]TỔNG!G$1:G$65536,'19C1-CNÔ5'!$A9) -> 05/08/2001 | I9: =INDEX([1]TỔNG!H$1:H$65536,'19C1-CNÔ5'!$A9) -> 0376873601 | J9: =INDEX([1]TỔNG!I$1:I$65536,'19C1-CNÔ5'!$A9) -> 079201008199 | K9: =INDEX([1]TỔNG!J$1:J$65536,'19C1-CNÔ5'!$A9) -> SV 479 7935246751 | L9: =INDEX([1]TỔNG!M$1:M$65536,'19C1-CNÔ5'!$A9) -> Kinh | M9: =INDEX([1]TỔNG!N$1:N$65536,'19C1-CNÔ5'!$A9) -> Việt Nam | N9: =INDEX([1]TỔNG!O$1:O$65536,'19C1-CNÔ5'!$A9) -> 0 | O9: =INDEX([1]TỔNG!P$1:P$65536,'19C1-CNÔ5'!$A9) -> Xã Hòa Phú | P9: =INDEX([1]TỔNG!Q$1:Q$65536,'19C1-CNÔ5'!$A9) -> Huyện Củ Chi | Q9: =INDEX([1]TỔNG!R$1:R$65536,'19C1-CNÔ5'!$A9) -> Tp. Hồ Chí Minh | R9: =INDEX([1]TỔNG!S$1:S$65536,'19C1-CNÔ5'!$A9) -> 390 Hoàng Văn Thụ | S9: =INDEX([1]TỔNG!T$1:T$65536,'19C1-CNÔ5'!$A9) -> Phường 4 | T9: =INDEX([1]TỔNG!U$1:U$65536,'19C1-CNÔ5'!$A9) -> Quận Tân Bình
A10: =A9+MATCH(D10,OFFSET([1]TỔNG!$C$1,'19C1-CNÔ5'!A9,0,100),0) -> 3094 | B10: =B9+1 -> 4 | C10: =INDEX([1]TỔNG!B$1:B$65536,'19C1-CNÔ5'!$A10) -> 19002208 | D10: =IF(COUNTIFS($D$6:D9,$D$3)<$F$3,$D$3,"") -> 19C1-CNÔ5 | E10: =INDEX([1]TỔNG!D$1:D$65536,'19C1-CNÔ5'!$A10) -> Nguyễn Văn Đẳng | F10: =INDEX([1]TỔNG!E$1:E$65536,'19C1-CNÔ5'!$A10) -> Nam | G10: =INDEX([1]TỔNG!F$1:F$65536,'19C1-CNÔ5'!$A10) -> Sinh viên | H10: =INDEX([1]TỔNG!G$1:G$65536,'19C1-CNÔ5'!$A10) -> 08/11/2001 | I10: =INDEX([1]TỔNG!H$1:H$65536,'19C1-CNÔ5'!$A10) -> 0395520039 | J10: =INDEX([1]TỔNG!I$1:I$65536,'19C1-CNÔ5'!$A10) -> 301784654 | K10: =INDEX([1]TỔNG!J$1:J$65536,'19C1-CNÔ5'!$A10) -> SV 479 8021940267 | L10: =INDEX([1]TỔNG!M$1:M$65536,'19C1-CNÔ5'!$A10) -> Kinh | M10: =INDEX([1]TỔNG!N$1:N$65536,'19C1-CNÔ5'!$A10) -> Việt Nam | N10: =INDEX([1]TỔNG!O$1:O$65536,'19C1-CNÔ5'!$A10) -> 0 | O10: =INDEX([1]TỔNG!P$1:P$65536,'19C1-CNÔ5'!$A10) -> Thị trấn Thạnh Hóa | P10: =INDEX([1]TỔNG!Q$1:Q$65536,'19C1-CNÔ5'!$A10) -> Huyện Thạnh Hoá | Q10: =INDEX([1]TỔNG!R$1:R$65536,'19C1-CNÔ5'!$A10) -> Long An | R10: =INDEX([1]TỔNG!S$1:S$65536,'19C1-CNÔ5'!$A10) -> 390 Hoàng Văn Thụ | S10: =INDEX([1]TỔNG!T$1:T$65536,'19C1-CNÔ5'!$A10) -> Phường 4 | T10: =INDEX([1]TỔNG!U$1:U$65536,'19C1-CNÔ5'!$A10) -> Quận Tân Bình
A11: =A10+MATCH(D11,OFFSET([1]TỔNG!$C$1,'19C1-CNÔ5'!A10,0,100),0) -> 3095 | B11: =B10+1 -> 5 | C11: =INDEX([1]TỔNG!B$1:B$65536,'19C1-CNÔ5'!$A11) -> 19002155 | D11: =IF(COUNTIFS($D$6:D10,$D$3)<$F$3,$D$3,"") -> 19C1-CNÔ5 | E11: =INDEX([1]TỔNG!D$1:D$65536,'19C1-CNÔ5'!$A11) -> Nguyễn Công Đoàn | F11: =INDEX([1]TỔNG!E$1:E$65536,'19C1-CNÔ5'!$A11) -> Nam | G11: =INDEX([1]TỔNG!F$1:F$65536,'19C1-CNÔ5'!$A11) -> Sinh viên | H11: =INDEX([1]TỔNG!G$1:G$65536,'19C1-CNÔ5'!$A11) -> 01/01/2001 | I11: =INDEX([1]TỔNG!H$1:H$65536,'19C1-CNÔ5'!$A11) -> 0966574399 | J11: =INDEX([1]TỔNG!I$1:I$65536,'19C1-CNÔ5'!$A11) -> 371953638 | K11: =INDEX([1]TỔNG!J$1:J$65536,'19C1-CNÔ5'!$A11) -> SV 479 9122211476 | L11: =INDEX([1]TỔNG!M$1:M$65536,'19C1-CNÔ5'!$A11) -> Kinh | M11: =INDEX([1]TỔNG!N$1:N$65536,'19C1-CNÔ5'!$A11) -> Việt Nam | N11: =INDEX([1]TỔNG!O$1:O$65536,'19C1-CNÔ5'!$A11) -> 0 | O11: =INDEX([1]TỔNG!P$1:P$65536,'19C1-CNÔ5'!$A11) -> Xã Thạnh Đông A | P11: =INDEX([1]TỔNG!Q$1:Q$65536,'19C1-CNÔ5'!$A11) -> Huyện Tân Hiệp | Q11: =INDEX([1]TỔNG!R$1:R$65536,'19C1-CNÔ5'!$A11) -> Kiên Giang | R11: =INDEX([1]TỔNG!S$1:S$65536,'19C1-CNÔ5'!$A11) -> 390 Hoàng Văn Thụ | S11: =INDEX([1]TỔNG!T$1:T$65536,'19C1-CNÔ5'!$A11) -> Phường 4 | T11: =INDEX([1]TỔNG!U$1:U$65536,'19C1-CNÔ5'!$A11) -> Quận Tân Bình
A12: =A11+MATCH(D12,OFFSET([1]TỔNG!$C$1,'19C1-CNÔ5'!A11,0,100),0) -> 3096 | B12: =B11+1 -> 6 | C12: =INDEX([1]TỔNG!B$1:B$65536,'19C1-CNÔ5'!$A12) -> 19002104 | D12: =IF(COUNTIFS($D$6:D11,$D$3)<$F$3,$D$3,"") -> 19C1-CNÔ5 | E12: =INDEX([1]TỔNG!D$1:D$65536,'19C1-CNÔ5'!$A12) -> Nguyễn Thái Dương | F12: =INDEX([1]TỔNG!E$1:E$65536,'19C1-CNÔ5'!$A12) -> Nam | G12: =INDEX([1]TỔNG!F$1:F$65536,'19C1-CNÔ5'!$A12) -> Sinh viên | H12: =INDEX([1]TỔNG!G$1:G$65536,'19C1-CNÔ5'!$A12) -> 02/03/2000 | I12: =INDEX([1]TỔNG!H$1:H$65536,'19C1-CNÔ5'!$A12) -> 0926703354 | J12: =INDEX([1]TỔNG!I$1:I$65536,'19C1-CNÔ5'!$A12) -> 261613333 | K12: =INDEX([1]TỔNG!J$1:J$65536,'19C1-CNÔ5'!$A12) -> 0 | L12: =INDEX([1]TỔNG!M$1:M$65536,'19C1-CNÔ5'!$A12) -> Kinh | M12: =INDEX([1]TỔNG!N$1:N$65536,'19C1-CNÔ5'!$A12) -> Việt Nam | N12: =INDEX([1]TỔNG!O$1:O$65536,'19C1-CNÔ5'!$A12) -> 0 | O12: =INDEX([1]TỔNG!P$1:P$65536,'19C1-CNÔ5'!$A12) -> Xã Hồng Liêm | P12: =INDEX([1]TỔNG!Q$1:Q$65536,'19C1-CNÔ5'!$A12) -> Huyện Hàm Thuận Bắc | Q12: =INDEX([1]TỔNG!R$1:R$65536,'19C1-CNÔ5'!$A12) -> Bình Thuận | R12: =INDEX([1]TỔNG!S$1:S$65536,'19C1-CNÔ5'!$A12) -> 390 Hoàng Văn Thụ | S12: =INDEX([1]TỔNG!T$1:T$65536,'19C1-CNÔ5'!$A12) -> Phường 4 | T12: =INDEX([1]TỔNG!U$1:U$65536,'19C1-CNÔ5'!$A12) -> Quận Tân Bình
A13: =A12+MATCH(D13,OFFSET([1]TỔNG!$C$1,'19C1-CNÔ5'!A12,0,100),0) -> 3097 | B13: =B12+1 -> 7 | C13: =INDEX([1]TỔNG!B$1:B$65536,'19C1-CNÔ5'!$A13) -> 19002148 | D13: =IF(COUNTIFS($D$6:D12,$D$3)<$F$3,$D$3,"") -> 19C1-CNÔ5 | E13: =INDEX([1]TỔNG!D$1:D$65536,'19C1-CNÔ5'!$A13) -> Nguyễn Minh Hiếu | F13: =INDEX([1]TỔNG!E$1:E$65536,'19C1-CNÔ5'!$A13) -> Nam | G13: =INDEX([1]TỔNG!F$1:F$65536,'19C1-CNÔ5'!$A13) -> Sinh viên | H13: =INDEX([1]TỔNG!G$1:G$65536,'19C1-CNÔ5'!$A13) -> 29/07/2001 | I13: =INDEX([1]TỔNG!H$1:H$65536,'19C1-CNÔ5'!$A13) -> 0938719409 | J13: =INDEX([1]TỔNG!I$1:I$65536,'19C1-CNÔ5'!$A13) -> 079201004351 | K13: =INDEX([1]TỔNG!J$1:J$65536,'19C1-CNÔ5'!$A13) -> 0 | L13: =INDEX([1]TỔNG!M$1:M$65536,'19C1-CNÔ5'!$A13) -> Kinh | M13: =INDEX([1]TỔNG!N$1:N$65536,'19C1-CNÔ5'!$A13) -> Việt Nam | N13: =INDEX([1]TỔNG!O$1:O$65536,'19C1-CNÔ5'!$A13) -> 0 | O13: =INDEX([1]TỔNG!P$1:P$65536,'19C1-CNÔ5'!$A13) -> Xã Phú Hòa Đông | P13: =INDEX([1]TỔNG!Q$1:Q$65536,'19C1-CNÔ5'!$A13) -> Huyện Củ Chi | Q13: =INDEX([1]TỔNG!R$1:R$65536,'19C1-CNÔ5'!$A13) -> Tp. Hồ Chí Minh | R13: =INDEX([1]TỔNG!S$1:S$65536,'19C1-CNÔ5'!$A13) -> 390 Hoàng Văn Thụ | S13: =INDEX([1]TỔNG!T$1:T$65536,'19C1-CNÔ5'!$A13) -> Phường 4 | T13: =INDEX([1]TỔNG!U$1:U$65536,'19C1-CNÔ5'!$A13) -> Quận Tân Bình
A14: =A13+MATCH(D14,OFFSET([1]TỔNG!$C$1,'19C1-CNÔ5'!A13,0,100),0) -> 3098 | B14: =B13+1 -> 8 | C14: =INDEX([1]TỔNG!B$1:B$65536,'19C1-CNÔ5'!$A14) -> 19002154 | D14: =IF(COUNTIFS($D$6:D13,$D$3)<$F$3,$D$3,"") -> 19C1-CNÔ5 | E14: =INDEX([1]TỔNG!D$1:D$65536,'19C1-CNÔ5'!$A14) -> Hồ Võ Hoàng | F14: =INDEX([1]TỔNG!E$1:E$65536,'19C1-CNÔ5'!$A14) -> Nam | G14: =INDEX([1]TỔNG!F$1:F$65536,'19C1-CNÔ5'!$A14) -> Sinh viên | H14: =INDEX([1]TỔNG!G$1:G$65536,'19C1-CNÔ5'!$A14) -> 28/01/2001 | I14: =INDEX([1]TỔNG!H$1:H$65536,'19C1-CNÔ5'!$A14) -> 0354060435 | J14: =INDEX([1]TỔNG!I$1:I$65536,'19C1-CNÔ5'!$A14) -> 215558089 | K14: =INDEX([1]TỔNG!J$1:J$65536,'19C1-CNÔ5'!$A14) -> SV 479 5221690995 | L14: =INDEX([1]TỔNG!M$1:M$65536,'19C1-CNÔ5'!$A14) -> Kinh | M14: =INDEX([1]TỔNG!N$1:N$65536,'19C1-CNÔ5'!$A14) -> Việt Nam | N14: =INDEX([1]TỔNG!O$1:O$65536,'19C1-CNÔ5'!$A14) -> 0 | O14: =INDEX([1]TỔNG!P$1:P$65536,'19C1-CNÔ5'!$A14) -> Xã Cát Chánh | P14: =INDEX([1]TỔNG!Q$1:Q$65536,'19C1-CNÔ5'!$A14) -> Huyện Phù Cát | Q14: =INDEX([1]TỔNG!R$1:R$65536,'19C1-CNÔ5'!$A14) -> Bình Định | R14: =INDEX([1]TỔNG!S$1:S$65536,'19C1-CNÔ5'!$A14) -> 390 Hoàng Văn Thụ | S14: =INDEX([1]TỔNG!T$1:T$65536,'19C1-CNÔ5'!$A14) -> Phường 4 | T14: =INDEX([1]TỔNG!U$1:U$65536,'19C1-CNÔ5'!$A14) -> Quận Tân Bình
A15: =A14+MATCH(D15,OFFSET([1]TỔNG!$C$1,'19C1-CNÔ5'!A14,0,100),0) -> 3099 | B15: =B14+1 -> 9 | C15: =INDEX([1]TỔNG!B$1:B$65536,'19C1-CNÔ5'!$A15) -> 19002173 | D15: =IF(COUNTIFS($D$6:D14,$D$3)<$F$3,$D$3,"") -> 19C1-CNÔ5 | E15: =INDEX([1]TỔNG!D$1:D$65536,'19C1-CNÔ5'!$A15) -> Nguyễn Văn Huy | F15: =INDEX([1]TỔNG!E$1:E$65536,'19C1-CNÔ5'!$A15) -> Nam | G15: =INDEX([1]TỔNG!F$1:F$65536,'19C1-CNÔ5'!$A15) -> Sinh viên | H15: =INDEX([1]TỔNG!G$1:G$65536,'19C1-CNÔ5'!$A15) -> 02/10/2001 | I15: =INDEX([1]TỔNG!H$1:H$65536,'19C1-CNÔ5'!$A15) -> 0355434455 | J15: =INDEX([1]TỔNG!I$1:I$65536,'19C1-CNÔ5'!$A15) -> 261564636 | K15: =INDEX([1]TỔNG!J$1:J$65536,'19C1-CNÔ5'!$A15) -> SV 479 6021071310 | L15: =INDEX([1]TỔNG!M$1:M$65536,'19C1-CNÔ5'!$A15) -> Kinh | M15: =INDEX([1]TỔNG!N$1:N$65536,'19C1-CNÔ5'!$A15) -> Việt Nam | N15: =INDEX([1]TỔNG!O$1:O$65536,'19C1-CNÔ5'!$A15) -> 0 | O15: =INDEX([1]TỔNG!P$1:P$65536,'19C1-CNÔ5'!$A15) -> Xã Đức Chính | P15: =INDEX([1]TỔNG!Q$1:Q$65536,'19C1-CNÔ5'!$A15) -> Huyện Đức Linh | Q15: =INDEX([1]TỔNG!R$1:R$65536,'19C1-CNÔ5'!$A15) -> Bình Thuận | R15: =INDEX([1]TỔNG!S$1:S$65536,'19C1-CNÔ5'!$A15) -> 390 Hoàng Văn Thụ | S15: =INDEX([1]TỔNG!T$1:T$65536,'19C1-CNÔ5'!$A15) -> Phường 4 | T15: =INDEX([1]TỔNG!U$1:U$65536,'19C1-CNÔ5'!$A15) -> Quận Tân Bình
A16: =A15+MATCH(D16,OFFSET([1]TỔNG!$C$1,'19C1-CNÔ5'!A15,0,100),0) -> 3100 | B16: =B15+1 -> 10 | C16: =INDEX([1]TỔNG!B$1:B$65536,'19C1-CNÔ5'!$A16) -> 19002166 | D16: =IF(COUNTIFS($D$6:D15,$D$3)<$F$3,$D$3,"") -> 19C1-CNÔ5 | E16: =INDEX([1]TỔNG!D$1:D$65536,'19C1-CNÔ5'!$A16) -> Phan Thanh Huy | F16: =INDEX([1]TỔNG!E$1:E$65536,'19C1-CNÔ5'!$A16) -> Nam | G16: =INDEX([1]TỔNG!F$1:F$65536,'19C1-CNÔ5'!$A16) -> Sinh viên | H16: =INDEX([1]TỔNG!G$1:G$65536,'19C1-CNÔ5'!$A16) -> 05/02/2001 | I16: =INDEX([1]TỔNG!H$1:H$65536,'19C1-CNÔ5'!$A16) -> 0782828351 | J16: =INDEX([1]TỔNG!I$1:I$65536,'19C1-CNÔ5'!$A16) -> 352562416 | K16: =INDEX([1]TỔNG!J$1:J$65536,'19C1-CNÔ5'!$A16) -> SV 479 8923844200 | L16: =INDEX([1]TỔNG!M$1:M$65536,'19C1-CNÔ5'!$A16) -> Kinh | M16: =INDEX([1]TỔNG!N$1:N$65536,'19C1-CNÔ5'!$A16) -> Việt Nam | N16: =INDEX([1]TỔNG!O$1:O$65536,'19C1-CNÔ5'!$A16) -> 0 | O16: =INDEX([1]TỔNG!P$1:P$65536,'19C1-CNÔ5'!$A16) -> Thị trấn An Phú | P16: =INDEX([1]TỔNG!Q$1:Q$65536,'19C1-CNÔ5'!$A16) -> Huyện An Phú | Q16: =INDEX([1]TỔNG!R$1:R$65536,'19C1-CNÔ5'!$A16) -> An Giang | R16: =INDEX([1]TỔNG!S$1:S$65536,'19C1-CNÔ5'!$A16) -> 390 Hoàng Văn Thụ | S16: =INDEX([1]TỔNG!T$1:T$65536,'19C1-CNÔ5'!$A16) -> Phường 4 | T16: =INDEX([1]TỔNG!U$1:U$65536,'19C1-CNÔ5'!$A16) -> Quận Tân Bình
A17: =A16+MATCH(D17,OFFSET([1]TỔNG!$C$1,'19C1-CNÔ5'!A16,0,100),0) -> 3101 | B17: =B16+1 -> 11 | C17: =INDEX([1]TỔNG!B$1:B$65536,'19C1-CNÔ5'!$A17) -> 19002160 | D17: =IF(COUNTIFS($D$6:D16,$D$3)<$F$3,$D$3,"") -> 19C1-CNÔ5 | E17: =INDEX([1]TỔNG!D$1:D$65536,'19C1-CNÔ5'!$A17) -> Đặng Hoàng Khang | F17: =INDEX([1]TỔNG!E$1:E$65536,'19C1-CNÔ5'!$A17) -> Nam | G17: =INDEX([1]TỔNG!F$1:F$65536,'19C1-CNÔ5'!$A17) -> Sinh viên | H17: =INDEX([1]TỔNG!G$1:G$65536,'19C1-CNÔ5'!$A17) -> 06/04/2001 | I17: =INDEX([1]TỔNG!H$1:H$65536,'19C1-CNÔ5'!$A17) -> 0833344654 | J17: =INDEX([1]TỔNG!I$1:I$65536,'19C1-CNÔ5'!$A17) -> 301783871 | K17: =INDEX([1]TỔNG!J$1:J$65536,'19C1-CNÔ5'!$A17) -> SV 479 8023395833 | L17: =INDEX([1]TỔNG!M$1:M$65536,'19C1-CNÔ5'!$A17) -> Kinh | M17: =INDEX([1]TỔNG!N$1:N$65536,'19C1-CNÔ5'!$A17) -> Việt Nam | N17: =INDEX([1]TỔNG!O$1:O$65536,'19C1-CNÔ5'!$A17) -> 0 | O17: =INDEX([1]TỔNG!P$1:P$65536,'19C1-CNÔ5'!$A17) -> Thị trấn Hậu Nghĩa | P17: =INDEX([1]TỔNG!Q$1:Q$65536,'19C1-CNÔ5'!$A17) -> Huyện Đức Hoà | Q17: =INDEX([1]TỔNG!R$1:R$65536,'19C1-CNÔ5'!$A17) -> Long An | R17: =INDEX([1]TỔNG!S$1:S$65536,'19C1-CNÔ5'!$A17) -> 390 Hoàng Văn Thụ | S17: =INDEX([1]TỔNG!T$1:T$65536,'19C1-CNÔ5'!$A17) -> Phường 4 | T17: =INDEX([1]TỔNG!U$1:U$65536,'19C1-CNÔ5'!$A17) -> Quận Tân Bình
A18: =A17+MATCH(D18,OFFSET([1]TỔNG!$C$1,'19C1-CNÔ5'!A17,0,100),0) -> 3102 | B18: =B17+1 -> 12 | C18: =INDEX([1]TỔNG!B$1:B$65536,'19C1-CNÔ5'!$A18) -> 19002106 | D18: =IF(COUNTIFS($D$6:D17,$D$3)<$F$3,$D$3,"") -> 19C1-CNÔ5 | E18: =INDEX([1]TỔNG!D$1:D$65536,'19C1-CNÔ5'!$A18) -> Bùi Mai Anh Khoa | F18: =INDEX([1]TỔNG!E$1:E$65536,'19C1-CNÔ5'!$A18) -> Nam | G18: =INDEX([1]TỔNG!F$1:F$65536,'19C1-CNÔ5'!$A18) -> Sinh viên | H18: =INDEX([1]TỔNG!G$1:G$65536,'19C1-CNÔ5'!$A18) -> 13/05/2000 | I18: =INDEX([1]TỔNG!H$1:H$65536,'19C1-CNÔ5'!$A18) -> 0346791906 | J18: =INDEX([1]TỔNG!I$1:I$65536,'19C1-CNÔ5'!$A18) -> 251246277 | K18: =INDEX([1]TỔNG!J$1:J$65536,'19C1-CNÔ5'!$A18) -> 0 | L18: =INDEX([1]TỔNG!M$1:M$65536,'19C1-CNÔ5'!$A18) -> Kinh | M18: =INDEX([1]TỔNG!N$1:N$65536,'19C1-CNÔ5'!$A18) -> Việt Nam | N18: =INDEX([1]TỔNG!O$1:O$65536,'19C1-CNÔ5'!$A18) -> 0 | O18: =INDEX([1]TỔNG!P$1:P$65536,'19C1-CNÔ5'!$A18) -> 0 | P18: =INDEX([1]TỔNG!Q$1:Q$65536,'19C1-CNÔ5'!$A18) -> 0 | Q18: =INDEX([1]TỔNG!R$1:R$65536,'19C1-CNÔ5'!$A18) -> 0 | R18: =INDEX([1]TỔNG!S$1:S$65536,'19C1-CNÔ5'!$A18) -> 390 Hoàng Văn Thụ | S18: =INDEX([1]TỔNG!T$1:T$65536,'19C1-CNÔ5'!$A18) -> Phường 4 | T18: =INDEX([1]TỔNG!U$1:U$65536,'19C1-CNÔ5'!$A18) -> Quận Tân Bình
A19: =A18+MATCH(D19,OFFSET([1]TỔNG!$C$1,'19C1-CNÔ5'!A18,0,100),0) -> 3103 | B19: =B18+1 -> 13 | C19: =INDEX([1]TỔNG!B$1:B$65536,'19C1-CNÔ5'!$A19) -> 19002101 | D19: =IF(COUNTIFS($D$6:D18,$D$3)<$F$3,$D$3,"") -> 19C1-CNÔ5 | E19: =INDEX([1]TỔNG!D$1:D$65536,'19C1-CNÔ5'!$A19) -> Đỗ Thanh Lễ | F19: =INDEX([1]TỔNG!E$1:E$65536,'19C1-CNÔ5'!$A19) -> Nam | G19: =INDEX([1]TỔNG!F$1:F$65536,'19C1-CNÔ5'!$A19) -> Sinh viên | H19: =INDEX([1]TỔNG!G$1:G$65536,'19C1-CNÔ5'!$A19) -> 21/11/2001 | I19: =INDEX([1]TỔNG!H$1:H$65536,'19C1-CNÔ5'!$A19) -> 0938252467 | J19: =INDEX([1]TỔNG!I$1:I$65536,'19C1-CNÔ5'!$A19) -> 060201000092 | K19: =INDEX([1]TỔNG!J$1:J$65536,'19C1-CNÔ5'!$A19) -> 0 | L19: =INDEX([1]TỔNG!M$1:M$65536,'19C1-CNÔ5'!$A19) -> Kinh | M19: =INDEX([1]TỔNG!N$1:N$65536,'19C1-CNÔ5'!$A19) -> Việt Nam | N19: =INDEX([1]TỔNG!O$1:O$65536,'19C1-CNÔ5'!$A19) -> 0 | O19: =INDEX([1]TỔNG!P$1:P$65536,'19C1-CNÔ5'!$A19) -> Phường 01 | P19: =INDEX([1]TỔNG!Q$1:Q$65536,'19C1-CNÔ5'!$A19) -> Quận 5 | Q19: =INDEX([1]TỔNG!R$1:R$65536,'19C1-CNÔ5'!$A19) -> Tp. Hồ Chí Minh | R19: =INDEX([1]TỔNG!S$1:S$65536,'19C1-CNÔ5'!$A19) -> 390 Hoàng Văn Thụ | S19: =INDEX([1]TỔNG!T$1:T$65536,'19C1-CNÔ5'!$A19) -> Phường 4 | T19: =INDEX([1]TỔNG!U$1:U$65536,'19C1-CNÔ5'!$A19) -> Quận Tân Bình
... A64: =A63+MATCH(D64,OFFSET([1]TỔNG!$C$1,'19C1-CNÔ5'!A63,0,100),0) -> 3148 | B64: =B63+1 -> 58 | C64: =INDEX([1]TỔNG!B$1:B$65536,'19C1-CNÔ5'!$A64) -> 19003808 | D64: =IF(COUNTIFS($D$6:D63,$D$3)<$F$3,$D$3,"") -> 19C1-CNÔ5 | E64: =INDEX([1]TỔNG!D$1:D$65536,'19C1-CNÔ5'!$A64) -> Lê Quang Vinh | F64: =INDEX([1]TỔNG!E$1:E$65536,'19C1-CNÔ5'!$A64) -> Nam | G64: =INDEX([1]TỔNG!F$1:F$65536,'19C1-CNÔ5'!$A64) -> Sinh viên | H64: =INDEX([1]TỔNG!G$1:G$65536,'19C1-CNÔ5'!$A64) -> 07/04/2001 | I64: =INDEX([1]TỔNG!H$1:H$65536,'19C1-CNÔ5'!$A64) -> 0396813025 | J64: =INDEX([1]TỔNG!I$1:I$65536,'19C1-CNÔ5'!$A64) -> 072201000576 | K64: =INDEX([1]TỔNG!J$1:J$65536,'19C1-CNÔ5'!$A64) -> SV 479 7222418463 | L64: =INDEX([1]TỔNG!M$1:M$65536,'19C1-CNÔ5'!$A64) -> Kinh | M64: =INDEX([1]TỔNG!N$1:N$65536,'19C1-CNÔ5'!$A64) -> Việt Nam | N64: =INDEX([1]TỔNG!O$1:O$65536,'19C1-CNÔ5'!$A64) -> 0 | O64: =INDEX([1]TỔNG!P$1:P$65536,'19C1-CNÔ5'!$A64) -> Thị trấn Gò Dầu | P64: =INDEX([1]TỔNG!Q$1:Q$65536,'19C1-CNÔ5'!$A64) -> Huyện Gò Dầu | Q64: =INDEX([1]TỔNG!R$1:R$65536,'19C1-CNÔ5'!$A64) -> Tây Ninh | R64: =INDEX([1]TỔNG!S$1:S$65536,'19C1-CNÔ5'!$A64) -> 390 Hoàng Văn Thụ | S64: =INDEX([1]TỔNG!T$1:T$65536,'19C1-CNÔ5'!$A64) -> Phường 4 | T64: =INDEX([1]TỔNG!U$1:U$65536,'19C1-CNÔ5'!$A64) -> Quận Tân Bình
