Workbook

Sheet 19C1-CNÔ8
A1: ỦY BAN NHÂN DÂN THÀNH PHỐ HỒ CHÍ MINH | L1: CỘNG HOÀ XÃ HỘI CHỦ NGHĨA VIỆT NAM
B2: TRƯỜNG CAO ĐẢNG LÝ TỰ TRỌNG THÀNH PHỐ HỒ CHÍ MINH | L2: Độc lập - Tự do - Hạnh phúc
C3: Lớp | D3: 19C1-CNÔ8 | E3: Số hàng | F3: =COUNTIFS([1]TỔNG!$C$2:$C$12467,'19C1-CNÔ8'!D3) -> 57
A4: MẪU THỐNG KÊ TÌNH HÌNH TIÊM VẮC XIN NGỪA COVID -19 CỦA HSSV
B6: Stt | C6: Mã HS-SV | D6: Tên lớp | E6: Họ và tên | F6: Giới tính | G6: Nghề nghiệp /vị trí công việc | H6: Ngày sinh/ Năm sinh | I6: Số điện thoại | J6: Số CMT/ CCCD | K6: Số thẻ BHYT | L6: Dân tộc | M6: Quốc tịch | N6: Số nhà/ Tổ | O6: Xã/ Phường | P6: Quận/ Huyện | Q6: Tỉnh/TP | R6: Địa chỉ làm việc (số nhà, đường) | S6: Phường xã làm việc | T6: Quận huyện làm việc | U6: Nhóm đối tượng | V6: Chưa tiêm | W6: Đã tiêm mũi 1 (Ghi rõ ngày tháng năm TIÊM) | X6: Đã tiêm mũi 2 (Ghi rõ ngày tháng năm TIÊM)
A7: =A6+MATCH(D7,OFFSET([1]TỔNG!$C$1,'19C1-CNÔ8'!A6,0,14000),0) -> 3261 | B7: 1 | C7: =INDEX([1]TỔNG!B$1:B$65536,'19C1-CNÔ8'!$A7) -> 19002577 | D7: =IF(COUNTIFS($D$6:D6,$D$3)<$F$3,$D$3,"") -> 19C1-CNÔ8 | E7: =INDEX([1]TỔNG!D$1:D$65536,'19C1-CNÔ8'!$A7) -> Châu Thế Anh | F7: =INDEX([1]TỔNG!E$1:E$65536,'19C1-CNÔ8'!$A7) -> Nam | G7: =INDEX([1]TỔNG!F$1:F$65536,'19C1-CNÔ8'!$A7) -> Sinh viên | H7: =INDEX([1]TỔNG!G$1:G$65536,'19C1-CNÔ8'!$A7) -> 13/04/2001 | I7: =INDEX([1]TỔNG!H$1:H$65536,'19C1-CNÔ8'!$A7) -> 0384091613 | J7: =INDEX([1]TỔNG!I$1:I$65536,'19C1-CNÔ8'!$A7) -> 335024138 | K7: =INDEX([1]TỔNG!J$1:J$65536,'19C1-CNÔ8'!$A7) -> SV 479 8421154057 | L7: =INDEX([1]TỔNG!M$1:M$65536,'19C1-CNÔ8'!$A7) -> Kinh | M7: =INDEX([1]TỔNG!N$1:N$65536,'19C1-CNÔ8'!$A7) -> Việt Nam | N7: =INDEX([1]TỔNG!O$1:O$65536,'19C1-CNÔ8'!$A7) -> 0 | O7: =INDEX([1]TỔNG!P$1:P$65536,'19C1-CNÔ8'!$A7) -> Thị trấn Càng Long | P7: =INDEX([1]TỔNG!Q$1:Q$65536,'19C1-CNÔ8'!$A7) -> Huyện Càng Long | Q7: =INDEX([1]TỔNG!R$1:R$65536,'19C1-CNÔ8'!$A7) -> Trà Vinh | R7: =INDEX([1]TỔNG!S$1:S$65536,'19C1-CNÔ8'!$A7) -> 390 Hoàng Văn Thụ | S7: =INDEX([1]TỔNG!T$1:T$65536,'19C1-CNÔ8'!$A7) -> Phường 4 | T7: =INDEX([1]TỔNG!U$1:U$65536,'19C1-CNÔ8'!$A7) -> Quận Tân Bình
A8: =A7+MATCH(D8,OFFSET([1]TỔNG!$C$1,'19C1-CNÔ8'!A7,0,100),0) -> 3262 | B8: =B7+1 -> 2 | C8: =INDEX([1]TỔNG!B$1:B$65536,'19C1-CNÔ8'!$A8) -> 19002489 | D8: =IF(COUNTIFS($D$6:D7,$D$3)<$F$3,$D$3,"") -> 19C1-CNÔ8 | E8: =INDEX([1]TỔNG!D$1:D$65536,'19C1-CNÔ8'!$A8) -> Trần Ngọc Châu | F8: =INDEX([1]TỔNG!E$1:E$65536,'19C1-CNÔ8'!$A8) -> Nam | G8: =INDEX([1]TỔNG!F$1:F$65536,'19C1-CNÔ8'!$A8) -> Sinh viên | H8: =INDEX([1]TỔNG!G$1:G$65536,'19C1-CNÔ8'!$A8) -> 02/08/2001 | I8: =INDEX([1]TỔNG!H$1:H$65536,'19C1-CNÔ8'!$A8) -> 0582539659 | J8: =INDEX([1]TỔNG!I$1:I$65536,'19C1-CNÔ8'!$A8) -> 074201000091 | K8: =INDEX([1]TỔNG!J$1:J$65536,'19C1-CNÔ8'!$A8) -> SV 479 7935013213 | L8: =INDEX([1]TỔNG!M$1:M$65536,'19C1-CNÔ8'!$A8) -> Kinh | M8: =INDEX([1]TỔNG!N$1:N$65536,'19C1-CNÔ8'!$A8) -> Việt Nam | N8: =INDEX([1]TỔNG!O$1:O$65536,'19C1-CNÔ8'!$A8) -> 0 | O8: =INDEX([1]TỔNG!P$1:P$65536,'19C1-CNÔ8'!$A8) -> Xã Hòa Phú | P8: =INDEX([1]TỔNG!Q$1:Q$65536,'19C1-CNÔ8'!$A8) -> Huyện Củ Chi | Q8: =INDEX([1]TỔNG!R$1:R$65536,'19C1-CNÔ8'!$A8) -> Tp. Hồ Chí Minh | R8: =INDEX([1]TỔNG!S$1:S$65536,'19C1-CNÔ8'!$A8) -> 390 Hoàng Văn Thụ | S8: =INDEX([1]TỔNG!T$1:T$65536,'19C1-CNÔ8'!$A8) -> Phường 4 | T8: =INDEX([1]TỔNG!U$1:U$65536,'19C1-CNÔ8'!$A8) -> Quận Tân Bình
A9: =A8+MATCH(D9,OFFSET([1]TỔNG!$C$1,'19C1-CNÔ8'!A8,0,100),0) -> 3263 | B9: =B8+1 -> 3 | C9: =INDEX([1]TỔNG!B$1:B$65536,'19C1-CNÔ8'!$A9) -> 19002539 | D9: =IF(COUNTIFS($D$6:D8,$D$3)<$F$3,$D$3,"") -> 19C1-CNÔ8 | E9: =INDEX([1]TỔNG!D$1:D$65536,'19C1-CNÔ8'!$A9) -> Trương Cao Đăng | F9: =INDEX([1]TỔNG!E$1:E$65536,'19C1-CNÔ8'!$A9) -> Nam | G9: =INDEX([1]TỔNG!F$1:F$65536,'19C1-CNÔ8'!$A9) -> Sinh viên | H9: =INDEX([1]TỔNG!G$1:G$65536,'19C1-CNÔ8'!$A9) -> 18/06/2001 | I9: =INDEX([1]TỔNG!H$1:H$65536,'19C1-CNÔ8'!$A9) -> 0785024751 | J9: =INDEX([1]TỔNG!I$1:I$65536,'19C1-CNÔ8'!$A9) -> 301753276 | K9: =INDEX([1]TỔNG!J$1:J$65536,'19C1-CNÔ8'!$A9) -> SV 479 8022814099 | L9: =INDEX([1]TỔNG!M$1:M$65536,'19C1-CNÔ8'!$A9) -> Kinh | M9: =INDEX([1]TỔNG!N$1:N$65536,'19C1-CNÔ8'!$A9) -> Việt Nam | N9: =INDEX([1]TỔNG!O$1:O$65536,'19C1-CNÔ8'!$A9) -> 0 | O9: =INDEX([1]TỔNG!P$1:P$65536,'19C1-CNÔ8'!$A9) -> Xã Phước Hậu | P9: =INDEX([1]TỔNG!Q$1:Q$65536,'19C1-CNÔ8'!$A9) -> Huyện Cần Giuộc | Q9: =INDEX([1]TỔNG!R$1:R$65536,'19C1-CNÔ8'!$A9) -> Long An | R9: =INDEX([1]TỔNG!S$1:S$65536,'19C1-CNÔ8'!$A9) -> 390 Hoàng Văn Thụ | S9: =INDEX([1]TỔNG!T$1:T$65536,'19C1-CNÔ8'!$A9) -> Phường 4 | T9: =INDEX([1]TỔNG!U$1:U$65536,'19C1-CNÔ8'!$A9) -> Quận Tân Bình
A10: =A9+MATCH(D10,OFFSET([1]TỔNG!$C$1,'19C1-CNÔ8'!A9,0,100),0) -> 3264 | B10: =B9+1 -> 4 | C10: =INDEX([1]TỔNG!B$1:B$65536,'19C1-CNÔ8'!$A10) -> 19002483 | D10: =IF(COUNTIFS($D$6:D9,$D$3)<$F$3,$D$3,"") -> 19C1-CNÔ8 | E10: =INDEX([1]TỔNG!D$1:D$65536,'19C1-CNÔ8'!$A10) -> Trương Hải Đăng | F10: =INDEX([1]TỔNG!E$1:E$65536,'19C1-CNÔ8'!$A10) -> Nam | G10: =INDEX([1]TỔNG!F$1:F$65536,'19C1-CNÔ8'!$A10) -> Sinh viên | H10: =INDEX([1]TỔNG!G$1:G$65536,'19C1-CNÔ8'!$A10) -> 24/10/2000 | I10: =INDEX([1]TỔNG!H$1:H$65536,'19C1-CNÔ8'!$A10) -> 0949587792 | J10: =INDEX([1]TỔNG!I$1:I$65536,'19C1-CNÔ8'!$A10) -> 301731756 | K10: =INDEX([1]TỔNG!J$1:J$65536,'19C1-CNÔ8'!$A10) -> SV 479 8022746962 | L10: =INDEX([1]TỔNG!M$1:M$65536,'19C1-CNÔ8'!$A10) -> Kinh | M10: =INDEX([1]TỔNG!N$1:N$65536,'19C1-CNÔ8'!$A10) -> Việt Nam | N10: =INDEX([1]TỔNG!O$1:O$65536,'19C1-CNÔ8'!$A10) -> 0 | O10: =INDEX([1]TỔNG!P$1:P$65536,'19C1-CNÔ8'!$A10) -> Xã Tân Lân | P10: =INDEX([1]TỔNG!Q$1:Q$65536,'19C1-CNÔ8'!$A10) -> Huyện Cần Đước | Q10: =INDEX([1]TỔNG!R$1:R$65536,'19C1-CNÔ8'!$A10) -> Long An | R10: =INDEX([1]TỔNG!S$1:S$65536,'19C1-CNÔ8'!$A10) -> 390 Hoàng Văn Thụ | S10: =INDEX([1]TỔNG!T$1:T$65536,'19C1-CNÔ8'!$A10) -> Phường 4 | T10: =INDEX([1]TỔNG!U$1:U$65536,'19C1-CNÔ8'!$A10) -> Quận Tân Bình
A11: =A10+MATCH(D11,OFFSET([1]TỔNG!$C$1,'19C1-CNÔ8'!A10,0,100),0) -> 3265 | B11: =B10+1 -> 5 | C11: =INDEX([1]TỔNG!B$1:B$65536,'19C1-CNÔ8'!$A11) -> 19005027 | D11: =IF(COUNTIFS($D$6:D10,$D$3)<$F$3,$D$3,"") -> 19C1-CNÔ8 | E11: =INDEX([1]TỔNG!D$1:D$65536,'19C1-CNÔ8'!$A11) -> Nguyễn Thanh Danh | F11: =INDEX([1]TỔNG!E$1:E$65536,'19C1-CNÔ8'!$A11) -> Nam | G11: =INDEX([1]TỔNG!F$1:F$65536,'19C1-CNÔ8'!$A11) -> Sinh viên | H11: =INDEX([1]TỔNG!G$1:G$65536,'19C1-CNÔ8'!$A11) -> 08/01/2000 | I11: =INDEX([1]TỔNG!H$1:H$65536,'19C1-CNÔ8'!$A11) -> 0366937638 | J11: =INDEX([1]TỔNG!I$1:I$65536,'19C1-CNÔ8'!$A11) -> 321725208 | K11: =INDEX([1]TỔNG!J$1:J$65536,'19C1-CNÔ8'!$A11) -> 0 | L11: =INDEX([1]TỔNG!M$1:M$65536,'19C1-CNÔ8'!$A11) -> Kinh | M11: =INDEX([1]TỔNG!N$1:N$65536,'19C1-CNÔ8'!$A11) -> Việt Nam | N11: =INDEX([1]TỔNG!O$1:O$65536,'19C1-CNÔ8'!$A11) -> 0 | O11: =INDEX([1]TỔNG!P$1:P$65536,'19C1-CNÔ8'!$A11) -> 0 | P11: =INDEX([1]TỔNG!Q$1:Q$65536,'19C1-CNÔ8'!$A11) -> 0 | Q11: =INDEX([1]TỔNG!R$1:R$65536,'19C1-CNÔ8'!$A11) -> 0 | R11: =INDEX([1]TỔNG!S$1:S$65536,'19C1-CNÔ8'!$A11) -> 390 Hoàng Văn Thụ | S11: =INDEX([1]TỔNG!T$1:T$65536,'19C1-CNÔ8'!$A11) -> Phường 4 | T11: =INDEX([1]TỔNG!U$1:U$65536,'19C1-CNÔ8'!$A11) -> Quận Tân Bình
A12: =A11+MATCH(D12,OFFSET([1]TỔNG!$C$1,'19C1-CNÔ8'!A11,0,100),0) -> 3266 | B12: =B11+1 -> 6 | C12: =INDEX([1]TỔNG!B$1:B$65536,'19C1-CNÔ8'!$A12) -> 19002512 | D12: =IF(COUNTIFS($D$6:D11,$D$3)<$F$3,$D$3,"") -> 19C1-CNÔ8 | E12: =INDEX([1]TỔNG!D$1:D$65536,'19C1-CNÔ8'!$A12) -> Lê Tuấn Đạt | F12: =INDEX([1]TỔNG!E$1:E$65536,'19C1-CNÔ8'!$A12) -> Nam | G12: =INDEX([1]TỔNG!F$1:F$65536,'19C1-CNÔ8'!$A12) -> Sinh viên | H12: =INDEX([1]TỔNG!G$1:G$65536,'19C1-CNÔ8'!$A12) -> 21/07/2001 | I12: =INDEX([1]TỔNG!H$1:H$65536,'19C1-CNÔ8'!$A12) -> 0866862107 | J12: =INDEX([1]TỔNG!I$1:I$65536,'19C1-CNÔ8'!$A12) -> 079201006759 | K12: =INDEX([1]TỔNG!J$1:J$65536,'19C1-CNÔ8'!$A12) -> SV 479 7935152568 | L12: =INDEX([1]TỔNG!M$1:M$65536,'19C1-CNÔ8'!$A12) -> Kinh | M12: =INDEX([1]TỔNG!N$1:N$65536,'19C1-CNÔ8'!$A12) -> Việt Nam | N12: =INDEX([1]TỔNG!O$1:O$65536,'19C1-CNÔ8'!$A12) -> 0 | O12: =INDEX([1]TỔNG!P$1:P$65536,'19C1-CNÔ8'!$A12) -> Xã An Nhơn Tây | P12: =INDEX([1]TỔNG!Q$1:Q$65536,'19C1-CNÔ8'!$A12) -> Huyện Củ Chi | Q12: =INDEX([1]TỔNG!R$1:R$65536,'19C1-CNÔ8'!$A12) -> Tp. Hồ Chí Minh | R12: =INDEX([1]TỔNG!S$1:S$65536,'19C1-CNÔ8'!$A12) -> 390 Hoàng Văn Thụ | S12: =INDEX([1]TỔNG!T$1:T$65536,'19C1-CNÔ8'!$A12) -> Phường 4 | T12: =INDEX([1]TỔNG!U$1:U$65536,'19C1-CNÔ8'!$A12) -> Quận Tân Bình
A13: =A12+MATCH(D13,OFFSET([1]TỔNG!$C$1,'19C1-CNÔ8'!A12,0,100),0) -> 3267 | B13: =B12+1 -> 7 | C13: =INDEX([1]TỔNG!B$1:B$65536,'19C1-CNÔ8'!$A13) -> 19004221 | D13: =IF(COUNTIFS($D$6:D12,$D$3)<$F$3,$D$3,"") -> 19C1-CNÔ8 | E13: =INDEX([1]TỔNG!D$1:D$65536,'19C1-CNÔ8'!$A13) -> Trịnh Công Điểm | F13: =INDEX([1]TỔNG!E$1:E$65536,'19C1-CNÔ8'!$A13) -> Nam | G13: =INDEX([1]TỔNG!F$1:F$65536,'19C1-CNÔ8'!$A13) -> Sinh viên | H13: =INDEX([1]TỔNG!G$1:G$65536,'19C1-CNÔ8'!$A13) -> 11/12/2001 | I13: =INDEX([1]TỔNG!H$1:H$65536,'19C1-CNÔ8'!$A13) -> 0329030590 | J13: =INDEX([1]TỔNG!I$1:I$65536,'19C1-CNÔ8'!$A13) -> 034201011291 | K13: =INDEX([1]TỔNG!J$1:J$65536,'19C1-CNÔ8'!$A13) -> SV 479 7937706511 | L13: =INDEX([1]TỔNG!M$1:M$65536,'19C1-CNÔ8'!$A13) -> Kinh | M13: =INDEX([1]TỔNG!N$1:N$65536,'19C1-CNÔ8'!$A13) -> Việt Nam | N13: =INDEX([1]TỔNG!O$1:O$65536,'19C1-CNÔ8'!$A13) -> 0 | O13: =INDEX([1]TỔNG!P$1:P$65536,'19C1-CNÔ8'!$A13) -> 0 | P13: =INDEX([1]TỔNG!Q$1:Q$65536,'19C1-CNÔ8'!$A13) -> 0 | Q13: =INDEX([1]TỔNG!R$1:R$65536,'19C1-CNÔ8'!$A13) -> 0 | R13: =INDEX([1]TỔNG!S$1:S$65536,'19C1-CNÔ8'!$A13) -> 390 Hoàng Văn Thụ | S13: =INDEX([1]TỔNG!T$1:T$65536,'19C1-CNÔ8'!$A13) -> Phường 4 | T13: =INDEX([1]TỔNG!U$1:U$65536,'19C1-CNÔ8'!$A13) -> Quận Tân Bình
A14: =A13+MATCH(D14,OFFSET([1]TỔNG!$C$1,'19C1-CNÔ8'!A13,0,100),0) -> 3268 | B14: =B13+1 -> 8 | C14: =INDEX([1]TỔNG!B$1:B$65536,'19C1-CNÔ8'!$A14) -> 19004992 | D14: =IF(COUNTIFS($D$6:D13,$D$3)<$F$3,$D$3,"") -> 19C1-CNÔ8 | E14: =INDEX([1]TỔNG!D$1:D$65536,'19C1-CNÔ8'!$A14) -> Đào Tạ Tường Duy | F14: =INDEX([1]TỔNG!E$1:E$65536,'19C1-CNÔ8'!$A14) -> Nam | G14: =INDEX([1]TỔNG!F$1:F$65536,'19C1-CNÔ8'!$A14) -> Sinh viên | H14: =INDEX([1]TỔNG!G$1:G$65536,'19C1-CNÔ8'!$A14) -> 13/12/1999 | I14: =INDEX([1]TỔNG!H$1:H$65536,'19C1-CNÔ8'!$A14) -> 0352001538 | J14: =INDEX([1]TỔNG!I$1:I$65536,'19C1-CNÔ8'!$A14) -> 026055138 | K14: =INDEX([1]TỔNG!J$1:J$65536,'19C1-CNÔ8'!$A14) -> 0 | L14: =INDEX([1]TỔNG!M$1:M$65536,'19C1-CNÔ8'!$A14) -> Kinh | M14: =INDEX([1]TỔNG!N$1:N$65536,'19C1-CNÔ8'!$A14) -> Việt Nam | N14: =INDEX([1]TỔNG!O$1:O$65536,'19C1-CNÔ8'!$A14) -> 0 | O14: =INDEX([1]TỔNG!P$1:P$65536,'19C1-CNÔ8'!$A14) -> 0 | P14: =INDEX([1]TỔNG!Q$1:Q$65536,'19C1-CNÔ8'!$A14) -> 0 | Q14: =INDEX([1]TỔNG!R$1:R$65536,'19C1-CNÔ8'!$A14) -> 0 | R14: =INDEX([1]TỔNG!S$1:S$65536,'19C1-CNÔ8'!$A14) -> 390 Hoàng Văn Thụ | S14: =INDEX([1]TỔNG!T$1:T$65536,'19C1-CNÔ8'!$A14) -> Phường 4 | T14: =INDEX([1]TỔNG!U$1:U$65536,'19C1-CNÔ8'!$A14) -> Quận Tân Bình
A15: =A14+MATCH(D15,OFFSET([1]TỔNG!$C$1,'19C1-CNÔ8'!A14,0,100),0) -> 3269 | B15: =B14+1 -> 9 | C15: =INDEX([1]TỔNG!B$1:B$65536,'19C1-CNÔ8'!$A15) -> 19002517 | D15: =IF(COUNTIFS($D$6:D14,$D$3)<$F$3,$D$3,"") -> 19C1-CNÔ8 | E15: =INDEX([1]TỔNG!D$1:D$65536,'19C1-CNÔ8'!$A15) -> Tăng Bảo Duy | F15: =INDEX([1]TỔNG!E$1:E$65536,'19C1-CNÔ8'!$A15) -> Nam | G15: =INDEX([1]TỔNG!F$1:F$65536,'19C1-CNÔ8'!$A15) -> Sinh viên | H15: =INDEX([1]TỔNG!G$1:G$65536,'19C1-CNÔ8'!$A15) -> 13/12/1999 | I15: =INDEX([1]TỔNG!H$1:H$65536,'19C1-CNÔ8'!$A15) -> 0932943723 | J15: =INDEX([1]TỔNG!I$1:I$65536,'19C1-CNÔ8'!$A15) -> 026015104 | K15: =INDEX([1]TỔNG!J$1:J$65536,'19C1-CNÔ8'!$A15) -> SV 479 7935228984 | L15: =INDEX([1]TỔNG!M$1:M$65536,'19C1-CNÔ8'!$A15) -> Kinh | M15: =INDEX([1]TỔNG!N$1:N$65536,'19C1-CNÔ8'!$A15) -> Việt Nam | N15: =INDEX([1]TỔNG!O$1:O$65536,'19C1-CNÔ8'!$A15) -> 0 | O15: =INDEX([1]TỔNG!P$1:P$65536,'19C1-CNÔ8'!$A15) -> Xã Tân Phú Trung | P15: =INDEX([1]TỔNG!Q$1:Q$65536,'19C1-CNÔ8'!$A15) -> Huyện Củ Chi | Q15: =INDEX([1]TỔNG!R$1:R$65536,'19C1-CNÔ8'!$A15) -> Tp. Hồ Chí Minh | R15: =INDEX([1]TỔNG!S$1:S$65536,'19C1-CNÔ8'!$A15) -> 390 Hoàng Văn Thụ | S15: =INDEX([1]TỔNG!T$1:T$65536,'19C1-CNÔ8'!$A15) -> Phường 4 | T15: =INDEX([1]TỔNG!U$1:U$65536,'19C1-CNÔ8'!$A15) -> Quận Tân Bình
A16: =A15+MATCH(D16,OFFSET([1]TỔNG!$C$1,'19C1-CNÔ8'!A15,0,100),0) -> 3270 | B16: =B15+1 -> 10 | C16: =INDEX([1]TỔNG!B$1:B$65536,'19C1-CNÔ8'!$A16) -> 19002496 | D16: =IF(COUNTIFS($D$6:D15,$D$3)<$F$3,$D$3,"") -> 19C1-CNÔ8 | E16: =INDEX([1]TỔNG!D$1:D$65536,'19C1-CNÔ8'!$A16) -> Đặng Ngọc Giang | F16: =INDEX([1]TỔNG!E$1:E$65536,'19C1-CNÔ8'!$A16) -> Nam | G16: =INDEX([1]TỔNG!F$1:F$65536,'19C1-CNÔ8'!$A16) -> Sinh viên | H16: =INDEX([1]TỔNG!G$1:G$65536,'19C1-CNÔ8'!$A16) -> 25/01/2001 | I16: =INDEX([1]TỔNG!H$1:H$65536,'19C1-CNÔ8'!$A16) -> 0706878017 | J16: =INDEX([1]TỔNG!I$1:I$65536,'19C1-CNÔ8'!$A16) -> 301773652 | K16: =INDEX([1]TỔNG!J$1:J$65536,'19C1-CNÔ8'!$A16) -> 0 | L16: =INDEX([1]TỔNG!M$1:M$65536,'19C1-CNÔ8'!$A16) -> Kinh | M16: =INDEX([1]TỔNG!N$1:N$65536,'19C1-CNÔ8'!$A16) -> Việt Nam | N16: =INDEX([1]TỔNG!O$1:O$65536,'19C1-CNÔ8'!$A16) -> 0 | O16: =INDEX([1]TỔNG!P$1:P$65536,'19C1-CNÔ8'!$A16) -> Xã Mỹ Lộc | P16: =INDEX([1]TỔNG!Q$1:Q$65536,'19C1-CNÔ8'!$A16) -> Huyện Cần Giuộc | Q16: =INDEX([1]TỔNG!R$1:R$65536,'19C1-CNÔ8'!$A16) -> Long An | R16: =INDEX([1]TỔNG!S$1:S$65536,'19C1-CNÔ8'!$A16) -> 390 Hoàng Văn Thụ | S16: =INDEX([1]TỔNG!T$1:T$65536,'19C1-CNÔ8'!$A16) -> Phường 4 | T16: =INDEX([1]TỔNG!U$1:U$65536,'19C1-CNÔ8'!$A16) -> Quận Tân Bình
A17: =A16+MATCH(D17,OFFSET([1]TỔNG!$C$1,'19C1-CNÔ8'!A16,0,100),0) -> 3271 | B17: =B16+1 -> 11 | C17: =INDEX([1]TỔNG!B$1:B$65536,'19C1-CNÔ8'!$A17) -> 19002579 | D17: =IF(COUNTIFS($D$6:D16,$D$3)<$F$3,$D$3,"") -> 19C1-CNÔ8 | E17: =INDEX([1]TỔNG!D$1:D$65536,'19C1-CNÔ8'!$A17) -> Dương Nguyễn Qúy Hải | F17: =INDEX([1]TỔNG!E$1:E$65536,'19C1-CNÔ8'!$A17) -> Nam | G17: =INDEX([1]TỔNG!F$1:F$65536,'19C1-CNÔ8'!$A17) -> Sinh viên | H17: =INDEX([1]TỔNG!G$1:G$65536,'19C1-CNÔ8'!$A17) -> 06/10/2001 | I17: =INDEX([1]TỔNG!H$1:H$65536,'19C1-CNÔ8'!$A17) -> 0975121151 | J17: =INDEX([1]TỔNG!I$1:I$65536,'19C1-CNÔ8'!$A17) -> 285773248 | K17: =INDEX([1]TỔNG!J$1:J$65536,'19C1-CNÔ8'!$A17) -> 0 | L17: =INDEX([1]TỔNG!M$1:M$65536,'19C1-CNÔ8'!$A17) -> Kinh | M17: =INDEX([1]TỔNG!N$1:N$65536,'19C1-CNÔ8'!$A17) -> Việt Nam | N17: =INDEX([1]TỔNG!O$1:O$65536,'19C1-CNÔ8'!$A17) -> 0 | O17: =INDEX([1]TỔNG!P$1:P$65536,'19C1-CNÔ8'!$A17) -> Thị trấn Phước Long | P17: =INDEX([1]TỔNG!Q$1:Q$65536,'19C1-CNÔ8'!$A17) -> Thị xã Phước Long | Q17: =INDEX([1]TỔNG!R$1:R$65536,'19C1-CNÔ8'!$A17) -> Bình Phước | R17: =INDEX([1]TỔNG!S$1:S$65536,'19C1-CNÔ8'!$A17) -> 390 Hoàng Văn Thụ | S17: =INDEX([1]TỔNG!T$1:T$65536,'19C1-CNÔ8'!$A17) -> Phường 4 | T17: =INDEX([1]TỔNG!U$1:U$65536,'19C1-CNÔ8'!$A17) -> Quận Tân Bình
A18: =A17+MATCH(D18,OFFSET([1]TỔNG!$C$1,'19C1-CNÔ8'!A17,0,100),0) -> 3272 | B18: =B17+1 -> 12 | C18: =INDEX([1]TỔNG!B$1:B$65536,'19C1-CNÔ8'!$A18) -> 19005300 | D18: =IF(COUNTIFS($D$6:D17,$D$3)<$F$3,$D$3,"") -> 19C1-CNÔ8 | E18: =INDEX([1]TỔNG!D$1:D$65536,'19C1-CNÔ8'!$A18) -> Đỗ Nguyễn Thái Hào | F18: =INDEX([1]TỔNG!E$1:E$65536,'19C1-CNÔ8'!$A18) -> Nam | G18: =INDEX([1]TỔNG!F$1:F$65536,'19C1-CNÔ8'!$A18) -> Sinh viên | H18: =INDEX([1]TỔNG!G$1:G$65536,'19C1-CNÔ8'!$A18) -> 14/09/1999 | I18: =INDEX([1]TỔNG!H$1:H$65536,'19C1-CNÔ8'!$A18) -> 0939187994 | J18: =INDEX([1]TỔNG!I$1:I$65536,'19C1-CNÔ8'!$A18) -> 079099003719 | K18: =INDEX([1]TỔNG!J$1:J$65536,'19C1-CNÔ8'!$A18) -> SV 479 7934007645 | L18: =INDEX([1]TỔNG!M$1:M$65536,'19C1-CNÔ8'!$A18) -> Kinh | M18: =INDEX([1]TỔNG!N$1:N$65536,'19C1-CNÔ8'!$A18) -> Việt Nam | N18: =INDEX([1]TỔNG!O$1:O$65536,'19C1-CNÔ8'!$A18) -> 0 | O18: =INDEX([1]TỔNG!P$1:P$65536,'19C1-CNÔ8'!$A18) -> 0 | P18: =INDEX([1]TỔNG!Q$1:Q$65536,'19C1-CNÔ8'!$A18) -> 0 | Q18: =INDEX([1]TỔNG!R$1:R$65536,'19C1-CNÔ8'!$A18) -> 0 | R18: =INDEX([1]TỔNG!S$1:S$65536,'19C1-CNÔ8'!$A18) -> 390 Hoàng Văn Thụ | S18: =INDEX([1]TỔNG!T$1:T$65536,'19C1-CNÔ8'!$A18) -> Phường 4 | T18: =INDEX([1]TỔNG!U$1:U$65536,'19C1-CNÔ8'!$A18) -> Quận Tân Bình
A19: =A18+MATCH(D19,OFFSET([1]TỔNG!$C$1,'19C1-CNÔ8'!A18,0,100),0) -> 3273 | B19: =B18+1 -> 13 | C19: =INDEX([1]TỔNG!B$1:B$65536,'19C1-CNÔ8'!$A19) -> 19002497 | D19: =IF(COUNTIFS($D$6:D18,$D$3)<$F$3,$D$3,"") -> 19C1-CNÔ8 | E19: =INDEX([1]TỔNG!D$1:D$65536,'19C1-CNÔ8'!$A19) -> Trần Nhân Hiệp | F19: =INDEX([1]TỔNG!E$1:E$65536,'19C1-CNÔ8'!$A19) -> Nam | G19: =INDEX([1]TỔNG!F$1:F$65536,'19C1-CNÔ8'!$A19) -> Sinh viên | H19: =INDEX([1]TỔNG!G$1:G$65536,'19C1-CNÔ8'!$A19) -> 26/04/2001 | I19: =INDEX([1]TỔNG!H$1:H$65536,'19C1-CNÔ8'!$A19) -> 0329056401 | J19: =INDEX([1]TỔNG!I$1:I$65536,'19C1-CNÔ8'!$A19) -> 233295530 | K19: =INDEX([1]TỔNG!J$1:J$65536,'19C1-CNÔ8'!$A19) -> 0 | L19: =INDEX([1]TỔNG!M$1:M$65536,'19C1-CNÔ8'!$A19) -> Kinh | M19: =INDEX([1]TỔNG!N$1:N$65536,'19C1-CNÔ8'!$A19) -> Việt Nam | N19: =INDEX([1]TỔNG!O$1:O$65536,'19C1-CNÔ8'!$A19) -> 0 | O19: =INDEX([1]TỔNG!P$1:P$65536,'19C1-CNÔ8'!$A19) -> Xã Kroong | P19: =INDEX([1]TỔNG!Q$1:Q$65536,'19C1-CNÔ8'!$A19) -> Thành phố Kon Tum | Q19: =INDEX([1]TỔNG!R$1:R$65536,'19C1-CNÔ8'!$A19) -> Kon Tum | R19: =INDEX([1]TỔNG!S$1:S$65536,'19C1-CNÔ8'!$A19) -> 390 Hoàng Văn Thụ | S19: =INDEX([1]TỔNG!T$1:T$65536,'19C1-CNÔ8'!$A19) -> Phường 4 | T19: =INDEX([1]TỔNG!U$1:U$65536,'19C1-CNÔ8'!$A19) -> Quận Tân Bình
... A63: =A62+MATCH(D63,OFFSET([1]TỔNG!$C$1,'19C1-CNÔ8'!A62,0,100),0) -> 3317 | B63: =B62+1 -> 57 | C63: =INDEX([1]TỔNG!B$1:B$65536,'19C1-CNÔ8'!$A63) -> 19005204 | D63: =IF(COUNTIFS($D$6:D62,$D$3)<$F$3,$D$3,"") -> 19C1-CNÔ8 | E63: =INDEX([1]TỔNG!D$1:D$65536,'19C1-CNÔ8'!$A63) -> Nguyễn Bá Vượng | F63: =INDEX([1]TỔNG!E$1:E$65536,'19C1-CNÔ8'!$A63) -> Nam | G63: =INDEX([1]TỔNG!F$1:F$65536,'19C1-CNÔ8'!$A63) -> Sinh viên | H63: =INDEX([1]TỔNG!G$1:G$65536,'19C1-CNÔ8'!$A63) -> 02/08/1999 | I63: =INDEX([1]TỔNG!H$1:H$65536,'19C1-CNÔ8'!$A63) -> 0338230711 | J63: =INDEX([1]TỔNG!I$1:I$65536,'19C1-CNÔ8'!$A63) -> 245348856 | K63: =INDEX([1]TỔNG!J$1:J$65536,'19C1-CNÔ8'!$A63) -> 0 | L63: =INDEX([1]TỔNG!M$1:M$65536,'19C1-CNÔ8'!$A63) -> Tày | M63: =INDEX([1]TỔNG!N$1:N$65536,'19C1-CNÔ8'!$A63) -> Việt Nam | N63: =INDEX([1]TỔNG!O$1:O$65536,'19C1-CNÔ8'!$A63) -> 0 | O63: =INDEX([1]TỔNG!P$1:P$65536,'19C1-CNÔ8'!$A63) -> 0 | P63: =INDEX([1]TỔNG!Q$1:Q$65536,'19C1-CNÔ8'!$A63) -> 0 | Q63: =INDEX([1]TỔNG!R$1:R$65536,'19C1-CNÔ8'!$A63) -> 0 | R63: =INDEX([1]TỔNG!S$1:S$65536,'19C1-CNÔ8'!$A63) -> 390 Hoàng Văn Thụ | S63: =INDEX([1]TỔNG!T$1:T$65536,'19C1-CNÔ8'!$A63) -> Phường 4 | T63: =INDEX([1]TỔNG!U$1:U$65536,'19C1-CNÔ8'!$A63) -> Quận Tân Bình
