Workbook

Sheet Câu trả lời biểu mẫu 1
A1: Mã sinh viên( Các em chỉ chọn mã SV được định trước) | B1: Họ và tên Sinh viên: | C1: Lớp( Ví dụ: 19C1-CNO1) | D1: Email(Sinh viên cần cung cấp chính xác để nhận bài, nên sử dụng email Trường cấp, VD: 19001676@lttc.edu.vn) | E1: Số điện thoại: | F1: Thắc mắc khác
A2: 19005285 | B2: Phạm Luân Đôn | C2: 19C1-CNL1 | D2: 19005285@lttc.edu.vn | E2: 0767171760
A3: 19002154 | B3: Hồ Võ Hoàng | C3: 19C1-CNÔ5 | D3: 19002154@LTTC.edu.vn | E3: 0354060435
A4: 19001341 | B4: Nguyễn Văn Tây | C4: 19C1-CNÔ1 | D4: 19001341@lttc.edu.vn | E4: 0964803511 | F4: Không
A5: 19001598 | B5: Nguyễn Văn Lộc | C5: 19C1-CNÔ2 | D5: 19001598@lttc.edu.vn | E5: 0326935748
A6: 19003907 | B6: Đỗ Thành Lương | C6: 19C1-KML2 | D6: 19003907@lttc.edu.vn | E6: 0989604513
A7: 19003065 | B7: Nguyễn Văn Kiên | C7: 19C1-KML1 | D7: 19003065@lttc.edu.vn | E7: 0367611226
A8: 19002931 | B8: Nguyễn Thành Kiện | C8: 19C1-VSL1 | D8: 19002931@lttc.edu.vn | E8: 0392570025
A9: 19003437 | B9: Phạm Minh Sơn | C9: 19C1-CNÔ3 | D9: 19003437@lttc.edu.vn | E9: 0917631372
A10: 19002192 | B10: Phạm Tùng Khoa | C10: 19C1-KML1 | D10: 19002192@lttc.edu.vn | E10: 0386503288
A11: 19003158 | B11: Đặng Tấn Hoàng | C11: 19C1-KML1 | D11: 19003158@lttc.edu.vn | E11: 0358325753
A12: 19002225 | B12: Nguyễn Đình An Khang | C12: 19C1-CNÔ6 | D12: 19002225@lttc.edu.vn | E12: 0395981911
A13: 19002329 | B13: Hồ Văn Nhân | C13: 19C1-CNÔ6 | D13: 19002329@lttc.edu.vn | E13: 0362594148
A14: 19002812 | B14: Nguyễn Võ Hoàng Khanh | C14: 19C1-KML1 | D14: 19002812@lttc.edu.vn | E14: 0333291202 | F14: Không
A15: 19002208 | B15: Nguyễn Văn Đẳng | C15: 19C1-CNÔ5 | D15: 19002208@LTTC.edu.vn | E15: 0395520039
A16: 19002453 | B16: Nguyễn Nhật Toàn | C16: 19C1-VSL1 | D16: 19002453@lttc.edu.vn | E16: 0901663572
A17: 19001973 | B17: Phạm Công Lý | C17: 19C1-CNÔ3 | D17: 19001973@LTTC.edu.vn | E17: 0869186242
A18: 19001836 | B18: Lê Minh Đạt | C18: 19C1-KML1 | D18: 19001836@LTTC.edu.vn | E18: 0356852533
A19: 19002273 | B19: Nguyễn Thanh Vũ Luân | C19: 19C1-CNÔ6 | D19: 19002273@LTTC.edu.vn | E19: 0333357649 | F19: không
A20: 19002089 | B20: Đinh Hoài Thanh | C20: 19C1-CNÔ4 | D20: 19002089@lttc.edu.vn | E20: 0372930753 | F20: Nếu sự cố gmail không sử dụng được thì phải làm sao ạ
A21: 17002625 | B21: Nguyễn Tiến Đạt | C21: 19C1-KML1 | D21: Tiendatnguyen0699@gmail.com | E21: 0973448597
A22: 19001794 | B22: Phan Văn Huy | C22: 19C1-CNÔ2 | D22: 19001794@lttc.edu.vn | E22: 0898497535 | F22: Không
A23: 19002760 | B23: Trần Quốc Kỳ | C23: 19C1-VSL1 | D23: 19002760@lttc.edu.vn | E23: 0389762338
A24: 19004411 | B24: Huỳnh Hữu Hiệu | C24: 19C1-CNÔ1 | D24: 19001676@lttc.edu.vn | E24: 0989419216
A25: 19004198 | B25: Phạm Hữu Nhật | C25: 19C1-CNÔ9 | D25: 19004198@lttc.edu.vn | E25: 0388548249 | F25: Không
A26: 19002285 | B26: Phạm Hồng Tú | C26: 19C1-CNÔ6 | D26: 19002285@LTTC.edu.vn | E26: 0346885992 | F26: Không
A27: 19003914 | B27: Huỳnh Trung Hiếu | C27: 19C1-CNÔ6 | D27: 19003914@lttc.edu.vn | E27: 0384796832

Sheet BẢNG ĐIỂM TỔNG HỢP
A4: DANH SÁCH SINH VIÊN THI LẠI
B5: Đợt: HK1 (2020 - 2021)
K6: Ngày thi: 13/05/2021
B7: Môn học phần: 0211002028 - Tin học | K7: Từ tiết: 1 - 3 | M7: Phòng:
A9: STT | B9: Mã sinh viên | C9: Họ đệm | D9: Tên | F9: Giới tính | G9: Ngày sinh | H9: Lớp học | I9: Số tờ | J9: Đề số | K9: Ký tên | L9: Điểm | N9: Ghi chú
L10: Số | M10: Chữ
A11: 1 | B11: 19002059 | C11: Trương Phúc Duy | D11: Anh | E11: =VLOOKUP(B11,'Câu trả lời biểu mẫu 1'!$A$2:$D$27,4,0) -> #N/A | F11: Nam | G11: 18/09/1998 | H11: 19C1-CNÔ4
A12: 2 | B12: 19004007 | C12: Võ Văn | D12: Cảnh | E12: =VLOOKUP(B12,'Câu trả lời biểu mẫu 1'!$A$2:$D$27,4,0) -> #N/A | F12: Nam | G12: 25/02/2001 | H12: 19C1-CNÔ6
A13: 3 | B13: 19002240 | C13: Nguyễn Đình | D13: Đán | E13: =VLOOKUP(B13,'Câu trả lời biểu mẫu 1'!$A$2:$D$27,4,0) -> #N/A | F13: Nam | G13: 14/03/2001 | H13: 19C1-CNÔ6
A14: 4 | B14: 19002208 | C14: Nguyễn Văn | D14: Đẳng | E14: =VLOOKUP(B14,'Câu trả lời biểu mẫu 1'!$A$2:$D$27,4,0) -> 19002208@LTTC.edu.vn | F14: Nam | G14: 08/11/2001 | H14: 19C1-CNÔ5
A15: 5 | B15: 19001836 | C15: Lê Minh | D15: Đạt | E15: =VLOOKUP(B15,'Câu trả lời biểu mẫu 1'!$A$2:$D$27,4,0) -> 19001836@LTTC.edu.vn | F15: Nam | G15: 13/10/1999 | H15: 19C1-KML1
A16: 6 | B16: 19003554 | C16: Nguyễn Lý Tấn | D16: Đạt | E16: =VLOOKUP(B16,'Câu trả lời biểu mẫu 1'!$A$2:$D$27,4,0) -> #N/A | F16: Nam | G16: 21/11/2000 | H16: 19C1-CNÔ2
A17: 7 | B17: 17002625 | C17: Nguyễn Tiến | D17: Đạt | E17: =VLOOKUP(B17,'Câu trả lời biểu mẫu 1'!$A$2:$D$27,4,0) -> Tiendatnguyen0699@gmail.com | F17: Nam | G17: 23/06/1999 | H17: 17C1-CCK5
A18: 8 | B18: 19005285 | C18: Phạm Luân | D18: Đôn | E18: =VLOOKUP(B18,'Câu trả lời biểu mẫu 1'!$A$2:$D$27,4,0) -> 19005285@lttc.edu.vn | F18: Nam | G18: 24/02/1998 | H18: 19C1-CNL1
A19: 9 | B19: 19003914 | C19: Huỳnh Trung | D19: Hiếu | E19: =VLOOKUP(B19,'Câu trả lời biểu mẫu 1'!$A$2:$D$27,4,0) -> 19003914@lttc.edu.vn | F19: Nam | G19: 13/11/2001 | H19: 19C1-CNÔ6
A20: 10 | B20: 19004411 | C20: Huỳnh Hữu | D20: Hiệu | E20: =VLOOKUP(B20,'Câu trả lời biểu mẫu 1'!$A$2:$D$27,4,0) -> 19001676@lttc.edu.vn | F20: Nam | G20: 20/11/2001 | H20: 19C1-CNÔ1
A21: 11 | B21: 19003158 | C21: Đặng Tấn | D21: Hoàng | E21: =VLOOKUP(B21,'Câu trả lời biểu mẫu 1'!$A$2:$D$27,4,0) -> 19003158@lttc.edu.vn | F21: Nam | G21: 08/01/2001 | H21: 19C1-KML1
A22: 12 | B22: 19002154 | C22: Hồ Võ | D22: Hoàng | E22: =VLOOKUP(B22,'Câu trả lời biểu mẫu 1'!$A$2:$D$27,4,0) -> 19002154@LTTC.edu.vn | F22: Nam | G22: 28/01/2001 | H22: 19C1-CNÔ5
... A47: 37 | B47: 19001283 | C47: Phạm Văn | D47: Vũ | E47: =VLOOKUP(B47,'Câu trả lời biểu mẫu 1'!$A$2:$D$27,4,0) -> #N/A | F47: Nam | G47: 07/02/1996 | H47: 19C1-CNÔ1
A49: Ghi chú:
B50: Danh sách gồm 37 sinh viên. | J50: Có …… bài kiểm tra.
B51: Số dự kiểm tra là …... sinh viên. | J51: Số tờ …….
B52: Số vắng kiểm tra là …... sinh viên.
B55: Cán bộ chấm thi 1 | K55: Cán bộ chấm thi 2
B56: (Ký và ghi rõ họ tên) | K56: (Ký và ghi rõ họ tên)
B60: ……………………………. | K60: …………………………….
K62: , ngày …… tháng …… năm 20……
K63: Trưởng khoa
K64: (Ký và ghi rõ họ tên)
K68: …………………………….

Sheet Sheet1
A1: STT | B1: Mã sinh viên | C1: Họ đệm | D1: Tên | E1: Giới tính | F1: Ngày sinh | G1: Lớp học | H1: EMAIL
A2: 1 | B2: 19002059 | C2: Trương Phúc Duy | D2: Anh | E2: Nam | F2: 18/09/1998 | G2: 19C1-CNÔ4 | H2: Chưa xác nhận
A3: 2 | B3: 19004007 | C3: Võ Văn | D3: Cảnh | E3: Nam | F3: 25/02/2001 | G3: 19C1-CNÔ6 | H3: Chưa xác nhận
A4: 3 | B4: 19002240 | C4: Nguyễn Đình | D4: Đán | E4: Nam | F4: 14/03/2001 | G4: 19C1-CNÔ6 | H4: Chưa xác nhận
A5: 4 | B5: 19003554 | C5: Nguyễn Lý Tấn | D5: Đạt | E5: Nam | F5: 21/11/2000 | G5: 19C1-CNÔ2 | H5: Chưa xác nhận
A6: 5 | B6: 19002111 | C6: Nguyễn Hữu | D6: Minh | E6: Nam | F6: 04/10/2001 | G6: 19C1-CNÔ5 | H6: Chưa xác nhận
A7: 6 | B7: 19004157 | C7: Lăng Văn | D7: Nhựt | E7: Nam | F7: 20/01/2001 | G7: 19C1-LĐL1 | H7: Chưa xác nhận
A8: 7 | B8: 19002500 | C8: Lê Minh | D8: Phố | E8: Nam | F8: 29/09/1999 | G8: 19C1-KML1 | H8: Chưa xác nhận
A9: 8 | B9: 19003180 | C9: Đoàn Hoàng | D9: Phú | E9: Nam | F9: 01/02/2000 | G9: 19C1-KML1 | H9: Chưa xác nhận
A10: 9 | B10: 19000101 | C10: Nguyễn Công | D10: Thoại | E10: Nam | F10: 19/11/2000 | G10: 19C1-LĐL1 | H10: Chưa xác nhận
A11: 10 | B11: 19002020 | C11: Trương Sơn | D11: Tùng | E11: Nam | F11: 28/01/2001 | G11: 19C1-CNÔ4 | H11: Chưa xác nhận
A12: 11 | B12: 19001283 | C12: Phạm Văn | D12: Vũ | E12: Nam | F12: 07/02/1996 | G12: 19C1-CNÔ1 | H12: Chưa xác nhận

Sheet ĐÃ CÓ EMAIL-gửi bài
A4: DANH SÁCH SINH VIÊN THI LẠI
B5: Đợt: HK1 (2020 - 2021)
K6: Ngày thi: 13/05/2021
B7: Môn học phần: 0211002028 - Tin học | K7: Từ tiết: 1 - 3 | M7: Phòng:
A9: STT | B9: Mã sinh viên | C9: Họ đệm | D9: Tên | E9: Email | F9: Giới tính | G9: Ngày sinh | H9: Lớp học | I9: Số tờ | J9: Đề số | K9: Ký tên | L9: Điểm | N9: Ghi chú
L10: Số | M10: Chữ
A11: 1 | B11: 17002625 | C11: Nguyễn Tiến | D11: Đạt | E11: =VLOOKUP(B11,'Câu trả lời biểu mẫu 1'!$A$2:$D$27,4,0) -> Tiendatnguyen0699@gmail.com | F11: Nam | G11: 23/06/1999 | H11: 17C1-CCK5 | N11: C.LINH
A12: 2 | B12: 19005285 | C12: Phạm Luân | D12: Đôn | E12: =VLOOKUP(B12,'Câu trả lời biểu mẫu 1'!$A$2:$D$27,4,0) -> 19005285@lttc.edu.vn | F12: Nam | G12: 24/02/1998 | H12: 19C1-CNL1 | N12: C.LINH
A13: 3 | B13: 19001341 | C13: Nguyễn Văn | D13: Tây | E13: =VLOOKUP(B13,'Câu trả lời biểu mẫu 1'!$A$2:$D$27,4,0) -> 19001341@lttc.edu.vn | F13: Nam | G13: 05/10/2000 | H13: 19C1-CNÔ1 | N13: C.LINH
A14: 4 | B14: 19004411 | C14: Huỳnh Hữu | D14: Hiệu | E14: =VLOOKUP(B14,'Câu trả lời biểu mẫu 1'!$A$2:$D$27,4,0) -> 19001676@lttc.edu.vn | F14: Nam | G14: 20/11/2001 | H14: 19C1-CNÔ1 | N14: C.LINH
A15: 5 | B15: 19001598 | C15: Nguyễn Văn | D15: Lộc | E15: =VLOOKUP(B15,'Câu trả lời biểu mẫu 1'!$A$2:$D$27,4,0) -> 19001598@lttc.edu.vn | F15: Nam | G15: 14/12/1999 | H15: 19C1-CNÔ2 | N15: C.LINH
A16: 6 | B16: 19001794 | C16: Phan Văn | D16: Huy | E16: =VLOOKUP(B16,'Câu trả lời biểu mẫu 1'!$A$2:$D$27,4,0) -> 19001794@lttc.edu.vn | F16: Nam | G16: 22/12/2001 | H16: 19C1-CNÔ2 | N16: C.LINH
A17: 7 | B17: 19001973 | C17: Phạm Công | D17: Lý | E17: =VLOOKUP(B17,'Câu trả lời biểu mẫu 1'!$A$2:$D$27,4,0) -> 19001973@LTTC.edu.vn | F17: Nam | G17: 25/08/2000 | H17: 19C1-CNÔ3 | N17: C.LINH
A18: 8 | B18: 19003437 | C18: Phạm Minh | D18: Sơn | E18: =VLOOKUP(B18,'Câu trả lời biểu mẫu 1'!$A$2:$D$27,4,0) -> 19003437@lttc.edu.vn | F18: Nam | G18: 29/01/2001 | H18: 19C1-CNÔ3 | N18: C.LINH
A19: 9 | B19: 19002089 | C19: Đinh Hoài | D19: Thanh | E19: =VLOOKUP(B19,'Câu trả lời biểu mẫu 1'!$A$2:$D$27,4,0) -> 19002089@lttc.edu.vn | F19: Nam | G19: 18/05/2001 | H19: 19C1-CNÔ4 | N19: C.LINH
A20: 1 | B20: 19002154 | C20: Hồ Võ | D20: Hoàng | E20: =VLOOKUP(B20,'Câu trả lời biểu mẫu 1'!$A$2:$D$27,4,0) -> 19002154@LTTC.edu.vn | F20: Nam | G20: 28/01/2001 | H20: 19C1-CNÔ5 | N20: T.MINH
A21: 2 | B21: 19002208 | C21: Nguyễn Văn | D21: Đẳng | E21: =VLOOKUP(B21,'Câu trả lời biểu mẫu 1'!$A$2:$D$27,4,0) -> 19002208@LTTC.edu.vn | F21: Nam | G21: 08/11/2001 | H21: 19C1-CNÔ5 | N21: T.MINH
A22: 3 | B22: 19002225 | C22: Nguyễn Đình An | D22: Khang | E22: =VLOOKUP(B22,'Câu trả lời biểu mẫu 1'!$A$2:$D$27,4,0) -> 19002225@lttc.edu.vn | F22: Nam | G22: 14/12/2001 | H22: 19C1-CNÔ6 | N22: T.MINH
... A36: 9 | B36: 19002931 | C36: Nguyễn Thành | D36: Kiện | E36: =VLOOKUP(B36,'Câu trả lời biểu mẫu 1'!$A$2:$D$27,4,0) -> 19002931@lttc.edu.vn | F36: Nam | G36: 01/08/2001 | H36: 19C1-VSL1 | N36: T.DANH
A38: Ghi chú:
B39: Danh sách gồm 37 sinh viên. | J39: Có …… bài kiểm tra.
B40: Số dự kiểm tra là …... sinh viên. | J40: Số tờ …….
B41: Số vắng kiểm tra là …... sinh viên.
D43: a
B44: Cán bộ chấm thi 1 | K44: Cán bộ chấm thi 2
B45: (Ký và ghi rõ họ tên) | K45: (Ký và ghi rõ họ tên)
B49: ……………………………. | K49: …………………………….
K51: , ngày …… tháng …… năm 20……
K52: Trưởng khoa
K53: (Ký và ghi rõ họ tên)
K57: …………………………….
