Workbook

Sheet danh sách SV có thẻ OCB - lần 1
A2: DANH SÁCH TÀI KHOẢN OCB CỦA SINH VIÊN LỚP 20T4-ĐCN2 - CVHT: TRẦN NAM ANH - SĐT: 0934051615
A4: STT | B4: Họ và chữ lót | C4: Quốc | D4: Lớp | E4: Mã SV | F4: số điện thoại | G4: địa chỉ mail | H4: Chứng minh nhân dân/CCCD (nếu chưa có ghi "chưa có CMND") | I4: Số tài khoản ngân hàng OCB
A5: 1 | B5: Tạ Ngọc | C5: Bình | D5: 20T4-ĐCN2 | E5: 20001976 | F5: 0934844131 | G5: tangocthangbinh2005@gmail.com | H5: 079205017120 | I5: 16100030150001
A7: Lưu ý: các bạn còn lại chưa có tài khoản OCB đã chuyển cho Cô Hạnh làm thẻ, CVHT sẽ bổ sung sau cho PTCKT

Sheet Sheet1
A5: STT | B5: Mã HS-SV | C5: Họ đệm | D5: Tên | E5: Giới tính | F5: Ngày sinh | G5: Ngày nhập học | H5: Nơi sinh | I5: Hộ khẩu thường trú
A6: 1 | B6: 20003188 | C6: Phạm Lê Quốc | D6: Bình | E6: Nam | F6: 06/11/2005 | G6: 25/08/2020 | H6: Tp. Hồ Chí Minh | I6: 740 Lê Trọng Tấn khu phố 1, phường Bình Hưng Hòa , quận Bình Tân, TP.HCM
A7: 2 | B7: 20001976 | C7: Tạ Ngọc Thanh | D7: Bình | E7: Nam | F7: 16/07/2005 | G7: 44112 | H7: Tp. Hồ Chí Minh | I7: 111/2 Phạm Văn Hai, phường 3, quận Tân Bình, TP HCM
A8: 3 | B8: 20002163 | C8: Hồ Thành | D8: Đạt | E8: Nam | F8: 18/10/2005 | G8: 13/08/2020 | H8: Tp. Hồ Chí Minh | I8: 84/82 Nguyễn Thanh Tuyền, phường 2, quận Tân Bình, Tp.HCM
A9: 4 | B9: 20005846 | C9: Vũ Thành | D9: Đạt | E9: Nam | F9: 06/12/2005 | G9: 13/10/2020 | H9: Hải Phòng | I9: thôn Đốc Hành, xã Toàn Thắng, huyện Tiên Lãng, tỉnh Hải Phòng
A10: 5 | B10: 20001980 | C10: Nguyễn Trọng | D10: Đức | E10: Nam | F10: 07/12/2005 | G10: 44112 | H10: Tp. Hồ Chí Minh | I10: 237/33/85, Phạm Văn Chiêu, Phường 14, Quận Gò Vấp, TP.HCM
A11: 6 | B11: 20003227 | C11: Nguyễn Huỳnh Hiếu | D11: Dương | E11: Nam | F11: 30/10/2003 | G11: 25/08/2020 | H11: Tp. Hồ Chí Minh | I11: 65/2B Đông Lân Bà Điểm Hóc Môn
A12: 7 | B12: 20007587 | C12: Chiếng Hoàng | D12: Hà | E12: Nam | F12: 16/07/2005 | G12: 17/11/2020 | H12: Tp. Hồ Chí Minh | I12: 4/7A Nguyễn Cảnh, phường 4, quận Tân Bình, Thành phố Hồ Chí Minh
A13: 8 | B13: 20002366 | C13: Nguyễn Minh | D13: Hiếu | E13: Nam | F13: 29/05/2005 | G13: 15/08/2020 | H13: Vĩnh Long | I13: xã Hiếu Thuận, huyện Vũng Liêm, Vĩnh Long
A14: 9 | B14: 20003762 | C14: Chu Văn | D14: Hoàn | E14: Nam | F14: 13/11/2005 | G14: 31/08/2020 | H14: Nghệ An | I14: Xóm 6, xã Vĩnh Phong, huyện Diễn Châu, tỉnh Nghệ An
A15: 10 | B15: 20003473 | C15: Trần Huy | D15: Hoàng | E15: Nam | F15: 30/12/2004 | G15: 28/08/2020 | H15: Bình Định | I15: Khu phố Tân Thạnh 2, P.Hoài Bảo, TX Hòa Nhơn, Bình Định
A16: 11 | B16: 20005666 | C16: Mai Văn | D16: Hùng | E16: Nam | F16: 10/11/2004 | G16: 43840 | H16: Bình Định | I16: Thôn Đại Tín, xã Phước Lộc, huyện Tuy Phước, tỉnh Bình Định
A17: 12 | B17: 20000924 | C17: Trần Khánh | D17: Hưng | E17: Nam | F17: 29/12/2005 | G17: 20/07/2020 | H17: Tp. Hồ Chí Minh | I17: D4/6, ấp 4, xã Vĩnh Lộc A, huyện Bình Chánh, TP.HCM
A18: 13 | B18: 20002575 | C18: Bùi Quốc | D18: Huy | E18: Nam | F18: 13/02/2005 | G18: 18/08/2020 | H18: Nam Định | I18: 150 Liên khu 5-6, phường Bình Hưng Hòa B, quận Bình Tân, Tp.HCM
A19: 14 | B19: 20002379 | C19: Vũ Bảo | D19: Khang | E19: Nam | F19: 19/10/2005 | G19: 17/08/2020 | H19: Tp. Hồ Chí Minh | I19: 505/13 Nguyễn Kiệm, Phường 9, quận Phú Nhuận, Tp.HCM
A20: 15 | B20: 20003116 | C20: Vũ Đăng | D20: Khoa | E20: Nam | F20: 21/02/2005 | G20: 24/08/2020 | H20: Nam Định | I20: 66/2 Nguyễn Văn Quá, Tổ 17A, phường Đông Hưng Thuận, quận 12, Tp.HCM
A21: 16 | B21: 20006744 | C21: Võ Tấn | D21: Kiệt | E21: Nam | F21: 21/02/2003 | G21: 43872 | H21: Long An | I21: 74/B1 ấp Bình Thạnh I, xã Thuận Mỹ, huyện Châu Thành, tỉnh Long An
A22: 17 | B22: 20001151 | C22: Hồ Công | D22: Mão | E22: Nam | F22: 06/03/1999 | G22: 23/07/2020 | H22: Thừa Thiên -Huế | I22: Thôn 1, đội 2, Quảng Công, Quảng Điền, Thừa Thiên Huế
A23: 18 | B23: 20000414 | C23: Lê Võ Minh | D23: Mỹ | E23: Nam | F23: 06/09/2005 | G23: 43868 | H23: Tiền Giang | I23: xã An Hữu, huyện Cái Bè, tỉnh Tiền Giang
A24: 19 | B24: 20003359 | C24: Trần Đình | D24: Nhuận | E24: Nam | F24: 02/02/2005 | G24: 27/08/2020 | H24: Tiền Giang | I24: 382/3 ấp Thân Đạo, xã Thân Cửu Nghĩa, huyện Châu Thành, Tiền Giang
A25: 20 | B25: 20004513 | C25: Nguyễn Trí | D25: Phát | E25: Nam | F25: 30/05/2005 | G25: 43960 | H25: Tp. Hồ Chí Minh | I25: 468/27/15 Nguyễn Kiệm, phường 3, quận Phú Nhuận, Tp.HCM
A26: 21 | B26: 20001172 | C26: Phạm Văn | D26: Phát | E26: Nam | F26: 04/08/2005 | G26: 24/07/2020 | H26: Tp. Hồ Chí Minh | I26: 25/14 đường số 3A, khu phố 7, Phường Bình Hưng Hòa A, Quận Bình Tân, Tp.HCM
A27: 22 | B27: 20002100 | C27: Phạm Sỹ | D27: Phú | E27: Nam | F27: 06/09/2005 | G27: 44173 | H27: Tp. Hồ Chí Minh | I27: 76/25 Xóm Đất, phường 8, quận 11, Tp.HCM
A28: 23 | B28: 20005036 | C28: Nguyễn Lâm Hoàng | D28: Phúc | E28: Nam | F28: 05/01/1997 | G28: 44174 | H28: Tp. Hồ Chí Minh | I28: Cây Trâm, xã Phú Hòa Đông, huyện Củ Chi, Tp.HCM
A29: 24 | B29: 20003041 | C29: Trịnh Đình | D29: Phúc | E29: Nam | F29: 30/08/2005 | G29: 22/08/2020 | H29: Đồng Tháp | I29: 93 Nguyễn Chí Thanh, Phường 16, Quận 11, TP.HCM
A30: 25 | B30: 20001148 | C30: Trần Hữu | D30: Phước | E30: Nam | F30: 23/09/2005 | G30: 23/07/2020 | H30: Bình Thuận | I30: Hưng Long, Phan Thiết, Bình Thuận
A31: 26 | B31: 20001917 | C31: Nguyễn Hoàng Anh | D31: Quân | E31: Nam | F31: 08/11/2005 | G31: 44020 | H31: Tp. Hồ Chí Minh | I31: 962 Tự Cường, Phường 4, Quận Tân Bình, Tp.HCM
A32: 27 | B32: 20001837 | C32: Nguyễn Văn | D32: Quang | E32: Nam | F32: 03/01/2005 | G32: 43959 | H32: Hải Dương | I32: Đội 2, ấp Quảng Đạt, xã Ngũ Phúc, huyện Kim Thành, tỉnh Hải Dương
A33: 28 | B33: 20000607 | C33: Tạ Dương Trung | D33: Quốc | E33: Nam | F33: 23/06/2005 | G33: 44111 | H33: Tp. Hồ Chí Minh | I33: 69/3 Lê Sát, phường Tân Quý, quận Tân Phú, TP.HCM
A34: 29 | B34: 20005463 | C34: Phạm Quốc | D34: Thắng | E34: Nam | F34: 16/06/2004 | G34: 22/09/2020 | H34: Bình Thuận | I34: Thôn 3, Xã Tân Đức, Huyện Hàm Tân, Tỉnh Bình Thuận
A35: 30 | B35: 20003104 | C35: Trần Hữu | D35: Thắng | E35: Nam | F35: 15/08/2004 | G35: 24/08/2020 | H35: Cần Thơ | I35: 6/27 Bùi Thị Xuân, phường 2, quận Tân Bình, Tp.HCM
A36: 31 | B36: 20001519 | C36: Nguyễn Nhân | D36: Thành | E36: Nam | F36: 21/11/2005 | G36: 30/07/2020 | H36: Tp. Hồ Chí Minh | I36: 118/15 Huỳnh Thiện Lộc, phường Hòa Thạnh, quận Tân Phú, Tp.HCM
A37: 32 | B37: 20001726 | C37: Phồng Kim | D37: Thành | E37: Nam | F37: 27/11/2005 | G37: 43898 | H37: Tp. Hồ Chí Minh | I37: 60 đường 1C, phường Bình Hưng Hòa A, Quận Bình Tân,Tp HCM
A38: 33 | B38: 20003838 | C38: Nguyễn Đức | D38: Thịnh | E38: Nam | F38: 28/12/2001 | G38: 31/08/2020 | H38: Tp. Hồ Chí Minh | I38: 115/53 Lê Văn Sỹ P.13 Q.Phú Nhuận
A39: 34 | B39: 20001328 | C39: Nguyễn Văn | D39: Thịnh | E39: Nam | F39: 19/10/2005 | G39: 28/07/2020 | H39: Quảng Nam | I39: 3/60E Tân Thới Nhì 28, Ấp Nhị Tân, Xã Tân Thới Nhì, Huyện Hóc Môn, TP.HCM
A40: 35 | B40: 20001630 | C40: Nguyễn Hữu | D40: Tiên | E40: Nam | F40: 05/12/2005 | G40: 31/07/2020 | H40: Tp. Hồ Chí Minh | I40: 10/7/5 Thoại Ngọc Hầu, Phường Hòa Thạch , Quận Tân Phú, TpHCM
A41: 36 | B41: 20005197 | C41: Nguyễn Chí | D41: Toàn | E41: Nam | F41: 29/06/2003 | G41: 14/09/2020 | H41: Bình Định | I41: Xóm 3, thôn An Thường 2, xã Ân Thạnh, huyện Hoài Ân, tỉnh Bình Định
A42: 37 | B42: 20003144 | C42: Võ Hoàng Gia | D42: Trấn | E42: Nam | F42: 15/05/2003 | G42: 24/08/2020 | H42: Tp. Hồ Chí Minh | I42: 62/34 Phú Thọ Hòa, phường Phú Thọ Hòa, quận Tân Phú, Tp.HCM
A43: 38 | B43: 20002602 | C43: Trần Minh | D43: Trí | E43: Nam | F43: 24/02/2003 | G43: 18/08/2020 | H43: Tp. Hồ Chí Minh | I43: 1101 Tự Lập, Phường 4, Quận Tân Bình, Tp.HCM
A44: 39 | B44: 20006715 | C44: Nguyễn Minh | D44: Triết | E44: Nam | F44: 19/03/2002 | G44: 28/10/2020 | H44: Tp. Hồ Chí Minh | I44: 281/23/6 Lê Văn Sỹ, phường 1, quận Tân Bình, Tp.HCM
A45: 40 | B45: 20000640 | C45: Nguyễn Thành | D45: Trung | E45: Nam | F45: 09/01/2005 | G45: 13/07/2020 | H45: Tp. Hồ Chí Minh | I45: 85/42 Nguyễn Đình Chiểu, phường 4, quận Phú Nhuận, TP.HCM
A46: 41 | B46: 20004119 | C46: Trương Minh | D46: Trường | E46: Nam | F46: 01/06/2005 | G46: 43839 | H46: Tp. Hồ Chí Minh | I46: 52/45/34A đường số 8, KP8, Bình Hưng Hòa, quận Bình Tân, TP.HCM
A47: 42 | B47: 20004663 | C47: Huỳnh Phúc | D47: Vinh | E47: Nam | F47: 16/12/1991 | G47: 44021 | H47: Tp. Hồ Chí Minh | I47: Số 57 đường 438, ấp Phú Mỹ, xã Phú Hòa Đông, huyện Củ Chi, TP.HCM
A48: 43 | B48: 20004971 | C48: Dương Tiến | D48: Vỹ | E48: Nam | F48: 28/07/2005 | G48: 44144 | H48: Bình Thuận | I48: Nhà số 9, Đường 16, Tổ 1, Thôn 1, Xã Sùng Nhơn, Huyện Đức Linh, Tỉnh Bình Thuận

Sheet danh sách tiêm vacxin
K1: CỘNG HOÀ XÃ HỘI CHỦ NGHĨA VIỆT NAM
A2: TRƯỜNG CAO ĐẢNG LÝ TỰ TRỌNG THÀNH PHỐ HỒ CHÍ MINH | K2: Độc lập - Tự do - Hạnh phúc
B3: Lớp | C3: 20T4-ĐCN2 | D3: Số hàng | E3: =COUNTIFS([1]TỔNG!$C$2:$C$12467,'[1]20T4-ĐCN2'!D3) -> #VALUE!
A4: THỐNG KÊ TÌNH HÌNH TIÊM VẮC XIN NGỪA COVID -19 CỦA HSSV LỚP 20T4-ĐCN2 (CVHT: TRẦN NAM ANH)
A6: Stt | B6: Mã HS-SV | C6: Tên lớp | D6: Họ và tên | E6: Giới tính | F6: Nghề nghiệp /vị trí công việc | G6: Ngày sinh/ Năm sinh | H6: Số điện thoại | I6: Số CMT/ CCCD | J6: Số thẻ BHYT | K6: Dân tộc | L6: Quốc tịch | M6: Số nhà/ Tổ | N6: Xã/ Phường | O6: Quận/ Huyện | P6: Tỉnh/TP | Q6: Địa chỉ làm việc (số nhà, đường) | R6: Phường xã làm việc | S6: Quận huyện làm việc | T6: Nhóm đối tượng | U6: Chưa tiêm | V6: Đã tiêm mũi 1 (Ghi rõ ngày tháng năm TIÊM) | W6: Đã tiêm mũi 2 (Ghi rõ ngày tháng năm TIÊM) | X6: Ghi chí
A7: 1 | B7: =INDEX([1]TỔNG!B$1:B$65536,'[1]20T4-ĐCN2'!$A7) -> 20003188 | C7: 20T4-ĐCN2 | D7: =INDEX([1]TỔNG!D$1:D$65536,'[1]20T4-ĐCN2'!$A7) -> Phạm Lê Quốc Bình | E7: =INDEX([1]TỔNG!E$1:E$65536,'[1]20T4-ĐCN2'!$A7) -> Nam | F7: =INDEX([1]TỔNG!F$1:F$65536,'[1]20T4-ĐCN2'!$A7) -> Sinh viên | G7: =INDEX([1]TỔNG!G$1:G$65536,'[1]20T4-ĐCN2'!$A7) -> 06/11/2005 | H7: =INDEX([1]TỔNG!H$1:H$65536,'[1]20T4-ĐCN2'!$A7) -> 0917150841 | I7: Chưa có CMND | J7: =INDEX([1]TỔNG!J$1:J$65536,'[1]20T4-ĐCN2'!$A7) -> SV 479 7934379859 | K7: =INDEX([1]TỔNG!M$1:M$65536,'[1]20T4-ĐCN2'!$A7) -> Kinh | L7: =INDEX([1]TỔNG!N$1:N$65536,'[1]20T4-ĐCN2'!$A7) -> Việt Nam | M7: 740 Lê Trọng Tấn khu phố 1 | N7: phường Bình Hưng Hòa | O7: =INDEX([1]TỔNG!Q$1:Q$65536,'[1]20T4-ĐCN2'!$A7) -> Quận Bình Tân | P7: =INDEX([1]TỔNG!R$1:R$65536,'[1]20T4-ĐCN2'!$A7) -> Tp. Hồ Chí Minh | Q7: =INDEX([1]TỔNG!S$1:S$65536,'[1]20T4-ĐCN2'!$A7) -> 390 Hoàng Văn Thụ | R7: =INDEX([1]TỔNG!T$1:T$65536,'[1]20T4-ĐCN2'!$A7) -> Phường 4 | S7: =INDEX([1]TỔNG!U$1:U$65536,'[1]20T4-ĐCN2'!$A7) -> Quận Tân Bình | U7: X
A8: =A7+1 -> 2 | B8: =INDEX([1]TỔNG!B$1:B$65536,'[1]20T4-ĐCN2'!$A8) -> 20001976 | C8: 20T4-ĐCN2 | D8: =INDEX([1]TỔNG!D$1:D$65536,'[1]20T4-ĐCN2'!$A8) -> Tạ Ngọc Thanh Bình | E8: =INDEX([1]TỔNG!E$1:E$65536,'[1]20T4-ĐCN2'!$A8) -> Nam | F8: =INDEX([1]TỔNG!F$1:F$65536,'[1]20T4-ĐCN2'!$A8) -> Sinh viên | G8: =INDEX([1]TỔNG!G$1:G$65536,'[1]20T4-ĐCN2'!$A8) -> 16/07/2005 | H8: =INDEX([1]TỔNG!H$1:H$65536,'[1]20T4-ĐCN2'!$A8) -> 0908625162 | I8: =INDEX([1]TỔNG!I$1:I$65536,'[1]20T4-ĐCN2'!$A8) -> 079205017120 | J8: =INDEX([1]TỔNG!J$1:J$65536,'[1]20T4-ĐCN2'!$A8) -> SV 479 7931340327 | K8: =INDEX([1]TỔNG!M$1:M$65536,'[1]20T4-ĐCN2'!$A8) -> Kinh | L8: =INDEX([1]TỔNG!N$1:N$65536,'[1]20T4-ĐCN2'!$A8) -> Việt Nam | M8: 111/2 Phạm Văn Hai, | N8: =INDEX([1]TỔNG!P$1:P$65536,'[1]20T4-ĐCN2'!$A8) -> Phường 03 | O8: =INDEX([1]TỔNG!Q$1:Q$65536,'[1]20T4-ĐCN2'!$A8) -> Quận Tân Bình | P8: =INDEX([1]TỔNG!R$1:R$65536,'[1]20T4-ĐCN2'!$A8) -> Tp. Hồ Chí Minh | Q8: =INDEX([1]TỔNG!S$1:S$65536,'[1]20T4-ĐCN2'!$A8) -> 390 Hoàng Văn Thụ | R8: =INDEX([1]TỔNG!T$1:T$65536,'[1]20T4-ĐCN2'!$A8) -> Phường 4 | S8: =INDEX([1]TỔNG!U$1:U$65536,'[1]20T4-ĐCN2'!$A8) -> Quận Tân Bình | U8: X
A9: =A8+1 -> 3 | B9: =INDEX([1]TỔNG!B$1:B$65536,'[1]20T4-ĐCN2'!$A9) -> 20005846 | C9: 20T4-ĐCN2 | D9: =INDEX([1]TỔNG!D$1:D$65536,'[1]20T4-ĐCN2'!$A9) -> Vũ Thành Đạt | E9: =INDEX([1]TỔNG!E$1:E$65536,'[1]20T4-ĐCN2'!$A9) -> Nam | F9: =INDEX([1]TỔNG!F$1:F$65536,'[1]20T4-ĐCN2'!$A9) -> Sinh viên | G9: =INDEX([1]TỔNG!G$1:G$65536,'[1]20T4-ĐCN2'!$A9) -> 06/12/2005 | H9: =INDEX([1]TỔNG!H$1:H$65536,'[1]20T4-ĐCN2'!$A9) -> 0983134424 | I9: =INDEX([1]TỔNG!I$1:I$65536,'[1]20T4-ĐCN2'!$A9) -> 031205004735 | J9: =INDEX([1]TỔNG!J$1:J$65536,'[1]20T4-ĐCN2'!$A9) -> SV 479 3122484881 | K9: =INDEX([1]TỔNG!M$1:M$65536,'[1]20T4-ĐCN2'!$A9) -> Kinh | L9: =INDEX([1]TỔNG!N$1:N$65536,'[1]20T4-ĐCN2'!$A9) -> Việt Nam | M9: thôn Đốc Hành | N9: =INDEX([1]TỔNG!P$1:P$65536,'[1]20T4-ĐCN2'!$A9) -> Xã Toàn Thắng | O9: =INDEX([1]TỔNG!Q$1:Q$65536,'[1]20T4-ĐCN2'!$A9) -> Huyện Tiên Lãng | P9: =INDEX([1]TỔNG!R$1:R$65536,'[1]20T4-ĐCN2'!$A9) -> Hải Phòng | Q9: =INDEX([1]TỔNG!S$1:S$65536,'[1]20T4-ĐCN2'!$A9) -> 390 Hoàng Văn Thụ | R9: =INDEX([1]TỔNG!T$1:T$65536,'[1]20T4-ĐCN2'!$A9) -> Phường 4 | S9: =INDEX([1]TỔNG!U$1:U$65536,'[1]20T4-ĐCN2'!$A9) -> Quận Tân Bình | U9: X
A10: =A9+1 -> 4 | B10: =INDEX([1]TỔNG!B$1:B$65536,'[1]20T4-ĐCN2'!$A10) -> 20001980 | C10: 20T4-ĐCN2 | D10: =INDEX([1]TỔNG!D$1:D$65536,'[1]20T4-ĐCN2'!$A10) -> Nguyễn Trọng Đức | E10: =INDEX([1]TỔNG!E$1:E$65536,'[1]20T4-ĐCN2'!$A10) -> Nam | F10: =INDEX([1]TỔNG!F$1:F$65536,'[1]20T4-ĐCN2'!$A10) -> Sinh viên | G10: =INDEX([1]TỔNG!G$1:G$65536,'[1]20T4-ĐCN2'!$A10) -> 07/12/2005 | H10: =INDEX([1]TỔNG!H$1:H$65536,'[1]20T4-ĐCN2'!$A10) -> 0936953261 | I10: 75205000325 | J10: =INDEX([1]TỔNG!J$1:J$65536,'[1]20T4-ĐCN2'!$A10) -> SV 479 7938763894 | K10: =INDEX([1]TỔNG!M$1:M$65536,'[1]20T4-ĐCN2'!$A10) -> Kinh | L10: =INDEX([1]TỔNG!N$1:N$65536,'[1]20T4-ĐCN2'!$A10) -> Việt Nam | M10: 237/33/85, Phạm Văn Chiêu | N10: =INDEX([1]TỔNG!P$1:P$65536,'[1]20T4-ĐCN2'!$A10) -> Phường 14 | O10: =INDEX([1]TỔNG!Q$1:Q$65536,'[1]20T4-ĐCN2'!$A10) -> Quận Gò Vấp | P10: =INDEX([1]TỔNG!R$1:R$65536,'[1]20T4-ĐCN2'!$A10) -> Tp. Hồ Chí Minh | Q10: =INDEX([1]TỔNG!S$1:S$65536,'[1]20T4-ĐCN2'!$A10) -> 390 Hoàng Văn Thụ | R10: =INDEX([1]TỔNG!T$1:T$65536,'[1]20T4-ĐCN2'!$A10) -> Phường 4 | S10: =INDEX([1]TỔNG!U$1:U$65536,'[1]20T4-ĐCN2'!$A10) -> Quận Tân Bình | U10: X
A11: =A10+1 -> 5 | B11: =INDEX([1]TỔNG!B$1:B$65536,'[1]20T4-ĐCN2'!$A11) -> 20003227 | C11: 20T4-ĐCN2 | D11: =INDEX([1]TỔNG!D$1:D$65536,'[1]20T4-ĐCN2'!$A11) -> Nguyễn Huỳnh Hiếu Dương | E11: =INDEX([1]TỔNG!E$1:E$65536,'[1]20T4-ĐCN2'!$A11) -> Nam | F11: =INDEX([1]TỔNG!F$1:F$65536,'[1]20T4-ĐCN2'!$A11) -> Sinh viên | G11: =INDEX([1]TỔNG!G$1:G$65536,'[1]20T4-ĐCN2'!$A11) -> 30/10/2003 | H11: =INDEX([1]TỔNG!H$1:H$65536,'[1]20T4-ĐCN2'!$A11) -> 0903085136 | I11: =INDEX([1]TỔNG!I$1:I$65536,'[1]20T4-ĐCN2'!$A11) -> 079203040011 | J11: =INDEX([1]TỔNG!J$1:J$65536,'[1]20T4-ĐCN2'!$A11) -> SV 479 7935358675 | K11: =INDEX([1]TỔNG!M$1:M$65536,'[1]20T4-ĐCN2'!$A11) -> Tày | L11: =INDEX([1]TỔNG!N$1:N$65536,'[1]20T4-ĐCN2'!$A11) -> Việt Nam | M11: =INDEX([1]TỔNG!O$1:O$65536,'[1]20T4-ĐCN2'!$A11) -> 65/2B Đông Lân Bà Điểm Hóc Môn | N11: =INDEX([1]TỔNG!P$1:P$65536,'[1]20T4-ĐCN2'!$A11) -> Xã Bà Điểm | O11: =INDEX([1]TỔNG!Q$1:Q$65536,'[1]20T4-ĐCN2'!$A11) -> Huyện Hóc Môn | P11: =INDEX([1]TỔNG!R$1:R$65536,'[1]20T4-ĐCN2'!$A11) -> Tp. Hồ Chí Minh | Q11: =INDEX([1]TỔNG!S$1:S$65536,'[1]20T4-ĐCN2'!$A11) -> 390 Hoàng Văn Thụ | R11: =INDEX([1]TỔNG!T$1:T$65536,'[1]20T4-ĐCN2'!$A11) -> Phường 4 | S11: =INDEX([1]TỔNG!U$1:U$65536,'[1]20T4-ĐCN2'!$A11) -> Quận Tân Bình | X11: đã chuyển ngành sang khóa 21
A12: =A11+1 -> 6 | B12: =INDEX([1]TỔNG!B$1:B$65536,'[1]20T4-ĐCN2'!$A12) -> 20007587 | C12: 20T4-ĐCN2 | D12: =INDEX([1]TỔNG!D$1:D$65536,'[1]20T4-ĐCN2'!$A12) -> Chiếng Hoàng Hà | E12: =INDEX([1]TỔNG!E$1:E$65536,'[1]20T4-ĐCN2'!$A12) -> Nam | F12: =INDEX([1]TỔNG!F$1:F$65536,'[1]20T4-ĐCN2'!$A12) -> Sinh viên | G12: =INDEX([1]TỔNG!G$1:G$65536,'[1]20T4-ĐCN2'!$A12) -> 16/07/2005 | H12: =INDEX([1]TỔNG!H$1:H$65536,'[1]20T4-ĐCN2'!$A12) -> 0932617073 | I12: =INDEX([1]TỔNG!I$1:I$65536,'[1]20T4-ĐCN2'!$A12) -> 0 | J12: =INDEX([1]TỔNG!J$1:J$65536,'[1]20T4-ĐCN2'!$A12) -> SV 479 7930905984 | K12: =INDEX([1]TỔNG!M$1:M$65536,'[1]20T4-ĐCN2'!$A12) -> Kinh | L12: =INDEX([1]TỔNG!N$1:N$65536,'[1]20T4-ĐCN2'!$A12) -> Việt Nam | M12: =INDEX([1]TỔNG!O$1:O$65536,'[1]20T4-ĐCN2'!$A12) -> 0 | N12: =INDEX([1]TỔNG!P$1:P$65536,'[1]20T4-ĐCN2'!$A12) -> 0 | O12: =INDEX([1]TỔNG!Q$1:Q$65536,'[1]20T4-ĐCN2'!$A12) -> 0 | P12: =INDEX([1]TỔNG!R$1:R$65536,'[1]20T4-ĐCN2'!$A12) -> 0 | Q12: =INDEX([1]TỔNG!S$1:S$65536,'[1]20T4-ĐCN2'!$A12) -> 390 Hoàng Văn Thụ | R12: =INDEX([1]TỔNG!T$1:T$65536,'[1]20T4-ĐCN2'!$A12) -> Phường 4 | S12: =INDEX([1]TỔNG!U$1:U$65536,'[1]20T4-ĐCN2'!$A12) -> Quận Tân Bình | X12: đã chuyển ngành sang khóa 21
A13: =A12+1 -> 7 | B13: =INDEX([1]TỔNG!B$1:B$65536,'[1]20T4-ĐCN2'!$A13) -> 20002366 | C13: 20T4-ĐCN2 | D13: =INDEX([1]TỔNG!D$1:D$65536,'[1]20T4-ĐCN2'!$A13) -> Nguyễn Minh Hiếu | E13: =INDEX([1]TỔNG!E$1:E$65536,'[1]20T4-ĐCN2'!$A13) -> Nam | F13: =INDEX([1]TỔNG!F$1:F$65536,'[1]20T4-ĐCN2'!$A13) -> Sinh viên | G13: =INDEX([1]TỔNG!G$1:G$65536,'[1]20T4-ĐCN2'!$A13) -> 29/05/2005 | H13: =INDEX([1]TỔNG!H$1:H$65536,'[1]20T4-ĐCN2'!$A13) -> 0705001298 | I13: =INDEX([1]TỔNG!I$1:I$65536,'[1]20T4-ĐCN2'!$A13) -> 0 | J13: =INDEX([1]TỔNG!J$1:J$65536,'[1]20T4-ĐCN2'!$A13) -> SV 479 7937757750 | K13: =INDEX([1]TỔNG!M$1:M$65536,'[1]20T4-ĐCN2'!$A13) -> Kinh | L13: =INDEX([1]TỔNG!N$1:N$65536,'[1]20T4-ĐCN2'!$A13) -> Việt Nam | M13: =INDEX([1]TỔNG!O$1:O$65536,'[1]20T4-ĐCN2'!$A13) -> 0 | N13: =INDEX([1]TỔNG!P$1:P$65536,'[1]20T4-ĐCN2'!$A13) -> 0 | O13: =INDEX([1]TỔNG!Q$1:Q$65536,'[1]20T4-ĐCN2'!$A13) -> 0 | P13: =INDEX([1]TỔNG!R$1:R$65536,'[1]20T4-ĐCN2'!$A13) -> 0 | Q13: =INDEX([1]TỔNG!S$1:S$65536,'[1]20T4-ĐCN2'!$A13) -> 390 Hoàng Văn Thụ | R13: =INDEX([1]TỔNG!T$1:T$65536,'[1]20T4-ĐCN2'!$A13) -> Phường 4 | S13: =INDEX([1]TỔNG!U$1:U$65536,'[1]20T4-ĐCN2'!$A13) -> Quận Tân Bình | X13: đã nghỉ học
A14: =A13+1 -> 8 | B14: =INDEX([1]TỔNG!B$1:B$65536,'[1]20T4-ĐCN2'!$A14) -> 20003762 | C14: 20T4-ĐCN2 | D14: =INDEX([1]TỔNG!D$1:D$65536,'[1]20T4-ĐCN2'!$A14) -> Chu Văn Hoàn | E14: =INDEX([1]TỔNG!E$1:E$65536,'[1]20T4-ĐCN2'!$A14) -> Nam | F14: =INDEX([1]TỔNG!F$1:F$65536,'[1]20T4-ĐCN2'!$A14) -> Sinh viên | G14: =INDEX([1]TỔNG!G$1:G$65536,'[1]20T4-ĐCN2'!$A14) -> 13/11/2005 | H14: =INDEX([1]TỔNG!H$1:H$65536,'[1]20T4-ĐCN2'!$A14) -> 0917525082 | I14: =INDEX([1]TỔNG!I$1:I$65536,'[1]20T4-ĐCN2'!$A14) -> 188042722 | J14: =INDEX([1]TỔNG!J$1:J$65536,'[1]20T4-ĐCN2'!$A14) -> SV 479 4017975983 | K14: =INDEX([1]TỔNG!M$1:M$65536,'[1]20T4-ĐCN2'!$A14) -> Kinh | L14: =INDEX([1]TỔNG!N$1:N$65536,'[1]20T4-ĐCN2'!$A14) -> Việt Nam | M14: Xóm 6 | N14: xã Vĩnh Phong | O14: =INDEX([1]TỔNG!Q$1:Q$65536,'[1]20T4-ĐCN2'!$A14) -> Huyện Diễn Châu | P14: =INDEX([1]TỔNG!R$1:R$65536,'[1]20T4-ĐCN2'!$A14) -> Nghệ An | Q14: =INDEX([1]TỔNG!S$1:S$65536,'[1]20T4-ĐCN2'!$A14) -> 390 Hoàng Văn Thụ | R14: =INDEX([1]TỔNG!T$1:T$65536,'[1]20T4-ĐCN2'!$A14) -> Phường 4 | S14: =INDEX([1]TỔNG!U$1:U$65536,'[1]20T4-ĐCN2'!$A14) -> Quận Tân Bình | U14: X
A15: =A14+1 -> 9 | B15: =INDEX([1]TỔNG!B$1:B$65536,'[1]20T4-ĐCN2'!$A15) -> 20003473 | C15: 20T4-ĐCN2 | D15: =INDEX([1]TỔNG!D$1:D$65536,'[1]20T4-ĐCN2'!$A15) -> Trần Huy Hoàng | E15: =INDEX([1]TỔNG!E$1:E$65536,'[1]20T4-ĐCN2'!$A15) -> Nam | F15: =INDEX([1]TỔNG!F$1:F$65536,'[1]20T4-ĐCN2'!$A15) -> Sinh viên | G15: =INDEX([1]TỔNG!G$1:G$65536,'[1]20T4-ĐCN2'!$A15) -> 30/12/2004 | H15: =INDEX([1]TỔNG!H$1:H$65536,'[1]20T4-ĐCN2'!$A15) -> 0976202036 | I15: =INDEX([1]TỔNG!I$1:I$65536,'[1]20T4-ĐCN2'!$A15) -> 215624758 | J15: =INDEX([1]TỔNG!J$1:J$65536,'[1]20T4-ĐCN2'!$A15) -> SV 479 5220454533 | K15: =INDEX([1]TỔNG!M$1:M$65536,'[1]20T4-ĐCN2'!$A15) -> Kinh | L15: =INDEX([1]TỔNG!N$1:N$65536,'[1]20T4-ĐCN2'!$A15) -> Việt Nam | M15: Khu phố Tân Thạnh 2 | N15: =INDEX([1]TỔNG!P$1:P$65536,'[1]20T4-ĐCN2'!$A15) -> Xã Hoài Hảo | O15: =INDEX([1]TỔNG!Q$1:Q$65536,'[1]20T4-ĐCN2'!$A15) -> Huyện Hoài Nhơn | P15: =INDEX([1]TỔNG!R$1:R$65536,'[1]20T4-ĐCN2'!$A15) -> Bình Định | Q15: =INDEX([1]TỔNG!S$1:S$65536,'[1]20T4-ĐCN2'!$A15) -> 390 Hoàng Văn Thụ | R15: =INDEX([1]TỔNG!T$1:T$65536,'[1]20T4-ĐCN2'!$A15) -> Phường 4 | S15: =INDEX([1]TỔNG!U$1:U$65536,'[1]20T4-ĐCN2'!$A15) -> Quận Tân Bình | U15: X
A16: =A15+1 -> 10 | B16: =INDEX([1]TỔNG!B$1:B$65536,'[1]20T4-ĐCN2'!$A16) -> 20005666 | C16: 20T4-ĐCN2 | D16: =INDEX([1]TỔNG!D$1:D$65536,'[1]20T4-ĐCN2'!$A16) -> Mai Văn Hùng | E16: =INDEX([1]TỔNG!E$1:E$65536,'[1]20T4-ĐCN2'!$A16) -> Nam | F16: =INDEX([1]TỔNG!F$1:F$65536,'[1]20T4-ĐCN2'!$A16) -> Sinh viên | G16: =INDEX([1]TỔNG!G$1:G$65536,'[1]20T4-ĐCN2'!$A16) -> 10/11/2004 | H16: =INDEX([1]TỔNG!H$1:H$65536,'[1]20T4-ĐCN2'!$A16) -> 0795604001 | I16: =INDEX([1]TỔNG!I$1:I$65536,'[1]20T4-ĐCN2'!$A16) -> 215647059 | J16: =INDEX([1]TỔNG!J$1:J$65536,'[1]20T4-ĐCN2'!$A16) -> SV 479 5221326144 | K16: =INDEX([1]TỔNG!M$1:M$65536,'[1]20T4-ĐCN2'!$A16) -> Kinh | L16: =INDEX([1]TỔNG!N$1:N$65536,'[1]20T4-ĐCN2'!$A16) -> Việt Nam | M16: Thôn Đại Tín | N16: =INDEX([1]TỔNG!P$1:P$65536,'[1]20T4-ĐCN2'!$A16) -> Xã Phước Hiệp | O16: =INDEX([1]TỔNG!Q$1:Q$65536,'[1]20T4-ĐCN2'!$A16) -> Huyện Tuy Phước | P16: =INDEX([1]TỔNG!R$1:R$65536,'[1]20T4-ĐCN2'!$A16) -> Bình Định | Q16: =INDEX([1]TỔNG!S$1:S$65536,'[1]20T4-ĐCN2'!$A16) -> 390 Hoàng Văn Thụ | R16: =INDEX([1]TỔNG!T$1:T$65536,'[1]20T4-ĐCN2'!$A16) -> Phường 4 | S16: =INDEX([1]TỔNG!U$1:U$65536,'[1]20T4-ĐCN2'!$A16) -> Quận Tân Bình | U16: X
A17: =A16+1 -> 11 | B17: =INDEX([1]TỔNG!B$1:B$65536,'[1]20T4-ĐCN2'!$A17) -> 20000924 | C17: 20T4-ĐCN2 | D17: =INDEX([1]TỔNG!D$1:D$65536,'[1]20T4-ĐCN2'!$A17) -> Trần Khánh Hưng | E17: =INDEX([1]TỔNG!E$1:E$65536,'[1]20T4-ĐCN2'!$A17) -> Nam | F17: =INDEX([1]TỔNG!F$1:F$65536,'[1]20T4-ĐCN2'!$A17) -> Sinh viên | G17: =INDEX([1]TỔNG!G$1:G$65536,'[1]20T4-ĐCN2'!$A17) -> 29/12/2005 | H17: =INDEX([1]TỔNG!H$1:H$65536,'[1]20T4-ĐCN2'!$A17) -> 0909752225 | I17: Chưa có CMND | J17: =INDEX([1]TỔNG!J$1:J$65536,'[1]20T4-ĐCN2'!$A17) -> SV 479 7936690722 | K17: =INDEX([1]TỔNG!M$1:M$65536,'[1]20T4-ĐCN2'!$A17) -> Kinh | L17: =INDEX([1]TỔNG!N$1:N$65536,'[1]20T4-ĐCN2'!$A17) -> Việt Nam | M17: =INDEX([1]TỔNG!O$1:O$65536,'[1]20T4-ĐCN2'!$A17) -> D4/6 | N17: =INDEX([1]TỔNG!P$1:P$65536,'[1]20T4-ĐCN2'!$A17) -> Xã Vĩnh Lộc A | O17: =INDEX([1]TỔNG!Q$1:Q$65536,'[1]20T4-ĐCN2'!$A17) -> Huyện Bình Chánh | P17: =INDEX([1]TỔNG!R$1:R$65536,'[1]20T4-ĐCN2'!$A17) -> Tp. Hồ Chí Minh | Q17: =INDEX([1]TỔNG!S$1:S$65536,'[1]20T4-ĐCN2'!$A17) -> 390 Hoàng Văn Thụ | R17: =INDEX([1]TỔNG!T$1:T$65536,'[1]20T4-ĐCN2'!$A17) -> Phường 4 | S17: =INDEX([1]TỔNG!U$1:U$65536,'[1]20T4-ĐCN2'!$A17) -> Quận Tân Bình | U17: X
A18: =A17+1 -> 12 | B18: =INDEX([1]TỔNG!B$1:B$65536,'[1]20T4-ĐCN2'!$A18) -> 20002575 | C18: 20T4-ĐCN2 | D18: =INDEX([1]TỔNG!D$1:D$65536,'[1]20T4-ĐCN2'!$A18) -> Bùi Quốc Huy | E18: =INDEX([1]TỔNG!E$1:E$65536,'[1]20T4-ĐCN2'!$A18) -> Nam | F18: =INDEX([1]TỔNG!F$1:F$65536,'[1]20T4-ĐCN2'!$A18) -> Sinh viên | G18: =INDEX([1]TỔNG!G$1:G$65536,'[1]20T4-ĐCN2'!$A18) -> 13/02/2005 | H18: =INDEX([1]TỔNG!H$1:H$65536,'[1]20T4-ĐCN2'!$A18) -> 0903826186 | I18: 36205002796 | J18: =INDEX([1]TỔNG!J$1:J$65536,'[1]20T4-ĐCN2'!$A18) -> SV 479 7933971242 | K18: =INDEX([1]TỔNG!M$1:M$65536,'[1]20T4-ĐCN2'!$A18) -> Kinh | L18: =INDEX([1]TỔNG!N$1:N$65536,'[1]20T4-ĐCN2'!$A18) -> Việt Nam | M18: 150 Liên khu 5-6 | N18: phường Bình Hưng Hòa B | O18: quận Bình Tân | P18: Tp.HCM | Q18: =INDEX([1]TỔNG!S$1:S$65536,'[1]20T4-ĐCN2'!$A18) -> 390 Hoàng Văn Thụ | R18: =INDEX([1]TỔNG!T$1:T$65536,'[1]20T4-ĐCN2'!$A18) -> Phường 4 | S18: =INDEX([1]TỔNG!U$1:U$65536,'[1]20T4-ĐCN2'!$A18) -> Quận Tân Bình | U18: X
A19: =A18+1 -> 13 | B19: =INDEX([1]TỔNG!B$1:B$65536,'[1]20T4-ĐCN2'!$A19) -> 20002379 | C19: 20T4-ĐCN2 | D19: =INDEX([1]TỔNG!D$1:D$65536,'[1]20T4-ĐCN2'!$A19) -> Vũ Bảo Khang | E19: =INDEX([1]TỔNG!E$1:E$65536,'[1]20T4-ĐCN2'!$A19) -> Nam | F19: =INDEX([1]TỔNG!F$1:F$65536,'[1]20T4-ĐCN2'!$A19) -> Sinh viên | G19: =INDEX([1]TỔNG!G$1:G$65536,'[1]20T4-ĐCN2'!$A19) -> 19/10/2005 | H19: =INDEX([1]TỔNG!H$1:H$65536,'[1]20T4-ĐCN2'!$A19) -> 0909568354 | I19: =INDEX([1]TỔNG!I$1:I$65536,'[1]20T4-ĐCN2'!$A19) -> 058205000039 | J19: =INDEX([1]TỔNG!J$1:J$65536,'[1]20T4-ĐCN2'!$A19) -> SV 479 7939624825 | K19: =INDEX([1]TỔNG!M$1:M$65536,'[1]20T4-ĐCN2'!$A19) -> Kinh | L19: =INDEX([1]TỔNG!N$1:N$65536,'[1]20T4-ĐCN2'!$A19) -> Việt Nam | M19: =INDEX([1]TỔNG!O$1:O$65536,'[1]20T4-ĐCN2'!$A19) -> 4/7nguyễn cảnh dị phường 4 quậnn tân bình | N19: =INDEX([1]TỔNG!P$1:P$65536,'[1]20T4-ĐCN2'!$A19) -> Phường 09 | O19: =INDEX([1]TỔNG!Q$1:Q$65536,'[1]20T4-ĐCN2'!$A19) -> Quận Phú Nhuận | P19: =INDEX([1]TỔNG!R$1:R$65536,'[1]20T4-ĐCN2'!$A19) -> Tp. Hồ Chí Minh | Q19: =INDEX([1]TỔNG!S$1:S$65536,'[1]20T4-ĐCN2'!$A19) -> 390 Hoàng Văn Thụ | R19: =INDEX([1]TỔNG!T$1:T$65536,'[1]20T4-ĐCN2'!$A19) -> Phường 4 | S19: =INDEX([1]TỔNG!U$1:U$65536,'[1]20T4-ĐCN2'!$A19) -> Quận Tân Bình | U19: X
A20: =A19+1 -> 14 | B20: =INDEX([1]TỔNG!B$1:B$65536,'[1]20T4-ĐCN2'!$A20) -> 20003116 | C20: 20T4-ĐCN2 | D20: =INDEX([1]TỔNG!D$1:D$65536,'[1]20T4-ĐCN2'!$A20) -> Vũ Đăng Khoa | E20: =INDEX([1]TỔNG!E$1:E$65536,'[1]20T4-ĐCN2'!$A20) -> Nam | F20: =INDEX([1]TỔNG!F$1:F$65536,'[1]20T4-ĐCN2'!$A20) -> Sinh viên | G20: =INDEX([1]TỔNG!G$1:G$65536,'[1]20T4-ĐCN2'!$A20) -> 21/02/2005 | H20: =INDEX([1]TỔNG!H$1:H$65536,'[1]20T4-ĐCN2'!$A20) -> 0933433998 | I20: Chưa có CMND | J20: =INDEX([1]TỔNG!J$1:J$65536,'[1]20T4-ĐCN2'!$A20) -> SV 479 7928665300 | K20: =INDEX([1]TỔNG!M$1:M$65536,'[1]20T4-ĐCN2'!$A20) -> Kinh | L20: =INDEX([1]TỔNG!N$1:N$65536,'[1]20T4-ĐCN2'!$A20) -> Việt Nam | M20: 66/2 Nguyễn Văn Quá, Tổ 17A | N20: =INDEX([1]TỔNG!P$1:P$65536,'[1]20T4-ĐCN2'!$A20) -> Phường Đông Hưng Thuận | O20: =INDEX([1]TỔNG!Q$1:Q$65536,'[1]20T4-ĐCN2'!$A20) -> Quận 12 | P20: =INDEX([1]TỔNG!R$1:R$65536,'[1]20T4-ĐCN2'!$A20) -> Tp. Hồ Chí Minh | Q20: =INDEX([1]TỔNG!S$1:S$65536,'[1]20T4-ĐCN2'!$A20) -> 390 Hoàng Văn Thụ | R20: =INDEX([1]TỔNG!T$1:T$65536,'[1]20T4-ĐCN2'!$A20) -> Phường 4 | S20: =INDEX([1]TỔNG!U$1:U$65536,'[1]20T4-ĐCN2'!$A20) -> Quận Tân Bình | U20: X
A21: =A20+1 -> 15 | B21: =INDEX([1]TỔNG!B$1:B$65536,'[1]20T4-ĐCN2'!$A21) -> 20006744 | C21: 20T4-ĐCN2 | D21: =INDEX([1]TỔNG!D$1:D$65536,'[1]20T4-ĐCN2'!$A21) -> Võ Tấn Kiệt | E21: =INDEX([1]TỔNG!E$1:E$65536,'[1]20T4-ĐCN2'!$A21) -> Nam | F21: =INDEX([1]TỔNG!F$1:F$65536,'[1]20T4-ĐCN2'!$A21) -> Sinh viên | G21: =INDEX([1]TỔNG!G$1:G$65536,'[1]20T4-ĐCN2'!$A21) -> 21/02/2003 | H21: =INDEX([1]TỔNG!H$1:H$65536,'[1]20T4-ĐCN2'!$A21) -> 0975662238 | I21: =INDEX([1]TỔNG!I$1:I$65536,'[1]20T4-ĐCN2'!$A21) -> 301806615 | J21: =INDEX([1]TỔNG!J$1:J$65536,'[1]20T4-ĐCN2'!$A21) -> SV 479 8023238097 | K21: =INDEX([1]TỔNG!M$1:M$65536,'[1]20T4-ĐCN2'!$A21) -> Kinh | L21: =INDEX([1]TỔNG!N$1:N$65536,'[1]20T4-ĐCN2'!$A21) -> Việt Nam | M21: 74/B1 ấp Bình Thạnh I | N21: xã Thuận Mỹ | O21: huyện Châu Thành | P21: tỉnh Long An | Q21: =INDEX([1]TỔNG!S$1:S$65536,'[1]20T4-ĐCN2'!$A21) -> 390 Hoàng Văn Thụ | R21: =INDEX([1]TỔNG!T$1:T$65536,'[1]20T4-ĐCN2'!$A21) -> Phường 4 | S21: =INDEX([1]TỔNG!U$1:U$65536,'[1]20T4-ĐCN2'!$A21) -> Quận Tân Bình | U21: X
A22: =A21+1 -> 16 | B22: =INDEX([1]TỔNG!B$1:B$65536,'[1]20T4-ĐCN2'!$A22) -> 20001151 | C22: 20T4-ĐCN2 | D22: =INDEX([1]TỔNG!D$1:D$65536,'[1]20T4-ĐCN2'!$A22) -> Hồ Công Mão | E22: =INDEX([1]TỔNG!E$1:E$65536,'[1]20T4-ĐCN2'!$A22) -> Nam | F22: =INDEX([1]TỔNG!F$1:F$65536,'[1]20T4-ĐCN2'!$A22) -> Sinh viên | G22: =INDEX([1]TỔNG!G$1:G$65536,'[1]20T4-ĐCN2'!$A22) -> 06/03/1999 | H22: =INDEX([1]TỔNG!H$1:H$65536,'[1]20T4-ĐCN2'!$A22) -> 0367426234 | I22: =INDEX([1]TỔNG!I$1:I$65536,'[1]20T4-ĐCN2'!$A22) -> 191995507 | J22: =INDEX([1]TỔNG!J$1:J$65536,'[1]20T4-ĐCN2'!$A22) -> SV 479 4620509620 | K22: =INDEX([1]TỔNG!M$1:M$65536,'[1]20T4-ĐCN2'!$A22) -> Kinh | L22: =INDEX([1]TỔNG!N$1:N$65536,'[1]20T4-ĐCN2'!$A22) -> Việt Nam | M22: Thôn 1, đội 2 | N22: Quảng Công | O22: Quảng Điền | P22: Thừa Thiên Huế | Q22: =INDEX([1]TỔNG!S$1:S$65536,'[1]20T4-ĐCN2'!$A22) -> 390 Hoàng Văn Thụ | R22: =INDEX([1]TỔNG!T$1:T$65536,'[1]20T4-ĐCN2'!$A22) -> Phường 4 | S22: =INDEX([1]TỔNG!U$1:U$65536,'[1]20T4-ĐCN2'!$A22) -> Quận Tân Bình | U22: X
A23: =A22+1 -> 17 | B23: =INDEX([1]TỔNG!B$1:B$65536,'[1]20T4-ĐCN2'!$A23) -> 20000414 | C23: 20T4-ĐCN2 | D23: =INDEX([1]TỔNG!D$1:D$65536,'[1]20T4-ĐCN2'!$A23) -> Lê Võ Minh Mỹ | E23: =INDEX([1]TỔNG!E$1:E$65536,'[1]20T4-ĐCN2'!$A23) -> Nam | F23: =INDEX([1]TỔNG!F$1:F$65536,'[1]20T4-ĐCN2'!$A23) -> Sinh viên | G23: =INDEX([1]TỔNG!G$1:G$65536,'[1]20T4-ĐCN2'!$A23) -> 06/09/2005 | H23: =INDEX([1]TỔNG!H$1:H$65536,'[1]20T4-ĐCN2'!$A23) -> 0939672500 | I23: =INDEX([1]TỔNG!I$1:I$65536,'[1]20T4-ĐCN2'!$A23) -> 312610722 | J23: =INDEX([1]TỔNG!J$1:J$65536,'[1]20T4-ĐCN2'!$A23) -> SV 479 8222415370 | K23: =INDEX([1]TỔNG!M$1:M$65536,'[1]20T4-ĐCN2'!$A23) -> Kinh | L23: =INDEX([1]TỔNG!N$1:N$65536,'[1]20T4-ĐCN2'!$A23) -> Việt Nam | N23: =INDEX([1]TỔNG!P$1:P$65536,'[1]20T4-ĐCN2'!$A23) -> Xã An Hữu | O23: =INDEX([1]TỔNG!Q$1:Q$65536,'[1]20T4-ĐCN2'!$A23) -> Huyện Cái Bè | P23: =INDEX([1]TỔNG!R$1:R$65536,'[1]20T4-ĐCN2'!$A23) -> Tiền Giang | Q23: =INDEX([1]TỔNG!S$1:S$65536,'[1]20T4-ĐCN2'!$A23) -> 390 Hoàng Văn Thụ | R23: =INDEX([1]TỔNG!T$1:T$65536,'[1]20T4-ĐCN2'!$A23) -> Phường 4 | S23: =INDEX([1]TỔNG!U$1:U$65536,'[1]20T4-ĐCN2'!$A23) -> Quận Tân Bình | U23: X
A24: =A23+1 -> 18 | B24: =INDEX([1]TỔNG!B$1:B$65536,'[1]20T4-ĐCN2'!$A24) -> 20003359 | C24: 20T4-ĐCN2 | D24: =INDEX([1]TỔNG!D$1:D$65536,'[1]20T4-ĐCN2'!$A24) -> Trần Đình Nhuận | E24: =INDEX([1]TỔNG!E$1:E$65536,'[1]20T4-ĐCN2'!$A24) -> Nam | F24: =INDEX([1]TỔNG!F$1:F$65536,'[1]20T4-ĐCN2'!$A24) -> Sinh viên | G24: =INDEX([1]TỔNG!G$1:G$65536,'[1]20T4-ĐCN2'!$A24) -> 02/02/2005 | H24: =INDEX([1]TỔNG!H$1:H$65536,'[1]20T4-ĐCN2'!$A24) -> 0908438335 | I24: =INDEX([1]TỔNG!I$1:I$65536,'[1]20T4-ĐCN2'!$A24) -> 312605687 | J24: =INDEX([1]TỔNG!J$1:J$65536,'[1]20T4-ĐCN2'!$A24) -> SV 479 8223827580 | K24: =INDEX([1]TỔNG!M$1:M$65536,'[1]20T4-ĐCN2'!$A24) -> Kinh | L24: =INDEX([1]TỔNG!N$1:N$65536,'[1]20T4-ĐCN2'!$A24) -> Việt Nam | M24: 382/3 ấp Thân Đạo | N24: =INDEX([1]TỔNG!P$1:P$65536,'[1]20T4-ĐCN2'!$A24) -> Xã Thân Cửu Nghĩa | O24: =INDEX([1]TỔNG!Q$1:Q$65536,'[1]20T4-ĐCN2'!$A24) -> Huyện Châu Thành | P24: =INDEX([1]TỔNG!R$1:R$65536,'[1]20T4-ĐCN2'!$A24) -> Tiền Giang | Q24: =INDEX([1]TỔNG!S$1:S$65536,'[1]20T4-ĐCN2'!$A24) -> 390 Hoàng Văn Thụ | R24: =INDEX([1]TỔNG!T$1:T$65536,'[1]20T4-ĐCN2'!$A24) -> Phường 4 | S24: =INDEX([1]TỔNG!U$1:U$65536,'[1]20T4-ĐCN2'!$A24) -> Quận Tân Bình | U24: X
A25: =A24+1 -> 19 | B25: =INDEX([1]TỔNG!B$1:B$65536,'[1]20T4-ĐCN2'!$A25) -> 20001172 | C25: 20T4-ĐCN2 | D25: =INDEX([1]TỔNG!D$1:D$65536,'[1]20T4-ĐCN2'!$A25) -> Phạm Văn Phát | E25: =INDEX([1]TỔNG!E$1:E$65536,'[1]20T4-ĐCN2'!$A25) -> Nam | F25: =INDEX([1]TỔNG!F$1:F$65536,'[1]20T4-ĐCN2'!$A25) -> Sinh viên | G25: =INDEX([1]TỔNG!G$1:G$65536,'[1]20T4-ĐCN2'!$A25) -> 04/08/2005 | H25: =INDEX([1]TỔNG!H$1:H$65536,'[1]20T4-ĐCN2'!$A25) -> 0931503806 | I25: 79205029180 | J25: =INDEX([1]TỔNG!J$1:J$65536,'[1]20T4-ĐCN2'!$A25) -> SV 479 7934472792 | K25: =INDEX([1]TỔNG!M$1:M$65536,'[1]20T4-ĐCN2'!$A25) -> Kinh | L25: =INDEX([1]TỔNG!N$1:N$65536,'[1]20T4-ĐCN2'!$A25) -> Việt Nam | M25: 25/14 đường số 3A, khu phố 7 | N25: =INDEX([1]TỔNG!P$1:P$65536,'[1]20T4-ĐCN2'!$A25) -> Phường Bình Hưng Hoà A | O25: =INDEX([1]TỔNG!Q$1:Q$65536,'[1]20T4-ĐCN2'!$A25) -> Quận Bình Tân | P25: =INDEX([1]TỔNG!R$1:R$65536,'[1]20T4-ĐCN2'!$A25) -> Tp. Hồ Chí Minh | Q25: =INDEX([1]TỔNG!S$1:S$65536,'[1]20T4-ĐCN2'!$A25) -> 390 Hoàng Văn Thụ | R25: =INDEX([1]TỔNG!T$1:T$65536,'[1]20T4-ĐCN2'!$A25) -> Phường 4 | S25: =INDEX([1]TỔNG!U$1:U$65536,'[1]20T4-ĐCN2'!$A25) -> Quận Tân Bình | U25: X
A26: =A25+1 -> 20 | B26: =INDEX([1]TỔNG!B$1:B$65536,'[1]20T4-ĐCN2'!$A26) -> 20002100 | C26: 20T4-ĐCN2 | D26: =INDEX([1]TỔNG!D$1:D$65536,'[1]20T4-ĐCN2'!$A26) -> Phạm Sỹ Phú | E26: =INDEX([1]TỔNG!E$1:E$65536,'[1]20T4-ĐCN2'!$A26) -> Nam | F26: =INDEX([1]TỔNG!F$1:F$65536,'[1]20T4-ĐCN2'!$A26) -> Sinh viên | G26: =INDEX([1]TỔNG!G$1:G$65536,'[1]20T4-ĐCN2'!$A26) -> 06/09/2005 | H26: =INDEX([1]TỔNG!H$1:H$65536,'[1]20T4-ĐCN2'!$A26) -> 0908407924 | I26: Chưa có CMND | J26: =INDEX([1]TỔNG!J$1:J$65536,'[1]20T4-ĐCN2'!$A26) -> SV 479 7932827405 | K26: =INDEX([1]TỔNG!M$1:M$65536,'[1]20T4-ĐCN2'!$A26) -> Kinh | L26: =INDEX([1]TỔNG!N$1:N$65536,'[1]20T4-ĐCN2'!$A26) -> Việt Nam | M26: 76/25 Xóm Đất | N26: =INDEX([1]TỔNG!P$1:P$65536,'[1]20T4-ĐCN2'!$A26) -> Phường 08 | O26: =INDEX([1]TỔNG!Q$1:Q$65536,'[1]20T4-ĐCN2'!$A26) -> Quận 11 | P26: =INDEX([1]TỔNG!R$1:R$65536,'[1]20T4-ĐCN2'!$A26) -> Tp. Hồ Chí Minh | Q26: =INDEX([1]TỔNG!S$1:S$65536,'[1]20T4-ĐCN2'!$A26) -> 390 Hoàng Văn Thụ | R26: =INDEX([1]TỔNG!T$1:T$65536,'[1]20T4-ĐCN2'!$A26) -> Phường 4 | S26: =INDEX([1]TỔNG!U$1:U$65536,'[1]20T4-ĐCN2'!$A26) -> Quận Tân Bình | U26: X
A27: =A26+1 -> 21 | B27: =INDEX([1]TỔNG!B$1:B$65536,'[1]20T4-ĐCN2'!$A27) -> 20005036 | C27: 20T4-ĐCN2 | D27: =INDEX([1]TỔNG!D$1:D$65536,'[1]20T4-ĐCN2'!$A27) -> Nguyễn Lâm Hoàng Phúc | E27: =INDEX([1]TỔNG!E$1:E$65536,'[1]20T4-ĐCN2'!$A27) -> Nam | F27: =INDEX([1]TỔNG!F$1:F$65536,'[1]20T4-ĐCN2'!$A27) -> Sinh viên | G27: =INDEX([1]TỔNG!G$1:G$65536,'[1]20T4-ĐCN2'!$A27) -> 05/01/1997 | H27: =INDEX([1]TỔNG!H$1:H$65536,'[1]20T4-ĐCN2'!$A27) -> 0962713858 | I27: 79097006290 | J27: =INDEX([1]TỔNG!J$1:J$65536,'[1]20T4-ĐCN2'!$A27) -> SV 479 7915191392 | K27: =INDEX([1]TỔNG!M$1:M$65536,'[1]20T4-ĐCN2'!$A27) -> Kinh | L27: =INDEX([1]TỔNG!N$1:N$65536,'[1]20T4-ĐCN2'!$A27) -> Việt Nam | M27: Cây Trâm | N27: xã Phú Hòa Đông | O27: huyện Củ Chi | P27: Tp.HCM | Q27: =INDEX([1]TỔNG!S$1:S$65536,'[1]20T4-ĐCN2'!$A27) -> 390 Hoàng Văn Thụ | R27: =INDEX([1]TỔNG!T$1:T$65536,'[1]20T4-ĐCN2'!$A27) -> Phường 4 | S27: =INDEX([1]TỔNG!U$1:U$65536,'[1]20T4-ĐCN2'!$A27) -> Quận Tân Bình | V27: X
A28: =A27+1 -> 22 | B28: =INDEX([1]TỔNG!B$1:B$65536,'[1]20T4-ĐCN2'!$A28) -> 20003041 | C28: 20T4-ĐCN2 | D28: =INDEX([1]TỔNG!D$1:D$65536,'[1]20T4-ĐCN2'!$A28) -> Trịnh Đình Phúc | E28: =INDEX([1]TỔNG!E$1:E$65536,'[1]20T4-ĐCN2'!$A28) -> Nam | F28: =INDEX([1]TỔNG!F$1:F$65536,'[1]20T4-ĐCN2'!$A28) -> Sinh viên | G28: =INDEX([1]TỔNG!G$1:G$65536,'[1]20T4-ĐCN2'!$A28) -> 30/08/2005 | H28: =INDEX([1]TỔNG!H$1:H$65536,'[1]20T4-ĐCN2'!$A28) -> 0908727116 | I28: =INDEX([1]TỔNG!I$1:I$65536,'[1]20T4-ĐCN2'!$A28) -> 091205000093 | J28: =INDEX([1]TỔNG!J$1:J$65536,'[1]20T4-ĐCN2'!$A28) -> SV 479 7932697583 | K28: =INDEX([1]TỔNG!M$1:M$65536,'[1]20T4-ĐCN2'!$A28) -> Hoa | L28: =INDEX([1]TỔNG!N$1:N$65536,'[1]20T4-ĐCN2'!$A28) -> Việt Nam | M28: 93 Nguyễn Chí Thanh, | N28: Phường 16 | O28: =INDEX([1]TỔNG!Q$1:Q$65536,'[1]20T4-ĐCN2'!$A28) -> Quận 11 | P28: =INDEX([1]TỔNG!R$1:R$65536,'[1]20T4-ĐCN2'!$A28) -> Tp. Hồ Chí Minh | Q28: =INDEX([1]TỔNG!S$1:S$65536,'[1]20T4-ĐCN2'!$A28) -> 390 Hoàng Văn Thụ | R28: =INDEX([1]TỔNG!T$1:T$65536,'[1]20T4-ĐCN2'!$A28) -> Phường 4 | S28: =INDEX([1]TỔNG!U$1:U$65536,'[1]20T4-ĐCN2'!$A28) -> Quận Tân Bình | U28: X
A29: =A28+1 -> 23 | B29: =INDEX([1]TỔNG!B$1:B$65536,'[1]20T4-ĐCN2'!$A29) -> 20001148 | C29: 20T4-ĐCN2 | D29: =INDEX([1]TỔNG!D$1:D$65536,'[1]20T4-ĐCN2'!$A29) -> Trần Hữu Phước | E29: =INDEX([1]TỔNG!E$1:E$65536,'[1]20T4-ĐCN2'!$A29) -> Nam | F29: =INDEX([1]TỔNG!F$1:F$65536,'[1]20T4-ĐCN2'!$A29) -> Sinh viên | G29: =INDEX([1]TỔNG!G$1:G$65536,'[1]20T4-ĐCN2'!$A29) -> 23/09/2005 | H29: =INDEX([1]TỔNG!H$1:H$65536,'[1]20T4-ĐCN2'!$A29) -> 0328126355 | I29: =INDEX([1]TỔNG!I$1:I$65536,'[1]20T4-ĐCN2'!$A29) -> 261557205 | J29: =INDEX([1]TỔNG!J$1:J$65536,'[1]20T4-ĐCN2'!$A29) -> SV 479 7937820667 | K29: =INDEX([1]TỔNG!M$1:M$65536,'[1]20T4-ĐCN2'!$A29) -> Kinh | L29: =INDEX([1]TỔNG!N$1:N$65536,'[1]20T4-ĐCN2'!$A29) -> Việt Nam | N29: Hưng Long, | O29: Phan Thiết, | P29: Bình Thuận | Q29: =INDEX([1]TỔNG!S$1:S$65536,'[1]20T4-ĐCN2'!$A29) -> 390 Hoàng Văn Thụ | R29: =INDEX([1]TỔNG!T$1:T$65536,'[1]20T4-ĐCN2'!$A29) -> Phường 4 | S29: =INDEX([1]TỔNG!U$1:U$65536,'[1]20T4-ĐCN2'!$A29) -> Quận Tân Bình | U29: X
A30: =A29+1 -> 24 | B30: =INDEX([1]TỔNG!B$1:B$65536,'[1]20T4-ĐCN2'!$A30) -> 20001837 | C30: 20T4-ĐCN2 | D30: =INDEX([1]TỔNG!D$1:D$65536,'[1]20T4-ĐCN2'!$A30) -> Nguyễn Văn Quang | E30: =INDEX([1]TỔNG!E$1:E$65536,'[1]20T4-ĐCN2'!$A30) -> Nam | F30: =INDEX([1]TỔNG!F$1:F$65536,'[1]20T4-ĐCN2'!$A30) -> Sinh viên | G30: =INDEX([1]TỔNG!G$1:G$65536,'[1]20T4-ĐCN2'!$A30) -> 03/01/2005 | H30: =INDEX([1]TỔNG!H$1:H$65536,'[1]20T4-ĐCN2'!$A30) -> 0359921967 | I30: 30205000742 | J30: =INDEX([1]TỔNG!J$1:J$65536,'[1]20T4-ĐCN2'!$A30) -> SV 479 7937184681 | K30: =INDEX([1]TỔNG!M$1:M$65536,'[1]20T4-ĐCN2'!$A30) -> Kinh | L30: =INDEX([1]TỔNG!N$1:N$65536,'[1]20T4-ĐCN2'!$A30) -> Việt Nam | M30: Đội 2, ấp Quảng Đạt | N30: =INDEX([1]TỔNG!P$1:P$65536,'[1]20T4-ĐCN2'!$A30) -> Xã Ngũ Phúc | O30: =INDEX([1]TỔNG!Q$1:Q$65536,'[1]20T4-ĐCN2'!$A30) -> Huyện Kim Thành | P30: =INDEX([1]TỔNG!R$1:R$65536,'[1]20T4-ĐCN2'!$A30) -> Hải Dương | Q30: =INDEX([1]TỔNG!S$1:S$65536,'[1]20T4-ĐCN2'!$A30) -> 390 Hoàng Văn Thụ | R30: =INDEX([1]TỔNG!T$1:T$65536,'[1]20T4-ĐCN2'!$A30) -> Phường 4 | S30: =INDEX([1]TỔNG!U$1:U$65536,'[1]20T4-ĐCN2'!$A30) -> Quận Tân Bình | U30: X
A31: =A30+1 -> 25 | B31: =INDEX([1]TỔNG!B$1:B$65536,'[1]20T4-ĐCN2'!$A31) -> 20000607 | C31: 20T4-ĐCN2 | D31: =INDEX([1]TỔNG!D$1:D$65536,'[1]20T4-ĐCN2'!$A31) -> Tạ Dương Trung Quốc | E31: =INDEX([1]TỔNG!E$1:E$65536,'[1]20T4-ĐCN2'!$A31) -> Nam | F31: =INDEX([1]TỔNG!F$1:F$65536,'[1]20T4-ĐCN2'!$A31) -> Sinh viên | G31: =INDEX([1]TỔNG!G$1:G$65536,'[1]20T4-ĐCN2'!$A31) -> 23/06/2005 | H31: =INDEX([1]TỔNG!H$1:H$65536,'[1]20T4-ĐCN2'!$A31) -> 0798638807 | I31: 79205026696 | J31: =INDEX([1]TỔNG!J$1:J$65536,'[1]20T4-ĐCN2'!$A31) -> SV 479 7931352898 | K31: =INDEX([1]TỔNG!M$1:M$65536,'[1]20T4-ĐCN2'!$A31) -> Kinh | L31: =INDEX([1]TỔNG!N$1:N$65536,'[1]20T4-ĐCN2'!$A31) -> Việt Nam | M31: =INDEX([1]TỔNG!O$1:O$65536,'[1]20T4-ĐCN2'!$A31) -> 9/3 Lê Sát, phường Tân Quý | N31: =INDEX([1]TỔNG!P$1:P$65536,'[1]20T4-ĐCN2'!$A31) -> Phường Tân Quý | O31: =INDEX([1]TỔNG!Q$1:Q$65536,'[1]20T4-ĐCN2'!$A31) -> Quận Tân Phú | P31: =INDEX([1]TỔNG!R$1:R$65536,'[1]20T4-ĐCN2'!$A31) -> Tp. Hồ Chí Minh | Q31: =INDEX([1]TỔNG!S$1:S$65536,'[1]20T4-ĐCN2'!$A31) -> 390 Hoàng Văn Thụ | R31: =INDEX([1]TỔNG!T$1:T$65536,'[1]20T4-ĐCN2'!$A31) -> Phường 4 | S31: =INDEX([1]TỔNG!U$1:U$65536,'[1]20T4-ĐCN2'!$A31) -> Quận Tân Bình | U31: X
A32: =A31+1 -> 26 | B32: =INDEX([1]TỔNG!B$1:B$65536,'[1]20T4-ĐCN2'!$A32) -> 20005463 | C32: 20T4-ĐCN2 | D32: =INDEX([1]TỔNG!D$1:D$65536,'[1]20T4-ĐCN2'!$A32) -> Phạm Quốc Thắng | E32: =INDEX([1]TỔNG!E$1:E$65536,'[1]20T4-ĐCN2'!$A32) -> Nam | F32: =INDEX([1]TỔNG!F$1:F$65536,'[1]20T4-ĐCN2'!$A32) -> Sinh viên | G32: =INDEX([1]TỔNG!G$1:G$65536,'[1]20T4-ĐCN2'!$A32) -> 16/06/2004 | H32: =INDEX([1]TỔNG!H$1:H$65536,'[1]20T4-ĐCN2'!$A32) -> 0334710026 | I32: Chưa có CMND | J32: =INDEX([1]TỔNG!J$1:J$65536,'[1]20T4-ĐCN2'!$A32) -> 0 | K32: =INDEX([1]TỔNG!M$1:M$65536,'[1]20T4-ĐCN2'!$A32) -> Kinh | L32: =INDEX([1]TỔNG!N$1:N$65536,'[1]20T4-ĐCN2'!$A32) -> Việt Nam | M32: Thôn 3 | N32: =INDEX([1]TỔNG!P$1:P$65536,'[1]20T4-ĐCN2'!$A32) -> Xã Tân Đức | O32: =INDEX([1]TỔNG!Q$1:Q$65536,'[1]20T4-ĐCN2'!$A32) -> Huyện Hàm Tân | P32: =INDEX([1]TỔNG!R$1:R$65536,'[1]20T4-ĐCN2'!$A32) -> Bình Thuận | Q32: =INDEX([1]TỔNG!S$1:S$65536,'[1]20T4-ĐCN2'!$A32) -> 390 Hoàng Văn Thụ | R32: =INDEX([1]TỔNG!T$1:T$65536,'[1]20T4-ĐCN2'!$A32) -> Phường 4 | S32: =INDEX([1]TỔNG!U$1:U$65536,'[1]20T4-ĐCN2'!$A32) -> Quận Tân Bình | U32: X
A33: =A32+1 -> 27 | B33: =INDEX([1]TỔNG!B$1:B$65536,'[1]20T4-ĐCN2'!$A33) -> 20001519 | C33: 20T4-ĐCN2 | D33: =INDEX([1]TỔNG!D$1:D$65536,'[1]20T4-ĐCN2'!$A33) -> Nguyễn Nhân Thành | E33: =INDEX([1]TỔNG!E$1:E$65536,'[1]20T4-ĐCN2'!$A33) -> Nam | F33: =INDEX([1]TỔNG!F$1:F$65536,'[1]20T4-ĐCN2'!$A33) -> Sinh viên | G33: =INDEX([1]TỔNG!G$1:G$65536,'[1]20T4-ĐCN2'!$A33) -> 21/11/2005 | H33: =INDEX([1]TỔNG!H$1:H$65536,'[1]20T4-ĐCN2'!$A33) -> 0989010972 | I33: 79205023835 | J33: =INDEX([1]TỔNG!J$1:J$65536,'[1]20T4-ĐCN2'!$A33) -> SV 479 7931461834 | K33: =INDEX([1]TỔNG!M$1:M$65536,'[1]20T4-ĐCN2'!$A33) -> Kinh | L33: =INDEX([1]TỔNG!N$1:N$65536,'[1]20T4-ĐCN2'!$A33) -> Việt Nam | M33: 118/15 Huỳnh Thiện Lộc, | N33: phường Hòa Thạnh, | O33: quận Tân Phú, | P33: Tp.HCM | Q33: =INDEX([1]TỔNG!S$1:S$65536,'[1]20T4-ĐCN2'!$A33) -> 390 Hoàng Văn Thụ | R33: =INDEX([1]TỔNG!T$1:T$65536,'[1]20T4-ĐCN2'!$A33) -> Phường 4 | S33: =INDEX([1]TỔNG!U$1:U$65536,'[1]20T4-ĐCN2'!$A33) -> Quận Tân Bình | U33: X
A34: =A33+1 -> 28 | B34: =INDEX([1]TỔNG!B$1:B$65536,'[1]20T4-ĐCN2'!$A34) -> 20001726 | C34: 20T4-ĐCN2 | D34: =INDEX([1]TỔNG!D$1:D$65536,'[1]20T4-ĐCN2'!$A34) -> Phồng Kim Thành | E34: =INDEX([1]TỔNG!E$1:E$65536,'[1]20T4-ĐCN2'!$A34) -> Nam | F34: =INDEX([1]TỔNG!F$1:F$65536,'[1]20T4-ĐCN2'!$A34) -> Sinh viên | G34: =INDEX([1]TỔNG!G$1:G$65536,'[1]20T4-ĐCN2'!$A34) -> 27/11/2005 | H34: =INDEX([1]TỔNG!H$1:H$65536,'[1]20T4-ĐCN2'!$A34) -> 0798523631 | I34: =INDEX([1]TỔNG!I$1:I$65536,'[1]20T4-ĐCN2'!$A34) -> 075205000468 | J34: =INDEX([1]TỔNG!J$1:J$65536,'[1]20T4-ĐCN2'!$A34) -> SV 479 7937537137 | K34: =INDEX([1]TỔNG!M$1:M$65536,'[1]20T4-ĐCN2'!$A34) -> Hoa | L34: =INDEX([1]TỔNG!N$1:N$65536,'[1]20T4-ĐCN2'!$A34) -> Việt Nam | M34: 60 đường 1C | N34: =INDEX([1]TỔNG!P$1:P$65536,'[1]20T4-ĐCN2'!$A34) -> Phường Bình Hưng Hoà A | O34: =INDEX([1]TỔNG!Q$1:Q$65536,'[1]20T4-ĐCN2'!$A34) -> Quận Bình Tân | P34: =INDEX([1]TỔNG!R$1:R$65536,'[1]20T4-ĐCN2'!$A34) -> Tp. Hồ Chí Minh | Q34: =INDEX([1]TỔNG!S$1:S$65536,'[1]20T4-ĐCN2'!$A34) -> 390 Hoàng Văn Thụ | R34: =INDEX([1]TỔNG!T$1:T$65536,'[1]20T4-ĐCN2'!$A34) -> Phường 4 | S34: =INDEX([1]TỔNG!U$1:U$65536,'[1]20T4-ĐCN2'!$A34) -> Quận Tân Bình | U34: X
A35: =A34+1 -> 29 | B35: =INDEX([1]TỔNG!B$1:B$65536,'[1]20T4-ĐCN2'!$A35) -> 20001328 | C35: 20T4-ĐCN2 | D35: =INDEX([1]TỔNG!D$1:D$65536,'[1]20T4-ĐCN2'!$A35) -> Nguyễn Văn Thịnh | E35: =INDEX([1]TỔNG!E$1:E$65536,'[1]20T4-ĐCN2'!$A35) -> Nam | F35: =INDEX([1]TỔNG!F$1:F$65536,'[1]20T4-ĐCN2'!$A35) -> Sinh viên | G35: =INDEX([1]TỔNG!G$1:G$65536,'[1]20T4-ĐCN2'!$A35) -> 19/10/2005 | H35: =INDEX([1]TỔNG!H$1:H$65536,'[1]20T4-ĐCN2'!$A35) -> 0933853242 | I35: Chưa có CMND | J35: =INDEX([1]TỔNG!J$1:J$65536,'[1]20T4-ĐCN2'!$A35) -> SV 479 7937971254 | K35: =INDEX([1]TỔNG!M$1:M$65536,'[1]20T4-ĐCN2'!$A35) -> Kinh | L35: =INDEX([1]TỔNG!N$1:N$65536,'[1]20T4-ĐCN2'!$A35) -> Việt Nam | M35: 3/60E Tân Thới Nhì 28, Ấp Nhị Tân | N35: =INDEX([1]TỔNG!P$1:P$65536,'[1]20T4-ĐCN2'!$A35) -> Xã Tân Thới Nhì | O35: =INDEX([1]TỔNG!Q$1:Q$65536,'[1]20T4-ĐCN2'!$A35) -> Huyện Hóc Môn | P35: =INDEX([1]TỔNG!R$1:R$65536,'[1]20T4-ĐCN2'!$A35) -> Tp. Hồ Chí Minh | Q35: =INDEX([1]TỔNG!S$1:S$65536,'[1]20T4-ĐCN2'!$A35) -> 390 Hoàng Văn Thụ | R35: =INDEX([1]TỔNG!T$1:T$65536,'[1]20T4-ĐCN2'!$A35) -> Phường 4 | S35: =INDEX([1]TỔNG!U$1:U$65536,'[1]20T4-ĐCN2'!$A35) -> Quận Tân Bình | U35: X
A36: =A35+1 -> 30 | B36: =INDEX([1]TỔNG!B$1:B$65536,'[1]20T4-ĐCN2'!$A36) -> 20001630 | C36: 20T4-ĐCN2 | D36: =INDEX([1]TỔNG!D$1:D$65536,'[1]20T4-ĐCN2'!$A36) -> Nguyễn Hữu Tiên | E36: =INDEX([1]TỔNG!E$1:E$65536,'[1]20T4-ĐCN2'!$A36) -> Nam | F36: =INDEX([1]TỔNG!F$1:F$65536,'[1]20T4-ĐCN2'!$A36) -> Sinh viên | G36: =INDEX([1]TỔNG!G$1:G$65536,'[1]20T4-ĐCN2'!$A36) -> 05/12/2005 | H36: =INDEX([1]TỔNG!H$1:H$65536,'[1]20T4-ĐCN2'!$A36) -> 0909408342 | I36: =INDEX([1]TỔNG!I$1:I$65536,'[1]20T4-ĐCN2'!$A36) -> 079205017161 | J36: =INDEX([1]TỔNG!J$1:J$65536,'[1]20T4-ĐCN2'!$A36) -> SV 479 7931379881 | K36: =INDEX([1]TỔNG!M$1:M$65536,'[1]20T4-ĐCN2'!$A36) -> Kinh | L36: =INDEX([1]TỔNG!N$1:N$65536,'[1]20T4-ĐCN2'!$A36) -> Việt Nam | M36: =INDEX([1]TỔNG!O$1:O$65536,'[1]20T4-ĐCN2'!$A36) -> 10/7/5 Thoại Ngọc Hầu | N36: =INDEX([1]TỔNG!P$1:P$65536,'[1]20T4-ĐCN2'!$A36) -> Phường Hòa Thạnh | O36: =INDEX([1]TỔNG!Q$1:Q$65536,'[1]20T4-ĐCN2'!$A36) -> Quận Tân Phú | P36: =INDEX([1]TỔNG!R$1:R$65536,'[1]20T4-ĐCN2'!$A36) -> Tp. Hồ Chí Minh | Q36: =INDEX([1]TỔNG!S$1:S$65536,'[1]20T4-ĐCN2'!$A36) -> 390 Hoàng Văn Thụ | R36: =INDEX([1]TỔNG!T$1:T$65536,'[1]20T4-ĐCN2'!$A36) -> Phường 4 | S36: =INDEX([1]TỔNG!U$1:U$65536,'[1]20T4-ĐCN2'!$A36) -> Quận Tân Bình | X36: đã nghỉ học
A37: =A36+1 -> 31 | B37: =INDEX([1]TỔNG!B$1:B$65536,'[1]20T4-ĐCN2'!$A37) -> 20005197 | C37: 20T4-ĐCN2 | D37: =INDEX([1]TỔNG!D$1:D$65536,'[1]20T4-ĐCN2'!$A37) -> Nguyễn Chí Toàn | E37: =INDEX([1]TỔNG!E$1:E$65536,'[1]20T4-ĐCN2'!$A37) -> Nam | F37: =INDEX([1]TỔNG!F$1:F$65536,'[1]20T4-ĐCN2'!$A37) -> Sinh viên | G37: =INDEX([1]TỔNG!G$1:G$65536,'[1]20T4-ĐCN2'!$A37) -> 29/06/2003 | H37: =INDEX([1]TỔNG!H$1:H$65536,'[1]20T4-ĐCN2'!$A37) -> 0975836569 | I37: 215565528 | J37: =INDEX([1]TỔNG!J$1:J$65536,'[1]20T4-ĐCN2'!$A37) -> SV 479 5220475182 | K37: =INDEX([1]TỔNG!M$1:M$65536,'[1]20T4-ĐCN2'!$A37) -> Kinh | L37: =INDEX([1]TỔNG!N$1:N$65536,'[1]20T4-ĐCN2'!$A37) -> Việt Nam | M37: Xóm 3, thôn An Thường 2 | N37: =INDEX([1]TỔNG!P$1:P$65536,'[1]20T4-ĐCN2'!$A37) -> Xã Ân Thạnh | O37: =INDEX([1]TỔNG!Q$1:Q$65536,'[1]20T4-ĐCN2'!$A37) -> Huyện Hoài Ân | P37: =INDEX([1]TỔNG!R$1:R$65536,'[1]20T4-ĐCN2'!$A37) -> Bình Định | Q37: =INDEX([1]TỔNG!S$1:S$65536,'[1]20T4-ĐCN2'!$A37) -> 390 Hoàng Văn Thụ | R37: =INDEX([1]TỔNG!T$1:T$65536,'[1]20T4-ĐCN2'!$A37) -> Phường 4 | S37: =INDEX([1]TỔNG!U$1:U$65536,'[1]20T4-ĐCN2'!$A37) -> Quận Tân Bình | V37: X
A38: =A37+1 -> 32 | B38: =INDEX([1]TỔNG!B$1:B$65536,'[1]20T4-ĐCN2'!$A38) -> 20003144 | C38: 20T4-ĐCN2 | D38: =INDEX([1]TỔNG!D$1:D$65536,'[1]20T4-ĐCN2'!$A38) -> Võ Hoàng Gia Trấn | E38: =INDEX([1]TỔNG!E$1:E$65536,'[1]20T4-ĐCN2'!$A38) -> Nam | F38: =INDEX([1]TỔNG!F$1:F$65536,'[1]20T4-ĐCN2'!$A38) -> Sinh viên | G38: =INDEX([1]TỔNG!G$1:G$65536,'[1]20T4-ĐCN2'!$A38) -> 15/05/2003 | H38: =INDEX([1]TỔNG!H$1:H$65536,'[1]20T4-ĐCN2'!$A38) -> 0985957438 | I38: =INDEX([1]TỔNG!I$1:I$65536,'[1]20T4-ĐCN2'!$A38) -> 048203000078 | J38: =INDEX([1]TỔNG!J$1:J$65536,'[1]20T4-ĐCN2'!$A38) -> SV 479 7934094737 | K38: =INDEX([1]TỔNG!M$1:M$65536,'[1]20T4-ĐCN2'!$A38) -> Kinh | L38: =INDEX([1]TỔNG!N$1:N$65536,'[1]20T4-ĐCN2'!$A38) -> Việt Nam | M38: 62/34 Phú Thọ Hòa, | N38: phường Phú Thọ Hòa | O38: =INDEX([1]TỔNG!Q$1:Q$65536,'[1]20T4-ĐCN2'!$A38) -> Quận Tân Phú | P38: =INDEX([1]TỔNG!R$1:R$65536,'[1]20T4-ĐCN2'!$A38) -> Tp. Hồ Chí Minh | Q38: =INDEX([1]TỔNG!S$1:S$65536,'[1]20T4-ĐCN2'!$A38) -> 390 Hoàng Văn Thụ | R38: =INDEX([1]TỔNG!T$1:T$65536,'[1]20T4-ĐCN2'!$A38) -> Phường 4 | S38: =INDEX([1]TỔNG!U$1:U$65536,'[1]20T4-ĐCN2'!$A38) -> Quận Tân Bình | V38: X
A39: =A38+1 -> 33 | B39: =INDEX([1]TỔNG!B$1:B$65536,'[1]20T4-ĐCN2'!$A39) -> 20006715 | C39: 20T4-ĐCN2 | D39: =INDEX([1]TỔNG!D$1:D$65536,'[1]20T4-ĐCN2'!$A39) -> Nguyễn Minh Triết | E39: =INDEX([1]TỔNG!E$1:E$65536,'[1]20T4-ĐCN2'!$A39) -> Nam | F39: =INDEX([1]TỔNG!F$1:F$65536,'[1]20T4-ĐCN2'!$A39) -> Sinh viên | G39: =INDEX([1]TỔNG!G$1:G$65536,'[1]20T4-ĐCN2'!$A39) -> 19/03/2002 | H39: =INDEX([1]TỔNG!H$1:H$65536,'[1]20T4-ĐCN2'!$A39) -> 0903201528 | I39: =INDEX([1]TỔNG!I$1:I$65536,'[1]20T4-ĐCN2'!$A39) -> 079202001583 | J39: =INDEX([1]TỔNG!J$1:J$65536,'[1]20T4-ĐCN2'!$A39) -> SV 479 7930933674 | K39: =INDEX([1]TỔNG!M$1:M$65536,'[1]20T4-ĐCN2'!$A39) -> Kinh | L39: =INDEX([1]TỔNG!N$1:N$65536,'[1]20T4-ĐCN2'!$A39) -> Việt Nam | M39: 281/23/6 Lê Văn Sỹ | N39: =INDEX([1]TỔNG!P$1:P$65536,'[1]20T4-ĐCN2'!$A39) -> Phường 01 | O39: =INDEX([1]TỔNG!Q$1:Q$65536,'[1]20T4-ĐCN2'!$A39) -> Quận Tân Bình | P39: =INDEX([1]TỔNG!R$1:R$65536,'[1]20T4-ĐCN2'!$A39) -> Tp. Hồ Chí Minh | Q39: =INDEX([1]TỔNG!S$1:S$65536,'[1]20T4-ĐCN2'!$A39) -> 390 Hoàng Văn Thụ | R39: =INDEX([1]TỔNG!T$1:T$65536,'[1]20T4-ĐCN2'!$A39) -> Phường 4 | S39: =INDEX([1]TỔNG!U$1:U$65536,'[1]20T4-ĐCN2'!$A39) -> Quận Tân Bình | V39: X
A40: =A39+1 -> 34 | B40: =INDEX([1]TỔNG!B$1:B$65536,'[1]20T4-ĐCN2'!$A40) -> 20000640 | C40: 20T4-ĐCN2 | D40: =INDEX([1]TỔNG!D$1:D$65536,'[1]20T4-ĐCN2'!$A40) -> Nguyễn Thành Trung | E40: =INDEX([1]TỔNG!E$1:E$65536,'[1]20T4-ĐCN2'!$A40) -> Nam | F40: =INDEX([1]TỔNG!F$1:F$65536,'[1]20T4-ĐCN2'!$A40) -> Sinh viên | G40: =INDEX([1]TỔNG!G$1:G$65536,'[1]20T4-ĐCN2'!$A40) -> 09/01/2005 | H40: =INDEX([1]TỔNG!H$1:H$65536,'[1]20T4-ĐCN2'!$A40) -> 0908097844 | I40: =INDEX([1]TỔNG!I$1:I$65536,'[1]20T4-ĐCN2'!$A40) -> 0 | J40: =INDEX([1]TỔNG!J$1:J$65536,'[1]20T4-ĐCN2'!$A40) -> SV 479 7936728354 | K40: =INDEX([1]TỔNG!M$1:M$65536,'[1]20T4-ĐCN2'!$A40) -> Kinh | L40: =INDEX([1]TỔNG!N$1:N$65536,'[1]20T4-ĐCN2'!$A40) -> Việt Nam | M40: =INDEX([1]TỔNG!O$1:O$65536,'[1]20T4-ĐCN2'!$A40) -> 85/42 Nguyễn Đình Chiểu | N40: =INDEX([1]TỔNG!P$1:P$65536,'[1]20T4-ĐCN2'!$A40) -> Phường 04 | O40: =INDEX([1]TỔNG!Q$1:Q$65536,'[1]20T4-ĐCN2'!$A40) -> Quận Phú Nhuận | P40: =INDEX([1]TỔNG!R$1:R$65536,'[1]20T4-ĐCN2'!$A40) -> Tp. Hồ Chí Minh | Q40: =INDEX([1]TỔNG!S$1:S$65536,'[1]20T4-ĐCN2'!$A40) -> 390 Hoàng Văn Thụ | R40: =INDEX([1]TỔNG!T$1:T$65536,'[1]20T4-ĐCN2'!$A40) -> Phường 4 | S40: =INDEX([1]TỔNG!U$1:U$65536,'[1]20T4-ĐCN2'!$A40) -> Quận Tân Bình | X40: đã nghỉ học
A41: =A40+1 -> 35 | B41: =INDEX([1]TỔNG!B$1:B$65536,'[1]20T4-ĐCN2'!$A41) -> 20004663 | C41: 20T4-ĐCN2 | D41: =INDEX([1]TỔNG!D$1:D$65536,'[1]20T4-ĐCN2'!$A41) -> Huỳnh Phúc Vinh | E41: =INDEX([1]TỔNG!E$1:E$65536,'[1]20T4-ĐCN2'!$A41) -> Nam | F41: =INDEX([1]TỔNG!F$1:F$65536,'[1]20T4-ĐCN2'!$A41) -> Sinh viên | G41: =INDEX([1]TỔNG!G$1:G$65536,'[1]20T4-ĐCN2'!$A41) -> 16/12/1991 | H41: =INDEX([1]TỔNG!H$1:H$65536,'[1]20T4-ĐCN2'!$A41) -> 0376161291 | I41: =INDEX([1]TỔNG!I$1:I$65536,'[1]20T4-ĐCN2'!$A41) -> 024483345 | J41: =INDEX([1]TỔNG!J$1:J$65536,'[1]20T4-ĐCN2'!$A41) -> SV 479 7911455933 | K41: =INDEX([1]TỔNG!M$1:M$65536,'[1]20T4-ĐCN2'!$A41) -> Kinh | L41: =INDEX([1]TỔNG!N$1:N$65536,'[1]20T4-ĐCN2'!$A41) -> Việt Nam | M41: =INDEX([1]TỔNG!O$1:O$65536,'[1]20T4-ĐCN2'!$A41) -> 0 | N41: =INDEX([1]TỔNG!P$1:P$65536,'[1]20T4-ĐCN2'!$A41) -> 0 | O41: =INDEX([1]TỔNG!Q$1:Q$65536,'[1]20T4-ĐCN2'!$A41) -> 0 | P41: =INDEX([1]TỔNG!R$1:R$65536,'[1]20T4-ĐCN2'!$A41) -> 0 | Q41: =INDEX([1]TỔNG!S$1:S$65536,'[1]20T4-ĐCN2'!$A41) -> 390 Hoàng Văn Thụ | R41: =INDEX([1]TỔNG!T$1:T$65536,'[1]20T4-ĐCN2'!$A41) -> Phường 4 | S41: =INDEX([1]TỔNG!U$1:U$65536,'[1]20T4-ĐCN2'!$A41) -> Quận Tân Bình | X41: đã nghỉ học
A42: =A41+1 -> 36 | B42: =INDEX([1]TỔNG!B$1:B$65536,'[1]20T4-ĐCN2'!$A42) -> 20004971 | C42: 20T4-ĐCN2 | D42: =INDEX([1]TỔNG!D$1:D$65536,'[1]20T4-ĐCN2'!$A42) -> Dương Tiến Vỹ | E42: =INDEX([1]TỔNG!E$1:E$65536,'[1]20T4-ĐCN2'!$A42) -> Nam | F42: =INDEX([1]TỔNG!F$1:F$65536,'[1]20T4-ĐCN2'!$A42) -> Sinh viên | G42: =INDEX([1]TỔNG!G$1:G$65536,'[1]20T4-ĐCN2'!$A42) -> 28/07/2005 | H42: =INDEX([1]TỔNG!H$1:H$65536,'[1]20T4-ĐCN2'!$A42) -> 0868461645 | I42: =INDEX([1]TỔNG!I$1:I$65536,'[1]20T4-ĐCN2'!$A42) -> 0 | J42: =INDEX([1]TỔNG!J$1:J$65536,'[1]20T4-ĐCN2'!$A42) -> SV 479 6021018758 | K42: =INDEX([1]TỔNG!M$1:M$65536,'[1]20T4-ĐCN2'!$A42) -> Kinh | L42: =INDEX([1]TỔNG!N$1:N$65536,'[1]20T4-ĐCN2'!$A42) -> Việt Nam | M42: =INDEX([1]TỔNG!O$1:O$65536,'[1]20T4-ĐCN2'!$A42) -> 0 | N42: =INDEX([1]TỔNG!P$1:P$65536,'[1]20T4-ĐCN2'!$A42) -> Xã Sùng Nhơn | O42: =INDEX([1]TỔNG!Q$1:Q$65536,'[1]20T4-ĐCN2'!$A42) -> Huyện Đức Linh | P42: =INDEX([1]TỔNG!R$1:R$65536,'[1]20T4-ĐCN2'!$A42) -> Bình Thuận | Q42: =INDEX([1]TỔNG!S$1:S$65536,'[1]20T4-ĐCN2'!$A42) -> 390 Hoàng Văn Thụ | R42: =INDEX([1]TỔNG!T$1:T$65536,'[1]20T4-ĐCN2'!$A42) -> Phường 4 | S42: =INDEX([1]TỔNG!U$1:U$65536,'[1]20T4-ĐCN2'!$A42) -> Quận Tân Bình | X42: đã nghỉ học

Sheet danh sách làm thẻ OCB
B2: DANH SÁCH SINH VIÊN LÀM TÀI KHOẢN OCB - LỚP 20T4-ĐCN2 - CVHT: TRẦN NAM ANH - SĐT: 0934051615
A4: STT | B4: Họ và chữ lót | C4: Quốc | D4: Lớp | E4: Mã SV | F4: số điện thoại | G4: địa chỉ mail | H4: Chứng minh nhân dân/CCCD (nếu chưa có ghi "chưa có CMND") | I4: Số tài khoản ngân hàng OCB
A5: 1 | B5: Phạm lê quốc | C5: BÌNH | D5: 20T4-ĐCN2 | E5: 20003188 | F5: 0981073337 | G5: 20003188@lttc.edu.vn | H5: Chua co´ CMND | I5: Chưa có tài khoản OCB
A6: 2 | B6: Nguyễn Huỳnh Hiếu | C6: Dương | D6: 20T4-ĐCN2 | E6: 20003227 | F6: 0934237919 | G6: huynhduong065@gmail.com | H6: 079203040011 | I6: chưa có tài khoản OCB
A7: 3 | B7: Vũ thành | C7: Đạt | D7: 20T4-ĐCN2 | E7: 20005846 | F7: 0383058718 | G7: 20005846@lttc.edu.vn | H7: 031205004735 | I7: chưa có tài khoản OCB
A8: 4 | B8: Nguyễn Trọng | C8: Đức | D8: 20T4-ĐCN2 | E8: 20001980 | F8: 0338932858 | G8: 20001980@lttc.edu.vn | H8: 075205000325 | I8: Chưa có tài khoản OCB
A9: 5 | B9: Chu văn | C9: Hoàn | D9: 20T4-ĐCN2 | E9: 20003762 | F9: 0917525082 | G9: 20003762@lttc.ed.vn | H9: Chua có | I9: Chưa có tài khoản OCB
A10: 6 | B10: Trần Huy | C10: Hoàng | D10: 20T4-ĐCN2 | E10: 20003473 | F10: 0367982674 | G10: huyhoang1929@gmail.com | H10: 215624758 | I10: Chưa có tài khoản OCB
A11: 7 | B11: Mai Văn | C11: Hùng | D11: 20T4-ĐCN2 | E11: 20005666 | F11: 0707557290 | G11: 20005666@lttc.edu.vn | H11: 215647059 | I11: Chưa có tài khoản OCB
A12: 8 | B12: Bùi Quốc | C12: Huy | D12: 20T4-ĐCN2 | E12: 20002575 | F12: 0865452833 | G12: huyb28297@gmail.com | H12: 036205002796 | I12: Chưa có tài khoản OCB
A13: 9 | B13: Trần khánh | C13: Hưng | D13: 20T4-ĐCN2 | E13: 20000924 | F13: 0936232133 | G13: 20000924@LTTC.edu.vn | H13: Chua có | I13: Chưa có tài khoản OCB
A14: 10 | B14: Vũ Bảo | C14: Khang | D14: 20T4-ĐCN2 | E14: 20002379 | F14: 0909568354 | G14: 20002379@LTTC.edu.vn | H14: 058205000039 | I14: Chưa có tài khoản OCB
A15: 11 | B15: Vũ đăng | C15: Khoa | D15: 20T4-ĐCN2 | E15: 20003116 | F15: 0933433998 | G15: ngothanhnhan462016@gmail.com | H15: Not have CMND | I15: Chưa có tài khoản OCB
A16: 12 | B16: Võ Tấn | C16: Kiệt | D16: 20T4-ĐCN2 | E16: 20006744 | F16: 0868749805 | G16: tankietvoo03@gmail.com | H16: Chua có | I16: Chưa có tài khoản OCB
A17: 13 | B17: Hồ công | C17: mão | D17: 20T4-ĐCN2 | E17: 20001151 | F17: 0367426234 | G17: Congmao2017Gmail.com | H17: 191995507 | I17: Chưa có tài khoản OCB
A18: 14 | B18: Lê Võ Minh | C18: Mỹ | D18: 20T4-ĐCN2 | E18: 20000414 | F18: 0939672500 | G18: 20000414@LTTC.edu.vn | H18: 082205015528 | I18: Chưa có tài khoản OCB
A19: 15 | B19: Trần Đình | C19: Nhuận | D19: 20T4-ĐCN2 | E19: 20003359 | F19: 0938960367 | G19: nhuantran3330@gmail.com | H19: 312605687 | I19: Chưa có tài khoản OCB
A20: 16 | B20: Phạm Văn Phát | C20: Phát | D20: 20T4-ĐCN2 | E20: 20001172 | F20: 0369052413 | G20: vanphat0408@gmail.com | H20: 079205029180 | I20: Chưa có tài khoản OCB
A21: 17 | B21: Phạm Sỹ | C21: Phú | D21: 20T4-ĐCN2 | E21: 20002100 | F21: 0908407924 | G21: phup6905@gmail.com | H21: Chua có CMND | I21: Chưa có tài khoản OCB
A22: 18 | B22: Nguyễn Lâm Hoàng | C22: Phúc | D22: 20T4-ĐCN2 | E22: 20005036 | F22: 0987750197 | G22: Phuclove97@gmail.com | H22: 079097006290 | I22: Chưa có tài khoản OCB
A23: 19 | B23: Trịnh Đình | C23: Phúc | D23: 20T4-ĐCN2 | E23: 20003041 | F23: 0931810833 | G23: phuctrinh3082005@gmail.com | H23: 091205000093 | I23: chưa có tài khoản OCB
A24: 20 | B24: Trần Hữu | C24: Phước | D24: 20T4-ĐCN2 | E24: 20001148 | F24: 0382382257 | G24: phuoc0382382257@gmail.com | H24: 261557205 | I24: chưa có tài khoản OCB
A25: 21 | B25: Nguyễn văn | C25: Quang | D25: 20T4-ĐCN2 | E25: 20001837 | F25: 0373957960 | G25: qn03010507@gmail.com | H25: 030205000742 | I25: chưa có tài khoản OCB
A26: 22 | B26: Tạ Dương Trung | C26: Quốc | D26: 20T4-ĐCN2 | E26: 20000607 | F26: 0901024337 | G26: taduongtrungquoc@gmail.com | H26: 079205026696 | I26: Chưa có tài khoản OCB
A27: 23 | B27: Nguyễn Nhân | C27: Thành | D27: 20T4-ĐCN2 | E27: 20001519 | F27: 0989010972 | G27: 20001519@lttc.edu.vn | H27: 079205023835 | I27: Chưa có tài khoản OCB
A28: 24 | B28: Phồng Kim | C28: Thành | D28: 20T4-ĐCN2 | E28: 20001726 | F28: 0395926514 | G28: phongkimthanh271105@gmail.com | H28: 075205999468 | I28: Chưa có tài khoản OCB
A29: 25 | B29: Phạm Quốc | C29: Thắng | D29: 20T4-ĐCN2 | E29: 20005463 | F29: 0333602633 | G29: thangdz10026@gmail.com | H29: Chua có CMND | I29: Chưa có tài khoản OCB
A30: 26 | B30: Nguyễn Văn | C30: Thịnh | D30: 20T4-ĐCN2 | E30: 20001328 | F30: 0777261665 | G30: thinhthaitu113@gmail.com | H30: chua có cmnd | I30: chưa có tài khoản ocb
A31: 27 | B31: nguyễn chí | C31: TOÀN | D31: 20T4-ĐCN2 | E31: 20005197 | F31: 0964617907 | G31: toan.nguyenchi@gmail.com | H31: 215565528 | I31: chưa có tài khoản ocb
A32: 28 | B32: Võ Hoàng Gia | C32: Trấn | D32: 20T4-ĐCN2 | E32: 20003144 | F32: 0938943877 | G32: nanxautrai123@gmail.com | H32: 048203000078 | I32: chưa có tài khoản ocb
A33: 29 | B33: Nguyễn Minh | C33: Triết | D33: 20T4-ĐCN2 | E33: 20006715 | F33: 0879392002 | G33: nguyentriet1903@gmail.com | H33: 079202001583 | I33: Chưa có tài khoản OCB
