Workbook

Sheet Mau 1
G1: Mẫu 1
A2: TRƯỜNG CAO ĐẲNG LÝ TỰ TRỌNG | E2: CỘNG HÒA XÃ HỘI CHỦ NGHĨA VIỆT NAM
A3: THÀNH PHỐ HỒ CHÍ MINH | E3: Độc lập - Tự do - Hạnh phúc
A4: ĐƠN VỊ: ĐIỆN - ĐIỆN TỬ
A6: DANH SÁCH CB-GV-NV ĐẠT TIÊU CHUẨN XẾP LOẠI THI ĐUA (Quy định số 1310/QyĐ-LTT-TĐ ngày 09/11/2020 của Trường)
A8: TT | B8: Họ tên | C8: Mã E-Office | D8: Tiêu chuẩn xếp loại thi đua A1 (Ghi rõ nội dung tiêu chuẩn: số Quyết định, thời gian, cơ quan ban hành,…) | E8: Tiêu chuẩn xếp loại thi đua A2 (Ghi rõ nội dung tiêu chuẩn: số Quyết định, thời gian, cơ quan ban hành,…) | F8: Tiêu chuẩn xếp loại thi đua A3 (Ghi rõ nội dung tiêu chuẩn: số Quyết định, thời gian, cơ quan ban hành,…) | G8: Ghi chú
A9: I. Viên chức
A10: 1 | B10: Tạ Minh Cường | C10: 01014002 | D10: - Tham gia Đề án hợp tác đào tạo trình độ cao đẳng chất lượng cao giữa Trường CĐ Lý Tự Trọng Tp.HCM với công ty TNHH Sản xuất và Kinh doanh VINFAST '-Tham gia 01 đề tài NCKH cấp trường (4 tác giả) QĐ số 1581/QĐ-LTTQLKH 23-12-2019 | E10: -SKKN có phạm vi ảnh hưởng cấp ngành, QĐ SGĐT số 1720/QĐ-GDĐT-VP 21-08-2020 - Có bài viết đăng kỷ yếu hội thảo cấp trường (Hội thảo Quốc tế COSS 2020). | F10: - Có bài viết đăng kỷ yếu hội thảo cấp khoa 19/06/2020 '- Có SKKN được đánh giá loại tốt CT HĐ SKKN cấp trường 31-03-2020
A11: 2 | B11: Huỳnh Ngọc Mai | C11: 01014004 | D11: - Tham gia 1 đề tài NCKH cấp trường (NGHIỆM THU 01/2021) | E11: - Có bài viết đăng kỷ yếu hội thảo cấp trường (Hội thảo Quốc tế COSS 2020). -SKKN có phạm vi ảnh hưởng cấp ngành, QĐ SGĐT số 1720/QĐ-GDĐT-VP 21-08-2020 | F11: - Có bài viết đăng kỷ yếu hội thảo cấp khoa 19/06/2020 '- Có SKKN được đánh giá loại tốt CT HĐ SKKN cấp trường 31-03-2020
A12: 3 | B12: Phạm Minh Nghĩa | C12: 01023003 | E12: '- Có bài viết đăng kỷ yếu hội thảo cấp trường (Hội thảo Quốc tế COSS 2020). -SKKN có phạm vi ảnh hưởng cấp ngành, QĐ SGĐT số 1720/QĐ-GDĐT-VP 21-08-2020 | F12: - Có bài viết đăng kỷ yếu hội thảo cấp khoa 19/06/2020 '- Có SKKN được đánh giá loại tốt CT HĐ SKKN cấp trường 31-03-2020
A13: 4 | B13: Võ Cường | C13: 01014008 | E13: - Có bài viết sáng kiến đạt PVAH cấp ngành (QĐ số 1720/QĐ-GDĐT-VP ngày 21/8/2020) '-SKKN có phạm vi ảnh hưởng cấp ngành, QĐ SGĐT số 1720/QĐ-GDĐT-VP 21-08-2020 | F13: - Có bài viết đăng kỷ yếu hội thảo cấp khoa 19/06/2020 '- Có SKKN được đánh giá loại tốt CT HĐ SKKN cấp trường 31-03-2020
A14: 5 | B14: Quách Minh Thử | C14: 01014007 | D14: -Tham gia 01 đề tài NCKH cấp trường (4 tác giả) QĐ số 1581/QĐ-LTTQLKH 23-12-2019 | E14: - Có bài viết sáng kiến đạt PVAH cấp ngành (QĐ số 1720/QĐ-GDĐT-VP ngày 21/8/2020) '-Tham gia 01 đề tài NCKH cấp trường (4 tác giả) QĐ số 1581/QĐ-LTTQLKH 23-12-2019 | F14: - Có bài viết đăng kỷ yếu hội thảo cấp khoa 19/06/2020 '- Có SKKN được đánh giá loại khá CT HĐ SKKN cấp trường 31-03-2020
A15: 6 | B15: Trần Nguyên Bảo Trân | C15: 01014038 | D15: - Tham gia Đề án hợp tác đào tạo trình độ cao đẳng chất lượng cao giữa Trường CĐ Lý Tự Trọng Tp.HCM với công ty TNHH Sản xuất và Kinh doanh VINFAST | E15: - Có bài viết sáng kiến đạt PVAH cấp ngành (QĐ số 1720/QĐ-GDĐT-VP ngày 21/8/2020) | F15: - Có bài viết đăng kỷ yếu hội thảo cấp khoa 19/06/2020 '- Có SKKN được đánh giá loại khá CT HĐ SKKN cấp trường 31-03-2020
A16: 7 | B16: Ngô Hoàng Anh | C16: 01014005 | F16: - Có bài viết đăng kỷ yếu hội thảocấp khoa 19/06/2020
A17: 8 | B17: Trần Nam Anh | C17: 01014046 | E17: - Có bài viết đăng kỷ yếu hội thảo cấp trường (Hội thảo Quốc tế COSS 2020). | F17: - Có bài viết đăng kỷ yếu hội thảo cấp khoa 19/06/2020 '- Có SKKN được đánh giá loại khá CT HĐ SKKN cấp trường 31-03-2020
A18: 9 | B18: Vũ Hạnh Chiêu | C18: 01014026 | F18: - Có bài viết đăng kỷ yếu hội thảo cấp khoa 19/06/2020
A19: 10 | B19: Ngô Phong Cường | C19: 01014029 | F19: - Có bài viết đăng kỷ yếu hội thảo cấp khoa 19/06/2020
A20: 11 | B20: Nguyễn Minh Đức Cường | C20: 01014033 | D20: -Tham gia 01 đề tài NCKH cấp trường (4 tác giả) QĐ số 1581/QĐ-LTTQLKH 23-12-2019 | F20: - Có bài viết đăng kỷ yếu hội thảo cấp khoa 19/06/2020 '- Có SKKN được đánh giá loại khá CT HĐ SKKN cấp trường 31-03-2020
A21: 12 | B21: Lê Tiến Đạt | C21: 01014023 | D21: - Tham gia 1 đề tài NCKH cấp trường (NGHIỆM THU 01/2021) | E21: -SKKN có phạm vi ảnh hưởng cấp ngành, QĐ SGĐT số 1720/QĐ-GDĐT-VP 21-08-2020 | F21: - Có bài viết đăng kỷ yếu hội thảo cấp khoa 19/06/2020 '- Có SKKN được đánh giá loại tốt CT HĐ SKKN cấp trường 31-03-2020
A22: 13 | B22: Nguyễn Hồng Đức | C22: 01014013 | F22: - Có bài viết đăng kỷ yếu hội thảo cấp khoa 19/06/2020
A23: 14 | B23: Nguyễn Minh Đức | C23: 01014017 | F23: - Có bài viết đăng kỷ yếu hội thảo cấp khoa 19/06/2020
A24: 15 | B24: Nguyễn Thị Ngọc Hiền | C24: 01014034 | F24: - Có bài viết đăng kỷ yếu hội thảo cấp khoa 19/06/2020
A25: 16 | B25: Trần Trung Hiếu | C25: 01014020 | F25: - Có bài viết đăng kỷ yếu hội thảo cấp khoa 19/06/2020
A26: 17 | B26: Mạnh Lê Hoàn | C26: 01014018 | F26: - Có bài viết đăng kỷ yếu hội thảo cấp khoa 19/06/2020
A27: 18 | B27: Lê Thế Huân | C27: 01014019 | F27: - Có bài viết đăng kỷ yếu hội thảo cấp khoa 19/06/2020
A28: 19 | B28: Tăng Cẩm Huê | C28: 01014010 | F28: - Có bài viết đăng kỷ yếu hội thảo cấp khoa 19/06/2020
A29: 20 | B29: Nguyễn Thùy Linh | C29: 01014030 | F29: - Có bài viết đăng kỷ yếu hội thảo cấp khoa 19/06/2020
A30: 21 | B30: Đặng Đức Minh | C30: 01014024 | F30: - Có bài viết đăng kỷ yếu hội thảo cấp khoa 19/06/2020 '- Có SKKN được đánh giá loại khá CT HĐ SKKN cấp trường 31-03-2020
A31: 22 | B31: Trần Giang Nam | C31: 01014048 | E31: - Có bài viết đăng kỷ yếu hội thảo cấp trường (Hội thảo Quốc tế COSS 2020). | F31: - Có bài viết đăng kỷ yếu hội thảo cấp khoa 19/06/2020 '- Có SKKN được đánh giá loại khá CT HĐ SKKN cấp trường 31-03-2020
A32: 23 | B32: Nguyễn Thị Tố Nga | C32: 01014022 | F32: - Có bài viết đăng kỷ yếu hội thảo cấp khoa 19/06/2020 '- Có SKKN được đánh giá loại khá CT HĐ SKKN cấp trường 31-03-2020
A33: 24 | B33: Nguyễn Trần Thanh Nhàn | C33: 01014025 | F33: - Có bài viết đăng kỷ yếu hội thảo cấp khoa 19/06/2020
A34: 25 | B34: Đỗ Huỳnh Thanh Phong | C34: 01014032 | F34: - Có bài viết đăng kỷ yếu hội thảo cấp khoa 19/06/2020
A35: 26 | B35: Nguyễn Anh Tăng | C35: 01014006 | F35: - Có bài viết đăng kỷ yếu hội thảo cấp khoa 19/06/2020
A36: 27 | B36: Trần Công Tiến | C36: 01014009 | F36: - Có bài viết đăng kỷ yếu hội thảo cấp khoa 19/06/2020
A37: 28 | B37: Cao Văn Tuấn | C37: 01014045 | E37: - Có bài viết đăng kỷ yếu hội thảo cấp trường (Hội thảo Quốc tế COSS 2020). '-SKKN có phạm vi ảnh hưởng cấp ngành, QĐ SGĐT số 1720/QĐ-GDĐT-VP 21-08-2020 | F37: - Có bài viết đăng kỷ yếu hội thảo cấp khoa 19/06/2020 '- Có SKKN được đánh giá loại tốt CT HĐ SKKN cấp trường 31-03-2020
A38: 29 | B38: Trần Hiếu Trinh | C38: 01014021 | E38: - Có bài viết đăng kỷ yếu hội thảo cấp trường (Hội thảo Quốc tế COSS 2020). | F38: - Có bài viết đăng kỷ yếu hội thảo cấp khoa 19/06/2020
A39: 30 | B39: Nguyễn Văn Yên | C39: 01014016 | F39: - Có bài viết đăng kỷ yếu hội thảo cấp khoa 19/06/2020
A40: 31 | B40: Phan Thanh Hoàng | C40: 01014042
A41: II. Hợp đồng trường
A42: 01 | B42: Nguyễn Thị C
...

Sheet Mau 2
A1: TRƯỜNG CAO ĐẲNG LÝ TỰ TRỌNG THÀNH PHỐ HỒ CHÍ MINH ĐƠN VỊ: KHOA ĐIỆN-ĐIỆN TỬ | E1: CỘNG HÒA XÃ HỘI CHỦ NGHĨA VIỆT NAM Độc lập - Tự do - Hạnh phúc
F2: Mẫu 2
A3: BẢNG TỔNG HỢP NHIỆM VỤ CHUNG VÀ RIÊNG CỦA ĐƠN VỊ (Gửi file mềm ngày 25 hàng tháng)
A6: TT | B6: Nội dung công việc | C6: Thời gian thực hiện | D6: Kết quả | F6: Ghi chú
A7: A | B7: TỔNG KẾT CÔNG VIỆC TRONG THÁNG
A8: I. | B8: Công việc chung của Trường
A9: 1 | B9: Nhiệm vụ 1: Công tác chuẩn bị, tham gia Tư vấn tuyển sinh trực tuyến | C9: 23/03/2021 | E9: - Trần Nam Anh
A10: 1 | B10: Nhiệm vụ 1: Đề án thuộc Chương trình phát triển Công nghiệp hỗ trợ năm 2022 | C10: 09/2021 | D10: 1 | E10: Tạ Minh Cường
D11: 2 | E11: Huỳnh Ngọc Mai
D12: 3 | E12: Quách Minh Thử
D13: 4 | E13: Võ Cường
D14: 5 | E14: Trần Nguyên Bảo Trân
D15: 6
A16: 2 | B16: Nhiệm vụ 2: Chụp hình , thống kê thiết bị dự án Schneider | C16: 09/2021 | D16: 1 | E16: Tạ Minh Cường
D17: 2 | E17: Nguyễn Minh Đức Cường
D18: 3 | E18: Trần Nam Anh
A19: 3 | B19: Nhiệm vụ 3: Công tác chuẩn bị, Làm mô hình dự thi vòng sơ loại Startup Kite 2021 | C19: 09/2021 | D19: 1 | E19: Tạ Minh Cường
D20: 2 | E20: Võ Cường
D21: 3 | E21: Quách Minh Thử
D22: 4 | E22: Lê Tiến Đạt
D23: 5 | E23: Trần Nam Anh
D24: 6 | E24: Huỳnh Ngọc Mai
D25: 7 | E25: Cao Văn Tuấn
D26: 8 | E26: Trần Nguyên Bảo Trân
D27: 9 | E27: Trần Trung Hiếu
D28: 10 | E28: Phan Thanh Hoàng
D29: 11 | E29: Đặng Đức Minh
A30: 4 | B30: Nhiệm vụ 4: Công tác chuẩn bị thi Thiết kế bài giảng trực tuyến năm 2021 | C30: 09/2021 | D30: 1 | E30: Trần Giang Nam | F30: Tham gia dự thi
D31: 2 | E31: Huỳnh Ngọc Mai
D32: 3 | E32: Trần Nguyên Bảo Trân
D33: 4 | E33: Võ Cường
D34: 5 | E34: Nguyễn Thuỳ Linh
D35: 6 | E35: Cao Văn Tuấn
D36: 7 | E36: Quách Minh Thử
D37: 8 | E37: Cao Văn Tuấn
D38: 9 | E38: Phạm Minh Nghĩa | F38: Hỗ trợ
D39: 10 | E39: Nguyễn Minh Đức Cường
A40: 5 | B40: Nhiệm vụ 5: Công tác tự đánh giá cơ sở giáo dục nghề nghiệp và đánh giá ngoài chương trình đào tạo 2 ngành: CN ô tô, Điện CN | C40: 09/2021 | D40: 1 | E40: Tạ Minh Cường;
D41: 2 | E41: Quách Minh Thử
D42: 3 | E42: Phạm Minh Nghĩa
...

Sheet Mau 3
A1: TRƯỜNG CAO ĐẲNG LÝ TỰ TRỌNG | D1: CỘNG HÒA XÃ HỘI CHỦ NGHĨA VIỆT NAM
A2: THÀNH PHỐ HỒ CHÍ MINH | D2: Độc lập - Tự do - Hạnh phúc
A3: ĐƠN VỊ: KHOA ĐIỆN-ĐIỆN TỬ
A5: THỐNG KÊ CHI TIẾT KHỐI LƯỢNG CÔNG VIỆC THỰC HIỆN THÁNG 09/2021
A7: TT | B7: Tên nội dung công việc | D7: Công việc chung của trường | Q7: Công việc riêng của đơn vị | AB7: Ghi chú
B8: Họ và tên | C8: Mã E-ofice | D8: Nhiệm vụ 1 | E8: Nhiệm vụ 2 | F8: Nhiệm vụ 3 | G8: Nhiệm vụ 4 | H8: Nhiệm vụ 5 | I8: Nhiệm vụ 6 | J8: Nhiệm vụ 7 | K8: Nhiệm vụ 8 | L8: Nhiệm vụ 9 | M8: Nhiệm vụ 10 | N8: Nhiệm vụ 11 | O8: Nhiệm vụ 12 | P8: Tổng | Q8: Nhiệm vụ 1 | R8: Nhiệm vụ 2 | S8: Nhiệm vụ 3 | T8: Nhiệm vụ 4 | U8: Nhiệm vụ 3 | V8: Nhiệm vụ 4 | W8: Nhiệm vụ 5 | X8: Nhiệm vụ 6 | Y8: Nhiệm vụ 7 | Z8: Nhiệm vụ 8 | AA8: Tổng
A9: I. Viên chức
A10: 1 | B10: Tạ Minh Cường | C10: 01014002 | D10: X | E10: X | F10: X | G10: X | H10: X | P10: =COUNTA(D10:O10) -> 5 | R10: X | U10: X | AA10: =COUNTA(Q10:Z10) -> 2
A11: 2 | B11: Huỳnh Ngọc Mai | C11: 01014004 | D11: X | F11: X | G11: X | P11: =COUNTA(D11:O11) -> 3 | Q11: X | R11: X | U11: X | AA11: =COUNTA(Q11:Z11) -> 3
A12: 3 | B12: Phạm Minh Nghĩa | C12: 01023003 | G12: X | H12: X | P12: =COUNTA(D12:O12) -> 2 | R12: X | U12: X | V12: X | AA12: =COUNTA(Q12:Z12) -> 3
A13: 4 | B13: Võ Cường | C13: 01014008 | D13: X | F13: X | G13: X | P13: =COUNTA(D13:O13) -> 3 | Q13: X | R13: X | U13: X | AA13: =COUNTA(Q13:Z13) -> 3
A14: 5 | B14: Quách Minh Thử | C14: 01014007 | D14: X | F14: X | G14: X | H14: X | P14: =COUNTA(D14:O14) -> 4 | R14: X | U14: X | AA14: =COUNTA(Q14:Z14) -> 2
A15: 6 | B15: Trần Nguyên Bảo Trân | C15: 01014038 | D15: X | F15: X | G15: X | I15: X | P15: =COUNTA(D15:O15) -> 4 | Q15: X | R15: X | AA15: =COUNTA(Q15:Z15) -> 2
A16: 7 | B16: Ngô Hoàng Anh | C16: 01014005 | P16: =COUNTA(D16:O16) -> 0 | U16: X | AA16: =COUNTA(Q16:Z16) -> 1
A17: 8 | B17: Trần Nam Anh | C17: 01014046 | E17: X | F17: X | P17: =COUNTA(D17:O17) -> 2 | Q17: X | U17: X | V17: X | AA17: =COUNTA(Q17:Z17) -> 3
A18: 9 | B18: Vũ Hạnh Chiêu | C18: 01014026 | P18: =COUNTA(D18:O18) -> 0 | U18: X | AA18: =COUNTA(Q18:Z18) -> 1
A19: 10 | B19: Ngô Phong Cường | C19: 01014029 | P19: =COUNTA(D19:O19) -> 0 | AA19: =COUNTA(Q19:Z19) -> 0
A20: 11 | B20: Nguyễn Minh Đức Cường | C20: 01014033 | E20: X | G20: X | P20: =COUNTA(D20:O20) -> 2 | R20: X | U20: X | V20: X | AA20: =COUNTA(Q20:Z20) -> 3
A21: 12 | B21: Lê Tiến Đạt | C21: 01014023 | F21: X | P21: =COUNTA(D21:O21) -> 1 | U21: X | V21: X | AA21: =COUNTA(Q21:Z21) -> 2
A22: 13 | B22: Nguyễn Hồng Đức | C22: 01014013 | P22: =COUNTA(D22:O22) -> 0 | U22: X | AA22: =COUNTA(Q22:Z22) -> 1
A23: 14 | B23: Nguyễn Minh Đức | C23: 01014017 | P23: =COUNTA(D23:O23) -> 0 | AA23: =COUNTA(Q23:Z23) -> 0
A24: 15 | B24: Nguyễn Thị Ngọc Hiền | C24: 01014034 | P24: =COUNTA(D24:O24) -> 0 | U24: X | AA24: =COUNTA(Q24:Z24) -> 1
A25: 16 | B25: Trần Trung Hiếu | C25: 01014020 | F25: X | P25: =COUNTA(D25:O25) -> 1 | U25: X | V25: X | AA25: =COUNTA(Q25:Z25) -> 2
A26: 17 | B26: Mạnh Lê Hoàn | C26: 01014018 | P26: =COUNTA(D26:O26) -> 0 | U26: X | AA26: =COUNTA(Q26:Z26) -> 1
A27: 18 | B27: Lê Thế Huân | C27: 01014019 | P27: =COUNTA(D27:O27) -> 0 | AA27: =COUNTA(Q27:Z27) -> 0
A28: 19 | B28: Tăng Cẩm Huê | C28: 01014010 | P28: =COUNTA(D28:O28) -> 0 | U28: X | V28: X | AA28: =COUNTA(Q28:Z28) -> 2
A29: 20 | B29: Nguyễn Thùy Linh | C29: 01014030 | G29: X | P29: =COUNTA(D29:O29) -> 1 | AA29: =COUNTA(Q29:Z29) -> 0
A30: 21 | B30: Đặng Đức Minh | C30: 01014024 | F30: X | P30: =COUNTA(D30:O30) -> 1 | R30: X | U30: X | V30: X | AA30: =COUNTA(Q30:Z30) -> 3
A31: 22 | B31: Trần Giang Nam | C31: 01014048 | G31: X | I31: X | P31: =COUNTA(D31:O31) -> 2 | R31: X | U31: X | AA31: =COUNTA(Q31:Z31) -> 2
A32: 23 | B32: Nguyễn Thị Tố Nga | C32: 01014022 | P32: =COUNTA(D32:O32) -> 0 | U32: X | AA32: =COUNTA(Q32:Z32) -> 1
A33: 24 | B33: Nguyễn Trần Thanh Nhàn | C33: 01014025 | P33: =COUNTA(D33:O33) -> 0 | U33: X | AA33: =COUNTA(Q33:Z33) -> 1
A34: 25 | B34: Đỗ Huỳnh Thanh Phong | C34: 01014032 | P34: =COUNTA(D34:O34) -> 0 | AA34: =COUNTA(Q34:Z34) -> 0
A35: 26 | B35: Nguyễn Anh Tăng | C35: 01014006 | P35: =COUNTA(D35:O35) -> 0 | AA35: =COUNTA(Q35:Z35) -> 0
A36: 27 | B36: Trần Công Tiến | C36: 01014009 | P36: =COUNTA(D36:O36) -> 0 | U36: X | V36: X | AA36: =COUNTA(Q36:Z36) -> 2
A37: 28 | B37: Cao Văn Tuấn | C37: 01014045 | F37: X | G37: X | P37: =COUNTA(D37:O37) -> 2 | R37: X | U37: X | AA37: =COUNTA(Q37:Z37) -> 2
A38: 29 | B38: Trần Hiếu Trinh | C38: 01014021 | P38: =COUNTA(D38:O38) -> 0 | U38: X | AA38: =COUNTA(Q38:Z38) -> 1
A39: 30 | B39: Nguyễn Văn Yên | C39: 01014016 | P39: =COUNTA(D39:O39) -> 0 | AA39: =COUNTA(Q39:Z39) -> 0
A40: 31 | B40: Phan Thanh Hoàng | C40: 01014042 | F40: X | P40: =COUNTA(D40:O40) -> 1 | U40: X | AA40: =COUNTA(Q40:Z40) -> 1
A41: II. Hợp đồng trường
A42: 01 | B42: Nguyễn Thị C | D42: =COUNTA(D10:D40) -> 5 | E42: =COUNTA(E10:E40) -> 3 | F42: =COUNTA(F10:F40) -> 11 | G42: =COUNTA(G10:G40) -> 10 | H42: =COUNTA(H10:H40) -> 3 | I42: =COUNTA(I10:I40) -> 2 | J42: =COUNTA(J10:J40) -> 0 | K42: =COUNTA(K10:K40) -> 0 | L42: =COUNTA(L10:L40) -> 0 | Q42: =COUNTA(Q10:Q40) -> 4 | R42: =COUNTA(R10:R40) -> 10 | S42: =COUNTA(S10:S40) -> 0 | T42: =COUNTA(T10:T40) -> 0 | U42: =COUNTA(U10:U40) -> 23 | V42: =COUNTA(V10:V40) -> 8 | W42: =COUNTA(W10:W40) -> 0 | X42: =COUNTA(X10:X40) -> 0 | ... Z42: =COUNTA(Z10:Z40) -> 0
...

Sheet Mau 4 
A1: TRƯỜNG CAO ĐẲNG LÝ TỰ TRỌNG | F1: CỘNG HÒA XÃ HỘI CHỦ NGHĨA VIỆT NAM
A2: THÀNH PHỐ HỒ CHÍ MINH | F2: Độc lập - Tự do - Hạnh phúc
A3: ĐƠN VỊ: KHOA ĐIỆN - ĐIỆN TỬ
A5: DANH SÁCH XẾP LOẠI THI ĐUA THÁNG 09/2021
A7: TT | B7: Họ tên | C7: Mã E-Office | D7: Tập thể đơn vị đề nghị | F7: Số lượng công việc tham gia | H7: Số ngày/giờ vượt so với ngày công kế hoạch (đối với CB-NV) | I7: Số ngày nghỉ/ tiết nghỉ (đối với GV) | J7: Ghi chú
D8: Xếp loại | E8: Lý do | F8: Công việc chung của trường | G8: Công việc riêng của đơn vị
A9: I. Viên chức
A10: 1 | B10: Tạ Minh Cường | C10: 01014002 | D10: A1 | E10: - Tham gia Đề án hợp tác đào tạo trình độ cao đẳng chất lượng cao giữa Trường CĐ Lý Tự Trọng Tp.HCM với công ty TNHH Sản xuất và Kinh doanh VINFAST '- Tham gia 1 đề tài NCKH cấp trường (QĐ số 1581/QĐ-LTTQLKH 23/12/2019) - Có bài viết đăng kỷ yếu hội thảo cấp trường (Hội thảo Quốc tế COSS 2020). - Có bài viết sáng kiến đạt PVAH cấp ngành (QĐ số 1720/QĐ-GDĐT ngày 21/8/2020) | F10: ='Mau 3'!P10 -> 5 | G10: ='Mau 3'!AA10 -> 2
A11: 2 | B11: Huỳnh Ngọc Mai | C11: 01014004 | D11: A1 | E11: - Tham gia 1 đề tài NCKH cấp trường (NGHIỆM THU 01/2021) - Có bài viết sáng kiến đạt PVAH cấp ngành (QĐ số 1720/QĐ-GDĐT-VP ngày 21/8/2020) - Có bài viết đăng kỷ yếu hội thảo cấp trường (Hội thảo Quốc tế COSS 2020). | F11: ='Mau 3'!P11 -> 3 | G11: ='Mau 3'!AA11 -> 3
A12: 3 | B12: Phạm Minh Nghĩa | C12: 01023003 | D12: A2 | E12: - Có bài viết sáng kiến đạt PVAH cấp ngành (QĐ số 1720/QĐ-GDĐT-VP ngày 21/8/2020) - Có bài viết đăng kỷ yếu hội thảo cấp trường (Hội thảo Quốc tế COSS 2020). | F12: ='Mau 3'!P12 -> 2 | G12: ='Mau 3'!AA12 -> 3
A13: 4 | B13: Võ Cường | C13: 01014008 | D13: A2 | E13: - Có bài viết sáng kiến đạt PVAH cấp ngành (QĐ số 1720/QĐ-GDĐT-VP ngày 21/8/2020) - Có bài viết đăng kỷ yếu hội thảo cấp trường (Hội thảo Quốc tế COSS 2020). | F13: ='Mau 3'!P13 -> 3 | G13: ='Mau 3'!AA13 -> 3
A14: 5 | B14: Quách Minh Thử | C14: 01014007 | D14: A1 | E14: - Tham gia 1 đề tài NCKH cấp trường (QĐ số 1581/QĐ-LTTQLKH 23/12/2019) - Có bài viết đăng kỷ yếu hội thảo cấp trường (Hội thảo Quốc tế COSS 2020). | F14: ='Mau 3'!P14 -> 4 | G14: ='Mau 3'!AA14 -> 2
A15: 6 | B15: Trần Nguyên Bảo Trân | C15: 01014038 | D15: A1 | E15: - Tham gia Đề án hợp tác đào tạo trình độ cao đẳng chất lượng cao giữa Trường CĐ Lý Tự Trọng Tp.HCM với công ty TNHH Sản xuất và Kinh doanh VINFAST '- Có bài viết đăng kỷ yếu hội thảo cấp trường (Hội thảo Quốc tế COSS 2020). | F15: ='Mau 3'!P15 -> 4 | G15: ='Mau 3'!AA15 -> 2
A16: 7 | B16: Ngô Hoàng Anh | C16: 01014005 | D16: A4 | E16: - Có bài viết đăng kỷ yếu hội thảo cấp trường (Hội thảo Quốc tế COSS 2020). | F16: ='Mau 3'!P16 -> 0 | G16: ='Mau 3'!AA16 -> 1
A17: 8 | B17: Trần Nam Anh | C17: 01014046 | D17: A2 | E17: - Có bài viết đăng kỷ yếu hội thảo cấp trường (Hội thảo Quốc tế COSS 2020). | F17: ='Mau 3'!P17 -> 2 | G17: ='Mau 3'!AA17 -> 3
A18: 9 | B18: Vũ Hạnh Chiêu | C18: 01014026 | D18: A4 | E18: - Có bài viết đăng kỷ yếu hội thảo cấp khoa 19/06/2020 | F18: ='Mau 3'!P18 -> 0 | G18: ='Mau 3'!AA18 -> 1
A19: 10 | B19: Ngô Phong Cường | C19: 01014029 | D19: A4 | E19: - Có bài viết đăng kỷ yếu hội thảo cấp khoa 19/06/2020 | F19: ='Mau 3'!P19 -> 0 | G19: ='Mau 3'!AA19 -> 0
A20: 11 | B20: Nguyễn Minh Đức Cường | C20: 01014033 | D20: A1 | E20: Tham gia 1 đề tài NCKH cấp trường (QĐ số 1581/QĐ-LTTQLKH 23/12/2019) | F20: ='Mau 3'!P20 -> 2 | G20: ='Mau 3'!AA20 -> 3
A21: 12 | B21: Lê Tiến Đạt | C21: 01014023 | D21: A3 | E21: - Tham gia 1 đề tài NCKH cấp trường (NGHIỆM THU 01/2021) - Có bài viết sáng kiến đạt PVAH cấp ngành (QĐ số 1720/QĐ-GDĐT ngày 21/8/2020) | F21: ='Mau 3'!P21 -> 1 | G21: ='Mau 3'!AA21 -> 2
... A39: 30 | B39: Nguyễn Văn Yên | C39: 01014016 | D39: A4 | E39: - Có bài viết đăng kỷ yếu hội thảo cấp khoa 19/06/2020 | F39: ='Mau 3'!P39 -> 0 | G39: ='Mau 3'!AA39 -> 0
A40: 31 | B40: Phan Thanh Hoàng | C40: 01014042 | D40: A4 | F40: ='Mau 3'!P40 -> 1 | G40: ='Mau 3'!AA40 -> 1
A42: II. Hợp đồng trường
A43: 01 | B43: Nguyễn Thị C | D43: A4 | F43: 1 | G43: 1
A44: 02
A45: 03
A46: 04
A47: 05
B50: Kết quả xếp loại | E50: Viên chức | F50: Hợp đồng trường | H50: Ý kiến TT HĐ TĐ-KT
B51: A1 | E51: =IF(COUNTIF(D10:D40,"A1")=0,"",COUNTIF(D10:D40,"A1")) -> 5
B52: A2 | E52: =IF(COUNTIF(D10:D40,"A2")=0,"",COUNTIF(D10:D40,"A2")) -> 5
B53: A3 | E53: =IF(COUNTIF(D10:D40,"A3")=0,"",COUNTIF(D10:D40,"A3")) -> 6
B54: A4 | E54: =IF(COUNTIF(D10:D40,"A4")=0,"",COUNTIF(D10:D40,"A4")) -> 15
B55: B1 | E55: =IF(COUNTIF(D10:D40,"B1")=0,"",COUNTIF(D10:D40,"B1"))
B56: B2 | E56: =IF(COUNTIF(D10:D40,"B2")=0,"",COUNTIF(D10:D40,"B2"))
B57: C1 | E57: =IF(COUNTIF(D10:D40,"C1")=0,"",COUNTIF(D10:D40,"C1"))
B58: C2 | E58: =IF(COUNTIF(D10:D40,"C2")=0,"",COUNTIF(D10:D40,"C2"))
B59: D | E59: =IF(COUNTIF(D10:D40,"D")=0,"",COUNTIF(D10:D40,"D"))
B60: E | E60: =IF(COUNTIF(D10:D40,"E")=0,"",COUNTIF(D10:D40,"E"))
B61: Tổng số nhân sự: | E61: =SUM(E51:E60) -> 31 | F61: =SUM(F51:F60) -> 0
A63: Lưu ý: Các đơn vị gửi file mềm qua hệ thống điện tử E-office nhà trường và văn bản giấy về phòng TC-HC-TH (Cô Trần Thị Ánh Phượng).
...

Sheet Dieu chinh
A1: TRƯỜNG CAO ĐẲNG LÝ TỰ TRỌNG | F1: CỘNG HÒA XÃ HỘI CHỦ NGHĨA VIỆT NAM
A2: THÀNH PHỐ HỒ CHÍ MINH | F2: Độc lập - Tự do - Hạnh phúc
A3: ĐƠN VỊ: KHOA ĐIỆN - ĐIỆN TỬ
A5: DANH SÁCH XẾP LOẠI THI ĐUA THÁNG 02/2021
A7: TT | B7: Họ tên | C7: Mã E-Office | D7: Tập thể đơn vị đề nghị | F7: Số lượng công việc tham gia | H7: Số ngày/giờ vượt so với ngày công kế hoạch (đối với CB-NV) | I7: Số ngày nghỉ/ tiết nghỉ (đối với GV) | J7: Ghi chú
D8: Xếp loại | E8: Lý do | F8: Công việc chung của trường | G8: Công việc riêng của đơn vị
A9: I. Viên chức
A10: 01 | B10: Tạ Minh Cường | C10: 01014002 | D10: A1 | E10: - Tham gia Đề án hợp tác đào tạo trình độ cao đẳng chất lượng cao giữa Trường CĐ Lý Tự Trọng Tp.HCM với công ty TNHH Sản xuất và Kinh doanh VINFAST '- Tham gia 1 đề tài NCKH cấp trường (QĐ số 1581/QĐ-LTTQLKH 23/12/2019) - Có bài viết đăng kỷ yếu hội thảo cấp trường (Hội thảo Quốc tế COSS 2020). - Có bài viết sáng kiến đạt PVAH cấp ngành (QĐ số 1720/QĐ-GDĐT ngày 21/8/2020) | F10: 3 | G10: 2
A11: 02 | B11: Huỳnh Ngọc Mai | C11: 01014004 | D11: A3 | E11: - Tham gia 1 đề tài NCKH cấp trường (NGHIỆM THU 01/2021) - Có bài viết sáng kiến đạt PVAH cấp ngành (QĐ số 1720/QĐ-GDĐT-VP ngày 21/8/2020) - Có bài viết đăng kỷ yếu hội thảo cấp trường (Hội thảo Quốc tế COSS 2020). | F11: 1 | G11: 1
A12: 03 | B12: Phạm Minh Nghĩa | C12: 01023003 | D12: A3 | E12: - Có bài viết sáng kiến đạt PVAH cấp ngành (QĐ số 1720/QĐ-GDĐT-VP ngày 21/8/2020) - Có bài viết đăng kỷ yếu hội thảo cấp trường (Hội thảo Quốc tế COSS 2020). | F12: 1 | G12: 3
A13: 04 | B13: Võ Cường | C13: 01014008 | D13: A4 | E13: - Có bài viết sáng kiến đạt PVAH cấp ngành (QĐ số 1720/QĐ-GDĐT-VP ngày 21/8/2020) - Có bài viết đăng kỷ yếu hội thảo cấp trường (Hội thảo Quốc tế COSS 2020). | F13: 0 | G13: 0
A14: 05 | B14: Quách Minh Thử | C14: 01014007 | D14: A3 | E14: - Tham gia 1 đề tài NCKH cấp trường (QĐ số 1581/QĐ-LTTQLKH 23/12/2019) - Có bài viết đăng kỷ yếu hội thảo cấp trường (Hội thảo Quốc tế COSS 2020). | F14: 2 | G14: 1
A15: 06 | B15: Trần Nguyên Bảo Trân | C15: 01014038 | D15: B2 | E15: - Tham gia Đề án hợp tác đào tạo trình độ cao đẳng chất lượng cao giữa Trường CĐ Lý Tự Trọng Tp.HCM với công ty TNHH Sản xuất và Kinh doanh VINFAST '- Có bài viết đăng kỷ yếu hội thảo cấp trường (Hội thảo Quốc tế COSS 2020). - Vào lớp trễ 28 phút | F15: 2 | G15: 0
A16: 07 | B16: Ngô Hoàng Anh | C16: 01014005 | D16: A4 | E16: - Có bài viết đăng kỷ yếu hội thảo cấp trường (Hội thảo Quốc tế COSS 2020). | F16: 0 | G16: 0
A17: 08 | B17: Trần Nam Anh | C17: 01014046 | D17: A3 | E17: - Có bài viết đăng kỷ yếu hội thảo cấp trường (Hội thảo Quốc tế COSS 2020). | F17: 1 | G17: 1
A18: 09 | B18: Vũ Hạnh Chiêu | C18: 01014026 | D18: A4 | E18: - Có bài viết đăng kỷ yếu hội thảo cấp khoa 19/06/2020 | F18: 0 | G18: 0
A19: 10 | B19: Ngô Phong Cường | C19: 01014029 | D19: A3 | E19: - Có bài viết đăng kỷ yếu hội thảo cấp khoa 19/06/2020 | F19: 0 | G19: 2
A20: 11 | B20: Nguyễn Minh Đức Cường | C20: 01014033 | D20: A1 | E20: Tham gia 1 đề tài NCKH cấp trường (QĐ số 1581/QĐ-LTTQLKH 23/12/2019) | F20: 2 | G20: 3
A21: 12 | B21: Lê Tiến Đạt | C21: 01014023 | D21: A4 | E21: - Tham gia 1 đề tài NCKH cấp trường (NGHIỆM THU 01/2021) - Có bài viết sáng kiến đạt PVAH cấp ngành (QĐ số 1720/QĐ-GDĐT ngày 21/8/2020) | F21: 0 | G21: 1
... A39: 30 | B39: Nguyễn Văn Yên | C39: 01014016 | D39: A4 | E39: - Có bài viết đăng kỷ yếu hội thảo cấp khoa 19/06/2020 | F39: 0 | G39: 0
A41: II. Hợp đồng trường
A42: 01 | B42: Nguyễn Thị C | D42: A4 | F42: 1 | G42: 1
A43: 02
A44: 03
A45: 04
A46: 05
B49: Kết quả xếp loại | E49: Viên chức | F49: Hợp đồng trường | H49: Ý kiến TT HĐ TĐ-KT
B50: A1 | E50: =COUNTIF(D10:D39,"A1") -> 2
B51: A2
B52: A3 | E52: =COUNTIF(D10:D39,"A3") -> 11
B53: A4 | E53: =COUNTIF(D10:D39,"A4") -> 15
B54: B1 | E54: =COUNTIF(D10:D39,"B1") -> 1
B55: B2 | E55: =COUNTIF(D10:D39,"B2") -> 1
B56: C1
B57: C2
B58: D
B59: E
B60: Tổng số nhân sự: | E60: =SUM(E50:E59) -> 30 | F60: =SUM(F50:F59) -> 0
A62: Lưu ý: Các đơn vị gửi file mềm qua hệ thống điện tử E-office nhà trường và văn bản giấy về phòng TC-HC-TH (Cô Trần Thị Ánh Phượng).
F63: TPHCM, ngày …... tháng …… năm 2021
...

Sheet Nhiệm vụ đột xuất
A1: TRƯỜNG CAO ĐẲNG LÝ TỰ TRỌNG THÀNH PHỐ HỒ CHÍ MINH PHÒNG TỔ CHỨC - HÀNH CHÍNH - TỔNG HỢP
A3: BẢNG TỔNG HỢP CÔNG VIỆC THỰC HIỆN TRONG THÁNG 01/2021
A6: Stt | B6: Tên đơn vị | C6: CÔNG VIỆC CHUNG CỦA TRƯỜNG | H6: Công việc của đơn vị
C7: Nhiệm vụ 1 | D7: Nhiệm vụ 2 | E7: Nhiệm vụ 3 | F7: Nhiệm vụ 4 | G7: Nhiệm vụ 5 | H7: Nhiệm vụ 1 | I7: Nhiệm vụ 2 | J7: Nhiệm vụ 3 | K7: Nhiệm vụ 4 | L7: Nhiệm vụ 5 | M7: Nhiệm vụ 6 | N7: Nhiệm vụ 7
A8: -1 | B8: -2 | C8: -3 | D8: -4 | E8: -5 | F8: -6 | G8: -7 | H8: -12 | I8: -13 | J8: -14 | K8: -15 | L8: -16 | M8: -17 | N8: -18
A9: 14 | B9: Khoa Điện - Điện tử

Sheet Phân công nhân sự thực hiện
A1: TRƯỜNG CAO ĐẲNG LÝ TỰ TRỌNG | E1: CỘNG HÒA XÃ HỘI CHỦ NGHĨA VIỆT NAM
A2: THÀNH PHỐ HỒ CHÍ MINH | E2: Độc lập - Tự do - Hạnh phúc
A3: ĐƠN VỊ: KHOA ĐIỆN-ĐIỆN TỬ
A5: THỐNG KÊ CHI TIẾT KHỐI LƯỢNG CÔNG VIỆC THỰC HIỆN THÁNG 02/2021
A7: TT | B7: Tên nội dung công việc | E7: Công việc chung của trường | O7: Công việc riêng của đơn vị | W7: Ghi chú
B8: Họ và tên | C8: Mã E-ofice | E8: Nhiệm vụ 1 | F8: Nhiệm vụ 2 | G8: Nhiệm vụ 3 | H8: Nhiệm vụ 4 | I8: Nhiệm vụ 5 | J8: Nhiệm vụ 6 | K8: Nhiệm vụ 7 | L8: Nhiệm vụ 8 | M8: Nhiệm vụ 9 | N8: Tổng | O8: Nhiệm vụ 1 | P8: Nhiệm vụ 2 | Q8: Nhiệm vụ 3 | R8: Nhiệm vụ 4 | S8: Nhiệm vụ 5 | T8: Nhiệm vụ 6 | U8: Nhiệm vụ 7 | V8: Tổng
A9: I. Viên chức
A10: 1 | B10: Tạ Minh Cường | C10: 01014002 | D10: =COUNTA(E10:M10) -> 0 | N10: =COUNTA(E10:M10) -> 0 | V10: =COUNTA(O10:U10) -> 0
A11: 2 | B11: Huỳnh Ngọc Mai | C11: 01014004 | D11: =COUNTA(E11:M11) -> 0 | N11: =COUNTA(E11:M11) -> 0 | V11: =COUNTA(O11:U11) -> 0
A12: 3 | B12: Phạm Minh Nghĩa | C12: 01023003 | D12: =COUNTA(E12:M12) -> 0 | N12: =COUNTA(E12:M12) -> 0 | V12: =COUNTA(O12:U12) -> 0
A13: 4 | B13: Võ Cường | C13: 01014008 | D13: =COUNTA(E13:M13) -> 0 | N13: =COUNTA(E13:M13) -> 0 | V13: =COUNTA(O13:U13) -> 0
A14: 5 | B14: Quách Minh Thử | C14: 01014007 | D14: =COUNTA(E14:M14) -> 0 | N14: =COUNTA(E14:M14) -> 0 | V14: =COUNTA(O14:U14) -> 0
A15: 6 | B15: Trần Nguyên Bảo Trân | C15: 01014038 | D15: =COUNTA(E15:M15) -> 0 | N15: =COUNTA(E15:M15) -> 0 | V15: =COUNTA(O15:U15) -> 0
A16: 7 | B16: Ngô Hoàng Anh | C16: 01014005 | D16: =COUNTA(E16:M16) -> 0 | N16: =COUNTA(E16:M16) -> 0 | V16: =COUNTA(O16:U16) -> 0
A17: 8 | B17: Trần Nam Anh | C17: 01014046 | D17: =COUNTA(E17:M17) -> 0 | N17: =COUNTA(E17:M17) -> 0 | V17: =COUNTA(O17:U17) -> 0
A18: 9 | B18: Vũ Hạnh Chiêu | C18: 01014026 | D18: =COUNTA(E18:M18) -> 0 | N18: =COUNTA(E18:M18) -> 0 | V18: =COUNTA(O18:U18) -> 0
A19: 10 | B19: Ngô Phong Cường | C19: 01014029 | D19: =COUNTA(E19:M19) -> 0 | N19: =COUNTA(E19:M19) -> 0 | V19: =COUNTA(O19:U19) -> 0
A20: 11 | B20: Nguyễn Minh Đức Cường | C20: 01014033 | D20: =COUNTA(E20:M20) -> 0 | N20: =COUNTA(E20:M20) -> 0 | V20: =COUNTA(O20:U20) -> 0
A21: 12 | B21: Lê Tiến Đạt | C21: 01014023 | D21: =COUNTA(E21:M21) -> 0 | N21: =COUNTA(E21:M21) -> 0 | V21: =COUNTA(O21:U21) -> 0
... A39: 30 | B39: Nguyễn Văn Yên | C39: 01014016 | D39: =COUNTA(E39:M39) -> 0 | N39: =COUNTA(E39:M39) -> 0 | V39: =COUNTA(O39:U39) -> 0
A40: II. Hợp đồng trường
A41: 01 | B41: Nguyễn Thị C | E41: =COUNTA(E10:E39) -> 0 | F41: =COUNTA(F10:F39) -> 0 | G41: =COUNTA(G10:G39) -> 0 | H41: =COUNTA(H10:H39) -> 0 | I41: =COUNTA(I10:I39) -> 0 | J41: =COUNTA(J10:J39) -> 0 | K41: =COUNTA(K10:K39) -> 0 | L41: =COUNTA(L10:L39) -> 0 | M41: =COUNTA(M10:M39) -> 0 | O41: =COUNTA(O10:O39) -> 0 | P41: =COUNTA(P10:P39) -> 0 | Q41: =COUNTA(Q10:Q39) -> 0 | R41: =COUNTA(R10:R39) -> 0 | S41: =COUNTA(S10:S39) -> 0 | T41: =COUNTA(T10:T39) -> 0 | U41: =COUNTA(U10:U39) -> 0
A42: 02
A43: 03
A44: 04
A46: Lưu ý: Các đơn vị gửi file mềm qua hệ thống điện tử E-office nhà trường và văn bản giấy về phòng TC-HC-TH (Cô Trần Thị Ánh Phượng).
O47: TPHCM, ngày …... tháng …… năm 2021
O48: TRƯỞNG ĐƠN VỊ

Sheet xếp loại thi đua tháng
A1: TRƯỜNG CAO ĐẲNG LÝ TỰ TRỌNG THÀNH PHỐ HỒ CHÍ MINH PHÒNG TỔ CHỨC - HÀNH CHÍNH - TỔNG HỢP
A2: BÁO CÁO TỔNG HỢP CHI TIẾT THI ĐUA THÁNG 02/2021
A4: Stt | B4: Stt | C4: Họ và tên | D4: Mã E-office | E4: Tiêu chuẩn thi đua tháng | G4: Tập thể đơn vị đề nghị xếp loại thi đua tháng từng cá nhân | I4: Ghi nhận từ các phòng chức năng | J4: GV giải trình và ý kiến của đơn vị | K4: Số lượng công việc tham gia | M4: Số ngày/giờ vượt so với ngày công kế hoạch (đối với CB-NV) | N4: Số ngày nghỉ/ tiết nghỉ (đối với GV) | O4: Ghi chú | P4: Nhóm Thường trực đề nghị | R4: Đơn vị
E5: Mức xếp loại tối đa | F5: Các đề tài/dự án/bài báo/sáng kiến được xem xét xếp loại thi đua A1, A2, A3 theo quy định | G5: Xếp loại | H5: Lý do | K5: Công việc chung của trường | L5: Công việc riêng của đơn vị | P5: Xếp loại | Q5: Lý do
A6: 14 | B6: 14 | C6: KHOA ĐIỆN - ĐIỆN TỬ | E6: =COUNTA($G8:$G37) -> 30 | G6: =COUNTA($G8:$G37) -> 30 | H6: =(COUNTIF($G$8:$G$37,"A1")&"A1")&" + "&(COUNTIF($G$8:$G$37,"A2")&"A2")&" + "&(COUNTIF($G$8:$G$37,"A3")&"A3")&" + "&(COUNTIF($G$8:$G$37,"A4")&"A4")&" + "&(COUNTIF($G$8:$G$37,"B1")&"B1")&" + "&(COUNTIF($G$8:$G$37,"B2")&"B2")&" + "&(COUNTIF($G$8:$G$37,"C1")&"C1") -> 3A1 + 6A2 + 19A3 + 0A4 + 1B1 + 1B2 + 0C1
A7: a | B7: a | C7: Viên chức | E7: =COUNTA($G8:$G37) -> 30 | G7: =COUNTA($G8:$G37) -> 30 | H7: =(COUNTIF($G$8:$G$37,"A1")&"A1")&" + "&(COUNTIF($G$8:$G$37,"A2")&"A2")&" + "&(COUNTIF($G$8:$G$37,"A3")&"A3")&" + "&(COUNTIF($G$8:$G$37,"A4")&"A4")&" + "&(COUNTIF($G$8:$G$37,"B1")&"B1")&" + "&(COUNTIF($G$8:$G$37,"B2")&"B2")&" + "&(COUNTIF($G$8:$G$37,"C1")&"C1") -> 3A1 + 6A2 + 19A3 + 0A4 + 1B1 + 1B2 + 0C1
A8: 235 | B8: 01 | C8: Tạ Minh Cường | D8: 01014002 | E8: A1 | F8: - Tham gia Đề án hợp tác đào tạo trình độ cao đẳng chất lượng cao giữa Trường CĐ Lý Tự Trọng Tp.HCM với công ty TNHH Sản xuất và Kinh doanh VINFAST (QĐ số 496A/QĐ-LTT-ĐT ngày 30/5/2020) | G8: A1 | K8: ='[1]K.Đ-ĐTỬ'!N10 -> 5 | L8: ='[1]K.Đ-ĐTỬ'!V10 -> 5 | R8: K. Điện - ĐT
A9: 236 | B9: 02 | C9: Huỳnh Ngọc Mai | D9: 01014004 | E9: A2 | F9: - Có bài viết sáng kiến đạt PVAH cấp ngành (QĐ số 1720/QĐ-GDĐT-VP ngày 21/8/2020) - Có bài viết đăng kỷ yếu hội thảo cấp trường (Hội thảo Quốc tế COSS 2020). | G9: A2 | K9: ='[1]K.Đ-ĐTỬ'!N11 -> 3 | L9: ='[1]K.Đ-ĐTỬ'!V11 -> 5 | R9: K. Điện - ĐT
A10: 237 | B10: 03 | C10: Phạm Minh Nghĩa | D10: 01023003 | E10: A2 | F10: - Có bài viết sáng kiến đạt PVAH cấp ngành (QĐ số 1720/QĐ-GDĐT-VP ngày 21/8/2020) - Có bài viết đăng kỷ yếu hội thảo cấp trường (Hội thảo Quốc tế COSS 2020). | G10: A2 | K10: ='[1]K.Đ-ĐTỬ'!N12 -> 5 | L10: ='[1]K.Đ-ĐTỬ'!V12 -> 5 | R10: K. Điện - ĐT
A11: 238 | B11: 04 | C11: Võ Cường | D11: 01014008 | E11: A2 | F11: - Có bài viết sáng kiến đạt PVAH cấp ngành (QĐ số 1720/QĐ-GDĐT-VP ngày 21/8/2020) - Có bài viết đăng kỷ yếu hội thảo cấp trường (Hội thảo Quốc tế COSS 2020). | G11: A3 | K11: ='[1]K.Đ-ĐTỬ'!N13 -> 1 | L11: ='[1]K.Đ-ĐTỬ'!V13 -> 4 | R11: K. Điện - ĐT
A12: 239 | B12: 05 | C12: Quách Minh Thử | D12: 01014007 | E12: A1 | F12: Tham gia 1 đề tài NCKH cấp trường (QĐ số 1581/QĐ-LTTQLKH 23/12/2019) - Có bài viết đăng kỷ yếu hội thảo cấp trường (Hội thảo Quốc tế COSS 2020). | G12: A1 | K12: ='[1]K.Đ-ĐTỬ'!N14 -> 4 | L12: ='[1]K.Đ-ĐTỬ'!V14 -> 4 | R12: K. Điện - ĐT
A13: 240 | B13: 06 | C13: Trần Nguyên Bảo Trân | D13: 01014038 | E13: A1 | F13: - Tham gia Đề án hợp tác đào tạo trình độ cao đẳng chất lượng cao giữa Trường CĐ Lý Tự Trọng Tp.HCM với công ty TNHH Sản xuất và Kinh doanh VINFAST (QĐ số 496A/QĐ-LTT-ĐT ngày 30/5/2020) | G13: B2 | H13: GV vào lớp trễ 28 phút ngày 09/01/2021 | I13: P. TTGD-CTSV: - GV Trần Nguyên Bảo Trân: Ngày 09/01/2021, tiết 3, 9h08' GV vào lớp (trễ 28 phút) . TKB tiết 9 bắt đầu lúc 8h40'. | J13: GV giải trình: Do sáng ngày 09/01 GV bị ngộ độc thực phẩm nên đã đi khám tại TT Y tế phường 15 (đính kèm đơn thuốc). GV bị đau nhiều nên phải theo dõi và không nhớ giờ dạy. Sau khi được khoa báo có giờ, GV tranh thủ đi nhưng đến lớp đẵ trễ 28 phút. GV đã thực hiện bù lại giờ của tiết đi trễ Ý kiến của TK: Do GV bị đau bụng nên xảy ra sự việc trên. Khoa sẽ họp kiểm điểm và nhắc nhở GV, Đề nghị TT HĐTĐ xem xét. | K13: ='[1]K.Đ-ĐTỬ'!N15 -> 3 | L13: ='[1]K.Đ-ĐTỬ'!V15 -> 4 | R13: K. Điện - ĐT
A14: 241 | B14: 07 | C14: Ngô Hoàng Anh | D14: 01014005 | E14: A2 | F14: - Có bài viết đăng kỷ yếu hội thảo cấp trường (Hội thảo Quốc tế COSS 2020). | G14: A3 | K14: ='[1]K.Đ-ĐTỬ'!N16 -> 1 | L14: ='[1]K.Đ-ĐTỬ'!V16 -> 3 | R14: K. Điện - ĐT
A15: 242 | B15: 08 | C15: Trần Nam Anh | D15: 01014046 | E15: A2 | F15: - Có bài viết đăng kỷ yếu hội thảo cấp trường (Hội thảo Quốc tế COSS 2020). | G15: A2 | K15: ='[1]K.Đ-ĐTỬ'!N17 -> 3 | L15: ='[1]K.Đ-ĐTỬ'!V17 -> 6 | R15: K. Điện - ĐT
A16: 243 | B16: 09 | C16: Vũ Hạnh Chiêu | D16: 01014026 | E16: A3 | F16: - Có bài viết đăng kỷ yếu hội thảo cấp khoa 19/06/2020 | G16: A3 | K16: ='[1]K.Đ-ĐTỬ'!N18 -> 1 | L16: ='[1]K.Đ-ĐTỬ'!V18 -> 1 | R16: K. Điện - ĐT
A17: 244 | B17: 10 | C17: Ngô Phong Cường | D17: 01014029 | E17: A3 | F17: - Có bài viết đăng kỷ yếu hội thảo cấp khoa 19/06/2020 | G17: A3 | K17: ='[1]K.Đ-ĐTỬ'!N19 -> 3 | L17: ='[1]K.Đ-ĐTỬ'!V19 -> 3 | R17: K. Điện - ĐT
A18: 245 | B18: 11 | C18: Nguyễn Minh Đức Cường | D18: 01014033 | E18: A1 | F18: Tham gia 1 đề tài NCKH cấp trường (QĐ số 1581/QĐ-LTTQLKH 23/12/2019) | G18: A1 | K18: ='[1]K.Đ-ĐTỬ'!N20 -> 4 | L18: ='[1]K.Đ-ĐTỬ'!V20 -> 5 | R18: K. Điện - ĐT
A19: 246 | B19: 12 | C19: Lê Tiến Đạt | D19: 01014023 | E19: A2 | F19: - Có bài viết sáng kiến đạt PVAH cấp ngành (QĐ số 1720/QĐ-GDĐT ngày 21/8/2020) | G19: A2 | K19: ='[1]K.Đ-ĐTỬ'!N21 -> 2 | L19: ='[1]K.Đ-ĐTỬ'!V21 -> 3 | R19: K. Điện - ĐT
A20: 247 | B20: 13 | C20: Nguyễn Hồng Đức | D20: 01014013 | E20: A3 | F20: - Có bài viết đăng kỷ yếu hội thảo cấp khoa 19/06/2020 | G20: A3 | K20: ='[1]K.Đ-ĐTỬ'!N22 -> 3 | L20: ='[1]K.Đ-ĐTỬ'!V22 -> 3 | R20: K. Điện - ĐT
A21: 248 | B21: 14 | C21: Nguyễn Minh Đức | D21: 01014017 | E21: A3 | F21: - Có bài viết đăng kỷ yếu hội thảo cấp khoa 19/06/2020 | G21: A3 | K21: ='[1]K.Đ-ĐTỬ'!N23 -> 1 | L21: ='[1]K.Đ-ĐTỬ'!V23 -> 5 | R21: K. Điện - ĐT
A22: 249 | B22: 15 | C22: Nguyễn Thị Ngọc Hiền | D22: 01014034 | E22: A3 | F22: - Có bài viết đăng kỷ yếu hội thảo cấp khoa 19/06/2020 | G22: A3 | K22: ='[1]K.Đ-ĐTỬ'!N24 -> 2 | L22: ='[1]K.Đ-ĐTỬ'!V24 -> 1 | R22: K. Điện - ĐT
A23: 250 | B23: 16 | C23: Trần Trung Hiếu | D23: 01014020 | E23: A3 | F23: - Có bài viết đăng kỷ yếu hội thảo cấp khoa 19/06/2020 | G23: A3 | K23: ='[1]K.Đ-ĐTỬ'!N25 -> 1 | L23: ='[1]K.Đ-ĐTỬ'!V25 -> 3 | R23: K. Điện - ĐT
A24: 251 | B24: 17 | C24: Mạnh Lê Hoàn | D24: 01014018 | E24: A3 | F24: - Có bài viết đăng kỷ yếu hội thảo cấp khoa 19/06/2020 | G24: A3 | K24: ='[1]K.Đ-ĐTỬ'!N26 -> 3 | L24: ='[1]K.Đ-ĐTỬ'!V26 -> 1 | R24: K. Điện - ĐT
A25: 252 | B25: 18 | C25: Lê Thế Huân | D25: 01014019 | E25: A3 | F25: - Có bài viết đăng kỷ yếu hội thảo cấp khoa 19/06/2020 | G25: A3 | K25: ='[1]K.Đ-ĐTỬ'!N27 -> 1 | L25: ='[1]K.Đ-ĐTỬ'!V27 -> 4 | R25: K. Điện - ĐT
... A30: 257 | B30: 23 | C30: Nguyễn Thị Tố Nga | D30: 01014022 | E30: A3 | F30: - Có bài viết đăng kỷ yếu hội thảo cấp khoa 19/06/2020 - Có SKKN được đánh giá loại khá | G30: A3 | K30: ='[1]K.Đ-ĐTỬ'!N32 -> 2 | L30: ='[1]K.Đ-ĐTỬ'!V32 -> 3 | R30: K. Điện - ĐT
A31: 258 | B31: 24 | C31: Nguyễn Trần Thanh Nhàn | D31: 01014025 | E31: A3 | F31: - Có bài viết đăng kỷ yếu hội thảo cấp khoa 19/06/2020 | G31: B1 | H31: GV ra đề thi trắc nghiệm bị trùng câu | I31: P. Khảo thí & ĐBCL: - GV Nguyễn Trần Thanh Nhàn: Ra đề thi môn An toàn điện, mã đề 020 nội dung và đáp án câu hỏi số 3 trùng với câu 7, câu 4 trùng với câu 8 | J31: GV giải trình: Do đặc điểm của đề trắc nghiệm là nhiều câu, nhiều đề, nhiều đáp án nên xảy ra sơ sót. GV xin nhận khuyết điểm và rút kinh nghiệm. Đề nghị TT HĐTĐ xem xét | K31: ='[1]K.Đ-ĐTỬ'!N33 -> 2 | L31: ='[1]K.Đ-ĐTỬ'!V33 -> 1 | R31: K. Điện - ĐT
A32: 259 | B32: 25 | C32: Đỗ Huỳnh Thanh Phong | D32: 01014032 | E32: A3 | F32: - Có bài viết đăng kỷ yếu hội thảo cấp khoa 19/06/2020 | G32: A3 | K32: ='[1]K.Đ-ĐTỬ'!N34 -> 1 | L32: ='[1]K.Đ-ĐTỬ'!V34 -> 3 | R32: K. Điện - ĐT
A33: 260 | B33: 26 | C33: Nguyễn Anh Tăng | D33: 01014006 | E33: A3 | F33: - Có bài viết đăng kỷ yếu hội thảo cấp khoa 19/06/2020 | G33: A3 | K33: ='[1]K.Đ-ĐTỬ'!N35 -> 4 | L33: ='[1]K.Đ-ĐTỬ'!V35 -> 4 | R33: K. Điện - ĐT
A34: 261 | B34: 27 | C34: Trần Công Tiến | D34: 01014009 | E34: A3 | F34: - Có bài viết đăng kỷ yếu hội thảo cấp khoa 19/06/2020 | G34: A3 | K34: ='[1]K.Đ-ĐTỬ'!N36 -> 1 | L34: ='[1]K.Đ-ĐTỬ'!V36 -> 3 | R34: K. Điện - ĐT
A35: 262 | B35: 28 | C35: Cao Văn Tuấn | D35: 01014045 | E35: A2 | F35: - Có bài viết sáng kiến đạt PVAH cấp ngành (QĐ số 1720/QĐ-GDĐT ngày 21/8/2020) - Có bài viết đăng kỷ yếu hội thảo cấp trường (Hội thảo Quốc tế COSS 2020). | G35: A2 | K35: ='[1]K.Đ-ĐTỬ'!N37 -> 2 | L35: ='[1]K.Đ-ĐTỬ'!V37 -> 5 | R35: K. Điện - ĐT
A36: 263 | B36: 29 | C36: Trần Hiếu Trinh | D36: 01014021 | E36: A2 | F36: - Có bài viết đăng kỷ yếu hội thảo cấp trường (Hội thảo Quốc tế COSS 2020). | G36: A3 | K36: ='[1]K.Đ-ĐTỬ'!N38 -> 1 | L36: ='[1]K.Đ-ĐTỬ'!V38 -> 2 | R36: K. Điện - ĐT
A37: 264 | B37: 30 | C37: Nguyễn Văn Yên | D37: 01014016 | E37: A3 | F37: - Có bài viết đăng kỷ yếu hội thảo cấp khoa 19/06/2020 | G37: A3 | K37: ='[1]K.Đ-ĐTỬ'!N39 -> 1 | L37: ='[1]K.Đ-ĐTỬ'!V39 -> 2 | R37: K. Điện - ĐT
C41: Tổng số CB-GV-NV | E41: VC | G41: VC | H41: HĐ | I41: Tổng hợp từ đơn vị : | J41: Xếp loại A1: | K41: =COUNTIF($G$6:$G$37,"A1") -> 3
J42: Xếp loại A2: | K42: =COUNTIF($G$6:$G$37,"A2") -> 6
J43: Xếp loại A3: | K43: =COUNTIF($G$6:$G$37,"A3") -> 19
J44: Xếp loại A4: | K44: =COUNTIF($G$6:$G$37,"A4") -> 0
J45: Xếp loại B1: | K45: =COUNTIF($G$6:$G$37,"B1") -> 1
J46: Xếp loại B2: | K46: =COUNTIF($G$6:$G$37,"B2") -> 1
J47: Xếp loại C1: | K47: =COUNTIF($G$6:$G$37,"C1") -> 0
J48: Xếp loại C2: | K48: =COUNTIF($G$6:$G$37,"C2") -> 0
...
