Workbook

Sheet Mau 1
G1: Mẫu 1
A2: TRƯỜNG CAO ĐẲNG LÝ TỰ TRỌNG | E2: CỘNG HÒA XÃ HỘI CHỦ NGHĨA VIỆT NAM
A3: THÀNH PHỐ HỒ CHÍ MINH | E3: Độc lập - Tự do - Hạnh phúc
A4: PHÒNG KẾ HOẠCH - TÀI CHÍNH
A6: DANH SÁCH CB-GV-NV TỰ ĐÁNH GIÁ ĐẠT TIÊU CHUẨN XẾP LOẠI THI ĐUA (Quy định số 1310/QyĐ-LTT-TĐ ngày 09/11/2020 của Trường)
A8: TT | B8: Họ tên | C8: Mã E-Office | D8: Tiêu chuẩn xếp loại thi đua A1 (Ghi rõ nội dung tiêu chuẩn: số Quyết định, thời gian, cơ quan ban hành,…) | E8: Tiêu chuẩn xếp loại thi đua A2 (Ghi rõ nội dung tiêu chuẩn: số Quyết định, thời gian, cơ quan ban hành,…) | F8: Tiêu chuẩn xếp loại thi đua A3 (Ghi rõ nội dung tiêu chuẩn: số Quyết định, thời gian, cơ quan ban hành,…) | G8: Ghi chú
A9: I. Viên chức
A10: 01 | B10: Nguyễn Kính | C10: 01002024 | D10: - Có bài sáng kiến kinh nghiệm NH 2019-2020, đạt loại xuất sắc (được công nhận có phạm vi ảnh hưởng cấp ngành năm học 2019-2020 theo QĐ số 1720/QĐ/GDĐT-VP ngày 21/8/2020); - Năm trước có tham gia nhiều dự án cấp trường và cấp Sở (BTC Dự án ODA; Dự án Kone; Dự án Đầu tư ngành Cơ khí thành ngành mũi nhọn...) - Có thực hiện bài viết và được đăng trong Hội thảo Khoa học cấp trường năm 2020; - Thực hiện nhiều Báo cáo; giải trình theo yêu cầu của Sở Giáo dục, Sở Tài chính và Cục thuế TP; - Vận động và nhắc nhở CB-VC-NLĐ của phòng chia sẻ tin tức trên fanpage của trường. - Thực hiện khai báo y tế; - Tham gia buổi tập huấn sử dụng Google Meet.
A11: 02 | B11: Nguyễn Thị Kim Dung | C11: 01003002 | E11: -Hoàn thành tốt và đúng thời gian nhiệm vụ được giao của đơn vị - Thực hiện đúng các qui định và nội quy làm việc của nhà trường - Thực hiện vượt ngày công kế hoạch - Tham gia sinh hoạt chi bộ 2 - Tham gia dự án lớp Cao đẳng nghề ô tô chuyển giao từ Đức - Hỗ trợ, hướng dẫn, kiểm tra hồ sơ thanh toán các đề tài NCKH cấp trường - Có bài sáng kiến kinh nghiệm NH 2019-2020, đạt loại tốt (được công nhận có phạm vi ảnh hưởng cấp ngành năm học 2019-2020 theo QĐ số 1720/QĐ/GDĐT-VP ngày 21/8/2020) - Tiếp nhận, hoàn thiện hồ sơ nhận tài trợ từ các đơn vị, doanh nghiệp - Cung cấp số liệu, hồ sơ phục vụ kiểm toán năm 2020 - Xây dựng đề án sử dụng tài sản công - Thực hiện Like + chia sẻ tin tức trên fanpage của trường. - Thực hiện khai báo y tế; - Tham gia buổi tập huấn sử dụng Google Meet.
A12: 03 | B12: Hồng Mộng Tuyết Dung | C12: 01003009 | E12: - Hoàn thành tốt và đúng thời gian nhiệm vụ được giao của đơn vị; - Thực hiện đúng các qui định và nội quy làm việc của nhà trường -Thực hiện vượt ngày công kế hoạch; - Tham gia dự án lớp nghề trọng điểm ngành CN Kỹ thuật điện -điện tử; - Có bài sáng kiến kinh nghiệm NH 2019-2020, đạt loại tốt (được công nhận có phạm vi ảnh hưởng cấp ngành năm học 2019-2020 theo QĐ số 1720/QĐ/GDĐT-VP ngày 21/8/2020) - Thực hiện kế hoạch mua sắm trang thiết bị và sửa chữa nhỏ năm 2021 - Tham gia chương trình sử dụng vốn vay ODA của Ngân hàng Thế giới - Thực hiện like + chia sẻ tin tức trên fanpage của trường. - Thực hiện khai báo y tế; - Tham gia buổi tập huấn sử dụng Google Meet.
A13: 04 | B13: Trần Thị Minh Thoa | C13: 01003005 | E13: -Hoàn thành tốt và đúng thời gian nhiệm vụ được giao của đơn vị - Thực hiện đúng các qui định và nội quy làm việc của nhà trường - Thực hiện vượt ngày công kế hoạch - Tham gia sinh hoạt, họp BCH Công đoàn - Tham gia thực hiện hồ sơ theo sự phân công trưởng phòng: các dự án của trường (Dự án tòa nhà Kone, dự án lớp Cao đẳng nghề ô tô chuyển giao từ Đức, lớp nghề trọng điểm ngành Công nghệ Kỹ thuật Điện - Điện tử của Cục Kiểm định chất lượng Giáo dục nghề nghiệp...) - Có bài sáng kiến kinh nghiệm NH 2019-2020, đạt loại tốt (được công nhận có phạm vi ảnh hưởng cấp ngành năm học 2019-2020 theo QĐ số 1720/QĐ/GDĐT-VP ngày 21/8/2020) - Cung cấp số liệu, hồ sơ phục vụ kiểm toán năm 2020 - Thực hiện kế hoạch mua sắm trang thiết bị và sửa chữa nhỏ năm 2021 - Tham gia xây dựng đề án sử dụng tài sản công - Thực hiện Like + chia sẻ tin tức trên fanpage của trường. - Thực hiện khai báo y tế; - Tham gia buổi tập huấn sử dụng Google Meet.
A14: 05 | B14: Võ Thị Lệ Trân | C14: 01023004 | E14: - Hoàn thành tốt và đúng thời gian nhiệm vụ được giao của đơn vị - Thực hiện đúng các qui định và nội quy làm việc của nhà trường - Thực hiện vượt ngày công kế hoạch - Tham gia sinh hoạt, họp BCH Công đoàn - Tham gia hoàn thiện hồ sơ chuẩn đầu ra ngành CN Mạ, Sơn tĩnh điện, bảo trì và sửa chữa TB nhiệt - Có bài sáng kiến kinh nghiệm NH 2019-2020, đạt loại tốt (được công nhận có phạm vi ảnh hưởng cấp ngành năm học 2019-2020 theo QĐ số 1720/QĐ/GDĐT-VP ngày 21/8/2020) - Cung cấp số liệu, hồ sơ phục vụ kiểm toán năm 2020 - Thực hiện kế hoạch mua sắm trang thiết bị và sửa chữa nhỏ 2021 - Tham gia xây dựng đề án sử dụng tài sản công - Thực hiện thích + chia sẻ tin tức trên fanpage của trường. - Thực hiện khai báo y tế; - Tham gia buổi tập huấn sử dụng Google Meet.
A15: 06 | B15: Nguyễn Thị Hồng Thắm | E15: - Hoàn thành tốt và đúng thời gian nhiệm vụ được giao của đơn vị - Thực hiện đúng các qui định và nội quy làm việc của nhà trường - Thực hiện vượt ngày công kế hoạch - Tham gia sinh hoạt, họp BCH Công đoàn - Tham gia hoàn thiện hồ sơ chuẩn đầu ra ngành CN Mạ, Sơn tĩnh điện, bảo trì và sửa chữa TB nhiệt - Có bài sáng kiến kinh nghiệm NH 2019-2020, đạt loại tốt (được công nhận có phạm vi ảnh hưởng cấp ngành năm học 2019-2020 theo QĐ số 1720/QĐ/GDĐT-VP ngày 21/8/2020) - Cung cấp số liệu, hồ sơ phục vụ kiểm toán năm 2020 - Thực hiện kế hoạch mua sắm trang thiết bị và sửa chữa nhỏ 2021 - Tiếp nhận và hoàn thiện hồ sơ nhận tài trợ từ các đơn vị, doanh nghiệp - Thực hiện thích + chia sẻ tin tức trên fanpage của trường. - Thực hiện khai báo y tế; - Tham gia buổi tập huấn sử dụng Google Meet.
A16: II. Hợp đồng trường
A17: 01 | B17: Trần Thị Thảo Vân | C17: 01003008 | E17: -Hoàn thành tốt và đúng thời gian nhiệm vụ được giao của đơn vị - Thực hiện đúng các qui định và nội quy làm việc của nhà trường - Tham gia đầy đủ các buổi sinh hoạt, học tập của trường; - Tham gia dự án lớp Cao đẳng nghề ô tô chuyển giao từ Đức - Có bài sáng kiến kinh nghiệm NH 2019-2020, đạt loại tốt (được công nhận có phạm vi ảnh hưởng cấp ngành năm học 2019-2020 theo QĐ số 1720/QĐ/GDĐT-VP ngày 21/8/2020) - Tiếp nhận và hoàn thiện hồ sơ nhận tài trợ từ các đơn vị, doanh nghiệp - Cung cấp số liệu, hồ sơ phục vụ kiểm toán 2020 - Tham gia chương trình sử dụng vốn vay ODA - Thực hiện thích + chia sẻ tin tức trên fanpage của trường. - Thực hiện khai báo y tế; - Tham gia buổi tập huấn sử dụng Google Meet.
A18: 02 | B18: Nguyễn Thị Nghiêm | C18: 01003014 | E18: -Hoàn thành tốt và đúng thời gian nhiệm vụ được giao của đơn vị - Thực hiện đúng các qui định và nội quy làm việc của nhà trường - Tham gia đầy đủ các buổi sinh hoạt, học tập của trường; - Thực hiện công tác dự toán nguồn tiền để kịp thời báo cáo cho trưởng phòng; - Tham gia dự án Nghề làm bánh BAKE - Tiếp nhận, hoàn thiện hồ sơ nhận tài trợ từ các đơn vị, doanh nghiệp - Cung cấp số liệu, hồ sơ phục vụ kiểm toán năm 2020 - Tham gia chương trình sử dụng vốn vay ODA - Thực hiện Like + chia sẻ tin tức trên fanpage của trường. - Thực hiện khai báo y tế; - Tham gia buổi tập huấn sử dụng Google Meet.
A19: 03 | B19: Huỳnh Như Ý | C19: 01003015 | F19: -Hoàn thành tốt và đúng thời gian nhiệm vụ được giao của đơn vị - Thực hiện đúng các qui định và nội quy làm việc của nhà trường - Tham gia đầy đủ các buổi sinh hoạt, học tập của trường; - Tham gia hoàn thiện hồ sơ chuẩn đầu ra ngành CN Mạ, Sơn tĩnh điện, bảo trì và sửa chữa TB nhiệt; - Cung cấp hồ sơ , số liệu phục vụ kiểm toán 2020 - Tham gia xây dựng đề án sử dụng tài sản công - Thực hiện Like + chia sẻ tin tức trên fanpage của trường. - Thực hiện khai báo y tế; - Tham gia buổi tập huấn sử dụng Google Meet.
A21: Ghi chú: Gửi kèm minh chứng về phòng Tổ chức - Hành chính - Tổng hợp.
E22: TPHCM, ngày …... tháng …… năm 2021
E23: TRƯỞNG PHÒNG KẾ HOẠCH - TÀI CHÍNH
E30: Nguyễn Kính

Sheet Mau 2
A1: TRƯỜNG CAO ĐẲNG LÝ TỰ TRỌNG THÀNH PHỐ HỒ CHÍ MINH PHÒNG KẾ HOẠCH - TÀI CHÍNH | D1: CỘNG HÒA XÃ HỘI CHỦ NGHĨA VIỆT NAM Độc lập - Tự do - Hạnh phúc
E2: Mẫu 2
A3: BẢNG TỔNG HỢP NHIỆM VỤ CHUNG VÀ RIÊNG CỦA ĐƠN VỊ (Gửi file mềm ngày 25 hàng tháng)
A6: TT | B6: Nội dung công việc | C6: Thời gian thực hiện | D6: Kết quả | E6: Ghi chú
A7: A | B7: TỔNG KẾT CÔNG VIỆC TRONG THÁNG
A8: I. | B8: Công việc chung của Trường
A9: 1 | B9: Nhiệm vụ 1: Hoàn thiện bộ hồ sơ Xây dựng dự toán năm 2022, kế hoạch tài chính - ngân sách nhà nước 3 năm 2022-2024 | C9: 9/2021 | D9: Đang thực hiện | E9: Kính, K.Dung, Thoa, T.Dung, Trân, Vân, Ý, Thắm, Nghiêm
A10: 2 | B10: Nhiệm vụ 2 : Tập hợp minh chứng phục vụ Đề án ”Đào tạo nguồn nhân lực công nghiệp ô tô gắn với nhu cầu sử dụng lao động của doanh nghiệp” thuộc Chương trình phát triển Công nghiệp hỗ trợ từ năm 2016 đến năm 2025 của Thủ tướng Chính phủ | C10: 9/2021 | D10: Đang thực hiện | E10: Kính, Thoa, T.Dung, Trân, Vân
A11: 3 | B11: Nhiệm vụ 3 : Chuẩn bị hồ sơ, chứng từ phục vụ Thanh tra việc thực hiện quy định về thu, quản lý, sử dụng học phí và các nguồn lực tài chính khác năm học 2020-2021, công văn số 1803/QĐ-SGDĐT ngày 09/9/2021 về phê duyệt kế hoạch thanh tra năm học 2021-2022 của Sở Giáo dục và Đào tạo TPHCM | C11: 9/2021 | D11: Đang thực hiện | E11: Kính, K.Dung, Thoa, T.Dung, Trân, Vân, Ý, Thắm, Nghiêm
A12: 4 | B12: Nhiệm vụ 4 : Tiếp tục tiếp nhận , hoàn thiện hồ sơ nhận tài trợ từ các đơn vị, doanh nghiệp | C12: 9/2021 | D12: Đang thực hiện | E12: Kính, K.Dung, Nghiêm, Thắm, Ý
A13: II. | B13: Công việc riêng của đơn vị
A14: 1 | B14: Nhiệm vụ 1: Thực hiện báo cáo tình hình thực hiện kế hoạch đầu tư công năm 2021 và dự kiến kế hoạch năm 2022 dự án đang triển khai thực hiện, công văn số 7083/SKHĐT-THQH ngày 10/9/2021 về đăng ký nhu cầu kế hoạch đầu tư công năm 2022 nguồn vốn ngân sách địa phương của Sở Kế hoạch và Đầu tư | C14: 9/2021 | D14: Đã thực hiện | E14: Kính, T. Dung, Thoa, Vân
A15: 2 | B15: Nhiệm vụ 2: Phối hợp với các đơn vị lập dự toán kinh phí tổ chức hội thảo khoa học năm 2021 gửi Sở Khoa học và Công nghệ TPHCM | C15: 9/2021 | D15: Đang thực hiện | E15: Kính, K.Dung, Thắm, Ý, Nghiêm
A16: 3 | B16: Nhiệm vụ 3: Triển khai và thực hiện mua sắm, sửa chữa phục vụ năm học mới 2021-2022 | C16: 9/2021 | D16: Đang thực hiện | E16: Kính, Trân, Vân, Nghiêm
A17: 4 | B17: Nhiệm vụ 4 : Thực hiện thích + chia sẻ tin tức trên fanpage của trường. | C17: 9/2021 | D17: Đang thực hiện | E17: Kính, K.Dung. T.Dung Thoa, Trân, Ý, Thắm
A18: B | B18: ĐỀ XUẤT NỘI DUNG CÔNG VIỆC THÁNG 10
A19: I. | B19: Công việc chung của Trường (nếu có)
A20: 1 | B20: Nhiệm vụ 1: Tiếp tục hoàn thiện hồ sơ, minh chứng các dự án của trường | C20: 10/2021
A21: 2 | B21: Nhiệm vụ 2 : Hoàn thiện hồ sơ, chứng từ phục vụ Thanh tra việc thực hiện quy định về thu, quản lý, sử dụng học phí và các nguồn lực tài chính khác năm học 2020-2021, công văn số 1803/QĐ-SGDĐT ngày 09/9/2021 về phê duyệt kế hoạch thanh tra năm học 2021-2022 của Sở Giáo dục và Đào tạo TPHCM | C21: 10/2021
A22: 3 | B22: Nhiệm vụ 3: Phối hợp với các đơn vị lập Dự thảo Quy chế chi tiêu nội bộ năm 2022 | C22: 10/2021
A23: 4 | B23: Nhiệm vụ 4 : Tiếp tục tiếp nhận , hoàn thiện hồ sơ nhận tài trợ từ các đơn vị, doanh nghiệp | C23: 10/2021
A24: II. | B24: Công việc riêng của đơn vị
A25: 1 | B25: Nhiệm vụ 1: Triển khai và thực hiện mua sắm, sửa chữa phục vụ năm học mới 2021-2022 | C25: 10/2021
A26: 2 | B26: Nhiệm vụ 2: Thực hiện các Báo cáo gửi cơ quan quản lý cấp trên | C26: 10/2021
A27: 3 | B27: Nhiệm vụ 3: Phối hợp với các đơn vị ban hành Dự thảo Quy chế chi tiêu nội bộ năm 2022 | C27: 10/2021
A28: 4 | B28: Nhiệm vụ 4: Thích + chia sẻ tin tức trên fanpage của trường | C28: 10/2021
A30: Lưu ý: - Nhóm công việc của đơn vị không tính nội dung công việc đã được quy định ở vị trí việc làm (đối với nhân viên); chế độ làm việc của giảng viên/ đã được tính chế độ, thù lao (đối với giảng viên). - Các đơn vị gửi file điện tử về phòng TC-HC-TH (Cô Trần Thị Ánh Phượng) qua hệ thống điện tử E-office nhà trường (không gửi văn bản giấy) ngày 25 hàng tháng./.
D31: TPHCM, ngày 20 tháng 9 năm 2021
D32: TRƯỞNG ĐƠN VỊ
D36: Nguyễn Kính

Sheet Mau 3
A1: TRƯỜNG CAO ĐẲNG LÝ TỰ TRỌNG | H1: CỘNG HÒA XÃ HỘI CHỦ NGHĨA VIỆT NAM
A2: THÀNH PHỐ HỒ CHÍ MINH | H2: Độc lập - Tự do - Hạnh phúc
A3: PHÒNG KẾ HOẠCH - TÀI CHÍNH
L4: Mẫu 3
A5: THỐNG KÊ CHI TIẾT KHỐI LƯỢNG CÔNG VIỆC THỰC HIỆN THÁNG 9/2021
A7: TT | B7: Tên nội dung công việc | D7: Công việc chung của trường | H7: Công việc riêng của đơn vị | L7: Ghi chú
B8: Họ và tên | C8: Mã E-ofice | D8: Nhiệm vụ 1 | E8: Nhiệm vụ 2 | F8: Nhiệm vụ 3 | G8: Nhiệm vụ 4 | H8: Nhiệm vụ 1 | I8: Nhiệm vụ 2 | J8: Nhiệm vụ 3 | K8: Nhiệm vụ 4
A9: I. Viên chức
A10: 01 | B10: Nguyễn Kính | C10: 01002024 | D10: x | E10: x | F10: x | G10: x | H10: x | I10: x | J10: x | K10: x | N10: =COUNTA(D10:G10) -> 4 | O10: =COUNTA(H10:K10) -> 4
A11: 02 | B11: Nguyễn Thị Kim Dung | C11: 01003002 | D11: x | F11: x | G11: x | I11: x | K11: x | N11: =COUNTA(D11:G11) -> 3 | O11: =COUNTA(H11:K11) -> 2
A12: 03 | B12: Hồng Mộng Tuyết Dung | C12: 01003009 | D12: x | E12: x | F12: x | H12: x | K12: x | N12: =COUNTA(D12:G12) -> 3 | O12: =COUNTA(H12:K12) -> 2
A13: 04 | B13: Trần Thị Minh Thoa | C13: 01003005 | D13: x | E13: x | F13: x | H13: x | K13: x | N13: =COUNTA(D13:G13) -> 3 | O13: =COUNTA(H13:K13) -> 2
A14: 05 | B14: Võ Thị Lệ Trân | C14: 01023004 | D14: x | E14: x | F14: x | J14: x | K14: x | N14: =COUNTA(D14:G14) -> 3 | O14: =COUNTA(H14:K14) -> 2
A15: 06 | B15: Nguyễn Thị Hồng Thắm | C15: 01003007 | D15: x | F15: x | G15: x | I15: x | K15: x | N15: =COUNTA(D15:G15) -> 3 | O15: =COUNTA(H15:K15) -> 2
A16: II. Hợp đồng trường
A17: 01 | B17: Trần Thị Thảo Vân | C17: 01003008 | D17: x | E17: x | F17: x | H17: x | J17: x | N17: =COUNTA(D17:G17) -> 3 | O17: =COUNTA(H17:K17) -> 2
A18: 02 | B18: Nguyễn Thụy Nghiêm | C18: 01003014 | D18: x | F18: x | G18: x | I18: x | J18: x | N18: =COUNTA(D18:G18) -> 3 | O18: =COUNTA(H18:K18) -> 2
A19: 03 | B19: Huỳnh Như Ý | C19: 01003015 | D19: x | F19: x | G19: x | I19: x | K19: x | N19: =COUNTA(D19:G19) -> 3 | O19: =COUNTA(H19:K19) -> 2
A21: Lưu ý: Các đơn vị gửi file mềm qua hệ thống điện tử E-office nhà trường và văn bản giấy về phòng TC-HC-TH (Cô Trần Thị Ánh Phượng).
H23: TRƯỞNG ĐƠN VỊ
H27: Nguyễn Kính

Sheet Mau 4 
A1: TRƯỜNG CAO ĐẲNG LÝ TỰ TRỌNG | F1: CỘNG HÒA XÃ HỘI CHỦ NGHĨA VIỆT NAM
A2: THÀNH PHỐ HỒ CHÍ MINH | F2: Độc lập - Tự do - Hạnh phúc
A3: PHÒNG KẾ HOẠCH - TÀI CHÍNH
J4: Mẫu 4
A5: DANH SÁCH XẾP LOẠI THI ĐUA THÁNG 9/2021
A7: TT | B7: Họ tên | C7: Mã E-Office | D7: Tiêu chuẩn thi đua | F7: Số lượng công việc tham gia | H7: Số ngày/giờ vượt so với ngày công kế hoạch (đối với CB-NV) | I7: Số ngày nghỉ/ tiết nghỉ (đối với GV) | J7: Đề nghị của đơn vị
D8: Xếp loại | E8: Lý do | F8: Công việc chung của trường | G8: Công việc riêng của đơn vị
A9: I. Viên chức
A10: 01 | B10: Nguyễn Kính | C10: 01002024 | D10: A1 | F10: ='Mau 3'!N10 -> 4 | G10: ='Mau 3'!O10 -> 4 | H10: 3
A11: 02 | B11: Nguyễn Thị Kim Dung | C11: 01003002 | D11: A4 | F11: ='Mau 3'!N11 -> 3 | G11: ='Mau 3'!O11 -> 2 | J11: - Vẫn nhận công việc phân công từ Trưởng phòng những ngày làm việc tại nhà. - Tất cả tập trung hoàn thành CV thu học phí , Lập KHTC ( dù làm ở nhà), và chuẩn bị đầy đủ hồ sơ Kiểm toán, Thanh tra để phục công tác thanh tra để phục vụ công tác thanh tra sắp tới. - Phải trực thu học phí đến 21h mỗi ngày. - Do có nhiều tích cực trong công việc của phòng và của trường, Phòng KH-TC kính đề nghị hội đồng thi đua xem xét xếp loại : A2
A12: 03 | B12: Hồng Mộng Tuyết Dung | C12: 01003009 | D12: A4 | F12: ='Mau 3'!N12 -> 3 | G12: ='Mau 3'!O12 -> 2 | J12: - Vẫn nhận công việc phân công từ Trưởng phòng những ngày làm việc tại nhà. Tất cả tập trung hoàn thành CV thu học phí , Lập KHTC ( dù làm ở nhà), và chuẩn bị đầy đủ hồ sơ Kiểm toán, Thanh tra để phục công tác thanh tra để phục vụ công tác thanh tra sắp tới. - Do có nhiều tích cực trong công việc của phòng và của trường, Phòng KH-TC kính đề nghị hội đồng thi đua xem xét xếp loại : A2
A13: 04 | B13: Trần Thị Minh Thoa | C13: 01003005 | D13: A4 | F13: ='Mau 3'!N13 -> 3 | G13: ='Mau 3'!O13 -> 2 | J13: - Vẫn nhận công việc phân công từ Trưởng phòng những ngày làm việc tại nhà. - Tất cả tập trung hoàn thành CV thu học phí , Lập KHTC ( dù làm ở nhà), và chuẩn bị đầy đủ hồ sơ Kiểm toán, Thanh tra để phục công tác thanh tra để phục vụ công tác thanh tra sắp tới. - Do có nhiều tích cực trong công việc của phòng và của trường, Phòng KH-TC kính đề nghị hội đồng thi đua xem xét xếp loại : A2
A14: 05 | B14: Võ Thị Lệ Trân | C14: 01023004 | D14: A4 | F14: ='Mau 3'!N14 -> 3 | G14: ='Mau 3'!O14 -> 2 | J14: - Vẫn nhận công việc phân công từ Trưởng phòng những ngày làm việc tại nhà. - Tất cả tập trung hoàn thành CV thu học phí , Lập KHTC ( dù làm ở nhà), và chuẩn bị đầy đủ hồ sơ Kiểm toán, Thanh tra để phục công tác thanh tra để phục vụ công tác thanh tra sắp tới. - Do có nhiều tích cực trong công việc của phòng và của trường, Phòng KH-TC kính đề nghị hội đồng thi đua xem xét xếp loại : A2
A15: 06 | B15: Nguyễn Thị Hồng Thắm | C15: 01003007 | D15: A4 | F15: ='Mau 3'!N15 -> 3 | G15: ='Mau 3'!O15 -> 2 | J15: - Vẫn nhận công việc phân công từ Trưởng phòng những ngày làm việc tại nhà. - Tất cả tập trung hoàn thành CV thu học phí , Lập KHTC ( dù làm ở nhà), và chuẩn bị đầy đủ hồ sơ Kiểm toán, Thanh tra để phục công tác thanh tra để phục vụ công tác thanh tra sắp tới. - Phải trực thu học phí đến 21h mỗi ngày. - Do có nhiều tích cực trong công việc của phòng và của trường, Phòng KH-TC kính đề nghị hội đồng thi đua xem xét xếp loại : A2
A16: II. Hợp đồng trường
A17: 01 | B17: Trần Thị Thảo Vân | C17: 01003008 | D17: A4 | F17: ='Mau 3'!N17 -> 3 | G17: ='Mau 3'!O17 -> 2 | J17: - Vẫn nhận công việc phân công từ Trưởng phòng những ngày làm việc tại nhà. - Tất cả tập trung hoàn thành CV thu học phí, Lập KHTC ( dù làm ở nhà), và chuẩn bị đầy đủ hồ sơ Kiểm toán, Thanh tra để phục công tác thanh tra để phục vụ công tác thanh tra sắp tới. - Phải trực thu học phí đến 21h mỗi ngày. - Do có nhiều tích cực trong công việc của phòng và của trường, Phòng KH-TC kính đề nghị hội đồng thi đua xem xét xếp loại : A2
A18: 02 | B18: Nguyễn Thụy Nghiêm | C18: 01003014 | D18: A4 | F18: ='Mau 3'!N18 -> 3 | G18: ='Mau 3'!O18 -> 2 | J18: - Vẫn nhận công việc phân công từ Trưởng phòng những ngày làm việc tại nhà. - Tất cả tập trung hoàn thành CV thu học phí , Lập KHTC ( dù làm ở nhà), và chuẩn bị đầy đủ hồ sơ Kiểm toán, Thanh tra để phục công tác thanh tra để phục vụ công tác thanh tra sắp tới. - Do có nhiều tích cực trong công việc của phòng và của trường, Phòng KH-TC kính đề nghị hội đồng thi đua xem xét xếp loại : A2
A19: 03 | B19: Huỳnh Như Ý | C19: 01003015 | D19: A4 | F19: ='Mau 3'!N19 -> 3 | G19: ='Mau 3'!O19 -> 2 | J19: - Vẫn nhận công việc phân công từ Trưởng phòng những ngày làm việc tại nhà. - Tất cả tập trung hoàn thành CV thu học phí , Lập KHTC ( dù làm ở nhà), và chuẩn bị đầy đủ hồ sơ Kiểm toán, Thanh tra để phục công tác thanh tra để phục vụ công tác thanh tra sắp tới. - Phải trực thu học phí đến 21h mỗi ngày. - Do có nhiều tích cực trong công việc của phòng và của trường, Phòng KH-TC kính đề nghị hội đồng thi đua xem xét xếp loại : A2
A21: * Giải trình bổ sung: Hiện là thời gian cao điểm thu học phí tuyển sinh khoá mới, làm thủ tục chi tiền miễn giảm học phí chuyển qua thu học phí khoá cũ. Ngoài ra trong tháng còn phải hoàn thiện Kế hoạch tài chính, kế hoạch mua sắm - sửa chữa, kế hoạch kinh phí năm 2022 (Theo VB 2332/SGDĐT-KHTC Ngày 25/8/2021 của Sở Giáo dục & Đào tạo) và chuẩn bị chứng từ, hồ sơ sổ sách để phục vụ cho công tác thanh tra (Theo QĐ 1803/QĐ-SGDĐT Ngày 09/09/2021). Nên CV của nhân viên P. KHTC phải đảm trách rất nhiều, đó là lý do xin đề nghị Hội đồng thi đua xếp loại A2 cho NV của phòng.
B23: Kết quả xếp loại | E23: Viên chức | F23: Hợp đồng trường | H23: Ý kiến TT HĐ TĐ-KT
B24: A1 | E24: 1
B25: A2
B26: A3
B27: A4 | E27: 5 | F27: 3
B28: ADN
B29: B2
B30: C1
B31: C2
B32: D
B33: E
B34: Tổng số nhân sự: | E34: =SUM(E24:E33) -> 6 | F34: =SUM(F24:F33) -> 3
A36: Lưu ý: Các đơn vị gửi file mềm qua hệ thống điện tử E-office nhà trường và văn bản giấy về phòng TC-HC-TH (Cô Trần Thị Ánh Phượng).
G38: TPHCM, ngày 20 tháng 9 năm 2021
G39: TRƯỞNG ĐƠN VỊ
G45: Nguyễn Kính

Sheet Sheet1
