Workbook

Sheet 20T4-QKS1
A1: ỦY BAN NHÂN DÂN THÀNH PHỐ HỒ CHÍ MINH | L1: CỘNG HOÀ XÃ HỘI CHỦ NGHĨA VIỆT NAM
B2: TRƯỜNG CAO ĐẢNG LÝ TỰ TRỌNG THÀNH PHỐ HỒ CHÍ MINH | L2: Độc lập - Tự do - Hạnh phúc
C3: Lớp | D3: 20T4-QKS1 | E3: Số hàng | F3: =COUNTIFS(#REF!,'20T4-QKS1'!D3) -> #REF!
A4: MẪU THỐNG KÊ TÌNH HÌNH TIÊM VẮC XIN NGỪA COVID -19 CỦA HSSV
B6: Stt | C6: Mã HS-SV | D6: Tên lớp | E6: Họ và tên | F6: Giới tính | G6: Nghề nghiệp /vị trí công việc | H6: Ngày sinh/ Năm sinh | I6: Số điện thoại | J6: Số CMT/ CCCD | K6: Số thẻ BHYT | L6: Dân tộc | M6: Quốc tịch | N6: Số nhà/ Tổ | O6: Xã/ Phường | P6: Quận/ Huyện | Q6: Tỉnh/TP | R6: Địa chỉ làm việc (số nhà, đường) | S6: Phường xã làm việc | T6: Quận huyện làm việc | U6: Nhóm đối tượng | V6: Chưa tiêm | W6: Đã tiêm mũi 1 (Ghi rõ ngày tháng năm TIÊM) | X6: Đã tiêm mũi 2 (Ghi rõ ngày tháng năm TIÊM)
A7: =A6+MATCH(D7,OFFSET(#REF!,'20T4-QKS1'!A6,0,14000),0) -> #REF! | B7: 1 | C7: 20001273 | D7: 20T4-QKS1 | E7: Trần Mai An | F7: Nữ | G7: Sinh viên | H7: 14/10/2004 | I7: 0785947740 | J7: 079304022099 | K7: SV 479 7939387078 | L7: Kinh | M7: Việt Nam | N7: 0 | O7: 0 | P7: 0 | Q7: 0 | R7: 390 Hoàng Văn Thụ | S7: Phường 4 | T7: Quận Tân Bình | U7: SV | V7: nghỉ học luôn
A8: =A7+MATCH(D8,OFFSET(#REF!,'[1]20T4-QKS1'!A7,0,100),0) -> #REF! | B8: 2 | C8: 20001424 | D8: 20T4-QKS1 | E8: Nguyễn Dương Phương Anh | F8: Nữ | G8: Sinh viên | H8: 26/07/2005 | I8: 0906111492 | J8: 0 | K8: SV 479 7931102570 | L8: Kinh | M8: Việt Nam | N8: 0 | O8: Xã Xuân Thành | P8: Huyện Xuân Lộc | Q8: Đồng Nai | R8: 390 Hoàng Văn Thụ | S8: Phường 4 | T8: Quận Tân Bình | U8: SV | V8: X
A9: =A8+MATCH(D9,OFFSET(#REF!,'[1]20T4-QKS1'!A8,0,100),0) -> #REF! | B9: 3 | C9: 20001418 | D9: 20T4-QKS1 | E9: Nguyễn Thị Trâm Anh | F9: Nữ | G9: Sinh viên | H9: 28/08/2004 | I9: 0933523351 | J9: 079304032677 | K9: SV 479 7938023927 | L9: Kinh | M9: Việt Nam | N9: 29/3 Bis khu phố 3, phường Tân Hưng Thuận, | O9: Phường Tân Hưng Thuận | P9: Quận 12 | Q9: Tp. Hồ Chí Minh | R9: 390 Hoàng Văn Thụ | S9: Phường 4 | T9: Quận Tân Bình | U9: SV | V9: X
A10: =A9+MATCH(D10,OFFSET(#REF!,'[1]20T4-QKS1'!A9,0,100),0) -> #REF! | B10: 4 | C10: 20000585 | D10: 20T4-QKS1 | E10: Thái Tuấn Anh | F10: Nam | G10: Sinh viên | H10: 19/01/2005 | I10: 0901646238 | J10: 0 | K10: SV 479 7937951178 | L10: Kinh | M10: Việt Nam | N10: 15A | O10: Phường Long Trường | P10: Quận 9 | Q10: Tp. Hồ Chí Minh | R10: 390 Hoàng Văn Thụ | S10: Phường 4 | T10: Quận Tân Bình | U10: SV | V10: X
A11: =A10+MATCH(D11,OFFSET(#REF!,'[1]20T4-QKS1'!A10,0,100),0) -> #REF! | B11: 5 | C11: 20001082 | D11: 20T4-QKS1 | E11: Lê Ngọc Hải Âu | F11: Nữ | G11: Sinh viên | H11: 16/06/2005 | I11: 0904512447 | J11: 0 | K11: SV 479 7937587951 | L11: Kinh | M11: Việt Nam | N11: 0 | O11: Phường Tân Thới Nhất | P11: Quận 12 | Q11: Tp. Hồ Chí Minh | R11: 390 Hoàng Văn Thụ | S11: Phường 4 | T11: Quận Tân Bình | U11: SV | V11: X
A12: =A11+MATCH(D12,OFFSET(#REF!,'[1]20T4-QKS1'!A11,0,100),0) -> #REF! | B12: 6 | C12: 20000977 | D12: 20T4-QKS1 | E12: Đặng Quốc Cường | F12: Nam | G12: Sinh viên | H12: 28/06/2005 | I12: 0364357248 | J12: 0 | K12: SV 479 7222419467 | L12: Kinh | M12: Việt Nam | N12: 0 | O12: Xã Bến Củi | P12: Huyện Dương Minh Châu | Q12: Tây Ninh | R12: 390 Hoàng Văn Thụ | S12: Phường 4 | T12: Quận Tân Bình | U12: SV | V12: X
A13: =A12+MATCH(D13,OFFSET(#REF!,'[2]20T4-QKS1'!A12,0,100),0) -> #REF! | B13: 7 | C13: 20001833 | D13: 20T4-QKS1 | E13: Nguyễn Ngọc Khánh Đan | F13: Nữ | G13: Sinh viên | H13: 05/12/2005 | I13: 0903123487 | J13: chưa làm | K13: SV 479 7932367219 | L13: Kinh | M13: Việt Nam | N13: 262/10 Lê Văn Sỹ p14 q3 | O13: Phường 14 | P13: Quận 3 | Q13: Tp. Hồ Chí Minh | R13: 390 Hoàng Văn Thụ | S13: Phường 4 | T13: Quận Tân Bình | U13: SV | V13: X
A14: =A13+MATCH(D14,OFFSET(#REF!,'20T4-QKS1'!A13,0,100),0) -> #REF! | B14: 8 | C14: 20000841 | D14: 20T4-QKS1 | E14: Phương Văn Đạt | F14: Nam | G14: Sinh viên | H14: 10/12/2005 | I14: 0974488269 | J14: 20000841 | K14: SV 479 7930960437 | L14: Kinh | M14: Việt Nam | N14: 120/30 Cống Lỡ | O14: Phường 15 | P14: Quận Tân Bình | Q14: Tp. Hồ Chí Minh | R14: 390 Hoàng Văn Thụ | S14: Phường 4 | T14: Quận Tân Bình | U14: SV | V14: nghỉ học luôn
A15: =A14+MATCH(D15,OFFSET(#REF!,'[3]20T4-QKS1'!A14,0,100),0) -> #REF! | B15: 9 | C15: 20000538 | D15: 20T4-QKS1 | E15: Tạ Quốc Duy | F15: Nam | G15: Sinh viên | H15: 13/09/2005 | I15: 0907994334 | J15: 079205008240 | K15: SV 479 7932715346 | L15: Kinh | M15: Việt Nam | N15: 227//9 Lạc Long Quân | O15: Phường 03 | P15: Quận 11 | Q15: Tp. Hồ Chí Minh | R15: 390 Hoàng Văn Thụ | S15: Phường 4 | T15: Quận Tân Bình | U15: SV | V15: X
A16: =A15+MATCH(D16,OFFSET(#REF!,'[4]20T4-QKS1'!A15,0,100),0) -> #REF! | B16: 10 | C16: 20001496 | D16: 20T4-QKS1 | E16: Cao Thị Thu Hà | F16: Nữ | G16: Sinh viên | H16: 17/08/2004 | I16: 0968633775 | J16: 212468250 | K16: SV 479 7930968971 | L16: Kinh | M16: Việt Nam | N16: 39 C1 | O16: phường 13 | P16: Quận Tân Bình | Q16: Tp. Hồ Chí Minh | R16: 390 Hoàng Văn Thụ | S16: Phường 4 | T16: Quận Tân Bình | U16: SV | V16: X
A17: =A16+MATCH(D17,OFFSET(#REF!,'[1]20T4-QKS1'!A16,0,100),0) -> #REF! | B17: 11 | C17: 20000575 | D17: 20T4-QKS1 | E17: Nguyễn Bảo Hân | F17: Nữ | G17: Sinh viên | H17: 22/08/2004 | I17: 0777264113 | J17: 225829019 | K17: SV 479 5621685261 | L17: Kinh | M17: Việt Nam | N17: Nữ Dân Công | O17: Xã Vĩnh Lộc A | P17: Huyện Bình Chánh | Q17: Tp. Hồ Chí Minh | R17: 390 Hoàng Văn Thụ | S17: Phường 4 | T17: Quận Tân Bình | U17: SV | V17: X
A18: =A17+MATCH(D18,OFFSET(#REF!,'[5]20T4-QKS1'!A17,0,100),0) -> #REF! | B18: 12 | C18: 20001370 | D18: 20T4-QKS1 | E18: Phún Tiến Hào | F18: Nam | G18: Sinh viên | H18: 01/08/2003 | I18: 0909664101 | J18: 082203000463 | K18: SV 479 7932788277 | L18: Hoa | M18: Việt Nam | N18: 94 Lãnh Binh Thăng | O18: Phường 13 | P18: Quận 11 | Q18: Tp. Hồ Chí Minh | R18: 390 Hoàng Văn Thụ | S18: Phường 4 | T18: Quận Tân Bình | U18: SV | V18: X
A19: =A18+MATCH(D19,OFFSET(#REF!,'20T4-QKS1'!A18,0,100),0) -> #REF! | B19: 13 | C19: 20000590 | D19: 20T4-QKS1 | E19: Lê Ngô Trung Hiếu | F19: Nam | G19: Sinh viên | H19: 04/09/2005 | I19: 0918014788 | J19: 0 | K19: SV 479 7938174950 | L19: Kinh | M19: Việt Nam | N19: 161/35/4 Lạc Long Quân | O19: Phường 03 | P19: Quận 11 | Q19: Tp. Hồ Chí Minh | R19: 390 Hoàng Văn Thụ | S19: Phường 4 | T19: Quận Tân Bình | U19: SV | V19: nghỉ học luôn
A20: =A19+MATCH(D20,OFFSET(#REF!,'[1]20T4-QKS1'!A19,0,100),0) -> #REF! | B20: 14 | C20: 20000983 | D20: 20T4-QKS1 | E20: Lý Thanh Hiếu | F20: Nam | G20: Sinh viên | H20: 06/04/2005 | I20: 0906763183 | J20: 0 | K20: SV 479 7931342133 | L20: Kinh | M20: Việt Nam | N20: 355/1 Lũy Bán Bích | O20: Phường Hòa Thạnh | P20: Quận Tân Phú | Q20: Tp. Hồ Chí Minh | R20: 390 Hoàng Văn Thụ | S20: Phường 4 | T20: Quận Tân Bình | U20: SV | V20: X
A21: =A20+MATCH(D21,OFFSET(#REF!,'[1]20T4-QKS1'!A20,0,100),0) -> #REF! | B21: 15 | C21: 20001340 | D21: 20T4-QKS1 | E21: Nguyễn Việt Hoàng | F21: Nam | G21: Sinh viên | H21: 03/03/2004 | I21: 0375215276 | J21: 225952793 | K21: SV 479 5620170575 | L21: Kinh | M21: Việt Nam | N21: 0 | O21: 0 | P21: 0 | Q21: 0 | R21: 390 Hoàng Văn Thụ | S21: Phường 4 | T21: Quận Tân Bình | U21: SV | V21: X
A22: =A21+MATCH(D22,OFFSET(#REF!,'20T4-QKS1'!A21,0,100),0) -> #REF! | B22: 16 | C22: 20000652 | D22: 20T4-QKS1 | E22: Lê Nguyễn Trường Huy | F22: Nam | G22: Sinh viên | H22: 26/11/2005 | I22: 0346429071 | J22: 0 | K22: SV 479 7932741998 | L22: Kinh | M22: Việt Nam | N22: 166/10 ấp Phú Mỹ 2 | O22: Xã Đồng Phú | P22: Huyện Long Hồ | Q22: Vĩnh Long | R22: 390 Hoàng Văn Thụ | S22: Phường 4 | T22: Quận Tân Bình | U22: SV | V22: X
A23: =A22+MATCH(D23,OFFSET(#REF!,'20T4-QKS1'!A22,0,100),0) -> #REF! | B23: 17 | C23: 20000732 | D23: 20T4-QKS1 | E23: Marimusa Ibrohiêm | F23: Nam | G23: Sinh viên | H23: 24/07/2005 | I23: 0908713176 | J23: 0 | K23: SV 479 7931842888 | L23: Chăm | M23: Việt Nam | N23: 95/22 | O23: Phường 17 | P23: Quận Phú Nhuận | Q23: Tp. Hồ Chí Minh | R23: 390 Hoàng Văn Thụ | S23: Phường 4 | T23: Quận Tân Bình | U23: SV | V23: X
A24: =A23+MATCH(D24,OFFSET(#REF!,'[6]20T4-QKS1'!A23,0,100),0) -> #REF! | B24: 18 | C24: 20000945 | D24: 20T4-QKS1 | E24: Trần Phúc Khang | F24: Nam | G24: Sinh viên | H24: 22/10/2005 | I24: 0764843446 | J24: 079205021054 | K24: SV 479 7931154594 | L24: Kinh | M24: Việt Nam | N24: 34/7 Chấn Hưng | O24: Phường 06 | P24: Quận Tân Bình | Q24: Tp. Hồ Chí Minh | R24: 390 Hoàng Văn Thụ | S24: Phường 4 | T24: Quận Tân Bình | U24: SV | V24: X
A25: =A24+MATCH(D25,OFFSET(#REF!,'[3]20T4-QKS1'!A24,0,100),0) -> #REF! | B25: 19 | C25: 20000319 | D25: 20T4-QKS1 | E25: Nguyễn Long Khánh | F25: Nam | G25: Sinh viên | H25: 28/06/2005 | I25: 0822862005 | J25: 001205005934 | K25: SV 479 0129345532 | L25: Kinh | M25: Việt Nam | N25: 89 Nguyễn Du | O25: Phường Nguyễn Du | P25: Quận Hai Bà Trưng | Q25: Hà Nội | R25: 390 Hoàng Văn Thụ | S25: Phường 4 | T25: Quận Tân Bình | U25: SV | V25: X
A26: =A25+MATCH(D26,OFFSET(#REF!,'[7]20T4-QKS1'!A25,0,100),0) -> #REF! | B26: 20 | C26: 20001645 | D26: 20T4-QKS1 | E26: Phạm Bùi Thiên Kim | F26: Nữ | G26: Sinh viên | H26: 29/04/2005 | I26: 0901208657 | J26: 079305022168 | K26: SV 479 7931203318 | L26: Kinh | M26: Việt Nam | N26: 2.07 Lô F chung cư Bàu Cát | O26: phường 10, | P26: quận Tân Bình | Q26: Tp.HCM | R26: 390 Hoàng Văn Thụ | S26: Phường 4 | T26: Quận Tân Bình | U26: SV | V26: X
A27: =A26+MATCH(D27,OFFSET(#REF!,'[8]20T4-QKS1'!A26,0,100),0) -> #REF! | B27: 21 | C27: 20000452 | D27: 20T4-QKS1 | E27: Nguyễn Thị Trúc Linh | F27: Nữ | G27: Sinh viên | H27: 25/11/2005 | I27: 0704524531 | J27: 079305012513 | K27: SV 479 7929858537 | L27: Kinh | M27: Việt Nam | N27: 48/481 đường Nguyễn Du | O27: Phường 07 | P27: Quận Gò Vấp | Q27: Tp. Hồ Chí Minh | R27: 390 Hoàng Văn Thụ | S27: Phường 4 | T27: Quận Tân Bình | U27: SV | V27: X
A28: =A27+MATCH(D28,OFFSET(#REF!,'[9]20T4-QKS1'!A27,0,100),0) -> #REF! | B28: 22 | C28: 20001531 | D28: 20T4-QKS1 | E28: Tất Thang Ngọc Loan | F28: Nữ | G28: Sinh viên | H28: 12/01/2005 | I28: 0908648471 | J28: 7935028057 | K28: SV 479 7939254492 | L28: Hoa | M28: Việt Nam | N28: 48 Phan Tây Hồ | O28: Phường 07 | P28: Quận Phú Nhuận | Q28: Tp. Hồ Chí Minh | R28: 390 Hoàng Văn Thụ | S28: Phường 4 | T28: Quận Tân Bình | U28: SV | V28: X
A29: =A28+MATCH(D29,OFFSET(#REF!,'[3]20T4-QKS1'!A28,0,100),0) -> #REF! | B29: 23 | C29: 20000832 | D29: 20T4-QKS1 | E29: Nguyễn Gia Minh | F29: Nam | G29: Sinh viên | H29: 03/07/2005 | I29: 0913154684 | J29: 079205022634 | K29: SV 479 7936553906 | L29: Kinh | M29: Việt Nam | N29: 163H Trần Văn Đang | O29: Phường 11 | P29: Quận 3 | Q29: Tp. Hồ Chí Minh | R29: 390 Hoàng Văn Thụ | S29: Phường 4 | T29: Quận Tân Bình | U29: SV | V29: X
A30: =A29+MATCH(D30,OFFSET(#REF!,'[10]20T4-QKS1'!A29,0,100),0) -> #REF! | B30: 24 | C30: 20003175 | D30: 20T4-QKS1 | E30: Hồ Hoàng My | F30: Nữ | G30: Sinh viên | H30: 03/06/2005 | I30: 0902917838 | J30: chưa làm | K30: SV 479 7932244129 | L30: Kinh | M30: Việt Nam | N30: 220/196 Lê Văn Sỹ, phường 14, quận 3, TP.HCM | O30: Phường 14 | P30: Quận 3 | Q30: Tp. Hồ Chí Minh | R30: 390 Hoàng Văn Thụ | S30: Phường 4 | T30: Quận Tân Bình | U30: SV | V30: X
A31: =A30+MATCH(D31,OFFSET(#REF!,'[11]20T4-QKS1'!A30,0,100),0) -> #REF! | B31: 25 | C31: 20002013 | D31: 20T4-QKS1 | E31: Ngô Hải My | F31: Nữ | G31: Sinh viên | H31: 26/11/2005 | I31: 0933960572 | J31: 342170385 | K31: SV 479 7937762270 | L31: Kinh | M31: Việt Nam | N31: 76/62 Nguyễn Thượng Hiền, phường 1, quận Gò Vấp | O31: Xã Tân Thuận Tây | P31: Huyện Châu Thành | Q31: Đồng Tháp | R31: 390 Hoàng Văn Thụ | S31: Phường 4 | T31: Quận Tân Bình | U31: SV | V31: X
A32: =A31+MATCH(D32,OFFSET(#REF!,'[1]20T4-QKS1'!A31,0,100),0) -> #REF! | B32: 26 | C32: 20000864 | D32: 20T4-QKS1 | E32: Nguyễn Thanh Ngân | F32: Nữ | G32: Sinh viên | H32: 28/10/2005 | I32: 0334878337 | J32: 079305009963 | K32: SV 479 7932742007 | L32: Kinh | M32: Việt Nam | N32: 50/3/26D Hòa Bình | O32: Phường 05 | P32: Quận 11 | Q32: Tp. Hồ Chí Minh | R32: 390 Hoàng Văn Thụ | S32: Phường 4 | T32: Quận Tân Bình | U32: SV | V32: X
A33: =A32+MATCH(D33,OFFSET(#REF!,'[1]20T4-QKS1'!A32,0,100),0) -> #REF! | B33: 27 | C33: 20000446 | D33: 20T4-QKS1 | E33: Trần Thanh Ngân | F33: Nữ | G33: Sinh viên | H33: 14/05/2004 | I33: 0812678468 | J33: 0 | K33: SV 479 7930106516 | L33: Kinh | M33: Việt Nam | N33: 482 Nguyễn Văn Công | O33: Phường 03 | P33: Quận Gò Vấp | Q33: Tp. Hồ Chí Minh | R33: 390 Hoàng Văn Thụ | S33: Phường 4 | T33: Quận Tân Bình | U33: SV | V33: X
A34: =A33+MATCH(D34,OFFSET(#REF!,'[1]20T4-QKS1'!A33,0,100),0) -> #REF! | B34: 28 | C34: 20001009 | D34: 20T4-QKS1 | E34: Chương Như Ngọc | F34: Nữ | G34: Sinh viên | H34: 10/10/2005 | I34: 0906918752 | J34: 0 | K34: SV 479 7937587912 | L34: Kinh | M34: Việt Nam | N34: 0 | O34: Xã An Phú | P34: Huyện Củ Chi | Q34: Tp. Hồ Chí Minh | R34: 390 Hoàng Văn Thụ | S34: Phường 4 | T34: Quận Tân Bình | U34: SV | V34: X
A35: =A34+MATCH(D35,OFFSET(#REF!,'20T4-QKS1'!A34,0,100),0) -> #REF! | B35: 29 | C35: 20000928 | D35: 20T4-QKS1 | E35: Nguyễn Hồng Ngọc | F35: Nữ | G35: Sinh viên | H35: 01/08/2005 | I35: 0919237479 | J35: 0 | K35: SV 479 7930230863 | L35: Kinh | M35: Việt Nam | N35: Ấp Chánh Hưng | O35: Xã Bình Long | P35: Huyện Châu Phú | Q35: An Giang | R35: 390 Hoàng Văn Thụ | S35: Phường 4 | T35: Quận Tân Bình | U35: SV | V35: X
A36: =A35+MATCH(D36,OFFSET(#REF!,'[1]20T4-QKS1'!A35,0,100),0) -> #REF! | B36: 30 | C36: 20004698 | D36: 20T4-QKS1 | E36: Phạm Thị Bích Ngọc | F36: Nữ | G36: Sinh viên | H36: 15/09/2004 | I36: 0932659973 | J36: 261556961 | K36: SV 479 6020129912 | L36: Kinh | M36: Việt Nam | N36: 152 Huỳnh Văn Bánh, Phường 15, Quận Tân Bình, TP.HCM | O36: 0 | P36: 0 | Q36: 0 | R36: 390 Hoàng Văn Thụ | S36: Phường 4 | T36: Quận Tân Bình | U36: SV | V36: X
A37: =A36+MATCH(D37,OFFSET(#REF!,'20T4-QKS1'!A36,0,100),0) -> #REF! | B37: 31 | C37: 20000893 | D37: 20T4-QKS1 | E37: Nguyễn Trần Thành Nhân | F37: Nam | G37: Sinh viên | H37: 10/11/2005 | I37: 0364442612 | J37: 0 | K37: SV 479 7931924887 | L37: Kinh | M37: Việt Nam | N37: 56A Duy Tân | O37: Phường 15 | P37: Quận Phú Nhuận | Q37: Tp. Hồ Chí Minh | R37: 390 Hoàng Văn Thụ | S37: Phường 4 | T37: Quận Tân Bình | U37: SV | V37: X
A38: =A37+MATCH(D38,OFFSET(#REF!,'20T4-QKS1'!A37,0,100),0) -> #REF! | B38: 32 | C38: 20001536 | D38: 20T4-QKS1 | E38: Trương Thị Phương Nhi | F38: Nữ | G38: Sinh viên | H38: 14/11/2005 | I38: 0933128122 | J38: 0 | K38: SV 479 7930995450 | L38: Kinh | M38: Việt Nam | N38: 0 | O38: Phường Trung Mỹ Tây | P38: Quận 12 | Q38: Tp. Hồ Chí Minh | R38: 390 Hoàng Văn Thụ | S38: Phường 4 | T38: Quận Tân Bình | U38: SV | V38: X
A39: =A38+MATCH(D39,OFFSET(#REF!,'[12]20T4-QKS1'!A38,0,100),0) -> #REF! | B39: 33 | C39: 20000314 | D39: 20T4-QKS1 | E39: Bùi Thái Phúc | F39: Nam | G39: Sinh viên | H39: 22/05/2005 | I39: 0972305370 | J39: 79205026994 | K39: TA 479 7930517856 | L39: Mường | M39: Việt Nam | N39: 426B/B1 Nơ Trang Long | O39: Phường 13 | P39: Quận Bình Thạnh | Q39: Tp. Hồ Chí Minh | R39: 390 Hoàng Văn Thụ | S39: Phường 4 | T39: Quận Tân Bình | U39: SV | V39: X
A40: =A39+MATCH(D40,OFFSET(#REF!,'[3]20T4-QKS1'!A39,0,100),0) -> #REF! | B40: 34 | C40: 20000756 | D40: 20T4-QKS1 | E40: Lý Hồng Phúc | F40: Nam | G40: Sinh viên | H40: 31/07/2002 | I40: 0938502031 | J40: 079202002556 | K40: SV 479 7936246799 | L40: Kinh | M40: Việt Nam | N40: 20/B57Bis Đường 3 tháng 2 | O40: Phường 12 | P40: Quận 10 | Q40: Tp. Hồ Chí Minh | R40: 390 Hoàng Văn Thụ | S40: Phường 4 | T40: Quận Tân Bình | U40: SV | W40: 44420
A41: =A40+MATCH(D41,OFFSET(#REF!,'20T4-QKS1'!A40,0,100),0) -> #REF! | B41: 35 | C41: 20000074 | D41: 20T4-QKS1 | E41: Đinh Ngọc Xuân Phương | F41: Nữ | G41: Sinh viên | H41: 10/02/2005 | I41: 0931302891 | J41: 079305002813 | K41: SV 479 7932458484 | L41: Kinh | M41: Việt Nam | N41: 4/8/21A Lê Hồng Phong | O41: Phường 01 | P41: Quận 10 | Q41: Tp. Hồ Chí Minh | R41: 390 Hoàng Văn Thụ | S41: Phường 4 | T41: Quận Tân Bình | U41: SV | V41: X
A42: =A41+MATCH(D42,OFFSET(#REF!,'[13]20T4-QKS1'!A41,0,100),0) -> #REF! | B42: 36 | C42: 20005842 | D42: 20T4-QKS1 | E42: Nguyễn Minh Quân | F42: Nam | G42: Sinh viên | H42: 19/11/2004 | I42: 0393500765 | J42: 79204008429 | K42: SV 479 7930667816 | L42: Kinh | M42: Việt Nam | N42: 217/70/21 bùi đình túy | O42: 24 | P42: bình thạnh | Q42: tp hồ chí minh | R42: 390 Hoàng Văn Thụ | S42: Phường 4 | T42: Quận Tân Bình | U42: SV | V42: X
A43: =A42+MATCH(D43,OFFSET(#REF!,'[3]20T4-QKS1'!A42,0,100),0) -> #REF! | B43: 37 | C43: 20000980 | D43: 20T4-QKS1 | E43: Vòng Sìn Quý | F43: Nam | G43: Sinh viên | H43: 10/09/2005 | I43: 0938720582 | J43: 079205022499 | K43: SV 479 7937643622 | L43: Hoa | M43: Việt Nam | N43: 345/45 Âu Cơ | O43: Phường Phú Trung | P43: Quận Tân Phú | Q43: Tp. Hồ Chí Minh | R43: 390 Hoàng Văn Thụ | S43: Phường 4 | T43: Quận Tân Bình | U43: SV | V43: X
A44: =A43+MATCH(D44,OFFSET(#REF!,'[14]20T4-QKS1'!A43,0,100),0) -> #REF! | B44: 38 | C44: 20000182 | D44: 20T4-QKS1 | E44: Võ Diễm Quỳnh | F44: Nữ | G44: Sinh viên | H44: 16/11/2005 | I44: 0909945739 | J44: 261667620 | K44: SV 479 7931445246 | L44: Kinh | M44: Việt Nam | N44: 0 | O44: Xã Sông Bình | P44: Huyện Bắc Bình | Q44: Bình Thuận | R44: 390 Hoàng Văn Thụ | S44: Phường 4 | T44: Quận Tân Bình | U44: SV | V44: X
A45: =A44+MATCH(D45,OFFSET(#REF!,'[15]20T4-QKS1'!A44,0,100),0) -> #REF! | B45: 39 | C45: 20002148 | D45: 20T4-QKS1 | E45: Vũ Ngọc Diễm Quỳnh | F45: Nữ | G45: Sinh viên | H45: 13/10/2005 | I45: 0941796565 | J45: 079305010110 | K45: SV 479 7931605744 | L45: Kinh | M45: Việt Nam | N45: 149/44 Trịnh Đình Trọng, phường Phú Trung, quận Tân Phú, Tp.HCM | O45: Phường Phú Trung | P45: Quận Tân Phú | Q45: Tp.Hồ Chí Minh | R45: 390 Hoàng Văn Thụ | S45: Phường 4 | T45: Quận Tân Bình | U45: SV | V45: X
A46: =A45+MATCH(D46,OFFSET(#REF!,'20T4-QKS1'!A45,0,100),0) -> #REF! | B46: 40 | C46: 20001447 | D46: 20T4-QKS1 | E46: Võ Minh Sang | F46: Nam | G46: Sinh viên | H46: 13/07/2005 | I46: 0938736315 | J46: 079205013338 | K46: SV 479 7931936361 | L46: Kinh | M46: Việt Nam | N46: 0 | O46: Phường 02 | P46: Quận Phú Nhuận | Q46: Tp. Hồ Chí Minh | R46: 390 Hoàng Văn Thụ | S46: Phường 4 | T46: Quận Tân Bình | U46: SV | V46: nghỉ học luôn
A47: =A46+MATCH(D47,OFFSET(#REF!,'20T4-QKS1'!A46,0,100),0) -> #REF! | B47: 41 | C47: 20001013 | D47: 20T4-QKS1 | E47: Huỳnh Dương Thành Tài | F47: Nam | G47: Sinh viên | H47: 20/08/2005 | I47: 0786020034 | J47: 073205014517 | K47: SV 479 7930417332 | L47: Kinh | M47: Việt Nam | N47: 0 | O47: Phường 05 | P47: Quận Gò Vấp | Q47: Tp. Hồ Chí Minh | R47: 390 Hoàng Văn Thụ | S47: Phường 4 | T47: Quận Tân Bình | U47: SV | V47: nghỉ học luôn
A48: =A47+MATCH(D48,OFFSET(#REF!,'[1]20T4-QKS1'!A47,0,100),0) -> #REF! | B48: 42 | C48: 20005195 | D48: 20T4-QKS1 | E48: Tạ Minh Tâm | F48: Nam | G48: Sinh viên | H48: 03/11/2004 | I48: 0987405405 | J48: 033204005553 | K48: SV 479 7928925183 | L48: Kinh | M48: Việt Nam | N48: 0 | O48: Phường Trung Mỹ Tây | P48: Quận 12 | Q48: Tp. Hồ Chí Minh | R48: 390 Hoàng Văn Thụ | S48: Phường 4 | T48: Quận Tân Bình | U48: SV | V48: X
A49: =A48+MATCH(D49,OFFSET(#REF!,'20T4-QKS1'!A48,0,100),0) -> #REF! | B49: 43 | C49: 20000222 | D49: 20T4-QKS1 | E49: Nguyễn Ngọc Phương Thảo | F49: Nữ | G49: Sinh viên | H49: 09/07/2005 | I49: 0971116025 | J49: 079305005989 | K49: SV 479 7932675146 | L49: Kinh | M49: Việt Nam | N49: 508 Tân Phước | O49: Phường 06 | P49: Quận 11 | Q49: Tp. Hồ Chí Minh | R49: 390 Hoàng Văn Thụ | S49: Phường 4 | T49: Quận Tân Bình | U49: SV | V49: X
A50: =A49+MATCH(D50,OFFSET(#REF!,'20T4-QKS1'!A49,0,100),0) -> #REF! | B50: 44 | C50: 20001434 | D50: 20T4-QKS1 | E50: Trần Diệp Thanh Thảo | F50: Nữ | G50: Sinh viên | H50: 04/05/2005 | I50: 0934675307 | J50: 352737744 | K50: SV 479 7937766490 | L50: Kinh | M50: Việt Nam | N50: 0 | O50: Xã Phú Lâm | P50: Huyện Phú Tân | Q50: An Giang | R50: 390 Hoàng Văn Thụ | S50: Phường 4 | T50: Quận Tân Bình | U50: SV | V50: nghỉ học luôn
A51: =A50+MATCH(D51,OFFSET(#REF!,'[16]20T4-QKS1'!A50,0,100),0) -> #REF! | B51: 45 | C51: 20000464 | D51: 20T4-QKS1 | E51: Phùng Thị Hoài Thu | F51: Nữ | G51: Sinh viên | H51: 03/09/2005 | I51: 0909490097 | J51: 79305021628 | K51: SV 479 7934952695 | L51: Kinh | M51: Việt Nam | N51: 236/13/8 | O51: Xã Tân Phú Trung | P51: Huyện Củ Chi | Q51: Tp. Hồ Chí Minh | R51: 390 Hoàng Văn Thụ | S51: Phường 4 | T51: Quận Tân Bình | U51: SV | V51: X
A52: =A51+MATCH(D52,OFFSET(#REF!,'20T4-QKS1'!A51,0,100),0) -> #REF! | B52: 46 | C52: 20000246 | D52: 20T4-QKS1 | E52: Huỳnh Thị Anh Thư | F52: Nữ | G52: Sinh viên | H52: 19/01/2004 | I52: 0354566266 | J52: 0 | K52: SV 479 7938024024 | L52: Kinh | M52: Việt Nam | N52: 0 | O52: Xã Phong Nẫm | P52: Huyện Kế Sách | Q52: Sóc Trăng | R52: 390 Hoàng Văn Thụ | S52: Phường 4 | T52: Quận Tân Bình | U52: SV | V52: X
A53: =A52+MATCH(D53,OFFSET(#REF!,'[3]20T4-QKS1'!A52,0,100),0) -> #REF! | B53: 47 | C53: 20000252 | D53: 20T4-QKS1 | E53: Lê Trần Minh Thư | F53: Nữ | G53: Sinh viên | H53: 01/06/2005 | I53: 0366281387 | J53: 0 | K53: SV 479 7935196403 | L53: Kinh | M53: Việt Nam | N53: 0 | O53: Xã Tân Phú Trung | P53: Huyện Củ Chi | Q53: Tp. Hồ Chí Minh | R53: 390 Hoàng Văn Thụ | S53: Phường 4 | T53: Quận Tân Bình | U53: SV | V53: X
A54: =A53+MATCH(D54,OFFSET(#REF!,'20T4-QKS1'!A53,0,100),0) -> #REF! | B54: 48 | C54: 20000362 | D54: 20T4-QKS1 | E54: Nguyễn Ngọc Anh Thư | F54: Nữ | G54: Sinh viên | H54: 15/08/2005 | I54: 0906697920 | J54: 0 | K54: SV 479 7938083997 | L54: Kinh | M54: Việt Nam | N54: 509 Âu Cơ | O54: Phường 10 | P54: Quận Tân Bình | Q54: Tp. Hồ Chí Minh | R54: 390 Hoàng Văn Thụ | S54: Phường 4 | T54: Quận Tân Bình | U54: SV | V54: X
A55: =A54+MATCH(D55,OFFSET(#REF!,'20T4-QKS1'!A54,0,100),0) -> #REF! | B55: 49 | C55: 20001467 | D55: 20T4-QKS1 | E55: Lê Thị Thanh Thủy | F55: Nữ | G55: Sinh viên | H55: 10/08/2005 | I55: 0832428727 | J55: 0 | K55: SV 479 7931448406 | L55: Kinh | M55: Việt Nam | N55: 363/38/33/12 Đất mới | O55: Phường Bình Hưng Hoà A | P55: Quận Bình Tân | Q55: Tp. Hồ Chí Minh | R55: 390 Hoàng Văn Thụ | S55: Phường 4 | T55: Quận Tân Bình | U55: SV | V55: nghỉ học luôn
A56: =A55+MATCH(D56,OFFSET(#REF!,'[3]20T4-QKS1'!A55,0,100),0) -> #REF! | B56: 50 | C56: 20000343 | D56: 20T4-QKS1 | E56: Nguyễn Thị Hà Tiên | F56: Nữ | G56: Sinh viên | H56: 06/12/2005 | I56: 0971669068 | J56: 046305000174 | K56: SV 479 7931480149 | L56: Kinh | M56: Việt Nam | N56: 69/10 Lê Sát | O56: Phường Tân Quý | P56: Quận Tân Phú | Q56: Tp. Hồ Chí Minh | R56: 390 Hoàng Văn Thụ | S56: Phường 4 | T56: Quận Tân Bình | U56: SV | V56: X
A57: =A56+MATCH(D57,OFFSET(#REF!,'20T4-QKS1'!A56,0,100),0) -> #REF! | B57: 51 | C57: 20001228 | D57: 20T4-QKS1 | E57: Nguyễn Thị Ngọc Trâm | F57: Nữ | G57: Sinh viên | H57: 22/03/2005 | I57: 0931452790 | J57: 0 | K57: SV 479 7932607478 | L57: Kinh | M57: Việt Nam | N57: 375/1 ấp Ba Rinh, xã Đại Hải, | O57: Xã Đại Hải | P57: Huyện Kế Sách | Q57: Sóc Trăng | R57: 390 Hoàng Văn Thụ | S57: Phường 4 | T57: Quận Tân Bình | U57: SV | V57: X
A58: =A57+MATCH(D58,OFFSET(#REF!,'20T4-QKS1'!A57,0,100),0) -> #REF! | B58: 52 | C58: 20000077 | D58: 20T4-QKS1 | E58: Trần Thị Ngọc Trinh | F58: Nữ | G58: Sinh viên | H58: 29/01/2005 | I58: 0937260362 | J58: 331947522 | K58: SV 479 7937587943 | L58: Kinh | M58: Việt Nam | N58: A32 Khóm 3 | O58: Phường 9 | P58: Thành phố Vĩnh Long | Q58: Vĩnh Long | R58: 390 Hoàng Văn Thụ | S58: Phường 4 | T58: Quận Tân Bình | U58: SV | V58: X
A59: =A58+MATCH(D59,OFFSET(#REF!,'[17]20T4-QKS1'!A58,0,100),0) -> #REF! | B59: 53 | C59: 20001231 | D59: 20T4-QKS1 | E59: Trần Thanh Trúc | F59: Nữ | G59: Sinh viên | H59: 23/09/2005 | I59: 0909637942 | J59: 079305006161 | K59: 000 1271268 | L59: Kinh | M59: Việt Nam | N59: 1129/2-4 | O59: Phường 11 | P59: Quận Tân Bình | Q59: Tp. Hồ Chí Minh | R59: 390 Hoàng Văn Thụ | S59: Phường 4 | T59: Quận Tân Bình | U59: SV | V59: X
A60: =A59+MATCH(D60,OFFSET(#REF!,'[1]20T4-QKS1'!A59,0,100),0) -> #REF! | B60: 54 | C60: 20001035 | D60: 20T4-QKS1 | E60: Chế Đan Trường | F60: Nam | G60: Sinh viên | H60: 06/03/2005 | I60: 0373954741 | J60: 079205006237 | K60: SV 479 7931699257 | L60: Kinh | M60: Việt Nam | N60: 70/12 Nguyễn Ngọc Nhựt | O60: Phường Tân Quý | P60: Quận Tân Phú | Q60: Tp. Hồ Chí Minh | R60: 390 Hoàng Văn Thụ | S60: Phường 4 | T60: Quận Tân Bình | U60: SV | V60: X
A61: =A60+MATCH(D61,OFFSET(#REF!,'[1]20T4-QKS1'!A60,0,100),0) -> #REF! | B61: 55 | C61: 20000888 | D61: 20T4-QKS1 | E61: Hoàng Công Tú | F61: Nam | G61: Sinh viên | H61: 20/03/2005 | I61: 0964099946 | J61: 126000889 | K61: SV 479 7937779076 | L61: Kinh | M61: Việt Nam | N61: 0 | O61: Thị trấn Gia Bình | P61: Huyện Gia Bình | Q61: Bắc Ninh | R61: 390 Hoàng Văn Thụ | S61: Phường 4 | T61: Quận Tân Bình | U61: SV | V61: X
A62: =A61+MATCH(D62,OFFSET(#REF!,'[1]20T4-QKS1'!A61,0,100),0) -> #REF! | B62: 56 | C62: 20000109 | D62: 20T4-QKS1 | E62: Lu Kim Tuyền | F62: Nữ | G62: Sinh viên | H62: 30/07/2005 | I62: 0347360629 | J62: 079305004116 | K62: SV 479 7938744783 | L62: Hoa | M62: Việt Nam | N62: 666/33 đường 3 tháng 2 | O62: Phường 14 | P62: Quận 10 | Q62: Tp. Hồ Chí Minh | R62: 390 Hoàng Văn Thụ | S62: Phường 4 | T62: Quận Tân Bình | U62: SV | V62: X
A63: =A62+MATCH(D63,OFFSET(#REF!,'[1]20T4-QKS1'!A62,0,100),0) -> #REF! | B63: 57 | C63: 20001299 | D63: 20T4-QKS1 | E63: Đào Ngọc Thảo Vy | F63: Nữ | G63: Sinh viên | H63: 19/07/2004 | I63: 0903112647 | J63: 0 | K63: SV 479 7931224100 | L63: Kinh | M63: Việt Nam | N63: 0 | O63: Phường 12 | P63: Quận Tân Bình | Q63: Tp. Hồ Chí Minh | R63: 390 Hoàng Văn Thụ | S63: Phường 4 | T63: Quận Tân Bình | U63: SV | V63: X
A64: =A63+MATCH(D64,OFFSET(#REF!,'[1]20T4-QKS1'!A63,0,100),0) -> #REF! | B64: 58 | C64: 20000245 | D64: 20T4-QKS1 | E64: Trương Ngọc Bảo Vy | F64: Nữ | G64: Sinh viên | H64: 30/09/2005 | I64: 0979644528 | J64: 0 | K64: SV 479 7938024127 | L64: Kinh | M64: Việt Nam | N64: 0 | O64: Xã Thạnh Phú | P64: Huyện Mỹ Xuyên | Q64: Sóc Trăng | R64: 390 Hoàng Văn Thụ | S64: Phường 4 | T64: Quận Tân Bình | U64: SV | V64: X
A65: =A64+MATCH(D65,OFFSET(#REF!,'[1]20T4-QKS1'!A64,0,100),0) -> #REF! | B65: 59 | C65: 20001441 | D65: 20T4-QKS1 | E65: Lương Thị Như Ý | F65: Nữ | G65: Sinh viên | H65: 06/02/2005 | I65: 02839610376 | J65: 0 | K65: SV 479 7931537471 | L65: Kinh | M65: Việt Nam | N65: 0 | O65: Phường Hiệp Tân | P65: Quận Tân Phú | Q65: Tp. Hồ Chí Minh | R65: 390 Hoàng Văn Thụ | S65: Phường 4 | T65: Quận Tân Bình | U65: SV | V65: X
A66: =A65+MATCH(D66,OFFSET(#REF!,'[1]20T4-QKS1'!A65,0,100),0) -> #REF! | B66: 60 | C66: 20001497 | D66: 20T4-QKS1 | E66: Nguyễn Ngọc Kim Yến | F66: Nữ | G66: Sinh viên | H66: 30/04/2005 | I66: 0938118295 | J66: 079305002125 | K66: SV 479 7929926638 | L66: Kinh | M66: Việt Nam | N66: 0 | O66: Phường 03 | P66: Quận Gò Vấp | Q66: Tp. Hồ Chí Minh | R66: 390 Hoàng Văn Thụ | S66: Phường 4 | T66: Quận Tân Bình | U66: SV | V66: X
A67: =A66+MATCH(D67,OFFSET(#REF!,'20T4-QKS1'!A66,0,100),0) -> #REF! | B67: 61 | C67: 20000965 | D67: 20T4-QKS1 | E67: Nguyễn Thị Ngọc Yến | F67: Nữ | G67: Sinh viên | H67: 28/07/2004 | I67: 0908086312 | J67: 079304030305 | K67: SV 479 7939632577 | L67: Kinh | M67: Việt Nam | N67: 242 Tô Hiệu | O67: Phường Hiệp Tân | P67: Quận Tân Phú | Q67: Tp. Hồ Chí Minh | R67: 390 Hoàng Văn Thụ | S67: Phường 4 | T67: Quận Tân Bình | U67: SV | V67: X
