Workbook

Sheet 20T4-QKS1
A1: ỦY BAN NHÂN DÂN THÀNH PHỐ HỒ CHÍ MINH | L1: CỘNG HOÀ XÃ HỘI CHỦ NGHĨA VIỆT NAM
B2: TRƯỜNG CAO ĐẢNG LÝ TỰ TRỌNG THÀNH PHỐ HỒ CHÍ MINH | L2: Độc lập - Tự do - Hạnh phúc
C3: Lớp | D3: 20T4-QKS1 | E3: Số hàng | F3: =COUNTIFS(#REF!,'20T4-QKS1'!D3) -> #REF!
A4: MẪU THỐNG KÊ TÌNH HÌNH TIÊM VẮC XIN NGỪA COVID -19 CỦA HSSV
B6: Stt | C6: Mã HS-SV | D6: Tên lớp | E6: Họ và tên | F6: Giới tính | G6: Nghề nghiệp /vị trí công việc | H6: Ngày sinh/ Năm sinh | I6: Số điện thoại | J6: Số CMT/ CCCD | K6: Số thẻ BHYT | L6: Dân tộc | M6: Quốc tịch | N6: Số nhà/ Tổ | O6: Xã/ Phường | P6: Quận/ Huyện | Q6: Tỉnh/TP | R6: Địa chỉ làm việc (số nhà, đường) | S6: Phường xã làm việc | T6: Quận huyện làm việc | U6: Nhóm đối tượng | V6: Chưa tiêm | W6: Đã tiêm mũi 1 (Ghi rõ ngày tháng năm TIÊM) | X6: Đã tiêm mũi 2 (Ghi rõ ngày tháng năm TIÊM)
A7: =A6+MATCH(D7,OFFSET(#REF!,'20T4-QKS1'!A6,0,14000),0) -> #REF! | B7: 1 | C7: 20001273 | D7: 20T4-QKS1 | E7: Trần Mai An | F7: Nữ | G7: Sinh viên | H7: 14/10/2004 | I7: 0785947740 | J7: 079304022099 | K7: SV 479 7939387078 | L7: Kinh | M7: Việt Nam | N7: 0 | O7: 0 | P7: 0 | Q7: 0 | R7: 390 Hoàng Văn Thụ | S7: Phường 4 | T7: Quận Tân Bình | U7: SV | V7: nghỉ học luôn
A8: =A7+MATCH(D8,OFFSET(#REF!,'[1]20T4-QKS1'!A7,0,100),0) -> #REF! | B8: 2 | C8: 20001424 | D8: 20T4-QKS1 | E8: Nguyễn Dương Phương Anh | F8: Nữ | G8: Sinh viên | H8: 26/07/2005 | I8: 0906111492 | J8: 0 | K8: SV 479 7931102570 | L8: Kinh | M8: Việt Nam | N8: 0 | O8: Xã Xuân Thành | P8: Huyện Xuân Lộc | Q8: Đồng Nai | R8: 390 Hoàng Văn Thụ | S8: Phường 4 | T8: Quận Tân Bình | U8: SV | V8: X
A9: =A8+MATCH(D9,OFFSET(#REF!,'[1]20T4-QKS1'!A8,0,100),0) -> #REF! | B9: 3 | C9: 20001418 | D9: 20T4-QKS1 | E9: Nguyễn Thị Trâm Anh | F9: Nữ | G9: Sinh viên | H9: 28/08/2004 | I9: 0933523351 | J9: 079304032677 | K9: SV 479 7938023927 | L9: Kinh | M9: Việt Nam | N9: 29/3 Bis khu phố 3, phường Tân Hưng Thuận, | O9: Phường Tân Hưng Thuận | P9: Quận 12 | Q9: Tp. Hồ Chí Minh | R9: 390 Hoàng Văn Thụ | S9: Phường 4 | T9: Quận Tân Bình | U9: SV | V9: X
A10: =A9+MATCH(D10,OFFSET(#REF!,'[1]20T4-QKS1'!A9,0,100),0) -> #REF! | B10: 4 | C10: 20000585 | D10: 20T4-QKS1 | E10: Thái Tuấn Anh | F10: Nam | G10: Sinh viên | H10: 19/01/2005 | I10: 0901646238 | J10: 0 | K10: SV 479 7937951178 | L10: Kinh | M10: Việt Nam | N10: 15A | O10: Phường Long Trường | P10: Quận 9 | Q10: Tp. Hồ Chí Minh | R10: 390 Hoàng Văn Thụ | S10: Phường 4 | T10: Quận Tân Bình | U10: SV | V10: X
A11: =A10+MATCH(D11,OFFSET(#REF!,'[1]20T4-QKS1'!A10,0,100),0) -> #REF! | B11: 5 | C11: 20001082 | D11: 20T4-QKS1 | E11: Lê Ngọc Hải Âu | F11: Nữ | G11: Sinh viên | H11: 16/06/2005 | I11: 0904512447 | J11: 0 | K11: SV 479 7937587951 | L11: Kinh | M11: Việt Nam | N11: 0 | O11: Phường Tân Thới Nhất | P11: Quận 12 | Q11: Tp. Hồ Chí Minh | R11: 390 Hoàng Văn Thụ | S11: Phường 4 | T11: Quận Tân Bình | U11: SV | V11: X
A12: =A11+MATCH(D12,OFFSET(#REF!,'[1]20T4-QKS1'!A11,0,100),0) -> #REF! | B12: 6 | C12: 20000977 | D12: 20T4-QKS1 | E12: Đặng Quốc Cường | F12: Nam | G12: Sinh viên | H12: 28/06/2005 | I12: 0364357248 | J12: 0 | K12: SV 479 7222419467 | L12: Kinh | M12: Việt Nam | N12: 0 | O12: Xã Bến Củi | P12: Huyện Dương Minh Châu | Q12: Tây Ninh | R12: 390 Hoàng Văn Thụ | S12: Phường 4 | T12: Quận Tân Bình | U12: SV | V12: X
A13: =A12+MATCH(D13,OFFSET(#REF!,'[2]20T4-QKS1'!A12,0,100),0) -> #REF! | B13: 7 | C13: 20001833 | D13: 20T4-QKS1 | E13: Nguyễn Ngọc Khánh Đan | F13: Nữ | G13: Sinh viên | H13: 05/12/2005 | I13: 0903123487 | J13: chưa làm | K13: SV 479 7932367219 | L13: Kinh | M13: Việt Nam | N13: 262/10 Lê Văn Sỹ p14 q3 | O13: Phường 14 | P13: Quận 3 | Q13: Tp. Hồ Chí Minh | R13: 390 Hoàng Văn Thụ | S13: Phường 4 | T13: Quận Tân Bình | U13: SV | V13: X
A14: =A13+MATCH(D14,OFFSET(#REF!,'20T4-QKS1'!A13,0,100),0) -> #REF! | B14: 8 | C14: 20000841 | D14: 20T4-QKS1 | E14: Phương Văn Đạt | F14: Nam | G14: Sinh viên | H14: 10/12/2005 | I14: 0974488269 | J14: 20000841 | K14: SV 479 7930960437 | L14: Kinh | M14: Việt Nam | N14: 120/30 Cống Lỡ | O14: Phường 15 | P14: Quận Tân Bình | Q14: Tp. Hồ Chí Minh | R14: 390 Hoàng Văn Thụ | S14: Phường 4 | T14: Quận Tân Bình | U14: SV | V14: nghỉ học luôn
A15: =A14+MATCH(D15,OFFSET(#REF!,'[3]20T4-QKS1'!A14,0,100),0) -> #REF! | B15: 9 | C15: 20000538 | D15: 20T4-QKS1 | E15: Tạ Quốc Duy | F15: Nam | G15: Sinh viên | H15: 13/09/2005 | I15: 0907994334 | J15: 079205008240 | K15: SV 479 7932715346 | L15: Kinh | M15: Việt Nam | N15: 227//9 Lạc Long Quân | O15: Phường 03 | P15: Quận 11 | Q15: Tp. Hồ Chí Minh | R15: 390 Hoàng Văn Thụ | S15: Phường 4 | T15: Quận Tân Bình | U15: SV | V15: X
A16: =A15+MATCH(D16,OFFSET(#REF!,'[4]20T4-QKS1'!A15,0,100),0) -> #REF! | B16: 10 | C16: 20001496 | D16: 20T4-QKS1 | E16: Cao Thị Thu Hà | F16: Nữ | G16: Sinh viên | H16: 17/08/2004 | I16: 0968633775 | J16: 212468250 | K16: SV 479 7930968971 | L16: Kinh | M16: Việt Nam | N16: 39 C1 | O16: phường 13 | P16: Quận Tân Bình | Q16: Tp. Hồ Chí Minh | R16: 390 Hoàng Văn Thụ | S16: Phường 4 | T16: Quận Tân Bình | U16: SV | V16: X
A17: =A16+MATCH(D17,OFFSET(#REF!,'[1]20T4-QKS1'!A16,0,100),0) -> #REF! | B17: 11 | C17: 20000575 | D17: 20T4-QKS1 | E17: Nguyễn Bảo Hân | F17: Nữ | G17: Sinh viên | H17: 22/08/2004 | I17: 0777264113 | J17: 225829019 | K17: SV 479 5621685261 | L17: Kinh | M17: Việt Nam | N17: Nữ Dân Công | O17: Xã Vĩnh Lộc A | P17: Huyện Bình Chánh | Q17: Tp. Hồ Chí Minh | R17: 390 Hoàng Văn Thụ | S17: Phường 4 | T17: Quận Tân Bình | U17: SV | V17: X
A18: =A17+MATCH(D18,OFFSET(#REF!,'[5]20T4-QKS1'!A17,0,100),0) -> #REF! | B18: 12 | C18: 20001370 | D18: 20T4-QKS1 | E18: Phún Tiến Hào | F18: Nam | G18: Sinh viên | H18: 01/08/2003 | I18: 0909664101 | J18: 082203000463 | K18: SV 479 7932788277 | L18: Hoa | M18: Việt Nam | N18: 94 Lãnh Binh Thăng | O18: Phường 13 | P18: Quận 11 | Q18: Tp. Hồ Chí Minh | R18: 390 Hoàng Văn Thụ | S18: Phường 4 | T18: Quận Tân Bình | U18: SV | V18: X
A19: =A18+MATCH(D19,OFFSET(#REF!,'20T4-QKS1'!A18,0,100),0) -> #REF! | B19: 13 | C19: 20000590 | D19: 20T4-QKS1 | E19: Lê Ngô Trung Hiếu | F19: Nam | G19: Sinh viên | H19: 04/09/2005 | I19: 0918014788 | J19: 0 | K19: SV 479 7938174950 | L19: Kinh | M19: Việt Nam | N19: 161/35/4 Lạc Long Quân | O19: Phường 03 | P19: Quận 11 | Q19: Tp. Hồ Chí Minh | R19: 390 Hoàng Văn Thụ | S19: Phường 4 | T19: Quận Tân Bình | U19: SV | V19: nghỉ học luôn
A20: =A19+MATCH(D20,OFFSET(#REF!,'[1]20T4-QKS1'!A19,0,100),0) -> #REF! | B20: 14 | C20: 20000983 | D20: 20T4-QKS1 | E20: Lý Thanh Hiếu | F20: Nam | G20: Sinh viên | H20: 06/04/2005 | I20: 0906763183 | J20: 0 | K20: SV 479 7931342133 | L20: Kinh | M20: Việt Nam | N20: 355/1 Lũy Bán Bích | O20: Phường Hòa Thạnh | P20: Quận Tân Phú | Q20: Tp. Hồ Chí Minh | R20: 390 Hoàng Văn Thụ | S20: Phường 4 | T20: Quận Tân Bình | U20: SV | V20: X
A21: =A20+MATCH(D21,OFFSET(#REF!,'[1]20T4-QKS1'!A20,0,100),0) -> #REF! | B21: 15 | C21: 20001340 | D21: 20T4-QKS1 | E21: Nguyễn Việt Hoàng | F21: Nam | G21: Sinh viên | H21: 03/03/2004 | I21: 0375215276 | J21: 225952793 | K21: SV 479 5620170575 | L21: Kinh | M21: Việt Nam | N21: 0 | O21: 0 | P21: 0 | Q21: 0 | R21: 390 Hoàng Văn Thụ | S21: Phường 4 | T21: Quận Tân Bình | U21: SV | V21: X
A22: =A21+MATCH(D22,OFFSET(#REF!,'20T4-QKS1'!A21,0,100),0) -> #REF! | B22: 16 | C22: 20000652 | D22: 20T4-QKS1 | E22: Lê Nguyễn Trường Huy | F22: Nam | G22: Sinh viên | H22: 26/11/2005 | I22: 0346429071 | J22: 0 | K22: SV 479 7932741998 | L22: Kinh | M22: Việt Nam | N22: 166/10 ấp Phú Mỹ 2 | O22: Xã Đồng Phú | P22: Huyện Long Hồ | Q22: Vĩnh Long | R22: 390 Hoàng Văn Thụ | S22: Phường 4 | T22: Quận Tân Bình | U22: SV | V22: X
A23: =A22+MATCH(D23,OFFSET(#REF!,'20T4-QKS1'!A22,0,100),0) -> #REF! | B23: 17 | C23: 20000732 | D23: 20T4-QKS1 | E23: Marimusa Ibrohiêm | F23: Nam | G23: Sinh viên | H23: 24/07/2005 | I23: 0908713176 | J23: 0 | K23: SV 479 7931842888 | L23: Chăm | M23: Việt Nam | N23: 95/22 | O23: Phường 17 | P23: Quận Phú Nhuận | Q23: Tp. Hồ Chí Minh | R23: 390 Hoàng Văn Thụ | S23: Phường 4 | T23: Quận Tân Bình | U23: SV | V23: X
A24: =A23+MATCH(D24,OFFSET(#REF!,'[6]20T4-QKS1'!A23,0,100),0) -> #REF! | B24: 18 | C24: 20000945 | D24: 20T4-QKS1 | E24: Trần Phúc Khang | F24: Nam | G24: Sinh viên | H24: 22/10/2005 | I24: 0764843446 | J24: 079205021054 | K24: SV 479 7931154594 | L24: Kinh | M24: Việt Nam | N24: 34/7 Chấn Hưng | O24: Phường 06 | P24: Quận Tân Bình | Q24: Tp. Hồ Chí Minh | R24: 390 Hoàng Văn Thụ | S24: Phường 4 | T24: Quận Tân Bình | U24: SV | V24: X
A25: =A24+MATCH(D25,OFFSET(#REF!,'[3]20T4-QKS1'!A24,0,100),0) -> #REF! | B25: 19 | C25: 20000319 | D25: 20T4-QKS1 | E25: Nguyễn Long Khánh | F25: Nam | G25: Sinh viên | H25: 28/06/2005 | I25: 0822862005 | J25: 001205005934 | K25: SV 479 0129345532 | L25: Kinh | M25: Việt Nam | N25: 89 Nguyễn Du | O25: Phường Nguyễn Du | P25: Quận Hai Bà Trưng | Q25: Hà Nội | R25: 390 Hoàng Văn Thụ | S25: Phường 4 | T25: Quận Tân Bình | U25: SV | V25: X
A26: =A25+MATCH(D26,OFFSET(#REF!,'[7]20T4-QKS1'!A25,0,100),0) -> #REF! | B26: 20 | C26: 20001645 | D26: 20T4-QKS1 | E26: Phạm Bùi Thiên Kim | F26: Nữ | G26: Sinh viên | H26: 29/04/2005 | I26: 0901208657 | J26: 079305022168 | K26: SV 479 7931203318 | L26: Kinh | M26: Việt Nam | N26: 2.07 Lô F chung cư Bàu Cát | O26: phường 10, | P26: quận Tân Bình | Q26: Tp.HCM | R26: 390 Hoàng Văn Thụ | S26: Phường 4 | T26: Quận Tân Bình | U26: SV | V26: X
A27: =A26+MATCH(D27,OFFSET(#REF!,'[8]20T4-QKS1'!A26,0,100),0) -> #REF! | B27: 21 | C27: 20000452 | D27: 20T4-QKS1 | E27: Nguyễn Thị Trúc Linh | F27: Nữ | G27: Sinh viên | H27: 25/11/2005 | I27: 0704524531 | J27: 079305012513 | K27: SV 479 7929858537 | L27: Kinh | M27: Việt Nam | N27: 48/481 đường Nguyễn Du | O27: Phường 07 | P27: Quận Gò Vấp | Q27: Tp. Hồ Chí Minh | R27: 390 Hoàng Văn Thụ | S27: Phường 4 | T27: Quận Tân Bình | U27: SV | V27: X
A28: =A27+MATCH(D28,OFFSET(#REF!,'[9]20T4-QKS1'!A27,0,100),0) -> #REF! | B28: 22 | C28: 20001531 | D28: 20T4-QKS1 | E28: Tất Thang Ngọc Loan | F28: Nữ | G28: Sinh viên | H28: 12/01/2005 | I28: 0908648471 | J28: 7935028057 | K28: SV 479 7939254492 | L28: Hoa | M28: Việt Nam | N28: 48 Phan Tây Hồ | O28: Phường 07 | P28: Quận Phú Nhuận | Q28: Tp. Hồ Chí Minh | R28: 390 Hoàng Văn Thụ | S28: Phường 4 | T28: Quận Tân Bình | U28: SV | V28: X
A29: =A28+MATCH(D29,OFFSET(#REF!,'[3]20T4-QKS1'!A28,0,100),0) -> #REF! | B29: 23 | C29: 20000832 | D29: 20T4-QKS1 | E29: Nguyễn Gia Minh | F29: Nam | G29: Sinh viên | H29: 03/07/2005 | I29: 0913154684 | J29: 079205022634 | K29: SV 479 7936553906 | L29: Kinh | M29: Việt Nam | N29: 163H Trần Văn Đang | O29: Phường 11 | P29: Quận 3 | Q29: Tp. Hồ Chí Minh | R29: 390 Hoàng Văn Thụ | S29: Phường 4 | T29: Quận Tân Bình | U29: SV | V29: X
A30: =A29+MATCH(D30,OFFSET(#REF!,'[10]20T4-QKS1'!A29,0,100),0) -> #REF! | B30: 24 | C30: 20003175 | D30: 20T4-QKS1 | E30: Hồ Hoàng My | F30: Nữ | G30: Sinh viên | H30: 03/06/2005 | I30: 0902917838 | J30: chưa làm | K30: SV 479 7932244129 | L30: Kinh | M30: Việt Nam | N30: 220/196 Lê Văn Sỹ, phường 14, quận 3, TP.HCM | O30: Phường 14 | P30: Quận 3 | Q30: Tp. Hồ Chí Minh | R30: 390 Hoàng Văn Thụ | S30: Phường 4 | T30: Quận Tân Bình | U30: SV | V30: X
A31: =A30+MATCH(D31,OFFSET(#REF!,'[11]20T4-QKS1'!A30,0,100),0) -> #REF! | B31: 25 | C31: 20002013 | D31: 20T4-QKS1 | E31: Ngô Hải My | F31: Nữ | G31: Sinh viên | H31: 26/11/2005 | I31: 0933960572 | J31: 342170385 | K31: SV 479 7937762270 | L31: Kinh | M31: Việt Nam | N31: 76/62 Nguyễn Thượng Hiền, phường 1, quận Gò Vấp | O31: Xã Tân Thuận Tây | P31: Huyện Châu Thành | Q31: Đồng Tháp | R31: 390 Hoàng Văn Thụ | S31: Phường 4 | T31: Quận Tân Bình | U31: SV | V31: X
A32: =A31+MATCH(D32,OFFSET(#REF!,'[1]20T4-QKS1'!A31,0,100),0) -> #REF! | B32: 26 | C32: 20000864 | D32: 20T4-QKS1 | E32: Nguyễn Thanh Ngân | F32: Nữ | G32: Sinh viên | H32: 28/10/2005 | I32: 0334878337 | J32: 079305009963 | K32: SV 479 7932742007 | L32: Kinh | M32: Việt Nam | N32: 50/3/26D Hòa Bình | O32: Phường 05 | P32: Quận 11 | Q32: Tp. Hồ Chí Minh | R32: 390 Hoàng Văn Thụ | S32: Phường 4 | T32: Quận Tân Bình | U32: SV | V32: X
A33: =A32+MATCH(D33,OFFSET(#REF!,'[1]20T4-QKS1'!A32,0,100),0) -> #REF! | B33: 27 | C33: 20000446 | D33: 20T4-QKS1 | E33: Trần Thanh Ngân | F33: Nữ | G33: Sinh viên | H33: 14/05/2004 | I33: 0812678468 | J33: 0 | K33: SV 479 7930106516 | L33: Kinh | M33: Việt Nam | N33: 482 Nguyễn Văn Công | O33: Phường 03 | P33: Quận Gò Vấp | Q33: Tp. Hồ Chí Minh | R33: 390 Hoàng Văn Thụ | S33: Phường 4 | T33: Quận Tân Bình | U33: SV | V33: X
A34: =A33+MATCH(D34,OFFSET(#REF!,'[1]20T4-QKS1'!A33,0,100),0) -> #REF! | B34: 28 | C34: 20001009 | D34: 20T4-QKS1 | E34: Chương Như Ngọc | F34: Nữ | G34: Sinh viên | H34: 10/10/2005 | I34: 0906918752 | J34: 0 | K34: SV 479 7937587912 | L34: Kinh | M34: Việt Nam | N34: 0 | O34: Xã An Phú | P34: Huyện Củ Chi | Q34: Tp. Hồ Chí Minh | R34: 390 Hoàng Văn Thụ | S34: Phường 4 | T34: Quận Tân Bình | U34: SV | V34: X
A35: =A34+MATCH(D35,OFFSET(#REF!,'20T4-QKS1'!A34,0,100),0) -> #REF! | B35: 29 | C35: 20000928 | D35: 20T4-QKS1 | E35: Nguyễn Hồng Ngọc | F35: Nữ | G35: Sinh viên | H35: 01/08/2005 | I35: 0919237479 | J35: 0 | K35: SV 479 7930230863 | L35: Kinh | M35: Việt Nam | N35: Ấp Chánh Hưng | O35: Xã Bình Long | P35: Huyện Châu Phú | Q35: An Giang | R35: 390 Hoàng Văn Thụ | S35: Phường 4 | T35: Quận Tân Bình | U35: SV | V35: X
A36: =A35+MATCH(D36,OFFSET(#REF!,'[1]20T4-QKS1'!A35,0,100),0) -> #REF! | B36: 30 | C36: 20004698 | D36: 20T4-QKS1 | E36: Phạm Thị Bích Ngọc | F36: Nữ | G36: Sinh viên | H36: 15/09/2004 | I36: 0932659973 | J36: 261556961 | K36: SV 479 6020129912 | L36: Kinh | M36: Việt Nam | N36: 152 Huỳnh Văn Bánh, Phường 15, Quận Tân Bình, TP.HCM | O36: 0 | P36: 0 | Q36: 0 | R36: 390 Hoàng Văn Thụ | S36: Phường 4 | T36: Quận Tân Bình | U36: SV | V36: X
A37: =A36+MATCH(D37,OFFSET(#REF!,'20T4-QKS1'!A36,0,100),0) -> #REF! | B37: 31 | C37: 20000893 | D37: 20T4-QKS1 | E37: Nguyễn Trần Thành Nhân | F37: Nam | G37: Sinh viên | H37: 10/11/2005 | I37: 0364442612 | J37: 0 | K37: SV 479 7931924887 | L37: Kinh | M37: Việt Nam | N37: 56A Duy Tân | O37: Phường 15 | P37: Quận Phú Nhuận | Q37: Tp. Hồ Chí Minh | R37: 390 Hoàng Văn Thụ | S37: Phường 4 | T37: Quận Tân Bình | U37: SV | V37: X
A38: =A37+MATCH(D38,OFFSET(#REF!,'20T4-QKS1'!A37,0,100),0) -> #REF! | B38: 32 | C38: 20001536 | D38: 20T4-QKS1 | E38: Trương Thị Phương Nhi | F38: Nữ | G38: Sinh viên | H38: 14/11/2005 | I38: 0933128122 | J38: 0 | K38: SV 479 7930995450 | L38: Kinh | M38: Việt Nam | N38: 0 | O38: Phường Trung Mỹ Tây | P38: Quận 12 | Q38: Tp. Hồ Chí Minh | R38: 390 Hoàng Văn Thụ | S38: Phường 4 | T38: Quận Tân Bình | U38: SV | V38: X
A39: =A38+MATCH(D39,OFFSET(#REF!,'[12]20T4-QKS1'!A38,0,100),0) -> #REF! | B39: 33 | C39: 20000314 | D39: 20T4-QKS1 | E39: Bùi Thái Phúc | F39: Nam | G39: Sinh viên | H39: 22/05/2005 | I39: 0972305370 | J39: 79205026994 | K39: TA 479 7930517856 | L39: Mường | M39: Việt Nam | N39: 426B/B1 Nơ Trang Long | O39: Phường 13 | P39: Quận Bình Thạnh | Q39: Tp. Hồ Chí Minh | R39: 390 Hoàng Văn Thụ | S39: Phường 4 | T39: Quận Tân Bình | U39: SV | V39: X
A40: =A39+MATCH(D40,OFFSET(#REF!,'[3]20T4-QKS1'!A39,0,100),0) -> #REF! | B40: 34 | C40: 20000756 | D40: 20T4-QKS1 | E40: Lý Hồng Phúc | F40: Nam | G40: Sinh viên | H40: 31/07/2002 | I40: 0938502031 | J40: 079202002556 | K40: SV 479 7936246799 | L40: Kinh | M40: Việt Nam | N40: 20/B57Bis Đường 3 tháng 2 | O40: Phường 12 | P40: Quận 10 | Q40: Tp. Hồ Chí Minh | R40: 390 Hoàng Văn Thụ | S40: Phường 4 | T40: Quận Tân Bình | U40: SV | W40: 44420
A41: =A40+MATCH(D41,OFFSET(#REF!,'20T4-QKS1'!A40,0,100),0) -> #REF! | B41: 35 | C41: 20000074 | D41: 20T4-QKS1 | E41: Đinh Ngọc Xuân Phương | F41: Nữ | G41: Sinh viên | H41: 10/02/2005 | I41: 0931302891 | J41: 079305002813 | K41: SV 479 7932458484 | L41: Kinh | M41: Việt Nam | N41: 4/8/21A Lê Hồng Phong | O41: Phường 01 | P41: Quận 10 | Q41: Tp. Hồ Chí Minh | R41: 390 Hoàng Văn Thụ | S41: Phường 4 | T41: Quận Tân Bình | U41: SV | V41: X
...
