Workbook

Sheet PL3_Danh muc hanh chinh (2)
A1: Tên Tỉnh/Thành phố | B1: Mã Tỉnh/Thành phố | C1: Tên Quận/Huyện | D1: Mã Quận/Huyện | E1: Tên Xã/Phường | F1: Mã Xã/Phường
A2: Thành phố Hồ Chí Minh | B2: 79 | C2: Quận 1 | D2: 760 | E2: Phường Tân Định | F2: 26734
A3: Thành phố Hồ Chí Minh | B3: 79 | C3: Quận 1 | D3: 760 | E3: Phường Đa Kao | F3: 26737
A4: Thành phố Hồ Chí Minh | B4: 79 | C4: Quận 1 | D4: 760 | E4: Phường Bến Nghé | F4: 26740
A5: Thành phố Hồ Chí Minh | B5: 79 | C5: Quận 1 | D5: 760 | E5: Phường Bến Thành | F5: 26743
A6: Thành phố Hồ Chí Minh | B6: 79 | C6: Quận 1 | D6: 760 | E6: Phường Nguyễn Thái Bình | F6: 26746
A7: Thành phố Hồ Chí Minh | B7: 79 | C7: Quận 1 | D7: 760 | E7: Phường Phạm Ngũ Lão | F7: 26749
A8: Thành phố Hồ Chí Minh | B8: 79 | C8: Quận 1 | D8: 760 | E8: Phường Cầu Ông Lãnh | F8: 26752
A9: Thành phố Hồ Chí Minh | B9: 79 | C9: Quận 1 | D9: 760 | E9: Phường Cô Giang | F9: 26755
A10: Thành phố Hồ Chí Minh | B10: 79 | C10: Quận 1 | D10: 760 | E10: Phường Nguyễn Cư Trinh | F10: 26758
A11: Thành phố Hồ Chí Minh | B11: 79 | C11: Quận 1 | D11: 760 | E11: Phường Cầu Kho | F11: 26761
A12: Thành phố Hồ Chí Minh | B12: 79 | C12: Quận 12 | D12: 761 | E12: Phường Thạnh Xuân | F12: 26764
... A313: Thành phố Hồ Chí Minh | B313: 79 | C313: Huyện Cần Giờ | D313: 787 | E313: Xã Lý Nhơn | F313: 27682

Sheet 20C2-ĐĐT1
A1: Chú ý:
D2: 1.Các cột có hoa thị (*) màu đỏ là cột bắt buộc phải nhập thông tin.
D3: 2. Địa điểm tiêm nhập Mã cơ sở KCB của cơ sở tiêm, tham khảo tại PL4
D4: 3. Với các cột không có thông tin hoặc thiếu thông tin thì KHÔNG NHẬP
D5: 4. Thực hiện bỏ bộ lọc dữ liệu ( Filter) tại tất cả các sheet danh mục (sau khi thực hiện tra cứu) trước khi Tải file import lên hệ thống
A7: # | B7: MSSV | C7: LỚP | D7: Họ và tên (*) | E7: Ngày sinh dạng dd/mm/yyyy (*) | F7: Giới tính (*) (0:nam, 1:nữ) | G7: Mã nhóm đối tượng ưu tiên (*) (Tham khảo PL2) | H7: Đơn vị công tác | I7: Số điện thoại(*) (Tối thiểu 10 số) | J7: Số CMT/CCCD (Loại 8/9/12 số) | K7: Số thẻ bảo hiểm y tế (Mã thẻ 10/15 ký tự) | L7: Nơi ở tạm trú (hiện tại) (*) (Tham khảo PL3) | S7: Tên vắc xin (*) (Tham khảo PL5) | T7: Mũi 1 | W7: Tên vắc xin (*) (Tham khảo PL5) | X7: Mũi 2 | AA7: Ghi chú | AB7: Kết quả import (không điền ô này)
L8: Tỉnh/Thành phố | M8: Mã Tỉnh/Thành phố (*) | N8: Quận/Huyện | O8: Mã Quận/Huyện (*) | P8: Xã/Phường | Q8: Mã Xã/Phường (*) | R8: Địa chỉ chi tiết | T8: Ngày tiêm dạng dd/mm/yyyy (*) | U8: Lô vắc xin(*) | V8: Địa điểm tiêm (*) (Tham khảo PL4) | X8: Ngày tiêm dạng dd/mm/yyyy (*) | Y8: Lô vắc xin(*) | Z8: Địa điểm tiêm (*) (Tham khảo PL4)
A9: 1 | B9: 20006225 | C9: 20C2-ĐĐT1 | D9: Nguyễn Thế Anh | E9: 09/09/2002 | F9: Nam | G9: 24 | H9: CĐ Lý Tự Trọng TP Hồ Chí Minh | I9: 0918347117 | J9: 079202012466 | K9: SV 479 7937659055 | L9: TP Hồ Chí Minh | M9: 79 | N9: Quận 1 | O9: =VLOOKUP(N9,'PL3_Danh muc hanh chinh (2)'!C2:D313,2,0) -> 760 | P9: Phường Phạm Ngũ Lão | Q9: =VLOOKUP(P9,'PL3_Danh muc hanh chinh (2)'!E2:F313,2,0) -> 26749 | R9: =VLOOKUP(B9,Sheet2!A1:$I$47,9,0) -> 155/105 BÙI VIỆN, P PHẠM NGŨ LÃO, QUẬN 1, TP. HCM
A10: 2 | B10: 20006204 | C10: 20C2-ĐĐT1 | D10: Cấn Quốc Bảo | E10: 17/5/2000 | F10: Nam | G10: 24 | H10: CĐ Lý Tự Trọng TP Hồ Chí Minh | I10: 0901455695 | J10: 07920003419 | K10: SV 479 7931449372 | L10: TP Hồ Chí Minh | M10: 79 | N10: Quận Tân Phú | O10: =VLOOKUP(N10,'PL3_Danh muc hanh chinh (2)'!C3:D314,2,0) -> 767 | P10: Phường Phú Thọ Hòa | Q10: =VLOOKUP(P10,'PL3_Danh muc hanh chinh (2)'!E3:F314,2,0) -> 27025 | R10: =VLOOKUP(B10,Sheet2!A2:$I$47,9,0) -> 49 Vườn Lài P.Phú Thọ Hòa Q.Tân Phú
A11: 3 | B11: 20006494 | C11: 20C2-ĐĐT1 | D11: Nguyễn Trần Gia Bảo | E11: 08/10/2002 | F11: Nam | G11: 24 | H11: CĐ Lý Tự Trọng TP Hồ Chí Minh | I11: 0908315537 | J11: 036202002306 | K11: SV 479 7937659075 | L11: TP Hồ Chí Minh | M11: 79 | N11: Quận Tân Phú | O11: 767 | P11: Phường Linh Xuân | Q11: =VLOOKUP(P11,'PL3_Danh muc hanh chinh (2)'!E4:F315,2,0) -> 26794 | R11: =VLOOKUP(B11,Sheet2!A3:$I$47,9,0) -> 226/37A ĐƯỜNG SỐ 8-KP3 - P.LINH XUÂN - QUẬN TÂN PHÚ - TP.HCM | T11: 31/8/2021 | X11: 12/10/2021
A12: 4 | B12: 20006221 | C12: 20C2-ĐĐT1 | D12: Nguyễn Văn Bình | E12: 18/04/2002 | F12: Nam | G12: 24 | H12: CĐ Lý Tự Trọng TP Hồ Chí Minh | I12: 0936438351 | J12: 079202021433 | K12: SV 479 7931082368 | L12: TP Hồ Chí Minh | M12: 79 | N12: Quận Tân Bình | O12: =VLOOKUP(N12,'PL3_Danh muc hanh chinh (2)'!C5:D316,2,0) -> 766 | P12: Phường 6 | Q12: =VLOOKUP(P12,'PL3_Danh muc hanh chinh (2)'!E5:F316,2,0) -> 26876 | R12: =VLOOKUP(B12,Sheet2!A4:$I$47,9,0) -> 27/20 Nghĩa Phát, P.6, Q.Tân Bình, TP.HCM
A13: 5 | B13: 20006227 | C13: 20C2-ĐĐT1 | D13: Nguyễn Tấn Dũng | E13: 19/08/2002 | F13: Nam | G13: 24 | H13: CĐ Lý Tự Trọng TP Hồ Chí Minh | I13: 0906884379 | J13: 0 | K13: SV 479 4821211243 | L13: Đà Nẵng | N13: Quận Hải Châu | P13: Thuận Phước | R13: =VLOOKUP(B13,Sheet2!A5:$I$47,9,0) -> Tổ 22A Thuận Phước, Hải Châu, Tp.Đà Nẵng
A14: 6 | B14: 20006493 | C14: 20C2-ĐĐT1 | D14: Vương Tống Giang | E14: 04/3/2002 | F14: Nam | G14: 24 | H14: CĐ Lý Tự Trọng TP Hồ Chí Minh | I14: 0908746018 | J14: 072202002958 | K14: SV 479 7929859179 | L14: Tây Ninh | N14: Huyện Tân Châu | P14: Xã Tân Phú | R14: =VLOOKUP(B14,Sheet2!A6:$I$47,9,0) -> Ấp Tân Thanh, xã Tân Phú, Huyện Tân Châu, Tây Ninh
A15: 7 | B15: 20006498 | C15: 20C2-ĐĐT1 | D15: Hồ Kỳ Hào | E15: 17/12/2002 | F15: Nam | G15: 24 | H15: CĐ Lý Tự Trọng TP Hồ Chí Minh | I15: 01666224723 | J15: 272886467 | K15: SV 479 7524803101 | L15: Đồng Nai | N15: Huyện Trảng Bom | P15: Xã Cây Gáo | R15: =VLOOKUP(B15,Sheet2!A7:$I$47,9,0) -> Tổ 1, ấp Tân Lập 2, xã Cây Gáo, huyện Trảng Bom, tỉnh Đồng Nai | T15: 10/10/2021
A16: 8 | B16: 20006207 | C16: 20C2-ĐĐT1 | D16: Bùi Phong Hiếu | E16: 30/03/2002 | F16: Nam | G16: 24 | H16: CĐ Lý Tự Trọng TP Hồ Chí Minh | I16: 0909619282 | J16: 0 | K16: 0 | L16: TP Hồ Chí Minh | M16: 79 | N16: Quận Tân Bình | O16: =VLOOKUP(N16,'PL3_Danh muc hanh chinh (2)'!C9:D320,2,0) -> 766 | P16: Phường 5 | Q16: 26989 | R16: =VLOOKUP(B16,Sheet2!A8:$I$47,9,0) -> 62/2 Đường Bùi Thị Xuân, P.5, Q.Tân Bình, Tp.HCM
A17: 9 | B17: 20006486 | C17: 20C2-ĐĐT1 | D17: Trịnh Quốc Huy | E17: 17/05/2002 | F17: Nam | G17: 24 | H17: CĐ Lý Tự Trọng TP Hồ Chí Minh | I17: 0914144338 | J17: 0 | K17: SV 479 7935668734 | L17: TP Hồ Chí Minh | M17: 79 | N17: Huyện Hóc Môn | O17: =VLOOKUP(N17,'PL3_Danh muc hanh chinh (2)'!C10:D321,2,0) -> 784 | P17: Thới Tam Thôn | R17: =VLOOKUP(B17,Sheet2!A9:$I$47,9,0) -> 35/7D ấp Đông 1, tổ 171 thới Tam Thân, Hóc Môn
A18: 10 | B18: 20006222 | C18: 20C2-ĐĐT1 | D18: Vũ Thiên Huy | E18: 21/7/2002 | F18: Nam | G18: 24 | H18: CĐ Lý Tự Trọng TP Hồ Chí Minh | I18: 0989031959 | J18: 079202013638 | K18: SV 479 7930913483 | L18: TP Hồ Chí Minh | M18: 79 | N18: Quận Tân Bình | O18: =VLOOKUP(N18,'PL3_Danh muc hanh chinh (2)'!C11:D322,2,0) -> 766 | P18: Phường 7 | Q18: 26986 | R18: =VLOOKUP(B18,Sheet2!A10:$I$47,9,0) -> 259/48G CMT8, P.7, Q.Tân Bình | S18: Astratreneca | T18: Astrazeneca '12/6/2021 | W18: Astratreneca | X18: Astrazeneca '17/8/2021
A19: 11 | B19: 20006492 | C19: 20C2-ĐĐT1 | D19: Đặng Hoàng Nhật Khang | E19: 16/11/2002 | F19: Nam | G19: 24 | H19: CĐ Lý Tự Trọng TP Hồ Chí Minh | I19: 0934177671 | J19: 079202036061 | K19: SV 479 7937659081 | L19: TP Hồ Chí Minh | M19: 79 | N19: Quận Bình Tân | O19: =VLOOKUP(N19,'PL3_Danh muc hanh chinh (2)'!C12:D323,2,0) -> 777 | P19: BÌnh Hưng Hòa | Q19: 27436 | R19: =VLOOKUP(B19,Sheet2!A11:$I$47,9,0) -> 82 Đường Số 16 P.Bình Hưng Hòa , Q.Bình Tân , TP.HCM | T19: đã tiêm mũi 1 ngày: 20/08/2021
A20: 12 | B20: 20006202 | C20: 20C2-ĐĐT1 | D20: Phan Nguyễn Gia Khánh | E20: 25/6/2002 | F20: Nam | G20: 24 | H20: CĐ Lý Tự Trọng TP Hồ Chí Minh | I20: 0907899036 | J20: 0 | K20: SV 479 7935310029 | L20: TP Hồ Chí Minh | M20: 79 | N20: Huyện Hóc Môn | O20: =VLOOKUP(N20,'PL3_Danh muc hanh chinh (2)'!C13:D324,2,0) -> 784 | P20: Xã Trung Chánh | Q20: =VLOOKUP(P20,'PL3_Danh muc hanh chinh (2)'!E13:F324,2,0) -> 27586 | R20: =VLOOKUP(B20,Sheet2!A12:$I$47,9,0) -> 36/5Y Ấp Mỹ Hòa 1 - Xã Trung Chánh - Huyện Hóc Môn - TP.HCM
A21: 13 | B21: 20006200 | C21: 20C2-ĐĐT1 | D21: Lê Đăng Khoa | E21: 28/9/2002 | F21: Nam | G21: 24 | H21: CĐ Lý Tự Trọng TP Hồ Chí Minh | I21: 0937187336 | J21: 0 | K21: SV 479 7930656748 | L21: TP Hồ Chí Minh | M21: 79 | N21: Quận Bình Thạnh | O21: =VLOOKUP(N21,'PL3_Danh muc hanh chinh (2)'!C14:D325,2,0) -> 765 | P21: Phường 6 | Q21: 26932 | R21: =VLOOKUP(B21,Sheet2!A13:$I$47,9,0) -> 93/4 Hoàng Hoa Thám P.6 Q.Bình Thạnh
A22: 14 | B22: 20006201 | C22: 20C2-ĐĐT1 | D22: Nguyễn Anh Khoa | E22: 23/04/2002 | F22: Nam | G22: 24 | H22: CĐ Lý Tự Trọng TP Hồ Chí Minh | I22: 0906464938 | J22: 068392685 | K22: SV 479 7937659063 | L22: TP Hồ Chí Minh | M22: 79 | N22: Quận Tân Phú | O22: 767 | P22: Phú Trung | Q22: 27031 | R22: =VLOOKUP(B22,Sheet2!A14:$I$47,9,0) -> 15/47 Khuông Việt, Phú Trung, Tân Phú
A23: 15 | B23: 20006231 | C23: 20C2-ĐĐT1 | D23: Huỳnh Phúc Khương | E23: 08/01/2002 | F23: Nam | G23: 24 | H23: CĐ Lý Tự Trọng TP Hồ Chí Minh | I23: 0907793858 | J23: 079202020927 | K23: SV 479 7937659062 | L23: TP Hồ Chí Minh | M23: 79 | N23: Quận 12 | O23: =VLOOKUP(N23,'PL3_Danh muc hanh chinh (2)'!C16:D327,2,0) -> 761 | P23: Phường Tân Thới Nhất | Q23: =VLOOKUP(P23,'PL3_Danh muc hanh chinh (2)'!E16:F327,2,0) -> 26791 | R23: =VLOOKUP(B23,Sheet2!A15:$I$47,9,0) -> 186 KP6, P. TÂN THỚI NHẤT, QUẬN 12, TPHCM
A24: 16 | B24: 20006230 | C24: 20C2-ĐĐT1 | D24: Trần Phi Long | E24: 10/11/2000 | F24: Nam | G24: 24 | H24: CĐ Lý Tự Trọng TP Hồ Chí Minh | I24: 01227191338 | J24: 371945792 | K24: SV 479 7934196567 | L24: TP Hồ Chí Minh | M24: 79 | N24: Quận Bình Tân | O24: =VLOOKUP(N24,'PL3_Danh muc hanh chinh (2)'!C17:D328,2,0) -> 777 | P24: Phường Bình Hưng Hòa | Q24: =VLOOKUP(P24,'PL3_Danh muc hanh chinh (2)'!E17:F328,2,0) -> 27436 | R24: =VLOOKUP(B24,Sheet2!A16:$I$47,9,0) -> 874/18/1 Tân Kỳ Tân Quý, phường Bình Hưng Hòa, quận Bình Tân, TP.HCM
A25: 17 | B25: 20006203 | C25: 20C2-ĐĐT1 | D25: Thái Trưởng Luân | E25: 10/05/2002 | F25: Nam | G25: 24 | H25: CĐ Lý Tự Trọng TP Hồ Chí Minh | I25: 0904271453 | J25: 079202035979 | K25: SV 479 7938107145 | L25: TP Hồ Chí Minh | M25: 79 | N25: Quận Tân Phú | O25: 767 | R25: =VLOOKUP(B25,Sheet2!A17:$I$47,9,0) -> Q.Tân Phú , TP.HCM | S25: Astratreneca | T25: Astrazeneca '20/8/2021 | X25: 4/10/2021
A26: 18 | B26: 20006485 | C26: 20C2-ĐĐT1 | D26: Lê Nguyễn Hoàng Nam | E26: 21/09/1999 | F26: Nam | G26: 24 | H26: CĐ Lý Tự Trọng TP Hồ Chí Minh | I26: 0974748792 | J26: 285803810 | K26: SV 479 7022064461 | L26: BÌnh Phước | N26: Huyện Hớn Quản, Tỉnh Bình Phước | P26: Xã Tân Lợi | R26: =VLOOKUP(B26,Sheet2!A18:$I$47,9,0) -> ẤP HƯNG THẠNH, XÃ TÂN LỢI, HUYỆN HỚN QUẢN, TỈNH BÌNH PHƯỚC | S26: Astratreneca | T26: Astrazeneca '8/8/2021 | X26: 29/09/2021
A27: 19 | B27: 20006223 | C27: 20C2-ĐĐT1 | D27: Trần Nguyễn Thành Ngữ | E27: 02/06/2002 | F27: Nam | G27: 24 | H27: CĐ Lý Tự Trọng TP Hồ Chí Minh | I27: 01648747832 | J27: 077202002348 | K27: SV 479 7722455222 | L27: VŨng Tàu | N27: Huyện Châu Đức, Tỉnh Bà Rịa - Vũng Tàu | P27: Xã Kim Long | R27: =VLOOKUP(B27,Sheet2!A19:$I$47,9,0) -> tổ 4, Thôn Lạc Long, xã Kim Long, huyện Châu Đức, tỉnh Bà Rịa - Vũng Tàu
A28: 20 | B28: 20006213 | C28: 20C2-ĐĐT1 | D28: Trương Công Phúc | E28: 14/12/2002 | F28: Nam | G28: 24 | H28: CĐ Lý Tự Trọng TP Hồ Chí Minh | I28: 0903820415 | J28: 0 | K28: SV 479 7930959041 | L28: TP Hồ Chí Minh | M28: 79 | N28: Quận Tân Bình | O28: =VLOOKUP(N28,'PL3_Danh muc hanh chinh (2)'!C21:D332,2,0) -> 766 | P28: Phường 6 | Q28: =VLOOKUP(P28,'PL3_Danh muc hanh chinh (2)'!E21:F332,2,0) -> 26876 | R28: =VLOOKUP(B28,Sheet2!A20:$I$47,9,0) -> 40 Khai Trí, P.6, Q.Tân Bình, TP.HCM
A29: 21 | B29: 20006226 | C29: 20C2-ĐĐT1 | D29: Nguyễn Văn Phước | E29: 01/09/2002 | F29: Nam | G29: 24 | H29: CĐ Lý Tự Trọng TP Hồ Chí Minh | I29: 0901341895 | J29: 0 | K29: SV 479 7931978203 | L29: TP Hồ Chí Minh | M29: 79 | N29: Quận Phú Nhuận | O29: 768 | P29: Phường 9 | Q29: =VLOOKUP(P29,'PL3_Danh muc hanh chinh (2)'!E22:F333,2,0) -> 26897 | R29: =VLOOKUP(B29,Sheet2!A21:$I$47,9,0) -> 38 Đỗ Tấn Phong , F.9 , Q.Phú Nhuận , TP.HCM
A30: 22 | B30: 20006220 | C30: 20C2-ĐĐT1 | D30: Phạm Đình Quân | E30: 07/11/2002 | F30: Nam | G30: 24 | H30: CĐ Lý Tự Trọng TP Hồ Chí Minh | I30: 0919971019 | J30: 080202009220 | K30: SV 479 7937660316 | L30: TP Hồ Chí Minh | M30: 79 | N30: Quận Tân Bình | O30: =VLOOKUP(N30,'PL3_Danh muc hanh chinh (2)'!C23:D334,2,0) -> 766 | P30: Phường 13 | Q30: =VLOOKUP(P30,'PL3_Danh muc hanh chinh (2)'!E23:F334,2,0) -> 26872 | R30: =VLOOKUP(B30,Sheet2!A22:$I$47,9,0) -> 560/23A Trường Chinh, P.13, Q.Tân Bình, TP.HCM | S30: Astratreneca | T30: Astrazeneca '7/8/2021
A31: 23 | B31: 20006206 | C31: 20C2-ĐĐT1 | D31: Võ Nguyễn Văn Sơn | E31: 16/05/2000 | F31: Nam | G31: 24 | H31: CĐ Lý Tự Trọng TP Hồ Chí Minh | I31: 0909418920 | J31: 272908350 | K31: SV 479 7937659070 | L31: TP Hồ Chí Minh | M31: 79 | N31: Quận Bình Tân | O31: =VLOOKUP(N31,'PL3_Danh muc hanh chinh (2)'!C24:D335,2,0) -> 777 | P31: Phường Bình Hưng Hòa | Q31: 27436 | R31: =VLOOKUP(B31,Sheet2!A23:$I$47,9,0) -> 133/4 đường 12, P.Bình Hòa, Q.Bình Tân, TP.HCM | S31: Varocell | T31: Varocell '21/8/2021
A32: 24 | B32: 20005879 | C32: 20C2-ĐĐT1 | D32: Bùi Thiện Toàn | E32: 28/07/1995 | F32: Nam | G32: 24 | H32: CĐ Lý Tự Trọng TP Hồ Chí Minh | I32: 0853757071 | J32: 079095008683 | K32: 0 | L32: TP Hồ Chí Minh | M32: 79 | N32: Quận Tân Bình | O32: =VLOOKUP(N32,'PL3_Danh muc hanh chinh (2)'!C25:D336,2,0) -> 766 | P32: Phường 6 | Q32: =VLOOKUP(P32,'PL3_Danh muc hanh chinh (2)'!E25:F336,2,0) -> 26876 | R32: =VLOOKUP(B32,Sheet2!A24:$I$47,9,0) -> 332 Bắc Hải, phường 6, quận Tân Bình, Tp.HCM | S32: Varocell | T32: Varocell '1/9/2021
A33: 25 | B33: 20006218 | C33: 20C2-ĐĐT1 | D33: Nguyễn Hữu Trí | E33: 19/6/2002 | F33: Nam | G33: 24 | H33: CĐ Lý Tự Trọng TP Hồ Chí Minh | I33: 0939538920 | J33: 087202000122 | K33: SV 479 7930887321 | L33: TP Hồ Chí Minh | M33: 79 | N33: Quận Tân Bình | O33: 766 | P33: Phường 9 | Q33: =VLOOKUP(P33,'PL3_Danh muc hanh chinh (2)'!E26:F337,2,0) -> 26897 | R33: =VLOOKUP(B33,Sheet2!A25:$I$47,9,0) -> 2/45/11 Thiên Phước P.9 Q.Tân Bình , TP.HCM | T33: Đã tiêm 01/8/2021
A34: 26 | B34: 20006214 | C34: 20C2-ĐĐT1 | D34: Huỳnh Đại Triển | E34: 13/06/2002 | F34: Nam | G34: 24 | H34: CĐ Lý Tự Trọng TP Hồ Chí Minh | I34: 0903204742 | J34: 079202025467 | K34: SV 479 7937659071 | L34: TP Hồ Chí Minh | M34: 79 | N34: Quận Gò Vấp | O34: 764 | P34: Phường 4 | Q34: 26893 | R34: =VLOOKUP(B34,Sheet2!A26:$I$47,9,0) -> 61/4, đường Phạm Văn Chiêu, P. 4, quận Gò Vấp, TPHCM | S34: Astratreneca | T34: Astra zeneca '6/8/2021
A35: 27 | B35: 20006210 | C35: 20C2-ĐĐT1 | D35: Nguyễn Minh Trọng | E35: 21/8/2001 | F35: Nam | G35: 24 | H35: CĐ Lý Tự Trọng TP Hồ Chí Minh | I35: 0906197336 | J35: 079201027409 | K35: SV 479 7928718179 | L35: TP Hồ Chí Minh | M35: 79 | N35: Quận 12 | O35: 761 | P35: Phường Trung Mỹ Tây | Q35: 26785 | R35: =VLOOKUP(B35,Sheet2!A27:$I$47,9,0) -> 15D/A NGUYỄN ẢNH THỦ, TRUNG MỸ TÂY, QUẬN 12 | S35: Astratreneca | T35: Astrazeneca '8/8/2021
A36: 28 | B36: 20006219 | C36: 20C2-ĐĐT1 | D36: Nguyễn Tiến Trung | E36: 10/11/2002 | F36: Nam | G36: 24 | H36: CĐ Lý Tự Trọng TP Hồ Chí Minh | I36: 0902574370 | J36: 0 | K36: 0 | L36: TP Hồ Chí Minh | M36: 79 | N36: Quận Tân Bình | O36: =VLOOKUP(N36,'PL3_Danh muc hanh chinh (2)'!C29:D340,2,0) -> 766 | P36: Phường 15 | Q36: =VLOOKUP(P36,'PL3_Danh muc hanh chinh (2)'!E29:F340,2,0) -> 26938 | R36: =VLOOKUP(B36,Sheet2!A28:$I$47,9,0) -> 471/9/15 Phạm Văn Bạch, p.15, Q.Tân Bình,TPHCM
A37: 29 | B37: 20006487 | C37: 20C2-ĐĐT1 | D37: Nguyễn Ngọc Thảo Vy | E37: 19/10/2002 | F37: Nữ | G37: 24 | H37: CĐ Lý Tự Trọng TP Hồ Chí Minh | I37: 01267832932 | J37: 0 | K37: SV 479 7929775970 | L37: TP Hồ Chí Minh | M37: 79 | N37: Quận Gò Vấp | O37: =VLOOKUP(N37,'PL3_Danh muc hanh chinh (2)'!C30:D341,2,0) -> 764 | P37: Phường 10 | Q37: =VLOOKUP(P37,'PL3_Danh muc hanh chinh (2)'!E30:F341,2,0) -> 26884 | R37: =VLOOKUP(B37,Sheet2!A29:$I$47,9,0) -> 417/69/37 Quang Trung, P.10, Q.Gò Vấp, TP.HCM | S37: Astratreneca | T37: Astrazeneca '4/9/2021
A38: 30
A39: 31
A40: 32
A41: 33

Sheet Sheet2
A1: 20006229 | B1: Lê Huỳnh Tuấn | C1: Anh | D1: Nam | E1: 02/02/2002 | F1: Tp. Hồ Chí Minh | G1: Kinh | I1: 163/26/63 Tô Hiến Thành, P.13, Quận 10, TP.HCM
A2: 20006225 | B2: Nguyễn Thế | C2: Anh | D2: Nam | E2: 09/09/2002 | F2: Tp. Hồ Chí Minh | G2: Kinh | I2: 155/105 BÙI VIỆN, P PHẠM NGŨ LÃO, QUẬN 1, TP. HCM
A3: 20006204 | B3: Cấn Quốc | C3: Bảo | D3: Nam | E3: 17/5/2000 | F3: Tp. Hồ Chí Minh | G3: Kinh | I3: 49 Vườn Lài P.Phú Thọ Hòa Q.Tân Phú
A4: 20006494 | B4: Nguyễn Trần Gia | C4: Bảo | D4: Nam | E4: 08/10/2002 | F4: Tp. Hồ Chí Minh | G4: Kinh | I4: 226/37A ĐƯỜNG SỐ 8-KP3 - P.LINH XUÂN - QUẬN TÂN PHÚ - TP.HCM
A5: 20006221 | B5: Nguyễn Văn | C5: Bình | D5: Nam | E5: 18/04/2002 | F5: Tp. Hồ Chí Minh | G5: Kinh | I5: 27/20 Nghĩa Phát, P.6, Q.Tân Bình, TP.HCM
A6: 20006497 | B6: Nguyễn Thanh | C6: Cường | D6: Nam | E6: 08/08/2002 | F6: Khánh Hoà | G6: Kinh | I6: Thôn 22, xã Cư Ni, huyện Ea Kar, tỉnh Đắk Lắk
A7: 20006227 | B7: Nguyễn Tấn | C7: Dũng | D7: Nam | E7: 19/08/2002 | F7: Tp. Hồ Chí Minh | G7: Kinh | I7: Tổ 22A Thuận Phước, Hải Châu, Tp.Đà Nẵng
A8: 20006493 | B8: Vương Tống | C8: Giang | D8: Nam | E8: 04/3/2002 | F8: Tp. Hồ Chí Minh | G8: Kinh | I8: Ấp Tân Thanh, xã Tân Phú, Huyện Tân Châu, Tây Ninh
A9: 20006498 | B9: Hồ Kỳ | C9: Hào | D9: Nam | E9: 17/12/2002 | F9: Đồng Nai | G9: Hoa | I9: Tổ 1, ấp Tân Lập 2, xã Cây Gáo, huyện Trảng Bom, tỉnh Đồng Nai
A10: 20006207 | B10: Bùi Phong | C10: Hiếu | D10: Nam | E10: 30/03/2002 | F10: Tp. Hồ Chí Minh | G10: Kinh | I10: 62/2 Đường Bùi Thị Xuân, P.5, Q.Tân Bình, Tp.HCM
A11: 20006228 | B11: Nguyễn Trọng | C11: Hiếu | D11: Nam | E11: 05/03/2002 | F11: Tp. Hồ Chí Minh | G11: Kinh | I11: 285 Phan Văn Hớn ,P.Tân Thới Nhất Q.12
A12: 20006491 | B12: Trần | C12: Hoàn | D12: Nam | E12: 10/01/2002 | F12: Tp. Hồ Chí Minh | G12: Kinh | I12: 43/10-12, hẻm 229, Tân Qùy Tân Qúy, phường Tân Sơn Nhì, quận Tân Phú, TP.HCM
... A47: 20006487 | B47: Nguyễn Ngọc Thảo | C47: Vy | D47: Nữ | E47: 19/10/2002 | F47: Tp. Hồ Chí Minh | G47: Kinh | I47: 417/69/37 Quang Trung, P.10, Q.Gò Vấp, TP.HCM
