Workbook

Sheet DS SV NGHỀ CƠ ĐIỆN TỬ
C2: DANH SÁCH SINH VIÊN THI THỰC HÀNH - NGHỀ CƠ ĐIỆN TỬ
A4: THÔNG TIN THÍ SINH | I4: Ghi chú
A5: STT | B5: Trường | C5: Tài khoản SABA | D5: Họ và Tên | E5: Ngày sinh | F5: Số CMT | G5: Quê quán | H5: Ảnh gốc
A6: 1 | B6: CĐN Công nghiệp Hà Nội | C6: VFMEHNIC1111 | D6: Vũ Văn A | E6: =INDEX([1]Data_348!$H:$H,MATCH('DS SV NGHỀ CƠ ĐIỆN TỬ'!$C6,[1]Data_348!$C:$C,0)) -> #N/A | F6: =INDEX('[2]2.CDNCNHN_25SV'!$E:$E,MATCH($C6,'[2]2.CDNCNHN_25SV'!$C:$C,0)) -> #N/A | G6: =INDEX('[2]2.CDNCNHN_25SV'!$F:$F,MATCH($C6,'[2]2.CDNCNHN_25SV'!$C:$C,0)) -> #N/A | I6: Ví dụ
A7: 1 | B7: CĐ Lý Tự Trọng TP.HCM | D7: Lê Minh Đạt | E7: 12/09/2002
A8: 2 | B8: CĐ Lý Tự Trọng TP.HCM | D8: Lê Hoài Phương Duy | E8: 03/10/2002
A9: 3 | B9: CĐ Lý Tự Trọng TP.HCM | D9: Nguyễn Ngọc Hải | E9: 19/08/2002
A10: 4 | B10: CĐ Lý Tự Trọng TP.HCM | D10: Nguyễn Hữu Hoàng | E10: 18/07/2002
A11: 5 | B11: CĐ Lý Tự Trọng TP.HCM | D11: Nguyễn Hưng | E11: 19/03/2001
A12: 6 | B12: CĐ Lý Tự Trọng TP.HCM | D12: Nguyễn Trọng Ngọc Huy | E12: 29/07/2002
A13: 7 | B13: CĐ Lý Tự Trọng TP.HCM | D13: Lê Lâm Khang | E13: 11/10/2002
A14: 8 | B14: CĐ Lý Tự Trọng TP.HCM | D14: Nguyễn Trí Linh | E14: 29/06/2002
A15: 9 | B15: CĐ Lý Tự Trọng TP.HCM | D15: Nguyễn Hữu Long | E15: 12/03/2002
A16: 10 | B16: CĐ Lý Tự Trọng TP.HCM | D16: Lương Ngọc Nguyên | E16: 10/08/2000
A17: 11 | B17: CĐ Lý Tự Trọng TP.HCM | D17: Trịnh Hoàng Phát | E17: 15/09/2001
A18: 12 | B18: CĐ Lý Tự Trọng TP.HCM | D18: Huỳnh Hoàng Phúc | E18: 20/03/2001
... A24: 18 | B24: CĐ Lý Tự Trọng TP.HCM | D24: Bùi Quang Vinh | E24: 03/10/2002
A31: 26 | B31: CĐ Công nghệ Hà Tĩnh | C31: VFMEHTTC079 | D31: Nguyễn Trọng Duẩn | E31: =INDEX([1]Data_348!$H:$H,MATCH('DS SV NGHỀ CƠ ĐIỆN TỬ'!$C31,[1]Data_348!$C:$C,0)) -> 36937
A32: 27 | B32: CĐ Công nghệ Hà Tĩnh | C32: VFMEHTTC075 | D32: Trần Hậu Đại | E32: =INDEX([1]Data_348!$H:$H,MATCH('DS SV NGHỀ CƠ ĐIỆN TỬ'!$C32,[1]Data_348!$C:$C,0)) -> 37289
A33: 28 | B33: CĐ Công nghệ Hà Tĩnh | C33: VFMEHTTC074 | D33: Lê Văn Đại | E33: =INDEX([1]Data_348!$H:$H,MATCH('DS SV NGHỀ CƠ ĐIỆN TỬ'!$C33,[1]Data_348!$C:$C,0)) -> 37457
A34: 29 | B34: CĐ Công nghệ Hà Tĩnh | C34: VFMEHTTC082 | D34: Hà Văn Hải | E34: =INDEX([1]Data_348!$H:$H,MATCH('DS SV NGHỀ CƠ ĐIỆN TỬ'!$C34,[1]Data_348!$C:$C,0)) -> 37257
A35: 30 | B35: CĐ Công nghệ Hà Tĩnh | C35: VFMEHTTC083 | D35: Đặng Văn Hiệp | E35: =INDEX([1]Data_348!$H:$H,MATCH('DS SV NGHỀ CƠ ĐIỆN TỬ'!$C35,[1]Data_348!$C:$C,0)) -> 37363
A36: 31 | B36: CĐ Công nghệ Hà Tĩnh | C36: VFMEHTTC086 | D36: Hoàng Trọng Hoàng | E36: =INDEX([1]Data_348!$H:$H,MATCH('DS SV NGHỀ CƠ ĐIỆN TỬ'!$C36,[1]Data_348!$C:$C,0)) -> 37423
A37: 32 | B37: CĐ Công nghệ Hà Tĩnh | C37: VFMEHTTC089 | D37: Nguyễn Hữu Khang | E37: =INDEX([1]Data_348!$H:$H,MATCH('DS SV NGHỀ CƠ ĐIỆN TỬ'!$C37,[1]Data_348!$C:$C,0)) -> 37413
A38: 33 | B38: CĐ Công nghệ Hà Tĩnh | C38: VFMEHTTC094 | D38: Bạch Đình Mại | E38: =INDEX([1]Data_348!$H:$H,MATCH('DS SV NGHỀ CƠ ĐIỆN TỬ'!$C38,[1]Data_348!$C:$C,0)) -> 37275
A39: 34 | B39: CĐ Công nghệ Hà Tĩnh | C39: VFMEHTTC097 | D39: Phạm Văn Phúc | E39: =INDEX([1]Data_348!$H:$H,MATCH('DS SV NGHỀ CƠ ĐIỆN TỬ'!$C39,[1]Data_348!$C:$C,0)) -> 36479
A40: 35 | B40: CĐ Công nghệ Hà Tĩnh | C40: VFMEHTTC100 | D40: Trương Thế Quý | E40: =INDEX([1]Data_348!$H:$H,MATCH('DS SV NGHỀ CƠ ĐIỆN TỬ'!$C40,[1]Data_348!$C:$C,0)) -> 37544
A41: 36 | B41: CĐ Công nghệ Hà Tĩnh | C41: VFMEHTTC104 | D41: Nguyễn Anh Tú | E41: =INDEX([1]Data_348!$H:$H,MATCH('DS SV NGHỀ CƠ ĐIỆN TỬ'!$C41,[1]Data_348!$C:$C,0)) -> 36529
A42: 37 | B42: CĐ Công nghệ Hà Tĩnh | C42: VFMEHTTC106 | D42: Nguyễn Minh Tuấn | E42: =INDEX([1]Data_348!$H:$H,MATCH('DS SV NGHỀ CƠ ĐIỆN TỬ'!$C42,[1]Data_348!$C:$C,0)) -> 35838
... A51: 46 | B51: CĐ Công nghệ Hà Tĩnh | C51: VFMEHTTC102 | D51: Trần Thế Trì | E51: =INDEX([1]Data_348!$H:$H,MATCH('DS SV NGHỀ CƠ ĐIỆN TỬ'!$C51,[1]Data_348!$C:$C,0)) -> 36607

Sheet DS SINH VIÊN NGHỀ CÔNG NGHỆ Ô Ô
C2: DANH SÁCH SINH VIÊN THI THỰC HÀNH - NGHỀ CƠ ĐIỆN TỬ
A4: THÔNG TIN THÍ SINH | I4: Ghi chú
A5: STT | B5: Trường | C5: Tài khoản SABA | D5: Họ và Tên | E5: Ngày sinh | F5: Số CMT | G5: Quê quán | H5: Ảnh gốc
A6: 1 | B6: CĐN Công nghiệp Hà Nội | C6: VFMEHNIC1111 | D6: Vũ Văn A | E6: =INDEX([1]Data_348!$H:$H,MATCH('DS SV NGHỀ CƠ ĐIỆN TỬ'!$C6,[1]Data_348!$C:$C,0)) -> #N/A | F6: =INDEX('[2]2.CDNCNHN_25SV'!$E:$E,MATCH($C6,'[2]2.CDNCNHN_25SV'!$C:$C,0)) -> #N/A | G6: =INDEX('[2]2.CDNCNHN_25SV'!$F:$F,MATCH($C6,'[2]2.CDNCNHN_25SV'!$C:$C,0)) -> #N/A | I6: Ví dụ
A7: 1 | B7: CĐ Lý Tự Trọng TP.HCM | D7: Nguyễn Hoàng Anh | E7: 08/03/2002
A8: 2 | B8: CĐ Lý Tự Trọng TP.HCM | D8: Lâm Gia Bảo | E8: 18/03/2002
A9: 3 | B9: CĐ Lý Tự Trọng TP.HCM | D9: Nguyễn Quốc Cường | E9: 11/03/2002
A10: 4 | B10: CĐ Lý Tự Trọng TP.HCM | D10: Phạm Tiến Đạt | E10: 25/09/2002
A11: 5 | B11: CĐ Lý Tự Trọng TP.HCM | D11: Đoàn Lê Minh Đức | E11: 21/10/2002
A12: 6 | B12: CĐ Lý Tự Trọng TP.HCM | D12: Mai Trường Duy | E12: 04/08/2002
A13: 7 | B13: CĐ Lý Tự Trọng TP.HCM | D13: Lê Nguyễn Anh Hào | E13: 18/08/2002
A14: 8 | B14: CĐ Lý Tự Trọng TP.HCM | D14: Phạm Nhựt Hào | E14: 16/09/2002
A15: 9 | B15: CĐ Lý Tự Trọng TP.HCM | D15: Nguyễn Văn Hậu | E15: 01/08/2002
A16: 10 | B16: CĐ Lý Tự Trọng TP.HCM | D16: Trần Vinh Hiển | E16: 01/07/2002
A17: 11 | B17: CĐ Lý Tự Trọng TP.HCM | D17: Nguyễn Lê Vĩ Khang | E17: 22/09/2002
A18: 12 | B18: CĐ Lý Tự Trọng TP.HCM | D18: Ngô Đăng Khoa | E18: 12/07/2002
... A33: 27 | B33: CĐ Lý Tự Trọng TP.HCM | D33: Nguyễn Tuyển | E33: 21/03/2002
