Workbook

Sheet Mau 1
G1: Mẫu 1
A2: TRƯỜNG CAO ĐẲNG LÝ TỰ TRỌNG | E2: CỘNG HÒA XÃ HỘI CHỦ NGHĨA VIỆT NAM
A3: THÀNH PHỐ HỒ CHÍ MINH | E3: Độc lập - Tự do - Hạnh phúc
A4: PHÒNG KẾ HOẠCH - TÀI CHÍNH
A6: DANH SÁCH CB-GV-NV TỰ ĐÁNH GIÁ ĐẠT TIÊU CHUẨN XẾP LOẠI THI ĐUA (Quy định số 1310/QyĐ-LTT-TĐ ngày 09/11/2020 của Trường)
A8: TT | B8: Họ tên | C8: Mã E-Office | D8: Tiêu chuẩn xếp loại thi đua A1 (Ghi rõ nội dung tiêu chuẩn: số Quyết định, thời gian, cơ quan ban hành,…) | E8: Tiêu chuẩn xếp loại thi đua A2 (Ghi rõ nội dung tiêu chuẩn: số Quyết định, thời gian, cơ quan ban hành,…) | F8: Tiêu chuẩn xếp loại thi đua A3 (Ghi rõ nội dung tiêu chuẩn: số Quyết định, thời gian, cơ quan ban hành,…) | G8: Ghi chú
A9: I. Viên chức
A10: 01 | B10: Nguyễn Kính | C10: 01002024 | D10: - Có bài sáng kiến kinh nghiệm NH 2019-2020, đạt loại xuất sắc (được công nhận có phạm vi ảnh hưởng cấp ngành năm học 2019-2020 theo QĐ số 1720/QĐ/GDĐT-VP ngày 21/8/2020); - Năm trước có tham gia nhiều dự án cấp trường và cấp Sở (BTC Dự án ODA; Dự án Kone; Dự án Đầu tư ngành Cơ khí thành ngành mũi nhọn...) - Có thực hiện bài viết và được đăng trong Hội thảo Khoa học cấp trường năm 2020; - Thực hiện nhiều Báo cáo; giải trình theo yêu cầu của Sở Giáo dục, Sở Tài chính và Cục thuế TP; - Vận động và nhắc nhở CB-VC-NLĐ của phòng chia sẻ tin tức trên fanpage của trường. - Thực hiện khai báo y tế; - Tham gia buổi tập huấn sử dụng Google Meet.
A11: 02 | B11: Nguyễn Thị Kim Dung | C11: 01003002 | E11: -Hoàn thành tốt và đúng thời gian nhiệm vụ được giao của đơn vị - Thực hiện đúng các qui định và nội quy làm việc của nhà trường - Thực hiện vượt ngày công kế hoạch - Tham gia sinh hoạt chi bộ 2 - Tham gia dự án lớp Cao đẳng nghề ô tô chuyển giao từ Đức - Hỗ trợ, hướng dẫn, kiểm tra hồ sơ thanh toán các đề tài NCKH cấp trường - Có bài sáng kiến kinh nghiệm NH 2019-2020, đạt loại tốt (được công nhận có phạm vi ảnh hưởng cấp ngành năm học 2019-2020 theo QĐ số 1720/QĐ/GDĐT-VP ngày 21/8/2020) - Tiếp nhận, hoàn thiện hồ sơ nhận tài trợ từ các đơn vị, doanh nghiệp - Cung cấp số liệu, hồ sơ phục vụ kiểm toán năm 2020 - Xây dựng đề án sử dụng tài sản công - Thực hiện Like + chia sẻ tin tức trên fanpage của trường. - Thực hiện khai báo y tế; - Tham gia buổi tập huấn sử dụng Google Meet.
A12: 03 | B12: Hồng Mộng Tuyết Dung | C12: 01003009 | E12: - Hoàn thành tốt và đúng thời gian nhiệm vụ được giao của đơn vị; - Thực hiện đúng các qui định và nội quy làm việc của nhà trường -Thực hiện vượt ngày công kế hoạch; - Tham gia dự án lớp nghề trọng điểm ngành CN Kỹ thuật điện -điện tử; - Có bài sáng kiến kinh nghiệm NH 2019-2020, đạt loại tốt (được công nhận có phạm vi ảnh hưởng cấp ngành năm học 2019-2020 theo QĐ số 1720/QĐ/GDĐT-VP ngày 21/8/2020) - Thực hiện kế hoạch mua sắm trang thiết bị và sửa chữa nhỏ năm 2021 - Tham gia chương trình sử dụng vốn vay ODA của Ngân hàng Thế giới - Thực hiện like + chia sẻ tin tức trên fanpage của trường. - Thực hiện khai báo y tế; - Tham gia buổi tập huấn sử dụng Google Meet.
A13: 04 | B13: Trần Thị Minh Thoa | C13: 01003005 | E13: -Hoàn thành tốt và đúng thời gian nhiệm vụ được giao của đơn vị - Thực hiện đúng các qui định và nội quy làm việc của nhà trường - Thực hiện vượt ngày công kế hoạch - Tham gia sinh hoạt, họp BCH Công đoàn - Tham gia thực hiện hồ sơ theo sự phân công trưởng phòng: các dự án của trường (Dự án tòa nhà Kone, dự án lớp Cao đẳng nghề ô tô chuyển giao từ Đức, lớp nghề trọng điểm ngành Công nghệ Kỹ thuật Điện - Điện tử của Cục Kiểm định chất lượng Giáo dục nghề nghiệp...) - Có bài sáng kiến kinh nghiệm NH 2019-2020, đạt loại tốt (được công nhận có phạm vi ảnh hưởng cấp ngành năm học 2019-2020 theo QĐ số 1720/QĐ/GDĐT-VP ngày 21/8/2020) - Cung cấp số liệu, hồ sơ phục vụ kiểm toán năm 2020 - Thực hiện kế hoạch mua sắm trang thiết bị và sửa chữa nhỏ năm 2021 - Tham gia xây dựng đề án sử dụng tài sản công - Thực hiện Like + chia sẻ tin tức trên fanpage của trường. - Thực hiện khai báo y tế; - Tham gia buổi tập huấn sử dụng Google Meet.
A14: 05 | B14: Võ Thị Lệ Trân | C14: 01023004 | E14: - Hoàn thành tốt và đúng thời gian nhiệm vụ được giao của đơn vị - Thực hiện đúng các qui định và nội quy làm việc của nhà trường - Thực hiện vượt ngày công kế hoạch - Tham gia sinh hoạt, họp BCH Công đoàn - Tham gia hoàn thiện hồ sơ chuẩn đầu ra ngành CN Mạ, Sơn tĩnh điện, bảo trì và sửa chữa TB nhiệt - Có bài sáng kiến kinh nghiệm NH 2019-2020, đạt loại tốt (được công nhận có phạm vi ảnh hưởng cấp ngành năm học 2019-2020 theo QĐ số 1720/QĐ/GDĐT-VP ngày 21/8/2020) - Cung cấp số liệu, hồ sơ phục vụ kiểm toán năm 2020 - Thực hiện kế hoạch mua sắm trang thiết bị và sửa chữa nhỏ 2021 - Tham gia xây dựng đề án sử dụng tài sản công - Thực hiện thích + chia sẻ tin tức trên fanpage của trường. - Thực hiện khai báo y tế; - Tham gia buổi tập huấn sử dụng Google Meet.
A15: 06 | B15: Nguyễn Thị Hồng Thắm | E15: - Hoàn thành tốt và đúng thời gian nhiệm vụ được giao của đơn vị - Thực hiện đúng các qui định và nội quy làm việc của nhà trường - Thực hiện vượt ngày công kế hoạch - Tham gia sinh hoạt, họp BCH Công đoàn - Tham gia hoàn thiện hồ sơ chuẩn đầu ra ngành CN Mạ, Sơn tĩnh điện, bảo trì và sửa chữa TB nhiệt - Có bài sáng kiến kinh nghiệm NH 2019-2020, đạt loại tốt (được công nhận có phạm vi ảnh hưởng cấp ngành năm học 2019-2020 theo QĐ số 1720/QĐ/GDĐT-VP ngày 21/8/2020) - Cung cấp số liệu, hồ sơ phục vụ kiểm toán năm 2020 - Thực hiện kế hoạch mua sắm trang thiết bị và sửa chữa nhỏ 2021 - Tiếp nhận và hoàn thiện hồ sơ nhận tài trợ từ các đơn vị, doanh nghiệp - Thực hiện thích + chia sẻ tin tức trên fanpage của trường. - Thực hiện khai báo y tế; - Tham gia buổi tập huấn sử dụng Google Meet.
A16: II. Hợp đồng trường
A17: 01 | B17: Trần Thị Thảo Vân | C17: 01003008 | E17: -Hoàn thành tốt và đúng thời gian nhiệm vụ được giao của đơn vị - Thực hiện đúng các qui định và nội quy làm việc của nhà trường - Tham gia đầy đủ các buổi sinh hoạt, học tập của trường; - Tham gia dự án lớp Cao đẳng nghề ô tô chuyển giao từ Đức - Có bài sáng kiến kinh nghiệm NH 2019-2020, đạt loại tốt (được công nhận có phạm vi ảnh hưởng cấp ngành năm học 2019-2020 theo QĐ số 1720/QĐ/GDĐT-VP ngày 21/8/2020) - Tiếp nhận và hoàn thiện hồ sơ nhận tài trợ từ các đơn vị, doanh nghiệp - Cung cấp số liệu, hồ sơ phục vụ kiểm toán 2020 - Tham gia chương trình sử dụng vốn vay ODA - Thực hiện thích + chia sẻ tin tức trên fanpage của trường. - Thực hiện khai báo y tế; - Tham gia buổi tập huấn sử dụng Google Meet.
A18: 02 | B18: Nguyễn Thị Nghiêm | C18: 01003014 | E18: -Hoàn thành tốt và đúng thời gian nhiệm vụ được giao của đơn vị - Thực hiện đúng các qui định và nội quy làm việc của nhà trường - Tham gia đầy đủ các buổi sinh hoạt, học tập của trường; - Thực hiện công tác dự toán nguồn tiền để kịp thời báo cáo cho trưởng phòng; - Tham gia dự án Nghề làm bánh BAKE - Tiếp nhận, hoàn thiện hồ sơ nhận tài trợ từ các đơn vị, doanh nghiệp - Cung cấp số liệu, hồ sơ phục vụ kiểm toán năm 2020 - Tham gia chương trình sử dụng vốn vay ODA - Thực hiện Like + chia sẻ tin tức trên fanpage của trường. - Thực hiện khai báo y tế; - Tham gia buổi tập huấn sử dụng Google Meet.
A19: 03 | B19: Huỳnh Như Ý | C19: 01003015 | F19: -Hoàn thành tốt và đúng thời gian nhiệm vụ được giao của đơn vị - Thực hiện đúng các qui định và nội quy làm việc của nhà trường - Tham gia đầy đủ các buổi sinh hoạt, học tập của trường; - Tham gia hoàn thiện hồ sơ chuẩn đầu ra ngành CN Mạ, Sơn tĩnh điện, bảo trì và sửa chữa TB nhiệt; - Cung cấp hồ sơ , số liệu phục vụ kiểm toán 2020 - Tham gia xây dựng đề án sử dụng tài sản công - Thực hiện Like + chia sẻ tin tức trên fanpage của trường. - Thực hiện khai báo y tế; - Tham gia buổi tập huấn sử dụng Google Meet.
A21: Ghi chú: Gửi kèm minh chứng về phòng Tổ chức - Hành chính - Tổng hợp.
E22: TPHCM, ngày …... tháng …… năm 2021
E23: TRƯỞNG PHÒNG KẾ HOẠCH - TÀI CHÍNH
E30: Nguyễn Kính

Sheet Mau 2
A1: TRƯỜNG CAO ĐẲNG LÝ TỰ TRỌNG THÀNH PHỐ HỒ CHÍ MINH PHÒNG KẾ HOẠCH - TÀI CHÍNH | D1: CỘNG HÒA XÃ HỘI CHỦ NGHĨA VIỆT NAM Độc lập - Tự do - Hạnh phúc
E2: Mẫu 2
A3: BẢNG TỔNG HỢP NHIỆM VỤ CHUNG VÀ RIÊNG CỦA ĐƠN VỊ (Gửi file mềm ngày 25 hàng tháng)
A6: TT | B6: Nội dung công việc | C6: Thời gian thực hiện | D6: Kết quả | E6: Ghi chú
A7: A | B7: TỔNG KẾT CÔNG VIỆC TRONG THÁNG
A8: I. | B8: Công việc chung của Trường
A9: 1 | B9: Nhiệm vụ 1: Tham gia công tác thu học phí , các khoản thu khác tuyển sinh khoá mới. | C9: 11/2021 | D9: Đang thực hiện | E9: Kính, Vân, Nghiêm,Thắm,Ý
A10: 2 | B10: Nhiệm vụ 2: Kiểm tra, sắp xếp hồ sơ, chứng từ phục vụ Thanh tra việc thực hiện quy định về thu, quản lý, sử dụng học phí và các nguồn lực tài chính khác năm học 2020-2021, quyết định số 1803/QĐ-SGDĐT ngày 09/9/2021 về phê duyệt kế hoạch thanh, Quyết định số 2087/QĐ-SGDĐT ngày 19/11/2021 về thực hiện thanh tra năm học 2020-2021 của Sở Giáo dục và Đào tạo TPHCM và Thông báo ngày 21/11/2021 về công bố Quyết định thanh tra của Chánh Thanh tra Sở Giáo dục và Đào tạo. | C10: 11/2021 | D10: Đang thực hiện | E10: Kính, Thoa, K.Dung, T.Dung, Trân, Vân, Ý, Thắm, Nghiêm
A11: 3 | B11: Nhiệm vụ 3 : Soạn thảo Dự thảo Quy chế chi tiêu nội bộ năm 2022, dự toán kinh phí để đảm bảo thực hiện theo nội dung Dự thảo Quy chế chi tiêu nội bộ năm 2022 | C11: 11/2021 | D11: Đang thực hiện | E11: Kính, T.Dung, Trân, Thoa
A12: 4 | B12: Nhiệm vụ 4 : Tham gia thực hiện công tác đánh giá hệ thống quản lý chất lượng theo chuẩn ISO 9001: 2015 | C12: 11/2021 | D12: Đang thực hiện | E12: Kính, K.Dung, Thoa
A13: 5 | B13: Nhiệm vụ 5 : Công tác thu thập minh chứng viết báo cáo tự đánh giá ngoài chương trình đào tạo ngành Công nghệ Ô tô/ Điện công nghiệp | C13: 11/2021 | D13: Đang thực hiện | E13: Kính, T.Dung, Thoa, Trân
A14: 6 | B14: Nhiệm vụ 6 : Hỗ trợ công tác tổ chức: Lễ kỷ niệm Ngày nhà giáo Việt Nam 20/11 + Tọa đàm kỷ niệm 50 năm hình thành và phát triển vào ngày 11/11/2021 + Hội nghị CBCCVC ngày 19/11/2021 + chương trình của Sở Lao động Thương binh – Xã hội | C14: 11/2021 | D14: Đang thực hiện | E14: Kính, T.Dung, Thoa
A15: 7 | B15: Nhiệm vụ 7 : Tiếp tục tiếp nhận, hoàn thiện hồ sơ nhận tài trợ từ các đơn vị, doanh nghiệp | C15: 11/2021 | D15: Đang thực hiện | E15: Kính, K.Dung, Nghiêm, Thắm,Vân, Ý
A16: II. | B16: Công việc riêng của đơn vị
A17: 1 | B17: Nhiệm vụ 1: Hỗ trợ và hướng dẫn các khoa thực hiện hồ sơ thanh toán đề tài khoa học và công nghệ cấp trường | C17: 11/2021 | D17: Đang thực hiện | E17: Kính, K.Dung, T.Dung, Trân, Thắm, Ý, Nghiêm,Thoa
A18: 2 | B18: Nhiệm vụ 2: Triển khai và thực hiện mua sắm, sửa chữa phục vụ năm học mới 2021-2022 | C18: 11/2021 | D18: Đang thực hiện | E18: Kính, T.Dung, Trân, Thoa, Vân, Nghiêm
A19: 3 | B19: Nhiệm vụ 3: Phối hợp, hỗ trợ CVHT tập hợp tài khoản của sinh viên thực hiện chi trả tiền miễn giảm học phí qua tài khoản | C19: 11/2021 | D19: Đang thực hiện | E19: Kính, K.Dung, Tuyết Dung, Thoa, Vân, Ý, Thắm, Trân
A20: 4 | B20: Nhiệm vụ 4 : Thực hiện thích + chia sẻ tin tức trên fanpage của trường. | C20: 11/2021 | D20: Đang thực hiện | E20: Kính, K.Dung. T.Dung, Vân, Thoa, Trân, Ý, Thắm, Nghiêm
A21: B | B21: ĐỀ XUẤT NỘI DUNG CÔNG VIỆC THÁNG 12
A22: I. | B22: Công việc chung của Trường (nếu có)
A23: 1 | B23: Nhiệm vụ 1: Tiếp tục hoàn thiện hồ sơ, minh chứng các dự án của trường | C23: 12/2021
A24: 3 | B24: Nhiệm vụ 2: Lập dự toán kinh phí chuẩn bị cho việc chi các khoản: Tiền Tết Dương lịch 2022, tiền thưởng Tết nguyên đán 2022, trang phục đầu năm | C24: 12/2021
A25: 4 | B25: Nhiệm vụ 3: Thực hiện báo cáo duy trì chứng nhận ISO | C25: 12/2021
A26: 5 | B26: Nhiệm vụ 4 : Tiếp tục tiếp nhận , hoàn thiện hồ sơ nhận tài trợ từ các đơn vị, doanh nghiệp | C26: 12/2021
A27: II. | B27: Công việc riêng của đơn vị
A28: 1 | B28: Nhiệm vụ 1: Phối hợp với các đơn vị thực hiện công tác kiểm kê tài sản, trang thiết bị | C28: 12/2021
A29: 2 | B29: Nhiệm vụ 2: Thực hiện các Báo cáo gửi cơ quan quản lý cấp trên | C29: 12/2021
A30: 3 | B30: Nhiệm vụ 3: Thực hiện các báo cáo gửi Sở Tài chính, Sở GD&ĐT… | C30: 12/2021
A31: 4 | B31: Nhiệm vụ 4: Lập dự toán kinh phí chuẩn bị cho việc chi các khoản: Tiền Tết Dương lịch 2022, tiền thưởng Tết nguyên đán 2022, trang phục đầu năm… | C31: 12/2022
A32: 5 | B32: Nhiệm vụ 5: Thích + chia sẻ tin tức trên fanpage của trường | C32: 12/2021
A34: Lưu ý: - Nhóm công việc của đơn vị không tính nội dung công việc đã được quy định ở vị trí việc làm (đối với nhân viên); chế độ làm việc của giảng viên/ đã được tính chế độ, thù lao (đối với giảng viên). - Các đơn vị gửi file điện tử về phòng TC-HC-TH (Cô Trần Thị Ánh Phượng) qua hệ thống điện tử E-office nhà trường (không gửi văn bản giấy) ngày 25 hàng tháng./.
D35: TPHCM, ngày 25 tháng 11 năm 2021
D36: TRƯỞNG ĐƠN VỊ
D40: Nguyễn Kính

Sheet Mau 3
A1: TRƯỜNG CAO ĐẲNG LÝ TỰ TRỌNG | K1: CỘNG HÒA XÃ HỘI CHỦ NGHĨA VIỆT NAM
A2: THÀNH PHỐ HỒ CHÍ MINH | K2: Độc lập - Tự do - Hạnh phúc
A3: PHÒNG KẾ HOẠCH - TÀI CHÍNH
P4: Mẫu 3
A5: THỐNG KÊ CHI TIẾT KHỐI LƯỢNG CÔNG VIỆC THỰC HIỆN THÁNG 11/2021
A7: TT | B7: Tên nội dung công việc | D7: Công việc chung của trường | K7: Công việc riêng của đơn vị | P7: Ghi chú
B8: Họ và tên | C8: Mã E-ofice | D8: Nhiệm vụ 1 | E8: Nhiệm vụ 2 | F8: Nhiệm vụ 3 | G8: Nhiệm vụ 4 | H8: Nhiệm vụ 5 | I8: Nhiệm vụ 6 | J8: Nhiệm vụ 7 | K8: Nhiệm vụ 1 | L8: Nhiệm vụ 2 | M8: Nhiệm vụ 3 | N8: Nhiệm vụ 4
A9: I. Viên chức
A10: 01 | B10: Nguyễn Kính | C10: 01002024 | D10: x | E10: x | F10: x | G10: x | H10: x | I10: x | J10: x | K10: x | L10: x | M10: x | N10: x | R10: =COUNTA(D10:J10) -> 7 | S10: =COUNTA(K10:N10) -> 4
A11: 02 | B11: Nguyễn Thị Kim Dung | C11: 01003002 | E11: x | G11: x | J11: x | K11: x | M11: x | N11: x | R11: =COUNTA(D11:J11) -> 3 | S11: =COUNTA(K11:N11) -> 3
A12: 03 | B12: Hồng Mộng Tuyết Dung | C12: 01003009 | E12: x | F12: x | H12: x | I12: x | K12: x | L12: x | M12: x | N12: x | R12: =COUNTA(D12:J12) -> 4 | S12: =COUNTA(K12:N12) -> 4
A13: 04 | B13: Trần Thị Minh Thoa | C13: 01003005 | E13: x | F13: x | H13: x | I13: x | K13: x | L13: x | M13: x | N13: x | R13: =COUNTA(D13:J13) -> 4 | S13: =COUNTA(K13:N13) -> 4
A14: 05 | B14: Võ Thị Lệ Trân | C14: 01023004 | E14: x | F14: x | G14: x | H14: x | K14: x | L14: x | M14: x | N14: x | R14: =COUNTA(D14:J14) -> 4 | S14: =COUNTA(K14:N14) -> 4
A15: 06 | B15: Nguyễn Thị Hồng Thắm | C15: 01003007 | D15: x | E15: x | J15: x | K15: x | M15: x | N15: x | R15: =COUNTA(D15:J15) -> 3 | S15: =COUNTA(K15:N15) -> 3
A16: II. Hợp đồng trường
A17: 01 | B17: Trần Thị Thảo Vân | C17: 01003008 | D17: x | E17: x | J17: x | L17: x | M17: x | N17: x | R17: =COUNTA(D17:J17) -> 3 | S17: =COUNTA(K17:N17) -> 3
A18: 02 | B18: Nguyễn Thụy Nghiêm | C18: 01003014 | D18: x | E18: x | J18: x | K18: x | L18: x | N18: x | R18: =COUNTA(D18:J18) -> 3 | S18: =COUNTA(K18:N18) -> 3
A19: 03 | B19: Huỳnh Như Ý | C19: 01003015 | D19: x | E19: x | J19: x | K19: x | M19: x | N19: x | R19: =COUNTA(D19:J19) -> 3 | S19: =COUNTA(K19:N19) -> 3
A21: Lưu ý: Các đơn vị gửi file mềm qua hệ thống điện tử E-office nhà trường và văn bản giấy về phòng TC-HC-TH (Cô Trần Thị Ánh Phượng).
K23: TRƯỞNG ĐƠN VỊ
K27: Nguyễn Kính

Sheet Mau 4 
A1: TRƯỜNG CAO ĐẲNG LÝ TỰ TRỌNG | F1: CỘNG HÒA XÃ HỘI CHỦ NGHĨA VIỆT NAM
A2: THÀNH PHỐ HỒ CHÍ MINH | F2: Độc lập - Tự do - Hạnh phúc
A3: PHÒNG KẾ HOẠCH - TÀI CHÍNH
J4: Mẫu 4
A5: DANH SÁCH XẾP LOẠI THI ĐUA THÁNG 11/2021
A7: TT | B7: Họ tên | C7: Mã E-Office | D7: Tiêu chuẩn thi đua | F7: Số lượng công việc tham gia | H7: Số ngày/giờ vượt so với ngày công kế hoạch (đối với CB-NV) | I7: Số ngày nghỉ/ tiết nghỉ (đối với GV) | J7: Đề nghị của đơn vị
D8: Xếp loại | E8: Lý do | F8: Công việc chung của trường | G8: Công việc riêng của đơn vị
A9: I. Viên chức
A10: 01 | B10: Nguyễn Kính | C10: 01002024 | D10: A1 | F10: ='Mau 3'!R10 -> 7 | G10: ='Mau 3'!S10 -> 4 | H10: 5
A11: 02 | B11: Nguyễn Thị Kim Dung | C11: 01003002 | D11: A2 | F11: ='Mau 3'!R11 -> 3 | G11: ='Mau 3'!S11 -> 3 | H11: 4
A12: 03 | B12: Hồng Mộng Tuyết Dung | C12: 01003009 | D12: A2 | F12: ='Mau 3'!R12 -> 4 | G12: ='Mau 3'!S12 -> 4 | H12: 4 | J12: - Chuẩn A2, tuy nhiên trong tháng qua thường xuyên làm việc ngoài giờ để chuẩn bị chứng từ, hồ sơ sổ sách để phục vụ cho công tác thanh tra, Phòng KH-TC kính đề nghị hội đồng thi đua xem xét xếp loại : A1 (nâng 1 bậc so với chuẩn)
A13: 04 | B13: Trần Thị Minh Thoa | C13: 01003005 | D13: A2 | F13: ='Mau 3'!R13 -> 4 | G13: ='Mau 3'!S13 -> 4 | H13: 3 | J13: - Chuẩn A2, tuy nhiên trong tháng qua thường xuyên làm việc ngoài giờ để chuẩn bị chứng từ, hồ sơ sổ sách để phục vụ cho công tác thanh tra, Phòng KH-TC kính đề nghị hội đồng thi đua xem xét xếp loại : A1 (nâng 1 bậc so với chuẩn)
A14: 05 | B14: Võ Thị Lệ Trân | C14: 01023004 | D14: A2 | F14: ='Mau 3'!R14 -> 4 | G14: ='Mau 3'!S14 -> 4 | H14: 5 | J14: - Chuẩn A2, tuy nhiên trong tháng qua thường xuyên làm việc ngoài giờ (kể cả ngày Lễ) để hoàn thiện hồ sơ MS-SC năm 2021, Phòng KH-TC kính đề nghị hội đồng thi đua xem xét xếp loại : A1 (nâng 1 bậc so với chuẩn)
A15: 06 | B15: Nguyễn Thị Hồng Thắm | C15: 01003007 | D15: A2 | F15: ='Mau 3'!R15 -> 3 | G15: ='Mau 3'!S15 -> 3 | H15: 4
A16: II. Hợp đồng trường
A17: 01 | B17: Trần Thị Thảo Vân | C17: 01003008 | D17: A2 | F17: ='Mau 3'!R17 -> 3 | G17: ='Mau 3'!S17 -> 3 | J17: - Do có nhiều tích cực trong công việc của phòng và của trường, Phòng KH-TC kính đề nghị hội đồng thi đua xem xét xếp loại : A2
A18: 02 | B18: Nguyễn Thụy Nghiêm | C18: 01003014 | D18: A2 | F18: ='Mau 3'!R18 -> 3 | G18: ='Mau 3'!S18 -> 3 | J18: - Do có nhiều tích cực trong công việc của phòng và của trường, Phòng KH-TC kính đề nghị hội đồng thi đua xem xét xếp loại : A2
A19: 03 | B19: Huỳnh Như Ý | C19: 01003015 | D19: A2 | F19: ='Mau 3'!R19 -> 3 | G19: ='Mau 3'!S19 -> 3 | J19: - Do có nhiều tích cực trong công việc của phòng và của trường, Phòng KH-TC kính đề nghị hội đồng thi đua xem xét xếp loại : A2
B20: Kết quả xếp loại | E20: Viên chức | F20: Hợp đồng trường | H20: Ý kiến TT HĐ TĐ-KT
B21: A1 | E21: 4
B22: A2 | E22: 2 | F22: 3
B23: A3
B24: A4
B25: ADN
B26: B2
B27: C1
B28: C2
B29: D
B30: E
B31: Tổng số nhân sự: | E31: =SUM(E21:E30) -> 6 | F31: =SUM(F21:F30) -> 3
B32: * Giải trình bổ sung: - Hiện là thời gian cao điểm thu học phí tuyển sinh khoá mới NV phải trực thu học phí qua phần mềm và phản hồi với SV ngay trong ngày; - Làm thủ tục chi tiền miễn giảm học phí chuyển qua thu học phí khoá cũ. - Thực hiện công tác thu thập minh chứng viết báo cáo tự đánh giá ngoài chương trình đào tạo ngành Công nghệ Ô tô/ Điện công nghiệp. - Soạn thảo Dự thảo Quy chế chi tiêu nội bộ năm 2022, dự toán kinh phí để đảm bảo thực hiện theo nội dung Dự thảo Quy chế chi tiêu nội bộ năm 2022. - Ngoài ra trong tháng còn phải hoàn thiện Kế hoạch tài chính, kế hoạch mua sắm - sửa chữa 2022 - Lập kế hoạch xin kinh phí năm 2022 (Theo VB 2332/SGDĐT-KHTC Ngày 25/8/2021 của Sở Giáo dục & Đào tạo) - Chuẩn bị chứng từ, hồ sơ sổ sách để phục vụ cho công tác thanh tra (Quyết định số 2087/QĐ-SGDĐT ngày 19/11/2021 về thực hiện thanh tra năm học 2020-2021 của Sở Giáo dục và Đào tạo TPHCM và Thông báo ngày 21/11/2021 về công bố Quyết định thanh tra của Chánh Thanh tra Sở Giáo dục và Đào tạo). - Thực hiện báo cáo duy trì chứng nhận ISO. Nên CV của nhân viên P. KHTC phải đảm trách rất nhiều, đó là lý do xin đề nghị Hội đồng thi đua xếp loại A2 cho NV của phòng
A33: Lưu ý: Các đơn vị gửi file mềm qua hệ thống điện tử E-office nhà trường và văn bản giấy về phòng TC-HC-TH (Cô Trần Thị Ánh Phượng).
G35: TPHCM, ngày 25 tháng 11 năm 2021
G36: TRƯỞNG ĐƠN VỊ
G39: Nguyễn Kính

Sheet Sheet1
