Workbook

Sheet Kangatang

Sheet Mau 1
H1: Mẫu 1
A2: TRƯỜNG CAO ĐẲNG LÝ TỰ TRỌNG | E2: CỘNG HÒA XÃ HỘI CHỦ NGHĨA VIỆT NAM
A3: THÀNH PHỐ HỒ CHÍ MINH | E3: Độc lập - Tự do - Hạnh phúc
A4: TRUNG TÂM ĐIỀU HÀNH VÀ QUẢN LÝ DỮ LIỆU
A6: DANH SÁCH CB-GV-NV ĐẠT TIÊU CHUẨN XẾP LOẠI THI ĐUA (Quy định số 1310/QyĐ-LTT-TĐ ngày 09/11/2020 của Trường)
A8: TT | B8: Họ tên | C8: Mã E-Office | D8: Tiêu chuẩn xếp loại thi đua A1 (Ghi rõ nội dung tiêu chuẩn: số Quyết định, thời gian, cơ quan ban hành,…) | E8: Tiêu chuẩn xếp loại thi đua A2 (Ghi rõ nội dung tiêu chuẩn: số Quyết định, thời gian, cơ quan ban hành,…) | F8: Tiêu chuẩn xếp loại thi đua A3 (Ghi rõ nội dung tiêu chuẩn: số Quyết định, thời gian, cơ quan ban hành,…) | G8: Tiêu chuẩn xếp loại thi đua A4 (Ghi rõ nội dung tiêu chuẩn: số Quyết định, thời gian, cơ quan ban hành,…) | H8: Ghi chú
A9: I. Viên chức
A10: 01 | B10: Nguyễn Hữu Thiện | C10: 01017003 | D10: - Tham gia Đề án hợp tác đào tạo trình độ cao đẳng chất lượng cao giữa Trường CĐ Lý Tự Trọng Tp.HCM với công ty TNHH Sản xuất và Kinh doanh VINFAST (QĐ số 496A/QĐ-LTT-ĐT ngày 30/5/2020) | E10: Quyết định 1720/QĐ-GDĐT-VP ngày 21/08/2020 Công nhận Sáng kiến có phạm vi ảnh hưởng cấp Ngành NH 2019-2020
A11: 02 | B11: Vương Hội Khánh | C11: 01017010 | F11: Kết quả đánh giá sáng kiến năm học 2019 - 2020 - Đạt loại Khá
A12: 03 | B12: Trương Hữu Lộc | C12: 01018004 | F12: Kết quả đánh giá sáng kiến năm học 2019 - 2020 - Đạt loại Khá
A13: II. Hợp đồng trường
A14: 01 | B14: Nguyễn Thị Thanh Hòa | C14: 01009027 | F14: Kết quả đánh giá sáng kiến năm học 2019 - 2020 - Đạt yêu cầu
A15: 02 | B15: Phạm Huỳnh Kim Ngân | C15: 01025013 | F15: Kết quả xếp loại A3 vì tham gia viết bài tham luận tại Hội thảo cấp Khoa (Khoa CNTT)
A17: Ghi chú: Gửi kèm minh chứng về phòng Tổ chức - Hành chính - Tổng hợp.
E18: TPHCM, ngày 19 tháng 01 năm 2021
E19: TRƯỞNG ĐƠN VỊ
E26: Nguyễn Hữu Thiện

Sheet Mau 2
A1: TRƯỜNG CAO ĐẲNG LÝ TỰ TRỌNG THÀNH PHỐ HỒ CHÍ MINH TRUNG TÂM ĐIỀU HÀNH VÀ QUẢN LÝ DỮ LIỆU | C1: CỘNG HÒA XÃ HỘI CHỦ NGHĨA VIỆT NAM Độc lập - Tự do - Hạnh phúc
E2: Mẫu 2
A3: BẢNG TỔNG HỢP NHIỆM VỤ CHUNG VÀ RIÊNG CỦA ĐƠN VỊ (Gửi file mềm ngày 25 hàng tháng)
A6: TT | B6: Nội dung công việc | C6: Thời gian thực hiện | D6: Kết quả | E6: Ghi chú
A7: A | B7: TỔNG KẾT CÔNG VIỆC TRONG THÁNG
A8: I. | B8: Công việc chung của Trường
A9: 01 | B9: Nhiệm vụ 1: Tham gia Ban thiết kế trang Website của trường | C9: 12/2021 | D9: Đạt | E9: Nguyễn Hữu Thiện
A10: 02 | B10: Nhiệm vụ 2: Công tác chuẩn bị và hỗ trợ thi Kỹ năng nghề | C10: 12/2021 | D10: Đạt | E10: Nguyễn Hữu Thiện, Vương Hội Khánh, Trương Hữu Lộc
A11: 03 | B11: Nhiệm vụ 3: Công tác chuẩn bị và hỗ trợ thi Vinfast Giai đoạn 1 | C11: 12/2021 | D11: Đạt | E11: Nguyễn Hữu Thiện, Vương Hội Khánh, Trương Hữu Lộc
A12: 04 | B12: Nhiệm vụ 4: Tham gia tổ chức diễn tập xử lý tình huống khi SV đi học trực tiếp có ca F0, F1 tại trường | C12: 12/2021 | D12: Đạt | E12: Nguyễn Hữu Thiện, Vương Hội Khánh, Trương Hữu Lộc
A13: 05 | B13: Nhiệm vụ 5: Chuẩn bị hồ sơ đánh giá ngoài 2 chương trình đào tạo CN ô tô và Điện công nghiệp (Thực hiện khảo sát trên phần mềm EPMT trong năm học 2019-2020, 2020-2021) | C13: 12/2021 | D13: Đạt | E13: Nguyễn Hữu Thiện, Nguyễn Thị Thanh Hòa
A14: 06 | B14: Nhiệm vụ 6: tham gia hỗ trợ công tác của Đoàn đánh giá ngoài 2 chương trình đào tạo CN ô tô và Điện công nghiệp | C14: 12/2021 | D14: Đạt | E14: Vương Hội Khánh, Trương Hữu Lộc
A15: II. | B15: Công việc riêng của đơn vị
A16: 01 | B16: Nhiệm vụ 1: Tham gia trả lời tư vấn tuyển sinh trên fanpage Nhà trường | C16: 12/2021 | D16: Đạt | E16: Nguyễn Hữu Thiện, Nguyễn Thị Thanh Hòa, Phạm Huỳnh Kim Ngân
A17: 02 | B17: Nhiệm vụ 2: Hỗ trợ kỹ thuật và cấp lại mật khẩu Email qua kênh Zalo và đường Link | C17: 12/2021 | D17: Đạt | E17: Nguyễn Thị Thanh Hòa, Vương Hội Khánh
A18: 03 | B18: Nhiệm vụ 3: Hỗ trợ tìm minh chứng phục vụ đánh giá ngoài (Hình ảnh) | C18: 12/2021 | D18: Đạt | E18: Nguyễn Thị Thanh Hòa, Trương Hữu Lộc
A19: B | B19: ĐỀ XUẤT NỘI DUNG CÔNG VIỆC THÁNG 01/2021
A20: I. | B20: Công việc chung của Trường (nếu có)
A21: 01 | B21: Nhiệm vụ 1: Chuẩn bị và hỗ trợ kỹ thuật Hội thi thiết bị đào tạo tự làm cấp trường 2021. | C21: 01/2021
A22: II. | B22: Công việc riêng của đơn vị
A23: 01 | B23: Nhiệm vụ 1: Tham gia trả lời tư vấn tuyển sinh trên fanpage Nhà trường | C23: 01/2021
A24: 02 | B24: Nhiệm vụ 2: Hỗ trợ kỹ thuật và cấp lại mật khẩu Email qua kênh Zalo và đường Link | C24: 01/2021
A26: Lưu ý: - Nhóm công việc của đơn vị không tính nội dung công việc đã được quy định ở vị trí việc làm (đối với nhân viên); chế độ làm việc của giảng viên/ đã được tính chế độ, thù lao (đối với giảng viên). - Các đơn vị gửi file điện tử về phòng TC-HC-TH (Cô Trần Thị Ánh Phượng) qua hệ thống điện tử E-office nhà trường (không gửi văn bản giấy) ngày 25 hàng tháng./.
B27: Thành phố Hồ Chí Minh, ngày 22 tháng 12 Năm 2021
C28: TRƯỞNG ĐƠN VỊ
C32: Nguyễn Hữu Thiện

Sheet Mau 3
A1: TRƯỜNG CAO ĐẲNG LÝ TỰ TRỌNG | L1: CỘNG HÒA XÃ HỘI CHỦ NGHĨA VIỆT NAM
A2: THÀNH PHỐ HỒ CHÍ MINH | L2: Độc lập - Tự do - Hạnh phúc
A3: TRUNG TÂM ĐIỀU HÀNH VÀ QUẢN LÝ DỮ LIỆU
U4: Mẫu 3
A5: THỐNG KÊ CHI TIẾT KHỐI LƯỢNG CÔNG VIỆC THỰC HIỆN THÁNG 12/2021
A7: TT | B7: Tên nội dung công việc | D7: Công việc chung của trường | N7: Công việc riêng của đơn vị | U7: Ghi chú
B8: Họ và tên | C8: Mã E-ofice | D8: Nhiệm vụ 1 | E8: Nhiệm vụ 2 | F8: Nhiệm vụ 3 | G8: Nhiệm vụ 4 | H8: Nhiệm vụ 5 | I8: Nhiệm vụ 6 | J8: Nhiệm vụ 7 | K8: Nhiệm vụ 8 | L8: Nhiệm vụ 9 | M8: Tổng | N8: Nhiệm vụ 1 | O8: Nhiệm vụ 2 | P8: Nhiệm vụ 3 | Q8: Nhiệm vụ 3 | R8: Nhiệm vụ 4 | S8: Nhiệm vụ 5 | T8: Tổng
A9: I. Viên chức
A10: 01 | B10: Nguyễn Hữu Thiện | C10: 01017003 | D10: x | E10: x | F10: x | G10: x | H10: x | M10: =COUNTA(D10:L10) -> 5 | N10: x | T10: =COUNTA(N10:S10) -> 1
A11: 02 | B11: Vương Hội Khánh | C11: 01017010 | E11: x | F11: x | G11: x | I11: x | M11: =COUNTA(D11:L11) -> 4 | O11: x | T11: =COUNTA(N11:S11) -> 1
A12: 03 | B12: Trương Hữu Lộc | C12: 01018004 | E12: x | F12: x | G12: x | I12: x | M12: =COUNTA(D12:L12) -> 4 | P12: x | T12: =COUNTA(N12:S12) -> 1
A13: II. Hợp đồng trường
A14: 04 | B14: Nguyễn Thị Thanh Hòa | C14: 01009027 | H14: x | M14: =COUNTA(D14:L14) -> 1 | N14: x | O14: x | P14: x | T14: =COUNTA(N14:S14) -> 3
A15: 05 | B15: Phạm Huỳnh Kim Ngân | C15: 01025013 | M15: =COUNTA(D15:L15) -> 0 | N15: x | T15: =COUNTA(N15:S15) -> 1
A16: Lưu ý: Các đơn vị gửi file mềm qua hệ thống điện tử E-office nhà trường và văn bản giấy về phòng TC-HC-TH (Cô Trần Thị Ánh Phượng).
L17: TPHCM, ngày 22 tháng 12 năm 2021
L18: TRƯỞNG ĐƠN VỊ
L24: Nguyễn Hữu Thiện

Sheet Mau 4 
A1: TRƯỜNG CAO ĐẲNG LÝ TỰ TRỌNG | F1: CỘNG HÒA XÃ HỘI CHỦ NGHĨA VIỆT NAM
A2: THÀNH PHỐ HỒ CHÍ MINH | F2: Độc lập - Tự do - Hạnh phúc
A3: TRUNG TÂM ĐIỀU HÀNH VÀ QUẢN LÝ DỮ LIỆU
J4: Mẫu 4
A5: DANH SÁCH XẾP LOẠI THI ĐUA THÁNG 12/2021
A7: TT | B7: Họ tên | C7: Mã E-Office | D7: Tập thể đơn vị đề nghị | F7: Số lượng công việc tham gia | H7: Số ngày/giờ vượt so với ngày công kế hoạch (đối với CB-NV) | I7: Số ngày nghỉ/ tiết nghỉ (đối với GV) | J7: Ghi chú
D8: Xếp loại | E8: Lý do | F8: Công việc chung của trường | G8: Công việc riêng của đơn vị
A9: I. Viên chức
A10: 01 | B10: Nguyễn Hữu Thiện | C10: 01017003 | D10: A1 | F10: ='Mau 3'!M10 -> 5 | G10: =+'Mau 3'!T10 -> 1
A11: 02 | B11: Vương Hội Khánh | C11: 01017010 | D11: A3 | F11: ='Mau 3'!M11 -> 4 | G11: =+'Mau 3'!T11 -> 1 | J11: Đề nghị xếp loại A2 vì tham gia nhiều công tác của Nhà trường và đơn vị
A12: 03 | B12: Trương Hữu Lộc | C12: 01018004 | D12: A3 | F12: ='Mau 3'!M12 -> 4 | G12: =+'Mau 3'!T12 -> 1 | J12: Đề nghị xếp loại A2 vì tham gia nhiều công tác của Nhà trường và đơn vị
A13: II. Hợp đồng trường
A14: 01 | B14: Nguyễn Thị Thanh Hòa | C14: 01009027 | D14: A3 | F14: ='Mau 3'!M14 -> 1 | G14: =+'Mau 3'!T14 -> 3
A15: 02 | B15: Phạm Huỳnh Kim Ngân | C15: 01025013 | D15: A4 | F15: ='Mau 3'!M15 -> 0 | G15: =+'Mau 3'!T15 -> 1
B17: Kết quả xếp loại | E17: Viên chức | F17: Hợp đồng trường | H17: Ý kiến TT HĐ TĐ-KT
B18: A1 | E18: 1
B19: A2 | E19: 2
B20: A3 | E20: 0 | F20: 1
B21: A4 | E21: 0 | F21: 1
B22: Tổng số nhân sự: | E22: =SUM(E18:E21) -> 3 | F22: =SUM(F18:F21) -> 2
A24: Lưu ý: Các đơn vị gửi file mềm qua hệ thống điện tử E-office nhà trường và văn bản giấy về phòng TC-HC-TH (Cô Trần Thị Ánh Phượng).
F25: TPHCM, ngày 22 tháng 12 năm 2021
F26: TRƯỞNG ĐƠN VỊ
F31: Nguyễn Hữu Thiện
