Workbook

Sheet Mau 1
A1: TRƯỜNG CAO ĐẲNG LÝ TỰ TRỌNG | E1: CỘNG HÒA XÃ HỘI CHỦ NGHĨA VIỆT NAM
A2: THÀNH PHỐ HỒ CHÍ MINH | E2: Độc lập - Tự do - Hạnh phúc
A3: ĐƠN VỊ: TRUNG TÂM ĐIỀU HÀNH VÀ QUẢN LÝ DỮ LIỆU
G4: Mẫu 1
A5: Danh sách CB-GV-NV tham gia thực hiện bài viết sáng kiến, bài viết Hội thảo cấp trường, cấp đơn vị, giảng viên dạy giỏi, bài báo được đăng trên các tạp chí theo quy định, tham gia đề tài NCKH đã được nghiệm thu,... (Quy định số 1375/QyĐ-LTT-TĐ ngày 29/11/2021 của Trường)
A7: TT | B7: Họ tên | C7: Mã E-Office | D7: Điều kiện xếp loại thi đua A1 (Ghi rõ nội dung tiêu chuẩn: số Quyết định, thời gian, cơ quan ban hành,…) | E7: Điều kiện xếp loại thi đua A2 (Ghi rõ nội dung tiêu chuẩn: số Quyết định, thời gian, cơ quan ban hành,…) | F7: Điều kiện xếp loại thi đua A3 (Ghi rõ nội dung tiêu chuẩn: số Quyết định, thời gian, cơ quan ban hành,…) | G7: Ghi chú
A8: I. Viên chức
A9: 01 | B9: Nguyễn Hữu Thiện | C9: 01017003 | E9: - Bài viết đăng Kỷ yếu hội thảo cấp trường COSS 2021 - Bài viết sáng kiến được công nhận phạm vi ảnh hưởng cấp ngành (QĐ số 1783/QĐ-SGDĐT ngày 20/8/2021) | F9: Bài viết sáng kiến được công nhận phạm vi ảnh hưởng cấp trường trong năm học 2020-2021 (QĐ số 358/QĐ-LTT-HĐSK ngày 08/4/2021)
A10: 02 | B10: Vương Hội Khánh | C10: 01017010 | F10: - Bài viết sáng kiến được công nhận phạm vi ảnh hưởng cấp trường trong năm học 2020-2021 (QĐ số 358/QĐ-LTT-HĐSK ngày 08/4/2021). - Bài viết đăng kỷ yếu hội thảo cấp đơn vị tháng 7/2021 chuyên đề “Nâng cao chất lượng đội ngũ giảng viên, cán bộ, nhân viên trong quá trình chuyển đổi mô hình đào tạo ở Nhà trường thông minh dưới tác động của cuộc cách mạng công nghiệp 4.0”
A11: 03 | B11: Trương Hữu Lộc | C11: 01018004 | F11: - Bài viết sáng kiến được công nhận phạm vi ảnh hưởng cấp trường trong năm học 2020-2021 (QĐ số 358/QĐ-LTT-HĐSK ngày 08/4/2021). - Bài viết đăng kỷ yếu hội thảo cấp đơn vị tháng 7/2021 chuyên đề “Nâng cao chất lượng đội ngũ giảng viên, cán bộ, nhân viên trong quá trình chuyển đổi mô hình đào tạo ở Nhà trường thông minh dưới tác động của cuộc cách mạng công nghiệp 4.0”
A12: II. Hợp đồng trường
A13: 01 | B13: Nguyễn Thị Thanh Hòa | C13: 01009027 | D13: Bài báo đăng trên tạp chí theo danh mục tạp chí khoa học được tính điểm theo quy định của Hội đồng Giáo sư nhà nước và tạp chí nước ngoài có chỉ số ISSN | F13: - Bài viết sáng kiến được công nhận phạm vi ảnh hưởng cấp trường trong năm học 2020-2021 (QĐ số 358/QĐ-LTT-HĐSK ngày 08/4/2021). - Bài viết đăng kỷ yếu hội thảo cấp đơn vị tháng 7/2021 chuyên đề “Nâng cao chất lượng đội ngũ giảng viên, cán bộ, nhân viên trong quá trình chuyển đổi mô hình đào tạo ở Nhà trường thông minh dưới tác động của cuộc cách mạng công nghiệp 4.0” | G13: Bài báo đăng trên Tạp chí Thiết bị Giáo dục - Số đặc biệt tháng 7/2021 (ISSN 1859-0810)
A14: 02 | B14: Phạm Huỳnh Kim Ngân | C14: 01025013 | F14: Bài viết đăng kỷ yếu hội thảo cấp đơn vị tháng 7/2021 chuyên đề “Nâng cao chất lượng đội ngũ giảng viên, cán bộ, nhân viên trong quá trình chuyển đổi mô hình đào tạo ở Nhà trường thông minh dưới tác động của cuộc cách mạng công nghiệp 4.0”
A16: Ghi chú: Gửi kèm minh chứng về phòng Tổ chức - Hành chính - Tổng hợp.
E17: TPHCM, ngày …... tháng …… năm 2022
E18: TRƯỞNG ĐƠN VỊ

Sheet Mau 2
A1: TRƯỜNG CAO ĐẲNG LÝ TỰ TRỌNG THÀNH PHỐ HỒ CHÍ MINH ĐƠN VỊ: TRUNG TÂM ĐIỀU HÀNH VÀ QUẢN LÝ DỮ LIỆU | F1: CỘNG HÒA XÃ HỘI CHỦ NGHĨA VIỆT NAM Độc lập - Tự do - Hạnh phúc
G2: Mẫu 2
A3: BẢNG TỔNG HỢP CÔNG VIỆC ĐỘT XUẤT ĐÃ THỰC HIỆN THÁNG 01/2022 (Gửi file mềm ngày 25 hàng tháng)
A6: TT | B6: Nội dung công việc | C6: Số lượng người tham gia thực hiện | D6: Tên người tham gia thực hiện | E6: Thời gian thực hiện | F6: Kết quả thực hiện | G6: Ghi chú
A7: I. | B7: Công việc chung của Trường
A8: Nhiệm vụ 1 | B8: Tham gia Ban thiết kế trang Website của trường | C8: 1 | D8: Nguyễn Hữu Thiện | E8: 01/2022 | F8: Đạt
A9: Nhiệm vụ 2 | B9: Tham gia hỗ trợ kỹ thuật Hội thi Thiết bị đào tạo tự làm cấp trường. | C9: 3 | D9: Nguyễn Hữu Thiện, Vương Hội Khánh, Trương Hữu Lộc | E9: 01/2022 | F9: Đạt
A10: Nhiệm vụ 3
A11: Nhiệm vụ 4
A12: II. | B12: Công việc chung của đơn vị
A13: Nhiệm vụ 1 | B13: Tham gia trả lời tư vấn tuyển sinh trên fanpage Nhà trường | C13: 2 | D13: Nguyễn Thị Thanh Hòa, Phạm Huỳnh Kim Ngân | E13: 01/2022 | F13: Đạt
A14: Nhiệm vụ 2 | B14: Hỗ trợ kỹ thuật và cấp lại mật khẩu Email qua kênh Zalo và đường Link | C14: 2 | D14: Nguyễn Thị Thanh Hòa, Phạm Huỳnh Kim Ngân | E14: 01/2022 | F14: Đạt
A15: Nhiệm vụ 3 | B15: Đi đường dây mạng, wifi, lắp camera Tại Khu E2 và E3 – Khoa CNTT | C15: 3 | D15: Nguyễn Hữu Thiện, Vương Hội Khánh, Trương Hữu Lộc | E15: 01/2022 | F15: Đạt
A16: Nhiệm vụ 4
A18: Lưu ý: - Nhóm công việc của đơn vị không tính nội dung công việc đã được quy định ở vị trí việc làm (đối với nhân viên); chế độ làm việc của giảng viên/ đã được tính chế độ, thù lao (đối với giảng viên). - Các đơn vị gửi file điện tử về phòng TC-HC-TH (Cô Trần Thị Ánh Phượng) qua hệ thống điện tử E-office nhà trường (không gửi văn bản giấy) ngày 25 hàng tháng./.
E19: Thành phố Hồ Chí Minh, ngày 21 tháng 01 năm 2022
E20: TRƯỞNG ĐƠN VỊ
E25: Nguyễn Hữu Thiện

Sheet Mau 3
A1: TRƯỜNG CAO ĐẲNG LÝ TỰ TRỌNG | G1: CỘNG HÒA XÃ HỘI CHỦ NGHĨA VIỆT NAM Độc lập - Tự do - Hạnh phúc
A2: THÀNH PHỐ HỒ CHÍ MINH
A3: ĐƠN VỊ:TRUNG TÂM ĐIỀU HÀNH VÀ QUẢN LÝ DỮ LIỆU
K4: Mẫu 3
A5: THỐNG KÊ CHI TIẾT KHỐI LƯỢNG CÔNG VIỆC THỰC HIỆN THÁNG 01/2022
A7: TT | B7: Tên nội dung công việc | D7: Công việc chung của trường | H7: Công việc chung của đơn vị | N7: Ghi chú
B8: Họ và tên | C8: Mã E-office | D8: Nhiệm vụ 1 | E8: Nhiệm vụ 2 | F8: Nhiệm vụ 3 | G8: Tổng cộng | H8: Nhiệm vụ 1 | I8: Nhiệm vụ 2 | J8: Nhiệm vụ 3 | K8: Nhiệm vụ 4 | L8: Nhiệm vụ 5 | M8: Tổng cộng
A9: I. Viên chức
A10: 01 | B10: Nguyễn Hữu Thiện | C10: 01017003 | D10: X | E10: X | G10: =COUNTIF(D10:F10,"X") -> 2 | J10: X | M10: =COUNTIF(H10:K10,"X") -> 1
A11: 02 | B11: Vương Hội Khánh | C11: 01017010 | E11: X | G11: =COUNTIF(D11:F11,"X") -> 1 | J11: X | M11: =COUNTIF(H11:L11,"X") -> 1
A12: 03 | B12: Trương Hữu Lộc | C12: 01018004 | E12: X | G12: =COUNTIF(D12:F12,"X") -> 1 | J12: X | M12: =COUNTIF(H12:L12,"X") -> 1
A13: 04 | G13: =COUNTIF(D13:F13,"X") -> 0 | M13: =COUNTIF(H13:L13,"X") -> 0
A14: II. Hợp đồng trường
A15: 01 | B15: Nguyễn Thị Thanh Hòa | C15: 01009027 | G15: =COUNTIF(D15:F15,"X") -> 0 | H15: X | I15: X | M15: =COUNTIF(H15:L15,"X") -> 2
A16: 02 | B16: Phạm Huỳnh Kim Ngân | C16: 01025013 | G16: =COUNTIF(D16:F16,"X") -> 0 | H16: X | I16: X | M16: =COUNTIF(H16:L16,"X") -> 2
A17: 03 | G17: =COUNTIF(D17:F17,"X") -> 0 | M17: =COUNTIF(H17:L17,"X") -> 0
A18: 04 | G18: =COUNTIF(D18:F18,"X") -> 0 | M18: =COUNTIF(H18:L18,"X") -> 0
A20: Lưu ý: Các đơn vị gửi file điện tử về phòng TC-HC-TH (Cô Trần Thị Ánh Phượng) qua hệ thống điện tử E-office nhà trường (không gửi văn bản giấy).
H21: TPHCM, ngày 21 tháng 01 năm 2022
H22: TRƯỞNG ĐƠN VỊ
H28: Nguyễn Hữu Thiện

Sheet Mau 4 
A1: TRƯỜNG CAO ĐẲNG LÝ TỰ TRỌNG | G1: CỘNG HÒA XÃ HỘI CHỦ NGHĨA VIỆT NAM
A2: THÀNH PHỐ HỒ CHÍ MINH | G2: Độc lập - Tự do - Hạnh phúc
A3: ĐƠN VỊ: TRUNG TÂM ĐIỀU HÀNH VÀ QUẢN LÝ DỮ LIỆU
L4: Mẫu 4
A5: DANH SÁCH XẾP LOẠI THI ĐUA THÁNG 01/2022
A7: TT | B7: Họ tên | C7: Mã E-Office | D7: Tiêu chuẩn đạt mức xếp loại thi đua tối đa trong năm (Ẩn khi in) | E7: Xếp loại thi đua tháng theo quy định (Không vượt quá mức thi đua tối đa) | I7: Số ngày/giờ vượt so với ngày công kế hoạch (đối với CB-NV) | J7: Số ngày nghỉ/ tiết nghỉ (đối với GV) | K7: Đơn vị đề nghị mức xếp loại thi đua
E8: Xếp loại | F8: Lý do | G8: Số lượng công việc chung của trường | H8: Số lượng công việc chung của đơn vị | K8: Xếp loại | L8: Lý do đề nghị
A9: I. Viên chức
A10: 01 | B10: Nguyễn Hữu Thiện | C10: 01017003 | D10: A2 | E10: A2 | G10: =IFERROR(VLOOKUP($C10,'Mau 3'!$C$10:$M$18,8,0),0) -> X | H10: =IFERROR(VLOOKUP($C10,'Mau 3'!$C$10:$M$18,14,0),0) -> 0 | I10: 4
A11: 02 | B11: Vương Hội Khánh | C11: 01017010 | D11: A3 | E11: A3 | G11: =IFERROR(VLOOKUP($C11,'Mau 3'!$C$10:$M$18,8,0),0) -> X | H11: =IFERROR(VLOOKUP($C11,'Mau 3'!$C$10:$M$18,14,0),0) -> 0
A12: 03 | B12: Trương Hữu Lộc | C12: 01018004 | D12: A3 | E12: A3 | G12: =IFERROR(VLOOKUP($C12,'Mau 3'!$C$10:$M$18,8,0),0) -> X | H12: =IFERROR(VLOOKUP($C12,'Mau 3'!$C$10:$M$18,14,0),0) -> 0
A13: II. Hợp đồng trường
A14: 01 | B14: Nguyễn Thị Thanh Hòa | C14: 01009027 | D14: A3 | E14: A3 | G14: =IFERROR(VLOOKUP($C14,'Mau 3'!$C$10:$M$18,8,0),0) -> 0 | H14: =IFERROR(VLOOKUP($C14,'Mau 3'!$C$10:$M$18,14,0),0) -> 0
A15: 02 | B15: Phạm Huỳnh Kim Ngân | C15: 01025013 | D15: A3 | E15: A3 | G15: =IFERROR(VLOOKUP($C15,'Mau 3'!$C$10:$M$18,8,0),0) -> 0 | H15: =IFERROR(VLOOKUP($C15,'Mau 3'!$C$10:$M$18,14,0),0) -> 0
B18: Kết quả xếp loại | G18: Viên chức | I18: Hợp đồng trường
B19: A1 | G19: =COUNTIF($E$10:$E$12,"A1") -> 0 | I19: =COUNTIF($E$14:$E$15,"A1") -> 0
B20: A2 | G20: =COUNTIF($E$10:$E$12,"A2") -> 1 | I20: =COUNTIF($E$14:$E$15,"A2") -> 0
B21: A3 | G21: =COUNTIF($E$10:$E$12,"A3") -> 2 | I21: =COUNTIF($E$14:$E$15,"A3") -> 2
B22: A4 | G22: =COUNTIF($E$10:$E$12,"A4") -> 0 | I22: =COUNTIF($E$14:$E$15,"A4") -> 0
B23: A DN | G23: =COUNTIF($E$10:$E$12,"A DN") -> 0 | I23: =COUNTIF($E$14:$E$15,"A DN") -> 0
B24: B1 | G24: =COUNTIF($E$10:$E$12,"B1") -> 0 | I24: =COUNTIF($E$14:$E$15,"B1") -> 0
B25: B2 | G25: =COUNTIF($E$10:$E$12,"B2") -> 0 | I25: =COUNTIF($E$14:$E$15,"B2") -> 0
B26: C1 | G26: =COUNTIF($E$10:$E$12,"C1") -> 0 | I26: =COUNTIF($E$14:$E$15,"C1") -> 0
B27: C2 | G27: =COUNTIF($E$10:$E$12,"C2") -> 0 | I27: =COUNTIF($E$14:$E$15,"C2") -> 0
B28: D | G28: =COUNTIF($E$10:$E$12,"D") -> 0 | I28: =COUNTIF($E$14:$E$15,"D") -> 0
B29: E | G29: =COUNTIF($E$10:$E$12,"E") -> 0 | I29: =COUNTIF($E$14:$E$15,"E") -> 0
B30: Tổng số nhân sự: | G30: =SUM(G19:G29) -> 3 | I30: =SUM(I19:I29) -> 2
A32: Lưu ý: Các đơn vị gửi file mềm qua hệ thống điện tử E-office nhà trường và văn bản giấy về phòng TC-HC-TH (Cô Trần Thị Ánh Phượng).
G33: TPHCM, ngày 21 tháng 01 năm 2022
G34: TRƯỞNG ĐƠN VỊ
G39: Nguyễn Hữu Thiện
