Workbook

Sheet DK.T9
A1: TRƯỜNG CAO ĐẲNG KỸ THUẬT | H1: CỘNG HÒA XÃ HỘI CHỦ NGHĨA VIỆT NAM
A2: LÝ TỰ TRỌNG TP. HỒ CHÍ MINH | H2: Độc lập - Tự do - Hạnh phúc
A3: PHÒNG THANH TRA GIÁO DỤC
A4: - CÔNG TÁC SINH VIÊN
A6: SĨ SỐ HỌC SINH, SINH VIÊN THÁNG 8/ 2015
A7: Tính đến ngày 24 / 9/ 2015
A9: KHÓA 2013 TCCN
A10: KHÓA 2014 TCCN
A11: LỚP | C11: TS | D11: Nữ | E11: A | F11: B | G11: BL-TNH | H11: LỚP | J11: TS | K11: Nữ | L11: A | M11: B | N11: BL-TNH
A12: 1 | B12: 14TC-ĐT | C12: 13 | E12: =C12-F12 -> 3 | F12: 10 | H12: 6 | I12: 14TC-Ô1 | J12: 53 | L12: =J12-M12 -> 12 | M12: 41 | N12: 1
A13: 2 | B13: 14TC-Đ1 | C13: 65 | E13: =C13-F13 -> 14 | F13: 51 | H13: 7 | I13: 14TC-Ô2 | J13: 54 | L13: =J13-M13 -> 15 | M13: 39
A14: 3 | B14: 14TC-ĐL | C14: 43 | E14: =C14-F14 -> 10 | F14: 33 | H14: 8 | I14: 14TC-MT | J14: 33 | K14: 29 | L14: =J14-M14 -> 5 | M14: 28
A15: 4 | B15: 14TC-CKT | C15: 42 | E15: =C15-F15 -> 8 | F15: 34 | H15: 9 | I15: 14TC-QTM | J15: 23 | K15: 1 | L15: =J15-M15 -> 8 | M15: 15
A16: 5 | B16: 14TC-CKP | C16: 17 | E16: =C16-F16 -> 4 | F16: 13 | H16: TỔNG CỘNG | J16: =SUM(C12:C16,J12:J15) -> 343 | K16: =SUM(D12:D16,K12:K15) -> 30 | L16: =SUM(E12:E16,L12:L15) -> 79 | M16: =SUM(F12:F16,M12:M15) -> 264 | N16: =SUM(G12:G16,N12:N15) -> 1
A17: CAO ĐẲNG KHÓA 2013
A18: LỚP | C18: TS | D18: Nữ | E18: A | F18: B | G18: BL-TNH | H18: LỚP | J18: TS | K18: Nữ | L18: A | M18: B | N18: BL-TNH
A19: 1 | B19: 13CĐ-ĐT1 | C19: 62 | D19: 1 | E19: =C19-F19 -> 9 | F19: 53 | H19: 12 | I19: 13CĐ-CK5 | J19: 44 | L19: =J19-M19 -> 4 | M19: 40
A20: 2 | B20: 13CĐ-ĐT2 | C20: 60 | E20: =C20-F20 -> 9 | F20: 51 | G20: 3 | H20: 13 | I20: 13CĐ-Ô1 | J20: 44 | L20: =J20-M20 -> 11 | M20: 33
A21: 3 | B21: 13CĐ-Đ1 | C21: 50 | E21: =C21-F21 -> 5 | F21: 45 | H21: 14 | I21: 13CĐ-Ô2 | J21: 43 | L21: =J21-M21 -> 8 | M21: 35
A22: 4 | B22: 13CĐ-Đ2 | C22: 49 | E22: =C22-F22 -> 5 | F22: 44 | H22: 15 | I22: 13CĐ-Ô3 | J22: 44 | L22: =J22-M22 -> 10 | M22: 34
A23: 5 | B23: 13CĐ-Đ3 | C23: 48 | E23: =C23-F23 -> 7 | F23: 41 | G23: 3 | H23: 16 | I23: 13CĐ-Ô4 | J23: 51 | K23: 1 | L23: =J23-M23 -> 7 | M23: 44 | N23: 1
A24: 6 | B24: 13CĐ-NL1 | C24: 28 | D24: 1 | E24: =C24-F24 -> 4 | F24: 24 | G24: 1 | H24: 17 | I24: 13CĐ-M | J24: 57 | K24: 53 | L24: =J24-M24 -> 9 | M24: 48 | N24: 1
A25: 7 | B25: 13CĐ-NL2 | C25: 28 | E25: =C25-F25 -> 7 | F25: 21 | H25: 18 | I25: 13CĐ-TP1 | J25: 40 | K25: 6 | L25: =J25-M25 -> 14 | M25: 26
A26: 8 | B26: 13CĐ-CK1 | C26: 45 | E26: =C26-F26 -> 1 | F26: 44 | H26: 19 | I26: 13CĐ-TP2 | J26: 33 | K26: 2 | L26: =J26-M26 -> 4 | M26: 29 | N26: 1
A27: 9 | B27: 13CĐ-CK2 | C27: 46 | E27: =C27-F27 -> 7 | F27: 39 | H27: 20 | I27: 13CĐ-TM1 | J27: 38 | K27: 5 | L27: =J27-M27 -> 11 | M27: 27 | N27: 1
A28: 10 | B28: 13CĐ-CK3 | C28: 43 | E28: =C28-F28 -> 5 | F28: 38 | H28: 21 | I28: 13CĐ-TM2 | J28: 38 | K28: 3 | L28: =J28-M28 -> 10 | M28: 28
A29: 11 | B29: 13CĐ-CK4 | C29: 43 | E29: =C29-F29 -> 5 | F29: 38 | G29: 2 | H29: TỔNG CỘNG | J29: =SUM(C19:C29,J19:J28) -> 934 | K29: =SUM(D19:D29,K19:K28) -> 72 | L29: =SUM(E19:E29,L19:L28) -> 152 | M29: =SUM(F19:F29,M19:M28) -> 782 | N29: =SUM(G19:G29,N19:N28) -> 13
A30: CAO ĐẲNG KHÓA 2014
A31: LỚP | C31: TS | D31: Nữ | E31: A | F31: B | G31: BL-TNH | H31: LỚP | J31: TS | K31: Nữ | L31: A | M31: B | N31: BL-TNH
A32: 1 | B32: 14CĐ-ĐT1 | C32: 50 | E32: =C32-F32 -> 7 | F32: 43 | H32: 10 | I32: 14CĐ-Ô1 | J32: 53 | L32: =J32-M32 -> 19 | M32: 34
A33: 2 | B33: 14CĐ-ĐT2 | C33: 55 | E33: =C33-F33 -> 5 | F33: 50 | H33: 11 | I33: 14CĐ-Ô2 | J33: 55 | L33: =J33-M33 -> 5 | M33: 50 | N33: 2
A34: 3 | B34: 14CĐ-Đ1 | C34: 51 | E34: =C34-F34 -> 11 | F34: 40 | H34: 12 | I34: 14CĐ-Ô3 | J34: 54 | L34: =J34-M34 -> 9 | M34: 45
A35: 4 | B35: 14CĐ-Đ2 | C35: 48 | E35: =C35-F35 -> 3 | F35: 45 | H35: 13 | I35: 14CĐ-Ô4 | J35: 57 | L35: =J35-M35 -> 15 | M35: 42
A36: 5 | B36: 14CĐ-NL1 | C36: 39 | E36: =C36-F36 -> 10 | F36: 29 | H36: 14 | I36: 14CĐ-Ô5 | J36: 53 | L36: =J36-M36 -> 9 | M36: 44
A37: 6 | B37: 14CĐ-CK1 | C37: 46 | D37: 2 | E37: =C37-F37 -> 12 | F37: 34 | H37: 15 | I37: 14CĐ-M1 | J37: 38 | K37: 36 | L37: =J37-M37 -> 4 | M37: 34
A38: 7 | B38: 14CĐ-CK2 | C38: 46 | E38: =C38-F38 -> 6 | F38: 40 | H38: 16 | I38: 14CĐ-TP1 | J38: 38 | L38: =J38-M38 -> 13 | M38: 25
A39: 8 | B39: 14CĐ-CK3 | C39: 43 | E39: =C39-F39 -> 6 | F39: 37 | H39: 17 | I39: 14CĐ-TP2 | J39: 36 | K39: 3 | L39: =J39-M39 -> 15 | M39: 21
A40: 9 | B40: 14CĐ-CK4 | C40: 44 | E40: =C40-F40 -> 9 | F40: 35 | H40: 18 | I40: 14CĐ-TM1 | J40: 30 | K40: 1 | L40: =J40-M40 -> 14 | M40: 16
H41: TỔNG CỘNG | J41: =SUM(C32:C40,J32:J40) -> 836 | K41: =SUM(D32:D40,K32:K40) -> 42 | L41: =SUM(E32:E40,L32:L40) -> 172 | M41: =SUM(F32:F40,M32:M40) -> 664 | N41: =SUM(G32:G40,N32:N40) -> 2
A43: * Tổng HSSV toàn Trường: 48 Lớp | D43: =SUM(D44:D45) -> 2113 | F43: (Nữ: | G43: (Nữ: | H43: =SUM(H44:H45) -> 144 | I43: )
B44: - Hệ Cao đẳng: | D44: =SUM(J29,J41) -> 1770 | F44: (Nữ: | G44: (Nữ: | H44: =SUM(K29,K41) -> 114 | I44: )
B45: - Hệ TCCN: | D45: =SUM(J16) -> 343 | F45: (Nữ: | G45: (Nữ: | H45: =SUM(K16) -> 30 | I45: )
A46: * Tổng số HSSV theo địa giới:
B47: - Hộ khẩu TP.HCM (A): | D47: =D43-D48 -> 403
B48: - Hộ khẩu Tỉnh (B): | D48: =SUM(M16,M29,M41) -> 1710
A49: * Trong đó: Tổng số HSSV ở các Khoa
A50: Khoa | D50: Lớp | G50: TCCN | H50: Lớp | I50: Cao đẳng | J50: Tổng số | K50: Ghi chú
A51: Khoa CN Điện-Điện tử | C51: Điện | D51: 1 | G51: =C13 -> 65 | H51: 5 | I51: =SUM(C21:C23,C34:C35) -> 246 | J51: =SUM(G51,I51) -> 311
C52: Điện tử | D52: 1 | G52: =C12 -> 13 | H52: 4 | I52: =SUM(C19:C20,C32:C33) -> 227 | J52: =SUM(G52,I52) -> 240
A53: Khoa CN Nhiệt lạnh | D53: 1 | G53: =C14 -> 43 | H53: 3 | I53: =SUM(C24:C25,C36) -> 95 | J53: =SUM(G53,I53) -> 138
A54: Khoa CN Cơ khí | D54: 2 | G54: =SUM(C15:C16) -> 59 | H54: 9 | I54: =SUM(C26:C29,J19,C37:C40) -> 400 | J54: =SUM(G54,I54) -> 459
A55: Khoa CN Động lực | D55: 2 | G55: =SUM(J12:J13) -> 107 | H55: 9 | I55: =SUM(J20:J23,J32:J36) -> 454 | J55: =SUM(G55,I55) -> 561
A56: Khoa Công nghệ May - Thời trang | D56: 1 | G56: =J14 -> 33 | H56: 2 | I56: =SUM(J24,J37) -> 95 | J56: =SUM(G56,I56) -> 128
A57: Khoa Công nghệ Thông tin | C57: CNPM | D57: 0 | G57: =0 -> 0 | H57: 4 | I57: =SUM(J25:J26,J38:J39) -> 147 | J57: =SUM(G57,I57) -> 147
C58: MMT | D58: 1 | G58: =J15 -> 23 | H58: 3 | I58: =SUM(J27:J28,J40) -> 106 | J58: =SUM(G58,I58) -> 129
A59: Tổng toàn trường | D59: =SUM(D51:D58) -> 9 | G59: =SUM(G51:G58) -> 343 | H59: =SUM(H51:H58) -> 39 | I59: =SUM(I51:I58) -> 1770 | J59: =SUM(G59,I59) -> 2113 | K59: =SUM(D59,H59) -> 48
H61: Thành phố Hồ Chí Minh, ngày 24 tháng 8 năm 2015
H62: TRƯỞNG PHÒNG TTGD - CTSV
H67: Nguyễn Thanh Lâm

Sheet nháp10.9.15
A1: TRƯỜNG CAO ĐẲNG KỸ THUẬT | H1: CỘNG HÒA XÃ HỘI CHỦ NGHĨA VIỆT NAM
A2: LÝ TỰ TRỌNG TP. HỒ CHÍ MINH | H2: Độc lập - Tự do - Hạnh phúc
A3: PHÒNG THANH TRA GIÁO DỤC
A4: - CÔNG TÁC SINH VIÊN
A6: SĨ SỐ HỌC SINH, SINH VIÊN THÁNG 9 / 2015
A7: Tính đến ngày 21/ 9/ 2015
A9: KHÓA 2014 TCCN
A10: LỚP | C10: TS | D10: Nữ | E10: A | F10: B | G10: BL-TNH | H10: LỚP | J10: TS | K10: Nữ | L10: A | M10: B | N10: BL-TNH
A11: 1 | B11: 14TC-ĐT | C11: 13 | E11: =C11-F11 -> 3 | F11: 10 | H11: 6 | I11: 14TC-Ô2 | J11: 54 | L11: =J11-M11 -> 15 | M11: 39
A12: 2 | B12: 14TC-Đ1 | C12: 65 | E12: =C12-F12 -> 14 | F12: 51 | H12: 7 | I12: 14TC-MT | J12: 33 | K12: 29 | L12: =J12-M12 -> 5 | M12: 28
A13: 3 | B13: 14TC-ĐL | C13: 43 | E13: =C13-F13 -> 10 | F13: 33 | H13: 8 | I13: 14TC-QTM | J13: 25 | K13: 1 | L13: =J13-M13 -> 9 | M13: 16 | N13: 2
A14: 4 | B14: 14TC-CKT_P | C14: 60 | E14: =C14-F14 -> 13 | F14: 47 | G14: 1
A15: 5 | B15: 14TC-Ô1 | C15: 54 | E15: =C15-F15 -> 12 | F15: 42 | G15: 1 | H15: TỔNG CỘNG | J15: =SUM(C11:C15,J11:J13) -> 347 | K15: =SUM(D11:D15,K11:K13) -> 30 | L15: =SUM(E11:E15,L11:L13) -> 81 | M15: =SUM(F11:F15,M11:M13) -> 266 | N15: =SUM(G11:G15,N11:N13) -> 4
A16: KHÓA 2015 TCCN
A17: LỚP | C17: TS | D17: Nữ | E17: A | F17: B | G17: BL-TNH | H17: LỚP | J17: TS | K17: Nữ | L17: A | M17: B | N17: BL-TNH
A18: 1 | B18: 15TC-ĐT | C18: 13 | E18: =C18-F18 -> 13 | H18: 6 | I18: 15TC-Ô | J18: 48 | L18: =J18-M18 -> 48
A19: 2 | B19: 15TC-Đ | C19: 25 | E19: =C19-F19 -> 25 | H19: 7 | I19: 15TC-MTT | J19: 9 | K19: 9 | L19: =J19-M19 -> 9
A20: 3 | B20: 15TC-NL | C20: 20 | D20: 1 | E20: =C20-F20 -> 20 | H20: 8 | I20: 15TC-LT | J20: 15 | K20: 1 | L20: =J20-M20 -> 15
A21: 4 | B21: 15TC-CKT | C21: 0 | E21: =C21-F21 -> 0 | H21: 9 | I21: 15TC-QTM | J21: 19 | K21: 1 | L21: =J21-M21 -> 19
A22: 5 | B22: 15TC-CKP | C22: 12 | E22: =C22-F22 -> 12 | H22: TỔNG CỘNG | J22: =SUM(C18:C22,J18:J21) -> 161 | K22: =SUM(D18:D22,K18:K21) -> 12 | L22: =SUM(E18:E22,L18:L21) -> 161 | M22: =SUM(F18:F22,M18:M21) -> 0 | N22: =SUM(G18:G22,N18:N21) -> 0
A23: KHÓA 2015 TCCN (2 năm 3 tháng)
A24: LỚP | C24: TS | D24: Nữ | E24: A | F24: B | G24: BL-TNH | H24: LỚP | J24: TS | K24: Nữ | L24: A | M24: B | N24: BL-TNH
A25: 1 | B25: 15TCT-ĐT | C25: 8 | E25: =C25-F25 -> 8 | H25: 6 | I25: 15TCT-Ô | J25: 51 | L25: =J25-M25 -> 51
A26: 2 | B26: 15TCT-Đ | C26: 31 | E26: =C26-F26 -> 31 | H26: 7 | I26: 15TCT-MTT | J26: 1 | K26: 1 | L26: =J26-M26 -> 1
A27: 3 | B27: 15TCT-ĐL | C27: 16 | E27: =C27-F27 -> 16 | H27: 8 | I27: 15TCT-LT | J27: 2 | L27: =J27-M27 -> 2
A28: 4 | B28: 15TCT-CKT | C28: 0 | E28: =C28-F28 -> 0 | H28: 9 | I28: 15TCT-QTM | J28: 14 | L28: =J28-M28 -> 14
A29: 5 | B29: 15TCT-CKP | C29: 22 | E29: =C29-F29 -> 22 | H29: TỔNG CỘNG | J29: =SUM(C25:C29,J25:J28) -> 145 | K29: =SUM(D25:D29,K25:K28) -> 1 | L29: =SUM(E25:E29,L25:L28) -> 145 | M29: =SUM(F25:F29,M25:M28) -> 0 | N29: =SUM(G25:G29,N25:N28) -> 0
A30: KHÓA 2015 TCCN (12+2)
A31: LỚP | C31: TS | D31: Nữ | E31: A | F31: B | G31: BL-TNH | H31: LỚP | J31: TS | K31: Nữ | L31: A | M31: B | N31: BL-TNH
A32: 1 | B32: 15TN-ĐT | C32: 1 | E32: =C32-F32 -> 1 | H32: 6 | I32: 15TN-Ô | J32: 12 | L32: =J32-M32 -> 12
A33: 2 | B33: 15TN-Đ | C33: 14 | E33: =C33-F33 -> 14 | H33: 7 | I33: 15TN-MTT | J33: 4 | K33: 3 | L33: =J33-M33 -> 4
A34: 3 | B34: 15TN-NL | C34: 7 | E34: =C34-F34 -> 7 | H34: 8 | I34: 15TN-LT | J34: 0 | L34: =J34-M34 -> 0
A35: 4 | B35: 15TN-CKT | C35: 0 | E35: =C35-F35 -> 0 | H35: 9 | I35: 15TN-QTM | J35: 5 | K35: 1 | L35: =J35-M35 -> 5
A36: 5 | B36: 15TN-CKP | C36: 11 | E36: =C36-F36 -> 11 | H36: TỔNG CỘNG | J36: =SUM(C32:C36,J32:J35) -> 54 | K36: =SUM(D32:D36,K32:K35) -> 4 | L36: =SUM(E32:E36,L32:L35) -> 54 | M36: =SUM(F32:F36,M32:M35) -> 0 | N36: =SUM(G32:G36,N32:N35) -> 0
A37: KHÓA 2013 CAO ĐẲNG
A38: LỚP | C38: TS | D38: Nữ | E38: A | F38: B | G38: BL-TNH | H38: LỚP | J38: TS | K38: Nữ | L38: A | M38: B | N38: BL-TNH
A39: 1 | B39: 13CĐ-ĐT1 | C39: 63 | D39: 1 | E39: =C39-F39 -> 9 | F39: 54 | G39: 1 | H39: 11 | I39: 13CĐ-Ô1 | J39: 61 | L39: =J39-M39 -> 12 | M39: 49
A40: 2 | B40: 13CĐ-ĐT2 | C40: 62 | E40: =C40-F40 -> 9 | F40: 53 | G40: 2 | H40: 12 | I40: 13CĐ-Ô2 | J40: 60 | L40: =J40-M40 -> 15 | M40: 45
A41: 3 | B41: 13CĐ-Đ1 | C41: 50 | E41: =C41-F41 -> 5 | F41: 45 | H41: 13 | I41: 13CĐ-Ô3 | J41: 61 | K41: 1 | L41: =J41-M41 -> 9 | M41: 52
A42: 4 | B42: 13CĐ-Đ2 | C42: 50 | E42: =C42-F42 -> 5 | F42: 45 | G42: 1 | H42: 14 | I42: 13CĐ-M | J42: 57 | K42: 53 | L42: =J42-M42 -> 9 | M42: 48
A43: 5 | B43: 13CĐ-Đ3 | C43: 49 | E43: =C43-F43 -> 7 | F43: 42 | G43: 1 | H43: 15 | I43: 13CĐ-TP1 | J43: 40 | K43: 6 | L43: =J43-M43 -> 14 | M43: 26
A44: 6 | B44: 13CĐ-NL1 | C44: 56 | D44: 1 | E44: =C44-F44 -> 11 | F44: 45 | H44: 16 | I44: 13CĐ-TP2 | J44: 33 | K44: 2 | L44: =J44-M44 -> 4 | M44: 29
A45: 7 | B45: 13CĐ-CK1 | C45: 57 | E45: =C45-F45 -> 3 | F45: 54 | G45: 1 | H45: 17 | I45: 13CĐ-TM1 | J45: 40 | K45: 5 | L45: =J45-M45 -> 13 | M45: 27 | N45: 3
A46: 8 | B46: 13CĐ-CK2 | C46: 57 | E46: =C46-F46 -> 8 | F46: 49 | G46: 2 | H46: 18 | I46: 13CĐ-TM2 | J46: 38 | K46: 3 | L46: =J46-M46 -> 10 | M46: 28
A47: 9 | B47: 13CĐ-CK3 | C47: 58 | E47: =C47-F47 -> 7 | F47: 51 | G47: 3
A48: 10 | B48: 13CĐ-CK4 | C48: 56 | E48: =C48-F48 -> 8 | F48: 48 | G48: 1 | H48: TỔNG CỘNG | J48: =SUM(C39:C48,J39:J47) -> 948 | K48: =SUM(D39:D48,K39:K47) -> 72 | L48: =SUM(E39:E48,L39:L47) -> 158 | M48: =SUM(F39:F48,M39:M47) -> 790 | N48: =SUM(G39:G48,N39:N47) -> 15
A49: KHÓA 2014 CAO ĐẲNG
A50: LỚP | C50: TS | D50: Nữ | E50: A | F50: B | G50: BL-TNH | H50: LỚP | J50: TS | K50: Nữ | L50: A | M50: B | N50: BL-TNH
A51: 1 | B51: 14CĐ-ĐT1 | C51: 51 | E51: =C51-F51 -> 7 | F51: 44 | G51: 1 | H51: 10 | I51: 14CĐ-Ô2 | J51: 56 | L51: =J51-M51 -> 5 | M51: 51 | N51: 1
A52: 2 | B52: 14CĐ-ĐT2 | C52: 55 | E52: =C52-F52 -> 5 | F52: 50 | H52: 11 | I52: 14CĐ-Ô3 | J52: 56 | L52: =J52-M52 -> 10 | M52: 46 | N52: 2
A53: 3 | B53: 14CĐ-Đ1 | C53: 51 | E53: =C53-F53 -> 11 | F53: 40 | H53: 12 | I53: 14CĐ-Ô4 | J53: 57 | L53: =J53-M53 -> 15 | M53: 42
A54: 4 | B54: 14CĐ-Đ2 | C54: 49 | E54: =C54-F54 -> 3 | F54: 46 | G54: 1 | H54: 13 | I54: 14CĐ-Ô5 | J54: 58 | L54: =J54-M54 -> 10 | M54: 48 | N54: 5
A55: 5 | B55: 14CĐ-NL1 | C55: 39 | E55: =C55-F55 -> 10 | F55: 29 | H55: 14 | I55: 14CĐ-M1 | J55: 39 | K55: 37 | L55: =J55-M55 -> 4 | M55: 35 | N55: 1
A56: 6 | B56: 14CĐ-CK1 | C56: 65 | D56: 2 | E56: =C56-F56 -> 15 | F56: 50 | G56: 6 | H56: 15 | I56: 14CĐ-TP1 | J56: 39 | L56: =J56-M56 -> 13 | M56: 26 | N56: 1
A57: 7 | B57: 14CĐ-CK2 | C57: 63 | E57: =C57-F57 -> 9 | F57: 54 | G57: 3 | H57: 16 | I57: 14CĐ-TP2 | J57: 39 | K57: 3 | L57: =J57-M57 -> 16 | M57: 23 | N57: 3
A58: 8 | B58: 14CĐ-CK3 | C58: 64 | E58: =C58-F58 -> 11 | F58: 53 | G58: 4 | H58: 17 | I58: 14CĐ-TM1 | J58: 30 | K58: 1 | L58: =J58-M58 -> 14 | M58: 16
A59: 9 | B59: 14CĐ-Ô1 | C59: 56 | E59: =C59-F59 -> 20 | F59: 36 | G59: 4 | H59: TỔNG CỘNG | J59: =SUM(C51:C59,J51:J58) -> 867 | K59: =SUM(D51:D59,K51:K58) -> 43 | L59: =SUM(E51:E59,L51:L58) -> 178 | M59: =SUM(F51:F59,M51:M58) -> 689 | N59: =SUM(G51:G59,N51:N58) -> 32
A60: KHÓA 2015 CAO ĐẲNG (Tín chỉ)
A61: LỚP | C61: TS | D61: Nữ | E61: A | F61: B | G61: BL-TNH | H61: LỚP | J61: TS | K61: Nữ | L61: A | M61: B | N61: BL-TNH
A62: 1 | B62: 15CĐ-ĐĐT1 | C62: 58 | D62: 1 | E62: =C62-F62 -> 58 | H62: 23 | I62: 15CĐ-Ô1 | J62: 58
A63: 2 | B63: 15CĐ-ĐĐT2 | C63: 58 | E63: =C63-F63 -> 58 | H63: 24 | I63: 15CĐ-Ô2 | J63: 57 | L63: =J63-M64 -> 57
A64: 3 | B64: 15CĐ-ĐĐT3 | C64: 58 | E64: =C64-F64 -> 58 | H64: 25 | I64: 15CĐ-Ô3 | J64: 58 | K64: 1 | L64: =J64-M65 -> 58
A65: 4 | B65: 15CĐ-ĐĐT4 | C65: 58 | E65: =C65-F65 -> 58 | H65: 26 | I65: 15CĐ-Ô4 | J65: 58 | L65: =J65-M66 -> 58
A66: 5 | B66: 15CĐ-ĐĐT5 | C66: 58 | E66: =C66-F66 -> 58 | H66: 27 | I66: 15CĐ-Ô5 | J66: 58 | L66: =J66-M67 -> 58
A67: 6 | B67: 15CĐ-ĐĐT6 | C67: 58 | D67: 1 | E67: =C67-F67 -> 58 | H67: 28 | I67: 15CĐ-Ô6 | J67: 58 | L67: =J67-M68 -> 58
A68: 7 | B68: 15CĐ-ĐĐT7 | C68: 58 | E68: =C68-F68 -> 58 | H68: 29 | I68: 15CĐ-Ô7 | J68: 58 | L68: =J68-M69 -> 58
A69: 8 | B69: 15CĐ-ĐĐT8 | C69: 58 | E69: =C69-F69 -> 58 | H69: 30 | I69: 15CĐ-Ô8 | J69: 58 | K69: 1 | L69: =J69-M71 -> 58
A70: 9 | B70: 15CĐ-ĐĐT9 | C70: 19 | E70: =C70-F70 -> 19 | H70: 31 | I70: 15CĐ-Ô9 | J70: 12 | L70: =J70-M72 -> 12
A71: 10 | B71: 15CĐ-ĐL1 | C71: 58 | E71: =C71-F71 -> 58 | H71: 32 | I71: 15CĐ-MTT1 | J71: 58 | K71: 45 | L71: =J71-M72 -> 58
A72: 11 | B72: 15CĐ-ĐL2 | C72: 58 | E72: =C72-F72 -> 58 | H72: 33 | I72: 15CĐ-MTT2 | J72: 58 | K72: 46 | L72: =J72-M73 -> 58
A73: 12 | B73: 15CĐ-ĐL3 | C73: 48 | E73: =C73-F73 -> 48 | H73: 34 | I73: 15CĐ-MTT3 | J73: 50 | K73: 47 | L73: =J73-M74 -> 50
A74: 13 | B74: 15CĐ-ĐL4 | C74: 0 | E74: =C74-F74 -> 0 | H74: 35 | I74: 15CĐ-CNTT1 | J74: 58 | K74: 1 | L74: =J74-M75 -> 58
A75: 14 | B75: 15CĐ-CK1 | C75: 58 | E75: =C75-F75 -> 58 | H75: 36 | I75: 15CĐ-CNTT2 | J75: 58 | K75: 1 | L75: =J75-M76 -> 58
A76: 15 | B76: 15CĐ-CK2 | C76: 58 | E76: =C76-F76 -> 58 | H76: 37 | I76: 15CĐ-CNTT3 | J76: 58 | K76: 4 | L76: =J76-M77 -> 58
A77: 16 | B77: 15CĐ-CK3 | C77: 57 | E77: =C77-F77 -> 57 | H77: 38 | I77: 15CĐ-CNTT4 | J77: 58 | K77: 4 | L77: =J77-M78 -> 58
A78: 17 | B78: 15CĐ-CK4 | C78: 58 | E78: =C78-F78 -> 58 | H78: 39 | I78: 15CĐ-CNTT5 | J78: 58 | K78: 3 | L78: =J78-M79 -> 58
A79: 18 | B79: 15CĐ-CK5 | C79: 57 | E79: =C79-F79 -> 57 | H79: 40 | I79: 15CĐ-CNTT6 | J79: 58 | K79: 5 | L79: =J79-M80 -> 58
A80: 19 | B80: 15CĐ-CK6 | C80: 58 | E80: =C80-F80 -> 58 | H80: 41 | I80: 15CĐ-CNTT7 | J80: 13 | K80: 1 | L80: =J80-M81 -> 13
A81: 20 | B81: 15CĐ-CK7 | C81: 58 | E81: =C81-F81 -> 58 | H81: 42 | I81: 15CĐ-TA | J81: 0 | L81: =J81-M82 -> 0
A82: 21 | B82: 15CĐ-CK8 | C82: 58 | E82: =C82-F82 -> 58 | L82: =J82-M82 -> 0
A83: 22 | B83: 15CĐ-CK9 | C83: 44 | D83: 1 | E83: =C83-F83 -> 44 | H83: TỔNG CỘNG | J83: =SUM(C62:C83,J62:J82) -> 2155 | K83: =SUM(D62:D83,K62:K82) -> 162 | L83: =SUM(E62:E83,L62:L82) -> 2097 | M83: =SUM(F62:F83,M62:M82) -> 0 | N83: =SUM(G62:G83,N62:N82) -> 0
A84: KHÓA 2015 CAO ĐẲNG NGHỀ (Niên chế)_03 năm
A85: LỚP | C85: TS | D85: Nữ | E85: A | F85: B | G85: BL-TNH | H85: LỚP | J85: TS | K85: Nữ | L85: A | M85: B | N85: BL-TNH
A86: 1 | B86: 15CĐN-ĐT1 | C86: 8 | E86: =C86-F86 -> 8 | H86: 12 | I86: 15CĐN-Ô | J86: 49 | K86: 1 | L86: =J86-M86 -> 49
A87: 2 | B87: 15CĐN-ĐT2 | C87: 0 | E87: =C87-F87 -> 0 | H87: 13 | I87: 15CĐN-MTT1 | J87: 6 | K87: 3 | L87: =J87-M87 -> 6
A88: 3 | B88: 15CĐN-Đ1 | C88: 9 | E88: =C88-F88 -> 9 | H88: 14 | I88: 15CĐN-MTT2 | J88: 0 | L88: =J88-M88 -> 0
A89: 4 | B89: 15CĐN-Đ2 | C89: 0 | E89: =C89-F89 -> 0 | H89: 15 | I89: 15CĐN-MV | J89: 0 | L89: =J89-M89 -> 0
A90: 5 | B90: 15CĐN-MNV1 | C90: 1 | E90: =C90-F90 -> 1 | H90: 16 | I90: 15CĐN-QTM1 | J90: 13 | K90: 1 | L90: =J90-M90 -> 13
A91: 6 | B91: 15CĐN-MNV2 | C91: 0 | E91: =C91-F91 -> 0 | H91: 17 | I91: 15CĐN-QTM2 | J91: 0 | L91: =J91-M91 -> 0
A92: 7 | B92: 15CĐN-LĐL1 | C92: 15 | E92: =C92-F92 -> 15 | H92: 18 | I92: 15CĐN-TCD | J92: 0 | K92: 1 | L92: =J92-M92 -> 0
A93: 8 | B93: 15CĐN-LĐL2 | C93: 0 | E93: =C93-F93 -> 0 | H93: 19 | I93: 15CĐN-KTD | J93: 7 | K93: 5 | L93: =J93-M93 -> 7
A94: 9 | B94: 15CĐN-CĐT1 | C94: 7 | E94: =C94-F94 -> 7 | H94: 20 | I94: 15CĐN-QTD | J94: 8 | K94: 5 | L94: =J94-M94 -> 8
A95: 10 | B95: 15CĐN-CĐT2 | C95: 0 | E95: =C95-F95 -> 0 | H95: 21 | I95: 15CĐN-SH | J95: 2 | K95: 2 | L95: =J95-M95 -> 2
A96: 11 | B96: 15CĐN-CKL | C96: 12 | E96: =C96-F96 -> 12 | H96: TỔNG CỘNG | J96: =SUM(C86:C96,J86:J95) -> 137 | K96: =SUM(D86:D96,K86:K95) -> 18 | L96: =SUM(E86:E96,L86:L95) -> 137 | M96: =SUM(F86:F96,M86:M95) -> 0 | N96: =SUM(G86:G96,N86:N95) -> 0
A97: KHÓA 2015 CAO ĐẲNG NGHỀ (Niên chế)_04 năm
A98: LỚP | C98: TS | D98: Nữ | E98: A | F98: B | G98: BL-TNH | H98: LỚP | J98: TS | K98: Nữ | L98: A | M98: B | N98: BL-TNH
A99: 1 | B99: 15TCN-ĐT | C99: 42 | E99: =C99-F99 -> 42 | H99: 10 | I99: 15TCN-MTT | J99: 18 | K99: 12 | L99: =J99-M99 -> 18
A100: 2 | B100: 15TCN-Đ | C100: 48 | E100: =C100-F100 -> 48 | H100: 11 | I100: 15TCN-QTM1 | J100: 56 | K100: 6 | L100: =J100-M100 -> 56
A101: 3 | B101: 15TCN-MNV | C101: 2 | E101: =C101-F101 -> 2 | H101: 12 | I101: 15TCN-QTM2 | J101: 58 | K101: 5 | L101: =J101-M101 -> 58
A102: 4 | B102: 15TCN-LĐL | C102: 48 | E102: =C102-F102 -> 48 | H102: 13 | I102: 15TCN-QTM3 | J102: 10 | K102: 1 | L102: =J102-M102 -> 10
...

Sheet T.9_HK1
A2: TRƯỜNG CAO ĐẲNG KỸ THUẬT | H2: CỘNG HÒA XÃ HỘI CHỦ NGHĨA VIỆT NAM
A3: LÝ TỰ TRỌNG TP. HỒ CHÍ MINH | H3: Độc lập - Tự do - Hạnh phúc
A4: PHÒNG THANH TRA GIÁO DỤC
A5: - CÔNG TÁC SINH VIÊN
A7: SĨ SỐ HỌC SINH, SINH VIÊN THÁNG 9 / 2015
A8: Tính đến ngày 10/ 9/ 2015
A10: KHÓA 2014 TCCN
A11: LỚP | C11: TS | D11: Nữ | E11: A | F11: B | G11: BL-TNH | H11: LỚP | J11: TS | K11: Nữ | L11: A | M11: B | N11: BL-TNH | O11: 14 TCCN
A12: 1 | B12: 14TC-ĐT | C12: 13 | E12: =C12-F12 -> 3 | F12: 10 | H12: 6 | I12: 14TC-Ô2 | J12: 54 | L12: =J12-M12 -> 15 | M12: 39 | O12: Điện tử = | P12: =C12 -> 13 | Q12: ÔTô= | R12: =SUM(C16,J12) -> 107
A13: 2 | B13: 14TC-Đ1 | C13: 65 | E13: =C13-F13 -> 14 | F13: 51 | H13: 7 | I13: 14TC-MT | J13: 33 | K13: 29 | L13: =J13-M13 -> 5 | M13: 28 | O13: Điện = | P13: =C13 -> 65 | Q13: May = | R13: =J13 -> 33
A14: 3 | B14: 14TC-ĐL | C14: 43 | E14: =C14-F14 -> 10 | F14: 33 | H14: 8 | I14: 14TC-QTM | J14: 24 | K14: 1 | L14: =J14-M14 -> 9 | M14: 15 | N14: 1 | O14: Điện lạnh = | P14: =C14 -> 43 | Q14: QTM= | R14: =J14 -> 24
A15: 4 | B15: 14TC-CKT_P | C15: 60 | E15: =C15-F15 -> 13 | F15: 47 | G15: 1 | O15: Cơ khí T_P = | P15: =C15 -> 60
A16: 5 | B16: 14TC-Ô1 | C16: 53 | E16: =C16-F16 -> 12 | F16: 41 | H16: TỔNG CỘNG | J16: =SUM(C12:C16,J12:J14) -> 345 | K16: =SUM(D12:D16,K12:K14) -> 30 | L16: =SUM(E12:E16,L12:L14) -> 81 | M16: =SUM(F12:F16,M12:M14) -> 264 | N16: =SUM(G12:G16,N12:N14) -> 2 | Q16: Cộng= | R16: =SUM(P12:P15,R12:R14) -> 345
A17: KHÓA 2013 CAO ĐẲNG
A18: LỚP | C18: TS | D18: Nữ | E18: A | F18: B | G18: BL-TNH | H18: LỚP | J18: TS | K18: Nữ | L18: A | M18: B | N18: BL-TNH | O18: 13CĐ
A19: 1 | B19: 13CĐ-ĐT1 | C19: 62 | D19: 1 | E19: =C19-F19 -> 9 | F19: 53 | H19: 11 | I19: 13CĐ-Ô1 | J19: 61 | L19: =J19-M19 -> 12 | M19: 49 | O19: Điện tử = | P19: =SUM(C19:C20) -> 122
A20: 2 | B20: 13CĐ-ĐT2 | C20: 60 | E20: =C20-F20 -> 9 | F20: 51 | H20: 12 | I20: 13CĐ-Ô2 | J20: 60 | L20: =J20-M20 -> 15 | M20: 45 | O20: Điện = | P20: =SUM(C21:C23) -> 148
A21: 3 | B21: 13CĐ-Đ1 | C21: 50 | E21: =C21-F21 -> 5 | F21: 45 | H21: 13 | I21: 13CĐ-Ô3 | J21: 61 | K21: 1 | L21: =J21-M21 -> 9 | M21: 52 | O21: Điện lạnh = | P21: =C24 -> 56
A22: 4 | B22: 13CĐ-Đ2 | C22: 49 | E22: =C22-F22 -> 5 | F22: 44 | H22: 14 | I22: 13CĐ-M | J22: 57 | K22: 53 | L22: =J22-M22 -> 9 | M22: 48 | O22: Cơ khí = | P22: =SUM(C25:C28) -> 223
A23: 5 | B23: 13CĐ-Đ3 | C23: 49 | E23: =C23-F23 -> 7 | F23: 42 | G23: 1 | H23: 15 | I23: 13CĐ-TP1 | J23: 40 | K23: 6 | L23: =J23-M23 -> 14 | M23: 26 | O23: Ô tô = | P23: =SUM(J19:J21) -> 182
A24: 6 | B24: 13CĐ-NL1 | C24: 56 | D24: 1 | E24: =C24-F24 -> 11 | F24: 45 | H24: 16 | I24: 13CĐ-TP2 | J24: 33 | K24: 2 | L24: =J24-M24 -> 4 | M24: 29 | O24: May = | P24: =J22 -> 57
A25: 7 | B25: 13CĐ-CK1 | C25: 56 | E25: =C25-F25 -> 2 | F25: 54 | H25: 17 | I25: 13CĐ-TM1 | J25: 39 | K25: 5 | L25: =J25-M25 -> 12 | M25: 27 | N25: 1 | O25: PM = | P25: =SUM(J23:J24) -> 73
A26: 8 | B26: 13CĐ-CK2 | C26: 57 | E26: =C26-F26 -> 8 | F26: 49 | G26: 2 | H26: 18 | I26: 13CĐ-TM2 | J26: 38 | K26: 3 | L26: =J26-M26 -> 10 | M26: 28 | O26: MMT= | P26: =SUM(J25:J26) -> 77
A27: 9 | B27: 13CĐ-CK3 | C27: 55 | E27: =C27-F27 -> 6 | F27: 49 | L27: =J27-M27 -> 0
A28: 10 | B28: 13CĐ-CK4 | C28: 55 | E28: =C28-F28 -> 7 | F28: 48 | H28: TỔNG CỘNG | J28: =SUM(C19:C28,J19:J27) -> 938 | K28: =SUM(D19:D28,K19:K27) -> 72 | L28: =SUM(E19:E28,L19:L27) -> 154 | M28: =SUM(F19:F28,M19:M27) -> 784 | N28: =SUM(G19:G28,N19:N27) -> 4 | O28: Cộng= | P28: =SUM(P19:P26) -> 938
A29: KHÓA 2014 CAO ĐẲNG
A30: LỚP | C30: TS | D30: Nữ | E30: A | F30: B | G30: BL-TNH | H30: LỚP | J30: TS | K30: Nữ | L30: A | M30: B | N30: BL-TNH | O30: 14CĐ
A31: 1 | B31: 14CĐ-ĐT1 | C31: 50 | E31: =C31-F31 -> 7 | F31: 43 | H31: 10 | I31: 14CĐ-Ô2 | J31: 56 | L31: =J31-M31 -> 5 | M31: 51 | N31: 1 | O31: Điện tử = | P31: =SUM(C31:C32) -> 105
A32: 2 | B32: 14CĐ-ĐT2 | C32: 55 | E32: =C32-F32 -> 5 | F32: 50 | H32: 11 | I32: 14CĐ-Ô3 | J32: 56 | L32: =J32-M32 -> 10 | M32: 46 | N32: 2 | O32: Điện = | P32: =SUM(C33:C34) -> 99
A33: 3 | B33: 14CĐ-Đ1 | C33: 51 | E33: =C33-F33 -> 11 | F33: 40 | H33: 12 | I33: 14CĐ-Ô4 | J33: 57 | L33: =J33-M33 -> 15 | M33: 42 | O33: Điện lạnh = | P33: =C35 -> 39
A34: 4 | B34: 14CĐ-Đ2 | C34: 48 | E34: =C34-F34 -> 3 | F34: 45 | H34: 13 | I34: 14CĐ-Ô5 | J34: 56 | L34: =J34-M34 -> 9 | M34: 47 | N34: 3 | O34: Cơ khí = | P34: =SUM(C36:C38) -> 192
A35: 5 | B35: 14CĐ-NL1 | C35: 39 | E35: =C35-F35 -> 10 | F35: 29 | H35: 14 | I35: 14CĐ-M1 | J35: 39 | K35: 37 | L35: =J35-M35 -> 4 | M35: 35 | N35: 1 | O35: Ô tô = | P35: =SUM(C39,J31:J34) -> 280
A36: 6 | B36: 14CĐ-CK1 | C36: 65 | D36: 2 | E36: =C36-F36 -> 15 | F36: 50 | G36: 6 | H36: 15 | I36: 14CĐ-TP1 | J36: 39 | L36: =J36-M36 -> 13 | M36: 26 | N36: 1 | O36: May = | P36: =J35 -> 39
A37: 7 | B37: 14CĐ-CK2 | C37: 63 | E37: =C37-F37 -> 9 | F37: 54 | G37: 3 | H37: 16 | I37: 14CĐ-TP2 | J37: 39 | K37: 3 | L37: =J37-M37 -> 16 | M37: 23 | N37: 3 | O37: PM = | P37: =SUM(J36:J37) -> 78
A38: 8 | B38: 14CĐ-CK3 | C38: 64 | E38: =C38-F38 -> 11 | F38: 53 | G38: 4 | H38: 17 | I38: 14CĐ-TM1 | J38: 30 | K38: 1 | L38: =J38-M38 -> 14 | M38: 16 | O38: Mạng= | P38: =J38 -> 30
A39: 9 | B39: 14CĐ-Ô1 | C39: 55 | E39: =C39-F39 -> 20 | F39: 35 | G39: 2 | H39: TỔNG CỘNG | J39: =SUM(C31:C39,J31:J38) -> 862 | K39: =SUM(D31:D39,K31:K38) -> 43 | L39: =SUM(E31:E39,L31:L38) -> 177 | M39: =SUM(F31:F39,M31:M38) -> 685 | N39: =SUM(G31:G39,N31:N38) -> 26 | O39: Cộng= | P39: =SUM(P31:P38) -> 862
A42: * Tổng HS-SV toàn Trường: 43 Lớp | D42: =SUM(D43:D44) -> 2145 | F42: (Nữ: | G42: (Nữ: | H42: =SUM(H43:H44) -> 145 | I42: ) | O42: Lớp củ = | P42: =SUM(H14,H26,H38) -> 43
B43: - Hệ Cao đẳng: | D43: =SUM(J28,J39) -> 1800 | F43: (Nữ: | G43: (Nữ: | H43: =SUM(K28,K39) -> 115 | I43: ) | O43: L.MT =
B44: - Hệ TCCN: | D44: =J16 -> 345 | F44: (Nữ: | G44: (Nữ: | H44: =K16 -> 30 | I44: ) | O44: TS.Lớp= | P44: =SUM(P42:P43) -> 43
A45: * Trong đó: Tuyển mới NH.15-16 có : | D45: =SUM(D46:D47) -> 0 | G45: / Lớp | O45: TS.T9=
B46: - Hệ Cao đẳng : | G46: / Lớp | O46: TS.TN=
B47: - Hệ TCCN : | G47: / Lớp
A48: * Tổng số HS-SV theo địa giới:
B49: - Hộ khẩu TP.HCM (A): | D49: =D42-D50 -> 412
B50: - Hộ khẩu Tỉnh (B): | D50: =SUM(M16,M28,M39) -> 1733
A51: * Khóa 2015 TCCN Ngày / /2015 &Khóa 2015 Cao đẳng / /2015 mới học theo TKB
A52: * Bảo lưu, Đình chỉ học tập & Tạm ngừng học được học tiếp | G52: =SUM(N16,N28,N39) -> 32
A53: * Tỷ lệ hao hụt | D53: 15-16 | E53: ĐNăm | F53: BL-TNH | G53: Giảm/NH | H53: Giảm/T | I53: Tỷ lệ % /năm học | J53: Tỷ lệ % /tháng
B54: - Khóa: 2014 TCCN | D54: =SUM(E54:F54) -> 345 | E54: 343 | F54: 2
B55: - Khóa: 2013 Cao đẳng | D55: =SUM(E55:F55) -> 938 | E55: 934 | F55: 4
B56: - Khóa: 2014 Cao đẳng | D56: =SUM(E56:F56) -> 862 | E56: 836 | F56: 26
B57: Tổng toàn trường = | D57: =SUM(D54:D56) -> 2145 | E57: =SUM(E54:E56) -> 2113 | F57: =SUM(F54:F56) -> 32 | G57: =SUM(G54:G56) -> 0 | H57: =SUM(H54:H56) -> 0
A58: * Trong đó: Tổng số HS-SV ở các Khoa
A59: Khoa | D59: Lớp | G59: TCCN | H59: Lớp | I59: Cao đẳng | J59: Tổng số | K59: Ghi chú
A60: Khoa CN Điện-Điện tử | C60: Điện | D60: 1 | G60: =C13 -> 65 | H60: 5 | I60: =SUM(C21:C23,C33:C34) -> 247 | J60: =SUM(G60,I60) -> 312
C61: Điện tử | D61: 1 | G61: =C12 -> 13 | H61: 4 | I61: =SUM(C19:C20,C31:C32) -> 227 | J61: =SUM(G61,I61) -> 240
A62: Khoa CN Nhiệt lạnh | D62: 1 | G62: =C14 -> 43 | H62: 2 | I62: =SUM(C24,C35) -> 95 | J62: =SUM(G62,I62) -> 138
A63: Khoa CN Cơ khí | D63: 1 | G63: =C15 -> 60 | H63: 7 | I63: =SUM(C25:C28,C36:C38) -> 415 | J63: =SUM(G63,I63) -> 475
A64: Khoa CN Động lực | D64: 2 | G64: =SUM(C16,J12) -> 107 | H64: 8 | I64: =SUM(J19:J21,C39,J31:J34) -> 462 | J64: =SUM(G64,I64) -> 569
A65: Khoa Công nghệ May - Thời trang | D65: 1 | G65: =J13 -> 33 | H65: 2 | I65: =SUM(J22,J35) -> 96 | J65: =SUM(G65,I65) -> 129
A66: Khoa Công nghệ Thông tin | C66: CNPM | D66: 0 | G66: =0 -> 0 | H66: 4 | I66: =SUM(J23:J24,J36:J37) -> 151 | J66: =SUM(G66,I66) -> 151
C67: MMT | D67: 1 | G67: =J14 -> 24 | H67: 3 | I67: =SUM(J25:J26,J38) -> 107 | J67: =SUM(G67,I67) -> 131
A68: Tổng toàn trường | D68: =SUM(D60:D67) -> 8 | G68: =SUM(G60:G67) -> 345 | H68: =SUM(H60:H67) -> 35 | I68: =SUM(I60:I67) -> 1800 | J68: =SUM(G68,I68) -> 2145 | K68: =SUM(D68,H68) -> 43
H70: Thành phố Hồ Chí Minh, ngày 10 tháng 9 năm 2015
H71: TRƯỞNG PHÒNG TTGD-CTSV
H76: Nguyễn Thanh Lâm

Sheet T.10_HK1
A1: UBND THÀNH PHỐ HỒ CHÍ MINH | H1: CỘNG HÒA XÃ HỘI CHỦ NGHĨA VIỆT NAM
A2: TRƯỜNG CAO ĐẲNG KỸ THUẬT | H2: Độc lập - Tự do - Hạnh phúc
A3: LÝ TỰ TRỌNG TP. HỒ CHÍ MINH
A5: SĨ SỐ HỌC SINH, SINH VIÊN THÁNG 10 / 2015
A6: Tính đến ngày 10/ 10/ 2015
A8: KHÓA 2014 TCCN
A9: LỚP | C9: TS | D9: Nữ | E9: A | F9: B | G9: BL-TNH | H9: LỚP | J9: TS | K9: Nữ | L9: A | M9: B | N9: BL-TNH
A10: 1 | B10: 14TC-ĐT | C10: 8 | E10: =C10-F10 -> 1 | F10: 7 | H10: 6 | I10: 14TC-Ô2 | J10: 27 | L10: =J10-M10 -> 9 | M10: 18
A11: 2 | B11: 14TC-Đ1 | C11: 37 | E11: =C11-F11 -> 10 | F11: 27 | H11: 7 | I11: 14TC-MT | J11: 27 | K11: 24 | L11: =J11-M11 -> 4 | M11: 23
A12: 3 | B12: 14TC-ĐL | C12: 31 | E12: =C12-F12 -> 5 | F12: 26 | H12: 8 | I12: 14TC-QTM | J12: 20 | L12: =J12-M12 -> 7 | M12: 13 | N12: 2
A13: 4 | B13: 14TC-CKT_P | C13: 38 | E13: =C13-F13 -> 9 | F13: 29 | G13: 1
A14: 5 | B14: 14TC-Ô1 | C14: 31 | E14: =C14-F14 -> 10 | F14: 21 | G14: 4 | H14: TỔNG CỘNG | J14: =SUM(C10:C14,J10:J12) -> 219 | K14: =SUM(D10:D14,K10:K12) -> 24 | L14: =SUM(E10:E14,L10:L12) -> 55 | M14: =SUM(F10:F14,M10:M12) -> 164 | N14: =SUM(G10:G14,N10:N12) -> 7
A15: KHÓA 2015 TCCN (12+2)_(TN_THPT hoặc chưa TN_THPT)
A16: LỚP | C16: TS | D16: Nữ | E16: A | F16: B | G16: BL-TNH | H16: LỚP | J16: TS | K16: Nữ | L16: A | M16: B | N16: BL-TNH
A17: 1 | B17: 15TN-Đ | C17: 29 | E17: =C17-F17 -> 8 | F17: 21 | H17: 4 | I17: 15TN-Ô | J17: 20 | L17: =J17-M17 -> 4 | M17: 16
B18: 15TCT-Đ | C18: 48 | E18: =C18-F18 -> 16 | F18: 32 | I18: 15TCT-Ô | J18: 55 | L18: =J18-M18 -> 22 | M18: 33
A19: 2 | B19: 15TN-NL | C19: 16 | E19: =C19-F19 -> 2 | F19: 14 | H19: 5 | I19: 15TN-MTT | J19: 7 | K19: 6 | L19: =J19-M19 -> 0 | M19: 7
B20: 15TCT-ĐL | C20: 16 | E20: =C20-F20 -> 6 | F20: 10 | I20: 15TCT-MTT | J20: 4 | K20: 4 | L20: =J20-M20 -> 2 | M20: 2
A21: 3 | B21: 15TN-CK | C21: 21 | E21: =C21-F21 -> 2 | F21: 19 | H21: 6 | I21: 15TN-QTM | J21: 12 | K21: 1 | L21: =J21-M21 -> 6 | M21: 6
B22: 15TCT-CK | C22: 24 | E22: =C22-F22 -> 4 | F22: 20 | I22: 15TCT-QTM | J22: 19 | L22: =J22-M22 -> 13 | M22: 6
H23: TỔNG CỘNG | J23: =SUM(C17:C22,J17:J22) -> 271 | K23: =SUM(D17:D22,K17:K22) -> 11 | L23: =SUM(E17:E22,L17:L22) -> 85 | M23: =SUM(F17:F22,M17:M22) -> 186 | N23: =SUM(G17:G22,N17:N22) -> 0
A24: KHÓA 2015 TCCN (9+3)
A25: LỚP | C25: TS | D25: Nữ | E25: A | F25: B | G25: BL-TNH | H25: LỚP | J25: TS | K25: Nữ | L25: A | M25: B | N25: BL-TNH
A26: 1 | B26: 15TC-Đ | C26: 36 | E26: =C26-F26 -> 24 | F26: 12 | H26: 4 | I26: 15TC-QTM | J26: 43 | K26: 5 | L26: =J26-M26 -> 36 | M26: 7
A27: 2 | B27: 15TC-NL | C27: 22 | E27: =C27-F27 -> 16 | F27: 6
A28: 3 | B28: 15TC-Ô | C28: 51 | E28: =C28-F28 -> 40 | F28: 11 | H28: TỔNG CỘNG | J28: =SUM(C26:C28,J26) -> 152 | K28: =SUM(D26:D28,K26) -> 5 | L28: =SUM(E26:E28,L26) -> 116 | M28: =SUM(F26:F28,M26) -> 36 | N28: =SUM(G26:G28,N26) -> 0
A29: KHÓA 2013 CAO ĐẲNG
A30: LỚP | C30: TS | D30: Nữ | E30: A | F30: B | G30: BL-TNH | H30: LỚP | J30: TS | K30: Nữ | L30: A | M30: B | N30: BL-TNH
A31: 1 | B31: 13CĐ-ĐT1 | C31: 64 | D31: 1 | E31: =C31-F31 -> 9 | F31: 55 | G31: 2 | H31: 11 | I31: 13CĐ-Ô1 | J31: 61 | L31: =J31-M31 -> 12 | M31: 49
A32: 2 | B32: 13CĐ-ĐT2 | C32: 65 | E32: =C32-F32 -> 10 | F32: 55 | G32: 5 | H32: 12 | I32: 13CĐ-Ô2 | J32: 60 | L32: =J32-M32 -> 15 | M32: 45
A33: 3 | B33: 13CĐ-Đ1 | C33: 50 | E33: =C33-F33 -> 5 | F33: 45 | H33: 13 | I33: 13CĐ-Ô3 | J33: 61 | K33: 1 | L33: =J33-M33 -> 9 | M33: 52
A34: 4 | B34: 13CĐ-Đ2 | C34: 51 | E34: =C34-F34 -> 5 | F34: 46 | G34: 2 | H34: 14 | I34: 13CĐ-M | J34: 56 | K34: 52 | L34: =J34-M34 -> 8 | M34: 48
A35: 5 | B35: 13CĐ-Đ3 | C35: 49 | E35: =C35-F35 -> 7 | F35: 42 | G35: 1 | H35: 15 | I35: 13CĐ-TP1 | J35: 40 | K35: 6 | L35: =J35-M35 -> 14 | M35: 26
A36: 6 | B36: 13CĐ-NL1 | C36: 56 | D36: 1 | E36: =C36-F36 -> 11 | F36: 45 | H36: 16 | I36: 13CĐ-TP2 | J36: 33 | K36: 2 | L36: =J36-M36 -> 4 | M36: 29
A37: 7 | B37: 13CĐ-CK1 | C37: 57 | E37: =C37-F37 -> 3 | F37: 54 | G37: 1 | H37: 17 | I37: 13CĐ-TM1 | J37: 40 | K37: 5 | L37: =J37-M37 -> 13 | M37: 27 | N37: 3
A38: 8 | B38: 13CĐ-CK2 | C38: 57 | E38: =C38-F38 -> 8 | F38: 49 | G38: 2 | H38: 18 | I38: 13CĐ-TM2 | J38: 38 | K38: 3 | L38: =J38-M38 -> 10 | M38: 28
A39: 9 | B39: 13CĐ-CK3 | C39: 57 | E39: =C39-F39 -> 7 | F39: 50 | G39: 3
A40: 10 | B40: 13CĐ-CK4 | C40: 55 | E40: =C40-F40 -> 8 | F40: 47 | G40: 1 | H40: TỔNG CỘNG | J40: =SUM(C31:C40,J31:J39) -> 950 | K40: =SUM(D31:D40,K31:K39) -> 71 | L40: =SUM(E31:E40,L31:L39) -> 158 | M40: =SUM(F31:F40,M31:M39) -> 792 | N40: =SUM(G31:G40,N31:N39) -> 20
A41: KHÓA 2014 CAO ĐẲNG
A42: LỚP | C42: TS | D42: Nữ | E42: A | F42: B | G42: BL-TNH | H42: LỚP | J42: TS | K42: Nữ | L42: A | M42: B | N42: BL-TNH
A43: 1 | B43: 14CĐ-ĐT1 | C43: 52 | E43: =C43-F43 -> 7 | F43: 45 | G43: 2 | H43: 10 | I43: 14CĐ-Ô2 | J43: 56 | L43: =J43-M43 -> 5 | M43: 51 | N43: 1
A44: 2 | B44: 14CĐ-ĐT2 | C44: 55 | E44: =C44-F44 -> 5 | F44: 50 | H44: 11 | I44: 14CĐ-Ô3 | J44: 56 | L44: =J44-M44 -> 10 | M44: 46 | N44: 2
A45: 3 | B45: 14CĐ-Đ1 | C45: 51 | E45: =C45-F45 -> 11 | F45: 40 | H45: 12 | I45: 14CĐ-Ô4 | J45: 56 | L45: =J45-M45 -> 15 | M45: 41
A46: 4 | B46: 14CĐ-Đ2 | C46: 49 | E46: =C46-F46 -> 3 | F46: 46 | G46: 1 | H46: 13 | I46: 14CĐ-Ô5 | J46: 59 | L46: =J46-M46 -> 10 | M46: 49 | N46: 6
A47: 5 | B47: 14CĐ-NL1 | C47: 39 | E47: =C47-F47 -> 10 | F47: 29 | H47: 14 | I47: 14CĐ-M1 | J47: 39 | K47: 37 | L47: =J47-M47 -> 4 | M47: 35 | N47: 1
A48: 6 | B48: 14CĐ-CK1 | C48: 65 | D48: 2 | E48: =C48-F48 -> 15 | F48: 50 | G48: 6 | H48: 15 | I48: 14CĐ-TP1 | J48: 39 | L48: =J48-M48 -> 13 | M48: 26 | N48: 1
A49: 7 | B49: 14CĐ-CK2 | C49: 63 | E49: =C49-F49 -> 9 | F49: 54 | G49: 3 | H49: 16 | I49: 14CĐ-TP2 | J49: 39 | K49: 3 | L49: =J49-M49 -> 16 | M49: 23 | N49: 3
A50: 8 | B50: 14CĐ-CK3 | C50: 64 | E50: =C50-F50 -> 11 | F50: 53 | G50: 4 | H50: 17 | I50: 14CĐ-TM1 | J50: 30 | K50: 1 | L50: =J50-M50 -> 14 | M50: 16
A51: 9 | B51: 14CĐ-Ô1 | C51: 57 | E51: =C51-F51 -> 20 | F51: 37 | G51: 5 | H51: TỔNG CỘNG | J51: =SUM(C43:C51,J43:J50) -> 869 | K51: =SUM(D43:D51,K43:K50) -> 43 | L51: =SUM(E43:E51,L43:L50) -> 178 | M51: =SUM(F43:F51,M43:M50) -> 691 | N51: =SUM(G43:G51,N43:N50) -> 35
A52: KHÓA 2015 CAO ĐẲNG
A53: LỚP | C53: TS | D53: Nữ | E53: A | F53: B | G53: BL-TNH | H53: LỚP | J53: TS | K53: Nữ | L53: A | M53: B | N53: BL-TNH
A54: 1 | B54: 15CĐ-ĐĐT1 | C54: 59 | D54: 1 | E54: =C54-F54 -> 13 | F54: 46 | H54: 22 | I54: 15CĐ-Ô1 | J54: 58 | L54: =J54-M54 -> 11 | M54: 47
A55: 2 | B55: 15CĐ-ĐĐT2 | C55: 57 | E55: =C55-F55 -> 14 | F55: 43 | H55: 23 | I55: 15CĐ-Ô2 | J55: 58 | L55: =J55-M55 -> 13 | M55: 45
A56: 3 | B56: 15CĐ-ĐĐT3 | C56: 56 | E56: =C56-F56 -> 12 | F56: 44 | H56: 24 | I56: 15CĐ-Ô3 | J56: 58 | L56: =J56-M56 -> 19 | M56: 39
A57: 4 | B57: 15CĐ-ĐĐT4 | C57: 58 | E57: =C57-F57 -> 12 | F57: 46 | H57: 25 | I57: 15CĐ-Ô4 | J57: 58 | L57: =J57-M57 -> 16 | M57: 42
A58: 5 | B58: 15CĐ-ĐĐT5 | C58: 57 | D58: 1 | E58: =C58-F58 -> 20 | F58: 37 | H58: 26 | I58: 15CĐ-Ô5 | J58: 58 | L58: =J58-M58 -> 15 | M58: 43
A59: 6 | B59: 15CĐ-ĐĐT6 | C59: 58 | E59: =C59-F59 -> 17 | F59: 41 | H59: 27 | I59: 15CĐ-Ô6 | J59: 58 | L59: =J59-M59 -> 16 | M59: 42
A60: 7 | B60: 15CĐ-ĐĐT7 | C60: 54 | E60: =C60-F60 -> 18 | F60: 36 | H60: 28 | I60: 15CĐ-Ô7 | J60: 57 | L60: =J60-M60 -> 18 | M60: 39
A61: 8 | B61: 15CĐ-ĐĐT8 | C61: 57 | E61: =C61-F61 -> 14 | F61: 43 | H61: 29 | I61: 15CĐ-Ô8 | J61: 57 | K61: 1 | L61: =J61-M61 -> 15 | M61: 42
A62: 9 | B62: 15CĐ-ĐĐT9 | C62: 46 | D62: 1 | E62: =C62-F62 -> 10 | F62: 36 | H62: 30 | I62: 15CĐ-Ô9 | J62: 22 | L62: =J62-M62 -> 7 | M62: 15
A63: 10 | B63: 15CĐ-ĐL1 | C63: 60 | E63: =C63-F63 -> 24 | F63: 36 | H63: 31 | I63: 15CĐ-MTT1 | J63: 59 | K63: 47 | L63: =J63-M63 -> 7 | M63: 52
A64: 11 | B64: 15CĐ-ĐL2 | C64: 61 | E64: =C64-F64 -> 18 | F64: 43 | H64: 32 | I64: 15CĐ-MTT2 | J64: 59 | K64: 49 | L64: =J64-M64 -> 20 | M64: 39
A65: 12 | B65: 15CĐ-ĐL3 | C65: 66 | E65: =C65-F65 -> 23 | F65: 43 | H65: 33 | I65: 15CĐ-MTT3 | J65: 57 | K65: 53 | L65: =J65-M65 -> 11 | M65: 46
A66: 13 | B66: 15CĐ-CK1 | C66: 59 | E66: =C66-F66 -> 16 | F66: 43 | H66: 34 | I66: 15CĐ-CNTT1 | J66: 58 | K66: 1 | L66: =J66-M66 -> 25 | M66: 33
A67: 14 | B67: 15CĐ-CK2 | C67: 60 | E67: =C67-F67 -> 16 | F67: 44 | H67: 35 | I67: 15CĐ-CNTT2 | J67: 56 | K67: 1 | L67: =J67-M67 -> 13 | M67: 43
A68: 15 | B68: 15CĐ-CK3 | C68: 59 | E68: =C68-F68 -> 12 | F68: 47 | H68: 36 | I68: 15CĐ-CNTT3 | J68: 58 | K68: 4 | L68: =J68-M68 -> 20 | M68: 38
A69: 16 | B69: 15CĐ-CK4 | C69: 58 | E69: =C69-F69 -> 11 | F69: 47 | H69: 37 | I69: 15CĐ-CNTT4 | J69: 57 | K69: 4 | L69: =J69-M69 -> 18 | M69: 39
A70: 17 | B70: 15CĐ-CK5 | C70: 58 | E70: =C70-F70 -> 18 | F70: 40 | H70: 38 | I70: 15CĐ-CNTT5 | J70: 58 | K70: 4 | L70: =J70-M70 -> 28 | M70: 30
A71: 18 | B71: 15CĐ-CK6 | C71: 59 | D71: 1 | E71: =C71-F71 -> 21 | F71: 38 | H71: 39 | I71: 15CĐ-CNTT6 | J71: 58 | K71: 5 | L71: =J71-M71 -> 26 | M71: 32
A72: 19 | B72: 15CĐ-CK7 | C72: 58 | E72: =C72-F72 -> 24 | F72: 34 | H72: 40 | I72: 15CĐ-CNTT7 | J72: 29 | K72: 2 | L72: =J72-M72 -> 14 | M72: 15
A73: 20 | B73: 15CĐ-CK8 | C73: 59 | E73: 11 | F73: 47
A74: 21 | B74: 15CĐ-CK9 | C74: 57 | D74: 1 | E74: =C74-F74 -> 14 | F74: 43 | H74: TỔNG CỘNG | J74: =SUM(C54:C74,J54:J73) -> 2249 | K74: =SUM(D54:D74,K54:K73) -> 176 | L74: =SUM(E54:E74,L54:L73) -> 650 | M74: =SUM(F54:F74,M54:M73) -> 1598 | N74: =SUM(G54:G74,N54:N73) -> 0
A75: KHÓA 2015 CAO ĐẲNG NGHỀ_(12+3)
A76: LỚP | C76: TS | D76: Nữ | E76: A | F76: B | G76: BL-TNH | H76: LỚP | J76: TS | K76: Nữ | L76: A | M76: B | N76: BL-TNH
A77: 1 | B77: 15CĐN-Ô | C77: 66 | E77: =C77-F77 -> 22 | F77: 44 | H77: 2 | I77: 15CĐN-QTD | J77: 20 | K77: 11 | L77: =J77-M77 -> 12 | M77: 8
H78: TỔNG CỘNG | J78: =SUM(C77,J77) -> 86 | K78: =SUM(D77,K77) -> 11 | L78: =SUM(E77,L77) -> 34 | M78: =SUM(F77,M77) -> 52 | N78: =SUM(G77,N77) -> 0
A79: KHÓA 2015 CAO ĐẲNG NGHỀ_(9+4)
A80: LỚP | C80: TS | D80: Nữ | E80: A | F80: B | G80: BL-TNH | H80: LỚP | J80: TS | K80: Nữ | L80: A | M80: B | N80: BL-TNH
A81: 1 | B81: 15TCN-Đ | C81: 49 | E81: =C81-F81 -> 37 | F81: 12 | H81: 7 | I81: 15TCN-MTT | J81: 29 | K81: 24 | L81: =J81-M81 -> 22 | M81: 7
A82: 2 | B82: 15TCN-ĐT | C82: 44 | E82: =C82-F82 -> 36 | F82: 8 | H82: 8 | I82: 15TCN-QTM1 | J82: 64 | K82: 8 | L82: =J82-M82 -> 62 | M82: 2
A83: 3 | B83: 15TCN-LĐL | C83: 52 | E83: =C83-F83 -> 45 | F83: 7 | H83: 9 | I83: 15TCN-QTM2 | J83: 63 | K83: 6 | L83: =J83-M83 -> 58 | M83: 5
A84: 4 | B84: 15TCN-CKL | C84: 53 | E84: =C84-F84 -> 40 | F84: 13 | H84: 10 | I84: 15TCN-KTD | J84: 42 | K84: 30 | L84: =J84-M84 -> 40 | M84: 2
A85: 5 | B85: 15TCN-Ô1 | C85: 58 | E85: =C85-F85 -> 55 | F85: 3
A86: 6 | B86: 15TCN-Ô2 | C86: 55 | E86: =C86-F86 -> 41 | F86: 14 | H86: TỔNG CỘNG | J86: =SUM(C81:C86,J81:J84) -> 509 | K86: =SUM(D81:D86,K81:K84) -> 68 | L86: =SUM(E81:E86,L81:L85) -> 436 | M86: =SUM(F81:F86,M81:M85) -> 73 | N86: =SUM(G81:G86,N81:N85) -> 0
A88: * Tổng HSSV toàn Trường: 105 Lớp | D88: =SUM(D89:D93) -> 5305 | G88: (Nữ: | H88: =SUM(H89:H93) -> 409 | I88: ) | O88: Lớp củ = | P88: =SUM(H12,H38,H50) -> 43
A89: - Cao đẳng chuyên nghiệp: | D89: =SUM(J40,J51,J74) -> 4068 | G89: (Nữ: | H89: =SUM(K40,K51,K74) -> 290 | I89: ) | O89: L.MT = | P89: =SUM(H21,H26,H72,H77,H84) -> 62
A90: - Cao đẳng nghề (12+3): | D90: =J78 -> 86 | G90: (Nữ: | H90: =K78 -> 11 | I90: ) | O90: TS.Lớp= | P90: =SUM(P88:P89) -> 105
A91: - Cao đẳng nghề (9+4): | D91: =J86 -> 509 | G91: (Nữ: | H91: =K86 -> 68 | I91: ) | O91: TS.T9= | P91: =T.9_HK1!D42 -> 2145
A92: - Trung cấp chuyên nghiệp (12+2): | D92: =SUM(J14,J23) -> 490 | G92: (Nữ: | H92: =SUM(K14,K23) -> 35 | I92: ) | O92: Học lại = | P92: 30
A93: - Trung cấp chuyên nghiệp (9+3): | D93: =J28 -> 152 | G93: (Nữ: | H93: =K28 -> 5 | I93: ) | O93: TM= | P93: =D94 -> 3267
A94: * Trong đó: Tuyển mới NH.15-16 có : | D94: =SUM(D95:D99) -> 3267 | G94: /62 Lớp | O94: ĐCTĐ+BTH= | P94: 131
A95: - Cao đẳng chuyên nghiệp: | D95: =J74 -> 2249 | G95: /40 Lớp | O95: TS.T10= | P95: =SUM(P91:P93)-131 -> 5311
A96: - Cao đẳng nghề (12+3): | D96: =J78 -> 86 | G96: /02 Lớp | O96: XT= | P96: 6
A97: - Cao đẳng nghề (9+4): | D97: =J86 -> 509 | G97: /10 Lớp
A98: - Trung cấp chuyên nghiệp (12+2): | D98: =J23 -> 271 | G98: /06 Lớp
A99: - Trung cấp chuyên nghiệp (9+3): | D99: =J28 -> 152 | G99: /04 Lớp
A100: * Tổng số HSSV theo địa giới:
A101: - Hộ khẩu TP.Hồ Chí Minh (A): | D101: =D88-D102 -> 1713
A102: - Hộ khẩu Tỉnh (B): | D102: =SUM(M14,M23,M28,M40,M51,M74,M78,M86) -> 3592
A103: * Khóa 2015 TCCN(12+2) TN.THPT hoặc chưa TN.THPT, TCCN( 9+3) ngày 05/10/2015 học theo TKB
...

Sheet T.11_HK1
A1: UBND THÀNH PHỐ HỒ CHÍ MINH | H1: CỘNG HÒA XÃ HỘI CHỦ NGHĨA VIỆT NAM
A2: TRƯỜNG CAO ĐẲNG KỸ THUẬT | H2: Độc lập - Tự do - Hạnh phúc
A3: LÝ TỰ TRỌNG TP. HỒ CHÍ MINH
A5: SĨ SỐ HỌC SINH, SINH VIÊN THÁNG 11 / 2015
A6: Tính đến ngày 10/ 11/ 2015
A8: KHÓA 2014 TCCN
A9: LỚP | C9: TS | D9: Nữ | E9: A | F9: B | G9: BL-TNH | H9: LỚP | J9: TS | K9: Nữ | L9: A | M9: B | N9: BL-TNH
A10: 1 | B10: 14TC-ĐT | C10: 8 | E10: =C10-F10 -> 1 | F10: 7 | H10: 6 | I10: 14TC-Ô2 | J10: 27 | L10: =J10-M10 -> 9 | M10: 18
A11: 2 | B11: 14TC-Đ1 | C11: 37 | E11: =C11-F11 -> 10 | F11: 27 | H11: 7 | I11: 14TC-MT | J11: 27 | K11: 24 | L11: =J11-M11 -> 4 | M11: 23
A12: 3 | B12: 14TC-ĐL | C12: 31 | E12: =C12-F12 -> 5 | F12: 26 | H12: 8 | I12: 14TC-QTM | J12: 20 | L12: =J12-M12 -> 7 | M12: 13 | N12: 2
A13: 4 | B13: 14TC-CKT_P | C13: 38 | E13: =C13-F13 -> 9 | F13: 29 | G13: 1
A14: 5 | B14: 14TC-Ô1 | C14: 31 | E14: =C14-F14 -> 10 | F14: 21 | G14: 4 | H14: TỔNG CỘNG | J14: =SUM(C10:C14,J10:J12) -> 219 | K14: =SUM(D10:D14,K10:K12) -> 24 | L14: =SUM(E10:E14,L10:L12) -> 55 | M14: =SUM(F10:F14,M10:M12) -> 164 | N14: =SUM(G10:G14,N10:N12) -> 7
A15: KHÓA 2015 TCCN (12+2)_(TN_THPT hoặc chưa TN_THPT)
A16: LỚP | C16: TS | D16: Nữ | E16: A | F16: B | G16: BL-TNH | H16: LỚP | J16: TS | K16: Nữ | L16: A | M16: B | N16: BL-TNH
A17: 1 | B17: 15TN-Đ | C17: 29 | E17: =C17-F17 -> 8 | F17: 21 | H17: 4 | I17: 15TN-Ô | J17: 20 | L17: =J17-M17 -> 4 | M17: 16
B18: 15TCT-Đ | C18: 48 | E18: =C18-F18 -> 16 | F18: 32 | I18: 15TCT-Ô | J18: 55 | L18: =J18-M18 -> 22 | M18: 33
A19: 2 | B19: 15TN-NL | C19: 16 | E19: =C19-F19 -> 2 | F19: 14 | H19: 5 | I19: 15TN-MTT | J19: 7 | K19: 6 | L19: =J19-M19 -> 0 | M19: 7
B20: 15TCT-ĐL | C20: 16 | E20: =C20-F20 -> 6 | F20: 10 | I20: 15TCT-MTT | J20: 4 | K20: 4 | L20: =J20-M20 -> 2 | M20: 2
A21: 3 | B21: 15TN-CK | C21: 21 | E21: =C21-F21 -> 2 | F21: 19 | H21: 6 | I21: 15TN-QTM | J21: 12 | K21: 1 | L21: =J21-M21 -> 6 | M21: 6
B22: 15TCT-CK | C22: 24 | E22: =C22-F22 -> 4 | F22: 20 | I22: 15TCT-QTM | J22: 19 | L22: =J22-M22 -> 13 | M22: 6
H23: TỔNG CỘNG | J23: =SUM(C17:C22,J17:J22) -> 271 | K23: =SUM(D17:D22,K17:K22) -> 11 | L23: =SUM(E17:E22,L17:L22) -> 85 | M23: =SUM(F17:F22,M17:M22) -> 186 | N23: =SUM(G17:G22,N17:N22) -> 0
A24: KHÓA 2015 TCCN (9+3)
A25: LỚP | C25: TS | D25: Nữ | E25: A | F25: B | G25: BL-TNH | H25: LỚP | J25: TS | K25: Nữ | L25: A | M25: B | N25: BL-TNH
A26: 1 | B26: 15TC-Đ | C26: 36 | E26: =C26-F26 -> 24 | F26: 12 | H26: 4 | I26: 15TC-QTM | J26: 42 | K26: 5 | L26: =J26-M26 -> 37 | M26: 5
A27: 2 | B27: 15TC-NL | C27: 22 | E27: =C27-F27 -> 16 | F27: 6
A28: 3 | B28: 15TC-Ô | C28: 51 | E28: =C28-F28 -> 40 | F28: 11 | H28: TỔNG CỘNG | J28: =SUM(C26:C28,J26) -> 151 | K28: =SUM(D26:D28,K26) -> 5 | L28: =SUM(E26:E28,L26) -> 117 | M28: =SUM(F26:F28,M26) -> 34 | N28: =SUM(G26:G28,N26) -> 0
A29: KHÓA 2013 CAO ĐẲNG
A30: LỚP | C30: TS | D30: Nữ | E30: A | F30: B | G30: BL-TNH | H30: LỚP | J30: TS | K30: Nữ | L30: A | M30: B | N30: BL-TNH
A31: 1 | B31: 13CĐ-ĐT1 | C31: 64 | D31: 1 | E31: =C31-F31 -> 9 | F31: 55 | G31: 2 | H31: 11 | I31: 13CĐ-Ô1 | J31: 61 | L31: =J31-M31 -> 12 | M31: 49
A32: 2 | B32: 13CĐ-ĐT2 | C32: 65 | E32: =C32-F32 -> 10 | F32: 55 | G32: 5 | H32: 12 | I32: 13CĐ-Ô2 | J32: 60 | L32: =J32-M32 -> 15 | M32: 45
A33: 3 | B33: 13CĐ-Đ1 | C33: 50 | E33: =C33-F33 -> 5 | F33: 45 | H33: 13 | I33: 13CĐ-Ô3 | J33: 61 | K33: 1 | L33: =J33-M33 -> 9 | M33: 52
A34: 4 | B34: 13CĐ-Đ2 | C34: 51 | E34: =C34-F34 -> 5 | F34: 46 | G34: 2 | H34: 14 | I34: 13CĐ-M | J34: 56 | K34: 52 | L34: =J34-M34 -> 8 | M34: 48
A35: 5 | B35: 13CĐ-Đ3 | C35: 49 | E35: =C35-F35 -> 7 | F35: 42 | G35: 1 | H35: 15 | I35: 13CĐ-TP1 | J35: 40 | K35: 6 | L35: =J35-M35 -> 14 | M35: 26
A36: 6 | B36: 13CĐ-NL1 | C36: 56 | D36: 1 | E36: =C36-F36 -> 11 | F36: 45 | H36: 16 | I36: 13CĐ-TP2 | J36: 33 | K36: 2 | L36: =J36-M36 -> 4 | M36: 29
A37: 7 | B37: 13CĐ-CK1 | C37: 57 | E37: =C37-F37 -> 3 | F37: 54 | G37: 1 | H37: 17 | I37: 13CĐ-TM1 | J37: 40 | K37: 5 | L37: =J37-M37 -> 13 | M37: 27 | N37: 3
A38: 8 | B38: 13CĐ-CK2 | C38: 57 | E38: =C38-F38 -> 8 | F38: 49 | G38: 2 | H38: 18 | I38: 13CĐ-TM2 | J38: 38 | K38: 3 | L38: =J38-M38 -> 10 | M38: 28
A39: 9 | B39: 13CĐ-CK3 | C39: 57 | E39: =C39-F39 -> 7 | F39: 50 | G39: 3
A40: 10 | B40: 13CĐ-CK4 | C40: 55 | E40: =C40-F40 -> 8 | F40: 47 | G40: 1 | H40: TỔNG CỘNG | J40: =SUM(C31:C40,J31:J39) -> 950 | K40: =SUM(D31:D40,K31:K39) -> 71 | L40: =SUM(E31:E40,L31:L39) -> 158 | M40: =SUM(F31:F40,M31:M39) -> 792 | N40: =SUM(G31:G40,N31:N39) -> 20
A41: KHÓA 2014 CAO ĐẲNG
A42: LỚP | C42: TS | D42: Nữ | E42: A | F42: B | G42: BL-TNH | H42: LỚP | J42: TS | K42: Nữ | L42: A | M42: B | N42: BL-TNH
A43: 1 | B43: 14CĐ-ĐT1 | C43: 52 | E43: =C43-F43 -> 7 | F43: 45 | G43: 2 | H43: 10 | I43: 14CĐ-Ô2 | J43: 56 | L43: =J43-M43 -> 5 | M43: 51 | N43: 1
A44: 2 | B44: 14CĐ-ĐT2 | C44: 55 | E44: =C44-F44 -> 5 | F44: 50 | H44: 11 | I44: 14CĐ-Ô3 | J44: 56 | L44: =J44-M44 -> 10 | M44: 46 | N44: 2
A45: 3 | B45: 14CĐ-Đ1 | C45: 51 | E45: =C45-F45 -> 11 | F45: 40 | H45: 12 | I45: 14CĐ-Ô4 | J45: 56 | L45: =J45-M45 -> 15 | M45: 41
A46: 4 | B46: 14CĐ-Đ2 | C46: 49 | E46: =C46-F46 -> 3 | F46: 46 | G46: 1 | H46: 13 | I46: 14CĐ-Ô5 | J46: 59 | L46: =J46-M46 -> 10 | M46: 49 | N46: 6
A47: 5 | B47: 14CĐ-NL1 | C47: 39 | E47: =C47-F47 -> 10 | F47: 29 | H47: 14 | I47: 14CĐ-M1 | J47: 39 | K47: 37 | L47: =J47-M47 -> 4 | M47: 35 | N47: 1
A48: 6 | B48: 14CĐ-CK1 | C48: 65 | D48: 2 | E48: =C48-F48 -> 15 | F48: 50 | G48: 6 | H48: 15 | I48: 14CĐ-TP1 | J48: 39 | L48: =J48-M48 -> 13 | M48: 26 | N48: 1
A49: 7 | B49: 14CĐ-CK2 | C49: 63 | E49: =C49-F49 -> 9 | F49: 54 | G49: 3 | H49: 16 | I49: 14CĐ-TP2 | J49: 39 | K49: 3 | L49: =J49-M49 -> 16 | M49: 23 | N49: 3 | P49: =8+18+17 -> 43
A50: 8 | B50: 14CĐ-CK3 | C50: 64 | E50: =C50-F50 -> 11 | F50: 53 | G50: 4 | H50: 17 | I50: 14CĐ-TM1 | J50: 30 | K50: 1 | L50: =J50-M50 -> 14 | M50: 16
A51: 9 | B51: 14CĐ-Ô1 | C51: 57 | E51: =C51-F51 -> 20 | F51: 37 | G51: 5 | H51: TỔNG CỘNG | J51: =SUM(C43:C51,J43:J50) -> 869 | K51: =SUM(D43:D51,K43:K50) -> 43 | L51: =SUM(E43:E51,L43:L50) -> 178 | M51: =SUM(F43:F51,M43:M50) -> 691 | N51: =SUM(G43:G51,N43:N50) -> 35
A52: KHÓA 2015 CAO ĐẲNG
A53: LỚP | C53: TS | D53: Nữ | E53: A | F53: B | G53: BL-TNH | H53: LỚP | J53: TS | K53: Nữ | L53: A | M53: B | N53: BL-TNH
A54: 1 | B54: 15CĐ-ĐĐT1 | C54: 59 | D54: 1 | E54: =C54-F54 -> 13 | F54: 46 | H54: 22 | I54: 15CĐ-Ô1 | J54: 58 | L54: =J54-M54 -> 11 | M54: 47
A55: 2 | B55: 15CĐ-ĐĐT2 | C55: 57 | E55: =C55-F55 -> 14 | F55: 43 | H55: 23 | I55: 15CĐ-Ô2 | J55: 58 | L55: =J55-M55 -> 13 | M55: 45
A56: 3 | B56: 15CĐ-ĐĐT3 | C56: 56 | E56: =C56-F56 -> 12 | F56: 44 | H56: 24 | I56: 15CĐ-Ô3 | J56: 58 | L56: =J56-M56 -> 19 | M56: 39
A57: 4 | B57: 15CĐ-ĐĐT4 | C57: 58 | E57: =C57-F57 -> 12 | F57: 46 | H57: 25 | I57: 15CĐ-Ô4 | J57: 58 | L57: =J57-M57 -> 16 | M57: 42
A58: 5 | B58: 15CĐ-ĐĐT5 | C58: 57 | D58: 1 | E58: =C58-F58 -> 20 | F58: 37 | H58: 26 | I58: 15CĐ-Ô5 | J58: 58 | L58: =J58-M58 -> 15 | M58: 43
A59: 6 | B59: 15CĐ-ĐĐT6 | C59: 58 | E59: =C59-F59 -> 17 | F59: 41 | H59: 27 | I59: 15CĐ-Ô6 | J59: 57 | L59: =J59-M59 -> 16 | M59: 41
A60: 7 | B60: 15CĐ-ĐĐT7 | C60: 54 | E60: =C60-F60 -> 18 | F60: 36 | H60: 28 | I60: 15CĐ-Ô7 | J60: 57 | L60: =J60-M60 -> 18 | M60: 39
A61: 8 | B61: 15CĐ-ĐĐT8 | C61: 56 | E61: =C61-F61 -> 13 | F61: 43 | H61: 29 | I61: 15CĐ-Ô8 | J61: 57 | K61: 1 | L61: =J61-M61 -> 15 | M61: 42
A62: 9 | B62: 15CĐ-ĐĐT9 | C62: 46 | D62: 1 | E62: =C62-F62 -> 11 | F62: 35 | H62: 30 | I62: 15CĐ-Ô9 | J62: 22 | L62: =J62-M62 -> 7 | M62: 15
A63: 10 | B63: 15CĐ-ĐL1 | C63: 60 | E63: =C63-F63 -> 24 | F63: 36 | H63: 31 | I63: 15CĐ-MTT1 | J63: 58 | K63: 46 | L63: =J63-M63 -> 6 | M63: 52
A64: 11 | B64: 15CĐ-ĐL2 | C64: 61 | E64: =C64-F64 -> 18 | F64: 43 | H64: 32 | I64: 15CĐ-MTT2 | J64: 59 | K64: 49 | L64: =J64-M64 -> 20 | M64: 39
A65: 12 | B65: 15CĐ-ĐL3 | C65: 66 | E65: =C65-F65 -> 23 | F65: 43 | H65: 33 | I65: 15CĐ-MTT3 | J65: 57 | K65: 53 | L65: =J65-M65 -> 11 | M65: 46
A66: 13 | B66: 15CĐ-CK1 | C66: 59 | E66: =C66-F66 -> 16 | F66: 43 | H66: 34 | I66: 15CĐ-CNTT1 | J66: 58 | K66: 1 | L66: =J66-M66 -> 25 | M66: 33
A67: 14 | B67: 15CĐ-CK2 | C67: 60 | E67: =C67-F67 -> 16 | F67: 44 | H67: 35 | I67: 15CĐ-CNTT2 | J67: 56 | K67: 1 | L67: =J67-M67 -> 13 | M67: 43
A68: 15 | B68: 15CĐ-CK3 | C68: 59 | E68: =C68-F68 -> 12 | F68: 47 | H68: 36 | I68: 15CĐ-CNTT3 | J68: 58 | K68: 4 | L68: =J68-M68 -> 20 | M68: 38
A69: 16 | B69: 15CĐ-CK4 | C69: 58 | E69: =C69-F69 -> 11 | F69: 47 | H69: 37 | I69: 15CĐ-CNTT4 | J69: 57 | K69: 4 | L69: =J69-M69 -> 18 | M69: 39
A70: 17 | B70: 15CĐ-CK5 | C70: 58 | E70: =C70-F70 -> 18 | F70: 40 | H70: 38 | I70: 15CĐ-CNTT5 | J70: 58 | K70: 4 | L70: =J70-M70 -> 28 | M70: 30
A71: 18 | B71: 15CĐ-CK6 | C71: 59 | D71: 1 | E71: =C71-F71 -> 21 | F71: 38 | H71: 39 | I71: 15CĐ-CNTT6 | J71: 58 | K71: 5 | L71: =J71-M71 -> 26 | M71: 32
A72: 19 | B72: 15CĐ-CK7 | C72: 58 | E72: =C72-F72 -> 24 | F72: 34 | H72: 40 | I72: 15CĐ-CNTT7 | J72: 29 | K72: 2 | L72: =J72-M72 -> 14 | M72: 15
A73: 20 | B73: 15CĐ-CK8 | C73: 59 | E73: 11 | F73: 47
A74: 21 | B74: 15CĐ-CK9 | C74: 57 | D74: 1 | E74: =C74-F74 -> 14 | F74: 43 | H74: TỔNG CỘNG | J74: =SUM(C54:C74,J54:J73) -> 2246 | K74: =SUM(D54:D74,K54:K73) -> 175 | L74: =SUM(E54:E74,L54:L73) -> 649 | M74: =SUM(F54:F74,M54:M73) -> 1596 | N74: =SUM(G54:G74,N54:N73) -> 0
A75: KHÓA 2015 CAO ĐẲNG NGHỀ_(12+3)
A76: LỚP | C76: TS | D76: Nữ | E76: A | F76: B | G76: BL-TNH | H76: LỚP | J76: TS | K76: Nữ | L76: A | M76: B | N76: BL-TNH
A77: 1 | B77: 15CĐN-Ô | C77: 66 | E77: =C77-F77 -> 22 | F77: 44 | H77: 2 | I77: 15CĐN-QTD | J77: 20 | K77: 11 | L77: =J77-M77 -> 12 | M77: 8
H78: TỔNG CỘNG | J78: =SUM(C77,J77) -> 86 | K78: =SUM(D77,K77) -> 11 | L78: =SUM(E77,L77) -> 34 | M78: =SUM(F77,M77) -> 52 | N78: =SUM(G77,N77) -> 0
A79: KHÓA 2015 CAO ĐẲNG NGHỀ_(9+4)
A80: LỚP | C80: TS | D80: Nữ | E80: A | F80: B | G80: BL-TNH | H80: LỚP | J80: TS | K80: Nữ | L80: A | M80: B | N80: BL-TNH
A81: 1 | B81: 15TCN-Đ | C81: 49 | E81: =C81-F81 -> 37 | F81: 12 | H81: 7 | I81: 15TCN-MTT | J81: 29 | K81: 24 | L81: =J81-M81 -> 22 | M81: 7
A82: 2 | B82: 15TCN-ĐT | C82: 44 | E82: =C82-F82 -> 36 | F82: 8 | H82: 8 | I82: 15TCN-QTM1 | J82: 64 | K82: 8 | L82: =J82-M82 -> 62 | M82: 2
A83: 3 | B83: 15TCN-LĐL | C83: 52 | E83: =C83-F83 -> 45 | F83: 7 | H83: 9 | I83: 15TCN-QTM2 | J83: 63 | K83: 6 | L83: =J83-M83 -> 58 | M83: 5
A84: 4 | B84: 15TCN-CKL | C84: 53 | E84: =C84-F84 -> 40 | F84: 13 | H84: 10 | I84: 15TCN-KTD | J84: 42 | K84: 30 | L84: =J84-M84 -> 40 | M84: 2
A85: 5 | B85: 15TCN-Ô1 | C85: 58 | E85: =C85-F85 -> 55 | F85: 3
A86: 6 | B86: 15TCN-Ô2 | C86: 55 | E86: =C86-F86 -> 41 | F86: 14 | H86: TỔNG CỘNG | J86: =SUM(C81:C86,J81:J85) -> 509 | K86: =SUM(D81:D86,K81:K85) -> 68 | L86: =SUM(E81:E86,L81:L85) -> 436 | M86: =SUM(F81:F86,M81:M85) -> 73 | N86: =SUM(G81:G86,N81:N85) -> 0
A88: * Tổng HSSV toàn Trường: 105 Lớp | D88: =SUM(D89:D93) -> 5301 | G88: (Nữ: | H88: =SUM(H89:H93) -> 408 | I88: ) | O88: Lớp củ = | P88: =SUM(H12,H38,H50) -> 43
A89: - Cao đẳng chuyên nghiệp: | D89: =SUM(J40,J51,J74) -> 4065 | G89: (Nữ: | H89: =SUM(K40,K51,K74) -> 289 | I89: ) | O89: L.MT = | P89: =SUM(H21,H26,H72,H77,H84) -> 62
A90: - Cao đẳng nghề (12+3): | D90: =J78 -> 86 | G90: (Nữ: | H90: =K78 -> 11 | I90: ) | O90: TS.Lớp= | P90: =SUM(P88:P89) -> 105
A91: - Cao đẳng nghề (9+4): | D91: =J86 -> 509 | G91: (Nữ: | H91: =K86 -> 68 | I91: ) | O91: TS.T10= | P91: =T.10_HK1!D88 -> 5305
A92: - Trung cấp chuyên nghiệp (12+2): | D92: =SUM(J14,J23) -> 490 | G92: (Nữ: | H92: =SUM(K14,K23) -> 35 | I92: ) | O92: TS.T11= | P92: =D88 -> 5301
A93: - Trung cấp chuyên nghiệp (9+3): | D93: =J28 -> 151 | G93: (Nữ: | H93: =K28 -> 5 | I93: ) | O93: XT= | P93: =P91-P92 -> 4
A94: * Trong đó: Tuyển mới NH.15-16 có : | D94: =SUM(D95:D99) -> 3263 | G94: /62 Lớp
A95: - Cao đẳng chuyên nghiệp: | D95: =J74 -> 2246 | G95: /40 Lớp
A96: - Cao đẳng nghề_(12+3): | D96: =J78 -> 86 | G96: /02 Lớp
A97: - Cao đẳng nghề (9+4): | D97: =J86 -> 509 | G97: /10 Lớp
A98: - Trung cấp chuyên nghiệp (12+2): | D98: =J23 -> 271 | G98: /06 Lớp
A99: - Trung cấp chuyên nghiệp (9+3): | D99: =J28 -> 151 | G99: /04 Lớp
A100: * Tổng số HSSV theo địa giới:
A101: - Hộ khẩu TP.Hồ Chí Minh (A): | D101: =D88-D102 -> 1713
A102: - Hộ khẩu Tỉnh (B): | D102: =SUM(M14,M23,M28,M40,M51,M74,M78,M86) -> 3588
A103: * Khóa 2015 TCCN(12+2) TN.THPT hoặc chưa TN.THPT, TCCN( 9+3) ngày 05/10/2015 học theo TKB
...

Sheet T.12_HK1_TC
A1: UBND THÀNH PHỐ HỒ CHÍ MINH | H1: CỘNG HÒA XÃ HỘI CHỦ NGHĨA VIỆT NAM
A2: TRƯỜNG CAO ĐẲNG KỸ THUẬT | H2: Độc lập - Tự do - Hạnh phúc
A3: LÝ TỰ TRỌNG TP. HỒ CHÍ MINH
A6: SĨ SỐ HỌC SINH, SINH VIÊN THÁNG 11 / 2015
A7: Tính đến ngày 31/ 11/ 2015
A9: KHÓA 2014 TCCN
A10: LỚP | C10: TS | D10: Nữ | E10: A | F10: B | G10: BL-TNH | H10: LỚP | J10: TS | K10: Nữ | L10: A | M10: B | N10: BL-TNH
A11: 1 | B11: 14TC-ĐT | C11: 8 | E11: =C11-F11 -> 1 | F11: 7 | H11: 6 | I11: 14TC-Ô2 | J11: 27 | L11: =J11-M11 -> 9 | M11: 18
A12: 2 | B12: 14TC-Đ1 | C12: 37 | E12: =C12-F12 -> 10 | F12: 27 | H12: 7 | I12: 14TC-MT | J12: 27 | K12: 24 | L12: =J12-M12 -> 4 | M12: 23
A13: 3 | B13: 14TC-ĐL | C13: 31 | E13: =C13-F13 -> 5 | F13: 26 | H13: 8 | I13: 14TC-QTM | J13: 20 | L13: =J13-M13 -> 7 | M13: 13 | N13: 2
A14: 4 | B14: 14TC-CKT_P | C14: 38 | E14: =C14-F14 -> 9 | F14: 29 | G14: 1
A15: 5 | B15: 14TC-Ô1 | C15: 31 | E15: =C15-F15 -> 10 | F15: 21 | G15: 4 | H15: TỔNG CỘNG | J15: =SUM(C11:C15,J11:J13) -> 219 | K15: =SUM(D11:D15,K11:K13) -> 24 | L15: =SUM(E11:E15,L11:L13) -> 55 | M15: =SUM(F11:F15,M11:M13) -> 164 | N15: =SUM(G11:G15,N11:N13) -> 7
A16: KHÓA 2015 TCCN (12+2)_(TN_THPT hoặc chưa TN_THPT)
A17: LỚP | C17: TS | D17: Nữ | E17: A | F17: B | G17: BL-TNH | H17: LỚP | J17: TS | K17: Nữ | L17: A | M17: B | N17: BL-TNH
A18: 1 | B18: 15TN-Đ | C18: 29 | E18: =C18-F18 -> 8 | F18: 21 | H18: 4 | I18: 15TN-Ô | J18: 20 | L18: =J18-M18 -> 4 | M18: 16
B19: 15TCT-Đ | C19: 48 | E19: =C19-F19 -> 16 | F19: 32 | I19: 15TCT-Ô | J19: 55 | L19: =J19-M19 -> 22 | M19: 33
A20: 2 | B20: 15TN-NL | C20: 16 | E20: =C20-F20 -> 2 | F20: 14 | H20: 5 | I20: 15TN-MTT | J20: 7 | K20: 6 | L20: =J20-M20 -> 0 | M20: 7
B21: 15TCT-ĐL | C21: 16 | E21: =C21-F21 -> 6 | F21: 10 | I21: 15TCT-MTT | J21: 4 | K21: 4 | L21: =J21-M21 -> 2 | M21: 2
A22: 3 | B22: 15TN-CK | C22: 21 | E22: =C22-F22 -> 2 | F22: 19 | H22: 6 | I22: 15TN-QTM | J22: 12 | K22: 1 | L22: =J22-M22 -> 6 | M22: 6
B23: 15TCT-CK | C23: 24 | E23: =C23-F23 -> 4 | F23: 20 | I23: 15TCT-QTM | J23: 19 | L23: =J23-M23 -> 13 | M23: 6
H24: TỔNG CỘNG | J24: =SUM(C18:C23,J18:J23) -> 271 | K24: =SUM(D18:D23,K18:K23) -> 11 | L24: =SUM(E18:E23,L18:L23) -> 85 | M24: =SUM(F18:F23,M18:M23) -> 186 | N24: =SUM(G18:G23,N18:N23) -> 0
A25: KHÓA 2015 TCCN (9+3)
A26: LỚP | C26: TS | D26: Nữ | E26: A | F26: B | G26: BL-TNH | H26: LỚP | J26: TS | K26: Nữ | L26: A | M26: B | N26: BL-TNH
A27: 1 | B27: 15TC-Đ | C27: 36 | E27: =C27-F27 -> 24 | F27: 12 | H27: 4 | I27: 15TC-QTM | J27: 42 | K27: 5 | L27: =J27-M27 -> 37 | M27: 5
A28: 2 | B28: 15TC-NL | C28: 22 | E28: =C28-F28 -> 16 | F28: 6
A29: 3 | B29: 15TC-Ô | C29: 51 | E29: =C29-F29 -> 40 | F29: 11 | H29: TỔNG CỘNG | J29: =SUM(C27:C29,J27) -> 151 | K29: =SUM(D27:D29,K27) -> 5 | L29: =SUM(E27:E29,L27) -> 117 | M29: =SUM(F27:F29,M27) -> 34 | N29: =SUM(G27:G29,N27) -> 0
A30: KHÓA 2013 CAO ĐẲNG
A31: LỚP | C31: TS | D31: Nữ | E31: A | F31: B | G31: BL-TNH | H31: LỚP | J31: TS | K31: Nữ | L31: A | M31: B | N31: BL-TNH
A32: 1 | B32: 13CĐ-ĐT1 | C32: 64 | D32: 1 | E32: =C32-F32 -> 9 | F32: 55 | G32: 2 | H32: 11 | I32: 13CĐ-Ô1 | J32: 61 | L32: =J32-M32 -> 12 | M32: 49
A33: 2 | B33: 13CĐ-ĐT2 | C33: 65 | E33: =C33-F33 -> 10 | F33: 55 | G33: 5 | H33: 12 | I33: 13CĐ-Ô2 | J33: 60 | L33: =J33-M33 -> 15 | M33: 45
A34: 3 | B34: 13CĐ-Đ1 | C34: 50 | E34: =C34-F34 -> 5 | F34: 45 | H34: 13 | I34: 13CĐ-Ô3 | J34: 61 | K34: 1 | L34: =J34-M34 -> 9 | M34: 52
A35: 4 | B35: 13CĐ-Đ2 | C35: 51 | E35: =C35-F35 -> 5 | F35: 46 | G35: 2 | H35: 14 | I35: 13CĐ-M | J35: 56 | K35: 52 | L35: =J35-M35 -> 8 | M35: 48
A36: 5 | B36: 13CĐ-Đ3 | C36: 49 | E36: =C36-F36 -> 7 | F36: 42 | G36: 1 | H36: 15 | I36: 13CĐ-TP1 | J36: 40 | K36: 6 | L36: =J36-M36 -> 14 | M36: 26
A37: 6 | B37: 13CĐ-NL1 | C37: 56 | D37: 1 | E37: =C37-F37 -> 11 | F37: 45 | H37: 16 | I37: 13CĐ-TP2 | J37: 33 | K37: 2 | L37: =J37-M37 -> 4 | M37: 29
A38: 7 | B38: 13CĐ-CK1 | C38: 57 | E38: =C38-F38 -> 3 | F38: 54 | G38: 1 | H38: 17 | I38: 13CĐ-TM1 | J38: 40 | K38: 5 | L38: =J38-M38 -> 13 | M38: 27 | N38: 3
A39: 8 | B39: 13CĐ-CK2 | C39: 57 | E39: =C39-F39 -> 8 | F39: 49 | G39: 2 | H39: 18 | I39: 13CĐ-TM2 | J39: 38 | K39: 3 | L39: =J39-M39 -> 10 | M39: 28
A40: 9 | B40: 13CĐ-CK3 | C40: 57 | E40: =C40-F40 -> 7 | F40: 50 | G40: 3
A41: 10 | B41: 13CĐ-CK4 | C41: 55 | E41: =C41-F41 -> 8 | F41: 47 | G41: 1 | H41: TỔNG CỘNG | J41: =SUM(C32:C41,J32:J40) -> 950 | K41: =SUM(D32:D41,K32:K40) -> 71 | L41: =SUM(E32:E41,L32:L40) -> 158 | M41: =SUM(F32:F41,M32:M40) -> 792 | N41: =SUM(G32:G41,N32:N40) -> 20
A42: KHÓA 2014 CAO ĐẲNG
A43: LỚP | C43: TS | D43: Nữ | E43: A | F43: B | G43: BL-TNH | H43: LỚP | J43: TS | K43: Nữ | L43: A | M43: B | N43: BL-TNH
A44: 1 | B44: 14CĐ-ĐT1 | C44: 52 | E44: =C44-F44 -> 7 | F44: 45 | G44: 2 | H44: 10 | I44: 14CĐ-Ô2 | J44: 56 | L44: =J44-M44 -> 5 | M44: 51 | N44: 1
A45: 2 | B45: 14CĐ-ĐT2 | C45: 55 | E45: =C45-F45 -> 5 | F45: 50 | H45: 11 | I45: 14CĐ-Ô3 | J45: 56 | L45: =J45-M45 -> 10 | M45: 46 | N45: 2
A46: 3 | B46: 14CĐ-Đ1 | C46: 51 | E46: =C46-F46 -> 11 | F46: 40 | H46: 12 | I46: 14CĐ-Ô4 | J46: 56 | L46: =J46-M46 -> 15 | M46: 41
A47: 4 | B47: 14CĐ-Đ2 | C47: 49 | E47: =C47-F47 -> 3 | F47: 46 | G47: 1 | H47: 13 | I47: 14CĐ-Ô5 | J47: 59 | L47: =J47-M47 -> 10 | M47: 49 | N47: 6
A48: 5 | B48: 14CĐ-NL1 | C48: 39 | E48: =C48-F48 -> 10 | F48: 29 | H48: 14 | I48: 14CĐ-M1 | J48: 39 | K48: 37 | L48: =J48-M48 -> 4 | M48: 35 | N48: 1
A49: 6 | B49: 14CĐ-CK1 | C49: 65 | D49: 2 | E49: =C49-F49 -> 15 | F49: 50 | G49: 6 | H49: 15 | I49: 14CĐ-TP1 | J49: 39 | L49: =J49-M49 -> 13 | M49: 26 | N49: 1
A50: 7 | B50: 14CĐ-CK2 | C50: 63 | E50: =C50-F50 -> 9 | F50: 54 | G50: 3 | H50: 16 | I50: 14CĐ-TP2 | J50: 39 | K50: 3 | L50: =J50-M50 -> 16 | M50: 23 | N50: 3
A51: 8 | B51: 14CĐ-CK3 | C51: 64 | E51: =C51-F51 -> 11 | F51: 53 | G51: 4 | H51: 17 | I51: 14CĐ-TM1 | J51: 30 | K51: 1 | L51: =J51-M51 -> 14 | M51: 16
A52: 9 | B52: 14CĐ-Ô1 | C52: 57 | E52: =C52-F52 -> 20 | F52: 37 | G52: 5 | H52: TỔNG CỘNG | J52: =SUM(C44:C52,J44:J51) -> 869 | K52: =SUM(D44:D52,K44:K51) -> 43 | L52: =SUM(E44:E52,L44:L51) -> 178 | M52: =SUM(F44:F52,M44:M51) -> 691 | N52: =SUM(G44:G52,N44:N51) -> 35
A53: KHÓA 2015 CAO ĐẲNG
A54: LỚP | C54: TS | D54: Nữ | E54: A | F54: B | G54: BL-TNH | H54: LỚP | J54: TS | K54: Nữ | L54: A | M54: B | N54: BL-TNH
A55: 1 | B55: 15CĐ-ĐĐT1 | C55: 59 | D55: 1 | E55: =C55-F55 -> 13 | F55: 46 | H55: 22 | I55: 15CĐ-Ô1 | J55: 58 | L55: =J55-M55 -> 11 | M55: 47
A56: 2 | B56: 15CĐ-ĐĐT2 | C56: 57 | E56: =C56-F56 -> 14 | F56: 43 | H56: 23 | I56: 15CĐ-Ô2 | J56: 58 | L56: =J56-M56 -> 13 | M56: 45
A57: 3 | B57: 15CĐ-ĐĐT3 | C57: 56 | E57: =C57-F57 -> 12 | F57: 44 | H57: 24 | I57: 15CĐ-Ô3 | J57: 58 | L57: =J57-M57 -> 19 | M57: 39
A58: 4 | B58: 15CĐ-ĐĐT4 | C58: 58 | E58: =C58-F58 -> 12 | F58: 46 | H58: 25 | I58: 15CĐ-Ô4 | J58: 58 | L58: =J58-M58 -> 16 | M58: 42
A59: 5 | B59: 15CĐ-ĐĐT5 | C59: 57 | D59: 1 | E59: =C59-F59 -> 20 | F59: 37 | H59: 26 | I59: 15CĐ-Ô5 | J59: 59 | L59: =J59-M59 -> 15 | M59: 44
A60: 6 | B60: 15CĐ-ĐĐT6 | C60: 57 | E60: =C60-F60 -> 16 | F60: 41 | H60: 27 | I60: 15CĐ-Ô6 | J60: 57 | L60: =J60-M60 -> 16 | M60: 41
A61: 7 | B61: 15CĐ-ĐĐT7 | C61: 54 | E61: =C61-F61 -> 18 | F61: 36 | H61: 28 | I61: 15CĐ-Ô7 | J61: 57 | L61: =J61-M61 -> 18 | M61: 39
A62: 8 | B62: 15CĐ-ĐĐT8 | C62: 56 | E62: =C62-F62 -> 13 | F62: 43 | H62: 29 | I62: 15CĐ-Ô8 | J62: 56 | K62: 1 | L62: =J62-M62 -> 15 | M62: 41
A63: 9 | B63: 15CĐ-ĐĐT9 | C63: 45 | D63: 1 | E63: =C63-F63 -> 10 | F63: 35 | H63: 30 | I63: 15CĐ-Ô9 | J63: 22 | L63: =J63-M63 -> 7 | M63: 15
A64: 10 | B64: 15CĐ-ĐL1 | C64: 60 | E64: =C64-F64 -> 24 | F64: 36 | H64: 31 | I64: 15CĐ-MTT1 | J64: 58 | K64: 46 | L64: =J64-M64 -> 6 | M64: 52
A65: 11 | B65: 15CĐ-ĐL2 | C65: 61 | E65: =C65-F65 -> 18 | F65: 43 | H65: 32 | I65: 15CĐ-MTT2 | J65: 59 | K65: 49 | L65: =J65-M65 -> 20 | M65: 39
A66: 12 | B66: 15CĐ-ĐL3 | C66: 66 | E66: =C66-F66 -> 23 | F66: 43 | H66: 33 | I66: 15CĐ-MTT3 | J66: 57 | K66: 53 | L66: =J66-M66 -> 11 | M66: 46
A67: 13 | B67: 15CĐ-CK1 | C67: 59 | E67: =C67-F67 -> 16 | F67: 43 | H67: 34 | I67: 15CĐ-CNTT1 | J67: 58 | K67: 1 | L67: =J67-M67 -> 25 | M67: 33
A68: 14 | B68: 15CĐ-CK2 | C68: 60 | E68: =C68-F68 -> 16 | F68: 44 | H68: 35 | I68: 15CĐ-CNTT2 | J68: 56 | K68: 1 | L68: =J68-M68 -> 13 | M68: 43
A69: 15 | B69: 15CĐ-CK3 | C69: 59 | E69: =C69-F69 -> 12 | F69: 47 | H69: 36 | I69: 15CĐ-CNTT3 | J69: 58 | K69: 4 | L69: =J69-M69 -> 20 | M69: 38
A70: 16 | B70: 15CĐ-CK4 | C70: 58 | E70: =C70-F70 -> 11 | F70: 47 | H70: 37 | I70: 15CĐ-CNTT4 | J70: 57 | K70: 4 | L70: =J70-M70 -> 18 | M70: 39
A71: 17 | B71: 15CĐ-CK5 | C71: 58 | E71: =C71-F71 -> 18 | F71: 40 | H71: 38 | I71: 15CĐ-CNTT5 | J71: 58 | K71: 4 | L71: =J71-M71 -> 28 | M71: 30
A72: 18 | B72: 15CĐ-CK6 | C72: 59 | D72: 1 | E72: =C72-F72 -> 21 | F72: 38 | H72: 39 | I72: 15CĐ-CNTT6 | J72: 58 | K72: 5 | L72: =J72-M72 -> 26 | M72: 32
A73: 19 | B73: 15CĐ-CK7 | C73: 58 | E73: =C73-F73 -> 24 | F73: 34 | H73: 40 | I73: 15CĐ-CNTT7 | J73: 29 | K73: 2 | L73: =J73-M73 -> 14 | M73: 15
A74: 20 | B74: 15CĐ-CK8 | C74: 59 | E74: 11 | F74: 47
A75: 21 | B75: 15CĐ-CK9 | C75: 56 | D75: 1 | E75: =C75-F75 -> 14 | F75: 42 | H75: TỔNG CỘNG | J75: =SUM(C55:C75,J55:J74) -> 2243 | K75: =SUM(D55:D75,K55:K74) -> 175 | L75: =SUM(E55:E75,L55:L74) -> 647 | M75: =SUM(F55:F75,M55:M74) -> 1595 | N75: =SUM(G55:G75,N55:N74) -> 0
A76: KHÓA 2015 CAO ĐẲNG NGHỀ_(12+3)
A77: LỚP | C77: TS | D77: Nữ | E77: A | F77: B | G77: BL-TNH | H77: LỚP | J77: TS | K77: Nữ | L77: A | M77: B | N77: BL-TNH
A78: 1 | B78: 15CĐN-Ô | C78: 66 | E78: =C78-F78 -> 22 | F78: 44 | H78: 2 | I78: 15CĐN-QTD | J78: 20 | K78: 11 | L78: =J78-M78 -> 12 | M78: 8
H79: TỔNG CỘNG | J79: =SUM(C78,J78) -> 86 | K79: =SUM(D78,K78) -> 11 | L79: =SUM(E78,L78) -> 34 | M79: =SUM(F78,M78) -> 52 | N79: =SUM(G78,N78) -> 0
A80: KHÓA 2015 TRUNG CẤP NGHỀ_(9+3)
A81: LỚP | C81: TS | D81: Nữ | E81: A | F81: B | G81: BL-TNH | H81: LỚP | J81: TS | K81: Nữ | L81: A | M81: B | N81: BL-TNH
A82: 1 | B82: 15TCN-Đ | C82: 49 | E82: =C82-F82 -> 37 | F82: 12 | H82: 7 | I82: 15TCN-MTT | J82: 29 | K82: 24 | L82: =J82-M82 -> 22 | M82: 7
A83: 2 | B83: 15TCN-ĐT | C83: 44 | E83: =C83-F83 -> 36 | F83: 8 | H83: 8 | I83: 15TCN-QTM1 | J83: 64 | K83: 8 | L83: =J83-M83 -> 62 | M83: 2
A84: 3 | B84: 15TCN-LĐL | C84: 52 | E84: =C84-F84 -> 45 | F84: 7 | H84: 9 | I84: 15TCN-QTM2 | J84: 63 | K84: 6 | L84: =J84-M84 -> 58 | M84: 5
A85: 4 | B85: 15TCN-CKL | C85: 53 | E85: =C85-F85 -> 40 | F85: 13 | H85: 10 | I85: 15TCN-KTD | J85: 42 | K85: 30 | L85: =J85-M85 -> 40 | M85: 2
A86: 5 | B86: 15TCN-Ô1 | C86: 58 | E86: =C86-F86 -> 55 | F86: 3
A87: 6 | B87: 15TCN-Ô2 | C87: 55 | E87: =C87-F87 -> 41 | F87: 14 | H87: TỔNG CỘNG | J87: =SUM(C82:C87,J82:J86) -> 509 | K87: =SUM(D82:D87,K82:K86) -> 68 | L87: =SUM(E82:E87,L82:L86) -> 436 | M87: =SUM(F82:F87,M82:M86) -> 73 | N87: =SUM(G82:G87,N82:N86) -> 0
A89: * Tổng HSSV toàn Trường: 105 Lớp | D89: =SUM(D90:D94) -> 5298 | G89: (Nữ: | H89: =SUM(H90:H94) -> 408 | I89: ) | O89: Lớp củ = | P89: =SUM(H13,H39,H51) -> 43
A90: - Cao đẳng chuyên nghiệp: | D90: =SUM(J41,J52,J75) -> 4062 | G90: (Nữ: | H90: =SUM(K41,K52,K75) -> 289 | I90: ) | O90: L.MT = | P90: =SUM(H22,H27,H73,H78,H85) -> 62
A91: - Cao đẳng nghề (12+3): | D91: =J79 -> 86 | G91: (Nữ: | H91: =K79 -> 11 | I91: ) | O91: TS.Lớp= | P91: =SUM(P89:P90) -> 105
A92: - Cao đẳng nghề (9+4): | D92: =J87 -> 509 | G92: (Nữ: | H92: =K87 -> 68 | I92: )
A93: - Trung cấp chuyên nghiệp (12+2): | D93: =SUM(J15,J24) -> 490 | G93: (Nữ: | H93: =SUM(K15,K24) -> 35 | I93: )
A94: - Trung cấp chuyên nghiệp (9+3): | D94: =J29 -> 151 | G94: (Nữ: | H94: =K29 -> 5 | I94: )
A95: * Trong đó: Tuyển mới NH.15-16 có : | D95: =SUM(D96:D100) -> 3260 | G95: /62 Lớp
A96: - Cao đẳng chuyên nghiệp: | D96: =J75 -> 2243 | G96: /40 Lớp
A97: - Cao đẳng nghề (12+3): | D97: =J79 -> 86 | G97: /02 Lớp
A98: - Cao đẳng nghề (9+4): | D98: =J87 -> 509 | G98: /10 Lớp
A99: - Trung cấp chuyên nghiệp (12+2): | D99: =J24 -> 271 | G99: /06 Lớp
A100: - Trung cấp chuyên nghiệp (9+3): | D100: =J29 -> 151 | G100: /04 Lớp
A101: * Tổng số HSSV theo địa giới:
A102: - Hộ khẩu TP.Hồ Chí Minh (A): | D102: =D89-D103 -> 1711
A103: - Hộ khẩu Tỉnh (B): | D103: =SUM(M15,M24,M29,M41,M52,M75,M79,M87) -> 3587
A104: * Khóa 2015 TCCN(12+2) TN.THPT hoặc chưa TN.THPT, TCCN( 9+3) ngày 05/10/2015 học theo TKB
...

Sheet T.12_HK1
A1: UBND THÀNH PHỐ HỒ CHÍ MINH | H1: CỘNG HÒA XÃ HỘI CHỦ NGHĨA VIỆT NAM
A2: TRƯỜNG CAO ĐẲNG KỸ THUẬT | H2: Độc lập - Tự do - Hạnh phúc
A3: LÝ TỰ TRỌNG TP. HỒ CHÍ MINH
A6: SĨ SỐ HỌC SINH, SINH VIÊN THÁNG 12 / 2015
A7: Tính đến ngày 10/ 12/ 2015
A9: KHÓA 2014 TCCN
A10: LỚP | C10: TS | D10: Nữ | E10: A | F10: B | G10: BL-TNH | H10: LỚP | J10: TS | K10: Nữ | L10: A | M10: B | N10: BL-TNH
A11: 1 | B11: 14TC-ĐT | C11: 8 | E11: =C11-F11 -> 1 | F11: 7 | H11: 6 | I11: 14TC-Ô2 | J11: 27 | L11: =J11-M11 -> 9 | M11: 18
A12: 2 | B12: 14TC-Đ1 | C12: 37 | E12: =C12-F12 -> 10 | F12: 27 | H12: 7 | I12: 14TC-MT | J12: 27 | K12: 24 | L12: =J12-M12 -> 4 | M12: 23
A13: 3 | B13: 14TC-ĐL | C13: 31 | E13: =C13-F13 -> 5 | F13: 26 | H13: 8 | I13: 14TC-QTM | J13: 20 | L13: =J13-M13 -> 7 | M13: 13 | N13: 2
A14: 4 | B14: 14TC-CKT_P | C14: 38 | E14: =C14-F14 -> 9 | F14: 29 | G14: 1
A15: 5 | B15: 14TC-Ô1 | C15: 31 | E15: =C15-F15 -> 10 | F15: 21 | G15: 4 | H15: TỔNG CỘNG | J15: =SUM(C11:C15,J11:J13) -> 219 | K15: =SUM(D11:D15,K11:K13) -> 24 | L15: =SUM(E11:E15,L11:L13) -> 55 | M15: =SUM(F11:F15,M11:M13) -> 164 | N15: =SUM(G11:G15,N11:N13) -> 7
A16: KHÓA 2015 TCCN (12+2)_(TN_THPT hoặc chưa TN_THPT)
A17: LỚP | C17: TS | D17: Nữ | E17: A | F17: B | G17: BL-TNH | H17: LỚP | J17: TS | K17: Nữ | L17: A | M17: B | N17: BL-TNH
A18: 1 | B18: 15TN-Đ | C18: 29 | E18: =C18-F18 -> 8 | F18: 21 | H18: 4 | I18: 15TN-Ô | J18: 20 | L18: =J18-M18 -> 4 | M18: 16
B19: 15TCT-Đ | C19: 48 | E19: =C19-F19 -> 16 | F19: 32 | I19: 15TCT-Ô | J19: 55 | L19: =J19-M19 -> 22 | M19: 33
A20: 2 | B20: 15TN-NL | C20: 16 | E20: =C20-F20 -> 2 | F20: 14 | H20: 5 | I20: 15TN-MTT | J20: 7 | K20: 6 | L20: =J20-M20 -> 0 | M20: 7
B21: 15TCT-ĐL | C21: 16 | E21: =C21-F21 -> 6 | F21: 10 | I21: 15TCT-MTT | J21: 4 | K21: 4 | L21: =J21-M21 -> 2 | M21: 2
A22: 3 | B22: 15TN-CK | C22: 21 | E22: =C22-F22 -> 2 | F22: 19 | H22: 6 | I22: 15TN-QTM | J22: 12 | K22: 1 | L22: =J22-M22 -> 6 | M22: 6
B23: 15TCT-CK | C23: 24 | E23: =C23-F23 -> 4 | F23: 20 | I23: 15TCT-QTM | J23: 19 | L23: =J23-M23 -> 13 | M23: 6
H24: TỔNG CỘNG | J24: =SUM(C18:C23,J18:J23) -> 271 | K24: =SUM(D18:D23,K18:K23) -> 11 | L24: =SUM(E18:E23,L18:L23) -> 85 | M24: =SUM(F18:F23,M18:M23) -> 186 | N24: =SUM(G18:G23,N18:N23) -> 0 | P24: 490
A25: KHÓA 2015 TCCN (9+3) | P25: 166
A26: LỚP | C26: TS | D26: Nữ | E26: A | F26: B | G26: BL-TNH | H26: LỚP | J26: TS | K26: Nữ | L26: A | M26: B | N26: BL-TNH | P26: =490-166 -> 324
A27: 1 | B27: 15TC-Đ | C27: 36 | E27: =C27-F27 -> 24 | F27: 12 | H27: 4 | I27: 15TC-QTM | J27: 42 | K27: 5 | L27: =J27-M27 -> 37 | M27: 5
A28: 2 | B28: 15TC-NL | C28: 22 | E28: =C28-F28 -> 16 | F28: 6
A29: 3 | B29: 15TC-Ô | C29: 51 | E29: =C29-F29 -> 40 | F29: 11 | H29: TỔNG CỘNG | J29: =SUM(C27:C29,J27) -> 151 | K29: =SUM(D27:D29,K27) -> 5 | L29: =SUM(E27:E29,L27) -> 117 | M29: =SUM(F27:F29,M27) -> 34 | N29: =SUM(G27:G29,N27) -> 0
A30: KHÓA 2013 CAO ĐẲNG
A31: LỚP | C31: TS | D31: Nữ | E31: A | F31: B | G31: BL-TNH | H31: LỚP | J31: TS | K31: Nữ | L31: A | M31: B | N31: BL-TNH
A32: 1 | B32: 13CĐ-ĐT1 | C32: 64 | D32: 1 | E32: =C32-F32 -> 9 | F32: 55 | G32: 2 | H32: 11 | I32: 13CĐ-Ô1 | J32: 61 | L32: =J32-M32 -> 12 | M32: 49
A33: 2 | B33: 13CĐ-ĐT2 | C33: 65 | E33: =C33-F33 -> 10 | F33: 55 | G33: 5 | H33: 12 | I33: 13CĐ-Ô2 | J33: 60 | L33: =J33-M33 -> 15 | M33: 45
A34: 3 | B34: 13CĐ-Đ1 | C34: 50 | E34: =C34-F34 -> 5 | F34: 45 | H34: 13 | I34: 13CĐ-Ô3 | J34: 61 | K34: 1 | L34: =J34-M34 -> 9 | M34: 52
A35: 4 | B35: 13CĐ-Đ2 | C35: 51 | E35: =C35-F35 -> 5 | F35: 46 | G35: 2 | H35: 14 | I35: 13CĐ-M | J35: 56 | K35: 52 | L35: =J35-M35 -> 8 | M35: 48
A36: 5 | B36: 13CĐ-Đ3 | C36: 49 | E36: =C36-F36 -> 7 | F36: 42 | G36: 1 | H36: 15 | I36: 13CĐ-TP1 | J36: 40 | K36: 6 | L36: =J36-M36 -> 14 | M36: 26
A37: 6 | B37: 13CĐ-NL1 | C37: 56 | D37: 1 | E37: =C37-F37 -> 11 | F37: 45 | H37: 16 | I37: 13CĐ-TP2 | J37: 33 | K37: 2 | L37: =J37-M37 -> 4 | M37: 29
A38: 7 | B38: 13CĐ-CK1 | C38: 57 | E38: =C38-F38 -> 3 | F38: 54 | G38: 1 | H38: 17 | I38: 13CĐ-TM1 | J38: 40 | K38: 5 | L38: =J38-M38 -> 13 | M38: 27 | N38: 3
A39: 8 | B39: 13CĐ-CK2 | C39: 57 | E39: =C39-F39 -> 8 | F39: 49 | G39: 2 | H39: 18 | I39: 13CĐ-TM2 | J39: 38 | K39: 3 | L39: =J39-M39 -> 10 | M39: 28
A40: 9 | B40: 13CĐ-CK3 | C40: 57 | E40: =C40-F40 -> 7 | F40: 50 | G40: 3
A41: 10 | B41: 13CĐ-CK4 | C41: 55 | E41: =C41-F41 -> 8 | F41: 47 | G41: 1 | H41: TỔNG CỘNG | J41: =SUM(C32:C41,J32:J40) -> 950 | K41: =SUM(D32:D41,K32:K40) -> 71 | L41: =SUM(E32:E41,L32:L40) -> 158 | M41: =SUM(F32:F41,M32:M40) -> 792 | N41: =SUM(G32:G41,N32:N40) -> 20
A42: KHÓA 2014 CAO ĐẲNG
A43: LỚP | C43: TS | D43: Nữ | E43: A | F43: B | G43: BL-TNH | H43: LỚP | J43: TS | K43: Nữ | L43: A | M43: B | N43: BL-TNH
A44: 1 | B44: 14CĐ-ĐT1 | C44: 52 | E44: =C44-F44 -> 7 | F44: 45 | G44: 2 | H44: 10 | I44: 14CĐ-Ô2 | J44: 56 | L44: =J44-M44 -> 5 | M44: 51 | N44: 1
A45: 2 | B45: 14CĐ-ĐT2 | C45: 55 | E45: =C45-F45 -> 5 | F45: 50 | H45: 11 | I45: 14CĐ-Ô3 | J45: 56 | L45: =J45-M45 -> 10 | M45: 46 | N45: 2
A46: 3 | B46: 14CĐ-Đ1 | C46: 51 | E46: =C46-F46 -> 11 | F46: 40 | H46: 12 | I46: 14CĐ-Ô4 | J46: 56 | L46: =J46-M46 -> 15 | M46: 41
A47: 4 | B47: 14CĐ-Đ2 | C47: 49 | E47: =C47-F47 -> 3 | F47: 46 | G47: 1 | H47: 13 | I47: 14CĐ-Ô5 | J47: 59 | L47: =J47-M47 -> 10 | M47: 49 | N47: 6
A48: 5 | B48: 14CĐ-NL1 | C48: 39 | E48: =C48-F48 -> 10 | F48: 29 | H48: 14 | I48: 14CĐ-M1 | J48: 39 | K48: 37 | L48: =J48-M48 -> 4 | M48: 35 | N48: 1
A49: 6 | B49: 14CĐ-CK1 | C49: 65 | D49: 2 | E49: =C49-F49 -> 15 | F49: 50 | G49: 6 | H49: 15 | I49: 14CĐ-TP1 | J49: 39 | L49: =J49-M49 -> 13 | M49: 26 | N49: 1
A50: 7 | B50: 14CĐ-CK2 | C50: 63 | E50: =C50-F50 -> 9 | F50: 54 | G50: 3 | H50: 16 | I50: 14CĐ-TP2 | J50: 39 | K50: 3 | L50: =J50-M50 -> 16 | M50: 23 | N50: 3
A51: 8 | B51: 14CĐ-CK3 | C51: 64 | E51: =C51-F51 -> 11 | F51: 53 | G51: 4 | H51: 17 | I51: 14CĐ-TM1 | J51: 30 | K51: 1 | L51: =J51-M51 -> 14 | M51: 16
A52: 9 | B52: 14CĐ-Ô1 | C52: 57 | E52: =C52-F52 -> 20 | F52: 37 | G52: 5 | H52: TỔNG CỘNG | J52: =SUM(C44:C52,J44:J51) -> 869 | K52: =SUM(D44:D52,K44:K51) -> 43 | L52: =SUM(E44:E52,L44:L51) -> 178 | M52: =SUM(F44:F52,M44:M51) -> 691 | N52: =SUM(G44:G52,N44:N51) -> 35
A53: KHÓA 2015 CAO ĐẲNG
A54: LỚP | C54: TS | D54: Nữ | E54: A | F54: B | G54: BL-TNH | H54: LỚP | J54: TS | K54: Nữ | L54: A | M54: B | N54: BL-TNH
A55: 1 | B55: 15CĐ-ĐĐT1 | C55: 59 | D55: 1 | E55: =C55-F55 -> 13 | F55: 46 | H55: 22 | I55: 15CĐ-Ô1 | J55: 58 | L55: =J55-M55 -> 11 | M55: 47
A56: 2 | B56: 15CĐ-ĐĐT2 | C56: 57 | E56: =C56-F56 -> 14 | F56: 43 | H56: 23 | I56: 15CĐ-Ô2 | J56: 58 | L56: =J56-M56 -> 13 | M56: 45
A57: 3 | B57: 15CĐ-ĐĐT3 | C57: 56 | E57: =C57-F57 -> 12 | F57: 44 | H57: 24 | I57: 15CĐ-Ô3 | J57: 58 | L57: =J57-M57 -> 19 | M57: 39
A58: 4 | B58: 15CĐ-ĐĐT4 | C58: 58 | E58: =C58-F58 -> 12 | F58: 46 | H58: 25 | I58: 15CĐ-Ô4 | J58: 58 | L58: =J58-M58 -> 16 | M58: 42
A59: 5 | B59: 15CĐ-ĐĐT5 | C59: 57 | D59: 1 | E59: =C59-F59 -> 20 | F59: 37 | H59: 26 | I59: 15CĐ-Ô5 | J59: 59 | L59: =J59-M59 -> 15 | M59: 44
A60: 6 | B60: 15CĐ-ĐĐT6 | C60: 57 | E60: =C60-F60 -> 16 | F60: 41 | H60: 27 | I60: 15CĐ-Ô6 | J60: 57 | L60: =J60-M60 -> 16 | M60: 41
A61: 7 | B61: 15CĐ-ĐĐT7 | C61: 54 | E61: =C61-F61 -> 18 | F61: 36 | H61: 28 | I61: 15CĐ-Ô7 | J61: 57 | L61: =J61-M61 -> 18 | M61: 39
A62: 8 | B62: 15CĐ-ĐĐT8 | C62: 56 | E62: =C62-F62 -> 13 | F62: 43 | H62: 29 | I62: 15CĐ-Ô8 | J62: 56 | K62: 1 | L62: =J62-M62 -> 15 | M62: 41
A63: 9 | B63: 15CĐ-ĐĐT9 | C63: 45 | D63: 1 | E63: =C63-F63 -> 10 | F63: 35 | H63: 30 | I63: 15CĐ-Ô9 | J63: 22 | L63: =J63-M63 -> 7 | M63: 15
A64: 10 | B64: 15CĐ-ĐL1 | C64: 60 | E64: =C64-F64 -> 24 | F64: 36 | H64: 31 | I64: 15CĐ-MTT1 | J64: 58 | K64: 46 | L64: =J64-M64 -> 6 | M64: 52
A65: 11 | B65: 15CĐ-ĐL2 | C65: 61 | E65: =C65-F65 -> 18 | F65: 43 | H65: 32 | I65: 15CĐ-MTT2 | J65: 59 | K65: 49 | L65: =J65-M65 -> 20 | M65: 39
A66: 12 | B66: 15CĐ-ĐL3 | C66: 66 | E66: =C66-F66 -> 23 | F66: 43 | H66: 33 | I66: 15CĐ-MTT3 | J66: 57 | K66: 53 | L66: =J66-M66 -> 11 | M66: 46
A67: 13 | B67: 15CĐ-CK1 | C67: 59 | E67: =C67-F67 -> 16 | F67: 43 | H67: 34 | I67: 15CĐ-CNTT1 | J67: 58 | K67: 1 | L67: =J67-M67 -> 25 | M67: 33
A68: 14 | B68: 15CĐ-CK2 | C68: 60 | E68: =C68-F68 -> 16 | F68: 44 | H68: 35 | I68: 15CĐ-CNTT2 | J68: 56 | K68: 1 | L68: =J68-M68 -> 13 | M68: 43
A69: 15 | B69: 15CĐ-CK3 | C69: 59 | E69: =C69-F69 -> 12 | F69: 47 | H69: 36 | I69: 15CĐ-CNTT3 | J69: 58 | K69: 4 | L69: =J69-M69 -> 20 | M69: 38
A70: 16 | B70: 15CĐ-CK4 | C70: 58 | E70: =C70-F70 -> 11 | F70: 47 | H70: 37 | I70: 15CĐ-CNTT4 | J70: 57 | K70: 4 | L70: =J70-M70 -> 18 | M70: 39
A71: 17 | B71: 15CĐ-CK5 | C71: 58 | E71: =C71-F71 -> 18 | F71: 40 | H71: 38 | I71: 15CĐ-CNTT5 | J71: 58 | K71: 4 | L71: =J71-M71 -> 28 | M71: 30
A72: 18 | B72: 15CĐ-CK6 | C72: 59 | D72: 1 | E72: =C72-F72 -> 21 | F72: 38 | H72: 39 | I72: 15CĐ-CNTT6 | J72: 58 | K72: 5 | L72: =J72-M72 -> 26 | M72: 32
A73: 19 | B73: 15CĐ-CK7 | C73: 58 | E73: =C73-F73 -> 24 | F73: 34 | H73: 40 | I73: 15CĐ-CNTT7 | J73: 29 | K73: 2 | L73: =J73-M73 -> 14 | M73: 15
A74: 20 | B74: 15CĐ-CK8 | C74: 59 | E74: 11 | F74: 47
A75: 21 | B75: 15CĐ-CK9 | C75: 56 | D75: 1 | E75: =C75-F75 -> 14 | F75: 42 | H75: TỔNG CỘNG | J75: =SUM(C55:C75,J55:J74) -> 2243 | K75: =SUM(D55:D75,K55:K74) -> 175 | L75: =SUM(E55:E75,L55:L74) -> 647 | M75: =SUM(F55:F75,M55:M74) -> 1595 | N75: =SUM(G55:G75,N55:N74) -> 0
A76: KHÓA 2015 CAO ĐẲNG NGHỀ_(12+3)
A77: LỚP | C77: TS | D77: Nữ | E77: A | F77: B | G77: BL-TNH | H77: LỚP | J77: TS | K77: Nữ | L77: A | M77: B | N77: BL-TNH
A78: 1 | B78: 15CĐN-Ô | C78: 66 | E78: =C78-F78 -> 22 | F78: 44 | H78: 2 | I78: 15CĐN-QTD | J78: 20 | K78: 11 | L78: =J78-M78 -> 12 | M78: 8
H79: TỔNG CỘNG | J79: =SUM(C78,J78) -> 86 | K79: =SUM(D78,K78) -> 11 | L79: =SUM(E78,L78) -> 34 | M79: =SUM(F78,M78) -> 52 | N79: =SUM(G78,N78) -> 0
A80: KHÓA 2015 TRUNG CẤP NGHỀ_(9+3)
A81: LỚP | C81: TS | D81: Nữ | E81: A | F81: B | G81: BL-TNH | H81: LỚP | J81: TS | K81: Nữ | L81: A | M81: B | N81: BL-TNH
A82: 1 | B82: 15TCN-Đ | C82: 49 | E82: =C82-F82 -> 37 | F82: 12 | H82: 7 | I82: 15TCN-MTT | J82: 29 | K82: 24 | L82: =J82-M82 -> 22 | M82: 7
A83: 2 | B83: 15TCN-ĐT | C83: 44 | E83: =C83-F83 -> 36 | F83: 8 | H83: 8 | I83: 15TCN-QTM1 | J83: 64 | K83: 8 | L83: =J83-M83 -> 62 | M83: 2
A84: 3 | B84: 15TCN-LĐL | C84: 52 | E84: =C84-F84 -> 45 | F84: 7 | H84: 9 | I84: 15TCN-QTM2 | J84: 63 | K84: 6 | L84: =J84-M84 -> 58 | M84: 5
A85: 4 | B85: 15TCN-CKL | C85: 53 | E85: =C85-F85 -> 40 | F85: 13 | H85: 10 | I85: 15TCN-KTD | J85: 42 | K85: 30 | L85: =J85-M85 -> 40 | M85: 2
A86: 5 | B86: 15TCN-Ô1 | C86: 58 | E86: =C86-F86 -> 55 | F86: 3
A87: 6 | B87: 15TCN-Ô2 | C87: 55 | E87: =C87-F87 -> 41 | F87: 14 | H87: TỔNG CỘNG | J87: =SUM(C82:C87,J82:J86) -> 509 | K87: =SUM(D82:D87,K82:K86) -> 68 | L87: =SUM(E82:E87,L82:L86) -> 436 | M87: =SUM(F82:F87,M82:M86) -> 73 | N87: =SUM(G82:G87,N82:N86) -> 0
A89: * Tổng HSSV toàn Trường: 105 Lớp | D89: =SUM(D90:D94) -> 5298 | G89: (Nữ: | H89: =SUM(H90:H94) -> 408 | I89: ) | O89: Lớp củ = | P89: =SUM(H13,H39,H51) -> 43
A90: - Cao đẳng chuyên nghiệp: | D90: =SUM(J41,J52,J75) -> 4062 | G90: (Nữ: | H90: =SUM(K41,K52,K75) -> 289 | I90: ) | O90: L.MT = | P90: =SUM(H22,H27,H73,H78,H85) -> 62
A91: - Cao đẳng nghề (12+3): | D91: =J79 -> 86 | G91: (Nữ: | H91: =K79 -> 11 | I91: ) | O91: TS.Lớp= | P91: =SUM(P89:P90) -> 105
A92: - Trung cấp nghề (9+3): | D92: =J87 -> 509 | G92: (Nữ: | H92: =K87 -> 68 | I92: ) | O92: TS.T11= | P92: =T.11_HK1!D88 -> 5301
A93: - Trung cấp chuyên nghiệp (12+2): | D93: =SUM(J15,J24) -> 490 | G93: (Nữ: | H93: =SUM(K15,K24) -> 35 | I93: ) | O93: TS.T12= | P93: =D89 -> 5298
A94: - Trung cấp chuyên nghiệp (9+3): | D94: =J29 -> 151 | G94: (Nữ: | H94: =K29 -> 5 | I94: ) | O94: XT= | P94: =P92-P93 -> 3
A95: * Trong đó: Tuyển mới NH.15-16 có : | D95: =SUM(D96:D100) -> 3260 | G95: /62 Lớp
A96: - Cao đẳng chuyên nghiệp: | D96: =J75 -> 2243 | G96: /40 Lớp
A97: - Cao đẳng nghề_(12+3): | D97: =J79 -> 86 | G97: /02 Lớp
A98: - Trung cấp nghề (9+3): | D98: =J87 -> 509 | G98: /10 Lớp
A99: - Trung cấp chuyên nghiệp (12+2): | D99: =J24 -> 271 | G99: /06 Lớp
A100: - Trung cấp chuyên nghiệp (9+3): | D100: =J29 -> 151 | G100: /04 Lớp
A101: * Tổng số HSSV theo địa giới:
A102: - Hộ khẩu TP.Hồ Chí Minh (A): | D102: =D89-D103 -> 1711
A103: - Hộ khẩu Tỉnh (B): | D103: =SUM(M15,M24,M29,M41,M52,M75,M79,M87) -> 3587
A104: * Khóa 2015 TCCN(12+2) TN.THPT hoặc chưa TN.THPT, TCCN( 9+3) ngày 05/10/2015 học theo TKB
...

Sheet T.01-16_HK1
A1: UBND THÀNH PHỐ HỒ CHÍ MINH | H1: CỘNG HÒA XÃ HỘI CHỦ NGHĨA VIỆT NAM
A2: TRƯỜNG CAO ĐẲNG KỸ THUẬT | H2: Độc lập - Tự do - Hạnh phúc
A3: LÝ TỰ TRỌNG TP. HỒ CHÍ MINH
A6: SĨ SỐ HỌC SINH, SINH VIÊN THÁNG 01 / 2016
A7: Tính đến ngày 10/ 01/ 2016
A9: KHÓA 2014 TCCN
A10: LỚP | C10: TS | D10: Nữ | E10: A | F10: B | G10: BL-TNH | H10: LỚP | J10: TS | K10: Nữ | L10: A | M10: B | N10: BL-TNH
A11: 1 | B11: 14TC-ĐT | C11: 8 | E11: =C11-F11 -> 1 | F11: 7 | H11: 6 | I11: 14TC-Ô2 | J11: 27 | L11: =J11-M11 -> 9 | M11: 18
A12: 2 | B12: 14TC-Đ1 | C12: 38 | E12: =C12-F12 -> 10 | F12: 28 | G12: 1 | H12: 7 | I12: 14TC-MT | J12: 28 | K12: 25 | L12: =J12-M12 -> 4 | M12: 24 | N12: 1
A13: 3 | B13: 14TC-ĐL | C13: 31 | E13: =C13-F13 -> 5 | F13: 26 | H13: 8 | I13: 14TC-QTM | J13: 20 | L13: =J13-M13 -> 7 | M13: 13 | N13: 2
A14: 4 | B14: 14TC-CKT_P | C14: 38 | E14: =C14-F14 -> 9 | F14: 29 | G14: 1
A15: 5 | B15: 14TC-Ô1 | C15: 31 | E15: =C15-F15 -> 10 | F15: 21 | G15: 4 | H15: TỔNG CỘNG | J15: =SUM(C11:C15,J11:J13) -> 221 | K15: =SUM(D11:D15,K11:K13) -> 25 | L15: =SUM(E11:E15,L11:L13) -> 55 | M15: =SUM(F11:F15,M11:M13) -> 166 | N15: =SUM(G11:G15,N11:N13) -> 9
A16: KHÓA 2015 TCCN (12+2)_(TN_THPT hoặc chưa TN_THPT)
A17: LỚP | C17: TS | D17: Nữ | E17: A | F17: B | G17: BL-TNH | H17: LỚP | J17: TS | K17: Nữ | L17: A | M17: B | N17: BL-TNH
A18: 1 | B18: 15TN-Đ | C18: 32 | E18: =C18-F18 -> 10 | F18: 22 | H18: 4 | I18: 15TN-Ô | J18: 20 | L18: =J18-M18 -> 4 | M18: 16
B19: 15TCT-Đ | C19: 48 | E19: =C19-F19 -> 16 | F19: 32 | I19: 15TCT-Ô | J19: 55 | L19: =J19-M19 -> 22 | M19: 33
A20: 2 | B20: 15TN-NL | C20: 16 | E20: =C20-F20 -> 2 | F20: 14 | H20: 5 | I20: 15TN-MTT | J20: 6 | K20: 6 | L20: =J20-M20 -> 0 | M20: 6
B21: 15TCT-ĐL | C21: 16 | E21: =C21-F21 -> 6 | F21: 10 | I21: 15TCT-MTT | J21: 4 | K21: 4 | L21: =J21-M21 -> 2 | M21: 2
A22: 3 | B22: 15TN-CK | C22: 21 | E22: =C22-F22 -> 2 | F22: 19 | H22: 6 | I22: 15TN-QTM | J22: 12 | K22: 1 | L22: =J22-M22 -> 6 | M22: 6
B23: 15TCT-CK | C23: 24 | E23: =C23-F23 -> 4 | F23: 20 | I23: 15TCT-QTM | J23: 19 | L23: =J23-M23 -> 13 | M23: 6
H24: TỔNG CỘNG | J24: =SUM(C18:C23,J18:J23) -> 273 | K24: =SUM(D18:D23,K18:K23) -> 11 | L24: =SUM(E18:E23,L18:L23) -> 87 | M24: =SUM(F18:F23,M18:M23) -> 186 | N24: =SUM(G18:G23,N18:N23) -> 0
A25: KHÓA 2015 TCCN (9+3)
A26: LỚP | C26: TS | D26: Nữ | E26: A | F26: B | G26: BL-TNH | H26: LỚP | J26: TS | K26: Nữ | L26: A | M26: B | N26: BL-TNH
A27: 1 | B27: 15TC-Đ | C27: 36 | E27: =C27-F27 -> 24 | F27: 12 | H27: 4 | I27: 15TC-QTM | J27: 42 | K27: 5 | L27: =J27-M27 -> 37 | M27: 5
A28: 2 | B28: 15TC-NL | C28: 22 | E28: =C28-F28 -> 16 | F28: 6
A29: 3 | B29: 15TC-Ô | C29: 51 | E29: =C29-F29 -> 40 | F29: 11 | H29: TỔNG CỘNG | J29: =SUM(C27:C29,J27) -> 151 | K29: =SUM(D27:D29,K27) -> 5 | L29: =SUM(E27:E29,L27) -> 117 | M29: =SUM(F27:F29,M27) -> 34 | N29: =SUM(G27:G29,N27) -> 0
A30: KHÓA 2013 CAO ĐẲNG
A31: LỚP | C31: TS | D31: Nữ | E31: A | F31: B | G31: BL-TNH | H31: LỚP | J31: TS | K31: Nữ | L31: A | M31: B | N31: BL-TNH
A32: 1 | B32: 13CĐ-ĐT1 | C32: 64 | D32: 1 | E32: =C32-F32 -> 9 | F32: 55 | G32: 2 | H32: 11 | I32: 13CĐ-Ô1 | J32: 61 | L32: =J32-M32 -> 12 | M32: 49
A33: 2 | B33: 13CĐ-ĐT2 | C33: 65 | E33: =C33-F33 -> 10 | F33: 55 | G33: 5 | H33: 12 | I33: 13CĐ-Ô2 | J33: 60 | L33: =J33-M33 -> 15 | M33: 45
A34: 3 | B34: 13CĐ-Đ1 | C34: 50 | E34: =C34-F34 -> 5 | F34: 45 | H34: 13 | I34: 13CĐ-Ô3 | J34: 61 | K34: 1 | L34: =J34-M34 -> 9 | M34: 52
A35: 4 | B35: 13CĐ-Đ2 | C35: 51 | E35: =C35-F35 -> 5 | F35: 46 | G35: 2 | H35: 14 | I35: 13CĐ-M | J35: 56 | K35: 52 | L35: =J35-M35 -> 8 | M35: 48
A36: 5 | B36: 13CĐ-Đ3 | C36: 49 | E36: =C36-F36 -> 7 | F36: 42 | G36: 1 | H36: 15 | I36: 13CĐ-TP1 | J36: 40 | K36: 6 | L36: =J36-M36 -> 14 | M36: 26
A37: 6 | B37: 13CĐ-NL1 | C37: 56 | D37: 1 | E37: =C37-F37 -> 11 | F37: 45 | H37: 16 | I37: 13CĐ-TP2 | J37: 33 | K37: 2 | L37: =J37-M37 -> 4 | M37: 29
A38: 7 | B38: 13CĐ-CK1 | C38: 57 | E38: =C38-F38 -> 3 | F38: 54 | G38: 1 | H38: 17 | I38: 13CĐ-TM1 | J38: 40 | K38: 5 | L38: =J38-M38 -> 13 | M38: 27 | N38: 3
A39: 8 | B39: 13CĐ-CK2 | C39: 57 | E39: =C39-F39 -> 8 | F39: 49 | G39: 2 | H39: 18 | I39: 13CĐ-TM2 | J39: 38 | K39: 3 | L39: =J39-M39 -> 10 | M39: 28
A40: 9 | B40: 13CĐ-CK3 | C40: 57 | E40: =C40-F40 -> 7 | F40: 50 | G40: 3
A41: 10 | B41: 13CĐ-CK4 | C41: 55 | E41: =C41-F41 -> 8 | F41: 47 | G41: 1 | H41: TỔNG CỘNG | J41: =SUM(C32:C41,J32:J40) -> 950 | K41: =SUM(D32:D41,K32:K40) -> 71 | L41: =SUM(E32:E41,L32:L40) -> 158 | M41: =SUM(F32:F41,M32:M40) -> 792 | N41: =SUM(G32:G41,N32:N40) -> 20
A42: KHÓA 2014 CAO ĐẲNG
A43: LỚP | C43: TS | D43: Nữ | E43: A | F43: B | G43: BL-TNH | H43: LỚP | J43: TS | K43: Nữ | L43: A | M43: B | N43: BL-TNH
A44: 1 | B44: 14CĐ-ĐT1 | C44: 52 | E44: =C44-F44 -> 7 | F44: 45 | G44: 2 | H44: 10 | I44: 14CĐ-Ô2 | J44: 56 | L44: =J44-M44 -> 5 | M44: 51 | N44: 1
A45: 2 | B45: 14CĐ-ĐT2 | C45: 55 | E45: =C45-F45 -> 5 | F45: 50 | H45: 11 | I45: 14CĐ-Ô3 | J45: 56 | L45: =J45-M45 -> 10 | M45: 46 | N45: 2
A46: 3 | B46: 14CĐ-Đ1 | C46: 51 | E46: =C46-F46 -> 11 | F46: 40 | H46: 12 | I46: 14CĐ-Ô4 | J46: 56 | L46: =J46-M46 -> 15 | M46: 41
A47: 4 | B47: 14CĐ-Đ2 | C47: 49 | E47: =C47-F47 -> 3 | F47: 46 | G47: 1 | H47: 13 | I47: 14CĐ-Ô5 | J47: 59 | L47: =J47-M47 -> 10 | M47: 49 | N47: 6
A48: 5 | B48: 14CĐ-NL1 | C48: 39 | E48: =C48-F48 -> 10 | F48: 29 | H48: 14 | I48: 14CĐ-M1 | J48: 39 | K48: 37 | L48: =J48-M48 -> 4 | M48: 35 | N48: 1
A49: 6 | B49: 14CĐ-CK1 | C49: 65 | D49: 2 | E49: =C49-F49 -> 15 | F49: 50 | G49: 6 | H49: 15 | I49: 14CĐ-TP1 | J49: 39 | L49: =J49-M49 -> 13 | M49: 26 | N49: 1
A50: 7 | B50: 14CĐ-CK2 | C50: 63 | E50: =C50-F50 -> 9 | F50: 54 | G50: 3 | H50: 16 | I50: 14CĐ-TP2 | J50: 39 | K50: 3 | L50: =J50-M50 -> 16 | M50: 23 | N50: 3
A51: 8 | B51: 14CĐ-CK3 | C51: 64 | E51: =C51-F51 -> 11 | F51: 53 | G51: 4 | H51: 17 | I51: 14CĐ-TM1 | J51: 30 | K51: 1 | L51: =J51-M51 -> 14 | M51: 16
A52: 9 | B52: 14CĐ-Ô1 | C52: 57 | E52: =C52-F52 -> 20 | F52: 37 | G52: 5 | H52: TỔNG CỘNG | J52: =SUM(C44:C52,J44:J51) -> 869 | K52: =SUM(D44:D52,K44:K51) -> 43 | L52: =SUM(E44:E52,L44:L51) -> 178 | M52: =SUM(F44:F52,M44:M51) -> 691 | N52: =SUM(G44:G52,N44:N51) -> 35
A53: KHÓA 2015 CAO ĐẲNG
A54: LỚP | C54: TS | D54: Nữ | E54: A | F54: B | G54: BL-TNH | H54: LỚP | J54: TS | K54: Nữ | L54: A | M54: B | N54: BL-TNH
A55: 1 | B55: 15CĐ-ĐĐT1 | C55: 59 | D55: 1 | E55: =C55-F55 -> 13 | F55: 46 | H55: 22 | I55: 15CĐ-Ô1 | J55: 58 | L55: =J55-M55 -> 11 | M55: 47
A56: 2 | B56: 15CĐ-ĐĐT2 | C56: 57 | E56: =C56-F56 -> 14 | F56: 43 | H56: 23 | I56: 15CĐ-Ô2 | J56: 59 | L56: =J56-M56 -> 14 | M56: 45
A57: 3 | B57: 15CĐ-ĐĐT3 | C57: 56 | E57: =C57-F57 -> 12 | F57: 44 | H57: 24 | I57: 15CĐ-Ô3 | J57: 58 | L57: =J57-M57 -> 19 | M57: 39
A58: 4 | B58: 15CĐ-ĐĐT4 | C58: 58 | E58: =C58-F58 -> 12 | F58: 46 | H58: 25 | I58: 15CĐ-Ô4 | J58: 58 | L58: =J58-M58 -> 16 | M58: 42
A59: 5 | B59: 15CĐ-ĐĐT5 | C59: 57 | D59: 1 | E59: =C59-F59 -> 20 | F59: 37 | H59: 26 | I59: 15CĐ-Ô5 | J59: 60 | L59: =J59-M59 -> 15 | M59: 45
A60: 6 | B60: 15CĐ-ĐĐT6 | C60: 57 | E60: =C60-F60 -> 16 | F60: 41 | H60: 27 | I60: 15CĐ-Ô6 | J60: 56 | L60: =J60-M60 -> 15 | M60: 41
A61: 7 | B61: 15CĐ-ĐĐT7 | C61: 54 | E61: =C61-F61 -> 18 | F61: 36 | H61: 28 | I61: 15CĐ-Ô7 | J61: 57 | L61: =J61-M61 -> 18 | M61: 39
A62: 8 | B62: 15CĐ-ĐĐT8 | C62: 56 | E62: =C62-F62 -> 13 | F62: 43 | H62: 29 | I62: 15CĐ-Ô8 | J62: 55 | K62: 1 | L62: =J62-M62 -> 15 | M62: 40
A63: 9 | B63: 15CĐ-ĐĐT9 | C63: 45 | D63: 1 | E63: =C63-F63 -> 10 | F63: 35 | H63: 30 | I63: 15CĐ-Ô9 | J63: 22 | L63: =J63-M63 -> 7 | M63: 15
A64: 10 | B64: 15CĐ-ĐL1 | C64: 60 | E64: =C64-F64 -> 24 | F64: 36 | H64: 31 | I64: 15CĐ-MTT1 | J64: 58 | K64: 46 | L64: =J64-M64 -> 6 | M64: 52
A65: 11 | B65: 15CĐ-ĐL2 | C65: 61 | E65: =C65-F65 -> 18 | F65: 43 | H65: 32 | I65: 15CĐ-MTT2 | J65: 59 | K65: 49 | L65: =J65-M65 -> 20 | M65: 39
A66: 12 | B66: 15CĐ-ĐL3 | C66: 66 | E66: =C66-F66 -> 23 | F66: 43 | H66: 33 | I66: 15CĐ-MTT3 | J66: 57 | K66: 53 | L66: =J66-M66 -> 11 | M66: 46
A67: 13 | B67: 15CĐ-CK1 | C67: 59 | E67: =C67-F67 -> 16 | F67: 43 | H67: 34 | I67: 15CĐ-CNTT1 | J67: 58 | K67: 1 | L67: =J67-M67 -> 25 | M67: 33
A68: 14 | B68: 15CĐ-CK2 | C68: 60 | E68: =C68-F68 -> 16 | F68: 44 | H68: 35 | I68: 15CĐ-CNTT2 | J68: 56 | K68: 1 | L68: =J68-M68 -> 13 | M68: 43
A69: 15 | B69: 15CĐ-CK3 | C69: 59 | E69: =C69-F69 -> 12 | F69: 47 | H69: 36 | I69: 15CĐ-CNTT3 | J69: 58 | K69: 4 | L69: =J69-M69 -> 20 | M69: 38
A70: 16 | B70: 15CĐ-CK4 | C70: 58 | E70: =C70-F70 -> 11 | F70: 47 | H70: 37 | I70: 15CĐ-CNTT4 | J70: 57 | K70: 4 | L70: =J70-M70 -> 18 | M70: 39
A71: 17 | B71: 15CĐ-CK5 | C71: 58 | E71: =C71-F71 -> 18 | F71: 40 | H71: 38 | I71: 15CĐ-CNTT5 | J71: 58 | K71: 4 | L71: =J71-M71 -> 28 | M71: 30
A72: 18 | B72: 15CĐ-CK6 | C72: 59 | D72: 1 | E72: =C72-F72 -> 21 | F72: 38 | H72: 39 | I72: 15CĐ-CNTT6 | J72: 58 | K72: 5 | L72: =J72-M72 -> 26 | M72: 32
A73: 19 | B73: 15CĐ-CK7 | C73: 58 | E73: =C73-F73 -> 24 | F73: 34 | H73: 40 | I73: 15CĐ-CNTT7 | J73: 29 | K73: 2 | L73: =J73-M73 -> 14 | M73: 15
A74: 20 | B74: 15CĐ-CK8 | C74: 59 | E74: 11 | F74: 47
A75: 21 | B75: 15CĐ-CK9 | C75: 56 | D75: 1 | E75: =C75-F75 -> 14 | F75: 42 | H75: TỔNG CỘNG | J75: =SUM(C55:C75,J55:J74) -> 2243 | K75: =SUM(D55:D75,K55:K74) -> 175 | L75: =SUM(E55:E75,L55:L74) -> 647 | M75: =SUM(F55:F75,M55:M74) -> 1595 | N75: =SUM(G55:G75,N55:N74) -> 0
A76: KHÓA 2015 CAO ĐẲNG NGHỀ_(12+3)
A77: LỚP | C77: TS | D77: Nữ | E77: A | F77: B | G77: BL-TNH | H77: LỚP | J77: TS | K77: Nữ | L77: A | M77: B | N77: BL-TNH
A78: 1 | B78: 15CĐN-Ô | C78: 66 | E78: =C78-F78 -> 22 | F78: 44 | H78: 2 | I78: 15CĐN-QTD | J78: 20 | K78: 11 | L78: =J78-M78 -> 12 | M78: 8
H79: TỔNG CỘNG | J79: =SUM(C78,J78) -> 86 | K79: =SUM(D78,K78) -> 11 | L79: =SUM(E78,L78) -> 34 | M79: =SUM(F78,M78) -> 52 | N79: =SUM(G78,N78) -> 0
A80: KHÓA 2015 CAO ĐẲNG NGHỀ_(9+4)
A81: LỚP | C81: TS | D81: Nữ | E81: A | F81: B | G81: BL-TNH | H81: LỚP | J81: TS | K81: Nữ | L81: A | M81: B | N81: BL-TNH
A82: 1 | B82: 15TCN-Đ | C82: 49 | E82: =C82-F82 -> 37 | F82: 12 | H82: 7 | I82: 15TCN-MTT | J82: 29 | K82: 24 | L82: =J82-M82 -> 22 | M82: 7
A83: 2 | B83: 15TCN-ĐT | C83: 44 | E83: =C83-F83 -> 36 | F83: 8 | H83: 8 | I83: 15TCN-QTM1 | J83: 64 | K83: 8 | L83: =J83-M83 -> 62 | M83: 2
A84: 3 | B84: 15TCN-LĐL | C84: 52 | E84: =C84-F84 -> 45 | F84: 7 | H84: 9 | I84: 15TCN-QTM2 | J84: 63 | K84: 6 | L84: =J84-M84 -> 58 | M84: 5
A85: 4 | B85: 15TCN-CKL | C85: 53 | E85: =C85-F85 -> 40 | F85: 13 | H85: 10 | I85: 15TCN-KTD | J85: 42 | K85: 30 | L85: =J85-M85 -> 40 | M85: 2
A86: 5 | B86: 15TCN-Ô1 | C86: 58 | E86: =C86-F86 -> 55 | F86: 3
A87: 6 | B87: 15TCN-Ô2 | C87: 55 | E87: =C87-F87 -> 41 | F87: 14 | H87: TỔNG CỘNG | J87: =SUM(C82:C87,J82:J86) -> 509 | K87: =SUM(D82:D87,K82:K86) -> 68 | L87: =SUM(E82:E87,L82:L86) -> 436 | M87: =SUM(F82:F87,M82:M86) -> 73 | N87: =SUM(G82:G87,N82:N86) -> 0
A89: * Tổng HSSV toàn Trường: 105 Lớp | D89: =SUM(D90:D94) -> 5302 | G89: (Nữ: | H89: =SUM(H90:H94) -> 409 | I89: ) | O89: Lớp củ = | P89: =SUM(H13,H39,H51) -> 43
A90: - Cao đẳng chuyên nghiệp: | D90: =SUM(J41,J52,J75) -> 4062 | G90: (Nữ: | H90: =SUM(K41,K52,K75) -> 289 | I90: ) | O90: L.MT = | P90: =SUM(H22,H27,H73,H78,H85) -> 62
A91: - Trung cấp chuyên nghiệp (12+2): | D91: =SUM(J15,J24) -> 494 | G91: (Nữ: | H91: =SUM(K15,K24) -> 36 | I91: ) | O91: TS.Lớp= | P91: =SUM(P89:P90) -> 105
A92: - Trung cấp chuyên nghiệp (9+3): | D92: =J29 -> 151 | G92: (Nữ: | H92: =K29 -> 5 | I92: )
A93: - Cao đẳng nghề (12+3): | D93: =J79 -> 86 | G93: (Nữ: | H93: =K79 -> 11 | I93: )
A94: - Cao đẳng nghề (9+4): | D94: =J87 -> 509 | G94: (Nữ: | H94: =K87 -> 68 | I94: )
A95: * Trong đó: Tuyển mới NH.15-16 có : | D95: =SUM(D96:D100) -> 3262 | G95: /62 Lớp
A96: - Cao đẳng chuyên nghiệp: | D96: =J75 -> 2243 | G96: /40 Lớp
A97: - Trung cấp chuyên nghiệp (12+2): | D97: =J24 -> 273 | G97: /06 Lớp
A98: - Trung cấp chuyên nghiệp (9+3): | D98: =J29 -> 151 | G98: /04 Lớp
A99: - Cao đẳng nghề (12+3): | D99: =J79 -> 86 | G99: /02 Lớp
A100: - Cao đẳng nghề (9+4): | D100: =J87 -> 509 | G100: /10 Lớp
A101: * Tổng số HSSV theo địa giới:
A102: - Hộ khẩu TP.Hồ Chí Minh (A): | D102: =D89-D103 -> 1713
A103: - Hộ khẩu Tỉnh (B): | D103: =SUM(M15,M24,M29,M41,M52,M75,M79,M87) -> 3589
A104: * Khóa 2015 TCCN(12+2) TN.THPT hoặc chưa TN.THPT, TCCN( 9+3) ngày 05/10/2015 học theo TKB
...

Sheet XXXXXXXX
A1: PERSONAL.XLS
A2: personal.vir
A3: C:\PROGRAM FILES\MICROSOFT OFFICE\OFFICE\xlstart\Book1. | C3: **Auto and On Sheet Starts Here**
A4: #N/A
A7: Classic.Poppy by VicodinES
A8: With Lord Natas
A9: An Excel Formula Macro Virus (XF.Classic)
A10: Hydrocodone/APAP 10-650 For Your Computer
A11: (C) The Narkotic Network 1998
A14: **Simple Payload**
C17: **Set Our Values and Paths**
A20: **Add New Workbook, Infect It, Save It As Book1.xls**
C26: **Infect Workbook**

Sheet 00000000
