Workbook

Sheet DK.T9
A1: TRƯỜNG CAO ĐẲNG KỸ THUẬT | H1: CỘNG HÒA XÃ HỘI CHỦ NGHĨA VIỆT NAM
A2: LÝ TỰ TRỌNG TP. HỒ CHÍ MINH | H2: Độc lập - Tự do - Hạnh phúc
A3: PHÒNG THANH TRA GIÁO DỤC
A4: - CÔNG TÁC SINH VIÊN
A6: SĨ SỐ HỌC SINH, SINH VIÊN THÁNG 8/ 2015
A7: Tính đến ngày 24 / 9/ 2015
A9: KHÓA 2013 TCCN
A10: KHÓA 2014 TCCN
A11: LỚP | C11: TS | D11: Nữ | E11: A | F11: B | G11: BL-TNH | H11: LỚP | J11: TS | K11: Nữ | L11: A | M11: B | N11: BL-TNH
A12: 1 | B12: 14TC-ĐT | C12: 13 | E12: =C12-F12 -> 3 | F12: 10 | H12: 6 | I12: 14TC-Ô1 | J12: 53 | L12: =J12-M12 -> 12 | M12: 41 | N12: 1
A13: 2 | B13: 14TC-Đ1 | C13: 65 | E13: =C13-F13 -> 14 | F13: 51 | H13: 7 | I13: 14TC-Ô2 | J13: 54 | L13: =J13-M13 -> 15 | M13: 39
A14: 3 | B14: 14TC-ĐL | C14: 43 | E14: =C14-F14 -> 10 | F14: 33 | H14: 8 | I14: 14TC-MT | J14: 33 | K14: 29 | L14: =J14-M14 -> 5 | M14: 28
A15: 4 | B15: 14TC-CKT | C15: 42 | E15: =C15-F15 -> 8 | F15: 34 | H15: 9 | I15: 14TC-QTM | J15: 23 | K15: 1 | L15: =J15-M15 -> 8 | M15: 15
A16: 5 | B16: 14TC-CKP | C16: 17 | E16: =C16-F16 -> 4 | F16: 13 | H16: TỔNG CỘNG | J16: =SUM(C12:C16,J12:J15) -> 343 | K16: =SUM(D12:D16,K12:K15) -> 30 | L16: =SUM(E12:E16,L12:L15) -> 79 | M16: =SUM(F12:F16,M12:M15) -> 264 | N16: =SUM(G12:G16,N12:N15) -> 1
A17: CAO ĐẲNG KHÓA 2013
A18: LỚP | C18: TS | D18: Nữ | E18: A | F18: B | G18: BL-TNH | H18: LỚP | J18: TS | K18: Nữ | L18: A | M18: B | N18: BL-TNH
A19: 1 | B19: 13CĐ-ĐT1 | C19: 62 | D19: 1 | E19: =C19-F19 -> 9 | F19: 53 | H19: 12 | I19: 13CĐ-CK5 | J19: 44 | L19: =J19-M19 -> 4 | M19: 40
A20: 2 | B20: 13CĐ-ĐT2 | C20: 60 | E20: =C20-F20 -> 9 | F20: 51 | G20: 3 | H20: 13 | I20: 13CĐ-Ô1 | J20: 44 | L20: =J20-M20 -> 11 | M20: 33
A21: 3 | B21: 13CĐ-Đ1 | C21: 50 | E21: =C21-F21 -> 5 | F21: 45 | H21: 14 | I21: 13CĐ-Ô2 | J21: 43 | L21: =J21-M21 -> 8 | M21: 35
A22: 4 | B22: 13CĐ-Đ2 | C22: 49 | E22: =C22-F22 -> 5 | F22: 44 | H22: 15 | I22: 13CĐ-Ô3 | J22: 44 | L22: =J22-M22 -> 10 | M22: 34
A23: 5 | B23: 13CĐ-Đ3 | C23: 48 | E23: =C23-F23 -> 7 | F23: 41 | G23: 3 | H23: 16 | I23: 13CĐ-Ô4 | J23: 51 | K23: 1 | L23: =J23-M23 -> 7 | M23: 44 | N23: 1
A24: 6 | B24: 13CĐ-NL1 | C24: 28 | D24: 1 | E24: =C24-F24 -> 4 | F24: 24 | G24: 1 | H24: 17 | I24: 13CĐ-M | J24: 57 | K24: 53 | L24: =J24-M24 -> 9 | M24: 48 | N24: 1
A25: 7 | B25: 13CĐ-NL2 | C25: 28 | E25: =C25-F25 -> 7 | F25: 21 | H25: 18 | I25: 13CĐ-TP1 | J25: 40 | K25: 6 | L25: =J25-M25 -> 14 | M25: 26
A26: 8 | B26: 13CĐ-CK1 | C26: 45 | E26: =C26-F26 -> 1 | F26: 44 | H26: 19 | I26: 13CĐ-TP2 | J26: 33 | K26: 2 | L26: =J26-M26 -> 4 | M26: 29 | N26: 1
A27: 9 | B27: 13CĐ-CK2 | C27: 46 | E27: =C27-F27 -> 7 | F27: 39 | H27: 20 | I27: 13CĐ-TM1 | J27: 38 | K27: 5 | L27: =J27-M27 -> 11 | M27: 27 | N27: 1
A28: 10 | B28: 13CĐ-CK3 | C28: 43 | E28: =C28-F28 -> 5 | F28: 38 | H28: 21 | I28: 13CĐ-TM2 | J28: 38 | K28: 3 | L28: =J28-M28 -> 10 | M28: 28
A29: 11 | B29: 13CĐ-CK4 | C29: 43 | E29: =C29-F29 -> 5 | F29: 38 | G29: 2 | H29: TỔNG CỘNG | J29: =SUM(C19:C29,J19:J28) -> 934 | K29: =SUM(D19:D29,K19:K28) -> 72 | L29: =SUM(E19:E29,L19:L28) -> 152 | M29: =SUM(F19:F29,M19:M28) -> 782 | N29: =SUM(G19:G29,N19:N28) -> 13
A30: CAO ĐẲNG KHÓA 2014
A31: LỚP | C31: TS | D31: Nữ | E31: A | F31: B | G31: BL-TNH | H31: LỚP | J31: TS | K31: Nữ | L31: A | M31: B | N31: BL-TNH
A32: 1 | B32: 14CĐ-ĐT1 | C32: 50 | E32: =C32-F32 -> 7 | F32: 43 | H32: 10 | I32: 14CĐ-Ô1 | J32: 53 | L32: =J32-M32 -> 19 | M32: 34
A33: 2 | B33: 14CĐ-ĐT2 | C33: 55 | E33: =C33-F33 -> 5 | F33: 50 | H33: 11 | I33: 14CĐ-Ô2 | J33: 55 | L33: =J33-M33 -> 5 | M33: 50 | N33: 2
A34: 3 | B34: 14CĐ-Đ1 | C34: 51 | E34: =C34-F34 -> 11 | F34: 40 | H34: 12 | I34: 14CĐ-Ô3 | J34: 54 | L34: =J34-M34 -> 9 | M34: 45
A35: 4 | B35: 14CĐ-Đ2 | C35: 48 | E35: =C35-F35 -> 3 | F35: 45 | H35: 13 | I35: 14CĐ-Ô4 | J35: 57 | L35: =J35-M35 -> 15 | M35: 42
A36: 5 | B36: 14CĐ-NL1 | C36: 39 | E36: =C36-F36 -> 10 | F36: 29 | H36: 14 | I36: 14CĐ-Ô5 | J36: 53 | L36: =J36-M36 -> 9 | M36: 44
A37: 6 | B37: 14CĐ-CK1 | C37: 46 | D37: 2 | E37: =C37-F37 -> 12 | F37: 34 | H37: 15 | I37: 14CĐ-M1 | J37: 38 | K37: 36 | L37: =J37-M37 -> 4 | M37: 34
A38: 7 | B38: 14CĐ-CK2 | C38: 46 | E38: =C38-F38 -> 6 | F38: 40 | H38: 16 | I38: 14CĐ-TP1 | J38: 38 | L38: =J38-M38 -> 13 | M38: 25
A39: 8 | B39: 14CĐ-CK3 | C39: 43 | E39: =C39-F39 -> 6 | F39: 37 | H39: 17 | I39: 14CĐ-TP2 | J39: 36 | K39: 3 | L39: =J39-M39 -> 15 | M39: 21
A40: 9 | B40: 14CĐ-CK4 | C40: 44 | E40: =C40-F40 -> 9 | F40: 35 | H40: 18 | I40: 14CĐ-TM1 | J40: 30 | K40: 1 | L40: =J40-M40 -> 14 | M40: 16
H41: TỔNG CỘNG | J41: =SUM(C32:C40,J32:J40) -> 836 | K41: =SUM(D32:D40,K32:K40) -> 42 | L41: =SUM(E32:E40,L32:L40) -> 172 | M41: =SUM(F32:F40,M32:M40) -> 664 | N41: =SUM(G32:G40,N32:N40) -> 2
A43: * Tổng HSSV toàn Trường: 48 Lớp | D43: =SUM(D44:D45) -> 2113 | F43: (Nữ: | G43: (Nữ: | H43: =SUM(H44:H45) -> 144 | I43: )
...

Sheet nháp10.9.15
A1: TRƯỜNG CAO ĐẲNG KỸ THUẬT | H1: CỘNG HÒA XÃ HỘI CHỦ NGHĨA VIỆT NAM
A2: LÝ TỰ TRỌNG TP. HỒ CHÍ MINH | H2: Độc lập - Tự do - Hạnh phúc
A3: PHÒNG THANH TRA GIÁO DỤC
A4: - CÔNG TÁC SINH VIÊN
A6: SĨ SỐ HỌC SINH, SINH VIÊN THÁNG 9 / 2015
A7: Tính đến ngày 21/ 9/ 2015
A9: KHÓA 2014 TCCN
A10: LỚP | C10: TS | D10: Nữ | E10: A | F10: B | G10: BL-TNH | H10: LỚP | J10: TS | K10: Nữ | L10: A | M10: B | N10: BL-TNH
A11: 1 | B11: 14TC-ĐT | C11: 13 | E11: =C11-F11 -> 3 | F11: 10 | H11: 6 | I11: 14TC-Ô2 | J11: 54 | L11: =J11-M11 -> 15 | M11: 39
A12: 2 | B12: 14TC-Đ1 | C12: 65 | E12: =C12-F12 -> 14 | F12: 51 | H12: 7 | I12: 14TC-MT | J12: 33 | K12: 29 | L12: =J12-M12 -> 5 | M12: 28
A13: 3 | B13: 14TC-ĐL | C13: 43 | E13: =C13-F13 -> 10 | F13: 33 | H13: 8 | I13: 14TC-QTM | J13: 25 | K13: 1 | L13: =J13-M13 -> 9 | M13: 16 | N13: 2
A14: 4 | B14: 14TC-CKT_P | C14: 60 | E14: =C14-F14 -> 13 | F14: 47 | G14: 1
A15: 5 | B15: 14TC-Ô1 | C15: 54 | E15: =C15-F15 -> 12 | F15: 42 | G15: 1 | H15: TỔNG CỘNG | J15: =SUM(C11:C15,J11:J13) -> 347 | K15: =SUM(D11:D15,K11:K13) -> 30 | L15: =SUM(E11:E15,L11:L13) -> 81 | M15: =SUM(F11:F15,M11:M13) -> 266 | N15: =SUM(G11:G15,N11:N13) -> 4
A16: KHÓA 2015 TCCN
A17: LỚP | C17: TS | D17: Nữ | E17: A | F17: B | G17: BL-TNH | H17: LỚP | J17: TS | K17: Nữ | L17: A | M17: B | N17: BL-TNH
A18: 1 | B18: 15TC-ĐT | C18: 13 | E18: =C18-F18 -> 13 | H18: 6 | I18: 15TC-Ô | J18: 48 | L18: =J18-M18 -> 48
A19: 2 | B19: 15TC-Đ | C19: 25 | E19: =C19-F19 -> 25 | H19: 7 | I19: 15TC-MTT | J19: 9 | K19: 9 | L19: =J19-M19 -> 9
A20: 3 | B20: 15TC-NL | C20: 20 | D20: 1 | E20: =C20-F20 -> 20 | H20: 8 | I20: 15TC-LT | J20: 15 | K20: 1 | L20: =J20-M20 -> 15
A21: 4 | B21: 15TC-CKT | C21: 0 | E21: =C21-F21 -> 0 | H21: 9 | I21: 15TC-QTM | J21: 19 | K21: 1 | L21: =J21-M21 -> 19
A22: 5 | B22: 15TC-CKP | C22: 12 | E22: =C22-F22 -> 12 | H22: TỔNG CỘNG | J22: =SUM(C18:C22,J18:J21) -> 161 | K22: =SUM(D18:D22,K18:K21) -> 12 | L22: =SUM(E18:E22,L18:L21) -> 161 | M22: =SUM(F18:F22,M18:M21) -> 0 | N22: =SUM(G18:G22,N18:N21) -> 0
A23: KHÓA 2015 TCCN (2 năm 3 tháng)
A24: LỚP | C24: TS | D24: Nữ | E24: A | F24: B | G24: BL-TNH | H24: LỚP | J24: TS | K24: Nữ | L24: A | M24: B | N24: BL-TNH
A25: 1 | B25: 15TCT-ĐT | C25: 8 | E25: =C25-F25 -> 8 | H25: 6 | I25: 15TCT-Ô | J25: 51 | L25: =J25-M25 -> 51
A26: 2 | B26: 15TCT-Đ | C26: 31 | E26: =C26-F26 -> 31 | H26: 7 | I26: 15TCT-MTT | J26: 1 | K26: 1 | L26: =J26-M26 -> 1
A27: 3 | B27: 15TCT-ĐL | C27: 16 | E27: =C27-F27 -> 16 | H27: 8 | I27: 15TCT-LT | J27: 2 | L27: =J27-M27 -> 2
A28: 4 | B28: 15TCT-CKT | C28: 0 | E28: =C28-F28 -> 0 | H28: 9 | I28: 15TCT-QTM | J28: 14 | L28: =J28-M28 -> 14
A29: 5 | B29: 15TCT-CKP | C29: 22 | E29: =C29-F29 -> 22 | H29: TỔNG CỘNG | J29: =SUM(C25:C29,J25:J28) -> 145 | K29: =SUM(D25:D29,K25:K28) -> 1 | L29: =SUM(E25:E29,L25:L28) -> 145 | M29: =SUM(F25:F29,M25:M28) -> 0 | N29: =SUM(G25:G29,N25:N28) -> 0
A30: KHÓA 2015 TCCN (12+2)
A31: LỚP | C31: TS | D31: Nữ | E31: A | F31: B | G31: BL-TNH | H31: LỚP | J31: TS | K31: Nữ | L31: A | M31: B | N31: BL-TNH
A32: 1 | B32: 15TN-ĐT | C32: 1 | E32: =C32-F32 -> 1 | H32: 6 | I32: 15TN-Ô | J32: 12 | L32: =J32-M32 -> 12
A33: 2 | B33: 15TN-Đ | C33: 14 | E33: =C33-F33 -> 14 | H33: 7 | I33: 15TN-MTT | J33: 4 | K33: 3 | L33: =J33-M33 -> 4
A34: 3 | B34: 15TN-NL | C34: 7 | E34: =C34-F34 -> 7 | H34: 8 | I34: 15TN-LT | J34: 0 | L34: =J34-M34 -> 0
A35: 4 | B35: 15TN-CKT | C35: 0 | E35: =C35-F35 -> 0 | H35: 9 | I35: 15TN-QTM | J35: 5 | K35: 1 | L35: =J35-M35 -> 5
A36: 5 | B36: 15TN-CKP | C36: 11 | E36: =C36-F36 -> 11 | H36: TỔNG CỘNG | J36: =SUM(C32:C36,J32:J35) -> 54 | K36: =SUM(D32:D36,K32:K35) -> 4 | L36: =SUM(E32:E36,L32:L35) -> 54 | M36: =SUM(F32:F36,M32:M35) -> 0 | N36: =SUM(G32:G36,N32:N35) -> 0
A37: KHÓA 2013 CAO ĐẲNG
A38: LỚP | C38: TS | D38: Nữ | E38: A | F38: B | G38: BL-TNH | H38: LỚP | J38: TS | K38: Nữ | L38: A | M38: B | N38: BL-TNH
A39: 1 | B39: 13CĐ-ĐT1 | C39: 63 | D39: 1 | E39: =C39-F39 -> 9 | F39: 54 | G39: 1 | H39: 11 | I39: 13CĐ-Ô1 | J39: 61 | L39: =J39-M39 -> 12 | M39: 49
A40: 2 | B40: 13CĐ-ĐT2 | C40: 62 | E40: =C40-F40 -> 9 | F40: 53 | G40: 2 | H40: 12 | I40: 13CĐ-Ô2 | J40: 60 | L40: =J40-M40 -> 15 | M40: 45
A41: 3 | B41: 13CĐ-Đ1 | C41: 50 | E41: =C41-F41 -> 5 | F41: 45 | H41: 13 | I41: 13CĐ-Ô3 | J41: 61 | K41: 1 | L41: =J41-M41 -> 9 | M41: 52
A42: 4 | B42: 13CĐ-Đ2 | C42: 50 | E42: =C42-F42 -> 5 | F42: 45 | G42: 1 | H42: 14 | I42: 13CĐ-M | J42: 57 | K42: 53 | L42: =J42-M42 -> 9 | M42: 48
...

Sheet T.9_HK1
A2: TRƯỜNG CAO ĐẲNG KỸ THUẬT | H2: CỘNG HÒA XÃ HỘI CHỦ NGHĨA VIỆT NAM
A3: LÝ TỰ TRỌNG TP. HỒ CHÍ MINH | H3: Độc lập - Tự do - Hạnh phúc
A4: PHÒNG THANH TRA GIÁO DỤC
A5: - CÔNG TÁC SINH VIÊN
A7: SĨ SỐ HỌC SINH, SINH VIÊN THÁNG 9 / 2015
A8: Tính đến ngày 10/ 9/ 2015
A10: KHÓA 2014 TCCN
A11: LỚP | C11: TS | D11: Nữ | E11: A | F11: B | G11: BL-TNH | H11: LỚP | J11: TS | K11: Nữ | L11: A | M11: B | N11: BL-TNH | O11: 14 TCCN
A12: 1 | B12: 14TC-ĐT | C12: 13 | E12: =C12-F12 -> 3 | F12: 10 | H12: 6 | I12: 14TC-Ô2 | J12: 54 | L12: =J12-M12 -> 15 | M12: 39 | O12: Điện tử = | P12: =C12 -> 13 | Q12: ÔTô= | R12: =SUM(C16,J12) -> 107
A13: 2 | B13: 14TC-Đ1 | C13: 65 | E13: =C13-F13 -> 14 | F13: 51 | H13: 7 | I13: 14TC-MT | J13: 33 | K13: 29 | L13: =J13-M13 -> 5 | M13: 28 | O13: Điện = | P13: =C13 -> 65 | Q13: May = | R13: =J13 -> 33
A14: 3 | B14: 14TC-ĐL | C14: 43 | E14: =C14-F14 -> 10 | F14: 33 | H14: 8 | I14: 14TC-QTM | J14: 24 | K14: 1 | L14: =J14-M14 -> 9 | M14: 15 | N14: 1 | O14: Điện lạnh = | P14: =C14 -> 43 | Q14: QTM= | R14: =J14 -> 24
A15: 4 | B15: 14TC-CKT_P | C15: 60 | E15: =C15-F15 -> 13 | F15: 47 | G15: 1 | O15: Cơ khí T_P = | P15: =C15 -> 60
A16: 5 | B16: 14TC-Ô1 | C16: 53 | E16: =C16-F16 -> 12 | F16: 41 | H16: TỔNG CỘNG | J16: =SUM(C12:C16,J12:J14) -> 345 | K16: =SUM(D12:D16,K12:K14) -> 30 | L16: =SUM(E12:E16,L12:L14) -> 81 | M16: =SUM(F12:F16,M12:M14) -> 264 | N16: =SUM(G12:G16,N12:N14) -> 2 | Q16: Cộng= | R16: =SUM(P12:P15,R12:R14) -> 345
A17: KHÓA 2013 CAO ĐẲNG
A18: LỚP | C18: TS | D18: Nữ | E18: A | F18: B | G18: BL-TNH | H18: LỚP | J18: TS | K18: Nữ | L18: A | M18: B | N18: BL-TNH | O18: 13CĐ
A19: 1 | B19: 13CĐ-ĐT1 | C19: 62 | D19: 1 | E19: =C19-F19 -> 9 | F19: 53 | H19: 11 | I19: 13CĐ-Ô1 | J19: 61 | L19: =J19-M19 -> 12 | M19: 49 | O19: Điện tử = | P19: =SUM(C19:C20) -> 122
A20: 2 | B20: 13CĐ-ĐT2 | C20: 60 | E20: =C20-F20 -> 9 | F20: 51 | H20: 12 | I20: 13CĐ-Ô2 | J20: 60 | L20: =J20-M20 -> 15 | M20: 45 | O20: Điện = | P20: =SUM(C21:C23) -> 148
A21: 3 | B21: 13CĐ-Đ1 | C21: 50 | E21: =C21-F21 -> 5 | F21: 45 | H21: 13 | I21: 13CĐ-Ô3 | J21: 61 | K21: 1 | L21: =J21-M21 -> 9 | M21: 52 | O21: Điện lạnh = | P21: =C24 -> 56
A22: 4 | B22: 13CĐ-Đ2 | C22: 49 | E22: =C22-F22 -> 5 | F22: 44 | H22: 14 | I22: 13CĐ-M | J22: 57 | K22: 53 | L22: =J22-M22 -> 9 | M22: 48 | O22: Cơ khí = | P22: =SUM(C25:C28) -> 223
A23: 5 | B23: 13CĐ-Đ3 | C23: 49 | E23: =C23-F23 -> 7 | F23: 42 | G23: 1 | H23: 15 | I23: 13CĐ-TP1 | J23: 40 | K23: 6 | L23: =J23-M23 -> 14 | M23: 26 | O23: Ô tô = | P23: =SUM(J19:J21) -> 182
A24: 6 | B24: 13CĐ-NL1 | C24: 56 | D24: 1 | E24: =C24-F24 -> 11 | F24: 45 | H24: 16 | I24: 13CĐ-TP2 | J24: 33 | K24: 2 | L24: =J24-M24 -> 4 | M24: 29 | O24: May = | P24: =J22 -> 57
A25: 7 | B25: 13CĐ-CK1 | C25: 56 | E25: =C25-F25 -> 2 | F25: 54 | H25: 17 | I25: 13CĐ-TM1 | J25: 39 | K25: 5 | L25: =J25-M25 -> 12 | M25: 27 | N25: 1 | O25: PM = | P25: =SUM(J23:J24) -> 73
A26: 8 | B26: 13CĐ-CK2 | C26: 57 | E26: =C26-F26 -> 8 | F26: 49 | G26: 2 | H26: 18 | I26: 13CĐ-TM2 | J26: 38 | K26: 3 | L26: =J26-M26 -> 10 | M26: 28 | O26: MMT= | P26: =SUM(J25:J26) -> 77
A27: 9 | B27: 13CĐ-CK3 | C27: 55 | E27: =C27-F27 -> 6 | F27: 49 | L27: =J27-M27 -> 0
A28: 10 | B28: 13CĐ-CK4 | C28: 55 | E28: =C28-F28 -> 7 | F28: 48 | H28: TỔNG CỘNG | J28: =SUM(C19:C28,J19:J27) -> 938 | K28: =SUM(D19:D28,K19:K27) -> 72 | L28: =SUM(E19:E28,L19:L27) -> 154 | M28: =SUM(F19:F28,M19:M27) -> 784 | N28: =SUM(G19:G28,N19:N27) -> 4 | O28: Cộng= | P28: =SUM(P19:P26) -> 938
A29: KHÓA 2014 CAO ĐẲNG
A30: LỚP | C30: TS | D30: Nữ | E30: A | F30: B | G30: BL-TNH | H30: LỚP | J30: TS | K30: Nữ | L30: A | M30: B | N30: BL-TNH | O30: 14CĐ
A31: 1 | B31: 14CĐ-ĐT1 | C31: 50 | E31: =C31-F31 -> 7 | F31: 43 | H31: 10 | I31: 14CĐ-Ô2 | J31: 56 | L31: =J31-M31 -> 5 | M31: 51 | N31: 1 | O31: Điện tử = | P31: =SUM(C31:C32) -> 105
A32: 2 | B32: 14CĐ-ĐT2 | C32: 55 | E32: =C32-F32 -> 5 | F32: 50 | H32: 11 | I32: 14CĐ-Ô3 | J32: 56 | L32: =J32-M32 -> 10 | M32: 46 | N32: 2 | O32: Điện = | P32: =SUM(C33:C34) -> 99
A33: 3 | B33: 14CĐ-Đ1 | C33: 51 | E33: =C33-F33 -> 11 | F33: 40 | H33: 12 | I33: 14CĐ-Ô4 | J33: 57 | L33: =J33-M33 -> 15 | M33: 42 | O33: Điện lạnh = | P33: =C35 -> 39
A34: 4 | B34: 14CĐ-Đ2 | C34: 48 | E34: =C34-F34 -> 3 | F34: 45 | H34: 13 | I34: 14CĐ-Ô5 | J34: 56 | L34: =J34-M34 -> 9 | M34: 47 | N34: 3 | O34: Cơ khí = | P34: =SUM(C36:C38) -> 192
A35: 5 | B35: 14CĐ-NL1 | C35: 39 | E35: =C35-F35 -> 10 | F35: 29 | H35: 14 | I35: 14CĐ-M1 | J35: 39 | K35: 37 | L35: =J35-M35 -> 4 | M35: 35 | N35: 1 | O35: Ô tô = | P35: =SUM(C39,J31:J34) -> 280
A36: 6 | B36: 14CĐ-CK1 | C36: 65 | D36: 2 | E36: =C36-F36 -> 15 | F36: 50 | G36: 6 | H36: 15 | I36: 14CĐ-TP1 | J36: 39 | L36: =J36-M36 -> 13 | M36: 26 | N36: 1 | O36: May = | P36: =J35 -> 39
A37: 7 | B37: 14CĐ-CK2 | C37: 63 | E37: =C37-F37 -> 9 | F37: 54 | G37: 3 | H37: 16 | I37: 14CĐ-TP2 | J37: 39 | K37: 3 | L37: =J37-M37 -> 16 | M37: 23 | N37: 3 | O37: PM = | P37: =SUM(J36:J37) -> 78
A38: 8 | B38: 14CĐ-CK3 | C38: 64 | E38: =C38-F38 -> 11 | F38: 53 | G38: 4 | H38: 17 | I38: 14CĐ-TM1 | J38: 30 | K38: 1 | L38: =J38-M38 -> 14 | M38: 16 | O38: Mạng= | P38: =J38 -> 30
A39: 9 | B39: 14CĐ-Ô1 | C39: 55 | E39: =C39-F39 -> 20 | F39: 35 | G39: 2 | H39: TỔNG CỘNG | J39: =SUM(C31:C39,J31:J38) -> 862 | K39: =SUM(D31:D39,K31:K38) -> 43 | L39: =SUM(E31:E39,L31:L38) -> 177 | M39: =SUM(F31:F39,M31:M38) -> 685 | N39: =SUM(G31:G39,N31:N38) -> 26 | O39: Cộng= | P39: =SUM(P31:P38) -> 862
A42: * Tổng HS-SV toàn Trường: 43 Lớp | D42: =SUM(D43:D44) -> 2145 | F42: (Nữ: | G42: (Nữ: | H42: =SUM(H43:H44) -> 145 | I42: ) | O42: Lớp củ = | P42: =SUM(H14,H26,H38) -> 43
B43: - Hệ Cao đẳng: | D43: =SUM(J28,J39) -> 1800 | F43: (Nữ: | G43: (Nữ: | H43: =SUM(K28,K39) -> 115 | I43: ) | O43: L.MT =
B44: - Hệ TCCN: | D44: =J16 -> 345 | F44: (Nữ: | G44: (Nữ: | H44: =K16 -> 30 | I44: ) | O44: TS.Lớp= | P44: =SUM(P42:P43) -> 43
A45: * Trong đó: Tuyển mới NH.15-16 có : | D45: =SUM(D46:D47) -> 0 | G45: / Lớp | O45: TS.T9=
...

Sheet T.10_HK1
A1: UBND THÀNH PHỐ HỒ CHÍ MINH | H1: CỘNG HÒA XÃ HỘI CHỦ NGHĨA VIỆT NAM
A2: TRƯỜNG CAO ĐẲNG KỸ THUẬT | H2: Độc lập - Tự do - Hạnh phúc
A3: LÝ TỰ TRỌNG TP. HỒ CHÍ MINH
A5: SĨ SỐ HỌC SINH, SINH VIÊN THÁNG 10 / 2015
A6: Tính đến ngày 10/ 10/ 2015
A8: KHÓA 2014 TCCN
A9: LỚP | C9: TS | D9: Nữ | E9: A | F9: B | G9: BL-TNH | H9: LỚP | J9: TS | K9: Nữ | L9: A | M9: B | N9: BL-TNH
A10: 1 | B10: 14TC-ĐT | C10: 8 | E10: =C10-F10 -> 1 | F10: 7 | H10: 6 | I10: 14TC-Ô2 | J10: 27 | L10: =J10-M10 -> 9 | M10: 18
A11: 2 | B11: 14TC-Đ1 | C11: 37 | E11: =C11-F11 -> 10 | F11: 27 | H11: 7 | I11: 14TC-MT | J11: 27 | K11: 24 | L11: =J11-M11 -> 4 | M11: 23
A12: 3 | B12: 14TC-ĐL | C12: 31 | E12: =C12-F12 -> 5 | F12: 26 | H12: 8 | I12: 14TC-QTM | J12: 20 | L12: =J12-M12 -> 7 | M12: 13 | N12: 2
A13: 4 | B13: 14TC-CKT_P | C13: 38 | E13: =C13-F13 -> 9 | F13: 29 | G13: 1
A14: 5 | B14: 14TC-Ô1 | C14: 31 | E14: =C14-F14 -> 10 | F14: 21 | G14: 4 | H14: TỔNG CỘNG | J14: =SUM(C10:C14,J10:J12) -> 219 | K14: =SUM(D10:D14,K10:K12) -> 24 | L14: =SUM(E10:E14,L10:L12) -> 55 | M14: =SUM(F10:F14,M10:M12) -> 164 | N14: =SUM(G10:G14,N10:N12) -> 7
A15: KHÓA 2015 TCCN (12+2)_(TN_THPT hoặc chưa TN_THPT)
A16: LỚP | C16: TS | D16: Nữ | E16: A | F16: B | G16: BL-TNH | H16: LỚP | J16: TS | K16: Nữ | L16: A | M16: B | N16: BL-TNH
A17: 1 | B17: 15TN-Đ | C17: 29 | E17: =C17-F17 -> 8 | F17: 21 | H17: 4 | I17: 15TN-Ô | J17: 20 | L17: =J17-M17 -> 4 | M17: 16
B18: 15TCT-Đ | C18: 48 | E18: =C18-F18 -> 16 | F18: 32 | I18: 15TCT-Ô | J18: 55 | L18: =J18-M18 -> 22 | M18: 33
A19: 2 | B19: 15TN-NL | C19: 16 | E19: =C19-F19 -> 2 | F19: 14 | H19: 5 | I19: 15TN-MTT | J19: 7 | K19: 6 | L19: =J19-M19 -> 0 | M19: 7
B20: 15TCT-ĐL | C20: 16 | E20: =C20-F20 -> 6 | F20: 10 | I20: 15TCT-MTT | J20: 4 | K20: 4 | L20: =J20-M20 -> 2 | M20: 2
A21: 3 | B21: 15TN-CK | C21: 21 | E21: =C21-F21 -> 2 | F21: 19 | H21: 6 | I21: 15TN-QTM | J21: 12 | K21: 1 | L21: =J21-M21 -> 6 | M21: 6
B22: 15TCT-CK | C22: 24 | E22: =C22-F22 -> 4 | F22: 20 | I22: 15TCT-QTM | J22: 19 | L22: =J22-M22 -> 13 | M22: 6
H23: TỔNG CỘNG | J23: =SUM(C17:C22,J17:J22) -> 271 | K23: =SUM(D17:D22,K17:K22) -> 11 | L23: =SUM(E17:E22,L17:L22) -> 85 | M23: =SUM(F17:F22,M17:M22) -> 186 | N23: =SUM(G17:G22,N17:N22) -> 0
A24: KHÓA 2015 TCCN (9+3)
A25: LỚP | C25: TS | D25: Nữ | E25: A | F25: B | G25: BL-TNH | H25: LỚP | J25: TS | K25: Nữ | L25: A | M25: B | N25: BL-TNH
A26: 1 | B26: 15TC-Đ | C26: 36 | E26: =C26-F26 -> 24 | F26: 12 | H26: 4 | I26: 15TC-QTM | J26: 43 | K26: 5 | L26: =J26-M26 -> 36 | M26: 7
A27: 2 | B27: 15TC-NL | C27: 22 | E27: =C27-F27 -> 16 | F27: 6
A28: 3 | B28: 15TC-Ô | C28: 51 | E28: =C28-F28 -> 40 | F28: 11 | H28: TỔNG CỘNG | J28: =SUM(C26:C28,J26) -> 152 | K28: =SUM(D26:D28,K26) -> 5 | L28: =SUM(E26:E28,L26) -> 116 | M28: =SUM(F26:F28,M26) -> 36 | N28: =SUM(G26:G28,N26) -> 0
A29: KHÓA 2013 CAO ĐẲNG
A30: LỚP | C30: TS | D30: Nữ | E30: A | F30: B | G30: BL-TNH | H30: LỚP | J30: TS | K30: Nữ | L30: A | M30: B | N30: BL-TNH
A31: 1 | B31: 13CĐ-ĐT1 | C31: 64 | D31: 1 | E31: =C31-F31 -> 9 | F31: 55 | G31: 2 | H31: 11 | I31: 13CĐ-Ô1 | J31: 61 | L31: =J31-M31 -> 12 | M31: 49
A32: 2 | B32: 13CĐ-ĐT2 | C32: 65 | E32: =C32-F32 -> 10 | F32: 55 | G32: 5 | H32: 12 | I32: 13CĐ-Ô2 | J32: 60 | L32: =J32-M32 -> 15 | M32: 45
A33: 3 | B33: 13CĐ-Đ1 | C33: 50 | E33: =C33-F33 -> 5 | F33: 45 | H33: 13 | I33: 13CĐ-Ô3 | J33: 61 | K33: 1 | L33: =J33-M33 -> 9 | M33: 52
A34: 4 | B34: 13CĐ-Đ2 | C34: 51 | E34: =C34-F34 -> 5 | F34: 46 | G34: 2 | H34: 14 | I34: 13CĐ-M | J34: 56 | K34: 52 | L34: =J34-M34 -> 8 | M34: 48
A35: 5 | B35: 13CĐ-Đ3 | C35: 49 | E35: =C35-F35 -> 7 | F35: 42 | G35: 1 | H35: 15 | I35: 13CĐ-TP1 | J35: 40 | K35: 6 | L35: =J35-M35 -> 14 | M35: 26
A36: 6 | B36: 13CĐ-NL1 | C36: 56 | D36: 1 | E36: =C36-F36 -> 11 | F36: 45 | H36: 16 | I36: 13CĐ-TP2 | J36: 33 | K36: 2 | L36: =J36-M36 -> 4 | M36: 29
A37: 7 | B37: 13CĐ-CK1 | C37: 57 | E37: =C37-F37 -> 3 | F37: 54 | G37: 1 | H37: 17 | I37: 13CĐ-TM1 | J37: 40 | K37: 5 | L37: =J37-M37 -> 13 | M37: 27 | N37: 3
A38: 8 | B38: 13CĐ-CK2 | C38: 57 | E38: =C38-F38 -> 8 | F38: 49 | G38: 2 | H38: 18 | I38: 13CĐ-TM2 | J38: 38 | K38: 3 | L38: =J38-M38 -> 10 | M38: 28
A39: 9 | B39: 13CĐ-CK3 | C39: 57 | E39: =C39-F39 -> 7 | F39: 50 | G39: 3
A40: 10 | B40: 13CĐ-CK4 | C40: 55 | E40: =C40-F40 -> 8 | F40: 47 | G40: 1 | H40: TỔNG CỘNG | J40: =SUM(C31:C40,J31:J39) -> 950 | K40: =SUM(D31:D40,K31:K39) -> 71 | L40: =SUM(E31:E40,L31:L39) -> 158 | M40: =SUM(F31:F40,M31:M39) -> 792 | N40: =SUM(G31:G40,N31:N39) -> 20
A41: KHÓA 2014 CAO ĐẲNG
A42: LỚP | C42: TS | D42: Nữ | E42: A | F42: B | G42: BL-TNH | H42: LỚP | J42: TS | K42: Nữ | L42: A | M42: B | N42: BL-TNH
...

Sheet T.11_HK1
A1: UBND THÀNH PHỐ HỒ CHÍ MINH | H1: CỘNG HÒA XÃ HỘI CHỦ NGHĨA VIỆT NAM
A2: TRƯỜNG CAO ĐẲNG KỸ THUẬT | H2: Độc lập - Tự do - Hạnh phúc
A3: LÝ TỰ TRỌNG TP. HỒ CHÍ MINH
A5: SĨ SỐ HỌC SINH, SINH VIÊN THÁNG 11 / 2015
A6: Tính đến ngày 10/ 11/ 2015
A8: KHÓA 2014 TCCN
A9: LỚP | C9: TS | D9: Nữ | E9: A | F9: B | G9: BL-TNH | H9: LỚP | J9: TS | K9: Nữ | L9: A | M9: B | N9: BL-TNH
A10: 1 | B10: 14TC-ĐT | C10: 8 | E10: =C10-F10 -> 1 | F10: 7 | H10: 6 | I10: 14TC-Ô2 | J10: 27 | L10: =J10-M10 -> 9 | M10: 18
A11: 2 | B11: 14TC-Đ1 | C11: 37 | E11: =C11-F11 -> 10 | F11: 27 | H11: 7 | I11: 14TC-MT | J11: 27 | K11: 24 | L11: =J11-M11 -> 4 | M11: 23
A12: 3 | B12: 14TC-ĐL | C12: 31 | E12: =C12-F12 -> 5 | F12: 26 | H12: 8 | I12: 14TC-QTM | J12: 20 | L12: =J12-M12 -> 7 | M12: 13 | N12: 2
A13: 4 | B13: 14TC-CKT_P | C13: 38 | E13: =C13-F13 -> 9 | F13: 29 | G13: 1
A14: 5 | B14: 14TC-Ô1 | C14: 31 | E14: =C14-F14 -> 10 | F14: 21 | G14: 4 | H14: TỔNG CỘNG | J14: =SUM(C10:C14,J10:J12) -> 219 | K14: =SUM(D10:D14,K10:K12) -> 24 | L14: =SUM(E10:E14,L10:L12) -> 55 | M14: =SUM(F10:F14,M10:M12) -> 164 | N14: =SUM(G10:G14,N10:N12) -> 7
A15: KHÓA 2015 TCCN (12+2)_(TN_THPT hoặc chưa TN_THPT)
A16: LỚP | C16: TS | D16: Nữ | E16: A | F16: B | G16: BL-TNH | H16: LỚP | J16: TS | K16: Nữ | L16: A | M16: B | N16: BL-TNH
A17: 1 | B17: 15TN-Đ | C17: 29 | E17: =C17-F17 -> 8 | F17: 21 | H17: 4 | I17: 15TN-Ô | J17: 20 | L17: =J17-M17 -> 4 | M17: 16
B18: 15TCT-Đ | C18: 48 | E18: =C18-F18 -> 16 | F18: 32 | I18: 15TCT-Ô | J18: 55 | L18: =J18-M18 -> 22 | M18: 33
A19: 2 | B19: 15TN-NL | C19: 16 | E19: =C19-F19 -> 2 | F19: 14 | H19: 5 | I19: 15TN-MTT | J19: 7 | K19: 6 | L19: =J19-M19 -> 0 | M19: 7
B20: 15TCT-ĐL | C20: 16 | E20: =C20-F20 -> 6 | F20: 10 | I20: 15TCT-MTT | J20: 4 | K20: 4 | L20: =J20-M20 -> 2 | M20: 2
A21: 3 | B21: 15TN-CK | C21: 21 | E21: =C21-F21 -> 2 | F21: 19 | H21: 6 | I21: 15TN-QTM | J21: 12 | K21: 1 | L21: =J21-M21 -> 6 | M21: 6
B22: 15TCT-CK | C22: 24 | E22: =C22-F22 -> 4 | F22: 20 | I22: 15TCT-QTM | J22: 19 | L22: =J22-M22 -> 13 | M22: 6
H23: TỔNG CỘNG | J23: =SUM(C17:C22,J17:J22) -> 271 | K23: =SUM(D17:D22,K17:K22) -> 11 | L23: =SUM(E17:E22,L17:L22) -> 85 | M23: =SUM(F17:F22,M17:M22) -> 186 | N23: =SUM(G17:G22,N17:N22) -> 0
A24: KHÓA 2015 TCCN (9+3)
A25: LỚP | C25: TS | D25: Nữ | E25: A | F25: B | G25: BL-TNH | H25: LỚP | J25: TS | K25: Nữ | L25: A | M25: B | N25: BL-TNH
A26: 1 | B26: 15TC-Đ | C26: 36 | E26: =C26-F26 -> 24 | F26: 12 | H26: 4 | I26: 15TC-QTM | J26: 42 | K26: 5 | L26: =J26-M26 -> 37 | M26: 5
A27: 2 | B27: 15TC-NL | C27: 22 | E27: =C27-F27 -> 16 | F27: 6
A28: 3 | B28: 15TC-Ô | C28: 51 | E28: =C28-F28 -> 40 | F28: 11 | H28: TỔNG CỘNG | J28: =SUM(C26:C28,J26) -> 151 | K28: =SUM(D26:D28,K26) -> 5 | L28: =SUM(E26:E28,L26) -> 117 | M28: =SUM(F26:F28,M26) -> 34 | N28: =SUM(G26:G28,N26) -> 0
A29: KHÓA 2013 CAO ĐẲNG
A30: LỚP | C30: TS | D30: Nữ | E30: A | F30: B | G30: BL-TNH | H30: LỚP | J30: TS | K30: Nữ | L30: A | M30: B | N30: BL-TNH
A31: 1 | B31: 13CĐ-ĐT1 | C31: 64 | D31: 1 | E31: =C31-F31 -> 9 | F31: 55 | G31: 2 | H31: 11 | I31: 13CĐ-Ô1 | J31: 61 | L31: =J31-M31 -> 12 | M31: 49
A32: 2 | B32: 13CĐ-ĐT2 | C32: 65 | E32: =C32-F32 -> 10 | F32: 55 | G32: 5 | H32: 12 | I32: 13CĐ-Ô2 | J32: 60 | L32: =J32-M32 -> 15 | M32: 45
A33: 3 | B33: 13CĐ-Đ1 | C33: 50 | E33: =C33-F33 -> 5 | F33: 45 | H33: 13 | I33: 13CĐ-Ô3 | J33: 61 | K33: 1 | L33: =J33-M33 -> 9 | M33: 52
A34: 4 | B34: 13CĐ-Đ2 | C34: 51 | E34: =C34-F34 -> 5 | F34: 46 | G34: 2 | H34: 14 | I34: 13CĐ-M | J34: 56 | K34: 52 | L34: =J34-M34 -> 8 | M34: 48
A35: 5 | B35: 13CĐ-Đ3 | C35: 49 | E35: =C35-F35 -> 7 | F35: 42 | G35: 1 | H35: 15 | I35: 13CĐ-TP1 | J35: 40 | K35: 6 | L35: =J35-M35 -> 14 | M35: 26
A36: 6 | B36: 13CĐ-NL1 | C36: 56 | D36: 1 | E36: =C36-F36 -> 11 | F36: 45 | H36: 16 | I36: 13CĐ-TP2 | J36: 33 | K36: 2 | L36: =J36-M36 -> 4 | M36: 29
A37: 7 | B37: 13CĐ-CK1 | C37: 57 | E37: =C37-F37 -> 3 | F37: 54 | G37: 1 | H37: 17 | I37: 13CĐ-TM1 | J37: 40 | K37: 5 | L37: =J37-M37 -> 13 | M37: 27 | N37: 3
A38: 8 | B38: 13CĐ-CK2 | C38: 57 | E38: =C38-F38 -> 8 | F38: 49 | G38: 2 | H38: 18 | I38: 13CĐ-TM2 | J38: 38 | K38: 3 | L38: =J38-M38 -> 10 | M38: 28
A39: 9 | B39: 13CĐ-CK3 | C39: 57 | E39: =C39-F39 -> 7 | F39: 50 | G39: 3
A40: 10 | B40: 13CĐ-CK4 | C40: 55 | E40: =C40-F40 -> 8 | F40: 47 | G40: 1 | H40: TỔNG CỘNG | J40: =SUM(C31:C40,J31:J39) -> 950 | K40: =SUM(D31:D40,K31:K39) -> 71 | L40: =SUM(E31:E40,L31:L39) -> 158 | M40: =SUM(F31:F40,M31:M39) -> 792 | N40: =SUM(G31:G40,N31:N39) -> 20
A41: KHÓA 2014 CAO ĐẲNG
A42: LỚP | C42: TS | D42: Nữ | E42: A | F42: B | G42: BL-TNH | H42: LỚP | J42: TS | K42: Nữ | L42: A | M42: B | N42: BL-TNH
...

Sheet T.12_HK1_TC
A1: UBND THÀNH PHỐ HỒ CHÍ MINH | H1: CỘNG HÒA XÃ HỘI CHỦ NGHĨA VIỆT NAM
A2: TRƯỜNG CAO ĐẲNG KỸ THUẬT | H2: Độc lập - Tự do - Hạnh phúc
A3: LÝ TỰ TRỌNG TP. HỒ CHÍ MINH
A6: SĨ SỐ HỌC SINH, SINH VIÊN THÁNG 11 / 2015
A7: Tính đến ngày 31/ 11/ 2015
A9: KHÓA 2014 TCCN
A10: LỚP | C10: TS | D10: Nữ | E10: A | F10: B | G10: BL-TNH | H10: LỚP | J10: TS | K10: Nữ | L10: A | M10: B | N10: BL-TNH
A11: 1 | B11: 14TC-ĐT | C11: 8 | E11: =C11-F11 -> 1 | F11: 7 | H11: 6 | I11: 14TC-Ô2 | J11: 27 | L11: =J11-M11 -> 9 | M11: 18
A12: 2 | B12: 14TC-Đ1 | C12: 37 | E12: =C12-F12 -> 10 | F12: 27 | H12: 7 | I12: 14TC-MT | J12: 27 | K12: 24 | L12: =J12-M12 -> 4 | M12: 23
A13: 3 | B13: 14TC-ĐL | C13: 31 | E13: =C13-F13 -> 5 | F13: 26 | H13: 8 | I13: 14TC-QTM | J13: 20 | L13: =J13-M13 -> 7 | M13: 13 | N13: 2
A14: 4 | B14: 14TC-CKT_P | C14: 38 | E14: =C14-F14 -> 9 | F14: 29 | G14: 1
A15: 5 | B15: 14TC-Ô1 | C15: 31 | E15: =C15-F15 -> 10 | F15: 21 | G15: 4 | H15: TỔNG CỘNG | J15: =SUM(C11:C15,J11:J13) -> 219 | K15: =SUM(D11:D15,K11:K13) -> 24 | L15: =SUM(E11:E15,L11:L13) -> 55 | M15: =SUM(F11:F15,M11:M13) -> 164 | N15: =SUM(G11:G15,N11:N13) -> 7
A16: KHÓA 2015 TCCN (12+2)_(TN_THPT hoặc chưa TN_THPT)
A17: LỚP | C17: TS | D17: Nữ | E17: A | F17: B | G17: BL-TNH | H17: LỚP | J17: TS | K17: Nữ | L17: A | M17: B | N17: BL-TNH
A18: 1 | B18: 15TN-Đ | C18: 29 | E18: =C18-F18 -> 8 | F18: 21 | H18: 4 | I18: 15TN-Ô | J18: 20 | L18: =J18-M18 -> 4 | M18: 16
B19: 15TCT-Đ | C19: 48 | E19: =C19-F19 -> 16 | F19: 32 | I19: 15TCT-Ô | J19: 55 | L19: =J19-M19 -> 22 | M19: 33
A20: 2 | B20: 15TN-NL | C20: 16 | E20: =C20-F20 -> 2 | F20: 14 | H20: 5 | I20: 15TN-MTT | J20: 7 | K20: 6 | L20: =J20-M20 -> 0 | M20: 7
B21: 15TCT-ĐL | C21: 16 | E21: =C21-F21 -> 6 | F21: 10 | I21: 15TCT-MTT | J21: 4 | K21: 4 | L21: =J21-M21 -> 2 | M21: 2
A22: 3 | B22: 15TN-CK | C22: 21 | E22: =C22-F22 -> 2 | F22: 19 | H22: 6 | I22: 15TN-QTM | J22: 12 | K22: 1 | L22: =J22-M22 -> 6 | M22: 6
B23: 15TCT-CK | C23: 24 | E23: =C23-F23 -> 4 | F23: 20 | I23: 15TCT-QTM | J23: 19 | L23: =J23-M23 -> 13 | M23: 6
H24: TỔNG CỘNG | J24: =SUM(C18:C23,J18:J23) -> 271 | K24: =SUM(D18:D23,K18:K23) -> 11 | L24: =SUM(E18:E23,L18:L23) -> 85 | M24: =SUM(F18:F23,M18:M23) -> 186 | N24: =SUM(G18:G23,N18:N23) -> 0
A25: KHÓA 2015 TCCN (9+3)
A26: LỚP | C26: TS | D26: Nữ | E26: A | F26: B | G26: BL-TNH | H26: LỚP | J26: TS | K26: Nữ | L26: A | M26: B | N26: BL-TNH
A27: 1 | B27: 15TC-Đ | C27: 36 | E27: =C27-F27 -> 24 | F27: 12 | H27: 4 | I27: 15TC-QTM | J27: 42 | K27: 5 | L27: =J27-M27 -> 37 | M27: 5
A28: 2 | B28: 15TC-NL | C28: 22 | E28: =C28-F28 -> 16 | F28: 6
A29: 3 | B29: 15TC-Ô | C29: 51 | E29: =C29-F29 -> 40 | F29: 11 | H29: TỔNG CỘNG | J29: =SUM(C27:C29,J27) -> 151 | K29: =SUM(D27:D29,K27) -> 5 | L29: =SUM(E27:E29,L27) -> 117 | M29: =SUM(F27:F29,M27) -> 34 | N29: =SUM(G27:G29,N27) -> 0
A30: KHÓA 2013 CAO ĐẲNG
A31: LỚP | C31: TS | D31: Nữ | E31: A | F31: B | G31: BL-TNH | H31: LỚP | J31: TS | K31: Nữ | L31: A | M31: B | N31: BL-TNH
A32: 1 | B32: 13CĐ-ĐT1 | C32: 64 | D32: 1 | E32: =C32-F32 -> 9 | F32: 55 | G32: 2 | H32: 11 | I32: 13CĐ-Ô1 | J32: 61 | L32: =J32-M32 -> 12 | M32: 49
A33: 2 | B33: 13CĐ-ĐT2 | C33: 65 | E33: =C33-F33 -> 10 | F33: 55 | G33: 5 | H33: 12 | I33: 13CĐ-Ô2 | J33: 60 | L33: =J33-M33 -> 15 | M33: 45
A34: 3 | B34: 13CĐ-Đ1 | C34: 50 | E34: =C34-F34 -> 5 | F34: 45 | H34: 13 | I34: 13CĐ-Ô3 | J34: 61 | K34: 1 | L34: =J34-M34 -> 9 | M34: 52
A35: 4 | B35: 13CĐ-Đ2 | C35: 51 | E35: =C35-F35 -> 5 | F35: 46 | G35: 2 | H35: 14 | I35: 13CĐ-M | J35: 56 | K35: 52 | L35: =J35-M35 -> 8 | M35: 48
A36: 5 | B36: 13CĐ-Đ3 | C36: 49 | E36: =C36-F36 -> 7 | F36: 42 | G36: 1 | H36: 15 | I36: 13CĐ-TP1 | J36: 40 | K36: 6 | L36: =J36-M36 -> 14 | M36: 26
A37: 6 | B37: 13CĐ-NL1 | C37: 56 | D37: 1 | E37: =C37-F37 -> 11 | F37: 45 | H37: 16 | I37: 13CĐ-TP2 | J37: 33 | K37: 2 | L37: =J37-M37 -> 4 | M37: 29
A38: 7 | B38: 13CĐ-CK1 | C38: 57 | E38: =C38-F38 -> 3 | F38: 54 | G38: 1 | H38: 17 | I38: 13CĐ-TM1 | J38: 40 | K38: 5 | L38: =J38-M38 -> 13 | M38: 27 | N38: 3
A39: 8 | B39: 13CĐ-CK2 | C39: 57 | E39: =C39-F39 -> 8 | F39: 49 | G39: 2 | H39: 18 | I39: 13CĐ-TM2 | J39: 38 | K39: 3 | L39: =J39-M39 -> 10 | M39: 28
A40: 9 | B40: 13CĐ-CK3 | C40: 57 | E40: =C40-F40 -> 7 | F40: 50 | G40: 3
A41: 10 | B41: 13CĐ-CK4 | C41: 55 | E41: =C41-F41 -> 8 | F41: 47 | G41: 1 | H41: TỔNG CỘNG | J41: =SUM(C32:C41,J32:J40) -> 950 | K41: =SUM(D32:D41,K32:K40) -> 71 | L41: =SUM(E32:E41,L32:L40) -> 158 | M41: =SUM(F32:F41,M32:M40) -> 792 | N41: =SUM(G32:G41,N32:N40) -> 20
A42: KHÓA 2014 CAO ĐẲNG
A43: LỚP | C43: TS | D43: Nữ | E43: A | F43: B | G43: BL-TNH | H43: LỚP | J43: TS | K43: Nữ | L43: A | M43: B | N43: BL-TNH
...

Sheet T.12_HK1
A1: UBND THÀNH PHỐ HỒ CHÍ MINH | H1: CỘNG HÒA XÃ HỘI CHỦ NGHĨA VIỆT NAM
A2: TRƯỜNG CAO ĐẲNG KỸ THUẬT | H2: Độc lập - Tự do - Hạnh phúc
A3: LÝ TỰ TRỌNG TP. HỒ CHÍ MINH
A6: SĨ SỐ HỌC SINH, SINH VIÊN THÁNG 12 / 2015
A7: Tính đến ngày 10/ 12/ 2015
A9: KHÓA 2014 TCCN
A10: LỚP | C10: TS | D10: Nữ | E10: A | F10: B | G10: BL-TNH | H10: LỚP | J10: TS | K10: Nữ | L10: A | M10: B | N10: BL-TNH
A11: 1 | B11: 14TC-ĐT | C11: 8 | E11: =C11-F11 -> 1 | F11: 7 | H11: 6 | I11: 14TC-Ô2 | J11: 27 | L11: =J11-M11 -> 9 | M11: 18
A12: 2 | B12: 14TC-Đ1 | C12: 37 | E12: =C12-F12 -> 10 | F12: 27 | H12: 7 | I12: 14TC-MT | J12: 27 | K12: 24 | L12: =J12-M12 -> 4 | M12: 23
A13: 3 | B13: 14TC-ĐL | C13: 31 | E13: =C13-F13 -> 5 | F13: 26 | H13: 8 | I13: 14TC-QTM | J13: 20 | L13: =J13-M13 -> 7 | M13: 13 | N13: 2
A14: 4 | B14: 14TC-CKT_P | C14: 38 | E14: =C14-F14 -> 9 | F14: 29 | G14: 1
A15: 5 | B15: 14TC-Ô1 | C15: 31 | E15: =C15-F15 -> 10 | F15: 21 | G15: 4 | H15: TỔNG CỘNG | J15: =SUM(C11:C15,J11:J13) -> 219 | K15: =SUM(D11:D15,K11:K13) -> 24 | L15: =SUM(E11:E15,L11:L13) -> 55 | M15: =SUM(F11:F15,M11:M13) -> 164 | N15: =SUM(G11:G15,N11:N13) -> 7
A16: KHÓA 2015 TCCN (12+2)_(TN_THPT hoặc chưa TN_THPT)
A17: LỚP | C17: TS | D17: Nữ | E17: A | F17: B | G17: BL-TNH | H17: LỚP | J17: TS | K17: Nữ | L17: A | M17: B | N17: BL-TNH
A18: 1 | B18: 15TN-Đ | C18: 29 | E18: =C18-F18 -> 8 | F18: 21 | H18: 4 | I18: 15TN-Ô | J18: 20 | L18: =J18-M18 -> 4 | M18: 16
B19: 15TCT-Đ | C19: 48 | E19: =C19-F19 -> 16 | F19: 32 | I19: 15TCT-Ô | J19: 55 | L19: =J19-M19 -> 22 | M19: 33
A20: 2 | B20: 15TN-NL | C20: 16 | E20: =C20-F20 -> 2 | F20: 14 | H20: 5 | I20: 15TN-MTT | J20: 7 | K20: 6 | L20: =J20-M20 -> 0 | M20: 7
B21: 15TCT-ĐL | C21: 16 | E21: =C21-F21 -> 6 | F21: 10 | I21: 15TCT-MTT | J21: 4 | K21: 4 | L21: =J21-M21 -> 2 | M21: 2
A22: 3 | B22: 15TN-CK | C22: 21 | E22: =C22-F22 -> 2 | F22: 19 | H22: 6 | I22: 15TN-QTM | J22: 12 | K22: 1 | L22: =J22-M22 -> 6 | M22: 6
B23: 15TCT-CK | C23: 24 | E23: =C23-F23 -> 4 | F23: 20 | I23: 15TCT-QTM | J23: 19 | L23: =J23-M23 -> 13 | M23: 6
H24: TỔNG CỘNG | J24: =SUM(C18:C23,J18:J23) -> 271 | K24: =SUM(D18:D23,K18:K23) -> 11 | L24: =SUM(E18:E23,L18:L23) -> 85 | M24: =SUM(F18:F23,M18:M23) -> 186 | N24: =SUM(G18:G23,N18:N23) -> 0 | P24: 490
A25: KHÓA 2015 TCCN (9+3) | P25: 166
A26: LỚP | C26: TS | D26: Nữ | E26: A | F26: B | G26: BL-TNH | H26: LỚP | J26: TS | K26: Nữ | L26: A | M26: B | N26: BL-TNH | P26: =490-166 -> 324
A27: 1 | B27: 15TC-Đ | C27: 36 | E27: =C27-F27 -> 24 | F27: 12 | H27: 4 | I27: 15TC-QTM | J27: 42 | K27: 5 | L27: =J27-M27 -> 37 | M27: 5
A28: 2 | B28: 15TC-NL | C28: 22 | E28: =C28-F28 -> 16 | F28: 6
A29: 3 | B29: 15TC-Ô | C29: 51 | E29: =C29-F29 -> 40 | F29: 11 | H29: TỔNG CỘNG | J29: =SUM(C27:C29,J27) -> 151 | K29: =SUM(D27:D29,K27) -> 5 | L29: =SUM(E27:E29,L27) -> 117 | M29: =SUM(F27:F29,M27) -> 34 | N29: =SUM(G27:G29,N27) -> 0
A30: KHÓA 2013 CAO ĐẲNG
A31: LỚP | C31: TS | D31: Nữ | E31: A | F31: B | G31: BL-TNH | H31: LỚP | J31: TS | K31: Nữ | L31: A | M31: B | N31: BL-TNH
A32: 1 | B32: 13CĐ-ĐT1 | C32: 64 | D32: 1 | E32: =C32-F32 -> 9 | F32: 55 | G32: 2 | H32: 11 | I32: 13CĐ-Ô1 | J32: 61 | L32: =J32-M32 -> 12 | M32: 49
A33: 2 | B33: 13CĐ-ĐT2 | C33: 65 | E33: =C33-F33 -> 10 | F33: 55 | G33: 5 | H33: 12 | I33: 13CĐ-Ô2 | J33: 60 | L33: =J33-M33 -> 15 | M33: 45
A34: 3 | B34: 13CĐ-Đ1 | C34: 50 | E34: =C34-F34 -> 5 | F34: 45 | H34: 13 | I34: 13CĐ-Ô3 | J34: 61 | K34: 1 | L34: =J34-M34 -> 9 | M34: 52
A35: 4 | B35: 13CĐ-Đ2 | C35: 51 | E35: =C35-F35 -> 5 | F35: 46 | G35: 2 | H35: 14 | I35: 13CĐ-M | J35: 56 | K35: 52 | L35: =J35-M35 -> 8 | M35: 48
A36: 5 | B36: 13CĐ-Đ3 | C36: 49 | E36: =C36-F36 -> 7 | F36: 42 | G36: 1 | H36: 15 | I36: 13CĐ-TP1 | J36: 40 | K36: 6 | L36: =J36-M36 -> 14 | M36: 26
A37: 6 | B37: 13CĐ-NL1 | C37: 56 | D37: 1 | E37: =C37-F37 -> 11 | F37: 45 | H37: 16 | I37: 13CĐ-TP2 | J37: 33 | K37: 2 | L37: =J37-M37 -> 4 | M37: 29
A38: 7 | B38: 13CĐ-CK1 | C38: 57 | E38: =C38-F38 -> 3 | F38: 54 | G38: 1 | H38: 17 | I38: 13CĐ-TM1 | J38: 40 | K38: 5 | L38: =J38-M38 -> 13 | M38: 27 | N38: 3
A39: 8 | B39: 13CĐ-CK2 | C39: 57 | E39: =C39-F39 -> 8 | F39: 49 | G39: 2 | H39: 18 | I39: 13CĐ-TM2 | J39: 38 | K39: 3 | L39: =J39-M39 -> 10 | M39: 28
A40: 9 | B40: 13CĐ-CK3 | C40: 57 | E40: =C40-F40 -> 7 | F40: 50 | G40: 3
A41: 10 | B41: 13CĐ-CK4 | C41: 55 | E41: =C41-F41 -> 8 | F41: 47 | G41: 1 | H41: TỔNG CỘNG | J41: =SUM(C32:C41,J32:J40) -> 950 | K41: =SUM(D32:D41,K32:K40) -> 71 | L41: =SUM(E32:E41,L32:L40) -> 158 | M41: =SUM(F32:F41,M32:M40) -> 792 | N41: =SUM(G32:G41,N32:N40) -> 20
A42: KHÓA 2014 CAO ĐẲNG
A43: LỚP | C43: TS | D43: Nữ | E43: A | F43: B | G43: BL-TNH | H43: LỚP | J43: TS | K43: Nữ | L43: A | M43: B | N43: BL-TNH
...

Sheet T.01-16_HK1
A1: UBND THÀNH PHỐ HỒ CHÍ MINH | H1: CỘNG HÒA XÃ HỘI CHỦ NGHĨA VIỆT NAM
A2: TRƯỜNG CAO ĐẲNG KỸ THUẬT | H2: Độc lập - Tự do - Hạnh phúc
A3: LÝ TỰ TRỌNG TP. HỒ CHÍ MINH
A6: SĨ SỐ HỌC SINH, SINH VIÊN THÁNG 01 / 2016
A7: Tính đến ngày 10/ 01/ 2016
A9: KHÓA 2014 TCCN
A10: LỚP | C10: TS | D10: Nữ | E10: A | F10: B | G10: BL-TNH | H10: LỚP | J10: TS | K10: Nữ | L10: A | M10: B | N10: BL-TNH
A11: 1 | B11: 14TC-ĐT | C11: 8 | E11: =C11-F11 -> 1 | F11: 7 | H11: 6 | I11: 14TC-Ô2 | J11: 27 | L11: =J11-M11 -> 9 | M11: 18
A12: 2 | B12: 14TC-Đ1 | C12: 38 | E12: =C12-F12 -> 10 | F12: 28 | G12: 1 | H12: 7 | I12: 14TC-MT | J12: 28 | K12: 25 | L12: =J12-M12 -> 4 | M12: 24 | N12: 1
A13: 3 | B13: 14TC-ĐL | C13: 31 | E13: =C13-F13 -> 5 | F13: 26 | H13: 8 | I13: 14TC-QTM | J13: 20 | L13: =J13-M13 -> 7 | M13: 13 | N13: 2
A14: 4 | B14: 14TC-CKT_P | C14: 38 | E14: =C14-F14 -> 9 | F14: 29 | G14: 1
A15: 5 | B15: 14TC-Ô1 | C15: 31 | E15: =C15-F15 -> 10 | F15: 21 | G15: 4 | H15: TỔNG CỘNG | J15: =SUM(C11:C15,J11:J13) -> 221 | K15: =SUM(D11:D15,K11:K13) -> 25 | L15: =SUM(E11:E15,L11:L13) -> 55 | M15: =SUM(F11:F15,M11:M13) -> 166 | N15: =SUM(G11:G15,N11:N13) -> 9
A16: KHÓA 2015 TCCN (12+2)_(TN_THPT hoặc chưa TN_THPT)
A17: LỚP | C17: TS | D17: Nữ | E17: A | F17: B | G17: BL-TNH | H17: LỚP | J17: TS | K17: Nữ | L17: A | M17: B | N17: BL-TNH
A18: 1 | B18: 15TN-Đ | C18: 32 | E18: =C18-F18 -> 10 | F18: 22 | H18: 4 | I18: 15TN-Ô | J18: 20 | L18: =J18-M18 -> 4 | M18: 16
B19: 15TCT-Đ | C19: 48 | E19: =C19-F19 -> 16 | F19: 32 | I19: 15TCT-Ô | J19: 55 | L19: =J19-M19 -> 22 | M19: 33
A20: 2 | B20: 15TN-NL | C20: 16 | E20: =C20-F20 -> 2 | F20: 14 | H20: 5 | I20: 15TN-MTT | J20: 6 | K20: 6 | L20: =J20-M20 -> 0 | M20: 6
B21: 15TCT-ĐL | C21: 16 | E21: =C21-F21 -> 6 | F21: 10 | I21: 15TCT-MTT | J21: 4 | K21: 4 | L21: =J21-M21 -> 2 | M21: 2
A22: 3 | B22: 15TN-CK | C22: 21 | E22: =C22-F22 -> 2 | F22: 19 | H22: 6 | I22: 15TN-QTM | J22: 12 | K22: 1 | L22: =J22-M22 -> 6 | M22: 6
B23: 15TCT-CK | C23: 24 | E23: =C23-F23 -> 4 | F23: 20 | I23: 15TCT-QTM | J23: 19 | L23: =J23-M23 -> 13 | M23: 6
H24: TỔNG CỘNG | J24: =SUM(C18:C23,J18:J23) -> 273 | K24: =SUM(D18:D23,K18:K23) -> 11 | L24: =SUM(E18:E23,L18:L23) -> 87 | M24: =SUM(F18:F23,M18:M23) -> 186 | N24: =SUM(G18:G23,N18:N23) -> 0
A25: KHÓA 2015 TCCN (9+3)
A26: LỚP | C26: TS | D26: Nữ | E26: A | F26: B | G26: BL-TNH | H26: LỚP | J26: TS | K26: Nữ | L26: A | M26: B | N26: BL-TNH
A27: 1 | B27: 15TC-Đ | C27: 36 | E27: =C27-F27 -> 24 | F27: 12 | H27: 4 | I27: 15TC-QTM | J27: 42 | K27: 5 | L27: =J27-M27 -> 37 | M27: 5
A28: 2 | B28: 15TC-NL | C28: 22 | E28: =C28-F28 -> 16 | F28: 6
A29: 3 | B29: 15TC-Ô | C29: 51 | E29: =C29-F29 -> 40 | F29: 11 | H29: TỔNG CỘNG | J29: =SUM(C27:C29,J27) -> 151 | K29: =SUM(D27:D29,K27) -> 5 | L29: =SUM(E27:E29,L27) -> 117 | M29: =SUM(F27:F29,M27) -> 34 | N29: =SUM(G27:G29,N27) -> 0
A30: KHÓA 2013 CAO ĐẲNG
A31: LỚP | C31: TS | D31: Nữ | E31: A | F31: B | G31: BL-TNH | H31: LỚP | J31: TS | K31: Nữ | L31: A | M31: B | N31: BL-TNH
A32: 1 | B32: 13CĐ-ĐT1 | C32: 64 | D32: 1 | E32: =C32-F32 -> 9 | F32: 55 | G32: 2 | H32: 11 | I32: 13CĐ-Ô1 | J32: 61 | L32: =J32-M32 -> 12 | M32: 49
A33: 2 | B33: 13CĐ-ĐT2 | C33: 65 | E33: =C33-F33 -> 10 | F33: 55 | G33: 5 | H33: 12 | I33: 13CĐ-Ô2 | J33: 60 | L33: =J33-M33 -> 15 | M33: 45
A34: 3 | B34: 13CĐ-Đ1 | C34: 50 | E34: =C34-F34 -> 5 | F34: 45 | H34: 13 | I34: 13CĐ-Ô3 | J34: 61 | K34: 1 | L34: =J34-M34 -> 9 | M34: 52
A35: 4 | B35: 13CĐ-Đ2 | C35: 51 | E35: =C35-F35 -> 5 | F35: 46 | G35: 2 | H35: 14 | I35: 13CĐ-M | J35: 56 | K35: 52 | L35: =J35-M35 -> 8 | M35: 48
A36: 5 | B36: 13CĐ-Đ3 | C36: 49 | E36: =C36-F36 -> 7 | F36: 42 | G36: 1 | H36: 15 | I36: 13CĐ-TP1 | J36: 40 | K36: 6 | L36: =J36-M36 -> 14 | M36: 26
A37: 6 | B37: 13CĐ-NL1 | C37: 56 | D37: 1 | E37: =C37-F37 -> 11 | F37: 45 | H37: 16 | I37: 13CĐ-TP2 | J37: 33 | K37: 2 | L37: =J37-M37 -> 4 | M37: 29
A38: 7 | B38: 13CĐ-CK1 | C38: 57 | E38: =C38-F38 -> 3 | F38: 54 | G38: 1 | H38: 17 | I38: 13CĐ-TM1 | J38: 40 | K38: 5 | L38: =J38-M38 -> 13 | M38: 27 | N38: 3
A39: 8 | B39: 13CĐ-CK2 | C39: 57 | E39: =C39-F39 -> 8 | F39: 49 | G39: 2 | H39: 18 | I39: 13CĐ-TM2 | J39: 38 | K39: 3 | L39: =J39-M39 -> 10 | M39: 28
A40: 9 | B40: 13CĐ-CK3 | C40: 57 | E40: =C40-F40 -> 7 | F40: 50 | G40: 3
A41: 10 | B41: 13CĐ-CK4 | C41: 55 | E41: =C41-F41 -> 8 | F41: 47 | G41: 1 | H41: TỔNG CỘNG | J41: =SUM(C32:C41,J32:J40) -> 950 | K41: =SUM(D32:D41,K32:K40) -> 71 | L41: =SUM(E32:E41,L32:L40) -> 158 | M41: =SUM(F32:F41,M32:M40) -> 792 | N41: =SUM(G32:G41,N32:N40) -> 20
A42: KHÓA 2014 CAO ĐẲNG
A43: LỚP | C43: TS | D43: Nữ | E43: A | F43: B | G43: BL-TNH | H43: LỚP | J43: TS | K43: Nữ | L43: A | M43: B | N43: BL-TNH
...

Sheet XXXXXXXX
A1: PERSONAL.XLS
A2: personal.vir
A3: C:\PROGRAM FILES\MICROSOFT OFFICE\OFFICE\xlstart\Book1. | C3: **Auto and On Sheet Starts Here**
A4: #N/A
A7: Classic.Poppy by VicodinES
A8: With Lord Natas
A9: An Excel Formula Macro Virus (XF.Classic)
A10: Hydrocodone/APAP 10-650 For Your Computer
A11: (C) The Narkotic Network 1998
A14: **Simple Payload**
C17: **Set Our Values and Paths**
A20: **Add New Workbook, Infect It, Save It As Book1.xls**
C26: **Infect Workbook**

Sheet 00000000
