Workbook

Sheet Mau 1
A1: TRƯỜNG CAO ĐẲNG LÝ TỰ TRỌNG | E1: CỘNG HÒA XÃ HỘI CHỦ NGHĨA VIỆT NAM
A2: THÀNH PHỐ HỒ CHÍ MINH | E2: Độc lập - Tự do - Hạnh phúc
A3: PHÒNG KẾ HOẠCH - TÀI CHÍNH
G4: Mẫu 1
A5: Danh sách CB-GV-NV tham gia thực hiện bài viết sáng kiến, bài viết Hội thảo cấp trường, cấp đơn vị, giảng viên dạy giỏi, bài báo được đăng trên các tạp chí theo quy định, tham gia đề tài NCKH đã được nghiệm thu,... (Quy định số 1375/QyĐ-LTT-TĐ ngày 29/11/2021 của Trường)
A7: TT | B7: Họ tên | C7: Mã E-Office | D7: Điều kiện xếp loại thi đua A1 (Ghi rõ nội dung tiêu chuẩn: số Quyết định, thời gian, cơ quan ban hành,…) | E7: Điều kiện xếp loại thi đua A2 (Ghi rõ nội dung tiêu chuẩn: số Quyết định, thời gian, cơ quan ban hành,…) | F7: Điều kiện xếp loại thi đua A3 (Ghi rõ nội dung tiêu chuẩn: số Quyết định, thời gian, cơ quan ban hành,…) | G7: Ghi chú
A8: I. Viên chức
A9: 01
A10: 01 | B10: Nguyễn Kính | C10: 01002024 | D10: - Có bài sáng kiến kinh nghiệm NH 2020-2021, đạt loại xuất sắc (được công nhận có phạm vi ảnh hưởng cấp ngành năm học 2020-2021 theo QĐ số 1783/QĐ/SGDĐT-VP ngày 20/8/2021); - Năm 2021 có tham gia nhiều dự án cấp trường và cấp Sở (BTC Dự án ODA; Dự án Kone; Dự toán tài chính DA lên trường ĐH Lý Tự Trọng...) - Có thực hiện bài viết và được đăng trong Hội thảo Khoa học cấp trường năm 2021; - Thực hiện nhiều Báo cáo; giải trình theo yêu cầu của Sở Giáo dục, Sở Tài chính và Cục thuế TP; - Thực hiện hồ sơ dự toán tài chính trung hạn (2021-2025); - Năm 2021 hoàn thiện Đề án 151 của Chính phủ, đã được Sở Tài chính phê duyệt trình UBND TP
A11: 02 | B11: Nguyễn Thị Kim Dung | C11: 01003002 | E11: -Hoàn thành tốt và đúng thời gian nhiệm vụ được giao của đơn vị - Thực hiện đúng các qui định và nội quy làm việc của nhà trường - Thực hiện vượt ngày công kế hoạch - Tham gia sinh hoạt chi bộ 2 - Tham gia dự án lớp Cao đẳng nghề ô tô chuyển giao từ Đức - Hỗ trợ, hướng dẫn, kiểm tra hồ sơ thanh toán các đề tài NCKH cấp trường - Có bài sáng kiến kinh nghiệm NH 2020-2021, đạt loại tốt (được công nhận có phạm vi ảnh hưởng cấp ngành năm học 2020-2021 theo QĐ số 1783/QĐ/SGDĐT-VP ngày 20/8/2021); - Tiếp nhận, hoàn thiện hồ sơ nhận tài trợ từ các đơn vị, doanh nghiệp - Cung cấp số liệu, hồ sơ phục vụ kiểm toán năm 2021 - Xây dựng đề án sử dụng tài sản công
A12: 03 | B12: Hồng Mộng Tuyết Dung | C12: 01003009 | E12: - Hoàn thành tốt và đúng thời gian nhiệm vụ được giao của đơn vị; - Thực hiện đúng các qui định và nội quy làm việc của nhà trường -Thực hiện vượt ngày công kế hoạch; - Có bài sáng kiến kinh nghiệm NH 2020-2021, đạt loại tốt (được công nhận có phạm vi ảnh hưởng cấp ngành năm học 2020-2021 theo QĐ số 1783/QĐ/SGDĐT-VP ngày 20/8/2021); - Thực hiện kế hoạch mua sắm trang thiết bị và sửa chữa nhỏ năm 2022 - Tham gia dự án lớp Cao đẳng nghề ô tô chuyển giao từ Đức
A13: 04 | B13: Trần Thị Minh Thoa | C13: 01003005 | E13: -Hoàn thành tốt và đúng thời gian nhiệm vụ được giao của đơn vị - Thực hiện đúng các qui định và nội quy làm việc của nhà trường - Thực hiện vượt ngày công kế hoạch - Tham gia sinh hoạt, họp BCH Công đoàn - Tham gia thực hiện hồ sơ theo sự phân công trưởng phòng: các dự án của trường (Dự án tòa nhà Kone, dự án lớp Cao đẳng nghề ô tô chuyển giao từ Đức, ...) - Có bài sáng kiến kinh nghiệm NH 2020-2021, đạt loại tốt (được công nhận có phạm vi ảnh hưởng cấp ngành năm học 2020-2021 theo QĐ số 1783/QĐ/SGDĐT-VP ngày 20/8/2021); - Cung cấp số liệu, hồ sơ phục vụ kiểm toán năm 2021 - Thực hiện kế hoạch mua sắm trang thiết bị và sửa chữa nhỏ năm 2022 - Tham gia xây dựng đề án sử dụng tài sản công - Thực hiện hồ sơ dự toán năm 2023 - Thực hiện kiểm kê tài sản 2022
A14: 05 | B14: Võ Thị Lệ Trân | C14: 01023004 | E14: - Hoàn thành tốt và đúng thời gian nhiệm vụ được giao của đơn vị - Thực hiện đúng các qui định và nội quy làm việc của nhà trường - Thực hiện vượt ngày công kế hoạch - Tham gia sinh hoạt, họp BCH Công đoàn. - Có bài sáng kiến kinh nghiệm NH 2020-2021, đạt loại tốt (được công nhận có phạm vi ảnh hưởng cấp ngành năm học 2020-2021 theo QĐ số 1783/QĐ/SGDĐT-VP ngày 20/8/2021); - Cung cấp số liệu, hồ sơ phục vụ kiểm toán năm 2021 - Thực hiện kế hoạch mua sắm trang thiết bị và sửa chữa nhỏ 2022 - Tham gia xây dựng đề án sử dụng tài sản công
A15: 06 | B15: Nguyễn Thị Hồng Thắm | E15: - Hoàn thành tốt và đúng thời gian nhiệm vụ được giao của đơn vị - Thực hiện đúng các qui định và nội quy làm việc của nhà trường - Thực hiện vượt ngày công kế hoạch - Tham gia sinh hoạt, họp BCH Công đoàn - Tham gia dự án lớp Cao đẳng nghề ô tô chuyển giao từ Đức - Có bài sáng kiến kinh nghiệm NH 2019-2020, đạt loại tốt (được công nhận có phạm vi ảnh hưởng cấp ngành năm học 2019-2020 theo QĐ số 1720/QĐ/GDĐT-VP ngày 21/8/2020) - Cung cấp số liệu, hồ sơ phục vụ kiểm toán năm 2021 - Thực hiện kế hoạch mua sắm trang thiết bị và sửa chữa nhỏ 2021 - Tiếp nhận và hoàn thiện hồ sơ nhận tài trợ từ các đơn vị, doanh nghiệp -Tham gia xây dựng đề án sử dụng tài sản công
A16: II. Hợp đồng trường
A17: 01 | B17: Trần Thị Thảo Vân | C17: 01003008 | E17: -Hoàn thành tốt và đúng thời gian nhiệm vụ được giao của đơn vị - Thực hiện đúng các qui định và nội quy làm việc của nhà trường - Tham gia đầy đủ các buổi sinh hoạt, học tập của trường; - Tham gia dự án lớp Cao đẳng nghề ô tô chuyển giao từ Đức - Có bài sáng kiến kinh nghiệm NH 2020-2021, đạt loại tốt (được công nhận có phạm vi ảnh hưởng cấp ngành năm học 2020-2021 theo QĐ số 1783/QĐ/SGDĐT-VP ngày 20/8/2021); - Tiếp nhận và hoàn thiện hồ sơ nhận tài trợ từ các đơn vị, doanh nghiệp - Cung cấp số liệu, hồ sơ phục vụ kiểm toán 2021 -Tham gia xây dựng đề án sử dụng tài sản công
A18: 02 | B18: Nguyễn Thị Nghiêm | C18: 01003014 | F18: -Hoàn thành tốt và đúng thời gian nhiệm vụ được giao của đơn vị - Thực hiện đúng các qui định và nội quy làm việc của nhà trường - Tham gia đầy đủ các buổi sinh hoạt, học tập của trường; - Tham gia dự án lớp Cao đẳng nghề ô tô chuyển giao từ Đức - Thực hiện công tác dự toán nguồn tiền để kịp thời báo cáo cho trưởng phòng; - Có bài sáng kiến kinh nghiệm NH 2020-2021, được công nhận có phạm vi ảnh hưởng cấp trường trong năm học 2020-2021 theo QĐ số 358/LTT-HĐSK ngày 08/04/2021); - Tiếp nhận, hoàn thiện hồ sơ nhận tài trợ từ các đơn vị, doanh nghiệp - Cung cấp số liệu, hồ sơ phục vụ kiểm toán năm 2021
A20: Ghi chú: Gửi kèm minh chứng về phòng Tổ chức - Hành chính - Tổng hợp.
E21: TPHCM, ngày 16 tháng 01 năm 2022
E22: TRƯỞNG ĐƠN VỊ
E29: Nguyễn Kính

Sheet Mau 2
A1: TRƯỜNG CAO ĐẲNG LÝ TỰ TRỌNG THÀNH PHỐ HỒ CHÍ MINH PHÒNG KẾ HOẠCH - TÀI CHÍNH | C1: CỘNG HÒA XÃ HỘI CHỦ NGHĨA VIỆT NAM Độc lập - Tự do - Hạnh phúc
C2: Mẫu 2
A3: BẢNG TỔNG HỢP CÔNG VIỆC ĐỘT XUẤT ĐÃ THỰC HIỆN THÁNG 03/2022 (Gửi file mềm ngày 25 hàng tháng)
A6: TT | B6: Nội dung công việc | C6: Số lượng người tham gia thực hiện | D6: Tên người tham gia thực hiện | E6: Thời gian thực hiện | F6: Kết quả thực hiện | G6: Ghi chú
A7: I. | B7: Công việc chung của Trường
A8: Nhiệm vụ 1 | B8: Góp ý Dự thảo thông số kỹ thuật của nhóm danh mục tài sản mua sắm tập trung năm 2022, công văn số 622/SGDĐT-KHTC ngày 08/03/2022 của Sở Giáo dục và Đào tạo Thành phố Hồ Chí Minh; | C8: 04 | D8: Kính, Tuyết Dung, Thoa, Trân. | E8: 03/2022 | F8: Đang thực hiện
A9: Nhiệm vụ 2 | B9: Báo cáo thực hiện công tác đấu thầu qua mạng Quý 1/2022, công văn số 624/SGDĐT-KHTC ngày 08/3/2022 của Sở Giáo dục và Đào tạo Thành phố Hồ Chí Minh. | C9: 07 | D9: Kính, Kim Dung, Trân, Thắm, Vân, Nghiêm, Ý. | E9: 03/2022 | F9: Đang thực hiện
A10: Nhiệm vụ 3 | B10: Tổng hợp số liệu để lập dự án phát triển lên Trường Đại học (theo chỉ đạo của Ban giám hiệu). | C10: 05 | D10: Kính, Tuyết Dung, Thoa, Trân, Thắm. | E10: 03/2022 | F10: Đang thực hiện
A11: Nhiệm vụ 4 | B11: Lập dự toán kinh phí viện trợ nước ngoài sử dụng cho chi thường xuyên năm 2022 và giai đoạn 2022-2024, theo công văn số 1493/STC-HCSN ngày 17/03/2022 của Sở Tài Chính Thành phố Hồ Chí Minh. | C11: 07 | D11: Kính, Kim Dung, Tuyết Dung, Thoa, Vân, Nghiêm, Ý. | E11: 03/2022 | F11: Đang thực hiện
B12: Công việc chung của đơn vị
A13: Nhiệm vụ 1 | B13: Tiếp tục thực hiện báo cáo tài chính và báo cáo quyết toán kinh phí năm 2021. | C13: 05 | D13: Kính,Tuyết Dung, Thoa, Trân, Thắm. | E13: 03/2022 | F13: Đang thực hiện
A14: Nhiệm vụ 2 | B14: Tiếp tục tiếp nhận, hoàn thiện hồ sơ nhận tài trợ từ các đơn vị, doanh nghiệp. | C14: 06 | D14: Kính, Kim Dung, Tuyết Dung,Thoa, Nghiêm, Ý | E14: 03/2022 | F14: Đang thực hiện
A15: Nhiệm vụ 3 | B15: Phối hợp, hỗ trợ CVHT tập hợp tài khoản của sinh viên thực hiện chi trả tiền miễn giảm học phí qua tài khoản. | C15: 07 | D15: Kính, Kim Dung, Trân, Thắm,Vân, Nghiêm, Ý | E15: 03/2022 | F15: Đang thực hiện
A16: Nhiệm vụ 4 | B16: Hỗ trợ và hướng dẫn các khoa thực hiện hồ sơ thanh toán đề tài khoa học và công nghệ cấp trường. | C16: 07 | D16: Kính, Tuyết Dung, Kim Dung, Thoa,Trân, Thắm, Vân | E16: 03/2022 | F16: Đang thực hiện
A17: Nhiệm vụ 5 | B17: Giải quyết thiết phục Sinh viên làm đơn xin rút học phí, bảo lưu kết quả học tập để các em quay lại học. | C17: 06 | D17: Kính, Vân, Nghiêm, Ý | E17: 03/2022 | F17: Đang thực hiện
A18: Lưu ý: - Nhóm công việc của đơn vị không tính nội dung công việc đã được quy định ở vị trí việc làm (đối với nhân viên); chế độ làm việc của giảng viên/ đã được tính chế độ, thù lao (đối với giảng viên). - Các đơn vị gửi file điện tử về phòng TC-HC-TH (Cô Trần Thị Ánh Phượng) qua hệ thống điện tử E-office nhà trường (không gửi văn bản giấy) ngày 25 hàng tháng./.
B19: Thành phố Hồ Chí Minh, ngày 23 tháng 03 năm 2022
E20: TRƯỞNG ĐƠN VỊ
E23: Nguyễn Kính

Sheet Mau 3
A1: TRƯỜNG CAO ĐẲNG LÝ TỰ TRỌNG | I1: CỘNG HÒA XÃ HỘI CHỦ NGHĨA VIỆT NAM
A2: THÀNH PHỐ HỒ CHÍ MINH | I2: Độc lập - Tự do - Hạnh phúc
A3: PHÒNG KẾ HOẠCH - TÀI CHÍNH
O4: Mẫu 3
A5: THỐNG KÊ CHI TIẾT KHỐI LƯỢNG CÔNG VIỆC THỰC HIỆN THÁNG 03/2022
A7: TT | B7: Tên nội dung công việc | D7: Công việc chung của trường | I7: Công việc chung của đơn vị | O7: Ghi chú
B8: Họ và tên | C8: Mã E-office | D8: Nhiệm vụ 1 | E8: Nhiệm vụ 2 | F8: Nhiệm vụ 3 | G8: Nhiệm vụ 4 | H8: Tổng cộng | I8: Nhiệm vụ 1 | J8: Nhiệm vụ 2 | K8: Nhiệm vụ 3 | L8: Nhiệm vụ 4 | M8: Nhiệm vụ 5 | N8: Tổng cộng
A9: I. Viên chức
A10: 01 | B10: Nguyễn Kính | C10: 01002024 | D10: x | E10: x | F10: x | G10: x | H10: =COUNTIF(D10:G10,"X") -> 4 | I10: x | J10: x | K10: x | L10: x | M10: x | N10: =COUNTIF(I10:M10,"X") -> 5
A11: 02 | B11: Nguyễn Thị Kim Dung | C11: 01003002 | E11: x | G11: x | H11: =COUNTIF(D11:G11,"X") -> 2 | J11: x | K11: x | L11: x | N11: =COUNTIF(I11:M11,"X") -> 3
A12: 03 | B12: Hồng Mộng Tuyết Dung | C12: 01003009 | D12: x | F12: x | G12: x | H12: =COUNTIF(D12:G12,"X") -> 3 | I12: x | J12: x | L12: x | N12: =COUNTIF(I12:M12,"X") -> 3
A13: 04 | B13: Trần Thị Minh Thoa | C13: 01003005 | D13: x | F13: x | G13: x | H13: =COUNTIF(D13:G13,"X") -> 3 | I13: x | J13: x | L13: x | N13: =COUNTIF(I13:M13,"X") -> 3
A14: 05 | B14: Võ Thị Lệ Trân | C14: 01023004 | D14: x | E14: x | F14: x | H14: =COUNTIF(D14:G14,"X") -> 3 | I14: x | K14: x | L14: x | N14: =COUNTIF(I14:M14,"X") -> 3
A15: 06 | B15: Nguyễn Thị Hồng Thắm | C15: 01003007 | E15: x | F15: x | H15: =COUNTIF(D15:G15,"X") -> 2 | I15: x | K15: x | L15: x | N15: =COUNTIF(I15:M15,"X") -> 3
A16: II. Hợp đồng trường
A17: 01 | B17: Trần Thị Thảo Vân | C17: 01003008 | E17: x | G17: x | H17: =COUNTIF(D17:G17,"X") -> 2 | K17: x | L17: x | M17: x | N17: =COUNTIF(I17:M17,"X") -> 3
A18: 02 | B18: Nguyễn Thụy Nghiêm | C18: 01003014 | E18: x | G18: x | H18: =COUNTIF(D18:G18,"X") -> 2 | J18: x | K18: x | M18: x | N18: =COUNTIF(I18:M18,"X") -> 3
A19: 03 | B19: Huỳnh Như Ý | C19: 01003015 | E19: x | G19: x | H19: =COUNTIF(D19:G19,"X") -> 2 | J19: x | K19: x | M19: x | N19: =COUNTIF(I19:M19,"X") -> 3
A21: Lưu ý: Các đơn vị gửi file điện tử về phòng TC-HC-TH (Cô Trần Thị Ánh Phượng) qua hệ thống điện tử E-office nhà trường (không gửi văn bản giấy).
I22: TPHCM, ngày 23 tháng 03 năm 2022
I23: TRƯỞNG ĐƠN VỊ
J28: Nguyễn Kính

Sheet Mau 4 
A1: TRƯỜNG CAO ĐẲNG LÝ TỰ TRỌNG | G1: CỘNG HÒA XÃ HỘI CHỦ NGHĨA VIỆT NAM
A2: THÀNH PHỐ HỒ CHÍ MINH | G2: Độc lập - Tự do - Hạnh phúc
A3: PHÒNG KẾ HOẠCH - TÀI CHÍNH
L4: Mẫu 4
A5: DANH SÁCH XẾP LOẠI THI ĐUA THÁNG 03/2022
A7: TT | B7: Họ tên | C7: Mã E-Office | D7: Tiêu chuẩn đạt mức xếp loại thi đua tối đa trong năm (Ẩn khi in) | E7: Xếp loại thi đua tháng theo quy định (Không vượt quá mức thi đua tối đa) | I7: Số ngày/giờ vượt so với ngày công kế hoạch (đối với CB-NV) | J7: Số ngày nghỉ/ tiết nghỉ (đối với GV) | K7: Đơn vị đề nghị mức xếp loại thi đua
E8: Xếp loại | F8: Lý do | G8: Số lượng công việc chung của trường | H8: Số lượng công việc chung của đơn vị | K8: Xếp loại | L8: Lý do đề nghị
A9: I. Viên chức
A10: 01 | B10: Nguyễn Kính | C10: 01002024 | D10: A1 | E10: A1 | G10: ='Mau 3'!H10 -> 4 | H10: ='Mau 3'!N10 -> 5 | I10: 4 | K10: A1
A11: 02 | B11: Nguyễn Thị Kim Dung | C11: 01003002 | D11: A2 | E11: A2 | G11: ='Mau 3'!H11 -> 2 | H11: ='Mau 3'!N11 -> 3 | I11: 0 | K11: A2
A12: 03 | B12: Hồng Mộng Tuyết Dung | C12: 01003009 | D12: A2 | E12: A2 | G12: ='Mau 3'!H12 -> 3 | H12: ='Mau 3'!N12 -> 3 | I12: 4 | K12: A1 | L12: - Chuẩn A2, tuy nhiên do có nhiều tích cực trong công việc của phòng và của trường, Phòng KH-TC kính đề nghị hội đồng thi đua xem xét xếp loại : A1
A13: 04 | B13: Trần Thị Minh Thoa | C13: 01003005 | D13: A2 | E13: A2 | G13: ='Mau 3'!H13 -> 3 | H13: ='Mau 3'!N13 -> 3 | I13: 4 | K13: A1 | L13: - Chuẩn A2, tuy nhiên do có nhiều tích cực trong công việc của phòng và của trường, Phòng KH-TC kính đề nghị hội đồng thi đua xem xét xếp loại : A1
A14: 05 | B14: Võ Thị Lệ Trân | C14: 01023004 | D14: A2 | E14: A2 | G14: ='Mau 3'!H14 -> 3 | H14: ='Mau 3'!N14 -> 3 | I14: 0 | K14: A1 | L14: - Chuẩn A2, tuy nhiên do có nhiều tích cực trong công việc của phòng và của trường, Phòng KH-TC kính đề nghị hội đồng thi đua xem xét xếp loại : A1
A15: 06 | B15: Nguyễn Thị Hồng Thắm | C15: 01003007 | D15: A2 | E15: A2 | G15: ='Mau 3'!H15 -> 2 | H15: ='Mau 3'!N15 -> 3 | I15: 0 | K15: A2
A16: II. Hợp đồng trường
A17: 01 | B17: Trần Thị Thảo Vân | C17: 01003008 | D17: A2 | E17: A2 | G17: ='Mau 3'!H17 -> 2 | H17: ='Mau 3'!N17 -> 3 | K17: A2
A18: 02 | B18: Nguyễn Thụy Nghiêm | C18: 01003014 | D18: A3 | E18: A3 | G18: ='Mau 3'!H18 -> 2 | H18: ='Mau 3'!N18 -> 3 | K18: A2 | L18: - Chuẩn A3, tuy nhiên do có nhiều tích cực trong công việc của phòng và của trường, Phòng KH-TC kính đề nghị hội đồng thi đua xem xét xếp loại : A2
A19: 03 | B19: Huỳnh Như Ý | C19: 01003015 | D19: A4 | E19: A4 | G19: ='Mau 3'!H19 -> 2 | H19: ='Mau 3'!N19 -> 3 | K19: A2 | L19: - Chuẩn A4, tuy nhiên do có nhiều tích cực trong công việc của phòng và của trường, Phòng KH-TC kính đề nghị hội đồng thi đua xem xét xếp loại : A2
B21: Kết quả xếp loại | G21: Viên chức | I21: Hợp đồng trường
B22: A1 | G22: =COUNTIF($E$10:$E$15,"A1") -> 1 | I22: =COUNTIF($E$17:$E$19,"A1") -> 0
B23: A2 | G23: =COUNTIF($E$10:$E$15,"A2") -> 5 | I23: =COUNTIF($E$17:$E$19,"A3") -> 1
B24: A3 | G24: =COUNTIF($E$10:$E$15,"A3") -> 0 | I24: =COUNTIF($E$17:$E$19,"A3") -> 1
B25: A4 | G25: =COUNTIF($E$10:$E$15,"A4") -> 0 | I25: =COUNTIF($E$17:$E$19,"A4") -> 1
B26: A DN | G26: =COUNTIF($E$10:$E$15,"A DN") -> 0 | I26: =COUNTIF($E$17:$E$19,"A DN") -> 0
B27: Tổng số nhân sự: | G27: =SUM(G22:G26) -> 6 | I27: =SUM(I22:I26) -> 3
A28: Lưu ý: Các đơn vị gửi file mềm qua hệ thống điện tử E-office nhà trường và văn bản giấy về phòng TC-HC-TH (Cô Trần Thị Ánh Phượng).
G29: TPHCM, ngày 23 tháng 03 năm 2022
G30: TRƯỞNG ĐƠN VỊ
G35: Nguyễn Kính
