Workbook

Sheet Mau 1
A1: TRƯỜNG CAO ĐẲNG LÝ TỰ TRỌNG | E1: CỘNG HÒA XÃ HỘI CHỦ NGHĨA VIỆT NAM
A2: THÀNH PHỐ HỒ CHÍ MINH | E2: Độc lập - Tự do - Hạnh phúc
A3: KHOA CƠ KHÍ
A5: Danh sách CB-GV-NV tham gia thực hiện bài viết sáng kiến, bài viết Hội thảo cấp trường, cấp đơn vị, giảng viên dạy giỏi, bài báo được đăng trên các tạp chí theo quy định, tham gia đề tài NCKH đã được nghiệm thu,... (Quy định số 1375/QyĐ-LTT-TĐ ngày 29/11/2021 của Trường)
A7: TT | B7: Họ tên | C7: Mã E-Office | D7: Điều kiện xếp loại thi đua A1 (Ghi rõ nội dung tiêu chuẩn: số Quyết định, thời gian, cơ quan ban hành,…) | E7: Điều kiện xếp loại thi đua A2 (Ghi rõ nội dung tiêu chuẩn: số Quyết định, thời gian, cơ quan ban hành,…) | F7: Điều kiện xếp loại thi đua A3 (Ghi rõ nội dung tiêu chuẩn: số Quyết định, thời gian, cơ quan ban hành,…) | G7: Ghi chú
A8: I. Viên chức
A9: 1 | B9: Chung Trần Thế Vinh | C9: 01012003 | D9: Tham gia thực hiện đề tài NCKH cấp trường. Mã số đề tài: T2020-TN01,có 01 Bài báo đăng trên tạp chí theo danh mục tạp chí khoa học được tính điểm theo quy định của Hội đồng Giáo sư nhà nước và tạp chí nước ngoài có chỉ số ISSN | E9: Bài viết đăng Kỷ yếu hội thảo cấp trường COSS 2021, Bài viết sáng kiến được công nhận phạm vi ảnh hưởng cấp ngành (QĐ số 1783/QĐ-SGDĐT ngày 20/8/2021)
A10: 2 | B10: Trần Đình Khải | C10: 01012008 | D10: Bài báo đăng trên tạp chí theo danh mục tạp chí khoa học được tính điểm theo quy định của Hội đồng Giáo sư nhà nước và tạp chí nước ngoài có chỉ số ISSN | E10: Bài viết đăng Kỷ yếu hội thảo cấp trường COSS 2021 | F10: Bài viết đăng kỷ yếu hội thảo cấp đơn vị tháng 7/2021
A11: 3 | B11: Vũ Quang Khải | C11: 01012007 | E11: Bài viết đăng Kỷ yếu hội thảo cấp trường COSS 2021 | F11: Bài viết đăng kỷ yếu hội thảo cấp đơn vị tháng 7/2021
A12: 4 | B12: Vũ Đức Pháp | C12: 01012013 | E12: Bài viết đăng Kỷ yếu hội thảo cấp trường COSS 2021 | F12: Bài viết đăng kỷ yếu hội thảo cấp đơn vị tháng 3/2021, Bài viết đăng kỷ yếu hội thảo cấp đơn vị tháng 7/2021
A13: 5 | B13: Bùi Anh Tuấn | C13: 01012023 | D13: Tham gia dự án xây dựng chương trình GlassGow City | E13: Bài viết đăng Kỷ yếu hội thảo cấp trường COSS 2021 | F13: Bài viết đăng kỷ yếu hội thảo cấp đơn vị tháng 7/2021
A14: 6 | B14: Dương Minh Chung | C14: 01012014 | E14: Bài viết đăng Kỷ yếu hội thảo cấp trường COSS 2021 | F14: Bài viết đăng kỷ yếu hội thảo cấp đơn vị tháng 3/2021,
A15: 7 | B15: Đỗ Thị Phương Khanh | C15: 01012005 | E15: Bài viết đăng Kỷ yếu hội thảo cấp trường COSS 2021 | F15: Bài viết đăng kỷ yếu hội thảo cấp đơn vị tháng 3/2021, Bài viết đăng kỷ yếu hội thảo cấp đơn vị tháng 7/2021
A16: 8 | B16: Trương Thị Phương Hồng | C16: 01012006 | F16: Bài viết đăng kỷ yếu hội thảo cấp đơn vị tháng 3/2021,
A17: 9 | B17: Phan Văn Thành | C17: 01012004
A18: 10 | B18: Phan Thị Xuân Trang | C18: 01012012
A19: 11 | B19: Lư Thị Yến Vũ | C19: 01012016
A20: 12 | B20: Nguyễn Thanh Vũ | C20: 01012015
A21: 13 | B21: Nguyễn Tiến Dũng | C21: 01012019
A22: 14 | B22: Nguyễn Thành Long | C22: 01012018
A23: 15 | B23: Nguyễn Ngọc Quỳnh | C23: 01012017
A24: 16 | B24: Nguyễn Duy Hải | C24: 01012022
A25: 17 | B25: Trần Minh Thông | C25: 01012020
A26: 18 | B26: Trần Thị Hương | C26: 01012021
A27: 19 | B27: Nguyễn Thanh Vĩnh Phúc | C27: 01012011
A28: 20 | B28: Võ Minh Quang | C28: 01017002
A29: 21 | B29: Dương Thị Hồng | C29: 01012028 | E29: Bài viết đăng Kỷ yếu hội thảo cấp trường COSS 2021 | F29: Bài viết đăng kỷ yếu hội thảo cấp đơn vị tháng 7/2021
A30: 22 | B30: Nguyễn Thanh Giang | C30: 01012032 | E30: Bài viết đăng Kỷ yếu hội thảo cấp trường COSS 2021 | F30: Bài viết đăng kỷ yếu hội thảo cấp đơn vị tháng 3/2021, Bài viết đăng kỷ yếu hội thảo cấp đơn vị tháng 7/2021
A31: 23 | B31: Nguyễn Hồng Phúc | C31: 01025017
A32: 24 | B32: Nguyễn Văn Sơn | C32: 01006004 | F32: Bài viết đăng kỷ yếu hội thảo cấp đơn vị tháng 3/2021, chuyên đề “Nâng cao hiệu quả giảng dạy trực tuyến”
A33: 25 | B33: Nguyễn Khắc Huy | C33: 01013068 | E33: Bài viết đăng Kỷ yếu hội thảo cấp trường COSS 2021 | F33: Bài viết đăng kỷ yếu hội thảo cấp đơn vị tháng 3/2021, Bài viết đăng kỷ yếu hội thảo cấp đơn vị tháng 7/2021
A34: 26 | B34: Võ Hoài Sơn | C34: 01012048
A35: 27 | B35: Nguyễn Thị Xuân Chinh | C35: 01012049
E38: TPHCM, ngày 15 tháng 01 năm 2022
E39: TRƯỞNG KHOA
E44: Chung Trần Thế Vinh

Sheet Mau 2
A1: TRƯỜNG CAO ĐẲNG LÝ TỰ TRỌNG THÀNH PHỐ HỒ CHÍ MINH KHOA CƠ KHÍ | F1: CỘNG HÒA XÃ HỘI CHỦ NGHĨA VIỆT NAM Độc lập - Tự do - Hạnh phúc
G2: Mẫu 2
A3: BẢNG TỔNG HỢP CÔNG VIỆC ĐỘT XUẤT ĐÃ THỰC HIỆN THÁNG 2/2022 (Gửi file mềm ngày 25 hàng tháng)
A6: TT | B6: Nội dung công việc | C6: Số lượng người tham gia thực hiện | D6: Tên người tham gia thực hiện | E6: Thời gian thực hiện | F6: Kết quả thực hiện | G6: Ghi chú
A7: I. | B7: Công việc chung của Trường
A8: Nhiệm vụ 1 | B8: Xây dựng chương trình CDIO ngành Cơ điện tử | D8: Tuấn
A9: Nhiệm vụ 2 | B9: Vận động DN tài trợ các hoạt động nhà trường | D9: Vinh, Huy ,Tuấn, H.Phúc, P.Hồng | G9: tài trợ 02 thùng khẩu trang cho KTX. khoa vận động DN tài trợ HB 5 triệu.
A10: Nhiệm vụ 3 | B10: Hỗ trợ đón SV đi học thực hành lại kể từ ngày 14/2 | D10: Vinh, Huy , Đ.Khải
A11: Nhiệm vụ 4 | B11: vận động SV tham gia chương trình VCNET | D11: Khanh, Hoài Sơn
A12: Nhiệm vụ 5
A13: Nhiệm vụ 6
A14: II. | B14: Công việc chung của đơn vị
A15: Nhiệm vụ 1 | B15: Bảo trì bảo dưỡng các máy móc thiết bị, sửa chữa thiết bị | D15: Vinh, Tuấn, Huy , H Phúc, Pháp
A16: Nhiệm vụ 2 | B16: Hỗ trợ khoa di dời máy móc thiết bị ở xưởng CNC | D16: Tuấn, Huy , H Phúc
A17: Nhiệm vụ 3 | B17: Dọn dẹp vệ sinh xưởng các xưởng cơ khí chuẩn bị cho dạy TH | D17: Vinh, Tuấn, Huy , H Phúc, Pháp
A18: Nhiệm vụ 4 | B18: chủ trì câu lạc bộ tin học thiết kế cơ khí, câu lạc bộ MasterCam sinh hoạt chủ nhật hàng tuần online | D18: P. Hồng
A19: Nhiệm vụ 5 | B19: Nhập dữ liệu, thiết kế trang Web Khoa | D19: Tuấn, Huy , H. Phúc
A20: Nhiệm vụ 6
A22: Lưu ý: - Nhóm công việc của đơn vị không tính nội dung công việc đã được quy định ở vị trí việc làm (đối với nhân viên); chế độ làm việc của giảng viên/ đã được tính chế độ, thù lao (đối với giảng viên). - Các đơn vị gửi file điện tử về phòng TC-HC-TH (Cô Trần Thị Ánh Phượng) qua hệ thống điện tử E-office nhà trường (không gửi văn bản giấy) ngày 25 hàng tháng./.
E23: Thành phố Hồ Chí Minh, ngày …. tháng…. năm …..
E24: TRƯỞNG ĐƠN VỊ

Sheet Mau 3
A1: TRƯỜNG CAO ĐẲNG LÝ TỰ TRỌNG | K1: CỘNG HÒA XÃ HỘI CHỦ NGHĨA VIỆT NAM
A2: THÀNH PHỐ HỒ CHÍ MINH | K2: Độc lập - Tự do - Hạnh phúc
A3: KHOA CƠ KHÍ
R4: Mẫu 3
A5: THỐNG KÊ CHI TIẾT KHỐI LƯỢNG CÔNG VIỆC THỰC HIỆN THÁNG 2/2022
A7: TT | B7: Tên nội dung công việc | D7: Công việc chung của trường | K7: Công việc chung của đơn vị | R7: Ghi chú
B8: Họ và tên | C8: Mã E-office | D8: Nhiệm vụ 1 | E8: Nhiệm vụ 2 | F8: Nhiệm vụ 3 | G8: Nhiệm vụ 4 | H8: Nhiệm vụ 5 | I8: Nhiệm vụ 6 | J8: Tổng cộng | K8: Nhiệm vụ 1 | L8: Nhiệm vụ 2 | M8: Nhiệm vụ 3 | N8: Nhiệm vụ 4 | O8: Nhiệm vụ 5 | P8: Nhiệm vụ 6 | Q8: Tổng cộng
A9: I. Viên chức
A10: 01 | B10: Chung Trần Thế Vinh | C10: 01012003 | E10: X | F10: X | J10: =COUNTIF(D10:I10,"X") -> 2 | K10: X | M10: X | Q10: =COUNTIF(K10:P10,"X") -> 2
A11: 02 | B11: Trần Đình Khải | C11: 01012008 | F11: X | J11: =COUNTIF(D11:I11,"X") -> 1 | Q11: =COUNTIF(K11:P11,"X") -> 0
A12: 03 | B12: Vũ Quang Khải | C12: 01012007 | J12: =COUNTIF(D12:I12,"X") -> 0 | Q12: =COUNTIF(K12:P12,"X") -> 0
A13: 04 | B13: Vũ Đức Pháp | C13: 01012013 | J13: =COUNTIF(D13:I13,"X") -> 0 | K13: X | M13: X | Q13: =COUNTIF(K13:P13,"X") -> 2
A14: 05 | B14: Bùi Anh Tuấn | C14: 01012023 | D14: X | E14: X | J14: =COUNTIF(D14:I14,"X") -> 2 | K14: X | L14: X | M14: X | O14: X | Q14: =COUNTIF(K14:P14,"X") -> 4
A15: 06 | B15: Dương Minh Chung | C15: 01012014 | J15: =COUNTIF(D15:I15,"X") -> 0 | Q15: =COUNTIF(K15:P15,"X") -> 0
A16: 07 | B16: Đỗ Thị Phương Khanh | C16: 01012005 | G16: X | J16: =COUNTIF(D16:I16,"X") -> 1 | Q16: =COUNTIF(K16:P16,"X") -> 0
A17: 08 | B17: Trương Thị Phương Hồng | C17: 01012006 | E17: X | J17: =COUNTIF(D17:I17,"X") -> 1 | N17: X | Q17: =COUNTIF(K17:P17,"X") -> 1
A18: 09 | B18: Phan Văn Thành | C18: 01012004 | J18: =COUNTIF(D18:I18,"X") -> 0 | Q18: =COUNTIF(K18:P18,"X") -> 0
A19: 10 | B19: Phan Thị Xuân Trang | C19: 01012012 | J19: =COUNTIF(D19:I19,"X") -> 0 | Q19: =COUNTIF(K19:P19,"X") -> 0
A20: 11 | B20: Lư Thị Yến Vũ | C20: 01012016 | J20: =COUNTIF(D20:I20,"X") -> 0 | Q20: =COUNTIF(K20:P20,"X") -> 0
A21: 12 | B21: Nguyễn Thanh Vũ | C21: 01012015 | J21: =COUNTIF(D21:I21,"X") -> 0 | Q21: =COUNTIF(K21:P21,"X") -> 0
A22: 13 | B22: Nguyễn Tiến Dũng | C22: 01012019 | J22: =COUNTIF(D22:I22,"X") -> 0 | Q22: =COUNTIF(K22:P22,"X") -> 0
A23: 14 | B23: Nguyễn Thành Long | C23: 01012018 | J23: =COUNTIF(D23:I23,"X") -> 0 | Q23: =COUNTIF(K23:P23,"X") -> 0
A24: 15 | B24: Nguyễn Ngọc Quỳnh | C24: 01012017 | J24: =COUNTIF(D24:I24,"X") -> 0 | Q24: =COUNTIF(K24:P24,"X") -> 0
A25: 16 | B25: Nguyễn Duy Hải | C25: 01012022 | J25: =COUNTIF(D25:I25,"X") -> 0 | Q25: =COUNTIF(K25:P25,"X") -> 0
A26: 17 | B26: Trần Minh Thông | C26: 01012020 | J26: =COUNTIF(D26:I26,"X") -> 0 | Q26: =COUNTIF(K26:P26,"X") -> 0
A27: 18 | B27: Trần Thị Hương | C27: 01012021 | J27: =COUNTIF(D27:I27,"X") -> 0 | Q27: =COUNTIF(K27:P27,"X") -> 0
A28: 19 | B28: Nguyễn Thanh Vĩnh Phúc | C28: 01012011 | J28: =COUNTIF(D28:I28,"X") -> 0 | Q28: =COUNTIF(K28:P28,"X") -> 0
A29: 20 | B29: Võ Minh Quang | C29: 01017002 | J29: =COUNTIF(D29:I29,"X") -> 0 | Q29: =COUNTIF(K29:P29,"X") -> 0
... A31: 22 | B31: Nguyễn Thanh Giang | C31: 01012032 | J31: =COUNTIF(D31:I31,"X") -> 0 | Q31: =COUNTIF(K31:P31,"X") -> 0
A32: 23 | B32: Nguyễn Hồng Phúc | C32: 01025017 | E32: X | J32: =COUNTIF(D32:I32,"X") -> 1 | K32: X | L32: X | M32: X | O32: X | Q32: =COUNTIF(K32:P32,"X") -> 4
A33: 24 | B33: Nguyễn Văn Sơn | C33: 01006004 | J33: =COUNTIF(D33:I33,"X") -> 0 | Q33: =COUNTIF(K33:P33,"X") -> 0
A34: 25 | B34: Nguyễn Khắc Huy | C34: 01013068 | E34: X | F34: X | J34: =COUNTIF(D34:I34,"X") -> 2 | K34: X | L34: X | M34: X | O34: X | Q34: =COUNTIF(K34:P34,"X") -> 4
A35: 26 | B35: Võ Hoài Sơn | C35: 01012048 | G35: X | J35: =COUNTIF(D35:I35,"X") -> 1 | Q35: =COUNTIF(K35:P35,"X") -> 0
A36: 27 | B36: Nguyễn Thị Xuân Chinh | C36: 01012049 | J36: =COUNTIF(D36:I36,"X") -> 0 | Q36: =COUNTIF(K36:P36,"X") -> 0
A37: II. Hợp đồng trường
A38: 01 | J38: =COUNTIF(D38:I38,"X") -> 0 | Q38: =COUNTIF(K38:P38,"X") -> 0
A39: 02 | J39: =COUNTIF(D39:I39,"X") -> 0 | Q39: =COUNTIF(K39:P39,"X") -> 0
A40: 03 | J40: =COUNTIF(D40:I40,"X") -> 0 | Q40: =COUNTIF(K40:P40,"X") -> 0
A41: 04 | J41: =COUNTIF(D41:I41,"X") -> 0 | Q41: =COUNTIF(K41:P41,"X") -> 0
A43: Lưu ý: Các đơn vị gửi file điện tử về phòng TC-HC-TH (Cô Trần Thị Ánh Phượng) qua hệ thống điện tử E-office nhà trường (không gửi văn bản giấy).
...

Sheet Mau 4 
A1: TRƯỜNG CAO ĐẲNG LÝ TỰ TRỌNG | G1: CỘNG HÒA XÃ HỘI CHỦ NGHĨA VIỆT NAM
A2: THÀNH PHỐ HỒ CHÍ MINH | G2: Độc lập - Tự do - Hạnh phúc
A3: KHOA CƠ KHÍ
A5: DANH SÁCH XẾP LOẠI THI ĐUA THÁNG 2/2022
A7: TT | B7: Họ tên | C7: Mã E-Office | D7: Tiêu chuẩn đạt mức xếp loại thi đua tối đa trong năm (Ẩn khi in) | E7: Xếp loại thi đua tháng theo quy định (Không vượt quá mức thi đua tối đa) | I7: Số ngày/giờ vượt so với ngày công kế hoạch (đối với CB-NV) | J7: Số ngày nghỉ/ tiết nghỉ (đối với GV) | K7: Đơn vị đề nghị mức xếp loại thi đua
E8: Xếp loại | F8: Lý do | G8: Số lượng công việc chung của trường | H8: Số lượng công việc chung của đơn vị | K8: Xếp loại | L8: Lý do đề nghị
A9: I. Viên chức
A10: 01 | B10: Chung Trần Thế Vinh | C10: 01012003 | E10: A1 | G10: =IFERROR(VLOOKUP($C10,'Mau 3'!$C$10:$Q$41,8,0),0) -> 2 | H10: 2
A11: 02 | B11: Trần Đình Khải | C11: 01012008 | E11: A3 | G11: =IFERROR(VLOOKUP($C11,'Mau 3'!$C$10:$Q$41,8,0),0) -> 1 | H11: =IFERROR(VLOOKUP($C11,'Mau 3'!$C$10:$Q$41,14,0),0) -> 0
A12: 03 | B12: Vũ Quang Khải | C12: 01012007 | E12: A4 | G12: =IFERROR(VLOOKUP($C12,'Mau 3'!$C$10:$Q$41,8,0),0) -> 0 | H12: =IFERROR(VLOOKUP($C12,'Mau 3'!$C$10:$Q$41,14,0),0) -> 0
A13: 04 | B13: Vũ Đức Pháp | C13: 01012013 | E13: A3 | G13: =IFERROR(VLOOKUP($C13,'Mau 3'!$C$10:$Q$41,8,0),0) -> 0 | H13: 2
A14: 05 | B14: Bùi Anh Tuấn | C14: 01012023 | E14: A1 | G14: =IFERROR(VLOOKUP($C14,'Mau 3'!$C$10:$Q$41,8,0),0) -> 2 | H14: 4
A15: 06 | B15: Dương Minh Chung | C15: 01012014 | E15: A4 | G15: =IFERROR(VLOOKUP($C15,'Mau 3'!$C$10:$Q$41,8,0),0) -> 0 | H15: =IFERROR(VLOOKUP($C15,'Mau 3'!$C$10:$Q$41,14,0),0) -> 0
A16: 07 | B16: Đỗ Thị Phương Khanh | C16: 01012005 | E16: A3 | G16: =IFERROR(VLOOKUP($C16,'Mau 3'!$C$10:$Q$41,8,0),0) -> 1 | H16: =IFERROR(VLOOKUP($C16,'Mau 3'!$C$10:$Q$41,14,0),0) -> 0
A17: 08 | B17: Trương Thị Phương Hồng | C17: 01012006 | E17: A4 | G17: =IFERROR(VLOOKUP($C17,'Mau 3'!$C$10:$Q$41,8,0),0) -> 1 | H17: 1 | L17: Đề xuất A3 do GV tích cực trong hỗ trợ các công việc khoa.
A18: 09 | B18: Phan Văn Thành | C18: 01012004 | E18: A4 | G18: =IFERROR(VLOOKUP($C18,'Mau 3'!$C$10:$Q$41,8,0),0) -> 0 | H18: 0
A19: 10 | B19: Phan Thị Xuân Trang | C19: 01012012 | E19: A4 | G19: =IFERROR(VLOOKUP($C19,'Mau 3'!$C$10:$Q$41,8,0),0) -> 0 | H19: =IFERROR(VLOOKUP($C19,'Mau 3'!$C$10:$Q$41,14,0),0) -> 0
A20: 11 | B20: Lư Thị Yến Vũ | C20: 01012016 | E20: A4 | G20: =IFERROR(VLOOKUP($C20,'Mau 3'!$C$10:$Q$41,8,0),0) -> 0 | H20: =IFERROR(VLOOKUP($C20,'Mau 3'!$C$10:$Q$41,14,0),0) -> 0
A21: 12 | B21: Nguyễn Thanh Vũ | C21: 01012015 | E21: A4 | G21: =IFERROR(VLOOKUP($C21,'Mau 3'!$C$10:$Q$41,8,0),0) -> 0 | H21: =IFERROR(VLOOKUP($C21,'Mau 3'!$C$10:$Q$41,14,0),0) -> 0
A22: 13 | B22: Nguyễn Tiến Dũng | C22: 01012019 | E22: A4 | G22: =IFERROR(VLOOKUP($C22,'Mau 3'!$C$10:$Q$41,8,0),0) -> 0 | H22: 0
A23: 14 | B23: Nguyễn Thành Long | C23: 01012018 | E23: A4 | G23: =IFERROR(VLOOKUP($C23,'Mau 3'!$C$10:$Q$41,8,0),0) -> 0 | H23: 0
A24: 15 | B24: Nguyễn Ngọc Quỳnh | C24: 01012017 | E24: A4 | G24: =IFERROR(VLOOKUP($C24,'Mau 3'!$C$10:$Q$41,8,0),0) -> 0 | H24: 0
A25: 16 | B25: Nguyễn Duy Hải | C25: 01012022 | E25: A4 | G25: =IFERROR(VLOOKUP($C25,'Mau 3'!$C$10:$Q$41,8,0),0) -> 0 | H25: 0
A26: 17 | B26: Trần Minh Thông | C26: 01012020 | E26: A4 | G26: =IFERROR(VLOOKUP($C26,'Mau 3'!$C$10:$Q$41,8,0),0) -> 0 | H26: =IFERROR(VLOOKUP($C26,'Mau 3'!$C$10:$Q$41,14,0),0) -> 0
A27: 18 | B27: Trần Thị Hương | C27: 01012021 | E27: A4 | G27: =IFERROR(VLOOKUP($C27,'Mau 3'!$C$10:$Q$41,8,0),0) -> 0 | H27: =IFERROR(VLOOKUP($C27,'Mau 3'!$C$10:$Q$41,14,0),0) -> 0
A28: 19 | B28: Nguyễn Thanh Vĩnh Phúc | C28: 01012011 | E28: A4 | G28: =IFERROR(VLOOKUP($C28,'Mau 3'!$C$10:$Q$41,8,0),0) -> 0 | H28: 0
A29: 20 | B29: Võ Minh Quang | C29: 01017002 | E29: A4 | G29: =IFERROR(VLOOKUP($C29,'Mau 3'!$C$10:$Q$41,8,0),0) -> 0 | H29: 0
A30: 21 | B30: Dương Thị Hồng | C30: 01012028 | E30: A4 | G30: =IFERROR(VLOOKUP($C30,'Mau 3'!$C$10:$Q$41,8,0),0) -> 0 | H30: =IFERROR(VLOOKUP($C30,'Mau 3'!$C$10:$Q$41,14,0),0) -> 0
A31: 22 | B31: Nguyễn Thanh Giang | C31: 01012032 | E31: A4 | G31: =IFERROR(VLOOKUP($C31,'Mau 3'!$C$10:$Q$41,8,0),0) -> 0 | H31: =IFERROR(VLOOKUP($C31,'Mau 3'!$C$10:$Q$41,14,0),0) -> 0
A32: 23 | B32: Nguyễn Hồng Phúc | C32: 01025017 | E32: A4 | G32: =IFERROR(VLOOKUP($C32,'Mau 3'!$C$10:$Q$41,8,0),0) -> 1 | H32: 4 | L32: Đề xuất A2 do GV tích cực trong hỗ trợ các công việc khoa.
A33: 24 | B33: Nguyễn Văn Sơn | C33: 01006004 | E33: A4 | G33: =IFERROR(VLOOKUP($C33,'Mau 3'!$C$10:$Q$41,8,0),0) -> 0 | H33: 0
A34: 25 | B34: Nguyễn Khắc Huy | C34: 01013068 | E34: A2 | G34: =IFERROR(VLOOKUP($C34,'Mau 3'!$C$10:$Q$41,8,0),0) -> 2 | H34: 4 | L34: Đề xuất A1 do GV tích cực trong hỗ trợ các công việc khoa.
A35: 26 | B35: Võ Hoài Sơn | C35: 01012048 | E35: A4 | G35: =IFERROR(VLOOKUP($C35,'Mau 3'!$C$10:$Q$41,8,0),0) -> 1 | H35: =IFERROR(VLOOKUP($C35,'Mau 3'!$C$10:$Q$41,14,0),0) -> 0
A36: 27 | B36: Nguyễn Thị Xuân Chinh | C36: 01012049 | E36: A4 | G36: =IFERROR(VLOOKUP($C36,'Mau 3'!$C$10:$Q$41,8,0),0) -> 0 | H36: =IFERROR(VLOOKUP($C36,'Mau 3'!$C$10:$Q$41,14,0),0) -> 0
A37: II. Hợp đồng trường
A38: 01 | G38: =IFERROR(VLOOKUP($C38,'Mau 3'!$C$10:$Q$41,8,0),0) -> 0 | H38: =IFERROR(VLOOKUP($C38,'Mau 3'!$C$10:$Q$41,14,0),0) -> 0
B41: Kết quả xếp loại | G41: Viên chức | I41: Hợp đồng trường
B42: A1 | G42: =COUNTIF($E$10:$E$36,"A1") -> 2 | I42: =COUNTIF($E$38:$E$38,"A1") -> 0
B43: A2 | G43: =COUNTIF($E$10:$E$36,"A2") -> 1 | I43: =COUNTIF($E$38:$E$38,"A3") -> 0
B44: A3 | G44: =COUNTIF($E$10:$E$36,"A3") -> 3 | I44: =COUNTIF($E$38:$E$38,"A3") -> 0
...
