Workbook

Sheet Mẫu 4A
O1: Mẫu 4A
A2: TRƯỜNG CAO ĐẲNG LÝ TỰ TRỌNG THÀNH PHỐ HỒ CHÍ MINH ĐƠN VỊ: ………………………. | J2: CỘNG HÒA XÃ HỘI CHỦ NGHĨA VIỆT NAM Độc lập - Tự do - Hạnh phúc
A4: BÁO CÁO DANH SÁCH TỔNG HỢP KẾT QUẢ ĐÁNH GIÁ, PHÂN LOẠI CỦA CÔNG CHỨC, VIÊN CHỨC Kỳ đánh giá: Quý 4/2019
A7: STT | B7: HỌ VÀ TÊN | D7: MÃ NHÂN VIÊN | E7: ĐIỂM TỰ ĐÁNH GIÁ | F7: ĐIỂM ĐƠN VỊ ĐÁNH GIÁ | K7: KẾT QUẢ XẾP LOẠI (đánh dấu X tương ứng mức đánh giá từng cá nhân) | P7: Ghi chú
F8: Tiêu chí I+II | G8: Tiêu chí III | H8: Tổng số Điểm cộng | I8: Tổng số Điểm trừ | J8: Tổng điểm | K8: Hoàn thành xuất sắc nhiệm vụ | L8: Hoàn thành tốt nhiệm vụ | M8: Hoàn thành nhiệm vụ hoặc hoàn thành nhiệm vụ nhưng còn hạn chế về năng lực | N8: Không hoàn thành nhiệm vụ | O8: Không xếp loai (nghỉ chế độ thai sản, nghỉ không lương, nghỉ việc,...)
A9: (1) | B9: (2) | D9: (3) | E9: (4) | F9: (5) | G9: (6) | H9: (7) | I9: (8) | J9: (9)= (5+6+7)-(8) | K9: (10) | L9: (11) | M9: (12) | N9: (13) | O9: (14)
A10: I | B10: Viên chức
A11: 1 | B11: Nguyễn Văn | C11: ANH | H11: ='TỔNG ĐIỂM CỘNG-TRỪ'!D7 -> 0 | I11: ='TỔNG ĐIỂM CỘNG-TRỪ'!F7 -> 0 | J11: =ROUND(F11+G11+H11-I11,1) -> 0 | K11: =IF(AND($J11>=90,$J11<=100),"X",IF($J11<90,"","")) | L11: =IF(AND($J11>=75,$J11<90),"X",IF($J11<75,"","")) | M11: =IF(AND($J11>=50,$J11<75),"X",IF($J11<50,"","")) | N11: =IF($J11<50,"X","") -> X
A12: 2 | H12: ='TỔNG ĐIỂM CỘNG-TRỪ'!D8 -> 0 | I12: ='TỔNG ĐIỂM CỘNG-TRỪ'!F8 -> 0 | J12: =ROUND(F12+G12+H12-I12,1) -> 0 | K12: =IF(AND($J12>=90,$J12<=100),"X",IF($J12<90,"","")) | L12: =IF(AND($J12>=75,$J12<90),"X",IF($J12<75,"","")) | M12: =IF(AND($J12>=50,$J12<75),"X",IF($J12<50,"","")) | N12: =IF($J12<50,"X","") -> X
A13: 3 | H13: ='TỔNG ĐIỂM CỘNG-TRỪ'!D9 -> 0 | I13: ='TỔNG ĐIỂM CỘNG-TRỪ'!F9 -> 0 | J13: =ROUND(F13+G13+H13-I13,1) -> 0 | K13: =IF(AND($J13>=90,$J13<=100),"X",IF($J13<90,"","")) | L13: =IF(AND($J13>=75,$J13<90),"X",IF($J13<75,"","")) | M13: =IF(AND($J13>=50,$J13<75),"X",IF($J13<50,"","")) | N13: =IF($J13<50,"X","") -> X
A14: 4 | H14: ='TỔNG ĐIỂM CỘNG-TRỪ'!D10 -> 0 | I14: ='TỔNG ĐIỂM CỘNG-TRỪ'!F10 -> 0 | J14: =ROUND(F14+G14+H14-I14,1) -> 0 | K14: =IF(AND($J14>=90,$J14<=100),"X",IF($J14<90,"","")) | L14: =IF(AND($J14>=75,$J14<90),"X",IF($J14<75,"","")) | M14: =IF(AND($J14>=50,$J14<75),"X",IF($J14<50,"","")) | N14: =IF($J14<50,"X","") -> X
A15: 5 | H15: ='TỔNG ĐIỂM CỘNG-TRỪ'!D9 -> 0 | I15: ='TỔNG ĐIỂM CỘNG-TRỪ'!F9 -> 0 | J15: =ROUND(F15+G15+H15-I15,1) -> 0 | K15: =IF(AND($J15>=90,$J15<=100),"X",IF($J15<90,"","")) | L15: =IF(AND($J15>=75,$J15<90),"X",IF($J15<75,"","")) | M15: =IF(AND($J15>=50,$J15<75),"X",IF($J15<50,"","")) | N15: =IF($J15<50,"X","") -> X
A16: 6 | H16: ='TỔNG ĐIỂM CỘNG-TRỪ'!D10 -> 0 | I16: ='TỔNG ĐIỂM CỘNG-TRỪ'!F10 -> 0 | J16: =ROUND(F16+G16+H16-I16,1) -> 0 | K16: =IF(AND($J16>=90,$J16<=100),"X",IF($J16<90,"","")) | L16: =IF(AND($J16>=75,$J16<90),"X",IF($J16<75,"","")) | M16: =IF(AND($J16>=50,$J16<75),"X",IF($J16<50,"","")) | N16: =IF($J16<50,"X","") -> X
A17: 7 | H17: ='TỔNG ĐIỂM CỘNG-TRỪ'!D11 -> 0 | I17: ='TỔNG ĐIỂM CỘNG-TRỪ'!F11 -> 0 | J17: =ROUND(F17+G17+H17-I17,1) -> 0 | K17: =IF(AND($J17>=90,$J17<=100),"X",IF($J17<90,"","")) | L17: =IF(AND($J17>=75,$J17<90),"X",IF($J17<75,"","")) | M17: =IF(AND($J17>=50,$J17<75),"X",IF($J17<50,"","")) | N17: =IF($J17<50,"X","") -> X
A18: II | B18: Viên chức tập sự
A19: III | B19: Hợp đồng 68
A20: III | B20: Hợp đồng Trường
K21: TP. Hồ Chí Minh, ngày…. tháng… năm 20…
K22: TRƯỞNG ĐƠN VỊ (ký tên và ghi rõ họ tên)

Sheet KL CV 10%
A1: TRƯỜNG CAO ĐẲNG LÝ TỰ TRỌNG THÀNH PHỐ HỒ CHÍ MINH ĐƠN VỊ:
A3: BẢNG XÁC ĐỊNH KHỐI LƯỢNG CÔNG VIỆC QUÝ 4/2019
A5: STT | B5: Họ và tên | C5: Mã nhân viên | D5: Mức độ hoàn thành khối lượng công việc được giao (tối đa 90%) | E5: Mức độ hoàn thành các công việc đột xuất (tối đa 10%) | W5: Kết quả thực hiện nhiệm vụ | X5: Quy đổi ra điểm
E6: Nhiệm vụ chung của nhà trường (tối đa 5%) | O6: Nhiệm vụ riêng của từng đơn vị (tối đa 5%) | V6: Tổng tỷ lệ n nhiệm vụ
E7: Nhiệm vụ 1 | F7: Nhiệm vụ 2 | G7: Nhiệm vụ 3 | H7: Nhiệm vụ 4 | I7: Nhiệm vụ 5 | J7: Nhiệm vụ 6 | K7: Nhiệm vụ 7 | L7: Nhiệm vụ 8 | M7: Nhiệm vụ 9 | N7: Nhiệm vụ 10 | O7: Nhiệm vụ 11 | P7: Nhiệm vụ 12 | Q7: Nhiệm vụ 13 | R7: Nhiệm vụ 14 | S7: Nhiệm vụ 15 | T7: Nhiệm vụ 16 | U7: Nhiệm vụ 17
A8: 01 | D8: 0.9 | V8: =IF(SUM(E8:N8)>5%,5%,SUM(E8:N8))+IF(SUM(O8:U8)>5%,5%,SUM(O8:U8)) -> 0 | W8: =D8+V8 -> 0.9 | X8: =IF(95%<=W8,60,IF(AND(90%<=W8,W8<95%),50,IF(AND(80%<=W8,W8<90%),40,IF(AND(75%<=W8,W8<80%),30,IF(AND(70%<=W8,W8<75%),20,IF(W8<70%,0,"")))))) -> 50
A9: 02 | D9: 0.9 | V9: =IF(SUM(E9:N9)>5%,5%,SUM(E9:N9))+IF(SUM(O9:U9)>5%,5%,SUM(O9:U9)) -> 0 | W9: =D9+V9 -> 0.9 | X9: =IF(95%<=W9,60,IF(AND(90%<=W9,W9<95%),50,IF(AND(80%<=W9,W9<90%),40,IF(AND(75%<=W9,W9<80%),30,IF(AND(70%<=W9,W9<75%),20,IF(W9<70%,0,"")))))) -> 50
A10: 03 | D10: 0.9 | V10: =IF(SUM(E10:N10)>5%,5%,SUM(E10:N10))+IF(SUM(O10:U10)>5%,5%,SUM(O10:U10)) -> 0 | W10: =D10+V10 -> 0.9 | X10: =IF(95%<=W10,60,IF(AND(90%<=W10,W10<95%),50,IF(AND(80%<=W10,W10<90%),40,IF(AND(75%<=W10,W10<80%),30,IF(AND(70%<=W10,W10<75%),20,IF(W10<70%,0,"")))))) -> 50
A11: 04 | D11: 0.9 | V11: =IF(SUM(E11:N11)>5%,5%,SUM(E11:N11))+IF(SUM(O11:U11)>5%,5%,SUM(O11:U11)) -> 0 | W11: =D11+V11 -> 0.9 | X11: =IF(95%<=W11,60,IF(AND(90%<=W11,W11<95%),50,IF(AND(80%<=W11,W11<90%),40,IF(AND(75%<=W11,W11<80%),30,IF(AND(70%<=W11,W11<75%),20,IF(W11<70%,0,"")))))) -> 50
A12: 05 | D12: 0.9 | V12: =IF(SUM(E12:N12)>5%,5%,SUM(E12:N12))+IF(SUM(O12:U12)>5%,5%,SUM(O12:U12)) -> 0 | W12: =D12+V12 -> 0.9 | X12: =IF(95%<=W12,60,IF(AND(90%<=W12,W12<95%),50,IF(AND(80%<=W12,W12<90%),40,IF(AND(75%<=W12,W12<80%),30,IF(AND(70%<=W12,W12<75%),20,IF(W12<70%,0,"")))))) -> 50
A13: 06 | D13: 0.9 | V13: =IF(SUM(E13:N13)>5%,5%,SUM(E13:N13))+IF(SUM(O13:U13)>5%,5%,SUM(O13:U13)) -> 0 | W13: =D13+V13 -> 0.9 | X13: =IF(95%<=W13,60,IF(AND(90%<=W13,W13<95%),50,IF(AND(80%<=W13,W13<90%),40,IF(AND(75%<=W13,W13<80%),30,IF(AND(70%<=W13,W13<75%),20,IF(W13<70%,0,"")))))) -> 50
A14: 07 | D14: 0.9 | V14: =IF(SUM(E14:N14)>5%,5%,SUM(E14:N14))+IF(SUM(O14:U14)>5%,5%,SUM(O14:U14)) -> 0 | W14: =D14+V14 -> 0.9 | X14: =IF(95%<=W14,60,IF(AND(90%<=W14,W14<95%),50,IF(AND(80%<=W14,W14<90%),40,IF(AND(75%<=W14,W14<80%),30,IF(AND(70%<=W14,W14<75%),20,IF(W14<70%,0,"")))))) -> 50
A15: 08 | D15: 0.9 | V15: =IF(SUM(E15:N15)>5%,5%,SUM(E15:N15))+IF(SUM(O15:U15)>5%,5%,SUM(O15:U15)) -> 0 | W15: =D15+V15 -> 0.9 | X15: =IF(95%<=W15,60,IF(AND(90%<=W15,W15<95%),50,IF(AND(80%<=W15,W15<90%),40,IF(AND(75%<=W15,W15<80%),30,IF(AND(70%<=W15,W15<75%),20,IF(W15<70%,0,"")))))) -> 50
A16: 09 | D16: 0.9 | V16: =IF(SUM(E16:N16)>5%,5%,SUM(E16:N16))+IF(SUM(O16:U16)>5%,5%,SUM(O16:U16)) -> 0 | W16: =D16+V16 -> 0.9 | X16: =IF(95%<=W16,60,IF(AND(90%<=W16,W16<95%),50,IF(AND(80%<=W16,W16<90%),40,IF(AND(75%<=W16,W16<80%),30,IF(AND(70%<=W16,W16<75%),20,IF(W16<70%,0,"")))))) -> 50
A17: 10 | D17: 0.9 | V17: =IF(SUM(E17:N17)>5%,5%,SUM(E17:N17))+IF(SUM(O17:U17)>5%,5%,SUM(O17:U17)) -> 0 | W17: =D17+V17 -> 0.9 | X17: =IF(95%<=W17,60,IF(AND(90%<=W17,W17<95%),50,IF(AND(80%<=W17,W17<90%),40,IF(AND(75%<=W17,W17<80%),30,IF(AND(70%<=W17,W17<75%),20,IF(W17<70%,0,"")))))) -> 50
A18: Ghi chú: Trọng số của mỗi công việc, được căn cứ vào mức độ phức tạp, thời gian thực hiện...do Trưởng đơn vị quyết định và không vượt quá 2%.
A20: THỐNG KÊ CHI TIẾT KHỐI LƯỢNG CÔNG VIỆC ĐỘT XUẤT ĐƠN VỊ THỰC HIỆN
A22: TT | B22: Tên nội dung công việc | K22: Thời gian bắt đầu | M22: Thời gian kết thúc | O22: Tổng số cá nhân tham gia | P22: Số cá nhân tham gia không đạt yêu cầu | Q22: Tỷ lệ | R22: Ghi chú
A23: 1 | B23: Nhiệm vụ 1: Tham gia sinh hoạt giáo viên chủ nhiệm đầy đủ. | Q23: 0.01
A24: 2 | B24: Nhiệm vụ 2: Tham gia đánh giá trường chất lượng cao | Q24: 0.01
A25: 3 | B25: Nhiệm vụ 3: Tư vấn tuyển sinh các ngành đào tạo theo chương trình trọng điểm cấp độ quốc tế, chương trình chất lượng cao. | Q25: 0.02
A26: 4 | B26: Nhiệm vụ 4: Vận động tài trợ học bổng
A27: 5 | B27: Vận động tài trợ dưới 5 triệu | Q27: 0.01
A28: 6 | B28: Vận động tài trợ từ 5 triệu đến dưới 10 triệu | Q28: 1, 5%
A29: 7 | B29: Vận động tài trợ từ 10 triệu đến dưới 50 triệu | Q29: 0.025
A30: 8 | B30: Vận động tài trợ từ 50 triệu đến dưới 100 triệu | Q30: 0.035
A31: 9 | B31: Vận động tài trợ trên 100 triệu | Q31: 0.05
A32: 10 | B32: Nhiệm vụ 5: Tham gia xây dựng các chương trình đào tạo (chất lượng cao, CDIO, đào tạo thí điểm, biên soạn xây dựng chương trình, giáo trình môn học xanh hóa ngành ô tô. …) | Q32: 0.02
A33: 11 | B33: Nhiệm vụ 6: Làm Giám khảo hội thi tay nghề | Q33: 0.02
A34: 12 | B34: Nhiệm vụ 7: Tham gia phục vụ lễ khai giảng/Lễ tốt nghiệp/Triển lãm thiết bị đào tạo/Ngày hội tuyển dụng việc làm/Hội nghị CBCCVC/Hội thảo khoa học cấp Trường/Các lớp tập huấn do Tổng cục GDNN và các Sở ngành tổ chức tại trường/ Khám sức khỏe cho HSSV | Q34: 0.02
A35: 13 | B35: Nhiệm vụ 8: Giảng dạy các lớp học lại và hổ trợ kiến thức phụ đạo cho HSSV không tính chế độ ( có xác nhận của khoa, của Trưởng TT Thư viện) | Q35: 0.02
A36: 14 | B36: Nhiệm vụ 9: Tham gia chủ nhiệm từ 02 lớp trở lên | Q36: 0.02
A37: 15 | B37: Nhiệm vụ 10: Báo cáo, đánh giá hệ thống quản lý chất lượng ISO | Q37: 0.02
A38: 16 | B38: Nhiệm vụ 11: | R38: Nhiệm vụ của đơn vị đánh theo thứ tự từ nhiệm vụ thứ 11
A39: 17 | B39: Nhiệm vụ 12:
A40: 18 | B40: Nhiệm vụ 13:
A41: 19 | B41: Nhiệm vụ 14:
A42: 20 | B42: Nhiệm vụ 15:
A43: 21 | B43: Nhiệm vụ 16:
A44: 22 | B44: Nhiệm vụ 17:
L46: Ngày tháng năm
L47: TRƯỞNG ĐƠN VỊ

Sheet TỔNG ĐIỂM CỘNG-TRỪ
A1: TRƯỜNG CAO ĐẲNG LÝ TỰ TRỌNG THÀNH PHỐ HỒ CHÍ MINH ĐƠN VỊ:
A3: BẢNG THỐNG KÊ ĐIỂM CỘNG - TRỪ TRONG ĐÁNH GIÁ QUÝ 4/2019
A5: STT | B5: Họ và tên | C5: Mã nhân viên | D5: Tổng số điểm cộng | F5: Tổng số điểm trừ
D6: Tổng | E6: Ghi chú (ghi rõ nội dung được cộng điểm) | F6: Tổng | G6: Ghi chú (ghi rõ nội dung bị trừ điểm)
A7: 01
A8: 02
A9: 03
A10: 04
A11: 05
A12: 06
A13: 07
A14: 08
A15: 09
A16: 10
F18: TRƯỞNG ĐƠN VỊ

Sheet Mẫu 2B-VCQL
G1: Mẫu 02 B
A2: UBND THÀNH PHỐ HỒ CHÍ MINH TRƯỜNG CAO ĐẲNG LÝ TỰ TRỌNG THÀNH PHỐ HỒ CHÍ MINH | D2: CỘNG HÒA XÃ HỘI CHỦ NGHĨA VIỆT NAM Độc lập - Tự do - Hạnh phúc
A5: ĐÁNH GIÁ VÀ ĐÓNG GÓP Ý KIẾN ĐỐI VỚI ĐỒNG NGHIỆP Kỳ đánh giá: Quý 4/2019
B7: Họ và tên người được đánh giá:
B8: Chức vụ:
B9: Đơn vị công tác:
B10: Mã số CBCCVC:
A12: STT | B12: TIÊU CHÍ ĐÁNH GIÁ | E12: ĐIỂM TỐI ĐA | F12: ĐIỂM ĐỒNG NGHIỆP ĐÁNH GIÁ | G12: GHI CHÚ
A13: (1) | B13: (2) | E13: (3) | F13: (4) | G13: (5)
A14: I | B14: Tiêu chí 1: Ý thức tổ chức kỷ luật, phẩm chất đạo đức (Ở từng tiêu chí trừ 01 điểm/lần vi phạm. Trường hợp đã trừ hết số điểm của tiêu chí nhưng tiếp tục vi phạm thì trừ bổ sung vào tổng số điểm đạt được trước khi phân loại) | E14: =E15+E19+E25+E28 -> 20 | F14: =ROUND(F15+F19+F25+F28,1) -> 20
A15: 1 | B15: Chấp hành nghiêm về thời gian làm việc | E15: =5-(E16+E17+E18) -> 5 | F15: =ROUND(5-(F16+F17+F18),1) -> 5
A16: 1.1 | B16: Không sử dụng quỹ thời gian làm việc vào mục đích cá nhân. Làm việc riêng trong giờ làm việc (chơi game, mua bán hàng; tụ tập trò chuyện, mang trẻ nhỏ trong các buổi họp, hội nghị,…) hình ảnh được ghi nhận từ hệ thống camera giám sát/ P.TCHCTH/ Tổ TT-PC/ Trưởng đơn vị nhắc nhở, ghi nhận một lần (-1đ).
A17: 1.2 | B17: Đảm bảo ngày công kế hoạch. Nghỉ làm việc (kể cả có phép) 3 ngày liên tục hoặc từ 4 đến 5 ngày (-1đ); từ 6 đến 7 ngày (-2đ); nghỉ từ ngày thứ 8 trở lên, mỗi ngày (-0,5đ)
A18: 1.3 | B18: Tham gia đầy đủ, đúng giờ các buổi học chính trị, nghe thời sự, bồi dưỡng chuyên môn, nghiệp vụ,… được tổ chức tại Trường; cuộc họp của đơn vị và nhà trường. Vắng vì việc riêng có phép (-1đ/buổi)
A19: 2 | B19: Tuân thủ tính thứ bậc, kỷ cương và trật tự hành chính. Nghiêm túc thực hiện công việc, nhiệm vụ được giao | E19: =6-(E20+E21+E22+E23+E24) -> 6 | F19: =ROUND(6-(F20+F21+F22+F23+F24),1) -> 6
A20: 2.1 | B20: Nộp hồ sơ cá nhân, bằng cấp, chứng chỉ… khi được Trường thông báo trễ hạn 02 lần (-1đ)
A21: 2.2 | B21: Sử dụng tài sản của Nhà trường vào mục đích cá nhân bị đơn vị, nhà trường nhắc nhở, ghi nhận 1 lần (-1đ)
A22: 2.3 | B22: Không thực hiện báo cáo, xin ý kiến, xin phép bằng văn bản đúng thẩm quyền đơn vị phân công mỗi lần (-1đ)
A23: 2.4 | B23: Không chấp hành sự điều động, phân công thường xuyên và đột xuất của nhà trường, đơn vị; Không thực hiện hoặc không hoàn thành các báo cáo, nhiệm vụ được giao, mỗi lần (-1đ)
A24: 2.5 | B24: Thực hiện các báo cáo của đơn vị trễ hạn 02 lần (-1đ)
A25: 3 | B25: Thực hiện tốt về giao tiếp và ứng xử đối với nhân dân; đối với cấp trên, cấp dưới và đồng nghiệp | E25: =5-(E26+E27) -> 5 | F25: =ROUND(5-(F26+F27),1) -> 5
A26: 3.1 | B26: Có lời nói, cử chỉ, thái độ, hành động gây ảnh hưởng đến uy tín, danh dự nhà trường, đơn vị, lãnh đạo và đồng nghiệp; bị đồng nghiệp, phụ huynh, HS-SV, khách đến liên hệ phản ánh, phê bình, nhắc nhở (sau khi xác minh là sai phạm) mỗi lần (-1đ)
A27: 3.2 | B27: Có thái độ gây nhũng nhiễu, phiền hà, trục lợi cá nhân khi xử lý, giải quyết công việc. Vi phạm 1 lần (sau khi kết quả xác minh là sai phạm) (-1đ)
A28: 4 | B28: Thực hiện các nội dung khác trong Quy tắc ứng xử của cán bộ, công chức, viên chức và người lao động làm việc trong các cơ quan hành chính, đơn vị sự nghiệp công lập trên địa bàn Thành phố được ban hành kèm theo Quyết định số 67/2017/QĐ-UBND ngày 29 tháng 12 năm 2017 của Ủy ban nhân dân Thành phố và các quy tắc khác của ngành, lĩnh vực | E28: =4-(E29+E30+E31) -> 4 | F28: =ROUND(4-(F29+F30+F31),1) -> 4
A29: 4.1 | B29: Thực hiện việc gửi, trả lời thư điện tử đến các đơn vị, cá nhân trong, ngoài trường kịp thời và lịch sự. Bị phê bình, phản ảnh 2 lần (-1đ)
A30: 4.2 | B30: Vi phạm quy định về trang phục, lễ phục khi làm việc, hội họp trong giờ làm việc tại trường, bị ghi nhận 02 lần trở lên (-1đ)
A31: 4.3 | B31: Bị ghi nhận không chấp hành nghiêm chỉnh việc đeo bảng tên cá nhân (thẻ CB-GV-NV) trong giờ làm việc tại trường 2 lần trở lên (-1đ)
A32: II | B32: Tiêu chí 2: Năng lực và kỹ năng | E32: =E33+E35+E37+E39+E41+E43 -> 20 | F32: =ROUND(F33+F35+F37+F39+F41+F43,1) -> 0
A33: 5 | B33: Có năng lực tập hợp cán bộ, công chức, viên chức, xây dựng đơn vị/bộ phận đoàn kết, thống nhất | E33: 1 | F33: =IF(F34>1,"1",F34) -> 0
B34: Đôn đốc, chỉ đạo, động viên các thành viên trong đơn vị tham gia công tác đột xuất của Nhà trường, của đơn vị đạt kết quả (1đ)
A35: 6 | B35: Chỉ đạo, điều hành, kiểm soát việc thực hiện nhiệm vụ của đơn vị/bộ phận đảm bảo kịp thời, không bỏ sót nhiệm vụ | E35: 2 | F35: =IF(F36>2,"2",F36) -> 0
B36: Đơn vị thực hiện nhiệm vụ được giao đúng quy trình, quy định, đúng hạn (1đ); vi phạm/không đúng hạn 01 lần (1đ); 2 lần trở lên (0đ).
A37: 7 | B37: Báo cáo kịp thời, chính xác với lãnh đạo về tình hình, kết quả thực hiện nhiệm vụ được giao | E37: 2 | F37: =IF(F38>2,"2",F38) -> 0
B38: Xây dựng kế hoạch công tác quý, tổng kết đánh giá, báo cáo kết quả thực hiện cho thành viên Ban Giám hiệu được phân công phụ trách (2đ), không thực hiện (0đ)
A39: 8 | B39: Phối hợp, tạo lập mối quan hệ tốt với cá nhân, tổ chức có liên quan trong thực hiện nhiệm vụ | E39: 2 | F39: =IF(F40>2,"2",F40) -> 0
B40: Đơn vị để xảy ra mâu thuẫn mất đoàn kết nội bộ (Khiếu kiện, khiếu nại do giải quyết không thỏa đáng các sự việc liên quan đến chuyên môn của đơn vị): 1 lần (1 đ); 2 lần trở lên (0đ)
A41: 9 | B41: Có trên 20% nhiệm vụ hoàn thành vượt tiến độ, có chất lượng và hiệu quả (Nếu không có trên 20% nhiệm vụ hoàn thành vượt tiến độ, có chất lượng và hiệu quả thì không có điểm. Không chia nhỏ thành các tỉ lệ thấp hơn; Chỉ đánh giá một mức là 8 điểm hoặc không có điểm). | E41: 8 | F41: =IF(F42>=8,"8",IF(F42<8,"0")) -> 0
B42: Đơn vị hoàn thành công việc được giao vượt tiến độ có chất lượng và hiệu quả, không sai sót chuyên môn; Đơn vị có sáng tạo, cải tiến phương pháp làm việc, nâng cao hiệu quả công việc, có ý tưởng xây dựng môi trường làm việc xanh, sạch, đẹp được lãnh đạo nhà trường đánh giá trong các buổi họp định kỳ (có biên bản ghi nhận) hoặc tham gia xây dựng dự án/ đề án/ chương trình làm việc cấp Trường/tham gia hội thao, hội thi, hội giảng từ cấp đơn vị đến cấp thành phố đạt giải.
A43: 10 | B43: Sáng tạo, cải tiến phương pháp làm việc, nâng cao hiệu quả công việc (tổng điểm tiêu chuẩn không vượt quá 5đ) | E43: 5 | F43: =ROUND(IF((F44+F45)>5,"5",(F44+F45)),1) -> 0
A44: 10.1 | B44: Thực hiện kiểm tra, xây dựng, cải cách quy trình làm việc của đơn vị đạt hiệu quả, phù hợp với quy định hoặc có sáng kiến/giải pháp cải tiến phương pháp làm việc nâng cao hiệu quả công việc được Ban Giám hiệu đánh giá, công nhận: 1 quy trình/sáng kiến/giải pháp (1đ), điểm tối đa (5đ)
A45: 10.2 | B45: Tham gia nhiệm vụ đột xuất (không có trong kế hoạch): Báo cáo, hội nghị, sửa chữa, hỗ trợ, tham gia triển lãm cấp trường có chất lượng và hiệu quả (2đ); Không thực hiện (0đ)
B46: TỔNG CỘNG (I+II) | E46: =E14+E32 -> 40 | F46: =F14+F32 -> 20
B48: Ý KIẾN ĐÓNG GÓP CỤ THỂ CỦA ĐỒNG NGHIỆP:
D50: Tp.HCM, ngày tháng năm 2019
D51: NGƯỜI ĐÁNH GIÁ
D52: (ký tên và ghi rõ học tên)

Sheet Mẫu 2C-GV
G1: Mẫu 02 B
A2: UBND THÀNH PHỐ HỒ CHÍ MINH TRƯỜNG CAO ĐẲNG LÝ TỰ TRỌNG THÀNH PHỐ HỒ CHÍ MINH | D2: CỘNG HÒA XÃ HỘI CHỦ NGHĨA VIỆT NAM Độc lập - Tự do - Hạnh phúc
A5: ĐÁNH GIÁ VÀ ĐÓNG GÓP Ý KIẾN ĐỐI VỚI ĐỒNG NGHIỆP Kỳ đánh giá: Quý 1 / năm 2022
B7: Họ và tên người được đánh giá: NGUYỄN MẠNG PHƯƠNG
B8: Chức vụ: Gỉảng viên
B9: Đơn vị công tác: KHOA: KHCB
B10: Mã số CBCCVC:11100113288
A12: STT | B12: TIÊU CHÍ ĐÁNH GIÁ | E12: ĐIỂM TỐI ĐA | F12: ĐIỂM ĐỒNG NGHIỆP ĐÁNH GIÁ | G12: GHI CHÚ
A13: (1) | B13: (2) | E13: (3) | F13: (4) | G13: (5)
A14: I | B14: Tiêu chí 1: Ý thức tổ chức kỷ luật, phẩm chất đạo đức (Ở từng tiêu chí trừ 01 điểm/lần vi phạm. Trường hợp đã trừ hết số điểm của tiêu chí nhưng tiếp tục vi phạm thì trừ bổ sung vào tổng số điểm đạt được trước khi phân loại) | E14: =E15+E19+E25+E28 -> 20 | F14: =ROUND(F15+F19+F25+F28,1) -> 20
A15: 1 | B15: Chấp hành nghiêm về thời gian làm việc | E15: =5-(E16+E17+E18) -> 5 | F15: =ROUND(5-(F16+F17+F18),1) -> 5
A16: 1.1 | B16: Không sử dụng quỹ thời gian làm việc vào mục đích cá nhân. Làm việc riêng trong giờ làm việc (chơi game, mua bán hàng; tụ tập trò chuyện, mang trẻ nhỏ trong các buổi họp, hội nghị,…) hình ảnh được ghi nhận từ hệ thống camera giám sát/ P.TCHCTH/ Tổ TT-PC/ Trưởng đơn vị nhắc nhở, ghi nhận một lần (-1đ).
A17: 1.2 | B17: Đảm bảo ngày công kế hoạch (thực hiện đúng lịch giảng dạy, lịch họp, không xin nghỉ hoặc chuyển đổi lịch vì lý do cá nhân). Nghỉ/vắng/ thay đổi lịch (kể cả có phép) 3 lần liên tục hoặc từ 4 đến 5 lần (-1đ); từ 5 đến 7 lần (-2đ); từ lần thứ 8 trở lên, mỗi lần (-0,5đ)
A18: 1.3 | B18: Tham gia đầy đủ, đúng giờ các buổi học chính trị, nghe thời sự, bồi dưỡng chuyên môn, nghiệp vụ,… được tổ chức tại Trường; cuộc họp của đơn vị và nhà trường (1đ). Vắng vì việc riêng có phép (-1đ/buổi)
A19: 2 | B19: Tuân thủ tính thứ bậc, kỷ cương và trật tự hành chính. Nghiêm túc thực hiện công việc, nhiệm vụ được giao | E19: =6-(E20+E21+E22+E23+E24) -> 6 | F19: =ROUND(6-(F20+F21+F22+F23+F24),1) -> 6
A20: 2.1 | B20: Nộp hồ sơ cá nhân, bằng cấp, chứng chỉ… khi được Trường thông báo trễ hạn 02 lần (-1đ)
A21: 2.2 | B21: Sử dụng tài sản của Nhà trường vào mục đích cá nhân bị đơn vị, nhà trường nhắc nhở, ghi nhận 1 lần (-1đ)
A22: 2.3 | B22: Không thực hiện báo cáo, xin ý kiến, xin phép bằng văn bản đúng thẩm quyền đơn vị phân công mỗi lần (-1đ)
A23: 2.4 | B23: Không chấp hành sự điều động, phân công thường xuyên và đột xuất của Trưởng đơn vị; Không thực hiện hoặc không hoàn thành các báo cáo, nhiệm vụ được giao, mỗi lần (-1đ)
A24: 2.5 | B24: Thực hiện các kế hoạch của của khoa, của trường; trễ hạn 02 lần (-1đ).
A25: 3 | B25: Thực hiện tốt về giao tiếp và ứng xử đối với nhân dân; đối với cấp trên, cấp dưới và đồng nghiệp | E25: =5-(E26+E27) -> 5 | F25: =ROUND(5-(F26+F27),1) -> 5
A26: 3.1 | B26: Có lời nói, cử chỉ, thái độ, hành động gây ảnh hưởng đến uy tín, danh dự nhà trường, đơn vị, lãnh đạo và đồng nghiệp; bị đồng nghiệp, phụ huynh, HS-SV, khách đến liên hệ phản ánh, phê bình, nhắc nhở (sau khi xác minh là sai phạm) mỗi lần (-1đ)
A27: 3.2 | B27: Có thái độ gây nhũng nhiễu, phiền hà, trục lợi cá nhân khi xử lý, giải quyết công việc. Vi phạm 1 lần (sau khi kết quả xác minh là sai phạm) (-1đ)
A28: 4 | B28: Thực hiện các nội dung khác trong Quy tắc ứng xử của cán bộ, công chức, viên chức và người lao động làm việc trong các cơ quan hành chính, đơn vị sự nghiệp công lập trên địa bàn Thành phố được ban hành kèm theo Quyết định số 67/2017/QĐ-UBND ngày 29 tháng 12 năm 2017 của Ủy ban nhân dân Thành phố và các quy tắc khác của ngành, lĩnh vực | E28: =4-(E29+E30+E31) -> 4 | F28: =ROUND(4-(F29+F30+F31),1) -> 4
A29: 4.1 | B29: Thực hiện việc gửi, trả lời thư điện tử đến các đơn vị, cá nhân trong, ngoài trường kịp thời và lịch sự. Bị phê bình, phản ảnh 2 lần (-1đ)
A30: 4.2 | B30: Vi phạm quy định về trang phục, lễ phục khi làm việc, hội họp trong giờ làm việc tại trường, bị ghi nhận 02 lần trở lên (-1đ)
A31: 4.3 | B31: Bị ghi nhận không chấp hành nghiêm chỉnh việc đeo bảng tên cá nhân (thẻ CB-GV-NV) trong giờ làm việc tại trường 2 lần trở lên (-1đ)
A32: II | B32: Tiêu chí 2: Năng lực và kỹ năng | E32: =E33+E35+E37+E39+E41+E43 -> 20 | F32: =ROUND(F33+F35+F37+F39+F41+F43,1) -> 5
A33: 5 | B33: Chủ động nghiên cứu, cập nhật kịp thời các kiến thức pháp luật và chuyên môn nghiệp vụ để tham mưu, tổ chức thực hiện công việc có chất lượng. | E33: 1 | F33: =IF(F34>1,"1",F34) -> 1
B34: Cá nhân chủ động cập nhật, vận dụng các văn bản, ứng dụng công nghệ kỹ thuật mới, thực hiện đầy đủ các hoạt động chuyên môn tại đơn vị (soạn đề cương, giáo án, chương trình, mô hình học cụ, đề thi, thao giảng, dự giờ, …) đúng quy trình, quy định (1đ); không đúng quy trình, quy định 1 lần (0,5đ); 2 lần trở lên (0đ) | F34: 1
A35: 6 | B35: Chủ động đề xuất tham mưu giải quyết công việc | E35: 2 | F35: =IF(F36>2,"2",F36) -> 0
B36: Chủ động đề xuất ý kiến với Trưởng đơn vị giải quyết công việc kịp thời được đơn vị công nhận: 1 lần ghi nhận (1đ), điểm tối đa của tiêu chí (2đ)
A37: 7 | B37: Báo cáo kịp thời, chính xác với lãnh đạo về tình hình, kết quả thực hiện nhiệm vụ được giao | E37: 2 | F37: =IF(F38>2,"2",F38) -> 2
B38: Báo cáo, thực hiện chính xác, đầy đủ, đúng hạn về công tác chuyên môn và công tác GVCN/CVHT (2đ); vi phạm 1 lần (1đ); 2 lần trở lên (0đ) | F38: 2
A39: 8 | B39: Phối hợp, tạo lập mối quan hệ tốt với cá nhân, tổ chức có liên quan trong thực hiện nhiệm vụ | E39: 2 | F39: =IF(F40>2,"2",F40) -> 2
B40: Thực hiện xây dựng nội bộ đoàn kết (2đ). Cá nhân gây mâu thuẫn 1 lần (1đ); 2 lần trở lên hoặc tham gia vận động gây mất đoàn kết nội bộ trong trường, đơn vị (0đ) | F40: 2
A41: 9 | B41: Có trên 20% nhiệm vụ hoàn thành vượt tiến độ, có chất lượng và hiệu quả (Nếu không có trên 20% nhiệm vụ hoàn thành vượt tiến độ, có chất lượng và hiệu quả thì không có điểm; Không chia nhỏ thành các tỉ lệ thấp hơn; Chỉ đánh giá một mức là 8 điểm hoặc không có điểm) | E41: 8 | F41: =IF(F42>=8,"8",IF(F42<8,"0")) -> 0
B42: Hoàn thành các công việc vượt tiến độ (ngoài công tác giảng dạy) có chất lượng và hiệu quả, không sai sót chuyên môn; Có tham gia góp ý xây dựng cải cách quy trình làm việc, kế hoạch công tác, chương trình hành động của đơn vị/nhà trường (được đơn vị phụ trách công tác tổng hợp ghi nhận/trưởng đơn vị ghi nhận)
A43: 10 | B43: Sáng tạo, cải tiến phương pháp làm việc, nâng cao hiệu quả công việc | E43: 5 | F43: =IF(F44>5,"5",F44) -> 0
B44: Có sáng tạo, cải tiến phương pháp làm việc, nâng cao hiệu quả công việc, có ý tưởng xây dựng môi trường xanh, sạch, đẹp được đơn vị đánh giá trong các buổi họp (có biên bản ghi nhận) hoặc tham gia xây dựng dự án/ đề án/ chương trình làm việc cấp Trường/tham gia hội thao, hội thi cấp đơn vị đến cấp thành phố đạt giải: 1 sáng kiến/ dự án/ 1 lần tham gia hội thao, hội thi (1đ), điểm tối đa (5đ)
B45: TỔNG CỘNG (I+II) | E45: =E14+E32 -> 40 | F45: =F14+F32 -> 25
B47: Ý KIẾN ĐÓNG GÓP CỤ THỂ CỦA ĐỒNG NGHIỆP: Hoàn Thành Tốt
D49: Tp.HCM, ngày 24 tháng 03 năm 2022
D50: NGƯỜI ĐÁNH GIÁ
D51: (ký tên và ghi rõ học tên)
E56: Lê Thái | F56: Hùng

Sheet Mẫu 2D-NV
G1: Mẫu 02 D
A2: UBND THÀNH PHỐ HỒ CHÍ MINH TRƯỜNG CAO ĐẲNG LÝ TỰ TRỌNG THÀNH PHỐ HỒ CHÍ MINH | D2: CỘNG HÒA XÃ HỘI CHỦ NGHĨA VIỆT NAM Độc lập - Tự do - Hạnh phúc
A5: ĐÁNH GIÁ VÀ ĐÓNG GÓP Ý KIẾN ĐỐI VỚI ĐỒNG NGHIỆP Kỳ đánh giá: Quý 1/2020
B7: Họ và tên người được đánh giá:
B8: Chức vụ: Giảng viên
B9: Đơn vị công tác:
B10: Mã số CBCCVC:
A12: STT | B12: TIÊU CHÍ ĐÁNH GIÁ | E12: ĐIỂM TỐI ĐA | F12: ĐIỂM ĐỒNG NGHIỆP ĐÁNH GIÁ | G12: GHI CHÚ
A13: (1) | B13: (2) | E13: (3) | F13: (4) | G13: (5)
A14: I | B14: Tiêu chí 1: Ý thức tổ chức kỷ luật, phẩm chất đạo đức (Ở từng tiêu chí trừ 01 điểm/lần vi phạm. Trường hợp đã trừ hết số điểm của tiêu chí nhưng tiếp tục vi phạm thì trừ bổ sung vào tổng số điểm đạt được trước khi phân loại) | E14: =E15+E19+E25+E28 -> 20 | F14: =ROUND(F15+F19+F25+F28,1) -> 20
A15: 1 | B15: Chấp hành nghiêm về thời gian làm việc | E15: =5-(E16+E17+E18) -> 5 | F15: =ROUND(5-(F16+F17+F18),1) -> 5
A16: 1.1 | B16: Không sử dụng quỹ thời gian làm việc vào mục đích cá nhân. Làm việc riêng trong giờ làm việc (chơi game, mua bán hàng; tụ tập trò chuyện, mang trẻ nhỏ trong các buổi họp, hội nghị,…) hình ảnh được ghi nhận từ hệ thống camera giám sát/ P.TCHCTH/ Tổ TT-PC/ Trưởng đơn vị nhắc nhở, ghi nhận một lần (-1đ).
A17: 1.2 | B17: Đảm bảo ngày công kế hoạch. Nghỉ làm việc (kể cả có phép) 3 ngày liên tục hoặc từ 4 đến 5 ngày (-1đ); từ 6 đến 7 ngày (-2đ);nghỉ từ ngày thứ 8 trở lên, mỗi ngày (-0,5đ)
A18: 1.3 | B18: Tham gia đầy đủ, đúng giờ các buổi học chính trị, nghe thời sự, bồi dưỡng chuyên môn, nghiệp vụ,… được tổ chức tại Trường; cuộc họp của đơn vị và nhà trường (1đ). Vắng vì việc riêng có phép (-1đ/buổi)
A19: 2 | B19: Tuân thủ tính thứ bậc, kỷ cương và trật tự hành chính. Nghiêm túc thực hiện công việc, nhiệm vụ được giao | E19: =6-(E20+E21+E22+E23+E24) -> 6 | F19: =ROUND(6-(F20+F21+F22+F23+F24),1) -> 6
A20: 2.1 | B20: Nộp hồ sơ cá nhân, bằng cấp, chứng chỉ… khi được Trường thông báo trễ hạn 02 lần (-1đ)
A21: 2.2 | B21: Sử dụng tài sản của Nhà trường vào mục đích cá nhân bị đơn vị, nhà trường nhắc nhở, ghi nhận 1 lần (-1đ)
A22: 2.3 | B22: Không thực hiện báo cáo, xin ý kiến, xin phép bằng văn bản đúng thẩm quyền đơn vị phân công mỗi lần (-1đ)
A23: 2.4 | B23: Không chấp hành sự điều động, phân công thường xuyên và đột xuất của Trưởng đơn vị; Không thực hiện hoặc không hoàn thành các báo cáo, nhiệm vụ được giao, mỗi lần (-1đ)
A24: 2.5 | B24: Thực hiện các báo cáo của đơn vị trễ hạn 02 lần (-1đ)
A25: 3 | B25: Thực hiện tốt về giao tiếp và ứng xử đối với nhân dân; đối với cấp trên, cấp dưới và đồng nghiệp | E25: =5-(E26+E27) -> 5 | F25: =ROUND(5-(F26+F27),1) -> 5
A26: 3.1 | B26: Có lời nói, cử chỉ, thái độ, hành động gây ảnh hưởng đến uy tín, danh dự nhà trường, đơn vị, lãnh đạo và đồng nghiệp; bị đồng nghiệp, phụ huynh, HS-SV, khách đến liên hệ phản ánh, phê bình, nhắc nhở (sau khi xác minh là sai phạm) mỗi lần (-1đ)
A27: 3.2 | B27: Có thái độ gây nhũng nhiễu, phiền hà, trục lợi cá nhân khi xử lý, giải quyết công việc. Vi phạm 1 lần (sau khi kết quả xác minh là sai phạm) (-1đ)
A28: 4 | B28: Thực hiện các nội dung khác trong Quy tắc ứng xử của cán bộ, công chức, viên chức và người lao động làm việc trong các cơ quan hành chính, đơn vị sự nghiệp công lập trên địa bàn Thành phố được ban hành kèm theo Quyết định số 67/2017/QĐ-UBND ngày 29 tháng 12 năm 2017 của Ủy ban nhân dân Thành phố và các quy tắc khác của ngành, lĩnh vực | E28: =4-(E29+E30+E31) -> 4 | F28: =ROUND(4-(F29+F30+F31),1) -> 4
A29: 4.1 | B29: Thực hiện việc gửi, trả lời thư điện tử đến các đơn vị, cá nhân trong, ngoài trường kịp thời và lịch sự. Bị phê bình, phản ảnh 2 lần (-1đ)
A30: 4.2 | B30: Vi phạm quy định về trang phục, lễ phục khi làm việc, hội họp trong giờ làm việc tại trường, bị ghi nhận 02 lần trở lên (-1đ)
A31: 4.3 | B31: Bị ghi nhận không chấp hành nghiêm chỉnh việc đeo bảng tên cá nhân (thẻ CB-GV-NV) trong giờ làm việc tại trường 2 lần trở lên (-1đ)
A32: II | B32: Tiêu chí 2: Năng lực và kỹ năng | E32: =E33+E35+E37+E39+E41+E43 -> 20 | F32: 5
A33: 5 | B33: Chủ động nghiên cứu, cập nhật kịp thời các kiến thức pháp luật và chuyên môn nghiệp vụ để tham mưu, tổ chức thực hiện công việc có chất lượng. | E33: 1 | F33: 1
B34: Cá nhân chủ động cập nhật, vận dụng các văn bản, ứng dụng công nghệ kỹ thuật mới, thực hiện nhiệm vụ được giao đúng quy trình, quy định (1đ); không đúng quy trình, quy định 1 lần (0,5đ); 2 lần trở lên (0đ) | F34: 1
A35: 6 | B35: Chủ động đề xuất tham mưu giải quyết công việc | E35: 2 | F35: =IF(F36>2,"2",F36) -> 0
B36: Chủ động đề xuất ý kiến với Trưởng đơn vị giải quyết công việc kịp thời được đơn vị công nhận: 1 lần ghi nhận (1đ), điểm tối đa của tiêu chí (2đ)
A37: 7 | B37: Báo cáo kịp thời, chính xác với lãnh đạo về tình hình, kết quả thực hiện nhiệm vụ được giao | E37: 2 | F37: 2
B38: Báo cáo kịp thời, chính xác với lãnh đạo về tình hình, kết quả thực hiện nhiệm vụ được giao (2đ), không báo cáo kịp thời 1 lần (1đ); 2 lần trở lên (0đ) | F38: 2
A39: 8 | B39: Phối hợp, tạo lập mối quan hệ tốt với cá nhân, tổ chức có liên quan trong thực hiện nhiệm vụ | E39: 2 | F39: 2
B40: Thực hiện xây dựng nội bộ đoàn kết (2đ). Cá nhân gây mâu thuẫn 1 lần (1đ); 2 lần trở lên hoặc tham gia vận động gây mất đoàn kết nội bộ trong trường, đơn vị (0đ) | F40: 2
A41: 9 | B41: Có trên 20% nhiệm vụ hoàn thành vượt tiến độ, có chất lượng và hiệu quả (Nếu không có trên 20% nhiệm vụ hoàn thành vượt tiến độ, có chất lượng và hiệu quả thì không có điểm; Không chia nhỏ thành các tỉ lệ thấp hơn; Chỉ đánh giá một mức là 8 điểm hoặc không có điểm) | E41: 8 | F41: =IF(F42>=8,"8",IF(F42<8,"0")) -> 0
B42: Hoàn thành công việc được giao vượt tiến độ có chất lượng và hiệu quả, không sai sót chuyên môn; Có tham gia góp ý xây dựng cải cách quy trình làm việc, kế hoạch công tác, chương trình hành động của đơn vị/nhà trường (được đơn vị phụ trách công tác tổng hợp ghi nhận/trưởng đơn vị ghi nhận).
A43: 10 | B43: Sáng tạo, cải tiến phương pháp làm việc, nâng cao hiệu quả công việc | E43: 5 | F43: =IF(F44>5,"5",F44) -> 0
B44: Có sáng tạo, cải tiến phương pháp làm việc, nâng cao hiệu quả công việc, có ý tưởng xây dựng môi trường xanh, sạch, đẹp được đơn vị đánh giá trong các buổi họp (có biên bản ghi nhận) hoặc tham gia xây dựng dự án/ đề án/ chương trình làm việc cấp Trường/tham gia hội thao, hội thi cấp đơn vị đến cấp thành phố đạt giải: 1 sáng kiến/ dự án/ 1 lần tham gia hội thao, hội thi (1đ), điểm tối đa (5đ)
B45: TỔNG CỘNG (I+II) | E45: =E14+E32 -> 40 | F45: =F14+F32 -> 25
B47: Ý KIẾN ĐÓNG GÓP CỤ THỂ CỦA ĐỒNG NGHIỆP:
A48: ……………………………………………………………………………………………………………………………………………………………………………………………………………………………………………………………………………………………………………………………………………………………………………………………………………………………………………………………………………………………………………………………………………………………………………………………………………………………………………………………………………………………
D49: Tp.HCM, ngày…… tháng …… năm 2019
D50: NGƯỜI ĐÁNH GIÁ
D51: (ký tên và ghi rõ học tên)
