Workbook

Sheet Điểm rèn luyện-nhap
A2: UBND THÀNH PHỐ HỒ CHÍ MINH
A3: TRƯỜNG CAO ĐẲNG LÝ TỰ TRỌNG
A4: THÀNH PHỐ HỒ CHÍ MINH
A6: BẢNG TỔNG KẾT ĐÁNH GIÁ KẾT QUẢ RÈN LUYỆN
A7: Học kỳ: I Năm học: 2021 - 2022
A8: Lớp 20T4-QDL1
A10: S TT | B10: Mã SV | C10: HỌ VÀ TÊN | E10: Tiêu chí 1-30 | K10: Tiêu chí 2-25 | L10: Tiêu chí 3-25 | Q10: Tiêu chí 4-20 | V10: Điểm vượt khung | W10: Tổng điểm
E11: Ýthuc htap-10 | F11: Y thúc và thai do -5 | G11: kỳ thi-5 | H11: vuotkho-5 | I11: kqhtap | J11: Tổng | L11: a.hd pt | M11: a.Hd trường | N11: b.hd tự nguyện | O11: c.tuyên truyền pc tội phạm | P11: Tổng | Q11: a.Ý thuc.thái đọ , uy tín | R11: a.Ythuc-Ket nap đoàn | S11: b.Htro tuyển sinh | T11: c.NCKH | U11: Tổng
A12: 1 | B12: 20000784 | C12: Võ Gia | D12: An | E12: 0 | F12: 0 | G12: 0 | H12: 0 | I12: 0 | J12: 0 | K12: 0 | L12: 0 | M12: 0 | N12: 0 | O12: 0 | P12: 0 | Q12: 0 | R12: 0 | S12: 0 | T12: 0 | U12: =IF(Q12+R12+S12+T12<20,Q12+R12+S12+T12,20) -> 0 | W12: =J12+K12+P12+U12+V12 -> 0
A13: 2 | B13: 20002000 | C13: Nguyễn Trần Bảo | D13: Ân | E13: 10 | F13: 5 | G13: 5 | H13: 5 | I13: 9 | J13: =IF(E13+F13+G13+H13+I13<30,E13+F13+G13+H13+I13,30) -> 30 | K13: 25 | M13: 5 | P13: =IF(L13+M13+N13+O13<25,L13+M13+N13+O13,25) -> 5 | Q13: 4 | U13: =IF(Q13+R13+S13+T13<20,Q13+R13+S13+T13,20) -> 4 | V13: 10 | W13: =J13+K13+P13+U13+V13 -> 74
A14: 3 | B14: 20001614 | C14: Nguyễn Hồng Ngọc | D14: Bích | E14: 10 | F14: 5 | G14: 5 | H14: 5 | I14: 8 | J14: =IF(E14+F14+G14+H14+I14<30,E14+F14+G14+H14+I14,30) -> 30 | K14: 25 | P14: =IF(L14+M14+N14+O14<25,L14+M14+N14+O14,25) -> 0 | R14: 3 | U14: =IF(Q14+R14+S14+T14<20,Q14+R14+S14+T14,20) -> 3 | V14: 6 | W14: =J14+K14+P14+U14+V14 -> 64
A15: 4 | B15: 20002520 | C15: Nông Thy | D15: Diệu | E15: 10 | F15: 5 | G15: 5 | H15: 5 | I15: 8 | J15: =IF(E15+F15+G15+H15+I15<30,E15+F15+G15+H15+I15,30) -> 30 | K15: 25 | M15: 5 | O15: 3 | P15: =IF(L15+M15+N15+O15<25,L15+M15+N15+O15,25) -> 8 | Q15: 6 | R15: 3 | U15: =IF(Q15+R15+S15+T15<20,Q15+R15+S15+T15,20) -> 9 | V15: 8 | W15: =J15+K15+P15+U15+V15 -> 80
A16: 5 | B16: 20000843 | C16: Nguyễn Kim | D16: Đồng | E16: 7 | F16: 5 | G16: 5 | H16: 5 | I16: 5 | J16: =IF(E16+F16+G16+H16+I16<30,E16+F16+G16+H16+I16,30) -> 27 | K16: 25 | M16: 5 | P16: =IF(L16+M16+N16+O16<25,L16+M16+N16+O16,25) -> 5 | U16: =IF(Q16+R16+S16+T16<20,Q16+R16+S16+T16,20) -> 0 | W16: =J16+K16+P16+U16+V16 -> 57
A17: 6 | B17: 20000489 | C17: Nguyễn Thị Thùy | D17: Dung | E17: 10 | F17: 5 | G17: 5 | H17: 5 | I17: 8 | J17: =IF(E17+F17+G17+H17+I17<30,E17+F17+G17+H17+I17,30) -> 30 | K17: 25 | M17: 5 | P17: =IF(L17+M17+N17+O17<25,L17+M17+N17+O17,25) -> 5 | U17: =IF(Q17+R17+S17+T17<20,Q17+R17+S17+T17,20) -> 0 | V17: 4 | W17: =J17+K17+P17+U17+V17 -> 64
A18: 7 | B18: 20002009 | C18: Vũ Ngọc Thùy | D18: Dương | E18: 8 | F18: 5 | G18: 5 | H18: 5 | I18: 7 | J18: =IF(E18+F18+G18+H18+I18<30,E18+F18+G18+H18+I18,30) -> 30 | K18: 25 | P18: =IF(L18+M18+N18+O18<25,L18+M18+N18+O18,25) -> 0 | U18: =IF(Q18+R18+S18+T18<20,Q18+R18+S18+T18,20) -> 0 | V18: 2 | W18: =J18+K18+P18+U18+V18 -> 57
A19: 8 | B19: 20002556 | C19: Đỗ Nguyễn Hoàng | D19: Duy | E19: 8 | F19: 5 | G19: 5 | H19: 5 | I19: 7 | J19: =IF(E19+F19+G19+H19+I19<30,E19+F19+G19+H19+I19,30) -> 30 | K19: 25 | P19: =IF(L19+M19+N19+O19<25,L19+M19+N19+O19,25) -> 0 | U19: =IF(Q19+R19+S19+T19<20,Q19+R19+S19+T19,20) -> 0 | V19: 6 | W19: =J19+K19+P19+U19+V19 -> 61
A20: 9 | B20: 20002522 | C20: Nguyễn Thanh | D20: Hải | E20: 0 | F20: 0 | G20: 0 | H20: 0 | I20: 0 | J20: 0 | K20: 0 | L20: 0 | M20: 0 | N20: 0 | O20: 0 | P20: 0 | Q20: 0 | R20: 0 | S20: 0 | T20: 0 | U20: =IF(Q20+R20+S20+T20<20,Q20+R20+S20+T20,20) -> 0 | W20: =J20+K20+P20+U20+V20 -> 0
A21: 10 | B21: 20001241 | C21: Nguyễn Bảo Gia | D21: Hân | E21: 0 | F21: 0 | G21: 0 | H21: 0 | I21: 0 | J21: 0 | K21: 0 | L21: 0 | M21: 0 | N21: 0 | O21: 0 | P21: 0 | Q21: 0 | R21: 0 | S21: 0 | T21: 0 | U21: =IF(Q21+R21+S21+T21<20,Q21+R21+S21+T21,20) -> 0 | W21: =J21+K21+P21+U21+V21 -> 0
A22: 11 | B22: 20002158 | C22: Nguyễn Trần Minh | D22: Hiếu | E22: 8 | F22: 5 | G22: 5 | H22: 5 | I22: 7 | J22: =IF(E22+F22+G22+H22+I22<30,E22+F22+G22+H22+I22,30) -> 30 | K22: 25 | M22: 5 | P22: =IF(L22+M22+N22+O22<25,L22+M22+N22+O22,25) -> 5 | R22: 3 | U22: =IF(Q22+R22+S22+T22<20,Q22+R22+S22+T22,20) -> 3 | V22: 4 | W22: =J22+K22+P22+U22+V22 -> 67
A23: 12 | B23: 20000842 | C23: Lê Thị | D23: Hương | E23: 8 | F23: 5 | G23: 5 | H23: 5 | I23: 8 | J23: =IF(E23+F23+G23+H23+I23<30,E23+F23+G23+H23+I23,30) -> 30 | K23: 25 | L23: 10 | M23: 5 | O23: 3 | P23: =IF(L23+M23+N23+O23<25,L23+M23+N23+O23,25) -> 18 | U23: =IF(Q23+R23+S23+T23<20,Q23+R23+S23+T23,20) -> 0 | V23: 4 | W23: =J23+K23+P23+U23+V23 -> 77
A24: 13 | B24: 20000935 | C24: Trần Thụy Kim | D24: Khánh | E24: 10 | F24: 5 | G24: 5 | H24: 5 | I24: 0 | J24: 0 | K24: 0 | L24: 0 | M24: 0 | N24: 0 | O24: 0 | P24: 0 | Q24: 0 | R24: 0 | S24: 0 | T24: 0 | U24: =IF(Q24+R24+S24+T24<20,Q24+R24+S24+T24,20) -> 0 | W24: =J24+K24+P24+U24+V24 -> 0
A25: 14 | B25: 20002502 | C25: Trần Đăng | D25: Khoa | E25: 5 | F25: 5 | G25: 5 | H25: 5 | I25: 5 | J25: =IF(E25+F25+G25+H25+I25<30,E25+F25+G25+H25+I25,30) -> 25 | K25: 25 | M25: 5 | O25: 3 | P25: =IF(L25+M25+N25+O25<25,L25+M25+N25+O25,25) -> 8 | R25: 3 | U25: =IF(Q25+R25+S25+T25<20,Q25+R25+S25+T25,20) -> 3 | V25: 2 | W25: =J25+K25+P25+U25+V25 -> 63
A26: 15 | B26: 20001936 | C26: Vũ Nguyễn Anh | D26: Khoa | E26: 0 | F26: 0 | G26: 0 | H26: 0 | I26: 0 | J26: 0 | K26: 0 | L26: 0 | M26: 0 | N26: 0 | O26: 0 | P26: 0 | Q26: 0 | R26: 0 | S26: 0 | T26: 0 | U26: =IF(Q26+R26+S26+T26<20,Q26+R26+S26+T26,20) -> 0 | W26: =J26+K26+P26+U26+V26 -> 0
A27: 16 | B27: 20001113 | C27: Phạm Thị Kim | D27: Lài | E27: 10 | F27: 5 | G27: 5 | H27: 5 | I27: 8 | J27: =IF(E27+F27+G27+H27+I27<30,E27+F27+G27+H27+I27,30) -> 30 | K27: 25 | P27: =IF(L27+M27+N27+O27<25,L27+M27+N27+O27,25) -> 0 | U27: =IF(Q27+R27+S27+T27<20,Q27+R27+S27+T27,20) -> 0 | V27: 6 | W27: =J27+K27+P27+U27+V27 -> 61
A28: 17 | B28: 20002953 | C28: Phan Nguyễn Ngọc | D28: Liên | E28: 7 | F28: 5 | G28: 5 | H28: 5 | I28: 6 | J28: =IF(E28+F28+G28+H28+I28<30,E28+F28+G28+H28+I28,30) -> 28 | K28: 25 | P28: =IF(L28+M28+N28+O28<25,L28+M28+N28+O28,25) -> 0 | Q28: 4 | U28: =IF(Q28+R28+S28+T28<20,Q28+R28+S28+T28,20) -> 4 | V28: 4 | W28: =J28+K28+P28+U28+V28 -> 61
A29: 18 | B29: 20002206 | C29: Nguyễn Ngọc Trúc | D29: Linh | E29: 0 | F29: 0 | G29: 0 | H29: 0 | I29: 0 | J29: 0 | K29: 0 | L29: 0 | N29: 0 | O29: 0 | P29: 0 | Q29: 0 | R29: 0 | S29: 0 | T29: 0 | U29: =IF(Q29+R29+S29+T29<20,Q29+R29+S29+T29,20) -> 0 | W29: =J29+K29+P29+U29+V29 -> 0
A30: 19 | B30: 20001772 | C30: Trần Lê Trúc | D30: Linh | E30: 8 | F30: 5 | G30: 5 | H30: 5 | I30: 7 | J30: =IF(E30+F30+G30+H30+I30<30,E30+F30+G30+H30+I30,30) -> 30 | K30: 25 | P30: =IF(L30+M30+N30+O30<25,L30+M30+N30+O30,25) -> 0 | R30: 3 | U30: =IF(Q30+R30+S30+T30<20,Q30+R30+S30+T30,20) -> 3 | V30: 4 | W30: =J30+K30+P30+U30+V30 -> 62
A31: 20 | B31: 20002981 | C31: Nguyễn Đại | D31: Lợi | E31: 0 | F31: 0 | G31: 0 | H31: 0 | I31: 0 | J31: 0 | K31: 0 | L31: 0 | M31: 0 | N31: 0 | O31: 0 | P31: 0 | Q31: 0 | R31: 0 | S31: 0 | T31: 0 | U31: =IF(Q31+R31+S31+T31<20,Q31+R31+S31+T31,20) -> 0 | W31: =J31+K31+P31+U31+V31 -> 0
A32: 21 | B32: 20002348 | C32: Chu Thị Quỳnh | D32: Mi | E32: 7 | F32: 5 | G32: 5 | H32: 5 | I32: 7 | J32: =IF(E32+F32+G32+H32+I32<30,E32+F32+G32+H32+I32,30) -> 29 | K32: 25 | P32: =IF(L32+M32+N32+O32<25,L32+M32+N32+O32,25) -> 0 | Q32: 6 | U32: =IF(Q32+R32+S32+T32<20,Q32+R32+S32+T32,20) -> 6 | V32: 2 | W32: =J32+K32+P32+U32+V32 -> 62
A33: 22 | B33: 20002131 | C33: Bùi Thị Hồng | D33: Ngọc | E33: 10 | F33: 5 | G33: 5 | H33: 5 | I33: 7 | J33: =IF(E33+F33+G33+H33+I33<30,E33+F33+G33+H33+I33,30) -> 30 | K33: 25 | M33: 5 | P33: =IF(L33+M33+N33+O33<25,L33+M33+N33+O33,25) -> 5 | U33: =IF(Q33+R33+S33+T33<20,Q33+R33+S33+T33,20) -> 0 | W33: =J33+K33+P33+U33+V33 -> 60
A34: 23 | B34: 20000858 | C34: Lưu Trần Thanh | D34: Ngọc | E34: 0 | F34: 0 | G34: 0 | H34: 0 | I34: 0 | J34: 0 | K34: 0 | L34: 0 | M34: 0 | N34: 0 | O34: 0 | P34: 0 | Q34: 0 | R34: 0 | S34: 0 | T34: 0 | U34: =IF(Q34+R34+S34+T34<20,Q34+R34+S34+T34,20) -> 0 | W34: =J34+K34+P34+U34+V34 -> 0
A35: 24 | B35: 20000011 | C35: Nguyễn Phương | D35: Nhi | E35: 0 | F35: 0 | G35: 0 | H35: 0 | I35: 0 | J35: 0 | K35: 0 | L35: 0 | M35: 0 | N35: 0 | O35: 0 | P35: 0 | Q35: 0 | R35: 0 | S35: 0 | T35: 0 | U35: =IF(Q35+R35+S35+T35<20,Q35+R35+S35+T35,20) -> 0 | W35: =J35+K35+P35+U35+V35 -> 0
A36: 25 | B36: 20002192 | C36: Nguyễn Thanh Xuân | D36: Nhi | E36: 10 | F36: 5 | G36: 5 | H36: 5 | I36: 8 | J36: =IF(E36+F36+G36+H36+I36<30,E36+F36+G36+H36+I36,30) -> 30 | K36: 25 | M36: 5 | P36: =IF(L36+M36+N36+O36<25,L36+M36+N36+O36,25) -> 5 | U36: =IF(Q36+R36+S36+T36<20,Q36+R36+S36+T36,20) -> 0 | V36: 6 | W36: =J36+K36+P36+U36+V36 -> 66
A37: 26 | B37: 20001808 | C37: Trần Nguyễn Xuân | D37: Nhi | E37: 10 | F37: 5 | G37: 5 | H37: 5 | I37: 9 | J37: =IF(E37+F37+G37+H37+I37<30,E37+F37+G37+H37+I37,30) -> 30 | K37: 25 | M37: 5 | P37: =IF(L37+M37+N37+O37<25,L37+M37+N37+O37,25) -> 5 | U37: =IF(Q37+R37+S37+T37<20,Q37+R37+S37+T37,20) -> 0 | V37: 10 | W37: =J37+K37+P37+U37+V37 -> 70
A38: 27 | B38: 20001545 | C38: Nguyễn Châu Xuân | D38: Như | E38: 0 | F38: 0 | G38: 0 | H38: 0 | I38: 0 | J38: 0 | K38: 0 | L38: 0 | M38: 0 | N38: 0 | O38: 0 | P38: 0 | Q38: 0 | R38: 0 | S38: 0 | T38: 0 | U38: =IF(Q38+R38+S38+T38<20,Q38+R38+S38+T38,20) -> 0 | W38: =J38+K38+P38+U38+V38 -> 0
A39: 28 | B39: 20002225 | C39: Lò Viết | D39: Phi | E39: 10 | F39: 5 | G39: 5 | H39: 5 | I39: 8 | J39: =IF(E39+F39+G39+H39+I39<30,E39+F39+G39+H39+I39,30) -> 30 | K39: 25 | P39: =IF(L39+M39+N39+O39<25,L39+M39+N39+O39,25) -> 0 | U39: =IF(Q39+R39+S39+T39<20,Q39+R39+S39+T39,20) -> 0 | V39: 4 | W39: =J39+K39+P39+U39+V39 -> 59
A40: 29 | B40: 20001716 | C40: Lê Huỳnh Trọng | D40: Phúc | E40: 10 | F40: 5 | G40: 5 | H40: 5 | I40: 8 | J40: =IF(E40+F40+G40+H40+I40<30,E40+F40+G40+H40+I40,30) -> 30 | K40: 25 | M40: 5 | P40: =IF(L40+M40+N40+O40<25,L40+M40+N40+O40,25) -> 5 | Q40: 8 | U40: =IF(Q40+R40+S40+T40<20,Q40+R40+S40+T40,20) -> 8 | V40: 6 | W40: =J40+K40+P40+U40+V40 -> 74
A41: 30 | B41: 20002271 | C41: Dương Mỹ | D41: Phụng | E41: 0 | F41: 0 | G41: 0 | H41: 0 | I41: 0 | J41: 0 | K41: 0 | L41: 0 | M41: 0 | N41: 0 | O41: 0 | P41: 0 | Q41: 0 | R41: 0 | S41: 0 | T41: 0 | U41: =IF(Q41+R41+S41+T41<20,Q41+R41+S41+T41,20) -> 0 | W41: =J41+K41+P41+U41+V41 -> 0
A42: 31 | B42: 20001040 | C42: Nguyễn Kim | D42: Phụng | E42: 10 | F42: 5 | G42: 5 | H42: 5 | I42: 8 | J42: =IF(E42+F42+G42+H42+I42<30,E42+F42+G42+H42+I42,30) -> 30 | K42: 25 | M42: 5 | P42: =IF(L42+M42+N42+O42<25,L42+M42+N42+O42,25) -> 5 | Q42: 4 | U42: =IF(Q42+R42+S42+T42<20,Q42+R42+S42+T42,20) -> 4 | V42: 6 | W42: =J42+K42+P42+U42+V42 -> 70
A43: 32 | B43: 20001683 | C43: Nguyễn Trần Trường | D43: Sinh | E43: 7 | F43: 5 | G43: 5 | H43: 5 | I43: 7 | J43: =IF(E43+F43+G43+H43+I43<30,E43+F43+G43+H43+I43,30) -> 29 | K43: 25 | P43: =IF(L43+M43+N43+O43<25,L43+M43+N43+O43,25) -> 0 | R43: 3 | U43: =IF(Q43+R43+S43+T43<20,Q43+R43+S43+T43,20) -> 3 | V43: 4 | W43: =J43+K43+P43+U43+V43 -> 61
A44: 33 | B44: 20001717 | C44: Trương Huỳnh Kim | D44: Sơn | E44: 0 | F44: 0 | G44: 0 | H44: 0 | I44: 0 | J44: 0 | K44: 0 | L44: 0 | M44: 0 | N44: 0 | O44: 0 | P44: 0 | Q44: 0 | R44: 0 | S44: 0 | T44: 0 | U44: =IF(Q44+R44+S44+T44<20,Q44+R44+S44+T44,20) -> 0 | W44: =J44+K44+P44+U44+V44 -> 0
A45: 34 | B45: 20002477 | C45: Đoàn Phúc | D45: Tân | E45: 0 | F45: 0 | G45: 0 | H45: 0 | I45: 0 | J45: 0 | K45: 0 | L45: 0 | M45: 0 | N45: 0 | O45: 0 | P45: 0 | Q45: 0 | R45: 0 | S45: 0 | T45: 0 | U45: =IF(Q45+R45+S45+T45<20,Q45+R45+S45+T45,20) -> 0 | W45: =J45+K45+P45+U45+V45 -> 0
A46: 35 | B46: 20001541 | C46: Nguyễn Trần Cao | D46: Thân | E46: 10 | F46: 3 | G46: 5 | H46: 5 | I46: 6 | J46: =IF(E46+F46+G46+H46+I46<30,E46+F46+G46+H46+I46,30) -> 29 | K46: 25 | P46: =IF(L46+M46+N46+O46<25,L46+M46+N46+O46,25) -> 0 | U46: =IF(Q46+R46+S46+T46<20,Q46+R46+S46+T46,20) -> 0 | V46: 2 | W46: =J46+K46+P46+U46+V46 -> 56
A47: 36 | B47: 20000174 | C47: Trần Thiện | D47: Thắng | E47: 8 | F47: 5 | G47: 5 | H47: 5 | I47: 7 | J47: =IF(E47+F47+G47+H47+I47<30,E47+F47+G47+H47+I47,30) -> 30 | K47: 25 | P47: =IF(L47+M47+N47+O47<25,L47+M47+N47+O47,25) -> 0 | U47: =IF(Q47+R47+S47+T47<20,Q47+R47+S47+T47,20) -> 0 | W47: =J47+K47+P47+U47+V47 -> 55
A48: 37 | B48: 20002257 | C48: Nguyễn Thị Bích | D48: Thảo | E48: 0 | F48: 0 | G48: 0 | H48: 0 | I48: 0 | J48: 0 | K48: 0 | L48: 0 | M48: 0 | N48: 0 | O48: 0 | P48: 0 | Q48: 0 | R48: 0 | S48: 0 | T48: 0 | U48: =IF(Q48+R48+S48+T48<20,Q48+R48+S48+T48,20) -> 0 | W48: =J48+K48+P48+U48+V48 -> 0
A49: 38 | B49: 20002212 | C49: Huỳnh Ngọc Minh | D49: Thư | E49: 10 | F49: 5 | G49: 5 | H49: 5 | I49: 8 | J49: =IF(E49+F49+G49+H49+I49<30,E49+F49+G49+H49+I49,30) -> 30 | K49: 25 | O49: 3 | P49: =IF(L49+M49+N49+O49<25,L49+M49+N49+O49,25) -> 3 | R49: 3 | U49: =IF(Q49+R49+S49+T49<20,Q49+R49+S49+T49,20) -> 3 | V49: 2 | W49: =J49+K49+P49+U49+V49 -> 63
A50: 39 | B50: 20002023 | C50: Nguyễn Cao Quỳnh | D50: Thư | E50: 8 | F50: 5 | G50: 5 | H50: 5 | I50: 8 | J50: =IF(E50+F50+G50+H50+I50<30,E50+F50+G50+H50+I50,30) -> 30 | K50: 25 | M50: 5 | P50: =IF(L50+M50+N50+O50<25,L50+M50+N50+O50,25) -> 5 | R50: 3 | U50: =IF(Q50+R50+S50+T50<20,Q50+R50+S50+T50,20) -> 3 | V50: 6 | W50: =J50+K50+P50+U50+V50 -> 69
A51: 40 | B51: 20000643 | C51: Nguyễn Thị Thanh | D51: Thúy | E51: 8 | F51: 5 | G51: 5 | H51: 5 | I51: 7 | J51: =IF(E51+F51+G51+H51+I51<30,E51+F51+G51+H51+I51,30) -> 30 | K51: 25 | P51: =IF(L51+M51+N51+O51<25,L51+M51+N51+O51,25) -> 0 | R51: 3 | U51: =IF(Q51+R51+S51+T51<20,Q51+R51+S51+T51,20) -> 3 | V51: 4 | W51: =J51+K51+P51+U51+V51 -> 62
A52: 41 | B52: 20002263 | C52: Nguyễn Ngọc Thủy | D52: Tiên | E52: 0 | F52: 0 | G52: 0 | H52: 0 | I52: 0 | J52: 0 | K52: 0 | L52: 0 | M52: 0 | N52: 0 | O52: 0 | P52: 0 | Q52: 0 | R52: 0 | S52: 0 | T52: 0 | U52: =IF(Q52+R52+S52+T52<20,Q52+R52+S52+T52,20) -> 0 | W52: =J52+K52+P52+U52+V52 -> 0
A53: 42 | B53: 20002189 | C53: Trương Ngọc Trúc | D53: Tiên | E53: 7 | F53: 5 | G53: 5 | H53: 5 | I53: 7 | J53: =IF(E53+F53+G53+H53+I53<30,E53+F53+G53+H53+I53,30) -> 29 | K53: 25 | M53: 5 | P53: =IF(L53+M53+N53+O53<25,L53+M53+N53+O53,25) -> 5 | R53: 3 | U53: =IF(Q53+R53+S53+T53<20,Q53+R53+S53+T53,20) -> 3 | V53: 4 | W53: =J53+K53+P53+U53+V53 -> 66
A54: 43 | B54: 20002238 | C54: Huỳnh Văn | D54: Toàn | E54: 10 | F54: 5 | G54: 5 | H54: 5 | I54: 9 | J54: =IF(E54+F54+G54+H54+I54<30,E54+F54+G54+H54+I54,30) -> 30 | K54: 25 | M54: 5 | O54: 3 | P54: =IF(L54+M54+N54+O54<25,L54+M54+N54+O54,25) -> 8 | Q54: 8 | U54: =IF(Q54+R54+S54+T54<20,Q54+R54+S54+T54,20) -> 8 | V54: 10 | W54: =J54+K54+P54+U54+V54 -> 81
A55: 44 | B55: 20002337 | C55: Nguyễn Quý | D55: Toàn | E55: 0 | F55: 0 | G55: 0 | H55: 0 | I55: 0 | J55: 0 | K55: 0 | L55: 0 | M55: 0 | N55: 0 | O55: 0 | P55: 0 | Q55: 0 | R55: 0 | S55: 0 | T55: 0 | U55: =IF(Q55+R55+S55+T55<20,Q55+R55+S55+T55,20) -> 0 | W55: =J55+K55+P55+U55+V55 -> 0
A56: 45 | B56: 20002401 | C56: Nguyễn Hà Huyền | D56: Trân | E56: 10 | F56: 5 | G56: 5 | H56: 5 | I56: 8 | J56: =IF(E56+F56+G56+H56+I56<30,E56+F56+G56+H56+I56,30) -> 30 | K56: 25 | M56: 5 | P56: =IF(L56+M56+N56+O56<25,L56+M56+N56+O56,25) -> 5 | Q56: 4 | U56: =IF(Q56+R56+S56+T56<20,Q56+R56+S56+T56,20) -> 4 | V56: 6 | W56: =J56+K56+P56+U56+V56 -> 70
A57: 46 | B57: 20002433 | C57: Lê Nguyễn Thị Thanh | D57: Trúc | E57: 10 | F57: 5 | G57: 5 | H57: 5 | I57: 7 | J57: =IF(E57+F57+G57+H57+I57<30,E57+F57+G57+H57+I57,30) -> 30 | K57: 25 | M57: 5 | P57: =IF(L57+M57+N57+O57<25,L57+M57+N57+O57,25) -> 5 | R57: 3 | U57: =IF(Q57+R57+S57+T57<20,Q57+R57+S57+T57,20) -> 3 | V57: 4 | W57: =J57+K57+P57+U57+V57 -> 67
A58: 47 | B58: 20002091 | C58: Nguyễn Thị Thủy | D58: Trúc | E58: 10 | F58: 5 | G58: 5 | H58: 5 | I58: 9 | J58: =IF(E58+F58+G58+H58+I58<30,E58+F58+G58+H58+I58,30) -> 30 | K58: 25 | L58: 10 | M58: 5 | P58: =IF(L58+M58+N58+O58<25,L58+M58+N58+O58,25) -> 15 | Q58: 4 | U58: =IF(Q58+R58+S58+T58<20,Q58+R58+S58+T58,20) -> 4 | V58: 8 | W58: =J58+K58+P58+U58+V58 -> 82
A59: 48 | B59: 20002235 | C59: Hoàng Quốc | D59: Trung | E59: 5 | F59: 5 | G59: 5 | H59: 5 | I59: 7 | J59: =IF(E59+F59+G59+H59+I59<30,E59+F59+G59+H59+I59,30) -> 27 | K59: 25 | P59: =IF(L59+M59+N59+O59<25,L59+M59+N59+O59,25) -> 0 | U59: =IF(Q59+R59+S59+T59<20,Q59+R59+S59+T59,20) -> 0 | V59: 2 | W59: =J59+K59+P59+U59+V59 -> 54
A60: 49 | B60: 20002445 | C60: Nguyễn Khánh | D60: Tường | E60: 0 | F60: 0 | G60: 0 | H60: 0 | I60: 0 | J60: 0 | K60: 0 | L60: 0 | M60: 0 | N60: 0 | O60: 0 | P60: 0 | Q60: 0 | R60: 0 | S60: 0 | T60: 0 | U60: =IF(Q60+R60+S60+T60<20,Q60+R60+S60+T60,20) -> 0 | W60: =J60+K60+P60+U60+V60 -> 0
A61: 50 | B61: 20002625 | C61: Lữ Ngọc Thảo | D61: Vy | E61: 10 | F61: 5 | G61: 5 | H61: 5 | I61: 9 | J61: =IF(E61+F61+G61+H61+I61<30,E61+F61+G61+H61+I61,30) -> 30 | K61: 25 | P61: =IF(L61+M61+N61+O61<25,L61+M61+N61+O61,25) -> 0 | U61: =IF(Q61+R61+S61+T61<20,Q61+R61+S61+T61,20) -> 0 | V61: 10 | W61: =J61+K61+P61+U61+V61 -> 65
A62: 51 | B62: 20001494 | C62: Nguyễn Đặng Hải | D62: Vy | E62: 10 | F62: 5 | G62: 5 | H62: 5 | I62: 8 | J62: =IF(E62+F62+G62+H62+I62<30,E62+F62+G62+H62+I62,30) -> 30 | K62: 25 | M62: 5 | O62: 3 | P62: =IF(L62+M62+N62+O62<25,L62+M62+N62+O62,25) -> 8 | U62: =IF(Q62+R62+S62+T62<20,Q62+R62+S62+T62,20) -> 0 | V62: 6 | W62: =J62+K62+P62+U62+V62 -> 69
A63: 52 | B63: 20001719 | C63: Nguyễn Đoan | D63: Vy | E63: 10 | F63: 5 | G63: 5 | H63: 5 | I63: 8 | J63: =IF(E63+F63+G63+H63+I63<30,E63+F63+G63+H63+I63,30) -> 30 | K63: 25 | P63: =IF(L63+M63+N63+O63<25,L63+M63+N63+O63,25) -> 0 | Q63: 6 | U63: =IF(Q63+R63+S63+T63<20,Q63+R63+S63+T63,20) -> 6 | V63: 8 | W63: =J63+K63+P63+U63+V63 -> 69
A64: 53 | B64: 20000752 | C64: Nguyễn Thanh Thảo | D64: Vy | E64: 10 | F64: 5 | G64: 5 | H64: 5 | I64: 8 | J64: =IF(E64+F64+G64+H64+I64<30,E64+F64+G64+H64+I64,30) -> 30 | K64: 25 | O64: 3 | P64: =IF(L64+M64+N64+O64<25,L64+M64+N64+O64,25) -> 3 | R64: 3 | U64: =IF(Q64+R64+S64+T64<20,Q64+R64+S64+T64,20) -> 3 | V64: 6 | W64: =J64+K64+P64+U64+V64 -> 67

Sheet 20T4-QDL1
I1: MẪU 2
A2: UBND THÀNH PHỐ HỒ CHÍ MINH | E2: CỘNG HÒA XÃ HỘI CHỦ NGHĨA VIỆT NAM
A3: TRƯỜNG CAO ĐẲNG LÝ TỰ TRỌNG | E3: Độc lập - Tự do - Hạnh phúc
A4: THÀNH PHỐ HỒ CHÍ MINH
A6: BẢNG TỔNG KẾT ĐÁNH GIÁ KẾT QUẢ RÈN LUYỆN
A7: Học kỳ: I Năm học: 2021 - 2022
A8: Lớp: 20T4-QDL1 Sĩ số: 53 Khoa: Kinh tế
A10: S TT | B10: Mã SV | C10: HỌ VÀ TÊN | E10: GV CHỦ NHIỆM | G10: QUẢN LÝ HSSV | I10: GHI CHÚ
E11: ĐIỂM RL | F11: XẾP LOẠI | G11: ĐIỂM RL | H11: XẾP LOẠI
A12: 1 | B12: 20000784 | C12: Võ Gia | D12: An | E12: ='Điểm rèn luyện-nhap'!W12 -> 0 | F12: =IF(E12>89,"XS",IF(E12>79,"Tốt",IF(E12>69,"khá",IF(E12>49,"TB",IF(E12>0,"Yếu","KXL"))))) -> KXL
A13: 2 | B13: 20002000 | C13: Nguyễn Trần Bảo | D13: Ân | E13: ='Điểm rèn luyện-nhap'!W13 -> 74 | F13: =IF(E13>89,"XS",IF(E13>79,"Tốt",IF(E13>69,"khá",IF(E13>49,"TB",IF(E13>0,"Yếu","KXL"))))) -> khá
A14: 3 | B14: 20001614 | C14: Nguyễn Hồng Ngọc | D14: Bích | E14: ='Điểm rèn luyện-nhap'!W14 -> 64 | F14: =IF(E14>89,"XS",IF(E14>79,"Tốt",IF(E14>69,"khá",IF(E14>49,"TB",IF(E14>0,"Yếu","KXL"))))) -> TB
A15: 4 | B15: 20002520 | C15: Nông Thy | D15: Diệu | E15: ='Điểm rèn luyện-nhap'!W15 -> 80 | F15: =IF(E15>89,"XS",IF(E15>79,"Tốt",IF(E15>69,"khá",IF(E15>49,"TB",IF(E15>0,"Yếu","KXL"))))) -> Tốt
A16: 5 | B16: 20000843 | C16: Nguyễn Kim | D16: Đồng | E16: ='Điểm rèn luyện-nhap'!W16 -> 57 | F16: =IF(E16>89,"XS",IF(E16>79,"Tốt",IF(E16>69,"khá",IF(E16>49,"TB",IF(E16>0,"Yếu","KXL"))))) -> TB
A17: 6 | B17: 20000489 | C17: Nguyễn Thị Thùy | D17: Dung | E17: ='Điểm rèn luyện-nhap'!W17 -> 64 | F17: =IF(E17>89,"XS",IF(E17>79,"Tốt",IF(E17>69,"khá",IF(E17>49,"TB",IF(E17>0,"Yếu","KXL"))))) -> TB
A18: 7 | B18: 20002009 | C18: Vũ Ngọc Thùy | D18: Dương | E18: ='Điểm rèn luyện-nhap'!W18 -> 57 | F18: =IF(E18>89,"XS",IF(E18>79,"Tốt",IF(E18>69,"khá",IF(E18>49,"TB",IF(E18>0,"Yếu","KXL"))))) -> TB
A19: 8 | B19: 20002556 | C19: Đỗ Nguyễn Hoàng | D19: Duy | E19: ='Điểm rèn luyện-nhap'!W19 -> 61 | F19: =IF(E19>89,"XS",IF(E19>79,"Tốt",IF(E19>69,"khá",IF(E19>49,"TB",IF(E19>0,"Yếu","KXL"))))) -> TB
A20: 9 | B20: 20002522 | C20: Nguyễn Thanh | D20: Hải | E20: ='Điểm rèn luyện-nhap'!W20 -> 0 | F20: =IF(E20>89,"XS",IF(E20>79,"Tốt",IF(E20>69,"khá",IF(E20>49,"TB",IF(E20>0,"Yếu","KXL"))))) -> KXL
A21: 10 | B21: 20001241 | C21: Nguyễn Bảo Gia | D21: Hân | E21: ='Điểm rèn luyện-nhap'!W21 -> 0 | F21: =IF(E21>89,"XS",IF(E21>79,"Tốt",IF(E21>69,"khá",IF(E21>49,"TB",IF(E21>0,"Yếu","KXL"))))) -> KXL
A22: 11 | B22: 20002158 | C22: Nguyễn Trần Minh | D22: Hiếu | E22: ='Điểm rèn luyện-nhap'!W22 -> 67 | F22: =IF(E22>89,"XS",IF(E22>79,"Tốt",IF(E22>69,"khá",IF(E22>49,"TB",IF(E22>0,"Yếu","KXL"))))) -> TB
A23: 12 | B23: 20000842 | C23: Lê Thị | D23: Hương | E23: ='Điểm rèn luyện-nhap'!W23 -> 77 | F23: =IF(E23>89,"XS",IF(E23>79,"Tốt",IF(E23>69,"khá",IF(E23>49,"TB",IF(E23>0,"Yếu","KXL"))))) -> khá
... A64: 53 | B64: 20000752 | C64: Nguyễn Thanh Thảo | D64: Vy | E64: ='Điểm rèn luyện-nhap'!W64 -> 67 | F64: =IF(E64>89,"XS",IF(E64>79,"Tốt",IF(E64>69,"khá",IF(E64>49,"TB",IF(E64>0,"Yếu","KXL"))))) -> TB
C65: TỔNG KẾT LỚP
C66: LOẠI | E66: GV CHỦ NHIỆM | G66: QUẢN LÝ HSSV | I66: GHI CHÚ
E67: T.SỐ | F67: TỶ LỆ % | G67: T.SỐ | H67: TỶ LỆ %
C68: XUẤT SẮC | E68: =COUNTIF($F$12:$F$64,"XS") -> 0 | F68: =ROUND(E68/$A$64*100,0) -> 0
C69: TỐT | E69: =COUNTIF($F$12:$F$64,"Tốt") -> 3 | F69: =ROUND(E69/$A$64*100,0) -> 6
C70: KHÁ | E70: =COUNTIF($F$12:$F$64,"Khá") -> 6 | F70: =ROUND(E70/$A$64*100,0) -> 11
C71: TRUNG BÌNH | E71: =COUNTIF($F$12:$F$64,"TB") -> 27 | F71: =ROUND(E71/$A$64*100,0) -> 51
C72: YẾU | E72: =COUNTIF($F$12:$F$64,"Yếu") -> 0 | F72: =ROUND(E72/$A$64*100,0) -> 0
C73: Không xếp loại | E73: =COUNTIF($F$12:$F$64,"KXL") -> 17 | F73: =ROUND(E73/$A$64*100,0) -> 32
E75: TP. Hồ Chí Minh, ngày 08 tháng 03 năm 2022
C76: QUẢN LÝ HSSV | D76: GIÁO VIÊN CHỦ NHIỆM | H76: LỚP TRƯỞNG
D81: Lưu Thị Thúy | H81: Huỳnh Văn Toàn

Sheet Tamngung
A1: UBND THÀNH PHỐ HỒ CHÍ MINH | E1: CỘNG HÒA XÃ HỘI CHỦ NGHĨA VIỆT NAM
A2: TRƯỜNG CAO ĐẲNG LÝ TỰ TRỌNG | E2: Độc lập - Tự do - Hạnh phúc
A3: THÀNH PHỐ HỒ CHÍ MINH
A5: DANH SÁCH ĐỀ NGHỊ TẠM NGƯNG HỌC ĐỐI VỚI HSSV THÁNG 11 /2019 - 2020
A6: Lớp: 20T4-QDL1 Khoa: Kinh tế
A8: TT | B8: MSSV | C8: HỌ & TÊN | E8: LỚP | F8: Nghỉ từ ngày… | G8: GHI CHÚ
A9: 1 | B9: 20000784 | C9: Võ Gia | D9: An | E9: 20T4-QDL1 | F9: 43895 | G9: SV nghỉ học-Đã xác nhận với phụ huynh
A10: 2 | B10: 20002522 | C10: Nguyễn Thanh | D10: Hải | E10: 20T4-QDL1 | F10: 43895 | G10: SV nghỉ học-Đã xác nhận với phụ huynh
A11: 3 | B11: 20001241 | C11: Nguyễn Bảo Gia | D11: Hân | E11: 20T4-QDL1 | F11: 43895 | G11: SV nghỉ học-Đã xác nhận với phụ huynh
A12: 4 | B12: 20000935 | C12: Trần Thụy Kim | D12: Khánh | E12: 20T4-QDL1 | F12: 43895 | G12: SV nghỉ học-Đã xác nhận với phụ huynh
A13: 5 | B13: 20001936 | C13: Vũ Nguyễn Anh | D13: Khoa | E13: 20T4-QDL1 | F13: 43895 | G13: SV nghỉ học-Đã xác nhận với phụ huynh
A14: 6 | B14: 20002206 | C14: Nguyễn Ngọc Trúc | D14: Linh | E14: 20T4-QDL1 | F14: 43895 | G14: SV nghỉ học-Đã xác nhận với phụ huynh
A15: 7 | B15: 20002981 | C15: Nguyễn Đại | D15: Lợi | E15: 20T4-QDL1 | F15: 43895 | G15: SV đã chuyển trườngc-Đã xác nhận với phụ huynh
A16: 8 | B16: 20000858 | C16: Lưu Trần Thanh | D16: Ngọc | E16: 20T4-QDL1 | F16: 43895 | G16: SV nghỉ học-Đã xác nhận với phụ huynh
A17: 9 | B17: 20000011 | C17: Nguyễn Phương | D17: Nhi | E17: 20T4-QDL1 | F17: 43895 | G17: SV nghỉ học-Đã xác nhận với phụ huynh
A18: 10 | B18: 20001545 | C18: Nguyễn Châu Xuân | D18: Như | E18: 20T4-QDL1 | F18: 43895 | G18: SV nghỉ học-Đã xác nhận với phụ huynh
A19: 11 | B19: 20002271 | C19: Dương Mỹ | D19: Phụng | E19: 20T4-QDL1 | F19: 43895 | G19: SV nghỉ học-Đã xác nhận với phụ huynh
A20: 12 | B20: 20001717 | C20: Trương Huỳnh Kim | D20: Sơn | E20: 20T4-QDL1 | F20: 43895 | G20: SV nghỉ học-Đã xác nhận với phụ huynh
... A25: 17 | B25: 20002445 | C25: Nguyễn Khánh | D25: Tường | E25: 20T4-QDL1 | F25: 43895 | G25: SV nghỉ học-Đã xác nhận với phụ huynh
A26: Tổng cộng: | E26: Sinh viên | F26: 17
A28: TRƯỞNG KHOA | F28: GVCN - CVHT
A33: Nguyễn Trọng Nghĩa | B33: Nguyễn Trọng Nghĩa | F33: Lưu Thị Thúy

Sheet CB lop
D1: Mẫu: DS.CBL
A2: DANH SÁCH CÁN BỘ LỚP:. 20T4-QDL1 KHÓA: 20
A3: HỌC KỲ: II / NĂM HỌC 2021 -2022
A5: STT | B5: CHỨC DANH | C5: HỌ & TÊN HSSV | D5: GHI CHÚ (Điện thoại)
A6: 1 | B6: Lớp Trưởng | C6: Nông Thy Diệu | D6: 0935452621
A7: 2 | B7: Lớp phó học tập | C7: Nguyễn Thị Thủy Trúc | D7: 0907776792
A8: 3 | B8: Lớp phó phong trào (phụ trách các hoạt động phong trào) | C8: Chu Thị Quỳnh Mi | D8: 0862287375
A9: 4 | B9: Tổ trưởng tổ 1 | C9: Nguyễn Trần Bảo Ân | D9: 0796728273
A10: 5 | B10: Tổ trưởng tổ 2 | C10: Phan Nguyễn Ngọc Liên | D10: 0931204151
A11: 6 | B11: Tổ trưởng tổ 3 | C11: Nguyễn Hà Huyền Trân | D11: 0906364763
A12: 7 | B12: Tổ trưởng tổ 4 | C12: Nguyễn Hồng Ngọc Bích | D12: 0589335862
A13: 8 | B13: Tổ trưởng tổ 5 | C13: Lữ Ngọc Thảo Vy | D13: 0764145831
B14: Phần này nếu có
A15: 1 | B15: Bí thư chi đoàn | C15: Lê Huỳnh Trọng Phúc | D15: 0528047648
A16: 2 | B16: Phó bí thư chi đoàn lớp | C16: Nguyễn Đoan Vy | D16: 0773051675
A17: 3 | B17: Ủy viên BCH chi đoàn lớp | C17: Nguyễn Kim Phụng | D17: 0345069410
A18: 4 | B18: Ủy viên BCH chi đoàn Trường
A19: 5 | B19: Ủy viên Hội Sinh viên
C21: Ngày tháng Năm 2022
C22: GVCN - CVHT
C29: Lưu Thị Thúy
