Workbook

Sheet Mau 1
A1: TRƯỜNG CAO ĐẲNG LÝ TỰ TRỌNG | E1: CỘNG HÒA XÃ HỘI CHỦ NGHĨA VIỆT NAM
A2: THÀNH PHỐ HỒ CHÍ MINH | E2: Độc lập - Tự do - Hạnh phúc
A3: KHOA XÂY DỰNG
G4: Mẫu 1
A5: Danh sách CB-GV-NV tham gia thực hiện bài viết sáng kiến, bài viết Hội thảo cấp trường, cấp đơn vị, giảng viên dạy giỏi, bài báo được đăng trên các tạp chí theo quy định, tham gia đề tài NCKH đã được nghiệm thu,... (Quy định số 1375/QyĐ-LTT-TĐ ngày 29/11/2021 của Trường)
A7: TT | B7: Họ tên | C7: Mã E-Office | D7: Điều kiện xếp loại thi đua A1 (Ghi rõ nội dung tiêu chuẩn: số Quyết định, thời gian, cơ quan ban hành,…) | E7: Điều kiện xếp loại thi đua A2 (Ghi rõ nội dung tiêu chuẩn: số Quyết định, thời gian, cơ quan ban hành,…) | F7: Điều kiện xếp loại thi đua A3 (Ghi rõ nội dung tiêu chuẩn: số Quyết định, thời gian, cơ quan ban hành,…) | G7: Ghi chú
A8: I. Viên chức
A9: 01 | B9: Phạm Quang Vũ | C9: 01004014 | D9: - Thực hiện mở ngành đào tạo Mộc Xây dựng và trang trí nội thất | E9: - Bài viết đăng Kỷ yếu hội thảo cấp trường COSS 2021 chuyên đề “Nâng cao chất lượng đội ngũ giảng viên, cán bộ, nhân viên trong quá trình chuyển đổi mô hình đào tạo ở Nhà trường thông minh dưới tác động của cuộc cách mạng công nghiệp 4.0” '- Bài viết sáng kiến được công nhận phạm vi ảnh hưởng cấp ngành (QĐ số 1783/QĐ-SGDĐT ngày 20/8/2021) | F9: - Bài viết sáng kiến được công nhận phạm vi ảnh hưởng cấp trường trong năm học 2020-2021 (QĐ số 358/QĐ-LTT-HĐSK ngày 08/04/2021)
A10: 02 | B10: Trình Minh Phong | C10: 01028013 | F10: - Bài viết sáng kiến được công nhận phạm vi ảnh hưởng cấp trường trong năm học 2020-2021 (QĐ số 358/QĐ-LTT-HĐSK ngày 08/04/2021)
A11: 03 | B11: Nguyễn Trọng Thạch | C11: 01004016
A12: 04 | B12: Trần Ngọc Tuấn | C12: 01028017 | E12: - Bài viết đăng Kỷ yếu hội thảo cấp trường COSS 2021 chuyên đề “Nâng cao chất lượng đội ngũ giảng viên, cán bộ, nhân viên trong quá trình chuyển đổi mô hình đào tạo ở Nhà trường thông minh dưới tác động của cuộc cách mạng công nghiệp 4.0”
A14: II. Hợp đồng trường
A15: 01 | B15: Nguyễn Thị C
A16: 02
A17: 03
A18: 04
A19: 05
A21: Ghi chú: Gửi kèm minh chứng về phòng Tổ chức - Hành chính - Tổng hợp.
E22: TPHCM, ngày 24 tháng 02 năm 2022
E23: TRƯỞNG ĐƠN VỊ
E28: Phạm Quang Vũ

Sheet Mau 2
A1: TRƯỜNG CAO ĐẲNG LÝ TỰ TRỌNG THÀNH PHỐ HỒ CHÍ MINH KHOA XÂY DỰNG | D1: CỘNG HÒA XÃ HỘI CHỦ NGHĨA VIỆT NAM Độc lập - Tự do - Hạnh phúc
G2: Mẫu 2
A3: BẢNG TỔNG HỢP CÔNG VIỆC ĐỘT XUẤT ĐÃ THỰC HIỆN THÁNG 02/2022 (Gửi file mềm ngày 25 hàng tháng)
A6: TT | B6: Nội dung công việc | C6: Số lượng người tham gia thực hiện | D6: Tên người tham gia thực hiện | E6: Thời gian thực hiện | F6: Kết quả thực hiện | G6: Ghi chú
A7: I. | B7: Công việc chung của Trường
A8: Nhiệm vụ 1 | B8: Tham gia dự án Ban quản lý dự án Khoa cơ khí | C8: 1 | D8: Phạm Quang Vũ | E8: Đang thực hiện | F8: Đang thực hiện
A9: Nhiệm vụ 2 | B9: Tham gia triển khai dự án Thư viện + Tòa nhà Công nghệ thông tin | C9: 1 | D9: Phạm Quang Vũ | E9: Đang thực hiện | F9: Đang thực hiện
A10: Nhiệm vụ 3
A11: Nhiệm vụ 4
A12: II. | B12: Công việc chung của đơn vị
A13: Nhiệm vụ 1 | B13: Xếp thời khóa biểu học kỳ II/2021-2022, đợt 2 | C13: 2 | D13: Trần Ngọc Tuấn | E13: T2/2022 | F13: Đang thực hiện
A14: Nhiệm vụ 2 | B14: Liên hệ mời giáo viên thỉnh giảng học kỳ 2/21-22 | C14: 2 | D14: Trần Ngọc Tuấn | E14: T2/2022 | F14: Hoàn thành
A15: Nhiệm vụ 3 | B15: Dọn dẹp, sắp máy móc thiết bị chuẩn bị cho học kì mới | C15: 2 | D15: Phạm Quang Vũ Trần Ngọc Tuấn | E15: T2/2022 | F15: Hoàn thành
A16: Nhiệm vụ 4 | B16: Xây dựng định mức vật tư cho các học phần chuẩn bị tổ chức giảng dạy | C16: 2 | D16: Phạm Quang Vũ | E16: T2/2022 | F16: Hoàn thành
A18: Lưu ý: - Nhóm công việc của đơn vị không tính nội dung công việc đã được quy định ở vị trí việc làm (đối với nhân viên); chế độ làm việc của giảng viên/ đã được tính chế độ, thù lao (đối với giảng viên). - Các đơn vị gửi file điện tử về phòng TC-HC-TH (Cô Trần Thị Ánh Phượng) qua hệ thống điện tử E-office nhà trường (không gửi văn bản giấy) ngày 25 hàng tháng./.
D19: Thành phố Hồ Chí Minh, ngày 24 tháng 02 năm 2022
D20: PHÓ TRƯỞNG KHOA PHỤ TRÁCH
D26: Phạm Quang Vũ

Sheet Mau 3
A1: TRƯỜNG CAO ĐẲNG LÝ TỰ TRỌNG | K1: CỘNG HÒA XÃ HỘI CHỦ NGHĨA VIỆT NAM
A2: THÀNH PHỐ HỒ CHÍ MINH | K2: Độc lập - Tự do - Hạnh phúc
A3: KHOA XÂY DỰNG
Q4: Mẫu 3
A5: THỐNG KÊ CHI TIẾT KHỐI LƯỢNG CÔNG VIỆC THỰC HIỆN THÁNG 02/2022
A7: TT | B7: Tên nội dung công việc | D7: Công việc chung của trường | K7: Công việc chung của đơn vị | Q7: Ghi chú
B8: Họ và tên | C8: Mã E-office | D8: Nhiệm vụ 1 | E8: Nhiệm vụ 2 | F8: Nhiệm vụ 3 | G8: Nhiệm vụ 4 | H8: Nhiệm vụ 5 | I8: Nhiệm vụ 6 | J8: Tổng cộng | K8: Nhiệm vụ 1 | L8: Nhiệm vụ 2 | M8: Nhiệm vụ 3 | N8: Nhiệm vụ 4 | O8: Nhiệm vụ 5 | P8: Tổng cộng
A9: I. Viên chức
A10: 01 | B10: Phạm Quang Vũ | C10: 01004014 | D10: X | E10: X | J10: =COUNTIF(D10:I10,"X") -> 2 | M10: X | N10: X | P10: =COUNTIF(K10:N10,"X") -> 2
A11: 02 | B11: Trình Minh Phong | C11: 01028013 | J11: =COUNTIF(D11:I11,"X") -> 0 | P11: =COUNTIF(K11:O11,"X") -> 0
A12: 03 | B12: Nguyễn Trọng Thạch | C12: 01004016 | J12: =COUNTIF(D12:I12,"X") -> 0 | P12: =COUNTIF(K12:O12,"X") -> 0
A13: 04 | B13: Trần Ngọc Tuấn | C13: 01028017 | J13: =COUNTIF(D13:I13,"X") -> 0 | K13: X | L13: X | M13: X | P13: =COUNTIF(K13:O13,"X") -> 3
A14: II. Hợp đồng trường
A20: Lưu ý: Các đơn vị gửi file điện tử về phòng TC-HC-TH (Cô Trần Thị Ánh Phượng) qua hệ thống điện tử E-office nhà trường (không gửi văn bản giấy).
K21: TPHCM, ngày 24 tháng 02 năm 2022
K22: TRƯỞNG ĐƠN VỊ

Sheet Mau 4 
A1: TRƯỜNG CAO ĐẲNG LÝ TỰ TRỌNG | G1: CỘNG HÒA XÃ HỘI CHỦ NGHĨA VIỆT NAM
A2: THÀNH PHỐ HỒ CHÍ MINH | G2: Độc lập - Tự do - Hạnh phúc
A3: KHOA XÂY DỰNG
L4: Mẫu 4
A5: DANH SÁCH XẾP LOẠI THI ĐUA THÁNG 02/2022
A7: TT | B7: Họ tên | C7: Mã E-Office | D7: Tiêu chuẩn đạt mức xếp loại thi đua tối đa trong năm (Ẩn khi in) | E7: Xếp loại thi đua tháng theo quy định (Không vượt quá mức thi đua tối đa) | I7: Số ngày/giờ vượt so với ngày công kế hoạch (đối với CB-NV) | J7: Số ngày nghỉ/ tiết nghỉ (đối với GV) | K7: Đơn vị đề nghị mức xếp loại thi đua
E8: Xếp loại | F8: Lý do | G8: Số lượng công việc chung của trường | H8: Số lượng công việc chung của đơn vị | K8: Xếp loại | L8: Lý do đề nghị
A9: I. Viên chức
A10: 01 | B10: Phạm Quang Vũ | C10: 01004014 | E10: A1 | G10: =IFERROR(VLOOKUP($C10,'Mau 3'!$C$10:$P$18,8,0),0) -> 2 | H10: =IFERROR(VLOOKUP($C10,'Mau 3'!$C$10:$P$18,14,0),0) -> 2 | K10: A1
A11: 02 | B11: Trình Minh Phong | C11: 01028013 | E11: A4 | G11: =IFERROR(VLOOKUP($C11,'Mau 3'!$C$10:$P$18,8,0),0) -> 0 | H11: =IFERROR(VLOOKUP($C11,'Mau 3'!$C$10:$P$18,14,0),0) -> 0 | K11: A4
A12: 03 | B12: Nguyễn Trọng Thạch | C12: 01004016 | E12: A4 | G12: =IFERROR(VLOOKUP($C12,'Mau 3'!$C$10:$P$18,8,0),0) -> 0 | H12: =IFERROR(VLOOKUP($C12,'Mau 3'!$C$10:$P$18,14,0),0) -> 0 | K12: A4
A13: 04 | B13: Trần Ngọc Tuấn | C13: 01028017 | E13: A3 | G13: =IFERROR(VLOOKUP($C13,'Mau 3'!$C$10:$P$18,8,0),0) -> 0 | H13: =IFERROR(VLOOKUP($C13,'Mau 3'!$C$10:$P$18,14,0),0) -> 3 | K13: A3
A14: II. Hợp đồng trường | K14: =E14 -> 0
A15: 01 | B15: Nguyễn Thị C | C15: 01017010 | D15: A4 | E15: A4 | G15: =IFERROR(VLOOKUP($C15,'Mau 3'!$C$10:$P$18,8,0),0) -> 0 | H15: =IFERROR(VLOOKUP($C15,'Mau 3'!$C$10:$P$18,14,0),0) -> 0 | K15: =E15 -> A4
A16: 02 | G16: =IFERROR(VLOOKUP($C16,'Mau 3'!$C$10:$P$18,8,0),0) -> 0 | H16: =IFERROR(VLOOKUP($C16,'Mau 3'!$C$10:$P$18,14,0),0) -> 0 | K16: =E16 -> 0
A17: 03 | G17: =IFERROR(VLOOKUP($C17,'Mau 3'!$C$10:$P$18,8,0),0) -> 0 | H17: =IFERROR(VLOOKUP($C17,'Mau 3'!$C$10:$P$18,14,0),0) -> 0 | K17: =E17 -> 0
A18: 04 | G18: =IFERROR(VLOOKUP($C18,'Mau 3'!$C$10:$P$18,8,0),0) -> 0 | H18: =IFERROR(VLOOKUP($C18,'Mau 3'!$C$10:$P$18,14,0),0) -> 0 | K18: =E18 -> 0
A19: 05 | G19: =IFERROR(VLOOKUP($C19,'Mau 3'!$C$10:$P$18,8,0),0) -> 0 | H19: =IFERROR(VLOOKUP($C19,'Mau 3'!$C$10:$P$18,14,0),0) -> 0 | K19: =E19 -> 0
B22: Kết quả xếp loại | G22: Viên chức | I22: Hợp đồng trường
B23: A1 | G23: =COUNTIF($E$10:$E$13,"A1") -> 1 | I23: =COUNTIF($E$15:$E$19,"A1") -> 0
B24: A2 | G24: =COUNTIF($E$10:$E$13,"A2") -> 0 | I24: =COUNTIF($E$15:$E$19,"A3") -> 0
B25: A3 | G25: 1 | I25: =COUNTIF($E$15:$E$19,"A3") -> 0
B26: A4 | G26: =COUNTIF($E$10:$E$13,"A4") -> 2
B27: A DN | G27: =COUNTIF($E$10:$E$13,"A DN") -> 0 | I27: =COUNTIF($E$15:$E$19,"A DN") -> 0
B28: B1 | G28: =COUNTIF($E$10:$E$13,"B1") -> 0 | I28: =COUNTIF($E$15:$E$19,"B1") -> 0
B29: B2 | G29: =COUNTIF($E$10:$E$13,"B2") -> 0 | I29: =COUNTIF($E$15:$E$19,"B2") -> 0
B30: C1 | G30: =COUNTIF($E$10:$E$13,"C1") -> 0 | I30: =COUNTIF($E$15:$E$19,"C1") -> 0
B31: C2 | G31: =COUNTIF($E$10:$E$13,"C2") -> 0 | I31: =COUNTIF($E$15:$E$19,"C2") -> 0
B32: D | G32: =COUNTIF($E$10:$E$13,"D") -> 0 | I32: =COUNTIF($E$15:$E$19,"D") -> 0
B33: E | G33: =COUNTIF($E$10:$E$13,"E") -> 0 | I33: =COUNTIF($E$15:$E$19,"E") -> 0
B34: Tổng số nhân sự: | G34: =SUM(G23:G33) -> 4 | I34: =SUM(I23:I33) -> 0
A36: Lưu ý: Các đơn vị gửi file mềm qua hệ thống điện tử E-office nhà trường và văn bản giấy về phòng TC-HC-TH (Cô Trần Thị Ánh Phượng).
G37: TPHCM, ngày 24 tháng 02 năm 2022
G38: TRƯỞNG ĐƠN VỊ
G43: Phạm Quang Vũ
