Workbook

Sheet Hướng dẫn
A1: HƯỚNG DẪN CHUNG CHO BỘ BIỂU MẪU TÍNH KHỐI LƯỢNG GIẢNG VIÊN
A2: I. YÊU CẦU BẮT BUỘC
A3: - Các dữ liệu của bộ biểu mẫu phải được ghép lại thành 1 file excel duy nhất, trong đó từng sheet là một mẫu tính khác nhau.
A4: - Trong các bảng tổng hợp mẫu A1,2: thứ tự tên GV giữa các bảng tính giống nhau.
A5: - Mỗi Giảng viên có 40 dòng để khai báo dữ liệu công tác giảng dạy, sinh hoạt chủ nhiệm, cố vấn học tập, … trong mẫu A1
A6: - Học phần: Giáo dục thể chất có thể viết tắt thành GDTC; Giáo dục quốc phòng - An ninh có thể viết tắt thành GDQP
A7: - Công tác: Cố vấn học tập hoặc Sinh hoạt chủ nhiệm --> Viết đúng tên hoặc có thể được viết tắt thành CVHT, SHCN. Cột sĩ số: để trống
A8: - Dữ liệu minh họa cách tính: Phải mở cột ẩn và xóa các dữ liệu minh họa trong file Phòng TS-ĐT gửi để đảm bảo tính chính xác dữ liệu trước khi dán dữ liệu hoặc in các bảng tính.
A9: - Các cột được tô màu: ở mẫu A1 (D, J, T, V,X,Z): Điền đầy đủ thông tin. Phải ẩn (Hide) trước khi in.
A10: II. BỘ MẪU A
A11: + Mẫu A1: Bảng tính khối lượng công việc của Giảng viên trong năm học.
A12: Từ dự kiến khối lượng công việc của Giảng viên trong năm học 2020-2021 Phòng TS-ĐT đã gửi mẫu cho các khoa: Coppy dữ liệu khoa đã có sẳn dán vào các cột (2), cột D, cột (3), (4), (5), (6), (7), cột J, cột (11), (12), (14), (15), cột (17), cột (18), cột (19), cột (20) và cột (24) nếu có
... A40: LƯU Ý: Trong quá trình thao tác trên các biểu mẫu, nếu có thắc mắc xin liên hệ qua địa chỉ E-office hoặc Phòng Tuyển sinh - Đào tạo

Sheet Mau A1
AE1: Mẫu A1
A2: UBND THÀNH PHỐ HỒ CHÍ MINH | W2: CỘNG HÒA XÃ HỘI CHỦ NGHĨA VIỆT NAM
A3: TRƯỜNG CAO ĐẲNG LÝ TỰ TRỌNG THÀNH PHỐ HỒ CHÍ MINH | W3: Độc lập - Tự do - Hạnh phúc
A4: BẢNG TÍNH KHỐI LƯỢNG CÔNG VIỆC CỦA GIẢNG VIÊN TRONG NĂM HỌC 2020 - 2021
A5: KHOA :
A7: TT | B7: Họ và Tên | E7: Môn dạy | F7: lớp dạy | G7: Học kỳ | H7: Thực hiện trong năm học | T7: Số tiết chuẩn giảng dạy | U7: Số tiết chuẩn giảng dạy còn lại | V7: Số tiết chuẩn "Học tập, bồi dưỡng chuẩn hóa, bồi dưỡng nâng cao" | W7: Số tiết chuẩn "Học tập, bồi dưỡng chuẩn hóa, bồi dưỡng nâng cao" còn lại | X7: Số tiết chuẩn "Nghiên cứu khoa học" | Y7: Số tiết chuẩn "Nghiên cứu khoa học" còn lại | Z7: Số tiết chuẩn "Thực tập tại doanh nghiệp hoặc cơ quan chuyên môn" | AA7: Số tiết chuẩn "Thực tập tại doanh nghiệp hoặc cơ quan chuyên môn" còn lại | AB7: Số tiết thừa, thiếu giảng dạy | AC7: Số tiết thừa, thiếu "Học tập, bồi dưỡng chuẩn hóa, bồi dưỡng nâng cao, nghiên cứu khoa học" | AD7: Số tiết thừa, thiếu "Thực tập tại doanh nghiệp hoặc cơ quan chuyên môn" | AE7: Số tiết thiếu năm học 2019-2020 | AF7: Tổng số tiết thừa, thiếu năm học 2020-2021
D8: MÃ LỚP HP | H8: Chưa nhân hệ số | J8: Sĩ số LHP | K8: Hệ số | M8: Số tiết quy đổi và đã nhân hệ số | N8: Kiêm nhiệm | O8: Số tiết soạn đề, coi thi, chấm thi | P8: Tổng tiết thực hiện | Q8: Số tiết "Học tập, bồi dưỡng chuẩn hóa, bồi dưỡng nâng cao" | R8: Số tiết "Nghiên cứu khoa học" | S8: Số tiết "Thực tập tại doanh nghiệp hoặc cơ quan chuyên môn"
H9: LT | I9: TH | J9: Chính thức và học lại | K9: LT | L9: TH
A10: (1) | B10: (2) | E10: (3) | F10: (4) | G10: (5) | H10: (6) | I10: (7) | K10: (8) | L10: (9) | M10: (10) | N10: (11) | O10: (12) | P10: (13) | Q10: (14) | R10: (15) | S10: (16) | U10: (17) | W10: (18) | Y10: (19) | AA10: (20) | AB10: (21) | AC10: (22) | AD10: (23) | AE10: (24) | AF10: (25)
A11: 1 | B11: Ngô Hoàng | C11: Anh | E11: Máy điện | F11: 20T4-ĐĐT1 | G11: 1 | H11: 60 | J11: 57 | K11: =IF(OR(LEFT(E11,2)="ĐA",LEFT(E11,2)="DA",LEFT(E11,5)="Đồ án",LEFT(E11,5)="Đồán ",LEFT(E11,9)="Sinh hoạt",LEFT(E11,9)="sinh hoạt",LEFT(E11,6)="Cố vấn",LEFT(E11,6)="cố vấn",LEFT(E11,4)="cvht",LEFT(E11,4)="CVHT",LEFT(E11,4)="shcn",LEFT(E11,4)="SHCN"),0,(IF(AND(H11>0,J11>0),IF(J11>250,1.5,IF(J11>150,1.4,IF(OR(J11>60,MID(F11,3,2)="C3",MID(F11,3,2)="C5",MID(F11,3,2)="C6"),1.3,IF(J11>35,1.2,1)))),0))) -> 1.2 | L11: =IF(OR(LEFT(E11,2)="ĐA",LEFT(E11,2)="DA",LEFT(E11,5)="Đồ án",LEFT(E11,5)="Đồán "),0,IF(AND(J11>0,I11>0),IF(OR(AND(OR(LEFT(E11,4)="GDQP",LEFT(E11,4)="GDTC",LEFT(E11,4)="gdqp",LEFT(E11,4)="gdtc",LEFT(E11,19)="Giáo dục quốc phòng",LEFT(E11,17)="Giáo dục thể chất"),J11>60),AND(OR(MID(F11,3,2)="C3",MID(F11,3,2)="C5",MID(F11,3,2)="C6"),J11>0)),1.3,IF(AND(OR(LEFT(E11,4)="GDQP",LEFT(E11,4)="gdqp",LEFT(E11,19)="Giáo dục quốc phòng"),J11>35),1.2,IF(AND(OR(LEFT(E11,4)="GDQP",LEFT(E11,4)="gdqp",LEFT(E11,19)="Giáo dục quốc phòng"),J11<=35),1,IF(J11>35,1.2,IF(J11>29,1.1,1))))),0)) -> 0 | M11: =ROUND(IF(AND(MID(F11,3,2)="C3",LEFT(E11,5)="Đồ án"),(J11*0.5)*1.3,IF(OR(LEFT(E11,2)="ĐA",LEFT(E11,2)="DA",LEFT(E11,5)="Đồ án",LEFT(E11,5)="Đồán "),J11*0.5,(IF(H11>0,H11*K11,"0"))+IF(I11>0,(I11*0.75)*L11,"0"))),1) -> 72 | N11: =T11*15% -> 64.5 | O11: 0 | P11: =SUM(M11:M50)+N11+O11 -> 608.1 | Q11: 0 | R11: 0 | S11: =IF('Mau B2'!I11>54,54,'Mau B2'!I11) -> 0 | T11: =IF(J11<1,0,IF(OR(LEFT(E11,4)="Toán",LEFT(E11,3)="Vật",LEFT(E11,4)="Hóa",LEFT(E11,3)="Hóa",LEFT(E11,7)="Ngữ văn"),629,IF(OR(LEFT(E11,2)="GD",LEFT(E11,8)="Giáo dục",LEFT(E11,4)="Pháp",LEFT(E11,9)="chính trị"),450,430))) -> 430 | U11: 629 | V11: =IF(J11<1,0,IF(OR(LEFT(E11,4)="Toán",LEFT(E11,3)="Vật",LEFT(E11,3)="Hóa",LEFT(E11,4)="Hóa",LEFT(E11,7)="Ngữ văn"),51,IF(OR(LEFT(E11,4)="Giáo",LEFT(E11,5)="Giáo",LEFT(E11,4)="Pháp",LEFT(E11,5)="Pháp"),56,54))) -> 54 | W11: 51 | X11: =IF(J11<1,0,IF(OR(LEFT(E11,4)="Toán",LEFT(E11,3)="Vật",LEFT(E11,3)="Hóa",LEFT(E11,4)="Hóa",LEFT(E11,7)="Ngữ văn"),0,IF(OR(LEFT(E11,4)="Giáo",LEFT(E11,5)="Giáo",LEFT(E11,4)="Pháp",LEFT(E11,5)="Pháp"),56,54))) -> 54 | Y11: 0 | Z11: =IF(J11<1,0,IF(OR(LEFT(E11,4)="Toán",LEFT(E11,3)="Vật",LEFT(E11,3)="Hóa",LEFT(E11,4)="Hóa",LEFT(E11,7)="Ngữ văn"),0,IF(OR(LEFT(E11,4)="Giáo",LEFT(E11,5)="Giáo",LEFT(E11,4)="Pháp",LEFT(E11,5)="Pháp"),56,54))) -> 54 | AA11: 0 | AB11: =ROUND((P11-U11),1) -> -20.9 | AC11: =IF(OR(SUM(W11:W50)="",SUM(Q11:Q50)="",SUM(Y11:Y50)="",SUM(R11:R50)=""),0,IF(OR(SUM(V11:V50)+SUM(X11:X50)=108,SUM(W11:W50)+SUM(Y11:Y50)>0),ROUND((SUM(Q11:Q50)-SUM(W11:W50)+SUM(R11:R50)-SUM(Y11:Y50)),1),0)) -> -51 | AD11: =IF(OR(SUM(AA11:AA50)="",SUM(S11:S50)=""),0,IF(OR(SUM(Z11:Z50)=54,SUM(AA11:AA50)>0),ROUND((SUM(S11:S50)-SUM(AA11:AA50)),1),0)) -> 0 | AE11: 0 | AF11: =SUM(AB11:AD50) -> -71.9
E12: TH ĐCB | F12: 21C1 ĐCN1 | G12: 1 | J12: 28 | K12: =IF(OR(LEFT(E12,2)="ĐA",LEFT(E12,2)="DA",LEFT(E12,5)="Đồ án",LEFT(E12,5)="Đồán ",LEFT(E12,9)="Sinh hoạt",LEFT(E12,9)="sinh hoạt",LEFT(E12,6)="Cố vấn",LEFT(E12,6)="cố vấn",LEFT(E12,4)="cvht",LEFT(E12,4)="CVHT",LEFT(E12,4)="shcn",LEFT(E12,4)="SHCN"),0,(IF(AND(H12>0,J12>0),IF(J12>250,1.5,IF(J12>150,1.4,IF(OR(J12>60,MID(F12,3,2)="C3",MID(F12,3,2)="C5",MID(F12,3,2)="C6"),1.3,IF(J12>35,1.2,1)))),0))) -> 0 | L12: =IF(OR(LEFT(E12,2)="ĐA",LEFT(E12,2)="DA",LEFT(E12,5)="Đồ án",LEFT(E12,5)="Đồán "),0,IF(AND(J12>0,I12>0),IF(OR(AND(OR(LEFT(E12,4)="GDQP",LEFT(E12,4)="GDTC",LEFT(E12,4)="gdqp",LEFT(E12,4)="gdtc",LEFT(E12,19)="Giáo dục quốc phòng",LEFT(E12,17)="Giáo dục thể chất"),J12>60),AND(OR(MID(F12,3,2)="C3",MID(F12,3,2)="C5",MID(F12,3,2)="C6"),J12>0)),1.3,IF(AND(OR(LEFT(E12,4)="GDQP",LEFT(E12,4)="gdqp",LEFT(E12,19)="Giáo dục quốc phòng"),J12>35),1.2,IF(AND(OR(LEFT(E12,4)="GDQP",LEFT(E12,4)="gdqp",LEFT(E12,19)="Giáo dục quốc phòng"),J12<=35),1,IF(J12>35,1.2,IF(J12>29,1.1,1))))),0)) -> 0 | M12: =ROUND(IF(AND(MID(F12,3,2)="C3",LEFT(E12,5)="Đồ án"),(J12*0.5)*1.3,IF(OR(LEFT(E12,2)="ĐA",LEFT(E12,2)="DA",LEFT(E12,5)="Đồ án",LEFT(E12,5)="Đồán "),J12*0.5,(IF(H12>0,H12*K12,"0"))+IF(I12>0,(I12*0.75)*L12,"0"))),1) -> 0
E13: TH TBĐ | F13: 19T4 ĐĐT1 | G13: 1 | J13: 20 | K13: =IF(OR(LEFT(E13,2)="ĐA",LEFT(E13,2)="DA",LEFT(E13,5)="Đồ án",LEFT(E13,5)="Đồán ",LEFT(E13,9)="Sinh hoạt",LEFT(E13,9)="sinh hoạt",LEFT(E13,6)="Cố vấn",LEFT(E13,6)="cố vấn",LEFT(E13,4)="cvht",LEFT(E13,4)="CVHT",LEFT(E13,4)="shcn",LEFT(E13,4)="SHCN"),0,(IF(AND(H13>0,J13>0),IF(J13>250,1.5,IF(J13>150,1.4,IF(OR(J13>60,MID(F13,3,2)="C3",MID(F13,3,2)="C5",MID(F13,3,2)="C6"),1.3,IF(J13>35,1.2,1)))),0))) -> 0 | L13: =IF(OR(LEFT(E13,2)="ĐA",LEFT(E13,2)="DA",LEFT(E13,5)="Đồ án",LEFT(E13,5)="Đồán "),0,IF(AND(J13>0,I13>0),IF(OR(AND(OR(LEFT(E13,4)="GDQP",LEFT(E13,4)="GDTC",LEFT(E13,4)="gdqp",LEFT(E13,4)="gdtc",LEFT(E13,19)="Giáo dục quốc phòng",LEFT(E13,17)="Giáo dục thể chất"),J13>60),AND(OR(MID(F13,3,2)="C3",MID(F13,3,2)="C5",MID(F13,3,2)="C6"),J13>0)),1.3,IF(AND(OR(LEFT(E13,4)="GDQP",LEFT(E13,4)="gdqp",LEFT(E13,19)="Giáo dục quốc phòng"),J13>35),1.2,IF(AND(OR(LEFT(E13,4)="GDQP",LEFT(E13,4)="gdqp",LEFT(E13,19)="Giáo dục quốc phòng"),J13<=35),1,IF(J13>35,1.2,IF(J13>29,1.1,1))))),0)) -> 0 | M13: =ROUND(IF(AND(MID(F13,3,2)="C3",LEFT(E13,5)="Đồ án"),(J13*0.5)*1.3,IF(OR(LEFT(E13,2)="ĐA",LEFT(E13,2)="DA",LEFT(E13,5)="Đồ án",LEFT(E13,5)="Đồán "),J13*0.5,(IF(H13>0,H13*K13,"0"))+IF(I13>0,(I13*0.75)*L13,"0"))),1) -> 0
E14: Máy điện (Tân Uyên) | F14: 20T3-ĐCN1 | H14: 16 | J14: 20 | K14: =IF(OR(LEFT(E14,2)="ĐA",LEFT(E14,2)="DA",LEFT(E14,5)="Đồ án",LEFT(E14,5)="Đồán ",LEFT(E14,9)="Sinh hoạt",LEFT(E14,9)="sinh hoạt",LEFT(E14,6)="Cố vấn",LEFT(E14,6)="cố vấn",LEFT(E14,4)="cvht",LEFT(E14,4)="CVHT",LEFT(E14,4)="shcn",LEFT(E14,4)="SHCN"),0,(IF(AND(H14>0,J14>0),IF(J14>250,1.5,IF(J14>150,1.4,IF(OR(J14>60,MID(F14,3,2)="C3",MID(F14,3,2)="C5",MID(F14,3,2)="C6"),1.3,IF(J14>35,1.2,1)))),0))) -> 1 | L14: =IF(OR(LEFT(E14,2)="ĐA",LEFT(E14,2)="DA",LEFT(E14,5)="Đồ án",LEFT(E14,5)="Đồán "),0,IF(AND(J14>0,I14>0),IF(OR(AND(OR(LEFT(E14,4)="GDQP",LEFT(E14,4)="GDTC",LEFT(E14,4)="gdqp",LEFT(E14,4)="gdtc",LEFT(E14,19)="Giáo dục quốc phòng",LEFT(E14,17)="Giáo dục thể chất"),J14>60),AND(OR(MID(F14,3,2)="C3",MID(F14,3,2)="C5",MID(F14,3,2)="C6"),J14>0)),1.3,IF(AND(OR(LEFT(E14,4)="GDQP",LEFT(E14,4)="gdqp",LEFT(E14,19)="Giáo dục quốc phòng"),J14>35),1.2,IF(AND(OR(LEFT(E14,4)="GDQP",LEFT(E14,4)="gdqp",LEFT(E14,19)="Giáo dục quốc phòng"),J14<=35),1,IF(J14>35,1.2,IF(J14>29,1.1,1))))),0)) -> 0 | M14: =ROUND(IF(AND(MID(F14,3,2)="C3",LEFT(E14,5)="Đồ án"),(J14*0.5)*1.3,IF(OR(LEFT(E14,2)="ĐA",LEFT(E14,2)="DA",LEFT(E14,5)="Đồ án",LEFT(E14,5)="Đồán "),J14*0.5,(IF(H14>0,H14*K14,"0"))+IF(I14>0,(I14*0.75)*L14,"0"))),1) -> 16
E15: TH TBĐ | F15: 19C1-ĐĐT1 N1 | G15: 2 | I15: 48 | J15: 22 | K15: =IF(OR(LEFT(E15,2)="ĐA",LEFT(E15,2)="DA",LEFT(E15,5)="Đồ án",LEFT(E15,5)="Đồán ",LEFT(E15,9)="Sinh hoạt",LEFT(E15,9)="sinh hoạt",LEFT(E15,6)="Cố vấn",LEFT(E15,6)="cố vấn",LEFT(E15,4)="cvht",LEFT(E15,4)="CVHT",LEFT(E15,4)="shcn",LEFT(E15,4)="SHCN"),0,(IF(AND(H15>0,J15>0),IF(J15>250,1.5,IF(J15>150,1.4,IF(OR(J15>60,MID(F15,3,2)="C3",MID(F15,3,2)="C5",MID(F15,3,2)="C6"),1.3,IF(J15>35,1.2,1)))),0))) -> 0 | L15: =IF(OR(LEFT(E15,2)="ĐA",LEFT(E15,2)="DA",LEFT(E15,5)="Đồ án",LEFT(E15,5)="Đồán "),0,IF(AND(J15>0,I15>0),IF(OR(AND(OR(LEFT(E15,4)="GDQP",LEFT(E15,4)="GDTC",LEFT(E15,4)="gdqp",LEFT(E15,4)="gdtc",LEFT(E15,19)="Giáo dục quốc phòng",LEFT(E15,17)="Giáo dục thể chất"),J15>60),AND(OR(MID(F15,3,2)="C3",MID(F15,3,2)="C5",MID(F15,3,2)="C6"),J15>0)),1.3,IF(AND(OR(LEFT(E15,4)="GDQP",LEFT(E15,4)="gdqp",LEFT(E15,19)="Giáo dục quốc phòng"),J15>35),1.2,IF(AND(OR(LEFT(E15,4)="GDQP",LEFT(E15,4)="gdqp",LEFT(E15,19)="Giáo dục quốc phòng"),J15<=35),1,IF(J15>35,1.2,IF(J15>29,1.1,1))))),0)) -> 1 | M15: =ROUND(IF(AND(MID(F15,3,2)="C3",LEFT(E15,5)="Đồ án"),(J15*0.5)*1.3,IF(OR(LEFT(E15,2)="ĐA",LEFT(E15,2)="DA",LEFT(E15,5)="Đồ án",LEFT(E15,5)="Đồán "),J15*0.5,(IF(H15>0,H15*K15,"0"))+IF(I15>0,(I15*0.75)*L15,"0"))),1) -> 36
F16: 19C1-ĐĐT1 N2 | G16: 2 | I16: 48 | J16: 22 | K16: =IF(OR(LEFT(E16,2)="ĐA",LEFT(E16,2)="DA",LEFT(E16,5)="Đồ án",LEFT(E16,5)="Đồán ",LEFT(E16,9)="Sinh hoạt",LEFT(E16,9)="sinh hoạt",LEFT(E16,6)="Cố vấn",LEFT(E16,6)="cố vấn",LEFT(E16,4)="cvht",LEFT(E16,4)="CVHT",LEFT(E16,4)="shcn",LEFT(E16,4)="SHCN"),0,(IF(AND(H16>0,J16>0),IF(J16>250,1.5,IF(J16>150,1.4,IF(OR(J16>60,MID(F16,3,2)="C3",MID(F16,3,2)="C5",MID(F16,3,2)="C6"),1.3,IF(J16>35,1.2,1)))),0))) -> 0 | L16: =IF(OR(LEFT(E16,2)="ĐA",LEFT(E16,2)="DA",LEFT(E16,5)="Đồ án",LEFT(E16,5)="Đồán "),0,IF(AND(J16>0,I16>0),IF(OR(AND(OR(LEFT(E16,4)="GDQP",LEFT(E16,4)="GDTC",LEFT(E16,4)="gdqp",LEFT(E16,4)="gdtc",LEFT(E16,19)="Giáo dục quốc phòng",LEFT(E16,17)="Giáo dục thể chất"),J16>60),AND(OR(MID(F16,3,2)="C3",MID(F16,3,2)="C5",MID(F16,3,2)="C6"),J16>0)),1.3,IF(AND(OR(LEFT(E16,4)="GDQP",LEFT(E16,4)="gdqp",LEFT(E16,19)="Giáo dục quốc phòng"),J16>35),1.2,IF(AND(OR(LEFT(E16,4)="GDQP",LEFT(E16,4)="gdqp",LEFT(E16,19)="Giáo dục quốc phòng"),J16<=35),1,IF(J16>35,1.2,IF(J16>29,1.1,1))))),0)) -> 1 | M16: =ROUND(IF(AND(MID(F16,3,2)="C3",LEFT(E16,5)="Đồ án"),(J16*0.5)*1.3,IF(OR(LEFT(E16,2)="ĐA",LEFT(E16,2)="DA",LEFT(E16,5)="Đồ án",LEFT(E16,5)="Đồán "),J16*0.5,(IF(H16>0,H16*K16,"0"))+IF(I16>0,(I16*0.75)*L16,"0"))),1) -> 36
E17: TH ĐLĐ | F17: 21C3-CĐT1 | G17: 2 | I17: 30 | J17: 22 | K17: =IF(OR(LEFT(E17,2)="ĐA",LEFT(E17,2)="DA",LEFT(E17,5)="Đồ án",LEFT(E17,5)="Đồán ",LEFT(E17,9)="Sinh hoạt",LEFT(E17,9)="sinh hoạt",LEFT(E17,6)="Cố vấn",LEFT(E17,6)="cố vấn",LEFT(E17,4)="cvht",LEFT(E17,4)="CVHT",LEFT(E17,4)="shcn",LEFT(E17,4)="SHCN"),0,(IF(AND(H17>0,J17>0),IF(J17>250,1.5,IF(J17>150,1.4,IF(OR(J17>60,MID(F17,3,2)="C3",MID(F17,3,2)="C5",MID(F17,3,2)="C6"),1.3,IF(J17>35,1.2,1)))),0))) -> 0 | L17: =IF(OR(LEFT(E17,2)="ĐA",LEFT(E17,2)="DA",LEFT(E17,5)="Đồ án",LEFT(E17,5)="Đồán "),0,IF(AND(J17>0,I17>0),IF(OR(AND(OR(LEFT(E17,4)="GDQP",LEFT(E17,4)="GDTC",LEFT(E17,4)="gdqp",LEFT(E17,4)="gdtc",LEFT(E17,19)="Giáo dục quốc phòng",LEFT(E17,17)="Giáo dục thể chất"),J17>60),AND(OR(MID(F17,3,2)="C3",MID(F17,3,2)="C5",MID(F17,3,2)="C6"),J17>0)),1.3,IF(AND(OR(LEFT(E17,4)="GDQP",LEFT(E17,4)="gdqp",LEFT(E17,19)="Giáo dục quốc phòng"),J17>35),1.2,IF(AND(OR(LEFT(E17,4)="GDQP",LEFT(E17,4)="gdqp",LEFT(E17,19)="Giáo dục quốc phòng"),J17<=35),1,IF(J17>35,1.2,IF(J17>29,1.1,1))))),0)) -> 1.3 | M17: =ROUND(IF(AND(MID(F17,3,2)="C3",LEFT(E17,5)="Đồ án"),(J17*0.5)*1.3,IF(OR(LEFT(E17,2)="ĐA",LEFT(E17,2)="DA",LEFT(E17,5)="Đồ án",LEFT(E17,5)="Đồán "),J17*0.5,(IF(H17>0,H17*K17,"0"))+IF(I17>0,(I17*0.75)*L17,"0"))),1) -> 29.3
E18: Máy điện | F18: 21T2-ĐCN1 | G18: 2 | H18: 30 | J18: 40 | K18: =IF(OR(LEFT(E18,2)="ĐA",LEFT(E18,2)="DA",LEFT(E18,5)="Đồ án",LEFT(E18,5)="Đồán ",LEFT(E18,9)="Sinh hoạt",LEFT(E18,9)="sinh hoạt",LEFT(E18,6)="Cố vấn",LEFT(E18,6)="cố vấn",LEFT(E18,4)="cvht",LEFT(E18,4)="CVHT",LEFT(E18,4)="shcn",LEFT(E18,4)="SHCN"),0,(IF(AND(H18>0,J18>0),IF(J18>250,1.5,IF(J18>150,1.4,IF(OR(J18>60,MID(F18,3,2)="C3",MID(F18,3,2)="C5",MID(F18,3,2)="C6"),1.3,IF(J18>35,1.2,1)))),0))) -> 1.2 | L18: =IF(OR(LEFT(E18,2)="ĐA",LEFT(E18,2)="DA",LEFT(E18,5)="Đồ án",LEFT(E18,5)="Đồán "),0,IF(AND(J18>0,I18>0),IF(OR(AND(OR(LEFT(E18,4)="GDQP",LEFT(E18,4)="GDTC",LEFT(E18,4)="gdqp",LEFT(E18,4)="gdtc",LEFT(E18,19)="Giáo dục quốc phòng",LEFT(E18,17)="Giáo dục thể chất"),J18>60),AND(OR(MID(F18,3,2)="C3",MID(F18,3,2)="C5",MID(F18,3,2)="C6"),J18>0)),1.3,IF(AND(OR(LEFT(E18,4)="GDQP",LEFT(E18,4)="gdqp",LEFT(E18,19)="Giáo dục quốc phòng"),J18>35),1.2,IF(AND(OR(LEFT(E18,4)="GDQP",LEFT(E18,4)="gdqp",LEFT(E18,19)="Giáo dục quốc phòng"),J18<=35),1,IF(J18>35,1.2,IF(J18>29,1.1,1))))),0)) -> 0 | M18: =ROUND(IF(AND(MID(F18,3,2)="C3",LEFT(E18,5)="Đồ án"),(J18*0.5)*1.3,IF(OR(LEFT(E18,2)="ĐA",LEFT(E18,2)="DA",LEFT(E18,5)="Đồ án",LEFT(E18,5)="Đồán "),J18*0.5,(IF(H18>0,H18*K18,"0"))+IF(I18>0,(I18*0.75)*L18,"0"))),1) -> 36
E19: Máy điện | F19: 20C1-ĐĐT1 | G19: 2 | H19: 45 | J19: 39 | K19: =IF(OR(LEFT(E19,2)="ĐA",LEFT(E19,2)="DA",LEFT(E19,5)="Đồ án",LEFT(E19,5)="Đồán ",LEFT(E19,9)="Sinh hoạt",LEFT(E19,9)="sinh hoạt",LEFT(E19,6)="Cố vấn",LEFT(E19,6)="cố vấn",LEFT(E19,4)="cvht",LEFT(E19,4)="CVHT",LEFT(E19,4)="shcn",LEFT(E19,4)="SHCN"),0,(IF(AND(H19>0,J19>0),IF(J19>250,1.5,IF(J19>150,1.4,IF(OR(J19>60,MID(F19,3,2)="C3",MID(F19,3,2)="C5",MID(F19,3,2)="C6"),1.3,IF(J19>35,1.2,1)))),0))) -> 1.2 | L19: =IF(OR(LEFT(E19,2)="ĐA",LEFT(E19,2)="DA",LEFT(E19,5)="Đồ án",LEFT(E19,5)="Đồán "),0,IF(AND(J19>0,I19>0),IF(OR(AND(OR(LEFT(E19,4)="GDQP",LEFT(E19,4)="GDTC",LEFT(E19,4)="gdqp",LEFT(E19,4)="gdtc",LEFT(E19,19)="Giáo dục quốc phòng",LEFT(E19,17)="Giáo dục thể chất"),J19>60),AND(OR(MID(F19,3,2)="C3",MID(F19,3,2)="C5",MID(F19,3,2)="C6"),J19>0)),1.3,IF(AND(OR(LEFT(E19,4)="GDQP",LEFT(E19,4)="gdqp",LEFT(E19,19)="Giáo dục quốc phòng"),J19>35),1.2,IF(AND(OR(LEFT(E19,4)="GDQP",LEFT(E19,4)="gdqp",LEFT(E19,19)="Giáo dục quốc phòng"),J19<=35),1,IF(J19>35,1.2,IF(J19>29,1.1,1))))),0)) -> 0 | M19: =ROUND(IF(AND(MID(F19,3,2)="C3",LEFT(E19,5)="Đồ án"),(J19*0.5)*1.3,IF(OR(LEFT(E19,2)="ĐA",LEFT(E19,2)="DA",LEFT(E19,5)="Đồ án",LEFT(E19,5)="Đồán "),J19*0.5,(IF(H19>0,H19*K19,"0"))+IF(I19>0,(I19*0.75)*L19,"0"))),1) -> 54
F20: 20C1-ĐĐT2 | G20: 2 | H20: 45 | J20: 36 | K20: =IF(OR(LEFT(E20,2)="ĐA",LEFT(E20,2)="DA",LEFT(E20,5)="Đồ án",LEFT(E20,5)="Đồán ",LEFT(E20,9)="Sinh hoạt",LEFT(E20,9)="sinh hoạt",LEFT(E20,6)="Cố vấn",LEFT(E20,6)="cố vấn",LEFT(E20,4)="cvht",LEFT(E20,4)="CVHT",LEFT(E20,4)="shcn",LEFT(E20,4)="SHCN"),0,(IF(AND(H20>0,J20>0),IF(J20>250,1.5,IF(J20>150,1.4,IF(OR(J20>60,MID(F20,3,2)="C3",MID(F20,3,2)="C5",MID(F20,3,2)="C6"),1.3,IF(J20>35,1.2,1)))),0))) -> 1.2 | L20: =IF(OR(LEFT(E20,2)="ĐA",LEFT(E20,2)="DA",LEFT(E20,5)="Đồ án",LEFT(E20,5)="Đồán "),0,IF(AND(J20>0,I20>0),IF(OR(AND(OR(LEFT(E20,4)="GDQP",LEFT(E20,4)="GDTC",LEFT(E20,4)="gdqp",LEFT(E20,4)="gdtc",LEFT(E20,19)="Giáo dục quốc phòng",LEFT(E20,17)="Giáo dục thể chất"),J20>60),AND(OR(MID(F20,3,2)="C3",MID(F20,3,2)="C5",MID(F20,3,2)="C6"),J20>0)),1.3,IF(AND(OR(LEFT(E20,4)="GDQP",LEFT(E20,4)="gdqp",LEFT(E20,19)="Giáo dục quốc phòng"),J20>35),1.2,IF(AND(OR(LEFT(E20,4)="GDQP",LEFT(E20,4)="gdqp",LEFT(E20,19)="Giáo dục quốc phòng"),J20<=35),1,IF(J20>35,1.2,IF(J20>29,1.1,1))))),0)) -> 0 | M20: =ROUND(IF(AND(MID(F20,3,2)="C3",LEFT(E20,5)="Đồ án"),(J20*0.5)*1.3,IF(OR(LEFT(E20,2)="ĐA",LEFT(E20,2)="DA",LEFT(E20,5)="Đồ án",LEFT(E20,5)="Đồán "),J20*0.5,(IF(H20>0,H20*K20,"0"))+IF(I20>0,(I20*0.75)*L20,"0"))),1) -> 54
E21: Kiểm tra và ĐLĐ | F21: 21C7-ĐCN1 | G21: 2 | H21: 10 | I21: 21 | J21: 17 | K21: =IF(OR(LEFT(E21,2)="ĐA",LEFT(E21,2)="DA",LEFT(E21,5)="Đồ án",LEFT(E21,5)="Đồán ",LEFT(E21,9)="Sinh hoạt",LEFT(E21,9)="sinh hoạt",LEFT(E21,6)="Cố vấn",LEFT(E21,6)="cố vấn",LEFT(E21,4)="cvht",LEFT(E21,4)="CVHT",LEFT(E21,4)="shcn",LEFT(E21,4)="SHCN"),0,(IF(AND(H21>0,J21>0),IF(J21>250,1.5,IF(J21>150,1.4,IF(OR(J21>60,MID(F21,3,2)="C3",MID(F21,3,2)="C5",MID(F21,3,2)="C6"),1.3,IF(J21>35,1.2,1)))),0))) -> 1 | L21: =IF(OR(LEFT(E21,2)="ĐA",LEFT(E21,2)="DA",LEFT(E21,5)="Đồ án",LEFT(E21,5)="Đồán "),0,IF(AND(J21>0,I21>0),IF(OR(AND(OR(LEFT(E21,4)="GDQP",LEFT(E21,4)="GDTC",LEFT(E21,4)="gdqp",LEFT(E21,4)="gdtc",LEFT(E21,19)="Giáo dục quốc phòng",LEFT(E21,17)="Giáo dục thể chất"),J21>60),AND(OR(MID(F21,3,2)="C3",MID(F21,3,2)="C5",MID(F21,3,2)="C6"),J21>0)),1.3,IF(AND(OR(LEFT(E21,4)="GDQP",LEFT(E21,4)="gdqp",LEFT(E21,19)="Giáo dục quốc phòng"),J21>35),1.2,IF(AND(OR(LEFT(E21,4)="GDQP",LEFT(E21,4)="gdqp",LEFT(E21,19)="Giáo dục quốc phòng"),J21<=35),1,IF(J21>35,1.2,IF(J21>29,1.1,1))))),0)) -> 1 | M21: =ROUND(IF(AND(MID(F21,3,2)="C3",LEFT(E21,5)="Đồ án"),(J21*0.5)*1.3,IF(OR(LEFT(E21,2)="ĐA",LEFT(E21,2)="DA",LEFT(E21,5)="Đồ án",LEFT(E21,5)="Đồán "),J21*0.5,(IF(H21>0,H21*K21,"0"))+IF(I21>0,(I21*0.75)*L21,"0"))),1) -> 25.8
E22: TH TBĐ | F22: 19T4-ĐĐT1 N1 | G22: 2 | I22: 90 | J22: 28 | K22: =IF(OR(LEFT(E22,2)="ĐA",LEFT(E22,2)="DA",LEFT(E22,5)="Đồ án",LEFT(E22,5)="Đồán ",LEFT(E22,9)="Sinh hoạt",LEFT(E22,9)="sinh hoạt",LEFT(E22,6)="Cố vấn",LEFT(E22,6)="cố vấn",LEFT(E22,4)="cvht",LEFT(E22,4)="CVHT",LEFT(E22,4)="shcn",LEFT(E22,4)="SHCN"),0,(IF(AND(H22>0,J22>0),IF(J22>250,1.5,IF(J22>150,1.4,IF(OR(J22>60,MID(F22,3,2)="C3",MID(F22,3,2)="C5",MID(F22,3,2)="C6"),1.3,IF(J22>35,1.2,1)))),0))) -> 0 | L22: =IF(OR(LEFT(E22,2)="ĐA",LEFT(E22,2)="DA",LEFT(E22,5)="Đồ án",LEFT(E22,5)="Đồán "),0,IF(AND(J22>0,I22>0),IF(OR(AND(OR(LEFT(E22,4)="GDQP",LEFT(E22,4)="GDTC",LEFT(E22,4)="gdqp",LEFT(E22,4)="gdtc",LEFT(E22,19)="Giáo dục quốc phòng",LEFT(E22,17)="Giáo dục thể chất"),J22>60),AND(OR(MID(F22,3,2)="C3",MID(F22,3,2)="C5",MID(F22,3,2)="C6"),J22>0)),1.3,IF(AND(OR(LEFT(E22,4)="GDQP",LEFT(E22,4)="gdqp",LEFT(E22,19)="Giáo dục quốc phòng"),J22>35),1.2,IF(AND(OR(LEFT(E22,4)="GDQP",LEFT(E22,4)="gdqp",LEFT(E22,19)="Giáo dục quốc phòng"),J22<=35),1,IF(J22>35,1.2,IF(J22>29,1.1,1))))),0)) -> 1 | M22: =ROUND(IF(AND(MID(F22,3,2)="C3",LEFT(E22,5)="Đồ án"),(J22*0.5)*1.3,IF(OR(LEFT(E22,2)="ĐA",LEFT(E22,2)="DA",LEFT(E22,5)="Đồ án",LEFT(E22,5)="Đồán "),J22*0.5,(IF(H22>0,H22*K22,"0"))+IF(I22>0,(I22*0.75)*L22,"0"))),1) -> 67.5
F23: 19T4-ĐĐT1 N2 | G23: 2 | I23: 90 | J23: 28 | K23: =IF(OR(LEFT(E23,2)="ĐA",LEFT(E23,2)="DA",LEFT(E23,5)="Đồ án",LEFT(E23,5)="Đồán ",LEFT(E23,9)="Sinh hoạt",LEFT(E23,9)="sinh hoạt",LEFT(E23,6)="Cố vấn",LEFT(E23,6)="cố vấn",LEFT(E23,4)="cvht",LEFT(E23,4)="CVHT",LEFT(E23,4)="shcn",LEFT(E23,4)="SHCN"),0,(IF(AND(H23>0,J23>0),IF(J23>250,1.5,IF(J23>150,1.4,IF(OR(J23>60,MID(F23,3,2)="C3",MID(F23,3,2)="C5",MID(F23,3,2)="C6"),1.3,IF(J23>35,1.2,1)))),0))) -> 0 | L23: =IF(OR(LEFT(E23,2)="ĐA",LEFT(E23,2)="DA",LEFT(E23,5)="Đồ án",LEFT(E23,5)="Đồán "),0,IF(AND(J23>0,I23>0),IF(OR(AND(OR(LEFT(E23,4)="GDQP",LEFT(E23,4)="GDTC",LEFT(E23,4)="gdqp",LEFT(E23,4)="gdtc",LEFT(E23,19)="Giáo dục quốc phòng",LEFT(E23,17)="Giáo dục thể chất"),J23>60),AND(OR(MID(F23,3,2)="C3",MID(F23,3,2)="C5",MID(F23,3,2)="C6"),J23>0)),1.3,IF(AND(OR(LEFT(E23,4)="GDQP",LEFT(E23,4)="gdqp",LEFT(E23,19)="Giáo dục quốc phòng"),J23>35),1.2,IF(AND(OR(LEFT(E23,4)="GDQP",LEFT(E23,4)="gdqp",LEFT(E23,19)="Giáo dục quốc phòng"),J23<=35),1,IF(J23>35,1.2,IF(J23>29,1.1,1))))),0)) -> 1 | M23: =ROUND(IF(AND(MID(F23,3,2)="C3",LEFT(E23,5)="Đồ án"),(J23*0.5)*1.3,IF(OR(LEFT(E23,2)="ĐA",LEFT(E23,2)="DA",LEFT(E23,5)="Đồ án",LEFT(E23,5)="Đồán "),J23*0.5,(IF(H23>0,H23*K23,"0"))+IF(I23>0,(I23*0.75)*L23,"0"))),1) -> 67.5
E24: TH TBĐ | F24: 20C1-TĐH2 | G24: 2 | I24: 60 | J24: 32 | K24: =IF(OR(LEFT(E24,2)="ĐA",LEFT(E24,2)="DA",LEFT(E24,5)="Đồ án",LEFT(E24,5)="Đồán ",LEFT(E24,9)="Sinh hoạt",LEFT(E24,9)="sinh hoạt",LEFT(E24,6)="Cố vấn",LEFT(E24,6)="cố vấn",LEFT(E24,4)="cvht",LEFT(E24,4)="CVHT",LEFT(E24,4)="shcn",LEFT(E24,4)="SHCN"),0,(IF(AND(H24>0,J24>0),IF(J24>250,1.5,IF(J24>150,1.4,IF(OR(J24>60,MID(F24,3,2)="C3",MID(F24,3,2)="C5",MID(F24,3,2)="C6"),1.3,IF(J24>35,1.2,1)))),0))) -> 0 | L24: =IF(OR(LEFT(E24,2)="ĐA",LEFT(E24,2)="DA",LEFT(E24,5)="Đồ án",LEFT(E24,5)="Đồán "),0,IF(AND(J24>0,I24>0),IF(OR(AND(OR(LEFT(E24,4)="GDQP",LEFT(E24,4)="GDTC",LEFT(E24,4)="gdqp",LEFT(E24,4)="gdtc",LEFT(E24,19)="Giáo dục quốc phòng",LEFT(E24,17)="Giáo dục thể chất"),J24>60),AND(OR(MID(F24,3,2)="C3",MID(F24,3,2)="C5",MID(F24,3,2)="C6"),J24>0)),1.3,IF(AND(OR(LEFT(E24,4)="GDQP",LEFT(E24,4)="gdqp",LEFT(E24,19)="Giáo dục quốc phòng"),J24>35),1.2,IF(AND(OR(LEFT(E24,4)="GDQP",LEFT(E24,4)="gdqp",LEFT(E24,19)="Giáo dục quốc phòng"),J24<=35),1,IF(J24>35,1.2,IF(J24>29,1.1,1))))),0)) -> 1.1 | M24: =ROUND(IF(AND(MID(F24,3,2)="C3",LEFT(E24,5)="Đồ án"),(J24*0.5)*1.3,IF(OR(LEFT(E24,2)="ĐA",LEFT(E24,2)="DA",LEFT(E24,5)="Đồ án",LEFT(E24,5)="Đồán "),J24*0.5,(IF(H24>0,H24*K24,"0"))+IF(I24>0,(I24*0.75)*L24,"0"))),1) -> 49.5
K25: =IF(OR(LEFT(E25,2)="ĐA",LEFT(E25,2)="DA",LEFT(E25,5)="Đồ án",LEFT(E25,5)="Đồán ",LEFT(E25,9)="Sinh hoạt",LEFT(E25,9)="sinh hoạt",LEFT(E25,6)="Cố vấn",LEFT(E25,6)="cố vấn",LEFT(E25,4)="cvht",LEFT(E25,4)="CVHT",LEFT(E25,4)="shcn",LEFT(E25,4)="SHCN"),0,(IF(AND(H25>0,J25>0),IF(J25>250,1.5,IF(J25>150,1.4,IF(OR(J25>60,MID(F25,3,2)="C3",MID(F25,3,2)="C5",MID(F25,3,2)="C6"),1.3,IF(J25>35,1.2,1)))),0))) -> 0 | L25: =IF(OR(LEFT(E25,2)="ĐA",LEFT(E25,2)="DA",LEFT(E25,5)="Đồ án",LEFT(E25,5)="Đồán "),0,IF(AND(J25>0,I25>0),IF(OR(AND(OR(LEFT(E25,4)="GDQP",LEFT(E25,4)="GDTC",LEFT(E25,4)="gdqp",LEFT(E25,4)="gdtc",LEFT(E25,19)="Giáo dục quốc phòng",LEFT(E25,17)="Giáo dục thể chất"),J25>60),AND(OR(MID(F25,3,2)="C3",MID(F25,3,2)="C5",MID(F25,3,2)="C6"),J25>0)),1.3,IF(AND(OR(LEFT(E25,4)="GDQP",LEFT(E25,4)="gdqp",LEFT(E25,19)="Giáo dục quốc phòng"),J25>35),1.2,IF(AND(OR(LEFT(E25,4)="GDQP",LEFT(E25,4)="gdqp",LEFT(E25,19)="Giáo dục quốc phòng"),J25<=35),1,IF(J25>35,1.2,IF(J25>29,1.1,1))))),0)) -> 0 | M25: =ROUND(IF(AND(MID(F25,3,2)="C3",LEFT(E25,5)="Đồ án"),(J25*0.5)*1.3,IF(OR(LEFT(E25,2)="ĐA",LEFT(E25,2)="DA",LEFT(E25,5)="Đồ án",LEFT(E25,5)="Đồán "),J25*0.5,(IF(H25>0,H25*K25,"0"))+IF(I25>0,(I25*0.75)*L25,"0"))),1) -> 0
K26: =IF(OR(LEFT(E26,2)="ĐA",LEFT(E26,2)="DA",LEFT(E26,5)="Đồ án",LEFT(E26,5)="Đồán ",LEFT(E26,9)="Sinh hoạt",LEFT(E26,9)="sinh hoạt",LEFT(E26,6)="Cố vấn",LEFT(E26,6)="cố vấn",LEFT(E26,4)="cvht",LEFT(E26,4)="CVHT",LEFT(E26,4)="shcn",LEFT(E26,4)="SHCN"),0,(IF(AND(H26>0,J26>0),IF(J26>250,1.5,IF(J26>150,1.4,IF(OR(J26>60,MID(F26,3,2)="C3",MID(F26,3,2)="C5",MID(F26,3,2)="C6"),1.3,IF(J26>35,1.2,1)))),0))) -> 0 | L26: =IF(OR(LEFT(E26,2)="ĐA",LEFT(E26,2)="DA",LEFT(E26,5)="Đồ án",LEFT(E26,5)="Đồán "),0,IF(AND(J26>0,I26>0),IF(OR(AND(OR(LEFT(E26,4)="GDQP",LEFT(E26,4)="GDTC",LEFT(E26,4)="gdqp",LEFT(E26,4)="gdtc",LEFT(E26,19)="Giáo dục quốc phòng",LEFT(E26,17)="Giáo dục thể chất"),J26>60),AND(OR(MID(F26,3,2)="C3",MID(F26,3,2)="C5",MID(F26,3,2)="C6"),J26>0)),1.3,IF(AND(OR(LEFT(E26,4)="GDQP",LEFT(E26,4)="gdqp",LEFT(E26,19)="Giáo dục quốc phòng"),J26>35),1.2,IF(AND(OR(LEFT(E26,4)="GDQP",LEFT(E26,4)="gdqp",LEFT(E26,19)="Giáo dục quốc phòng"),J26<=35),1,IF(J26>35,1.2,IF(J26>29,1.1,1))))),0)) -> 0 | M26: =ROUND(IF(AND(MID(F26,3,2)="C3",LEFT(E26,5)="Đồ án"),(J26*0.5)*1.3,IF(OR(LEFT(E26,2)="ĐA",LEFT(E26,2)="DA",LEFT(E26,5)="Đồ án",LEFT(E26,5)="Đồán "),J26*0.5,(IF(H26>0,H26*K26,"0"))+IF(I26>0,(I26*0.75)*L26,"0"))),1) -> 0
K27: =IF(OR(LEFT(E27,2)="ĐA",LEFT(E27,2)="DA",LEFT(E27,5)="Đồ án",LEFT(E27,5)="Đồán ",LEFT(E27,9)="Sinh hoạt",LEFT(E27,9)="sinh hoạt",LEFT(E27,6)="Cố vấn",LEFT(E27,6)="cố vấn",LEFT(E27,4)="cvht",LEFT(E27,4)="CVHT",LEFT(E27,4)="shcn",LEFT(E27,4)="SHCN"),0,(IF(AND(H27>0,J27>0),IF(J27>250,1.5,IF(J27>150,1.4,IF(OR(J27>60,MID(F27,3,2)="C3",MID(F27,3,2)="C5",MID(F27,3,2)="C6"),1.3,IF(J27>35,1.2,1)))),0))) -> 0 | L27: =IF(OR(LEFT(E27,2)="ĐA",LEFT(E27,2)="DA",LEFT(E27,5)="Đồ án",LEFT(E27,5)="Đồán "),0,IF(AND(J27>0,I27>0),IF(OR(AND(OR(LEFT(E27,4)="GDQP",LEFT(E27,4)="GDTC",LEFT(E27,4)="gdqp",LEFT(E27,4)="gdtc",LEFT(E27,19)="Giáo dục quốc phòng",LEFT(E27,17)="Giáo dục thể chất"),J27>60),AND(OR(MID(F27,3,2)="C3",MID(F27,3,2)="C5",MID(F27,3,2)="C6"),J27>0)),1.3,IF(AND(OR(LEFT(E27,4)="GDQP",LEFT(E27,4)="gdqp",LEFT(E27,19)="Giáo dục quốc phòng"),J27>35),1.2,IF(AND(OR(LEFT(E27,4)="GDQP",LEFT(E27,4)="gdqp",LEFT(E27,19)="Giáo dục quốc phòng"),J27<=35),1,IF(J27>35,1.2,IF(J27>29,1.1,1))))),0)) -> 0 | M27: =ROUND(IF(AND(MID(F27,3,2)="C3",LEFT(E27,5)="Đồ án"),(J27*0.5)*1.3,IF(OR(LEFT(E27,2)="ĐA",LEFT(E27,2)="DA",LEFT(E27,5)="Đồ án",LEFT(E27,5)="Đồán "),J27*0.5,(IF(H27>0,H27*K27,"0"))+IF(I27>0,(I27*0.75)*L27,"0"))),1) -> 0
K28: =IF(OR(LEFT(E28,2)="ĐA",LEFT(E28,2)="DA",LEFT(E28,5)="Đồ án",LEFT(E28,5)="Đồán ",LEFT(E28,9)="Sinh hoạt",LEFT(E28,9)="sinh hoạt",LEFT(E28,6)="Cố vấn",LEFT(E28,6)="cố vấn",LEFT(E28,4)="cvht",LEFT(E28,4)="CVHT",LEFT(E28,4)="shcn",LEFT(E28,4)="SHCN"),0,(IF(AND(H28>0,J28>0),IF(J28>250,1.5,IF(J28>150,1.4,IF(OR(J28>60,MID(F28,3,2)="C3",MID(F28,3,2)="C5",MID(F28,3,2)="C6"),1.3,IF(J28>35,1.2,1)))),0))) -> 0 | L28: =IF(OR(LEFT(E28,2)="ĐA",LEFT(E28,2)="DA",LEFT(E28,5)="Đồ án",LEFT(E28,5)="Đồán "),0,IF(AND(J28>0,I28>0),IF(OR(AND(OR(LEFT(E28,4)="GDQP",LEFT(E28,4)="GDTC",LEFT(E28,4)="gdqp",LEFT(E28,4)="gdtc",LEFT(E28,19)="Giáo dục quốc phòng",LEFT(E28,17)="Giáo dục thể chất"),J28>60),AND(OR(MID(F28,3,2)="C3",MID(F28,3,2)="C5",MID(F28,3,2)="C6"),J28>0)),1.3,IF(AND(OR(LEFT(E28,4)="GDQP",LEFT(E28,4)="gdqp",LEFT(E28,19)="Giáo dục quốc phòng"),J28>35),1.2,IF(AND(OR(LEFT(E28,4)="GDQP",LEFT(E28,4)="gdqp",LEFT(E28,19)="Giáo dục quốc phòng"),J28<=35),1,IF(J28>35,1.2,IF(J28>29,1.1,1))))),0)) -> 0 | M28: =ROUND(IF(AND(MID(F28,3,2)="C3",LEFT(E28,5)="Đồ án"),(J28*0.5)*1.3,IF(OR(LEFT(E28,2)="ĐA",LEFT(E28,2)="DA",LEFT(E28,5)="Đồ án",LEFT(E28,5)="Đồán "),J28*0.5,(IF(H28>0,H28*K28,"0"))+IF(I28>0,(I28*0.75)*L28,"0"))),1) -> 0
K29: =IF(OR(LEFT(E29,2)="ĐA",LEFT(E29,2)="DA",LEFT(E29,5)="Đồ án",LEFT(E29,5)="Đồán ",LEFT(E29,9)="Sinh hoạt",LEFT(E29,9)="sinh hoạt",LEFT(E29,6)="Cố vấn",LEFT(E29,6)="cố vấn",LEFT(E29,4)="cvht",LEFT(E29,4)="CVHT",LEFT(E29,4)="shcn",LEFT(E29,4)="SHCN"),0,(IF(AND(H29>0,J29>0),IF(J29>250,1.5,IF(J29>150,1.4,IF(OR(J29>60,MID(F29,3,2)="C3",MID(F29,3,2)="C5",MID(F29,3,2)="C6"),1.3,IF(J29>35,1.2,1)))),0))) -> 0 | L29: =IF(OR(LEFT(E29,2)="ĐA",LEFT(E29,2)="DA",LEFT(E29,5)="Đồ án",LEFT(E29,5)="Đồán "),0,IF(AND(J29>0,I29>0),IF(OR(AND(OR(LEFT(E29,4)="GDQP",LEFT(E29,4)="GDTC",LEFT(E29,4)="gdqp",LEFT(E29,4)="gdtc",LEFT(E29,19)="Giáo dục quốc phòng",LEFT(E29,17)="Giáo dục thể chất"),J29>60),AND(OR(MID(F29,3,2)="C3",MID(F29,3,2)="C5",MID(F29,3,2)="C6"),J29>0)),1.3,IF(AND(OR(LEFT(E29,4)="GDQP",LEFT(E29,4)="gdqp",LEFT(E29,19)="Giáo dục quốc phòng"),J29>35),1.2,IF(AND(OR(LEFT(E29,4)="GDQP",LEFT(E29,4)="gdqp",LEFT(E29,19)="Giáo dục quốc phòng"),J29<=35),1,IF(J29>35,1.2,IF(J29>29,1.1,1))))),0)) -> 0 | M29: =ROUND(IF(AND(MID(F29,3,2)="C3",LEFT(E29,5)="Đồ án"),(J29*0.5)*1.3,IF(OR(LEFT(E29,2)="ĐA",LEFT(E29,2)="DA",LEFT(E29,5)="Đồ án",LEFT(E29,5)="Đồán "),J29*0.5,(IF(H29>0,H29*K29,"0"))+IF(I29>0,(I29*0.75)*L29,"0"))),1) -> 0
K30: =IF(OR(LEFT(E30,2)="ĐA",LEFT(E30,2)="DA",LEFT(E30,5)="Đồ án",LEFT(E30,5)="Đồán ",LEFT(E30,9)="Sinh hoạt",LEFT(E30,9)="sinh hoạt",LEFT(E30,6)="Cố vấn",LEFT(E30,6)="cố vấn",LEFT(E30,4)="cvht",LEFT(E30,4)="CVHT",LEFT(E30,4)="shcn",LEFT(E30,4)="SHCN"),0,(IF(AND(H30>0,J30>0),IF(J30>250,1.5,IF(J30>150,1.4,IF(OR(J30>60,MID(F30,3,2)="C3",MID(F30,3,2)="C5",MID(F30,3,2)="C6"),1.3,IF(J30>35,1.2,1)))),0))) -> 0 | L30: =IF(OR(LEFT(E30,2)="ĐA",LEFT(E30,2)="DA",LEFT(E30,5)="Đồ án",LEFT(E30,5)="Đồán "),0,IF(AND(J30>0,I30>0),IF(OR(AND(OR(LEFT(E30,4)="GDQP",LEFT(E30,4)="GDTC",LEFT(E30,4)="gdqp",LEFT(E30,4)="gdtc",LEFT(E30,19)="Giáo dục quốc phòng",LEFT(E30,17)="Giáo dục thể chất"),J30>60),AND(OR(MID(F30,3,2)="C3",MID(F30,3,2)="C5",MID(F30,3,2)="C6"),J30>0)),1.3,IF(AND(OR(LEFT(E30,4)="GDQP",LEFT(E30,4)="gdqp",LEFT(E30,19)="Giáo dục quốc phòng"),J30>35),1.2,IF(AND(OR(LEFT(E30,4)="GDQP",LEFT(E30,4)="gdqp",LEFT(E30,19)="Giáo dục quốc phòng"),J30<=35),1,IF(J30>35,1.2,IF(J30>29,1.1,1))))),0)) -> 0 | M30: =ROUND(IF(AND(MID(F30,3,2)="C3",LEFT(E30,5)="Đồ án"),(J30*0.5)*1.3,IF(OR(LEFT(E30,2)="ĐA",LEFT(E30,2)="DA",LEFT(E30,5)="Đồ án",LEFT(E30,5)="Đồán "),J30*0.5,(IF(H30>0,H30*K30,"0"))+IF(I30>0,(I30*0.75)*L30,"0"))),1) -> 0
K31: =IF(OR(LEFT(E31,2)="ĐA",LEFT(E31,2)="DA",LEFT(E31,5)="Đồ án",LEFT(E31,5)="Đồán ",LEFT(E31,9)="Sinh hoạt",LEFT(E31,9)="sinh hoạt",LEFT(E31,6)="Cố vấn",LEFT(E31,6)="cố vấn",LEFT(E31,4)="cvht",LEFT(E31,4)="CVHT",LEFT(E31,4)="shcn",LEFT(E31,4)="SHCN"),0,(IF(AND(H31>0,J31>0),IF(J31>250,1.5,IF(J31>150,1.4,IF(OR(J31>60,MID(F31,3,2)="C3",MID(F31,3,2)="C5",MID(F31,3,2)="C6"),1.3,IF(J31>35,1.2,1)))),0))) -> 0 | L31: =IF(OR(LEFT(E31,2)="ĐA",LEFT(E31,2)="DA",LEFT(E31,5)="Đồ án",LEFT(E31,5)="Đồán "),0,IF(AND(J31>0,I31>0),IF(OR(AND(OR(LEFT(E31,4)="GDQP",LEFT(E31,4)="GDTC",LEFT(E31,4)="gdqp",LEFT(E31,4)="gdtc",LEFT(E31,19)="Giáo dục quốc phòng",LEFT(E31,17)="Giáo dục thể chất"),J31>60),AND(OR(MID(F31,3,2)="C3",MID(F31,3,2)="C5",MID(F31,3,2)="C6"),J31>0)),1.3,IF(AND(OR(LEFT(E31,4)="GDQP",LEFT(E31,4)="gdqp",LEFT(E31,19)="Giáo dục quốc phòng"),J31>35),1.2,IF(AND(OR(LEFT(E31,4)="GDQP",LEFT(E31,4)="gdqp",LEFT(E31,19)="Giáo dục quốc phòng"),J31<=35),1,IF(J31>35,1.2,IF(J31>29,1.1,1))))),0)) -> 0 | M31: =ROUND(IF(AND(MID(F31,3,2)="C3",LEFT(E31,5)="Đồ án"),(J31*0.5)*1.3,IF(OR(LEFT(E31,2)="ĐA",LEFT(E31,2)="DA",LEFT(E31,5)="Đồ án",LEFT(E31,5)="Đồán "),J31*0.5,(IF(H31>0,H31*K31,"0"))+IF(I31>0,(I31*0.75)*L31,"0"))),1) -> 0
K32: =IF(OR(LEFT(E32,2)="ĐA",LEFT(E32,2)="DA",LEFT(E32,5)="Đồ án",LEFT(E32,5)="Đồán ",LEFT(E32,9)="Sinh hoạt",LEFT(E32,9)="sinh hoạt",LEFT(E32,6)="Cố vấn",LEFT(E32,6)="cố vấn",LEFT(E32,4)="cvht",LEFT(E32,4)="CVHT",LEFT(E32,4)="shcn",LEFT(E32,4)="SHCN"),0,(IF(AND(H32>0,J32>0),IF(J32>250,1.5,IF(J32>150,1.4,IF(OR(J32>60,MID(F32,3,2)="C3",MID(F32,3,2)="C5",MID(F32,3,2)="C6"),1.3,IF(J32>35,1.2,1)))),0))) -> 0 | L32: =IF(OR(LEFT(E32,2)="ĐA",LEFT(E32,2)="DA",LEFT(E32,5)="Đồ án",LEFT(E32,5)="Đồán "),0,IF(AND(J32>0,I32>0),IF(OR(AND(OR(LEFT(E32,4)="GDQP",LEFT(E32,4)="GDTC",LEFT(E32,4)="gdqp",LEFT(E32,4)="gdtc",LEFT(E32,19)="Giáo dục quốc phòng",LEFT(E32,17)="Giáo dục thể chất"),J32>60),AND(OR(MID(F32,3,2)="C3",MID(F32,3,2)="C5",MID(F32,3,2)="C6"),J32>0)),1.3,IF(AND(OR(LEFT(E32,4)="GDQP",LEFT(E32,4)="gdqp",LEFT(E32,19)="Giáo dục quốc phòng"),J32>35),1.2,IF(AND(OR(LEFT(E32,4)="GDQP",LEFT(E32,4)="gdqp",LEFT(E32,19)="Giáo dục quốc phòng"),J32<=35),1,IF(J32>35,1.2,IF(J32>29,1.1,1))))),0)) -> 0 | M32: =ROUND(IF(AND(MID(F32,3,2)="C3",LEFT(E32,5)="Đồ án"),(J32*0.5)*1.3,IF(OR(LEFT(E32,2)="ĐA",LEFT(E32,2)="DA",LEFT(E32,5)="Đồ án",LEFT(E32,5)="Đồán "),J32*0.5,(IF(H32>0,H32*K32,"0"))+IF(I32>0,(I32*0.75)*L32,"0"))),1) -> 0
K33: =IF(OR(LEFT(E33,2)="ĐA",LEFT(E33,2)="DA",LEFT(E33,5)="Đồ án",LEFT(E33,5)="Đồán ",LEFT(E33,9)="Sinh hoạt",LEFT(E33,9)="sinh hoạt",LEFT(E33,6)="Cố vấn",LEFT(E33,6)="cố vấn",LEFT(E33,4)="cvht",LEFT(E33,4)="CVHT",LEFT(E33,4)="shcn",LEFT(E33,4)="SHCN"),0,(IF(AND(H33>0,J33>0),IF(J33>250,1.5,IF(J33>150,1.4,IF(OR(J33>60,MID(F33,3,2)="C3",MID(F33,3,2)="C5",MID(F33,3,2)="C6"),1.3,IF(J33>35,1.2,1)))),0))) -> 0 | L33: =IF(OR(LEFT(E33,2)="ĐA",LEFT(E33,2)="DA",LEFT(E33,5)="Đồ án",LEFT(E33,5)="Đồán "),0,IF(AND(J33>0,I33>0),IF(OR(AND(OR(LEFT(E33,4)="GDQP",LEFT(E33,4)="GDTC",LEFT(E33,4)="gdqp",LEFT(E33,4)="gdtc",LEFT(E33,19)="Giáo dục quốc phòng",LEFT(E33,17)="Giáo dục thể chất"),J33>60),AND(OR(MID(F33,3,2)="C3",MID(F33,3,2)="C5",MID(F33,3,2)="C6"),J33>0)),1.3,IF(AND(OR(LEFT(E33,4)="GDQP",LEFT(E33,4)="gdqp",LEFT(E33,19)="Giáo dục quốc phòng"),J33>35),1.2,IF(AND(OR(LEFT(E33,4)="GDQP",LEFT(E33,4)="gdqp",LEFT(E33,19)="Giáo dục quốc phòng"),J33<=35),1,IF(J33>35,1.2,IF(J33>29,1.1,1))))),0)) -> 0 | M33: =ROUND(IF(AND(MID(F33,3,2)="C3",LEFT(E33,5)="Đồ án"),(J33*0.5)*1.3,IF(OR(LEFT(E33,2)="ĐA",LEFT(E33,2)="DA",LEFT(E33,5)="Đồ án",LEFT(E33,5)="Đồán "),J33*0.5,(IF(H33>0,H33*K33,"0"))+IF(I33>0,(I33*0.75)*L33,"0"))),1) -> 0
K34: =IF(OR(LEFT(E34,2)="ĐA",LEFT(E34,2)="DA",LEFT(E34,5)="Đồ án",LEFT(E34,5)="Đồán ",LEFT(E34,9)="Sinh hoạt",LEFT(E34,9)="sinh hoạt",LEFT(E34,6)="Cố vấn",LEFT(E34,6)="cố vấn",LEFT(E34,4)="cvht",LEFT(E34,4)="CVHT",LEFT(E34,4)="shcn",LEFT(E34,4)="SHCN"),0,(IF(AND(H34>0,J34>0),IF(J34>250,1.5,IF(J34>150,1.4,IF(OR(J34>60,MID(F34,3,2)="C3",MID(F34,3,2)="C5",MID(F34,3,2)="C6"),1.3,IF(J34>35,1.2,1)))),0))) -> 0 | L34: =IF(OR(LEFT(E34,2)="ĐA",LEFT(E34,2)="DA",LEFT(E34,5)="Đồ án",LEFT(E34,5)="Đồán "),0,IF(AND(J34>0,I34>0),IF(OR(AND(OR(LEFT(E34,4)="GDQP",LEFT(E34,4)="GDTC",LEFT(E34,4)="gdqp",LEFT(E34,4)="gdtc",LEFT(E34,19)="Giáo dục quốc phòng",LEFT(E34,17)="Giáo dục thể chất"),J34>60),AND(OR(MID(F34,3,2)="C3",MID(F34,3,2)="C5",MID(F34,3,2)="C6"),J34>0)),1.3,IF(AND(OR(LEFT(E34,4)="GDQP",LEFT(E34,4)="gdqp",LEFT(E34,19)="Giáo dục quốc phòng"),J34>35),1.2,IF(AND(OR(LEFT(E34,4)="GDQP",LEFT(E34,4)="gdqp",LEFT(E34,19)="Giáo dục quốc phòng"),J34<=35),1,IF(J34>35,1.2,IF(J34>29,1.1,1))))),0)) -> 0 | M34: =ROUND(IF(AND(MID(F34,3,2)="C3",LEFT(E34,5)="Đồ án"),(J34*0.5)*1.3,IF(OR(LEFT(E34,2)="ĐA",LEFT(E34,2)="DA",LEFT(E34,5)="Đồ án",LEFT(E34,5)="Đồán "),J34*0.5,(IF(H34>0,H34*K34,"0"))+IF(I34>0,(I34*0.75)*L34,"0"))),1) -> 0
K35: =IF(OR(LEFT(E35,2)="ĐA",LEFT(E35,2)="DA",LEFT(E35,5)="Đồ án",LEFT(E35,5)="Đồán ",LEFT(E35,9)="Sinh hoạt",LEFT(E35,9)="sinh hoạt",LEFT(E35,6)="Cố vấn",LEFT(E35,6)="cố vấn",LEFT(E35,4)="cvht",LEFT(E35,4)="CVHT",LEFT(E35,4)="shcn",LEFT(E35,4)="SHCN"),0,(IF(AND(H35>0,J35>0),IF(J35>250,1.5,IF(J35>150,1.4,IF(OR(J35>60,MID(F35,3,2)="C3",MID(F35,3,2)="C5",MID(F35,3,2)="C6"),1.3,IF(J35>35,1.2,1)))),0))) -> 0 | L35: =IF(OR(LEFT(E35,2)="ĐA",LEFT(E35,2)="DA",LEFT(E35,5)="Đồ án",LEFT(E35,5)="Đồán "),0,IF(AND(J35>0,I35>0),IF(OR(AND(OR(LEFT(E35,4)="GDQP",LEFT(E35,4)="GDTC",LEFT(E35,4)="gdqp",LEFT(E35,4)="gdtc",LEFT(E35,19)="Giáo dục quốc phòng",LEFT(E35,17)="Giáo dục thể chất"),J35>60),AND(OR(MID(F35,3,2)="C3",MID(F35,3,2)="C5",MID(F35,3,2)="C6"),J35>0)),1.3,IF(AND(OR(LEFT(E35,4)="GDQP",LEFT(E35,4)="gdqp",LEFT(E35,19)="Giáo dục quốc phòng"),J35>35),1.2,IF(AND(OR(LEFT(E35,4)="GDQP",LEFT(E35,4)="gdqp",LEFT(E35,19)="Giáo dục quốc phòng"),J35<=35),1,IF(J35>35,1.2,IF(J35>29,1.1,1))))),0)) -> 0 | M35: =ROUND(IF(AND(MID(F35,3,2)="C3",LEFT(E35,5)="Đồ án"),(J35*0.5)*1.3,IF(OR(LEFT(E35,2)="ĐA",LEFT(E35,2)="DA",LEFT(E35,5)="Đồ án",LEFT(E35,5)="Đồán "),J35*0.5,(IF(H35>0,H35*K35,"0"))+IF(I35>0,(I35*0.75)*L35,"0"))),1) -> 0
K36: =IF(OR(LEFT(E36,2)="ĐA",LEFT(E36,2)="DA",LEFT(E36,5)="Đồ án",LEFT(E36,5)="Đồán ",LEFT(E36,9)="Sinh hoạt",LEFT(E36,9)="sinh hoạt",LEFT(E36,6)="Cố vấn",LEFT(E36,6)="cố vấn",LEFT(E36,4)="cvht",LEFT(E36,4)="CVHT",LEFT(E36,4)="shcn",LEFT(E36,4)="SHCN"),0,(IF(AND(H36>0,J36>0),IF(J36>250,1.5,IF(J36>150,1.4,IF(OR(J36>60,MID(F36,3,2)="C3",MID(F36,3,2)="C5",MID(F36,3,2)="C6"),1.3,IF(J36>35,1.2,1)))),0))) -> 0 | L36: =IF(OR(LEFT(E36,2)="ĐA",LEFT(E36,2)="DA",LEFT(E36,5)="Đồ án",LEFT(E36,5)="Đồán "),0,IF(AND(J36>0,I36>0),IF(OR(AND(OR(LEFT(E36,4)="GDQP",LEFT(E36,4)="GDTC",LEFT(E36,4)="gdqp",LEFT(E36,4)="gdtc",LEFT(E36,19)="Giáo dục quốc phòng",LEFT(E36,17)="Giáo dục thể chất"),J36>60),AND(OR(MID(F36,3,2)="C3",MID(F36,3,2)="C5",MID(F36,3,2)="C6"),J36>0)),1.3,IF(AND(OR(LEFT(E36,4)="GDQP",LEFT(E36,4)="gdqp",LEFT(E36,19)="Giáo dục quốc phòng"),J36>35),1.2,IF(AND(OR(LEFT(E36,4)="GDQP",LEFT(E36,4)="gdqp",LEFT(E36,19)="Giáo dục quốc phòng"),J36<=35),1,IF(J36>35,1.2,IF(J36>29,1.1,1))))),0)) -> 0 | M36: =ROUND(IF(AND(MID(F36,3,2)="C3",LEFT(E36,5)="Đồ án"),(J36*0.5)*1.3,IF(OR(LEFT(E36,2)="ĐA",LEFT(E36,2)="DA",LEFT(E36,5)="Đồ án",LEFT(E36,5)="Đồán "),J36*0.5,(IF(H36>0,H36*K36,"0"))+IF(I36>0,(I36*0.75)*L36,"0"))),1) -> 0
... K50: =IF(OR(LEFT(E50,2)="ĐA",LEFT(E50,2)="DA",LEFT(E50,5)="Đồ án",LEFT(E50,5)="Đồán ",LEFT(E50,9)="Sinh hoạt",LEFT(E50,9)="sinh hoạt",LEFT(E50,6)="Cố vấn",LEFT(E50,6)="cố vấn",LEFT(E50,4)="cvht",LEFT(E50,4)="CVHT",LEFT(E50,4)="shcn",LEFT(E50,4)="SHCN"),0,(IF(AND(H50>0,J50>0),IF(J50>250,1.5,IF(J50>150,1.4,IF(OR(J50>60,MID(F50,3,2)="C3",MID(F50,3,2)="C5",MID(F50,3,2)="C6"),1.3,IF(J50>35,1.2,1)))),0))) -> 0 | L50: =IF(OR(LEFT(E50,2)="ĐA",LEFT(E50,2)="DA",LEFT(E50,5)="Đồ án",LEFT(E50,5)="Đồán "),0,IF(AND(J50>0,I50>0),IF(OR(AND(OR(LEFT(E50,4)="GDQP",LEFT(E50,4)="GDTC",LEFT(E50,4)="gdqp",LEFT(E50,4)="gdtc",LEFT(E50,19)="Giáo dục quốc phòng",LEFT(E50,17)="Giáo dục thể chất"),J50>60),AND(OR(MID(F50,3,2)="C3",MID(F50,3,2)="C5",MID(F50,3,2)="C6"),J50>0)),1.3,IF(AND(OR(LEFT(E50,4)="GDQP",LEFT(E50,4)="gdqp",LEFT(E50,19)="Giáo dục quốc phòng"),J50>35),1.2,IF(AND(OR(LEFT(E50,4)="GDQP",LEFT(E50,4)="gdqp",LEFT(E50,19)="Giáo dục quốc phòng"),J50<=35),1,IF(J50>35,1.2,IF(J50>29,1.1,1))))),0)) -> 0 | M50: =ROUND(IF(AND(MID(F50,3,2)="C3",LEFT(E50,5)="Đồ án"),(J50*0.5)*1.3,IF(OR(LEFT(E50,2)="ĐA",LEFT(E50,2)="DA",LEFT(E50,5)="Đồ án",LEFT(E50,5)="Đồán "),J50*0.5,(IF(H50>0,H50*K50,"0"))+IF(I50>0,(I50*0.75)*L50,"0"))),1) -> 0
A51: 2 | B51: Trần Nam | C51: Anh | K51: =IF(OR(LEFT(E51,2)="ĐA",LEFT(E51,2)="DA",LEFT(E51,5)="Đồ án",LEFT(E51,5)="Đồán ",LEFT(E51,9)="Sinh hoạt",LEFT(E51,9)="sinh hoạt",LEFT(E51,6)="Cố vấn",LEFT(E51,6)="cố vấn",LEFT(E51,4)="cvht",LEFT(E51,4)="CVHT",LEFT(E51,4)="shcn",LEFT(E51,4)="SHCN"),0,(IF(AND(H51>0,J51>0),IF(J51>250,1.5,IF(J51>150,1.4,IF(OR(J51>60,MID(F51,3,2)="C3",MID(F51,3,2)="C5",MID(F51,3,2)="C6"),1.3,IF(J51>35,1.2,1)))),0))) -> 0 | L51: =IF(OR(LEFT(E51,2)="ĐA",LEFT(E51,2)="DA",LEFT(E51,5)="Đồ án",LEFT(E51,5)="Đồán "),0,IF(AND(J51>0,I51>0),IF(OR(AND(OR(LEFT(E51,4)="GDQP",LEFT(E51,4)="GDTC",LEFT(E51,4)="gdqp",LEFT(E51,4)="gdtc",LEFT(E51,19)="Giáo dục quốc phòng",LEFT(E51,17)="Giáo dục thể chất"),J51>60),AND(OR(MID(F51,3,2)="C3",MID(F51,3,2)="C5",MID(F51,3,2)="C6"),J51>0)),1.3,IF(AND(OR(LEFT(E51,4)="GDQP",LEFT(E51,4)="gdqp",LEFT(E51,19)="Giáo dục quốc phòng"),J51>35),1.2,IF(AND(OR(LEFT(E51,4)="GDQP",LEFT(E51,4)="gdqp",LEFT(E51,19)="Giáo dục quốc phòng"),J51<=35),1,IF(J51>35,1.2,IF(J51>29,1.1,1))))),0)) -> 0 | M51: =ROUND(IF(AND(MID(F51,3,2)="C3",LEFT(E51,5)="Đồ án"),(J51*0.5)*1.3,IF(OR(LEFT(E51,2)="ĐA",LEFT(E51,2)="DA",LEFT(E51,5)="Đồ án",LEFT(E51,5)="Đồán "),J51*0.5,(IF(H51>0,H51*K51,"0"))+IF(I51>0,(I51*0.75)*L51,"0"))),1) -> 0 | N51: =T51*15%+22 -> 22 | O51: 0 | P51: =SUM(M51:M90)+N51+O51 -> 527 | Q51: 0 | R51: 0 | S51: =IF('Mau B2'!I12>54,54,'Mau B2'!I12) -> 0 | T51: =IF(J51<1,0,IF(OR(LEFT(E51,4)="Toán",LEFT(E51,3)="Vật",LEFT(E51,4)="Hóa",LEFT(E51,3)="Hóa",LEFT(E51,7)="Ngữ văn"),629,IF(OR(LEFT(E51,2)="GD",LEFT(E51,8)="Giáo dục",LEFT(E51,4)="Pháp",LEFT(E51,9)="chính trị"),450,430))) -> 0 | U51: 450 | V51: =IF(J51<1,0,IF(OR(LEFT(E51,4)="Toán",LEFT(E51,3)="Vật",LEFT(E51,3)="Hóa",LEFT(E51,4)="Hóa",LEFT(E51,7)="Ngữ văn"),51,IF(OR(LEFT(E51,4)="Giáo",LEFT(E51,5)="Giáo",LEFT(E51,4)="Pháp",LEFT(E51,5)="Pháp"),56,54))) -> 0 | W51: 56 | X51: =IF(J51<1,0,IF(OR(LEFT(E51,4)="Toán",LEFT(E51,3)="Vật",LEFT(E51,3)="Hóa",LEFT(E51,4)="Hóa",LEFT(E51,7)="Ngữ văn"),0,IF(OR(LEFT(E51,4)="Giáo",LEFT(E51,5)="Giáo",LEFT(E51,4)="Pháp",LEFT(E51,5)="Pháp"),56,54))) -> 0 | Y51: 56 | Z51: =IF(J51<1,0,IF(OR(LEFT(E51,4)="Toán",LEFT(E51,3)="Vật",LEFT(E51,3)="Hóa",LEFT(E51,4)="Hóa",LEFT(E51,7)="Ngữ văn"),0,IF(OR(LEFT(E51,4)="Giáo",LEFT(E51,5)="Giáo",LEFT(E51,4)="Pháp",LEFT(E51,5)="Pháp"),56,54))) -> 0 | AA51: 56 | AB51: =ROUND((P51-U51),1) -> 77 | AC51: =IF(OR(SUM(W51:W90)="",SUM(Q51:Q90)="",SUM(Y51:Y90)="",SUM(R51:R90)=""),0,IF(OR(SUM(V51:V90)+SUM(X51:X90)=108,SUM(W51:W90)+SUM(Y51:Y90)>0),ROUND((SUM(Q51:Q90)-SUM(W51:W90)+SUM(R51:R90)-SUM(Y51:Y90)),1),0)) -> -112 | AD51: =IF(OR(SUM(AA51:AA90)="",SUM(S51:S90)=""),0,IF(OR(SUM(Z51:Z90)=160,SUM(AA51:AA90)>0),ROUND((SUM(S51:S90)-SUM(AA51:AA90)),1),0)) -> -56 | AE51: 0 | AF51: =SUM(AB51:AD90) -> -91
K52: =IF(OR(LEFT(E52,2)="ĐA",LEFT(E52,2)="DA",LEFT(E52,5)="Đồ án",LEFT(E52,5)="Đồán ",LEFT(E52,9)="Sinh hoạt",LEFT(E52,9)="sinh hoạt",LEFT(E52,6)="Cố vấn",LEFT(E52,6)="cố vấn",LEFT(E52,4)="cvht",LEFT(E52,4)="CVHT",LEFT(E52,4)="shcn",LEFT(E52,4)="SHCN"),0,(IF(AND(H52>0,J52>0),IF(J52>250,1.5,IF(J52>150,1.4,IF(OR(J52>60,MID(F52,3,2)="C3",MID(F52,3,2)="C5",MID(F52,3,2)="C6"),1.3,IF(J52>35,1.2,1)))),0))) -> 0 | L52: =IF(OR(LEFT(E52,2)="ĐA",LEFT(E52,2)="DA",LEFT(E52,5)="Đồ án",LEFT(E52,5)="Đồán "),0,IF(AND(J52>0,I52>0),IF(OR(AND(OR(LEFT(E52,4)="GDQP",LEFT(E52,4)="GDTC",LEFT(E52,4)="gdqp",LEFT(E52,4)="gdtc",LEFT(E52,19)="Giáo dục quốc phòng",LEFT(E52,17)="Giáo dục thể chất"),J52>60),AND(OR(MID(F52,3,2)="C3",MID(F52,3,2)="C5",MID(F52,3,2)="C6"),J52>0)),1.3,IF(AND(OR(LEFT(E52,4)="GDQP",LEFT(E52,4)="gdqp",LEFT(E52,19)="Giáo dục quốc phòng"),J52>35),1.2,IF(AND(OR(LEFT(E52,4)="GDQP",LEFT(E52,4)="gdqp",LEFT(E52,19)="Giáo dục quốc phòng"),J52<=35),1,IF(J52>35,1.2,IF(J52>29,1.1,1))))),0)) -> 0 | M52: =ROUND(IF(AND(MID(F52,3,2)="C3",LEFT(E52,5)="Đồ án"),(J52*0.5)*1.3,IF(OR(LEFT(E52,2)="ĐA",LEFT(E52,2)="DA",LEFT(E52,5)="Đồ án",LEFT(E52,5)="Đồán "),J52*0.5,(IF(H52>0,H52*K52,"0"))+IF(I52>0,(I52*0.75)*L52,"0"))),1) -> 0
E53: KT lắp đặt điện | F53: 20T2-ĐCN1 | G53: 1 | H53: 30 | J53: 32 | K53: =IF(OR(LEFT(E53,2)="ĐA",LEFT(E53,2)="DA",LEFT(E53,5)="Đồ án",LEFT(E53,5)="Đồán ",LEFT(E53,9)="Sinh hoạt",LEFT(E53,9)="sinh hoạt",LEFT(E53,6)="Cố vấn",LEFT(E53,6)="cố vấn",LEFT(E53,4)="cvht",LEFT(E53,4)="CVHT",LEFT(E53,4)="shcn",LEFT(E53,4)="SHCN"),0,(IF(AND(H53>0,J53>0),IF(J53>250,1.5,IF(J53>150,1.4,IF(OR(J53>60,MID(F53,3,2)="C3",MID(F53,3,2)="C5",MID(F53,3,2)="C6"),1.3,IF(J53>35,1.2,1)))),0))) -> 1 | L53: =IF(OR(LEFT(E53,2)="ĐA",LEFT(E53,2)="DA",LEFT(E53,5)="Đồ án",LEFT(E53,5)="Đồán "),0,IF(AND(J53>0,I53>0),IF(OR(AND(OR(LEFT(E53,4)="GDQP",LEFT(E53,4)="GDTC",LEFT(E53,4)="gdqp",LEFT(E53,4)="gdtc",LEFT(E53,19)="Giáo dục quốc phòng",LEFT(E53,17)="Giáo dục thể chất"),J53>60),AND(OR(MID(F53,3,2)="C3",MID(F53,3,2)="C5",MID(F53,3,2)="C6"),J53>0)),1.3,IF(AND(OR(LEFT(E53,4)="GDQP",LEFT(E53,4)="gdqp",LEFT(E53,19)="Giáo dục quốc phòng"),J53>35),1.2,IF(AND(OR(LEFT(E53,4)="GDQP",LEFT(E53,4)="gdqp",LEFT(E53,19)="Giáo dục quốc phòng"),J53<=35),1,IF(J53>35,1.2,IF(J53>29,1.1,1))))),0)) -> 0 | M53: =ROUND(IF(AND(MID(F53,3,2)="C3",LEFT(E53,5)="Đồ án"),(J53*0.5)*1.3,IF(OR(LEFT(E53,2)="ĐA",LEFT(E53,2)="DA",LEFT(E53,5)="Đồ án",LEFT(E53,5)="Đồán "),J53*0.5,(IF(H53>0,H53*K53,"0"))+IF(I53>0,(I53*0.75)*L53,"0"))),1) -> 30
K54: =IF(OR(LEFT(E54,2)="ĐA",LEFT(E54,2)="DA",LEFT(E54,5)="Đồ án",LEFT(E54,5)="Đồán ",LEFT(E54,9)="Sinh hoạt",LEFT(E54,9)="sinh hoạt",LEFT(E54,6)="Cố vấn",LEFT(E54,6)="cố vấn",LEFT(E54,4)="cvht",LEFT(E54,4)="CVHT",LEFT(E54,4)="shcn",LEFT(E54,4)="SHCN"),0,(IF(AND(H54>0,J54>0),IF(J54>250,1.5,IF(J54>150,1.4,IF(OR(J54>60,MID(F54,3,2)="C3",MID(F54,3,2)="C5",MID(F54,3,2)="C6"),1.3,IF(J54>35,1.2,1)))),0))) -> 0 | L54: =IF(OR(LEFT(E54,2)="ĐA",LEFT(E54,2)="DA",LEFT(E54,5)="Đồ án",LEFT(E54,5)="Đồán "),0,IF(AND(J54>0,I54>0),IF(OR(AND(OR(LEFT(E54,4)="GDQP",LEFT(E54,4)="GDTC",LEFT(E54,4)="gdqp",LEFT(E54,4)="gdtc",LEFT(E54,19)="Giáo dục quốc phòng",LEFT(E54,17)="Giáo dục thể chất"),J54>60),AND(OR(MID(F54,3,2)="C3",MID(F54,3,2)="C5",MID(F54,3,2)="C6"),J54>0)),1.3,IF(AND(OR(LEFT(E54,4)="GDQP",LEFT(E54,4)="gdqp",LEFT(E54,19)="Giáo dục quốc phòng"),J54>35),1.2,IF(AND(OR(LEFT(E54,4)="GDQP",LEFT(E54,4)="gdqp",LEFT(E54,19)="Giáo dục quốc phòng"),J54<=35),1,IF(J54>35,1.2,IF(J54>29,1.1,1))))),0)) -> 0 | M54: =ROUND(IF(AND(MID(F54,3,2)="C3",LEFT(E54,5)="Đồ án"),(J54*0.5)*1.3,IF(OR(LEFT(E54,2)="ĐA",LEFT(E54,2)="DA",LEFT(E54,5)="Đồ án",LEFT(E54,5)="Đồán "),J54*0.5,(IF(H54>0,H54*K54,"0"))+IF(I54>0,(I54*0.75)*L54,"0"))),1) -> 0
...

Sheet Mau A2
S1: Mẫu A2
A2: UBND THÀNH PHỐ HỒ CHÍ MINH | L2: CỘNG HÒA XÃ HỘI CHỦ NGHĨA VIỆT NAM
A3: TRƯỜNG CAO ĐẲNG LÝ TỰ TRỌNG THÀNH PHỐ HỒ CHÍ MINH | L3: Độc lập - Tự do - Hạnh phúc
A4: BẢNG TỔNG KẾT KHỐI LƯỢNG CÔNG VIỆC CỦA GIẢNG VIÊN TRONG NĂM HỌC 2020 - 2021
A5: KHOA :
A7: TT | B7: Họ và Tên | D7: Thực hiện trong năm học | K7: Số tiết chuẩn giảng dạy cả năm còn lại | L7: Số tiết chuẩn "Học tập, bồi dưỡng chuẩn hóa, bồi dưỡng nâng cao" còn lại | M7: Số tiết chuẩn "Nghiên cứu khoa học" còn lại | N7: Số tiết chuẩn "Thực tập tại doanh nghiệp hoặc cơ quan chuyên môn" còn lại | O7: Số tiết thừa, thiếu giảng dạy | P7: Số tiết thừa, thiếu "Học tập, bồi dưỡng chuẩn hóa, bồi dưỡng nâng cao, nghiên cứu khoa học" | Q7: Số tiết thừa, thiếu "Thực tập tại doanh nghiệp hoặc cơ quan chuyên môn" | R7: Tổng số tiết thừa, thiếu năm học 2020-2021 | S7: Số tiết thiếu năm học 2019-2020 | T7: Tổng số tiết thừa, thiếu (sau khi cộng số tiết thiếu năm học 2019-2020)
D8: Số tiết quy đổi và đã nhân hệ số | E8: Kiêm nhiệm | F8: Số tiết soạn đề, coi thi, chấm thi | G8: Tổng tiết thực hiện | H8: Số tiết "Học tập, bồi dưỡng chuẩn hóa, bồi dưỡng nâng cao" | I8: Số tiết "Nghiên cứu khoa học" | J8: Số tiết "Thực tập tại doanh nghiệp hoặc cơ quan chuyên môn"
T9: Khối lượng vượt giờ (tính phụ trội) | U9: Khối lượng thỉnh giảng (tiết thỉnh giảng) | V9: Số tiết thiếu năm học 2020-2021
A10: (1) | B10: (2) | D10: (3) | E10: (4) | F10: (5) | G10: (6) | H10: (7) | I10: (8) | J10: (9) | K10: (10) | L10: (11) | M10: (12) | N10: (13) | O10: (14) | P10: (15) | Q10: (16) | S10: (17) | T10: (18) | U10: (19) | V10: (20)
A11: 1 | B11: =IF('Mau A1'!B11="","",'Mau A1'!B11) -> Ngô Hoàng | C11: =IF('Mau A1'!C11="","",'Mau A1'!C11) -> Anh | D11: =SUM('Mau A1'!M11:M50) -> 543.6 | E11: =SUM('Mau A1'!N11:N50) -> 64.5 | F11: =SUM('Mau A1'!O11:O50) -> 0 | G11: =SUM('Mau A1'!P11:P50) -> 608.1 | H11: =SUM('Mau A1'!Q11:Q50) -> 0 | I11: =SUM('Mau A1'!R11:R50) -> 0 | J11: =SUM('Mau A1'!S11:S50) -> 0 | K11: =SUM('Mau A1'!U11:U50) -> 629 | L11: =SUM('Mau A1'!W11:W50) -> 51 | M11: =SUM('Mau A1'!Y11:Y50) -> 0 | N11: =SUM('Mau A1'!AA11:AA50) -> 0 | O11: =SUM('Mau A1'!AB11:AB50) -> -20.9 | P11: =SUM('Mau A1'!AC11:AC50) -> -51 | Q11: =SUM('Mau A1'!AD11:AD50) -> 0 | R11: =SUM('Mau A1'!AF11:AF50) -> -71.9 | S11: =SUM('Mau A1'!AE11:AE50) -> 0 | T11: =ROUND(IF(OR((O11+P11+Q11)-S11<=0,R11-F11<0),"0",IF(OR(AND(0<O11<200,0<(O11-S11)<200,P11>=0,Q11>=0),AND((O11-S11)>200,R11<200),AND(O11-S11<200,R11<O11)),O11-S11+P11+Q11,IF(AND(R11>0,R11>200,F11>=0,(R11-S11)>200),"200",IF(OR(AND(P11<0,Q11=0,R11-S11<200),AND(P11=0,Q11<0,F11>0,R11-S11<200),AND(P11<0,Q11<0,F11>0,R11-S11<=200)),R11-S11-F11,R11-S11-F11-P11-Q11)))),1) -> 0 | U11: =ROUND(IF(AND(R11>0,T11=200),R11-S11-T11,IF(AND(P11>0,Q11>0,O11<=0,T11=0),R11-S11+P11,IF(AND(R11>0,P11>0,T11=200),R11-S11-T11+P11,IF(AND(R11>0,T11<200,OR(P11>0,F11>0)),R11-S11-T11,)))),1) -> 0 | V11: =ROUND(IF(SUM(O11:Q11)-S11<0,SUM(O11:Q11)-S11,),1) -> -71.9
A12: 2 | B12: =IF('Mau A1'!B51="","",'Mau A1'!B51) -> Trần Nam | C12: =IF('Mau A1'!C51="","",'Mau A1'!C51) -> Anh | D12: =SUM('Mau A1'!M51:M90) -> 505 | E12: =SUM('Mau A1'!N51:N90) -> 22 | F12: =SUM('Mau A1'!O51:O90) -> 0 | G12: =SUM('Mau A1'!P51:P90) -> 527 | H12: =SUM('Mau A1'!Q51:Q90) -> 0 | I12: =SUM('Mau A1'!R51:R90) -> 0 | J12: =SUM('Mau A1'!S51:S90) -> 0 | K12: =SUM('Mau A1'!U51:U90) -> 450 | L12: =SUM('Mau A1'!W51:W90) -> 56 | M12: =SUM('Mau A1'!Y51:Y90) -> 56 | N12: =SUM('Mau A1'!AA51:AA90) -> 56 | O12: =SUM('Mau A1'!AB51:AB90) -> 77 | P12: =SUM('Mau A1'!AC51:AC90) -> -112 | Q12: =SUM('Mau A1'!AD51:AD90) -> -56 | R12: =SUM('Mau A1'!AF51:AF90) -> -91 | S12: =SUM('Mau A1'!AE51:AE90) -> 0 | T12: =ROUND(IF(OR((O12+P12+Q12)-S12<=0,R12-F12<0),"0",IF(OR(AND(0<O12<200,0<(O12-S12)<200,P12>=0,Q12>=0),AND((O12-S12)>200,R12<200),AND(O12-S12<200,R12<O12)),O12-S12+P12+Q12,IF(AND(R12>0,R12>200,F12>=0,(R12-S12)>200),"200",IF(OR(AND(P12<0,Q12=0,R12-S12<200),AND(P12=0,Q12<0,F12>0,R12-S12<200),AND(P12<0,Q12<0,F12>0,R12-S12<=200)),R12-S12-F12,R12-S12-F12-P12-Q12)))),1) -> 0 | U12: =ROUND(IF(AND(R12>0,T12=200),R12-S12-T12,IF(AND(P12>0,Q12>0,O12<=0,T12=0),R12-S12+P12,IF(AND(R12>0,P12>0,T12=200),R12-S12-T12+P12,IF(AND(R12>0,T12<200,OR(P12>0,F12>0)),R12-S12-T12,)))),1) -> 0 | V12: =ROUND(IF(SUM(O12:Q12)-S12<0,SUM(O12:Q12)-S12,),1) -> -91
A13: 3 | B13: =IF('Mau A1'!B91="","",'Mau A1'!B91) -> Vũ Hạnh | C13: =IF('Mau A1'!C91="","",'Mau A1'!C91) -> Chiêu | D13: =SUM('Mau A1'!M91:M130) -> 346.2 | E13: =SUM('Mau A1'!N91:N130) -> 0 | F13: =SUM('Mau A1'!O91:O130) -> 0 | G13: =SUM('Mau A1'!P91:P130) -> 346.2 | H13: =SUM('Mau A1'!Q91:Q130) -> 0 | I13: =SUM('Mau A1'!R91:R130) -> 10 | J13: =SUM('Mau A1'!S91:S130) -> 0 | K13: =SUM('Mau A1'!U91:U130) -> 629 | L13: =SUM('Mau A1'!W91:W130) -> 51 | M13: =SUM('Mau A1'!Y91:Y130) -> 0 | N13: =SUM('Mau A1'!AA91:AA130) -> 0 | O13: =SUM('Mau A1'!AB91:AB130) -> -282.8 | P13: =SUM('Mau A1'!AC91:AC130) -> -41 | Q13: =SUM('Mau A1'!AD91:AD130) -> 0 | R13: =SUM('Mau A1'!AF91:AF130) -> -323.8 | S13: =SUM('Mau A1'!AE91:AE130) -> 0 | T13: =ROUND(IF(OR((O13+P13+Q13)-S13<=0,R13-F13<0),"0",IF(OR(AND(0<O13<200,0<(O13-S13)<200,P13>=0,Q13>=0),AND((O13-S13)>200,R13<200),AND(O13-S13<200,R13<O13)),O13-S13+P13+Q13,IF(AND(R13>0,R13>200,F13>=0,(R13-S13)>200),"200",IF(OR(AND(P13<0,Q13=0,R13-S13<200),AND(P13=0,Q13<0,F13>0,R13-S13<200),AND(P13<0,Q13<0,F13>0,R13-S13<=200)),R13-S13-F13,R13-S13-F13-P13-Q13)))),1) -> 0 | U13: =ROUND(IF(AND(R13>0,T13=200),R13-S13-T13,IF(AND(P13>0,Q13>0,O13<=0,T13=0),R13-S13+P13,IF(AND(R13>0,P13>0,T13=200),R13-S13-T13+P13,IF(AND(R13>0,T13<200,OR(P13>0,F13>0)),R13-S13-T13,)))),1) -> 0 | V13: =ROUND(IF(SUM(O13:Q13)-S13<0,SUM(O13:Q13)-S13,),1) -> -323.8
A14: 4 | B14: =IF('Mau A1'!B131="","",'Mau A1'!B131) -> Ngô Phong | C14: =IF('Mau A1'!C131="","",'Mau A1'!C131) -> Cường | D14: =SUM('Mau A1'!M131:M170) -> 406.5 | E14: =SUM('Mau A1'!N131:N170) -> 0 | F14: =SUM('Mau A1'!O131:O170) -> 0 | G14: =SUM('Mau A1'!P131:P170) -> 406.5 | H14: =SUM('Mau A1'!Q131:Q170) -> 0 | I14: =SUM('Mau A1'!R131:R170) -> 0 | J14: =SUM('Mau A1'!S131:S170) -> 0 | K14: =SUM('Mau A1'!U131:U170) -> 629 | L14: =SUM('Mau A1'!W131:W170) -> 51 | M14: =SUM('Mau A1'!Y131:Y170) -> 0 | N14: =SUM('Mau A1'!AA131:AA170) -> 0 | O14: =SUM('Mau A1'!AB131:AB170) -> -222.5 | P14: =SUM('Mau A1'!AC131:AC170) -> -51 | Q14: =SUM('Mau A1'!AD131:AD170) -> 0 | R14: =SUM('Mau A1'!AF131:AF170) -> -273.5 | S14: =SUM('Mau A1'!AE131:AE170) -> 0 | T14: =ROUND(IF(OR((O14+P14+Q14)-S14<=0,R14-F14<0),"0",IF(OR(AND(0<O14<200,0<(O14-S14)<200,P14>=0,Q14>=0),AND((O14-S14)>200,R14<200),AND(O14-S14<200,R14<O14)),O14-S14+P14+Q14,IF(AND(R14>0,R14>200,F14>=0,(R14-S14)>200),"200",IF(OR(AND(P14<0,Q14=0,R14-S14<200),AND(P14=0,Q14<0,F14>0,R14-S14<200),AND(P14<0,Q14<0,F14>0,R14-S14<=200)),R14-S14-F14,R14-S14-F14-P14-Q14)))),1) -> 0 | U14: =ROUND(IF(AND(R14>0,T14=200),R14-S14-T14,IF(AND(P14>0,Q14>0,O14<=0,T14=0),R14-S14+P14,IF(AND(R14>0,P14>0,T14=200),R14-S14-T14+P14,IF(AND(R14>0,T14<200,OR(P14>0,F14>0)),R14-S14-T14,)))),1) -> 0 | V14: =ROUND(IF(SUM(O14:Q14)-S14<0,SUM(O14:Q14)-S14,),1) -> -273.5
A15: 5 | B15: =IF('Mau A1'!B171="","",'Mau A1'!B171) -> Nguyễn Minh Đức | C15: =IF('Mau A1'!C171="","",'Mau A1'!C171) -> Cường | D15: =SUM('Mau A1'!M171:M210) -> 539.8 | E15: =SUM('Mau A1'!N171:N210) -> 0 | F15: =SUM('Mau A1'!O171:O210) -> 0 | G15: =SUM('Mau A1'!P171:P210) -> 539.8 | H15: =SUM('Mau A1'!Q171:Q210) -> 54 | I15: =SUM('Mau A1'!R171:R210) -> 0 | J15: =SUM('Mau A1'!S171:S210) -> 0 | K15: =SUM('Mau A1'!U171:U210) -> 430 | L15: =SUM('Mau A1'!W171:W210) -> 0 | M15: =SUM('Mau A1'!Y171:Y210) -> 54 | N15: =SUM('Mau A1'!AA171:AA210) -> 54 | O15: =SUM('Mau A1'!AB171:AB210) -> 109.8 | P15: =SUM('Mau A1'!AC171:AC210) -> 0 | Q15: =SUM('Mau A1'!AD171:AD210) -> -54 | R15: =SUM('Mau A1'!AF171:AF210) -> 55.8 | S15: =SUM('Mau A1'!AE171:AE210) -> 0 | T15: =ROUND(IF(OR((O15+P15+Q15)-S15<=0,R15-F15<0),"0",IF(OR(AND(0<O15<200,0<(O15-S15)<200,P15>=0,Q15>=0),AND((O15-S15)>200,R15<200),AND(O15-S15<200,R15<O15)),O15-S15+P15+Q15,IF(AND(R15>0,R15>200,F15>=0,(R15-S15)>200),"200",IF(OR(AND(P15<0,Q15=0,R15-S15<200),AND(P15=0,Q15<0,F15>0,R15-S15<200),AND(P15<0,Q15<0,F15>0,R15-S15<=200)),R15-S15-F15,R15-S15-F15-P15-Q15)))),1) -> 55.8 | U15: =ROUND(IF(AND(R15>0,T15=200),R15-S15-T15,IF(AND(P15>0,Q15>0,O15<=0,T15=0),R15-S15+P15,IF(AND(R15>0,P15>0,T15=200),R15-S15-T15+P15,IF(AND(R15>0,T15<200,OR(P15>0,F15>0)),R15-S15-T15,)))),1) -> 0 | V15: =ROUND(IF(SUM(O15:Q15)-S15<0,SUM(O15:Q15)-S15,),1) -> 0
A16: 6 | B16: =IF('Mau A1'!B211="","",'Mau A1'!B211) -> Tạ Minh | C16: =IF('Mau A1'!C211="","",'Mau A1'!C211) -> Cường | D16: =SUM('Mau A1'!M211:M250) -> 446.3 | E16: =SUM('Mau A1'!N211:N250) -> 0 | F16: =SUM('Mau A1'!O211:O250) -> 0 | G16: =SUM('Mau A1'!P211:P250) -> 446.3 | H16: =SUM('Mau A1'!Q211:Q250) -> 0 | I16: =SUM('Mau A1'!R211:R250) -> 0 | J16: =SUM('Mau A1'!S211:S250) -> 0 | K16: =SUM('Mau A1'!U211:U250) -> 629 | L16: =SUM('Mau A1'!W211:W250) -> 51 | M16: =SUM('Mau A1'!Y211:Y250) -> 0 | N16: =SUM('Mau A1'!AA211:AA250) -> 0 | O16: =SUM('Mau A1'!AB211:AB250) -> -182.7 | P16: =SUM('Mau A1'!AC211:AC250) -> -51 | Q16: =SUM('Mau A1'!AD211:AD250) -> 0 | R16: =SUM('Mau A1'!AF211:AF250) -> -233.7 | S16: =SUM('Mau A1'!AE211:AE250) -> 0 | T16: =ROUND(IF(OR((O16+P16+Q16)-S16<=0,R16-F16<0),"0",IF(OR(AND(0<O16<200,0<(O16-S16)<200,P16>=0,Q16>=0),AND((O16-S16)>200,R16<200),AND(O16-S16<200,R16<O16)),O16-S16+P16+Q16,IF(AND(R16>0,R16>200,F16>=0,(R16-S16)>200),"200",IF(OR(AND(P16<0,Q16=0,R16-S16<200),AND(P16=0,Q16<0,F16>0,R16-S16<200),AND(P16<0,Q16<0,F16>0,R16-S16<=200)),R16-S16-F16,R16-S16-F16-P16-Q16)))),1) -> 0 | U16: =ROUND(IF(AND(R16>0,T16=200),R16-S16-T16,IF(AND(P16>0,Q16>0,O16<=0,T16=0),R16-S16+P16,IF(AND(R16>0,P16>0,T16=200),R16-S16-T16+P16,IF(AND(R16>0,T16<200,OR(P16>0,F16>0)),R16-S16-T16,)))),1) -> 0 | V16: =ROUND(IF(SUM(O16:Q16)-S16<0,SUM(O16:Q16)-S16,),1) -> -233.7
A17: 7 | B17: =IF('Mau A1'!B251="","",'Mau A1'!B251) -> Võ | C17: =IF('Mau A1'!C251="","",'Mau A1'!C251) -> Cường | D17: =SUM('Mau A1'!M251:M290) -> 516.1 | E17: =SUM('Mau A1'!N251:N290) -> 0 | F17: =SUM('Mau A1'!O251:O290) -> 0 | G17: =SUM('Mau A1'!P251:P290) -> 516.1 | H17: =SUM('Mau A1'!Q251:Q290) -> 54 | I17: =SUM('Mau A1'!R251:R290) -> 0 | J17: =SUM('Mau A1'!S251:S290) -> 0 | K17: =SUM('Mau A1'!U251:U290) -> 155.2 | L17: =SUM('Mau A1'!W251:W290) -> 0 | M17: =SUM('Mau A1'!Y251:Y290) -> 54 | N17: =SUM('Mau A1'!AA251:AA290) -> 54 | O17: =SUM('Mau A1'!AB251:AB290) -> 360.9 | P17: =SUM('Mau A1'!AC251:AC290) -> 0 | Q17: =SUM('Mau A1'!AD251:AD290) -> -54 | R17: =SUM('Mau A1'!AF251:AF290) -> 306.9 | S17: =SUM('Mau A1'!AE251:AE290) -> 41.3 | T17: =ROUND(IF(OR((O17+P17+Q17)-S17<=0,R17-F17<0),"0",IF(OR(AND(0<O17<200,0<(O17-S17)<200,P17>=0,Q17>=0),AND((O17-S17)>200,R17<200),AND(O17-S17<200,R17<O17)),O17-S17+P17+Q17,IF(AND(R17>0,R17>200,F17>=0,(R17-S17)>200),"200",IF(OR(AND(P17<0,Q17=0,R17-S17<200),AND(P17=0,Q17<0,F17>0,R17-S17<200),AND(P17<0,Q17<0,F17>0,R17-S17<=200)),R17-S17-F17,R17-S17-F17-P17-Q17)))),1) -> 200 | U17: =ROUND(IF(AND(R17>0,T17=200),R17-S17-T17,IF(AND(P17>0,Q17>0,O17<=0,T17=0),R17-S17+P17,IF(AND(R17>0,P17>0,T17=200),R17-S17-T17+P17,IF(AND(R17>0,T17<200,OR(P17>0,F17>0)),R17-S17-T17,)))),1) -> 65.6 | V17: =ROUND(IF(SUM(O17:Q17)-S17<0,SUM(O17:Q17)-S17,),1) -> 0
A18: 8 | B18: =IF('Mau A1'!B291="","",'Mau A1'!B291) -> Lê Tiến | C18: =IF('Mau A1'!C291="","",'Mau A1'!C291) -> Đạt | D18: =SUM('Mau A1'!M291:M330) -> 402.8 | E18: =SUM('Mau A1'!N291:N330) -> 0 | F18: =SUM('Mau A1'!O291:O330) -> 0 | G18: =SUM('Mau A1'!P291:P330) -> 402.8 | H18: =SUM('Mau A1'!Q291:Q330) -> 10.9 | I18: =SUM('Mau A1'!R291:R330) -> 0 | J18: =SUM('Mau A1'!S291:S330) -> 0 | K18: =SUM('Mau A1'!U291:U330) -> 366.9 | L18: =SUM('Mau A1'!W291:W330) -> 40.1 | M18: =SUM('Mau A1'!Y291:Y330) -> 0 | N18: =SUM('Mau A1'!AA291:AA330) -> 0 | O18: =SUM('Mau A1'!AB291:AB330) -> 35.9 | P18: =SUM('Mau A1'!AC291:AC330) -> -29.2 | Q18: =SUM('Mau A1'!AD291:AD330) -> 0 | R18: =SUM('Mau A1'!AF291:AF330) -> 6.7 | S18: =SUM('Mau A1'!AE291:AE330) -> 0 | T18: =ROUND(IF(OR((O18+P18+Q18)-S18<=0,R18-F18<0),"0",IF(OR(AND(0<O18<200,0<(O18-S18)<200,P18>=0,Q18>=0),AND((O18-S18)>200,R18<200),AND(O18-S18<200,R18<O18)),O18-S18+P18+Q18,IF(AND(R18>0,R18>200,F18>=0,(R18-S18)>200),"200",IF(OR(AND(P18<0,Q18=0,R18-S18<200),AND(P18=0,Q18<0,F18>0,R18-S18<200),AND(P18<0,Q18<0,F18>0,R18-S18<=200)),R18-S18-F18,R18-S18-F18-P18-Q18)))),1) -> 6.7 | U18: =ROUND(IF(AND(R18>0,T18=200),R18-S18-T18,IF(AND(P18>0,Q18>0,O18<=0,T18=0),R18-S18+P18,IF(AND(R18>0,P18>0,T18=200),R18-S18-T18+P18,IF(AND(R18>0,T18<200,OR(P18>0,F18>0)),R18-S18-T18,)))),1) -> 0 | V18: =ROUND(IF(SUM(O18:Q18)-S18<0,SUM(O18:Q18)-S18,),1) -> 0
A19: 9 | B19: =IF('Mau A1'!B331="","",'Mau A1'!B331) -> Nguyễn Hồng | C19: =IF('Mau A1'!C331="","",'Mau A1'!C331) -> Đức | D19: =SUM('Mau A1'!M331:M370) -> 411.1 | E19: =SUM('Mau A1'!N331:N370) -> 0 | F19: =SUM('Mau A1'!O331:O370) -> 0 | G19: =SUM('Mau A1'!P331:P370) -> 411.1 | H19: =SUM('Mau A1'!Q331:Q370) -> 0 | I19: =SUM('Mau A1'!R331:R370) -> 0 | J19: =SUM('Mau A1'!S331:S370) -> 0 | K19: =SUM('Mau A1'!U331:U370) -> 450 | L19: =SUM('Mau A1'!W331:W370) -> 56 | M19: =SUM('Mau A1'!Y331:Y370) -> 56 | N19: =SUM('Mau A1'!AA331:AA370) -> 56 | O19: =SUM('Mau A1'!AB331:AB370) -> -38.9 | P19: =SUM('Mau A1'!AC331:AC370) -> -112 | Q19: =SUM('Mau A1'!AD331:AD370) -> -56 | R19: =SUM('Mau A1'!AF331:AF370) -> -206.9 | S19: =SUM('Mau A1'!AE331:AE370) -> 0 | T19: =ROUND(IF(OR((O19+P19+Q19)-S19<=0,R19-F19<0),"0",IF(OR(AND(0<O19<200,0<(O19-S19)<200,P19>=0,Q19>=0),AND((O19-S19)>200,R19<200),AND(O19-S19<200,R19<O19)),O19-S19+P19+Q19,IF(AND(R19>0,R19>200,F19>=0,(R19-S19)>200),"200",IF(OR(AND(P19<0,Q19=0,R19-S19<200),AND(P19=0,Q19<0,F19>0,R19-S19<200),AND(P19<0,Q19<0,F19>0,R19-S19<=200)),R19-S19-F19,R19-S19-F19-P19-Q19)))),1) -> 0 | U19: =ROUND(IF(AND(R19>0,T19=200),R19-S19-T19,IF(AND(P19>0,Q19>0,O19<=0,T19=0),R19-S19+P19,IF(AND(R19>0,P19>0,T19=200),R19-S19-T19+P19,IF(AND(R19>0,T19<200,OR(P19>0,F19>0)),R19-S19-T19,)))),1) -> 0 | V19: =ROUND(IF(SUM(O19:Q19)-S19<0,SUM(O19:Q19)-S19,),1) -> -206.9
