Workbook

Sheet Hướng dẫn
A1: HƯỚNG DẪN CHUNG CHO BỘ BIỂU MẪU TÍNH KHỐI LƯỢNG GIẢNG VIÊN
A2: I. YÊU CẦU BẮT BUỘC
A3: - Các dữ liệu của bộ biểu mẫu phải được ghép lại thành 1 file excel duy nhất, trong đó từng sheet là một mẫu tính khác nhau.
A4: - Trong các bảng tổng hợp mẫu A1,2: thứ tự tên GV giữa các bảng tính giống nhau.
A5: - Mỗi Giảng viên có 40 dòng để khai báo dữ liệu công tác giảng dạy, sinh hoạt chủ nhiệm, cố vấn học tập, … trong mẫu A1
A6: - Học phần: Giáo dục thể chất có thể viết tắt thành GDTC; Giáo dục quốc phòng - An ninh có thể viết tắt thành GDQP
A7: - Công tác: Cố vấn học tập hoặc Sinh hoạt chủ nhiệm --> Viết đúng tên hoặc có thể được viết tắt thành CVHT, SHCN. Cột sĩ số: để trống
A8: - Dữ liệu minh họa cách tính: Phải mở cột ẩn và xóa các dữ liệu minh họa trong file Phòng TS-ĐT gửi để đảm bảo tính chính xác dữ liệu trước khi dán dữ liệu hoặc in các bảng tính.
A9: - Các cột được tô màu: ở mẫu A1 (D, J, T, V,X,Z): Điền đầy đủ thông tin. Phải ẩn (Hide) trước khi in.
A10: II. BỘ MẪU A
A11: + Mẫu A1: Bảng tính khối lượng công việc của Giảng viên trong năm học.
A12: Từ dự kiến khối lượng công việc của Giảng viên trong năm học 2020-2021 Phòng TS-ĐT đã gửi mẫu cho các khoa: Coppy dữ liệu khoa đã có sẳn dán vào các cột (2), cột D, cột (3), (4), (5), (6), (7), cột J, cột (11), (12), (14), (15), cột (17), cột (18), cột (19), cột (20) và cột (24) nếu có
... A40: LƯU Ý: Trong quá trình thao tác trên các biểu mẫu, nếu có thắc mắc xin liên hệ qua địa chỉ E-office hoặc Phòng Tuyển sinh - Đào tạo

Sheet Mau A1
AE1: Mẫu A1
A2: UBND THÀNH PHỐ HỒ CHÍ MINH | W2: CỘNG HÒA XÃ HỘI CHỦ NGHĨA VIỆT NAM
A3: TRƯỜNG CAO ĐẲNG LÝ TỰ TRỌNG THÀNH PHỐ HỒ CHÍ MINH | W3: Độc lập - Tự do - Hạnh phúc
A4: BẢNG TÍNH KHỐI LƯỢNG CÔNG VIỆC CỦA GIẢNG VIÊN TRONG NĂM HỌC 2020 - 2021
A5: KHOA :
A7: TT | B7: Họ và Tên | E7: Môn dạy | F7: lớp dạy | G7: Học kỳ | H7: Thực hiện trong năm học | T7: Số tiết chuẩn giảng dạy | U7: Số tiết chuẩn giảng dạy còn lại | V7: Số tiết chuẩn "Học tập, bồi dưỡng chuẩn hóa, bồi dưỡng nâng cao" | W7: Số tiết chuẩn "Học tập, bồi dưỡng chuẩn hóa, bồi dưỡng nâng cao" còn lại | X7: Số tiết chuẩn "Nghiên cứu khoa học" | Y7: Số tiết chuẩn "Nghiên cứu khoa học" còn lại | Z7: Số tiết chuẩn "Thực tập tại doanh nghiệp hoặc cơ quan chuyên môn" | AA7: Số tiết chuẩn "Thực tập tại doanh nghiệp hoặc cơ quan chuyên môn" còn lại | AB7: Số tiết thừa, thiếu giảng dạy | AC7: Số tiết thừa, thiếu "Học tập, bồi dưỡng chuẩn hóa, bồi dưỡng nâng cao, nghiên cứu khoa học" | AD7: Số tiết thừa, thiếu "Thực tập tại doanh nghiệp hoặc cơ quan chuyên môn" | AE7: Số tiết thiếu năm học 2019-2020 | AF7: Tổng số tiết thừa, thiếu năm học 2020-2021
D8: MÃ LỚP HP | H8: Chưa nhân hệ số | J8: Sĩ số LHP | K8: Hệ số | M8: Số tiết quy đổi và đã nhân hệ số | N8: Kiêm nhiệm | O8: Số tiết soạn đề, coi thi, chấm thi | P8: Tổng tiết thực hiện | Q8: Số tiết "Học tập, bồi dưỡng chuẩn hóa, bồi dưỡng nâng cao" | R8: Số tiết "Nghiên cứu khoa học" | S8: Số tiết "Thực tập tại doanh nghiệp hoặc cơ quan chuyên môn"
H9: LT | I9: TH | J9: Chính thức và học lại | K9: LT | L9: TH
A10: (1) | B10: (2) | E10: (3) | F10: (4) | G10: (5) | H10: (6) | I10: (7) | K10: (8) | L10: (9) | M10: (10) | N10: (11) | O10: (12) | P10: (13) | Q10: (14) | R10: (15) | S10: (16) | U10: (17) | W10: (18) | Y10: (19) | AA10: (20) | AB10: (21) | AC10: (22) | AD10: (23) | AE10: (24) | AF10: (25)
A11: 1 | B11: Ngô Hoàng | C11: Anh | E11: Máy điện | F11: 20T4-ĐĐT1 | G11: 1 | H11: 60 | J11: 57 | K11: =IF(OR(LEFT(E11,2)="ĐA",LEFT(E11,2)="DA",LEFT(E11,5)="Đồ án",LEFT(E11,5)="Đồán ",LEFT(E11,9)="Sinh hoạt",LEFT(E11,9)="sinh hoạt",LEFT(E11,6)="Cố vấn",LEFT(E11,6)="cố vấn",LEFT(E11,4)="cvht",LEFT(E11,4)="CVHT",LEFT(E11,4)="shcn",LEFT(E11,4)="SHCN"),0,(IF(AND(H11>0,J11>0),IF(J11>250,1.5,IF(J11>150,1.4,IF(OR(J11>60,MID(F11,3,2)="C3",MID(F11,3,2)="C5",MID(F11,3,2)="C6"),1.3,IF(J11>35,1.2,1)))),0))) -> 1.2 | L11: =IF(OR(LEFT(E11,2)="ĐA",LEFT(E11,2)="DA",LEFT(E11,5)="Đồ án",LEFT(E11,5)="Đồán "),0,IF(AND(J11>0,I11>0),IF(OR(AND(OR(LEFT(E11,4)="GDQP",LEFT(E11,4)="GDTC",LEFT(E11,4)="gdqp",LEFT(E11,4)="gdtc",LEFT(E11,19)="Giáo dục quốc phòng",LEFT(E11,17)="Giáo dục thể chất"),J11>60),AND(OR(MID(F11,3,2)="C3",MID(F11,3,2)="C5",MID(F11,3,2)="C6"),J11>0)),1.3,IF(AND(OR(LEFT(E11,4)="GDQP",LEFT(E11,4)="gdqp",LEFT(E11,19)="Giáo dục quốc phòng"),J11>35),1.2,IF(AND(OR(LEFT(E11,4)="GDQP",LEFT(E11,4)="gdqp",LEFT(E11,19)="Giáo dục quốc phòng"),J11<=35),1,IF(J11>35,1.2,IF(J11>29,1.1,1))))),0)) -> 0 | M11: =ROUND(IF(AND(MID(F11,3,2)="C3",LEFT(E11,5)="Đồ án"),(J11*0.5)*1.3,IF(OR(LEFT(E11,2)="ĐA",LEFT(E11,2)="DA",LEFT(E11,5)="Đồ án",LEFT(E11,5)="Đồán "),J11*0.5,(IF(H11>0,H11*K11,"0"))+IF(I11>0,(I11*0.75)*L11,"0"))),1) -> 72 | N11: =T11*15% -> 64.5 | O11: 0 | P11: =SUM(M11:M50)+N11+O11 -> 608.1 | Q11: 0 | R11: 0 | S11: =IF('Mau B2'!I11>54,54,'Mau B2'!I11) -> 0 | T11: =IF(J11<1,0,IF(OR(LEFT(E11,4)="Toán",LEFT(E11,3)="Vật",LEFT(E11,4)="Hóa",LEFT(E11,3)="Hóa",LEFT(E11,7)="Ngữ văn"),629,IF(OR(LEFT(E11,2)="GD",LEFT(E11,8)="Giáo dục",LEFT(E11,4)="Pháp",LEFT(E11,9)="chính trị"),450,430))) -> 430 | U11: 629 | V11: =IF(J11<1,0,IF(OR(LEFT(E11,4)="Toán",LEFT(E11,3)="Vật",LEFT(E11,3)="Hóa",LEFT(E11,4)="Hóa",LEFT(E11,7)="Ngữ văn"),51,IF(OR(LEFT(E11,4)="Giáo",LEFT(E11,5)="Giáo",LEFT(E11,4)="Pháp",LEFT(E11,5)="Pháp"),56,54))) -> 54 | W11: 51 | X11: =IF(J11<1,0,IF(OR(LEFT(E11,4)="Toán",LEFT(E11,3)="Vật",LEFT(E11,3)="Hóa",LEFT(E11,4)="Hóa",LEFT(E11,7)="Ngữ văn"),0,IF(OR(LEFT(E11,4)="Giáo",LEFT(E11,5)="Giáo",LEFT(E11,4)="Pháp",LEFT(E11,5)="Pháp"),56,54))) -> 54 | Y11: 0 | Z11: =IF(J11<1,0,IF(OR(LEFT(E11,4)="Toán",LEFT(E11,3)="Vật",LEFT(E11,3)="Hóa",LEFT(E11,4)="Hóa",LEFT(E11,7)="Ngữ văn"),0,IF(OR(LEFT(E11,4)="Giáo",LEFT(E11,5)="Giáo",LEFT(E11,4)="Pháp",LEFT(E11,5)="Pháp"),56,54))) -> 54 | AA11: 0 | AB11: =ROUND((P11-U11),1) -> -20.9 | AC11: =IF(OR(SUM(W11:W50)="",SUM(Q11:Q50)="",SUM(Y11:Y50)="",SUM(R11:R50)=""),0,IF(OR(SUM(V11:V50)+SUM(X11:X50)=108,SUM(W11:W50)+SUM(Y11:Y50)>0),ROUND((SUM(Q11:Q50)-SUM(W11:W50)+SUM(R11:R50)-SUM(Y11:Y50)),1),0)) -> -51 | AD11: =IF(OR(SUM(AA11:AA50)="",SUM(S11:S50)=""),0,IF(OR(SUM(Z11:Z50)=54,SUM(AA11:AA50)>0),ROUND((SUM(S11:S50)-SUM(AA11:AA50)),1),0)) -> 0 | AE11: 0 | AF11: =SUM(AB11:AD50) -> -71.9
E12: TH ĐCB | F12: 21C1 ĐCN1 | G12: 1 | J12: 28 | K12: =IF(OR(LEFT(E12,2)="ĐA",LEFT(E12,2)="DA",LEFT(E12,5)="Đồ án",LEFT(E12,5)="Đồán ",LEFT(E12,9)="Sinh hoạt",LEFT(E12,9)="sinh hoạt",LEFT(E12,6)="Cố vấn",LEFT(E12,6)="cố vấn",LEFT(E12,4)="cvht",LEFT(E12,4)="CVHT",LEFT(E12,4)="shcn",LEFT(E12,4)="SHCN"),0,(IF(AND(H12>0,J12>0),IF(J12>250,1.5,IF(J12>150,1.4,IF(OR(J12>60,MID(F12,3,2)="C3",MID(F12,3,2)="C5",MID(F12,3,2)="C6"),1.3,IF(J12>35,1.2,1)))),0))) -> 0 | L12: =IF(OR(LEFT(E12,2)="ĐA",LEFT(E12,2)="DA",LEFT(E12,5)="Đồ án",LEFT(E12,5)="Đồán "),0,IF(AND(J12>0,I12>0),IF(OR(AND(OR(LEFT(E12,4)="GDQP",LEFT(E12,4)="GDTC",LEFT(E12,4)="gdqp",LEFT(E12,4)="gdtc",LEFT(E12,19)="Giáo dục quốc phòng",LEFT(E12,17)="Giáo dục thể chất"),J12>60),AND(OR(MID(F12,3,2)="C3",MID(F12,3,2)="C5",MID(F12,3,2)="C6"),J12>0)),1.3,IF(AND(OR(LEFT(E12,4)="GDQP",LEFT(E12,4)="gdqp",LEFT(E12,19)="Giáo dục quốc phòng"),J12>35),1.2,IF(AND(OR(LEFT(E12,4)="GDQP",LEFT(E12,4)="gdqp",LEFT(E12,19)="Giáo dục quốc phòng"),J12<=35),1,IF(J12>35,1.2,IF(J12>29,1.1,1))))),0)) -> 0 | M12: =ROUND(IF(AND(MID(F12,3,2)="C3",LEFT(E12,5)="Đồ án"),(J12*0.5)*1.3,IF(OR(LEFT(E12,2)="ĐA",LEFT(E12,2)="DA",LEFT(E12,5)="Đồ án",LEFT(E12,5)="Đồán "),J12*0.5,(IF(H12>0,H12*K12,"0"))+IF(I12>0,(I12*0.75)*L12,"0"))),1) -> 0
E13: TH TBĐ | F13: 19T4 ĐĐT1 | G13: 1 | J13: 20 | K13: =IF(OR(LEFT(E13,2)="ĐA",LEFT(E13,2)="DA",LEFT(E13,5)="Đồ án",LEFT(E13,5)="Đồán ",LEFT(E13,9)="Sinh hoạt",LEFT(E13,9)="sinh hoạt",LEFT(E13,6)="Cố vấn",LEFT(E13,6)="cố vấn",LEFT(E13,4)="cvht",LEFT(E13,4)="CVHT",LEFT(E13,4)="shcn",LEFT(E13,4)="SHCN"),0,(IF(AND(H13>0,J13>0),IF(J13>250,1.5,IF(J13>150,1.4,IF(OR(J13>60,MID(F13,3,2)="C3",MID(F13,3,2)="C5",MID(F13,3,2)="C6"),1.3,IF(J13>35,1.2,1)))),0))) -> 0 | L13: =IF(OR(LEFT(E13,2)="ĐA",LEFT(E13,2)="DA",LEFT(E13,5)="Đồ án",LEFT(E13,5)="Đồán "),0,IF(AND(J13>0,I13>0),IF(OR(AND(OR(LEFT(E13,4)="GDQP",LEFT(E13,4)="GDTC",LEFT(E13,4)="gdqp",LEFT(E13,4)="gdtc",LEFT(E13,19)="Giáo dục quốc phòng",LEFT(E13,17)="Giáo dục thể chất"),J13>60),AND(OR(MID(F13,3,2)="C3",MID(F13,3,2)="C5",MID(F13,3,2)="C6"),J13>0)),1.3,IF(AND(OR(LEFT(E13,4)="GDQP",LEFT(E13,4)="gdqp",LEFT(E13,19)="Giáo dục quốc phòng"),J13>35),1.2,IF(AND(OR(LEFT(E13,4)="GDQP",LEFT(E13,4)="gdqp",LEFT(E13,19)="Giáo dục quốc phòng"),J13<=35),1,IF(J13>35,1.2,IF(J13>29,1.1,1))))),0)) -> 0 | M13: =ROUND(IF(AND(MID(F13,3,2)="C3",LEFT(E13,5)="Đồ án"),(J13*0.5)*1.3,IF(OR(LEFT(E13,2)="ĐA",LEFT(E13,2)="DA",LEFT(E13,5)="Đồ án",LEFT(E13,5)="Đồán "),J13*0.5,(IF(H13>0,H13*K13,"0"))+IF(I13>0,(I13*0.75)*L13,"0"))),1) -> 0
E14: Máy điện (Tân Uyên) | F14: 20T3-ĐCN1 | H14: 16 | J14: 20 | K14: =IF(OR(LEFT(E14,2)="ĐA",LEFT(E14,2)="DA",LEFT(E14,5)="Đồ án",LEFT(E14,5)="Đồán ",LEFT(E14,9)="Sinh hoạt",LEFT(E14,9)="sinh hoạt",LEFT(E14,6)="Cố vấn",LEFT(E14,6)="cố vấn",LEFT(E14,4)="cvht",LEFT(E14,4)="CVHT",LEFT(E14,4)="shcn",LEFT(E14,4)="SHCN"),0,(IF(AND(H14>0,J14>0),IF(J14>250,1.5,IF(J14>150,1.4,IF(OR(J14>60,MID(F14,3,2)="C3",MID(F14,3,2)="C5",MID(F14,3,2)="C6"),1.3,IF(J14>35,1.2,1)))),0))) -> 1 | L14: =IF(OR(LEFT(E14,2)="ĐA",LEFT(E14,2)="DA",LEFT(E14,5)="Đồ án",LEFT(E14,5)="Đồán "),0,IF(AND(J14>0,I14>0),IF(OR(AND(OR(LEFT(E14,4)="GDQP",LEFT(E14,4)="GDTC",LEFT(E14,4)="gdqp",LEFT(E14,4)="gdtc",LEFT(E14,19)="Giáo dục quốc phòng",LEFT(E14,17)="Giáo dục thể chất"),J14>60),AND(OR(MID(F14,3,2)="C3",MID(F14,3,2)="C5",MID(F14,3,2)="C6"),J14>0)),1.3,IF(AND(OR(LEFT(E14,4)="GDQP",LEFT(E14,4)="gdqp",LEFT(E14,19)="Giáo dục quốc phòng"),J14>35),1.2,IF(AND(OR(LEFT(E14,4)="GDQP",LEFT(E14,4)="gdqp",LEFT(E14,19)="Giáo dục quốc phòng"),J14<=35),1,IF(J14>35,1.2,IF(J14>29,1.1,1))))),0)) -> 0 | M14: =ROUND(IF(AND(MID(F14,3,2)="C3",LEFT(E14,5)="Đồ án"),(J14*0.5)*1.3,IF(OR(LEFT(E14,2)="ĐA",LEFT(E14,2)="DA",LEFT(E14,5)="Đồ án",LEFT(E14,5)="Đồán "),J14*0.5,(IF(H14>0,H14*K14,"0"))+IF(I14>0,(I14*0.75)*L14,"0"))),1) -> 16
E15: TH TBĐ | F15: 19C1-ĐĐT1 N1 | G15: 2 | I15: 48 | J15: 22 | K15: =IF(OR(LEFT(E15,2)="ĐA",LEFT(E15,2)="DA",LEFT(E15,5)="Đồ án",LEFT(E15,5)="Đồán ",LEFT(E15,9)="Sinh hoạt",LEFT(E15,9)="sinh hoạt",LEFT(E15,6)="Cố vấn",LEFT(E15,6)="cố vấn",LEFT(E15,4)="cvht",LEFT(E15,4)="CVHT",LEFT(E15,4)="shcn",LEFT(E15,4)="SHCN"),0,(IF(AND(H15>0,J15>0),IF(J15>250,1.5,IF(J15>150,1.4,IF(OR(J15>60,MID(F15,3,2)="C3",MID(F15,3,2)="C5",MID(F15,3,2)="C6"),1.3,IF(J15>35,1.2,1)))),0))) -> 0 | L15: =IF(OR(LEFT(E15,2)="ĐA",LEFT(E15,2)="DA",LEFT(E15,5)="Đồ án",LEFT(E15,5)="Đồán "),0,IF(AND(J15>0,I15>0),IF(OR(AND(OR(LEFT(E15,4)="GDQP",LEFT(E15,4)="GDTC",LEFT(E15,4)="gdqp",LEFT(E15,4)="gdtc",LEFT(E15,19)="Giáo dục quốc phòng",LEFT(E15,17)="Giáo dục thể chất"),J15>60),AND(OR(MID(F15,3,2)="C3",MID(F15,3,2)="C5",MID(F15,3,2)="C6"),J15>0)),1.3,IF(AND(OR(LEFT(E15,4)="GDQP",LEFT(E15,4)="gdqp",LEFT(E15,19)="Giáo dục quốc phòng"),J15>35),1.2,IF(AND(OR(LEFT(E15,4)="GDQP",LEFT(E15,4)="gdqp",LEFT(E15,19)="Giáo dục quốc phòng"),J15<=35),1,IF(J15>35,1.2,IF(J15>29,1.1,1))))),0)) -> 1 | M15: =ROUND(IF(AND(MID(F15,3,2)="C3",LEFT(E15,5)="Đồ án"),(J15*0.5)*1.3,IF(OR(LEFT(E15,2)="ĐA",LEFT(E15,2)="DA",LEFT(E15,5)="Đồ án",LEFT(E15,5)="Đồán "),J15*0.5,(IF(H15>0,H15*K15,"0"))+IF(I15>0,(I15*0.75)*L15,"0"))),1) -> 36
F16: 19C1-ĐĐT1 N2 | G16: 2 | I16: 48 | J16: 22 | K16: =IF(OR(LEFT(E16,2)="ĐA",LEFT(E16,2)="DA",LEFT(E16,5)="Đồ án",LEFT(E16,5)="Đồán ",LEFT(E16,9)="Sinh hoạt",LEFT(E16,9)="sinh hoạt",LEFT(E16,6)="Cố vấn",LEFT(E16,6)="cố vấn",LEFT(E16,4)="cvht",LEFT(E16,4)="CVHT",LEFT(E16,4)="shcn",LEFT(E16,4)="SHCN"),0,(IF(AND(H16>0,J16>0),IF(J16>250,1.5,IF(J16>150,1.4,IF(OR(J16>60,MID(F16,3,2)="C3",MID(F16,3,2)="C5",MID(F16,3,2)="C6"),1.3,IF(J16>35,1.2,1)))),0))) -> 0 | L16: =IF(OR(LEFT(E16,2)="ĐA",LEFT(E16,2)="DA",LEFT(E16,5)="Đồ án",LEFT(E16,5)="Đồán "),0,IF(AND(J16>0,I16>0),IF(OR(AND(OR(LEFT(E16,4)="GDQP",LEFT(E16,4)="GDTC",LEFT(E16,4)="gdqp",LEFT(E16,4)="gdtc",LEFT(E16,19)="Giáo dục quốc phòng",LEFT(E16,17)="Giáo dục thể chất"),J16>60),AND(OR(MID(F16,3,2)="C3",MID(F16,3,2)="C5",MID(F16,3,2)="C6"),J16>0)),1.3,IF(AND(OR(LEFT(E16,4)="GDQP",LEFT(E16,4)="gdqp",LEFT(E16,19)="Giáo dục quốc phòng"),J16>35),1.2,IF(AND(OR(LEFT(E16,4)="GDQP",LEFT(E16,4)="gdqp",LEFT(E16,19)="Giáo dục quốc phòng"),J16<=35),1,IF(J16>35,1.2,IF(J16>29,1.1,1))))),0)) -> 1 | M16: =ROUND(IF(AND(MID(F16,3,2)="C3",LEFT(E16,5)="Đồ án"),(J16*0.5)*1.3,IF(OR(LEFT(E16,2)="ĐA",LEFT(E16,2)="DA",LEFT(E16,5)="Đồ án",LEFT(E16,5)="Đồán "),J16*0.5,(IF(H16>0,H16*K16,"0"))+IF(I16>0,(I16*0.75)*L16,"0"))),1) -> 36
E17: TH ĐLĐ | F17: 21C3-CĐT1 | G17: 2 | I17: 30 | J17: 22 | K17: =IF(OR(LEFT(E17,2)="ĐA",LEFT(E17,2)="DA",LEFT(E17,5)="Đồ án",LEFT(E17,5)="Đồán ",LEFT(E17,9)="Sinh hoạt",LEFT(E17,9)="sinh hoạt",LEFT(E17,6)="Cố vấn",LEFT(E17,6)="cố vấn",LEFT(E17,4)="cvht",LEFT(E17,4)="CVHT",LEFT(E17,4)="shcn",LEFT(E17,4)="SHCN"),0,(IF(AND(H17>0,J17>0),IF(J17>250,1.5,IF(J17>150,1.4,IF(OR(J17>60,MID(F17,3,2)="C3",MID(F17,3,2)="C5",MID(F17,3,2)="C6"),1.3,IF(J17>35,1.2,1)))),0))) -> 0 | L17: =IF(OR(LEFT(E17,2)="ĐA",LEFT(E17,2)="DA",LEFT(E17,5)="Đồ án",LEFT(E17,5)="Đồán "),0,IF(AND(J17>0,I17>0),IF(OR(AND(OR(LEFT(E17,4)="GDQP",LEFT(E17,4)="GDTC",LEFT(E17,4)="gdqp",LEFT(E17,4)="gdtc",LEFT(E17,19)="Giáo dục quốc phòng",LEFT(E17,17)="Giáo dục thể chất"),J17>60),AND(OR(MID(F17,3,2)="C3",MID(F17,3,2)="C5",MID(F17,3,2)="C6"),J17>0)),1.3,IF(AND(OR(LEFT(E17,4)="GDQP",LEFT(E17,4)="gdqp",LEFT(E17,19)="Giáo dục quốc phòng"),J17>35),1.2,IF(AND(OR(LEFT(E17,4)="GDQP",LEFT(E17,4)="gdqp",LEFT(E17,19)="Giáo dục quốc phòng"),J17<=35),1,IF(J17>35,1.2,IF(J17>29,1.1,1))))),0)) -> 1.3 | M17: =ROUND(IF(AND(MID(F17,3,2)="C3",LEFT(E17,5)="Đồ án"),(J17*0.5)*1.3,IF(OR(LEFT(E17,2)="ĐA",LEFT(E17,2)="DA",LEFT(E17,5)="Đồ án",LEFT(E17,5)="Đồán "),J17*0.5,(IF(H17>0,H17*K17,"0"))+IF(I17>0,(I17*0.75)*L17,"0"))),1) -> 29.3
E18: Máy điện | F18: 21T2-ĐCN1 | G18: 2 | H18: 30 | J18: 40 | K18: =IF(OR(LEFT(E18,2)="ĐA",LEFT(E18,2)="DA",LEFT(E18,5)="Đồ án",LEFT(E18,5)="Đồán ",LEFT(E18,9)="Sinh hoạt",LEFT(E18,9)="sinh hoạt",LEFT(E18,6)="Cố vấn",LEFT(E18,6)="cố vấn",LEFT(E18,4)="cvht",LEFT(E18,4)="CVHT",LEFT(E18,4)="shcn",LEFT(E18,4)="SHCN"),0,(IF(AND(H18>0,J18>0),IF(J18>250,1.5,IF(J18>150,1.4,IF(OR(J18>60,MID(F18,3,2)="C3",MID(F18,3,2)="C5",MID(F18,3,2)="C6"),1.3,IF(J18>35,1.2,1)))),0))) -> 1.2 | L18: =IF(OR(LEFT(E18,2)="ĐA",LEFT(E18,2)="DA",LEFT(E18,5)="Đồ án",LEFT(E18,5)="Đồán "),0,IF(AND(J18>0,I18>0),IF(OR(AND(OR(LEFT(E18,4)="GDQP",LEFT(E18,4)="GDTC",LEFT(E18,4)="gdqp",LEFT(E18,4)="gdtc",LEFT(E18,19)="Giáo dục quốc phòng",LEFT(E18,17)="Giáo dục thể chất"),J18>60),AND(OR(MID(F18,3,2)="C3",MID(F18,3,2)="C5",MID(F18,3,2)="C6"),J18>0)),1.3,IF(AND(OR(LEFT(E18,4)="GDQP",LEFT(E18,4)="gdqp",LEFT(E18,19)="Giáo dục quốc phòng"),J18>35),1.2,IF(AND(OR(LEFT(E18,4)="GDQP",LEFT(E18,4)="gdqp",LEFT(E18,19)="Giáo dục quốc phòng"),J18<=35),1,IF(J18>35,1.2,IF(J18>29,1.1,1))))),0)) -> 0 | M18: =ROUND(IF(AND(MID(F18,3,2)="C3",LEFT(E18,5)="Đồ án"),(J18*0.5)*1.3,IF(OR(LEFT(E18,2)="ĐA",LEFT(E18,2)="DA",LEFT(E18,5)="Đồ án",LEFT(E18,5)="Đồán "),J18*0.5,(IF(H18>0,H18*K18,"0"))+IF(I18>0,(I18*0.75)*L18,"0"))),1) -> 36
E19: Máy điện | F19: 20C1-ĐĐT1 | G19: 2 | H19: 45 | J19: 39 | K19: =IF(OR(LEFT(E19,2)="ĐA",LEFT(E19,2)="DA",LEFT(E19,5)="Đồ án",LEFT(E19,5)="Đồán ",LEFT(E19,9)="Sinh hoạt",LEFT(E19,9)="sinh hoạt",LEFT(E19,6)="Cố vấn",LEFT(E19,6)="cố vấn",LEFT(E19,4)="cvht",LEFT(E19,4)="CVHT",LEFT(E19,4)="shcn",LEFT(E19,4)="SHCN"),0,(IF(AND(H19>0,J19>0),IF(J19>250,1.5,IF(J19>150,1.4,IF(OR(J19>60,MID(F19,3,2)="C3",MID(F19,3,2)="C5",MID(F19,3,2)="C6"),1.3,IF(J19>35,1.2,1)))),0))) -> 1.2 | L19: =IF(OR(LEFT(E19,2)="ĐA",LEFT(E19,2)="DA",LEFT(E19,5)="Đồ án",LEFT(E19,5)="Đồán "),0,IF(AND(J19>0,I19>0),IF(OR(AND(OR(LEFT(E19,4)="GDQP",LEFT(E19,4)="GDTC",LEFT(E19,4)="gdqp",LEFT(E19,4)="gdtc",LEFT(E19,19)="Giáo dục quốc phòng",LEFT(E19,17)="Giáo dục thể chất"),J19>60),AND(OR(MID(F19,3,2)="C3",MID(F19,3,2)="C5",MID(F19,3,2)="C6"),J19>0)),1.3,IF(AND(OR(LEFT(E19,4)="GDQP",LEFT(E19,4)="gdqp",LEFT(E19,19)="Giáo dục quốc phòng"),J19>35),1.2,IF(AND(OR(LEFT(E19,4)="GDQP",LEFT(E19,4)="gdqp",LEFT(E19,19)="Giáo dục quốc phòng"),J19<=35),1,IF(J19>35,1.2,IF(J19>29,1.1,1))))),0)) -> 0 | M19: =ROUND(IF(AND(MID(F19,3,2)="C3",LEFT(E19,5)="Đồ án"),(J19*0.5)*1.3,IF(OR(LEFT(E19,2)="ĐA",LEFT(E19,2)="DA",LEFT(E19,5)="Đồ án",LEFT(E19,5)="Đồán "),J19*0.5,(IF(H19>0,H19*K19,"0"))+IF(I19>0,(I19*0.75)*L19,"0"))),1) -> 54
F20: 20C1-ĐĐT2 | G20: 2 | H20: 45 | J20: 36 | K20: =IF(OR(LEFT(E20,2)="ĐA",LEFT(E20,2)="DA",LEFT(E20,5)="Đồ án",LEFT(E20,5)="Đồán ",LEFT(E20,9)="Sinh hoạt",LEFT(E20,9)="sinh hoạt",LEFT(E20,6)="Cố vấn",LEFT(E20,6)="cố vấn",LEFT(E20,4)="cvht",LEFT(E20,4)="CVHT",LEFT(E20,4)="shcn",LEFT(E20,4)="SHCN"),0,(IF(AND(H20>0,J20>0),IF(J20>250,1.5,IF(J20>150,1.4,IF(OR(J20>60,MID(F20,3,2)="C3",MID(F20,3,2)="C5",MID(F20,3,2)="C6"),1.3,IF(J20>35,1.2,1)))),0))) -> 1.2 | L20: =IF(OR(LEFT(E20,2)="ĐA",LEFT(E20,2)="DA",LEFT(E20,5)="Đồ án",LEFT(E20,5)="Đồán "),0,IF(AND(J20>0,I20>0),IF(OR(AND(OR(LEFT(E20,4)="GDQP",LEFT(E20,4)="GDTC",LEFT(E20,4)="gdqp",LEFT(E20,4)="gdtc",LEFT(E20,19)="Giáo dục quốc phòng",LEFT(E20,17)="Giáo dục thể chất"),J20>60),AND(OR(MID(F20,3,2)="C3",MID(F20,3,2)="C5",MID(F20,3,2)="C6"),J20>0)),1.3,IF(AND(OR(LEFT(E20,4)="GDQP",LEFT(E20,4)="gdqp",LEFT(E20,19)="Giáo dục quốc phòng"),J20>35),1.2,IF(AND(OR(LEFT(E20,4)="GDQP",LEFT(E20,4)="gdqp",LEFT(E20,19)="Giáo dục quốc phòng"),J20<=35),1,IF(J20>35,1.2,IF(J20>29,1.1,1))))),0)) -> 0 | M20: =ROUND(IF(AND(MID(F20,3,2)="C3",LEFT(E20,5)="Đồ án"),(J20*0.5)*1.3,IF(OR(LEFT(E20,2)="ĐA",LEFT(E20,2)="DA",LEFT(E20,5)="Đồ án",LEFT(E20,5)="Đồán "),J20*0.5,(IF(H20>0,H20*K20,"0"))+IF(I20>0,(I20*0.75)*L20,"0"))),1) -> 54
E21: Kiểm tra và ĐLĐ | F21: 21C7-ĐCN1 | G21: 2 | H21: 10 | I21: 21 | J21: 17 | K21: =IF(OR(LEFT(E21,2)="ĐA",LEFT(E21,2)="DA",LEFT(E21,5)="Đồ án",LEFT(E21,5)="Đồán ",LEFT(E21,9)="Sinh hoạt",LEFT(E21,9)="sinh hoạt",LEFT(E21,6)="Cố vấn",LEFT(E21,6)="cố vấn",LEFT(E21,4)="cvht",LEFT(E21,4)="CVHT",LEFT(E21,4)="shcn",LEFT(E21,4)="SHCN"),0,(IF(AND(H21>0,J21>0),IF(J21>250,1.5,IF(J21>150,1.4,IF(OR(J21>60,MID(F21,3,2)="C3",MID(F21,3,2)="C5",MID(F21,3,2)="C6"),1.3,IF(J21>35,1.2,1)))),0))) -> 1 | L21: =IF(OR(LEFT(E21,2)="ĐA",LEFT(E21,2)="DA",LEFT(E21,5)="Đồ án",LEFT(E21,5)="Đồán "),0,IF(AND(J21>0,I21>0),IF(OR(AND(OR(LEFT(E21,4)="GDQP",LEFT(E21,4)="GDTC",LEFT(E21,4)="gdqp",LEFT(E21,4)="gdtc",LEFT(E21,19)="Giáo dục quốc phòng",LEFT(E21,17)="Giáo dục thể chất"),J21>60),AND(OR(MID(F21,3,2)="C3",MID(F21,3,2)="C5",MID(F21,3,2)="C6"),J21>0)),1.3,IF(AND(OR(LEFT(E21,4)="GDQP",LEFT(E21,4)="gdqp",LEFT(E21,19)="Giáo dục quốc phòng"),J21>35),1.2,IF(AND(OR(LEFT(E21,4)="GDQP",LEFT(E21,4)="gdqp",LEFT(E21,19)="Giáo dục quốc phòng"),J21<=35),1,IF(J21>35,1.2,IF(J21>29,1.1,1))))),0)) -> 1 | M21: =ROUND(IF(AND(MID(F21,3,2)="C3",LEFT(E21,5)="Đồ án"),(J21*0.5)*1.3,IF(OR(LEFT(E21,2)="ĐA",LEFT(E21,2)="DA",LEFT(E21,5)="Đồ án",LEFT(E21,5)="Đồán "),J21*0.5,(IF(H21>0,H21*K21,"0"))+IF(I21>0,(I21*0.75)*L21,"0"))),1) -> 25.8
E22: TH TBĐ | F22: 19T4-ĐĐT1 N1 | G22: 2 | I22: 90 | J22: 28 | K22: =IF(OR(LEFT(E22,2)="ĐA",LEFT(E22,2)="DA",LEFT(E22,5)="Đồ án",LEFT(E22,5)="Đồán ",LEFT(E22,9)="Sinh hoạt",LEFT(E22,9)="sinh hoạt",LEFT(E22,6)="Cố vấn",LEFT(E22,6)="cố vấn",LEFT(E22,4)="cvht",LEFT(E22,4)="CVHT",LEFT(E22,4)="shcn",LEFT(E22,4)="SHCN"),0,(IF(AND(H22>0,J22>0),IF(J22>250,1.5,IF(J22>150,1.4,IF(OR(J22>60,MID(F22,3,2)="C3",MID(F22,3,2)="C5",MID(F22,3,2)="C6"),1.3,IF(J22>35,1.2,1)))),0))) -> 0 | L22: =IF(OR(LEFT(E22,2)="ĐA",LEFT(E22,2)="DA",LEFT(E22,5)="Đồ án",LEFT(E22,5)="Đồán "),0,IF(AND(J22>0,I22>0),IF(OR(AND(OR(LEFT(E22,4)="GDQP",LEFT(E22,4)="GDTC",LEFT(E22,4)="gdqp",LEFT(E22,4)="gdtc",LEFT(E22,19)="Giáo dục quốc phòng",LEFT(E22,17)="Giáo dục thể chất"),J22>60),AND(OR(MID(F22,3,2)="C3",MID(F22,3,2)="C5",MID(F22,3,2)="C6"),J22>0)),1.3,IF(AND(OR(LEFT(E22,4)="GDQP",LEFT(E22,4)="gdqp",LEFT(E22,19)="Giáo dục quốc phòng"),J22>35),1.2,IF(AND(OR(LEFT(E22,4)="GDQP",LEFT(E22,4)="gdqp",LEFT(E22,19)="Giáo dục quốc phòng"),J22<=35),1,IF(J22>35,1.2,IF(J22>29,1.1,1))))),0)) -> 1 | M22: =ROUND(IF(AND(MID(F22,3,2)="C3",LEFT(E22,5)="Đồ án"),(J22*0.5)*1.3,IF(OR(LEFT(E22,2)="ĐA",LEFT(E22,2)="DA",LEFT(E22,5)="Đồ án",LEFT(E22,5)="Đồán "),J22*0.5,(IF(H22>0,H22*K22,"0"))+IF(I22>0,(I22*0.75)*L22,"0"))),1) -> 67.5
F23: 19T4-ĐĐT1 N2 | G23: 2 | I23: 90 | J23: 28 | K23: =IF(OR(LEFT(E23,2)="ĐA",LEFT(E23,2)="DA",LEFT(E23,5)="Đồ án",LEFT(E23,5)="Đồán ",LEFT(E23,9)="Sinh hoạt",LEFT(E23,9)="sinh hoạt",LEFT(E23,6)="Cố vấn",LEFT(E23,6)="cố vấn",LEFT(E23,4)="cvht",LEFT(E23,4)="CVHT",LEFT(E23,4)="shcn",LEFT(E23,4)="SHCN"),0,(IF(AND(H23>0,J23>0),IF(J23>250,1.5,IF(J23>150,1.4,IF(OR(J23>60,MID(F23,3,2)="C3",MID(F23,3,2)="C5",MID(F23,3,2)="C6"),1.3,IF(J23>35,1.2,1)))),0))) -> 0 | L23: =IF(OR(LEFT(E23,2)="ĐA",LEFT(E23,2)="DA",LEFT(E23,5)="Đồ án",LEFT(E23,5)="Đồán "),0,IF(AND(J23>0,I23>0),IF(OR(AND(OR(LEFT(E23,4)="GDQP",LEFT(E23,4)="GDTC",LEFT(E23,4)="gdqp",LEFT(E23,4)="gdtc",LEFT(E23,19)="Giáo dục quốc phòng",LEFT(E23,17)="Giáo dục thể chất"),J23>60),AND(OR(MID(F23,3,2)="C3",MID(F23,3,2)="C5",MID(F23,3,2)="C6"),J23>0)),1.3,IF(AND(OR(LEFT(E23,4)="GDQP",LEFT(E23,4)="gdqp",LEFT(E23,19)="Giáo dục quốc phòng"),J23>35),1.2,IF(AND(OR(LEFT(E23,4)="GDQP",LEFT(E23,4)="gdqp",LEFT(E23,19)="Giáo dục quốc phòng"),J23<=35),1,IF(J23>35,1.2,IF(J23>29,1.1,1))))),0)) -> 1 | M23: =ROUND(IF(AND(MID(F23,3,2)="C3",LEFT(E23,5)="Đồ án"),(J23*0.5)*1.3,IF(OR(LEFT(E23,2)="ĐA",LEFT(E23,2)="DA",LEFT(E23,5)="Đồ án",LEFT(E23,5)="Đồán "),J23*0.5,(IF(H23>0,H23*K23,"0"))+IF(I23>0,(I23*0.75)*L23,"0"))),1) -> 67.5
E24: TH TBĐ | F24: 20C1-TĐH2 | G24: 2 | I24: 60 | J24: 32 | K24: =IF(OR(LEFT(E24,2)="ĐA",LEFT(E24,2)="DA",LEFT(E24,5)="Đồ án",LEFT(E24,5)="Đồán ",LEFT(E24,9)="Sinh hoạt",LEFT(E24,9)="sinh hoạt",LEFT(E24,6)="Cố vấn",LEFT(E24,6)="cố vấn",LEFT(E24,4)="cvht",LEFT(E24,4)="CVHT",LEFT(E24,4)="shcn",LEFT(E24,4)="SHCN"),0,(IF(AND(H24>0,J24>0),IF(J24>250,1.5,IF(J24>150,1.4,IF(OR(J24>60,MID(F24,3,2)="C3",MID(F24,3,2)="C5",MID(F24,3,2)="C6"),1.3,IF(J24>35,1.2,1)))),0))) -> 0 | L24: =IF(OR(LEFT(E24,2)="ĐA",LEFT(E24,2)="DA",LEFT(E24,5)="Đồ án",LEFT(E24,5)="Đồán "),0,IF(AND(J24>0,I24>0),IF(OR(AND(OR(LEFT(E24,4)="GDQP",LEFT(E24,4)="GDTC",LEFT(E24,4)="gdqp",LEFT(E24,4)="gdtc",LEFT(E24,19)="Giáo dục quốc phòng",LEFT(E24,17)="Giáo dục thể chất"),J24>60),AND(OR(MID(F24,3,2)="C3",MID(F24,3,2)="C5",MID(F24,3,2)="C6"),J24>0)),1.3,IF(AND(OR(LEFT(E24,4)="GDQP",LEFT(E24,4)="gdqp",LEFT(E24,19)="Giáo dục quốc phòng"),J24>35),1.2,IF(AND(OR(LEFT(E24,4)="GDQP",LEFT(E24,4)="gdqp",LEFT(E24,19)="Giáo dục quốc phòng"),J24<=35),1,IF(J24>35,1.2,IF(J24>29,1.1,1))))),0)) -> 1.1 | M24: =ROUND(IF(AND(MID(F24,3,2)="C3",LEFT(E24,5)="Đồ án"),(J24*0.5)*1.3,IF(OR(LEFT(E24,2)="ĐA",LEFT(E24,2)="DA",LEFT(E24,5)="Đồ án",LEFT(E24,5)="Đồán "),J24*0.5,(IF(H24>0,H24*K24,"0"))+IF(I24>0,(I24*0.75)*L24,"0"))),1) -> 49.5
K25: =IF(OR(LEFT(E25,2)="ĐA",LEFT(E25,2)="DA",LEFT(E25,5)="Đồ án",LEFT(E25,5)="Đồán ",LEFT(E25,9)="Sinh hoạt",LEFT(E25,9)="sinh hoạt",LEFT(E25,6)="Cố vấn",LEFT(E25,6)="cố vấn",LEFT(E25,4)="cvht",LEFT(E25,4)="CVHT",LEFT(E25,4)="shcn",LEFT(E25,4)="SHCN"),0,(IF(AND(H25>0,J25>0),IF(J25>250,1.5,IF(J25>150,1.4,IF(OR(J25>60,MID(F25,3,2)="C3",MID(F25,3,2)="C5",MID(F25,3,2)="C6"),1.3,IF(J25>35,1.2,1)))),0))) -> 0 | L25: =IF(OR(LEFT(E25,2)="ĐA",LEFT(E25,2)="DA",LEFT(E25,5)="Đồ án",LEFT(E25,5)="Đồán "),0,IF(AND(J25>0,I25>0),IF(OR(AND(OR(LEFT(E25,4)="GDQP",LEFT(E25,4)="GDTC",LEFT(E25,4)="gdqp",LEFT(E25,4)="gdtc",LEFT(E25,19)="Giáo dục quốc phòng",LEFT(E25,17)="Giáo dục thể chất"),J25>60),AND(OR(MID(F25,3,2)="C3",MID(F25,3,2)="C5",MID(F25,3,2)="C6"),J25>0)),1.3,IF(AND(OR(LEFT(E25,4)="GDQP",LEFT(E25,4)="gdqp",LEFT(E25,19)="Giáo dục quốc phòng"),J25>35),1.2,IF(AND(OR(LEFT(E25,4)="GDQP",LEFT(E25,4)="gdqp",LEFT(E25,19)="Giáo dục quốc phòng"),J25<=35),1,IF(J25>35,1.2,IF(J25>29,1.1,1))))),0)) -> 0 | M25: =ROUND(IF(AND(MID(F25,3,2)="C3",LEFT(E25,5)="Đồ án"),(J25*0.5)*1.3,IF(OR(LEFT(E25,2)="ĐA",LEFT(E25,2)="DA",LEFT(E25,5)="Đồ án",LEFT(E25,5)="Đồán "),J25*0.5,(IF(H25>0,H25*K25,"0"))+IF(I25>0,(I25*0.75)*L25,"0"))),1) -> 0
K26: =IF(OR(LEFT(E26,2)="ĐA",LEFT(E26,2)="DA",LEFT(E26,5)="Đồ án",LEFT(E26,5)="Đồán ",LEFT(E26,9)="Sinh hoạt",LEFT(E26,9)="sinh hoạt",LEFT(E26,6)="Cố vấn",LEFT(E26,6)="cố vấn",LEFT(E26,4)="cvht",LEFT(E26,4)="CVHT",LEFT(E26,4)="shcn",LEFT(E26,4)="SHCN"),0,(IF(AND(H26>0,J26>0),IF(J26>250,1.5,IF(J26>150,1.4,IF(OR(J26>60,MID(F26,3,2)="C3",MID(F26,3,2)="C5",MID(F26,3,2)="C6"),1.3,IF(J26>35,1.2,1)))),0))) -> 0 | L26: =IF(OR(LEFT(E26,2)="ĐA",LEFT(E26,2)="DA",LEFT(E26,5)="Đồ án",LEFT(E26,5)="Đồán "),0,IF(AND(J26>0,I26>0),IF(OR(AND(OR(LEFT(E26,4)="GDQP",LEFT(E26,4)="GDTC",LEFT(E26,4)="gdqp",LEFT(E26,4)="gdtc",LEFT(E26,19)="Giáo dục quốc phòng",LEFT(E26,17)="Giáo dục thể chất"),J26>60),AND(OR(MID(F26,3,2)="C3",MID(F26,3,2)="C5",MID(F26,3,2)="C6"),J26>0)),1.3,IF(AND(OR(LEFT(E26,4)="GDQP",LEFT(E26,4)="gdqp",LEFT(E26,19)="Giáo dục quốc phòng"),J26>35),1.2,IF(AND(OR(LEFT(E26,4)="GDQP",LEFT(E26,4)="gdqp",LEFT(E26,19)="Giáo dục quốc phòng"),J26<=35),1,IF(J26>35,1.2,IF(J26>29,1.1,1))))),0)) -> 0 | M26: =ROUND(IF(AND(MID(F26,3,2)="C3",LEFT(E26,5)="Đồ án"),(J26*0.5)*1.3,IF(OR(LEFT(E26,2)="ĐA",LEFT(E26,2)="DA",LEFT(E26,5)="Đồ án",LEFT(E26,5)="Đồán "),J26*0.5,(IF(H26>0,H26*K26,"0"))+IF(I26>0,(I26*0.75)*L26,"0"))),1) -> 0
K27: =IF(OR(LEFT(E27,2)="ĐA",LEFT(E27,2)="DA",LEFT(E27,5)="Đồ án",LEFT(E27,5)="Đồán ",LEFT(E27,9)="Sinh hoạt",LEFT(E27,9)="sinh hoạt",LEFT(E27,6)="Cố vấn",LEFT(E27,6)="cố vấn",LEFT(E27,4)="cvht",LEFT(E27,4)="CVHT",LEFT(E27,4)="shcn",LEFT(E27,4)="SHCN"),0,(IF(AND(H27>0,J27>0),IF(J27>250,1.5,IF(J27>150,1.4,IF(OR(J27>60,MID(F27,3,2)="C3",MID(F27,3,2)="C5",MID(F27,3,2)="C6"),1.3,IF(J27>35,1.2,1)))),0))) -> 0 | L27: =IF(OR(LEFT(E27,2)="ĐA",LEFT(E27,2)="DA",LEFT(E27,5)="Đồ án",LEFT(E27,5)="Đồán "),0,IF(AND(J27>0,I27>0),IF(OR(AND(OR(LEFT(E27,4)="GDQP",LEFT(E27,4)="GDTC",LEFT(E27,4)="gdqp",LEFT(E27,4)="gdtc",LEFT(E27,19)="Giáo dục quốc phòng",LEFT(E27,17)="Giáo dục thể chất"),J27>60),AND(OR(MID(F27,3,2)="C3",MID(F27,3,2)="C5",MID(F27,3,2)="C6"),J27>0)),1.3,IF(AND(OR(LEFT(E27,4)="GDQP",LEFT(E27,4)="gdqp",LEFT(E27,19)="Giáo dục quốc phòng"),J27>35),1.2,IF(AND(OR(LEFT(E27,4)="GDQP",LEFT(E27,4)="gdqp",LEFT(E27,19)="Giáo dục quốc phòng"),J27<=35),1,IF(J27>35,1.2,IF(J27>29,1.1,1))))),0)) -> 0 | M27: =ROUND(IF(AND(MID(F27,3,2)="C3",LEFT(E27,5)="Đồ án"),(J27*0.5)*1.3,IF(OR(LEFT(E27,2)="ĐA",LEFT(E27,2)="DA",LEFT(E27,5)="Đồ án",LEFT(E27,5)="Đồán "),J27*0.5,(IF(H27>0,H27*K27,"0"))+IF(I27>0,(I27*0.75)*L27,"0"))),1) -> 0
K28: =IF(OR(LEFT(E28,2)="ĐA",LEFT(E28,2)="DA",LEFT(E28,5)="Đồ án",LEFT(E28,5)="Đồán ",LEFT(E28,9)="Sinh hoạt",LEFT(E28,9)="sinh hoạt",LEFT(E28,6)="Cố vấn",LEFT(E28,6)="cố vấn",LEFT(E28,4)="cvht",LEFT(E28,4)="CVHT",LEFT(E28,4)="shcn",LEFT(E28,4)="SHCN"),0,(IF(AND(H28>0,J28>0),IF(J28>250,1.5,IF(J28>150,1.4,IF(OR(J28>60,MID(F28,3,2)="C3",MID(F28,3,2)="C5",MID(F28,3,2)="C6"),1.3,IF(J28>35,1.2,1)))),0))) -> 0 | L28: =IF(OR(LEFT(E28,2)="ĐA",LEFT(E28,2)="DA",LEFT(E28,5)="Đồ án",LEFT(E28,5)="Đồán "),0,IF(AND(J28>0,I28>0),IF(OR(AND(OR(LEFT(E28,4)="GDQP",LEFT(E28,4)="GDTC",LEFT(E28,4)="gdqp",LEFT(E28,4)="gdtc",LEFT(E28,19)="Giáo dục quốc phòng",LEFT(E28,17)="Giáo dục thể chất"),J28>60),AND(OR(MID(F28,3,2)="C3",MID(F28,3,2)="C5",MID(F28,3,2)="C6"),J28>0)),1.3,IF(AND(OR(LEFT(E28,4)="GDQP",LEFT(E28,4)="gdqp",LEFT(E28,19)="Giáo dục quốc phòng"),J28>35),1.2,IF(AND(OR(LEFT(E28,4)="GDQP",LEFT(E28,4)="gdqp",LEFT(E28,19)="Giáo dục quốc phòng"),J28<=35),1,IF(J28>35,1.2,IF(J28>29,1.1,1))))),0)) -> 0 | M28: =ROUND(IF(AND(MID(F28,3,2)="C3",LEFT(E28,5)="Đồ án"),(J28*0.5)*1.3,IF(OR(LEFT(E28,2)="ĐA",LEFT(E28,2)="DA",LEFT(E28,5)="Đồ án",LEFT(E28,5)="Đồán "),J28*0.5,(IF(H28>0,H28*K28,"0"))+IF(I28>0,(I28*0.75)*L28,"0"))),1) -> 0
K29: =IF(OR(LEFT(E29,2)="ĐA",LEFT(E29,2)="DA",LEFT(E29,5)="Đồ án",LEFT(E29,5)="Đồán ",LEFT(E29,9)="Sinh hoạt",LEFT(E29,9)="sinh hoạt",LEFT(E29,6)="Cố vấn",LEFT(E29,6)="cố vấn",LEFT(E29,4)="cvht",LEFT(E29,4)="CVHT",LEFT(E29,4)="shcn",LEFT(E29,4)="SHCN"),0,(IF(AND(H29>0,J29>0),IF(J29>250,1.5,IF(J29>150,1.4,IF(OR(J29>60,MID(F29,3,2)="C3",MID(F29,3,2)="C5",MID(F29,3,2)="C6"),1.3,IF(J29>35,1.2,1)))),0))) -> 0 | L29: =IF(OR(LEFT(E29,2)="ĐA",LEFT(E29,2)="DA",LEFT(E29,5)="Đồ án",LEFT(E29,5)="Đồán "),0,IF(AND(J29>0,I29>0),IF(OR(AND(OR(LEFT(E29,4)="GDQP",LEFT(E29,4)="GDTC",LEFT(E29,4)="gdqp",LEFT(E29,4)="gdtc",LEFT(E29,19)="Giáo dục quốc phòng",LEFT(E29,17)="Giáo dục thể chất"),J29>60),AND(OR(MID(F29,3,2)="C3",MID(F29,3,2)="C5",MID(F29,3,2)="C6"),J29>0)),1.3,IF(AND(OR(LEFT(E29,4)="GDQP",LEFT(E29,4)="gdqp",LEFT(E29,19)="Giáo dục quốc phòng"),J29>35),1.2,IF(AND(OR(LEFT(E29,4)="GDQP",LEFT(E29,4)="gdqp",LEFT(E29,19)="Giáo dục quốc phòng"),J29<=35),1,IF(J29>35,1.2,IF(J29>29,1.1,1))))),0)) -> 0 | M29: =ROUND(IF(AND(MID(F29,3,2)="C3",LEFT(E29,5)="Đồ án"),(J29*0.5)*1.3,IF(OR(LEFT(E29,2)="ĐA",LEFT(E29,2)="DA",LEFT(E29,5)="Đồ án",LEFT(E29,5)="Đồán "),J29*0.5,(IF(H29>0,H29*K29,"0"))+IF(I29>0,(I29*0.75)*L29,"0"))),1) -> 0
K30: =IF(OR(LEFT(E30,2)="ĐA",LEFT(E30,2)="DA",LEFT(E30,5)="Đồ án",LEFT(E30,5)="Đồán ",LEFT(E30,9)="Sinh hoạt",LEFT(E30,9)="sinh hoạt",LEFT(E30,6)="Cố vấn",LEFT(E30,6)="cố vấn",LEFT(E30,4)="cvht",LEFT(E30,4)="CVHT",LEFT(E30,4)="shcn",LEFT(E30,4)="SHCN"),0,(IF(AND(H30>0,J30>0),IF(J30>250,1.5,IF(J30>150,1.4,IF(OR(J30>60,MID(F30,3,2)="C3",MID(F30,3,2)="C5",MID(F30,3,2)="C6"),1.3,IF(J30>35,1.2,1)))),0))) -> 0 | L30: =IF(OR(LEFT(E30,2)="ĐA",LEFT(E30,2)="DA",LEFT(E30,5)="Đồ án",LEFT(E30,5)="Đồán "),0,IF(AND(J30>0,I30>0),IF(OR(AND(OR(LEFT(E30,4)="GDQP",LEFT(E30,4)="GDTC",LEFT(E30,4)="gdqp",LEFT(E30,4)="gdtc",LEFT(E30,19)="Giáo dục quốc phòng",LEFT(E30,17)="Giáo dục thể chất"),J30>60),AND(OR(MID(F30,3,2)="C3",MID(F30,3,2)="C5",MID(F30,3,2)="C6"),J30>0)),1.3,IF(AND(OR(LEFT(E30,4)="GDQP",LEFT(E30,4)="gdqp",LEFT(E30,19)="Giáo dục quốc phòng"),J30>35),1.2,IF(AND(OR(LEFT(E30,4)="GDQP",LEFT(E30,4)="gdqp",LEFT(E30,19)="Giáo dục quốc phòng"),J30<=35),1,IF(J30>35,1.2,IF(J30>29,1.1,1))))),0)) -> 0 | M30: =ROUND(IF(AND(MID(F30,3,2)="C3",LEFT(E30,5)="Đồ án"),(J30*0.5)*1.3,IF(OR(LEFT(E30,2)="ĐA",LEFT(E30,2)="DA",LEFT(E30,5)="Đồ án",LEFT(E30,5)="Đồán "),J30*0.5,(IF(H30>0,H30*K30,"0"))+IF(I30>0,(I30*0.75)*L30,"0"))),1) -> 0
K31: =IF(OR(LEFT(E31,2)="ĐA",LEFT(E31,2)="DA",LEFT(E31,5)="Đồ án",LEFT(E31,5)="Đồán ",LEFT(E31,9)="Sinh hoạt",LEFT(E31,9)="sinh hoạt",LEFT(E31,6)="Cố vấn",LEFT(E31,6)="cố vấn",LEFT(E31,4)="cvht",LEFT(E31,4)="CVHT",LEFT(E31,4)="shcn",LEFT(E31,4)="SHCN"),0,(IF(AND(H31>0,J31>0),IF(J31>250,1.5,IF(J31>150,1.4,IF(OR(J31>60,MID(F31,3,2)="C3",MID(F31,3,2)="C5",MID(F31,3,2)="C6"),1.3,IF(J31>35,1.2,1)))),0))) -> 0 | L31: =IF(OR(LEFT(E31,2)="ĐA",LEFT(E31,2)="DA",LEFT(E31,5)="Đồ án",LEFT(E31,5)="Đồán "),0,IF(AND(J31>0,I31>0),IF(OR(AND(OR(LEFT(E31,4)="GDQP",LEFT(E31,4)="GDTC",LEFT(E31,4)="gdqp",LEFT(E31,4)="gdtc",LEFT(E31,19)="Giáo dục quốc phòng",LEFT(E31,17)="Giáo dục thể chất"),J31>60),AND(OR(MID(F31,3,2)="C3",MID(F31,3,2)="C5",MID(F31,3,2)="C6"),J31>0)),1.3,IF(AND(OR(LEFT(E31,4)="GDQP",LEFT(E31,4)="gdqp",LEFT(E31,19)="Giáo dục quốc phòng"),J31>35),1.2,IF(AND(OR(LEFT(E31,4)="GDQP",LEFT(E31,4)="gdqp",LEFT(E31,19)="Giáo dục quốc phòng"),J31<=35),1,IF(J31>35,1.2,IF(J31>29,1.1,1))))),0)) -> 0 | M31: =ROUND(IF(AND(MID(F31,3,2)="C3",LEFT(E31,5)="Đồ án"),(J31*0.5)*1.3,IF(OR(LEFT(E31,2)="ĐA",LEFT(E31,2)="DA",LEFT(E31,5)="Đồ án",LEFT(E31,5)="Đồán "),J31*0.5,(IF(H31>0,H31*K31,"0"))+IF(I31>0,(I31*0.75)*L31,"0"))),1) -> 0
K32: =IF(OR(LEFT(E32,2)="ĐA",LEFT(E32,2)="DA",LEFT(E32,5)="Đồ án",LEFT(E32,5)="Đồán ",LEFT(E32,9)="Sinh hoạt",LEFT(E32,9)="sinh hoạt",LEFT(E32,6)="Cố vấn",LEFT(E32,6)="cố vấn",LEFT(E32,4)="cvht",LEFT(E32,4)="CVHT",LEFT(E32,4)="shcn",LEFT(E32,4)="SHCN"),0,(IF(AND(H32>0,J32>0),IF(J32>250,1.5,IF(J32>150,1.4,IF(OR(J32>60,MID(F32,3,2)="C3",MID(F32,3,2)="C5",MID(F32,3,2)="C6"),1.3,IF(J32>35,1.2,1)))),0))) -> 0 | L32: =IF(OR(LEFT(E32,2)="ĐA",LEFT(E32,2)="DA",LEFT(E32,5)="Đồ án",LEFT(E32,5)="Đồán "),0,IF(AND(J32>0,I32>0),IF(OR(AND(OR(LEFT(E32,4)="GDQP",LEFT(E32,4)="GDTC",LEFT(E32,4)="gdqp",LEFT(E32,4)="gdtc",LEFT(E32,19)="Giáo dục quốc phòng",LEFT(E32,17)="Giáo dục thể chất"),J32>60),AND(OR(MID(F32,3,2)="C3",MID(F32,3,2)="C5",MID(F32,3,2)="C6"),J32>0)),1.3,IF(AND(OR(LEFT(E32,4)="GDQP",LEFT(E32,4)="gdqp",LEFT(E32,19)="Giáo dục quốc phòng"),J32>35),1.2,IF(AND(OR(LEFT(E32,4)="GDQP",LEFT(E32,4)="gdqp",LEFT(E32,19)="Giáo dục quốc phòng"),J32<=35),1,IF(J32>35,1.2,IF(J32>29,1.1,1))))),0)) -> 0 | M32: =ROUND(IF(AND(MID(F32,3,2)="C3",LEFT(E32,5)="Đồ án"),(J32*0.5)*1.3,IF(OR(LEFT(E32,2)="ĐA",LEFT(E32,2)="DA",LEFT(E32,5)="Đồ án",LEFT(E32,5)="Đồán "),J32*0.5,(IF(H32>0,H32*K32,"0"))+IF(I32>0,(I32*0.75)*L32,"0"))),1) -> 0
K33: =IF(OR(LEFT(E33,2)="ĐA",LEFT(E33,2)="DA",LEFT(E33,5)="Đồ án",LEFT(E33,5)="Đồán ",LEFT(E33,9)="Sinh hoạt",LEFT(E33,9)="sinh hoạt",LEFT(E33,6)="Cố vấn",LEFT(E33,6)="cố vấn",LEFT(E33,4)="cvht",LEFT(E33,4)="CVHT",LEFT(E33,4)="shcn",LEFT(E33,4)="SHCN"),0,(IF(AND(H33>0,J33>0),IF(J33>250,1.5,IF(J33>150,1.4,IF(OR(J33>60,MID(F33,3,2)="C3",MID(F33,3,2)="C5",MID(F33,3,2)="C6"),1.3,IF(J33>35,1.2,1)))),0))) -> 0 | L33: =IF(OR(LEFT(E33,2)="ĐA",LEFT(E33,2)="DA",LEFT(E33,5)="Đồ án",LEFT(E33,5)="Đồán "),0,IF(AND(J33>0,I33>0),IF(OR(AND(OR(LEFT(E33,4)="GDQP",LEFT(E33,4)="GDTC",LEFT(E33,4)="gdqp",LEFT(E33,4)="gdtc",LEFT(E33,19)="Giáo dục quốc phòng",LEFT(E33,17)="Giáo dục thể chất"),J33>60),AND(OR(MID(F33,3,2)="C3",MID(F33,3,2)="C5",MID(F33,3,2)="C6"),J33>0)),1.3,IF(AND(OR(LEFT(E33,4)="GDQP",LEFT(E33,4)="gdqp",LEFT(E33,19)="Giáo dục quốc phòng"),J33>35),1.2,IF(AND(OR(LEFT(E33,4)="GDQP",LEFT(E33,4)="gdqp",LEFT(E33,19)="Giáo dục quốc phòng"),J33<=35),1,IF(J33>35,1.2,IF(J33>29,1.1,1))))),0)) -> 0 | M33: =ROUND(IF(AND(MID(F33,3,2)="C3",LEFT(E33,5)="Đồ án"),(J33*0.5)*1.3,IF(OR(LEFT(E33,2)="ĐA",LEFT(E33,2)="DA",LEFT(E33,5)="Đồ án",LEFT(E33,5)="Đồán "),J33*0.5,(IF(H33>0,H33*K33,"0"))+IF(I33>0,(I33*0.75)*L33,"0"))),1) -> 0
K34: =IF(OR(LEFT(E34,2)="ĐA",LEFT(E34,2)="DA",LEFT(E34,5)="Đồ án",LEFT(E34,5)="Đồán ",LEFT(E34,9)="Sinh hoạt",LEFT(E34,9)="sinh hoạt",LEFT(E34,6)="Cố vấn",LEFT(E34,6)="cố vấn",LEFT(E34,4)="cvht",LEFT(E34,4)="CVHT",LEFT(E34,4)="shcn",LEFT(E34,4)="SHCN"),0,(IF(AND(H34>0,J34>0),IF(J34>250,1.5,IF(J34>150,1.4,IF(OR(J34>60,MID(F34,3,2)="C3",MID(F34,3,2)="C5",MID(F34,3,2)="C6"),1.3,IF(J34>35,1.2,1)))),0))) -> 0 | L34: =IF(OR(LEFT(E34,2)="ĐA",LEFT(E34,2)="DA",LEFT(E34,5)="Đồ án",LEFT(E34,5)="Đồán "),0,IF(AND(J34>0,I34>0),IF(OR(AND(OR(LEFT(E34,4)="GDQP",LEFT(E34,4)="GDTC",LEFT(E34,4)="gdqp",LEFT(E34,4)="gdtc",LEFT(E34,19)="Giáo dục quốc phòng",LEFT(E34,17)="Giáo dục thể chất"),J34>60),AND(OR(MID(F34,3,2)="C3",MID(F34,3,2)="C5",MID(F34,3,2)="C6"),J34>0)),1.3,IF(AND(OR(LEFT(E34,4)="GDQP",LEFT(E34,4)="gdqp",LEFT(E34,19)="Giáo dục quốc phòng"),J34>35),1.2,IF(AND(OR(LEFT(E34,4)="GDQP",LEFT(E34,4)="gdqp",LEFT(E34,19)="Giáo dục quốc phòng"),J34<=35),1,IF(J34>35,1.2,IF(J34>29,1.1,1))))),0)) -> 0 | M34: =ROUND(IF(AND(MID(F34,3,2)="C3",LEFT(E34,5)="Đồ án"),(J34*0.5)*1.3,IF(OR(LEFT(E34,2)="ĐA",LEFT(E34,2)="DA",LEFT(E34,5)="Đồ án",LEFT(E34,5)="Đồán "),J34*0.5,(IF(H34>0,H34*K34,"0"))+IF(I34>0,(I34*0.75)*L34,"0"))),1) -> 0
K35: =IF(OR(LEFT(E35,2)="ĐA",LEFT(E35,2)="DA",LEFT(E35,5)="Đồ án",LEFT(E35,5)="Đồán ",LEFT(E35,9)="Sinh hoạt",LEFT(E35,9)="sinh hoạt",LEFT(E35,6)="Cố vấn",LEFT(E35,6)="cố vấn",LEFT(E35,4)="cvht",LEFT(E35,4)="CVHT",LEFT(E35,4)="shcn",LEFT(E35,4)="SHCN"),0,(IF(AND(H35>0,J35>0),IF(J35>250,1.5,IF(J35>150,1.4,IF(OR(J35>60,MID(F35,3,2)="C3",MID(F35,3,2)="C5",MID(F35,3,2)="C6"),1.3,IF(J35>35,1.2,1)))),0))) -> 0 | L35: =IF(OR(LEFT(E35,2)="ĐA",LEFT(E35,2)="DA",LEFT(E35,5)="Đồ án",LEFT(E35,5)="Đồán "),0,IF(AND(J35>0,I35>0),IF(OR(AND(OR(LEFT(E35,4)="GDQP",LEFT(E35,4)="GDTC",LEFT(E35,4)="gdqp",LEFT(E35,4)="gdtc",LEFT(E35,19)="Giáo dục quốc phòng",LEFT(E35,17)="Giáo dục thể chất"),J35>60),AND(OR(MID(F35,3,2)="C3",MID(F35,3,2)="C5",MID(F35,3,2)="C6"),J35>0)),1.3,IF(AND(OR(LEFT(E35,4)="GDQP",LEFT(E35,4)="gdqp",LEFT(E35,19)="Giáo dục quốc phòng"),J35>35),1.2,IF(AND(OR(LEFT(E35,4)="GDQP",LEFT(E35,4)="gdqp",LEFT(E35,19)="Giáo dục quốc phòng"),J35<=35),1,IF(J35>35,1.2,IF(J35>29,1.1,1))))),0)) -> 0 | M35: =ROUND(IF(AND(MID(F35,3,2)="C3",LEFT(E35,5)="Đồ án"),(J35*0.5)*1.3,IF(OR(LEFT(E35,2)="ĐA",LEFT(E35,2)="DA",LEFT(E35,5)="Đồ án",LEFT(E35,5)="Đồán "),J35*0.5,(IF(H35>0,H35*K35,"0"))+IF(I35>0,(I35*0.75)*L35,"0"))),1) -> 0
K36: =IF(OR(LEFT(E36,2)="ĐA",LEFT(E36,2)="DA",LEFT(E36,5)="Đồ án",LEFT(E36,5)="Đồán ",LEFT(E36,9)="Sinh hoạt",LEFT(E36,9)="sinh hoạt",LEFT(E36,6)="Cố vấn",LEFT(E36,6)="cố vấn",LEFT(E36,4)="cvht",LEFT(E36,4)="CVHT",LEFT(E36,4)="shcn",LEFT(E36,4)="SHCN"),0,(IF(AND(H36>0,J36>0),IF(J36>250,1.5,IF(J36>150,1.4,IF(OR(J36>60,MID(F36,3,2)="C3",MID(F36,3,2)="C5",MID(F36,3,2)="C6"),1.3,IF(J36>35,1.2,1)))),0))) -> 0 | L36: =IF(OR(LEFT(E36,2)="ĐA",LEFT(E36,2)="DA",LEFT(E36,5)="Đồ án",LEFT(E36,5)="Đồán "),0,IF(AND(J36>0,I36>0),IF(OR(AND(OR(LEFT(E36,4)="GDQP",LEFT(E36,4)="GDTC",LEFT(E36,4)="gdqp",LEFT(E36,4)="gdtc",LEFT(E36,19)="Giáo dục quốc phòng",LEFT(E36,17)="Giáo dục thể chất"),J36>60),AND(OR(MID(F36,3,2)="C3",MID(F36,3,2)="C5",MID(F36,3,2)="C6"),J36>0)),1.3,IF(AND(OR(LEFT(E36,4)="GDQP",LEFT(E36,4)="gdqp",LEFT(E36,19)="Giáo dục quốc phòng"),J36>35),1.2,IF(AND(OR(LEFT(E36,4)="GDQP",LEFT(E36,4)="gdqp",LEFT(E36,19)="Giáo dục quốc phòng"),J36<=35),1,IF(J36>35,1.2,IF(J36>29,1.1,1))))),0)) -> 0 | M36: =ROUND(IF(AND(MID(F36,3,2)="C3",LEFT(E36,5)="Đồ án"),(J36*0.5)*1.3,IF(OR(LEFT(E36,2)="ĐA",LEFT(E36,2)="DA",LEFT(E36,5)="Đồ án",LEFT(E36,5)="Đồán "),J36*0.5,(IF(H36>0,H36*K36,"0"))+IF(I36>0,(I36*0.75)*L36,"0"))),1) -> 0
... K50: =IF(OR(LEFT(E50,2)="ĐA",LEFT(E50,2)="DA",LEFT(E50,5)="Đồ án",LEFT(E50,5)="Đồán ",LEFT(E50,9)="Sinh hoạt",LEFT(E50,9)="sinh hoạt",LEFT(E50,6)="Cố vấn",LEFT(E50,6)="cố vấn",LEFT(E50,4)="cvht",LEFT(E50,4)="CVHT",LEFT(E50,4)="shcn",LEFT(E50,4)="SHCN"),0,(IF(AND(H50>0,J50>0),IF(J50>250,1.5,IF(J50>150,1.4,IF(OR(J50>60,MID(F50,3,2)="C3",MID(F50,3,2)="C5",MID(F50,3,2)="C6"),1.3,IF(J50>35,1.2,1)))),0))) -> 0 | L50: =IF(OR(LEFT(E50,2)="ĐA",LEFT(E50,2)="DA",LEFT(E50,5)="Đồ án",LEFT(E50,5)="Đồán "),0,IF(AND(J50>0,I50>0),IF(OR(AND(OR(LEFT(E50,4)="GDQP",LEFT(E50,4)="GDTC",LEFT(E50,4)="gdqp",LEFT(E50,4)="gdtc",LEFT(E50,19)="Giáo dục quốc phòng",LEFT(E50,17)="Giáo dục thể chất"),J50>60),AND(OR(MID(F50,3,2)="C3",MID(F50,3,2)="C5",MID(F50,3,2)="C6"),J50>0)),1.3,IF(AND(OR(LEFT(E50,4)="GDQP",LEFT(E50,4)="gdqp",LEFT(E50,19)="Giáo dục quốc phòng"),J50>35),1.2,IF(AND(OR(LEFT(E50,4)="GDQP",LEFT(E50,4)="gdqp",LEFT(E50,19)="Giáo dục quốc phòng"),J50<=35),1,IF(J50>35,1.2,IF(J50>29,1.1,1))))),0)) -> 0 | M50: =ROUND(IF(AND(MID(F50,3,2)="C3",LEFT(E50,5)="Đồ án"),(J50*0.5)*1.3,IF(OR(LEFT(E50,2)="ĐA",LEFT(E50,2)="DA",LEFT(E50,5)="Đồ án",LEFT(E50,5)="Đồán "),J50*0.5,(IF(H50>0,H50*K50,"0"))+IF(I50>0,(I50*0.75)*L50,"0"))),1) -> 0
A51: 2 | B51: Trần Nam | C51: Anh | K51: =IF(OR(LEFT(E51,2)="ĐA",LEFT(E51,2)="DA",LEFT(E51,5)="Đồ án",LEFT(E51,5)="Đồán ",LEFT(E51,9)="Sinh hoạt",LEFT(E51,9)="sinh hoạt",LEFT(E51,6)="Cố vấn",LEFT(E51,6)="cố vấn",LEFT(E51,4)="cvht",LEFT(E51,4)="CVHT",LEFT(E51,4)="shcn",LEFT(E51,4)="SHCN"),0,(IF(AND(H51>0,J51>0),IF(J51>250,1.5,IF(J51>150,1.4,IF(OR(J51>60,MID(F51,3,2)="C3",MID(F51,3,2)="C5",MID(F51,3,2)="C6"),1.3,IF(J51>35,1.2,1)))),0))) -> 0 | L51: =IF(OR(LEFT(E51,2)="ĐA",LEFT(E51,2)="DA",LEFT(E51,5)="Đồ án",LEFT(E51,5)="Đồán "),0,IF(AND(J51>0,I51>0),IF(OR(AND(OR(LEFT(E51,4)="GDQP",LEFT(E51,4)="GDTC",LEFT(E51,4)="gdqp",LEFT(E51,4)="gdtc",LEFT(E51,19)="Giáo dục quốc phòng",LEFT(E51,17)="Giáo dục thể chất"),J51>60),AND(OR(MID(F51,3,2)="C3",MID(F51,3,2)="C5",MID(F51,3,2)="C6"),J51>0)),1.3,IF(AND(OR(LEFT(E51,4)="GDQP",LEFT(E51,4)="gdqp",LEFT(E51,19)="Giáo dục quốc phòng"),J51>35),1.2,IF(AND(OR(LEFT(E51,4)="GDQP",LEFT(E51,4)="gdqp",LEFT(E51,19)="Giáo dục quốc phòng"),J51<=35),1,IF(J51>35,1.2,IF(J51>29,1.1,1))))),0)) -> 0 | M51: =ROUND(IF(AND(MID(F51,3,2)="C3",LEFT(E51,5)="Đồ án"),(J51*0.5)*1.3,IF(OR(LEFT(E51,2)="ĐA",LEFT(E51,2)="DA",LEFT(E51,5)="Đồ án",LEFT(E51,5)="Đồán "),J51*0.5,(IF(H51>0,H51*K51,"0"))+IF(I51>0,(I51*0.75)*L51,"0"))),1) -> 0 | N51: =T51*15%+22 -> 22 | O51: 0 | P51: =SUM(M51:M90)+N51+O51 -> 527 | Q51: 0 | R51: 0 | S51: =IF('Mau B2'!I12>54,54,'Mau B2'!I12) -> 0 | T51: =IF(J51<1,0,IF(OR(LEFT(E51,4)="Toán",LEFT(E51,3)="Vật",LEFT(E51,4)="Hóa",LEFT(E51,3)="Hóa",LEFT(E51,7)="Ngữ văn"),629,IF(OR(LEFT(E51,2)="GD",LEFT(E51,8)="Giáo dục",LEFT(E51,4)="Pháp",LEFT(E51,9)="chính trị"),450,430))) -> 0 | U51: 450 | V51: =IF(J51<1,0,IF(OR(LEFT(E51,4)="Toán",LEFT(E51,3)="Vật",LEFT(E51,3)="Hóa",LEFT(E51,4)="Hóa",LEFT(E51,7)="Ngữ văn"),51,IF(OR(LEFT(E51,4)="Giáo",LEFT(E51,5)="Giáo",LEFT(E51,4)="Pháp",LEFT(E51,5)="Pháp"),56,54))) -> 0 | W51: 56 | X51: =IF(J51<1,0,IF(OR(LEFT(E51,4)="Toán",LEFT(E51,3)="Vật",LEFT(E51,3)="Hóa",LEFT(E51,4)="Hóa",LEFT(E51,7)="Ngữ văn"),0,IF(OR(LEFT(E51,4)="Giáo",LEFT(E51,5)="Giáo",LEFT(E51,4)="Pháp",LEFT(E51,5)="Pháp"),56,54))) -> 0 | Y51: 56 | Z51: =IF(J51<1,0,IF(OR(LEFT(E51,4)="Toán",LEFT(E51,3)="Vật",LEFT(E51,3)="Hóa",LEFT(E51,4)="Hóa",LEFT(E51,7)="Ngữ văn"),0,IF(OR(LEFT(E51,4)="Giáo",LEFT(E51,5)="Giáo",LEFT(E51,4)="Pháp",LEFT(E51,5)="Pháp"),56,54))) -> 0 | AA51: 56 | AB51: =ROUND((P51-U51),1) -> 77 | AC51: =IF(OR(SUM(W51:W90)="",SUM(Q51:Q90)="",SUM(Y51:Y90)="",SUM(R51:R90)=""),0,IF(OR(SUM(V51:V90)+SUM(X51:X90)=108,SUM(W51:W90)+SUM(Y51:Y90)>0),ROUND((SUM(Q51:Q90)-SUM(W51:W90)+SUM(R51:R90)-SUM(Y51:Y90)),1),0)) -> -112 | AD51: =IF(OR(SUM(AA51:AA90)="",SUM(S51:S90)=""),0,IF(OR(SUM(Z51:Z90)=160,SUM(AA51:AA90)>0),ROUND((SUM(S51:S90)-SUM(AA51:AA90)),1),0)) -> -56 | AE51: 0 | AF51: =SUM(AB51:AD90) -> -91
K52: =IF(OR(LEFT(E52,2)="ĐA",LEFT(E52,2)="DA",LEFT(E52,5)="Đồ án",LEFT(E52,5)="Đồán ",LEFT(E52,9)="Sinh hoạt",LEFT(E52,9)="sinh hoạt",LEFT(E52,6)="Cố vấn",LEFT(E52,6)="cố vấn",LEFT(E52,4)="cvht",LEFT(E52,4)="CVHT",LEFT(E52,4)="shcn",LEFT(E52,4)="SHCN"),0,(IF(AND(H52>0,J52>0),IF(J52>250,1.5,IF(J52>150,1.4,IF(OR(J52>60,MID(F52,3,2)="C3",MID(F52,3,2)="C5",MID(F52,3,2)="C6"),1.3,IF(J52>35,1.2,1)))),0))) -> 0 | L52: =IF(OR(LEFT(E52,2)="ĐA",LEFT(E52,2)="DA",LEFT(E52,5)="Đồ án",LEFT(E52,5)="Đồán "),0,IF(AND(J52>0,I52>0),IF(OR(AND(OR(LEFT(E52,4)="GDQP",LEFT(E52,4)="GDTC",LEFT(E52,4)="gdqp",LEFT(E52,4)="gdtc",LEFT(E52,19)="Giáo dục quốc phòng",LEFT(E52,17)="Giáo dục thể chất"),J52>60),AND(OR(MID(F52,3,2)="C3",MID(F52,3,2)="C5",MID(F52,3,2)="C6"),J52>0)),1.3,IF(AND(OR(LEFT(E52,4)="GDQP",LEFT(E52,4)="gdqp",LEFT(E52,19)="Giáo dục quốc phòng"),J52>35),1.2,IF(AND(OR(LEFT(E52,4)="GDQP",LEFT(E52,4)="gdqp",LEFT(E52,19)="Giáo dục quốc phòng"),J52<=35),1,IF(J52>35,1.2,IF(J52>29,1.1,1))))),0)) -> 0 | M52: =ROUND(IF(AND(MID(F52,3,2)="C3",LEFT(E52,5)="Đồ án"),(J52*0.5)*1.3,IF(OR(LEFT(E52,2)="ĐA",LEFT(E52,2)="DA",LEFT(E52,5)="Đồ án",LEFT(E52,5)="Đồán "),J52*0.5,(IF(H52>0,H52*K52,"0"))+IF(I52>0,(I52*0.75)*L52,"0"))),1) -> 0
E53: KT lắp đặt điện | F53: 20T2-ĐCN1 | G53: 1 | H53: 30 | J53: 32 | K53: =IF(OR(LEFT(E53,2)="ĐA",LEFT(E53,2)="DA",LEFT(E53,5)="Đồ án",LEFT(E53,5)="Đồán ",LEFT(E53,9)="Sinh hoạt",LEFT(E53,9)="sinh hoạt",LEFT(E53,6)="Cố vấn",LEFT(E53,6)="cố vấn",LEFT(E53,4)="cvht",LEFT(E53,4)="CVHT",LEFT(E53,4)="shcn",LEFT(E53,4)="SHCN"),0,(IF(AND(H53>0,J53>0),IF(J53>250,1.5,IF(J53>150,1.4,IF(OR(J53>60,MID(F53,3,2)="C3",MID(F53,3,2)="C5",MID(F53,3,2)="C6"),1.3,IF(J53>35,1.2,1)))),0))) -> 1 | L53: =IF(OR(LEFT(E53,2)="ĐA",LEFT(E53,2)="DA",LEFT(E53,5)="Đồ án",LEFT(E53,5)="Đồán "),0,IF(AND(J53>0,I53>0),IF(OR(AND(OR(LEFT(E53,4)="GDQP",LEFT(E53,4)="GDTC",LEFT(E53,4)="gdqp",LEFT(E53,4)="gdtc",LEFT(E53,19)="Giáo dục quốc phòng",LEFT(E53,17)="Giáo dục thể chất"),J53>60),AND(OR(MID(F53,3,2)="C3",MID(F53,3,2)="C5",MID(F53,3,2)="C6"),J53>0)),1.3,IF(AND(OR(LEFT(E53,4)="GDQP",LEFT(E53,4)="gdqp",LEFT(E53,19)="Giáo dục quốc phòng"),J53>35),1.2,IF(AND(OR(LEFT(E53,4)="GDQP",LEFT(E53,4)="gdqp",LEFT(E53,19)="Giáo dục quốc phòng"),J53<=35),1,IF(J53>35,1.2,IF(J53>29,1.1,1))))),0)) -> 0 | M53: =ROUND(IF(AND(MID(F53,3,2)="C3",LEFT(E53,5)="Đồ án"),(J53*0.5)*1.3,IF(OR(LEFT(E53,2)="ĐA",LEFT(E53,2)="DA",LEFT(E53,5)="Đồ án",LEFT(E53,5)="Đồán "),J53*0.5,(IF(H53>0,H53*K53,"0"))+IF(I53>0,(I53*0.75)*L53,"0"))),1) -> 30
K54: =IF(OR(LEFT(E54,2)="ĐA",LEFT(E54,2)="DA",LEFT(E54,5)="Đồ án",LEFT(E54,5)="Đồán ",LEFT(E54,9)="Sinh hoạt",LEFT(E54,9)="sinh hoạt",LEFT(E54,6)="Cố vấn",LEFT(E54,6)="cố vấn",LEFT(E54,4)="cvht",LEFT(E54,4)="CVHT",LEFT(E54,4)="shcn",LEFT(E54,4)="SHCN"),0,(IF(AND(H54>0,J54>0),IF(J54>250,1.5,IF(J54>150,1.4,IF(OR(J54>60,MID(F54,3,2)="C3",MID(F54,3,2)="C5",MID(F54,3,2)="C6"),1.3,IF(J54>35,1.2,1)))),0))) -> 0 | L54: =IF(OR(LEFT(E54,2)="ĐA",LEFT(E54,2)="DA",LEFT(E54,5)="Đồ án",LEFT(E54,5)="Đồán "),0,IF(AND(J54>0,I54>0),IF(OR(AND(OR(LEFT(E54,4)="GDQP",LEFT(E54,4)="GDTC",LEFT(E54,4)="gdqp",LEFT(E54,4)="gdtc",LEFT(E54,19)="Giáo dục quốc phòng",LEFT(E54,17)="Giáo dục thể chất"),J54>60),AND(OR(MID(F54,3,2)="C3",MID(F54,3,2)="C5",MID(F54,3,2)="C6"),J54>0)),1.3,IF(AND(OR(LEFT(E54,4)="GDQP",LEFT(E54,4)="gdqp",LEFT(E54,19)="Giáo dục quốc phòng"),J54>35),1.2,IF(AND(OR(LEFT(E54,4)="GDQP",LEFT(E54,4)="gdqp",LEFT(E54,19)="Giáo dục quốc phòng"),J54<=35),1,IF(J54>35,1.2,IF(J54>29,1.1,1))))),0)) -> 0 | M54: =ROUND(IF(AND(MID(F54,3,2)="C3",LEFT(E54,5)="Đồ án"),(J54*0.5)*1.3,IF(OR(LEFT(E54,2)="ĐA",LEFT(E54,2)="DA",LEFT(E54,5)="Đồ án",LEFT(E54,5)="Đồán "),J54*0.5,(IF(H54>0,H54*K54,"0"))+IF(I54>0,(I54*0.75)*L54,"0"))),1) -> 0
E55: Năng lượng tái tạo | F55: 20C2-ĐCN1 | G55: 1 | H55: 30 | J55: 60 | K55: =IF(OR(LEFT(E55,2)="ĐA",LEFT(E55,2)="DA",LEFT(E55,5)="Đồ án",LEFT(E55,5)="Đồán ",LEFT(E55,9)="Sinh hoạt",LEFT(E55,9)="sinh hoạt",LEFT(E55,6)="Cố vấn",LEFT(E55,6)="cố vấn",LEFT(E55,4)="cvht",LEFT(E55,4)="CVHT",LEFT(E55,4)="shcn",LEFT(E55,4)="SHCN"),0,(IF(AND(H55>0,J55>0),IF(J55>250,1.5,IF(J55>150,1.4,IF(OR(J55>60,MID(F55,3,2)="C3",MID(F55,3,2)="C5",MID(F55,3,2)="C6"),1.3,IF(J55>35,1.2,1)))),0))) -> 1.2 | L55: =IF(OR(LEFT(E55,2)="ĐA",LEFT(E55,2)="DA",LEFT(E55,5)="Đồ án",LEFT(E55,5)="Đồán "),0,IF(AND(J55>0,I55>0),IF(OR(AND(OR(LEFT(E55,4)="GDQP",LEFT(E55,4)="GDTC",LEFT(E55,4)="gdqp",LEFT(E55,4)="gdtc",LEFT(E55,19)="Giáo dục quốc phòng",LEFT(E55,17)="Giáo dục thể chất"),J55>60),AND(OR(MID(F55,3,2)="C3",MID(F55,3,2)="C5",MID(F55,3,2)="C6"),J55>0)),1.3,IF(AND(OR(LEFT(E55,4)="GDQP",LEFT(E55,4)="gdqp",LEFT(E55,19)="Giáo dục quốc phòng"),J55>35),1.2,IF(AND(OR(LEFT(E55,4)="GDQP",LEFT(E55,4)="gdqp",LEFT(E55,19)="Giáo dục quốc phòng"),J55<=35),1,IF(J55>35,1.2,IF(J55>29,1.1,1))))),0)) -> 0 | M55: =ROUND(IF(AND(MID(F55,3,2)="C3",LEFT(E55,5)="Đồ án"),(J55*0.5)*1.3,IF(OR(LEFT(E55,2)="ĐA",LEFT(E55,2)="DA",LEFT(E55,5)="Đồ án",LEFT(E55,5)="Đồán "),J55*0.5,(IF(H55>0,H55*K55,"0"))+IF(I55>0,(I55*0.75)*L55,"0"))),1) -> 36
E56: TH Điện CB | F56: 21T4-ĐĐT1 | G56: 1 | K56: =IF(OR(LEFT(E56,2)="ĐA",LEFT(E56,2)="DA",LEFT(E56,5)="Đồ án",LEFT(E56,5)="Đồán ",LEFT(E56,9)="Sinh hoạt",LEFT(E56,9)="sinh hoạt",LEFT(E56,6)="Cố vấn",LEFT(E56,6)="cố vấn",LEFT(E56,4)="cvht",LEFT(E56,4)="CVHT",LEFT(E56,4)="shcn",LEFT(E56,4)="SHCN"),0,(IF(AND(H56>0,J56>0),IF(J56>250,1.5,IF(J56>150,1.4,IF(OR(J56>60,MID(F56,3,2)="C3",MID(F56,3,2)="C5",MID(F56,3,2)="C6"),1.3,IF(J56>35,1.2,1)))),0))) -> 0 | L56: =IF(OR(LEFT(E56,2)="ĐA",LEFT(E56,2)="DA",LEFT(E56,5)="Đồ án",LEFT(E56,5)="Đồán "),0,IF(AND(J56>0,I56>0),IF(OR(AND(OR(LEFT(E56,4)="GDQP",LEFT(E56,4)="GDTC",LEFT(E56,4)="gdqp",LEFT(E56,4)="gdtc",LEFT(E56,19)="Giáo dục quốc phòng",LEFT(E56,17)="Giáo dục thể chất"),J56>60),AND(OR(MID(F56,3,2)="C3",MID(F56,3,2)="C5",MID(F56,3,2)="C6"),J56>0)),1.3,IF(AND(OR(LEFT(E56,4)="GDQP",LEFT(E56,4)="gdqp",LEFT(E56,19)="Giáo dục quốc phòng"),J56>35),1.2,IF(AND(OR(LEFT(E56,4)="GDQP",LEFT(E56,4)="gdqp",LEFT(E56,19)="Giáo dục quốc phòng"),J56<=35),1,IF(J56>35,1.2,IF(J56>29,1.1,1))))),0)) -> 0 | M56: =ROUND(IF(AND(MID(F56,3,2)="C3",LEFT(E56,5)="Đồ án"),(J56*0.5)*1.3,IF(OR(LEFT(E56,2)="ĐA",LEFT(E56,2)="DA",LEFT(E56,5)="Đồ án",LEFT(E56,5)="Đồán "),J56*0.5,(IF(H56>0,H56*K56,"0"))+IF(I56>0,(I56*0.75)*L56,"0"))),1) -> 0
E57: TH CCĐ | F57: 18T4 ĐCN1 N1 | G57: 1 | I57: 18 | J57: 20 | K57: =IF(OR(LEFT(E57,2)="ĐA",LEFT(E57,2)="DA",LEFT(E57,5)="Đồ án",LEFT(E57,5)="Đồán ",LEFT(E57,9)="Sinh hoạt",LEFT(E57,9)="sinh hoạt",LEFT(E57,6)="Cố vấn",LEFT(E57,6)="cố vấn",LEFT(E57,4)="cvht",LEFT(E57,4)="CVHT",LEFT(E57,4)="shcn",LEFT(E57,4)="SHCN"),0,(IF(AND(H57>0,J57>0),IF(J57>250,1.5,IF(J57>150,1.4,IF(OR(J57>60,MID(F57,3,2)="C3",MID(F57,3,2)="C5",MID(F57,3,2)="C6"),1.3,IF(J57>35,1.2,1)))),0))) -> 0 | L57: =IF(OR(LEFT(E57,2)="ĐA",LEFT(E57,2)="DA",LEFT(E57,5)="Đồ án",LEFT(E57,5)="Đồán "),0,IF(AND(J57>0,I57>0),IF(OR(AND(OR(LEFT(E57,4)="GDQP",LEFT(E57,4)="GDTC",LEFT(E57,4)="gdqp",LEFT(E57,4)="gdtc",LEFT(E57,19)="Giáo dục quốc phòng",LEFT(E57,17)="Giáo dục thể chất"),J57>60),AND(OR(MID(F57,3,2)="C3",MID(F57,3,2)="C5",MID(F57,3,2)="C6"),J57>0)),1.3,IF(AND(OR(LEFT(E57,4)="GDQP",LEFT(E57,4)="gdqp",LEFT(E57,19)="Giáo dục quốc phòng"),J57>35),1.2,IF(AND(OR(LEFT(E57,4)="GDQP",LEFT(E57,4)="gdqp",LEFT(E57,19)="Giáo dục quốc phòng"),J57<=35),1,IF(J57>35,1.2,IF(J57>29,1.1,1))))),0)) -> 1 | M57: =ROUND(IF(AND(MID(F57,3,2)="C3",LEFT(E57,5)="Đồ án"),(J57*0.5)*1.3,IF(OR(LEFT(E57,2)="ĐA",LEFT(E57,2)="DA",LEFT(E57,5)="Đồ án",LEFT(E57,5)="Đồán "),J57*0.5,(IF(H57>0,H57*K57,"0"))+IF(I57>0,(I57*0.75)*L57,"0"))),1) -> 13.5
C58: 30 | F58: 18T4 ĐCN1 N2 | I58: 12 | J58: 20 | K58: =IF(OR(LEFT(E58,2)="ĐA",LEFT(E58,2)="DA",LEFT(E58,5)="Đồ án",LEFT(E58,5)="Đồán ",LEFT(E58,9)="Sinh hoạt",LEFT(E58,9)="sinh hoạt",LEFT(E58,6)="Cố vấn",LEFT(E58,6)="cố vấn",LEFT(E58,4)="cvht",LEFT(E58,4)="CVHT",LEFT(E58,4)="shcn",LEFT(E58,4)="SHCN"),0,(IF(AND(H58>0,J58>0),IF(J58>250,1.5,IF(J58>150,1.4,IF(OR(J58>60,MID(F58,3,2)="C3",MID(F58,3,2)="C5",MID(F58,3,2)="C6"),1.3,IF(J58>35,1.2,1)))),0))) -> 0 | L58: =IF(OR(LEFT(E58,2)="ĐA",LEFT(E58,2)="DA",LEFT(E58,5)="Đồ án",LEFT(E58,5)="Đồán "),0,IF(AND(J58>0,I58>0),IF(OR(AND(OR(LEFT(E58,4)="GDQP",LEFT(E58,4)="GDTC",LEFT(E58,4)="gdqp",LEFT(E58,4)="gdtc",LEFT(E58,19)="Giáo dục quốc phòng",LEFT(E58,17)="Giáo dục thể chất"),J58>60),AND(OR(MID(F58,3,2)="C3",MID(F58,3,2)="C5",MID(F58,3,2)="C6"),J58>0)),1.3,IF(AND(OR(LEFT(E58,4)="GDQP",LEFT(E58,4)="gdqp",LEFT(E58,19)="Giáo dục quốc phòng"),J58>35),1.2,IF(AND(OR(LEFT(E58,4)="GDQP",LEFT(E58,4)="gdqp",LEFT(E58,19)="Giáo dục quốc phòng"),J58<=35),1,IF(J58>35,1.2,IF(J58>29,1.1,1))))),0)) -> 1 | M58: =ROUND(IF(AND(MID(F58,3,2)="C3",LEFT(E58,5)="Đồ án"),(J58*0.5)*1.3,IF(OR(LEFT(E58,2)="ĐA",LEFT(E58,2)="DA",LEFT(E58,5)="Đồ án",LEFT(E58,5)="Đồán "),J58*0.5,(IF(H58>0,H58*K58,"0"))+IF(I58>0,(I58*0.75)*L58,"0"))),1) -> 9
E59: TH CCĐ | F59: 19C1-ĐCN1 N1 | G59: 2 | I59: 50 | J59: 22 | K59: =IF(OR(LEFT(E59,2)="ĐA",LEFT(E59,2)="DA",LEFT(E59,5)="Đồ án",LEFT(E59,5)="Đồán ",LEFT(E59,9)="Sinh hoạt",LEFT(E59,9)="sinh hoạt",LEFT(E59,6)="Cố vấn",LEFT(E59,6)="cố vấn",LEFT(E59,4)="cvht",LEFT(E59,4)="CVHT",LEFT(E59,4)="shcn",LEFT(E59,4)="SHCN"),0,(IF(AND(H59>0,J59>0),IF(J59>250,1.5,IF(J59>150,1.4,IF(OR(J59>60,MID(F59,3,2)="C3",MID(F59,3,2)="C5",MID(F59,3,2)="C6"),1.3,IF(J59>35,1.2,1)))),0))) -> 0 | L59: =IF(OR(LEFT(E59,2)="ĐA",LEFT(E59,2)="DA",LEFT(E59,5)="Đồ án",LEFT(E59,5)="Đồán "),0,IF(AND(J59>0,I59>0),IF(OR(AND(OR(LEFT(E59,4)="GDQP",LEFT(E59,4)="GDTC",LEFT(E59,4)="gdqp",LEFT(E59,4)="gdtc",LEFT(E59,19)="Giáo dục quốc phòng",LEFT(E59,17)="Giáo dục thể chất"),J59>60),AND(OR(MID(F59,3,2)="C3",MID(F59,3,2)="C5",MID(F59,3,2)="C6"),J59>0)),1.3,IF(AND(OR(LEFT(E59,4)="GDQP",LEFT(E59,4)="gdqp",LEFT(E59,19)="Giáo dục quốc phòng"),J59>35),1.2,IF(AND(OR(LEFT(E59,4)="GDQP",LEFT(E59,4)="gdqp",LEFT(E59,19)="Giáo dục quốc phòng"),J59<=35),1,IF(J59>35,1.2,IF(J59>29,1.1,1))))),0)) -> 1 | M59: =ROUND(IF(AND(MID(F59,3,2)="C3",LEFT(E59,5)="Đồ án"),(J59*0.5)*1.3,IF(OR(LEFT(E59,2)="ĐA",LEFT(E59,2)="DA",LEFT(E59,5)="Đồ án",LEFT(E59,5)="Đồán "),J59*0.5,(IF(H59>0,H59*K59,"0"))+IF(I59>0,(I59*0.75)*L59,"0"))),1) -> 37.5
F60: 19C1-ĐCN1 N2 | G60: 2 | I60: 50 | J60: 22 | K60: =IF(OR(LEFT(E60,2)="ĐA",LEFT(E60,2)="DA",LEFT(E60,5)="Đồ án",LEFT(E60,5)="Đồán ",LEFT(E60,9)="Sinh hoạt",LEFT(E60,9)="sinh hoạt",LEFT(E60,6)="Cố vấn",LEFT(E60,6)="cố vấn",LEFT(E60,4)="cvht",LEFT(E60,4)="CVHT",LEFT(E60,4)="shcn",LEFT(E60,4)="SHCN"),0,(IF(AND(H60>0,J60>0),IF(J60>250,1.5,IF(J60>150,1.4,IF(OR(J60>60,MID(F60,3,2)="C3",MID(F60,3,2)="C5",MID(F60,3,2)="C6"),1.3,IF(J60>35,1.2,1)))),0))) -> 0 | L60: =IF(OR(LEFT(E60,2)="ĐA",LEFT(E60,2)="DA",LEFT(E60,5)="Đồ án",LEFT(E60,5)="Đồán "),0,IF(AND(J60>0,I60>0),IF(OR(AND(OR(LEFT(E60,4)="GDQP",LEFT(E60,4)="GDTC",LEFT(E60,4)="gdqp",LEFT(E60,4)="gdtc",LEFT(E60,19)="Giáo dục quốc phòng",LEFT(E60,17)="Giáo dục thể chất"),J60>60),AND(OR(MID(F60,3,2)="C3",MID(F60,3,2)="C5",MID(F60,3,2)="C6"),J60>0)),1.3,IF(AND(OR(LEFT(E60,4)="GDQP",LEFT(E60,4)="gdqp",LEFT(E60,19)="Giáo dục quốc phòng"),J60>35),1.2,IF(AND(OR(LEFT(E60,4)="GDQP",LEFT(E60,4)="gdqp",LEFT(E60,19)="Giáo dục quốc phòng"),J60<=35),1,IF(J60>35,1.2,IF(J60>29,1.1,1))))),0)) -> 1 | M60: =ROUND(IF(AND(MID(F60,3,2)="C3",LEFT(E60,5)="Đồ án"),(J60*0.5)*1.3,IF(OR(LEFT(E60,2)="ĐA",LEFT(E60,2)="DA",LEFT(E60,5)="Đồ án",LEFT(E60,5)="Đồán "),J60*0.5,(IF(H60>0,H60*K60,"0"))+IF(I60>0,(I60*0.75)*L60,"0"))),1) -> 37.5
E61: TH ĐCB | F61: 21T4-CĐT1 N1 | G61: 2 | I61: 60 | J61: 25 | K61: =IF(OR(LEFT(E61,2)="ĐA",LEFT(E61,2)="DA",LEFT(E61,5)="Đồ án",LEFT(E61,5)="Đồán ",LEFT(E61,9)="Sinh hoạt",LEFT(E61,9)="sinh hoạt",LEFT(E61,6)="Cố vấn",LEFT(E61,6)="cố vấn",LEFT(E61,4)="cvht",LEFT(E61,4)="CVHT",LEFT(E61,4)="shcn",LEFT(E61,4)="SHCN"),0,(IF(AND(H61>0,J61>0),IF(J61>250,1.5,IF(J61>150,1.4,IF(OR(J61>60,MID(F61,3,2)="C3",MID(F61,3,2)="C5",MID(F61,3,2)="C6"),1.3,IF(J61>35,1.2,1)))),0))) -> 0 | L61: =IF(OR(LEFT(E61,2)="ĐA",LEFT(E61,2)="DA",LEFT(E61,5)="Đồ án",LEFT(E61,5)="Đồán "),0,IF(AND(J61>0,I61>0),IF(OR(AND(OR(LEFT(E61,4)="GDQP",LEFT(E61,4)="GDTC",LEFT(E61,4)="gdqp",LEFT(E61,4)="gdtc",LEFT(E61,19)="Giáo dục quốc phòng",LEFT(E61,17)="Giáo dục thể chất"),J61>60),AND(OR(MID(F61,3,2)="C3",MID(F61,3,2)="C5",MID(F61,3,2)="C6"),J61>0)),1.3,IF(AND(OR(LEFT(E61,4)="GDQP",LEFT(E61,4)="gdqp",LEFT(E61,19)="Giáo dục quốc phòng"),J61>35),1.2,IF(AND(OR(LEFT(E61,4)="GDQP",LEFT(E61,4)="gdqp",LEFT(E61,19)="Giáo dục quốc phòng"),J61<=35),1,IF(J61>35,1.2,IF(J61>29,1.1,1))))),0)) -> 1 | M61: =ROUND(IF(AND(MID(F61,3,2)="C3",LEFT(E61,5)="Đồ án"),(J61*0.5)*1.3,IF(OR(LEFT(E61,2)="ĐA",LEFT(E61,2)="DA",LEFT(E61,5)="Đồ án",LEFT(E61,5)="Đồán "),J61*0.5,(IF(H61>0,H61*K61,"0"))+IF(I61>0,(I61*0.75)*L61,"0"))),1) -> 45
F62: 21T4-CĐT1 N2 | G62: 2 | I62: 60 | J62: 25 | K62: =IF(OR(LEFT(E62,2)="ĐA",LEFT(E62,2)="DA",LEFT(E62,5)="Đồ án",LEFT(E62,5)="Đồán ",LEFT(E62,9)="Sinh hoạt",LEFT(E62,9)="sinh hoạt",LEFT(E62,6)="Cố vấn",LEFT(E62,6)="cố vấn",LEFT(E62,4)="cvht",LEFT(E62,4)="CVHT",LEFT(E62,4)="shcn",LEFT(E62,4)="SHCN"),0,(IF(AND(H62>0,J62>0),IF(J62>250,1.5,IF(J62>150,1.4,IF(OR(J62>60,MID(F62,3,2)="C3",MID(F62,3,2)="C5",MID(F62,3,2)="C6"),1.3,IF(J62>35,1.2,1)))),0))) -> 0 | L62: =IF(OR(LEFT(E62,2)="ĐA",LEFT(E62,2)="DA",LEFT(E62,5)="Đồ án",LEFT(E62,5)="Đồán "),0,IF(AND(J62>0,I62>0),IF(OR(AND(OR(LEFT(E62,4)="GDQP",LEFT(E62,4)="GDTC",LEFT(E62,4)="gdqp",LEFT(E62,4)="gdtc",LEFT(E62,19)="Giáo dục quốc phòng",LEFT(E62,17)="Giáo dục thể chất"),J62>60),AND(OR(MID(F62,3,2)="C3",MID(F62,3,2)="C5",MID(F62,3,2)="C6"),J62>0)),1.3,IF(AND(OR(LEFT(E62,4)="GDQP",LEFT(E62,4)="gdqp",LEFT(E62,19)="Giáo dục quốc phòng"),J62>35),1.2,IF(AND(OR(LEFT(E62,4)="GDQP",LEFT(E62,4)="gdqp",LEFT(E62,19)="Giáo dục quốc phòng"),J62<=35),1,IF(J62>35,1.2,IF(J62>29,1.1,1))))),0)) -> 1 | M62: =ROUND(IF(AND(MID(F62,3,2)="C3",LEFT(E62,5)="Đồ án"),(J62*0.5)*1.3,IF(OR(LEFT(E62,2)="ĐA",LEFT(E62,2)="DA",LEFT(E62,5)="Đồ án",LEFT(E62,5)="Đồán "),J62*0.5,(IF(H62>0,H62*K62,"0"))+IF(I62>0,(I62*0.75)*L62,"0"))),1) -> 45
K63: =IF(OR(LEFT(E63,2)="ĐA",LEFT(E63,2)="DA",LEFT(E63,5)="Đồ án",LEFT(E63,5)="Đồán ",LEFT(E63,9)="Sinh hoạt",LEFT(E63,9)="sinh hoạt",LEFT(E63,6)="Cố vấn",LEFT(E63,6)="cố vấn",LEFT(E63,4)="cvht",LEFT(E63,4)="CVHT",LEFT(E63,4)="shcn",LEFT(E63,4)="SHCN"),0,(IF(AND(H63>0,J63>0),IF(J63>250,1.5,IF(J63>150,1.4,IF(OR(J63>60,MID(F63,3,2)="C3",MID(F63,3,2)="C5",MID(F63,3,2)="C6"),1.3,IF(J63>35,1.2,1)))),0))) -> 0 | L63: =IF(OR(LEFT(E63,2)="ĐA",LEFT(E63,2)="DA",LEFT(E63,5)="Đồ án",LEFT(E63,5)="Đồán "),0,IF(AND(J63>0,I63>0),IF(OR(AND(OR(LEFT(E63,4)="GDQP",LEFT(E63,4)="GDTC",LEFT(E63,4)="gdqp",LEFT(E63,4)="gdtc",LEFT(E63,19)="Giáo dục quốc phòng",LEFT(E63,17)="Giáo dục thể chất"),J63>60),AND(OR(MID(F63,3,2)="C3",MID(F63,3,2)="C5",MID(F63,3,2)="C6"),J63>0)),1.3,IF(AND(OR(LEFT(E63,4)="GDQP",LEFT(E63,4)="gdqp",LEFT(E63,19)="Giáo dục quốc phòng"),J63>35),1.2,IF(AND(OR(LEFT(E63,4)="GDQP",LEFT(E63,4)="gdqp",LEFT(E63,19)="Giáo dục quốc phòng"),J63<=35),1,IF(J63>35,1.2,IF(J63>29,1.1,1))))),0)) -> 0 | M63: =ROUND(IF(AND(MID(F63,3,2)="C3",LEFT(E63,5)="Đồ án"),(J63*0.5)*1.3,IF(OR(LEFT(E63,2)="ĐA",LEFT(E63,2)="DA",LEFT(E63,5)="Đồ án",LEFT(E63,5)="Đồán "),J63*0.5,(IF(H63>0,H63*K63,"0"))+IF(I63>0,(I63*0.75)*L63,"0"))),1) -> 0
E64: TH ĐCB | F64: 21C1-ĐĐT1 | G64: 2 | I64: 60 | J64: 39 | K64: =IF(OR(LEFT(E64,2)="ĐA",LEFT(E64,2)="DA",LEFT(E64,5)="Đồ án",LEFT(E64,5)="Đồán ",LEFT(E64,9)="Sinh hoạt",LEFT(E64,9)="sinh hoạt",LEFT(E64,6)="Cố vấn",LEFT(E64,6)="cố vấn",LEFT(E64,4)="cvht",LEFT(E64,4)="CVHT",LEFT(E64,4)="shcn",LEFT(E64,4)="SHCN"),0,(IF(AND(H64>0,J64>0),IF(J64>250,1.5,IF(J64>150,1.4,IF(OR(J64>60,MID(F64,3,2)="C3",MID(F64,3,2)="C5",MID(F64,3,2)="C6"),1.3,IF(J64>35,1.2,1)))),0))) -> 0 | L64: =IF(OR(LEFT(E64,2)="ĐA",LEFT(E64,2)="DA",LEFT(E64,5)="Đồ án",LEFT(E64,5)="Đồán "),0,IF(AND(J64>0,I64>0),IF(OR(AND(OR(LEFT(E64,4)="GDQP",LEFT(E64,4)="GDTC",LEFT(E64,4)="gdqp",LEFT(E64,4)="gdtc",LEFT(E64,19)="Giáo dục quốc phòng",LEFT(E64,17)="Giáo dục thể chất"),J64>60),AND(OR(MID(F64,3,2)="C3",MID(F64,3,2)="C5",MID(F64,3,2)="C6"),J64>0)),1.3,IF(AND(OR(LEFT(E64,4)="GDQP",LEFT(E64,4)="gdqp",LEFT(E64,19)="Giáo dục quốc phòng"),J64>35),1.2,IF(AND(OR(LEFT(E64,4)="GDQP",LEFT(E64,4)="gdqp",LEFT(E64,19)="Giáo dục quốc phòng"),J64<=35),1,IF(J64>35,1.2,IF(J64>29,1.1,1))))),0)) -> 1.2 | M64: =ROUND(IF(AND(MID(F64,3,2)="C3",LEFT(E64,5)="Đồ án"),(J64*0.5)*1.3,IF(OR(LEFT(E64,2)="ĐA",LEFT(E64,2)="DA",LEFT(E64,5)="Đồ án",LEFT(E64,5)="Đồán "),J64*0.5,(IF(H64>0,H64*K64,"0"))+IF(I64>0,(I64*0.75)*L64,"0"))),1) -> 54
E65: TH ĐCB | F65: 21C1-ĐĐT2 | G65: 2 | I65: 60 | J65: 36 | K65: =IF(OR(LEFT(E65,2)="ĐA",LEFT(E65,2)="DA",LEFT(E65,5)="Đồ án",LEFT(E65,5)="Đồán ",LEFT(E65,9)="Sinh hoạt",LEFT(E65,9)="sinh hoạt",LEFT(E65,6)="Cố vấn",LEFT(E65,6)="cố vấn",LEFT(E65,4)="cvht",LEFT(E65,4)="CVHT",LEFT(E65,4)="shcn",LEFT(E65,4)="SHCN"),0,(IF(AND(H65>0,J65>0),IF(J65>250,1.5,IF(J65>150,1.4,IF(OR(J65>60,MID(F65,3,2)="C3",MID(F65,3,2)="C5",MID(F65,3,2)="C6"),1.3,IF(J65>35,1.2,1)))),0))) -> 0 | L65: =IF(OR(LEFT(E65,2)="ĐA",LEFT(E65,2)="DA",LEFT(E65,5)="Đồ án",LEFT(E65,5)="Đồán "),0,IF(AND(J65>0,I65>0),IF(OR(AND(OR(LEFT(E65,4)="GDQP",LEFT(E65,4)="GDTC",LEFT(E65,4)="gdqp",LEFT(E65,4)="gdtc",LEFT(E65,19)="Giáo dục quốc phòng",LEFT(E65,17)="Giáo dục thể chất"),J65>60),AND(OR(MID(F65,3,2)="C3",MID(F65,3,2)="C5",MID(F65,3,2)="C6"),J65>0)),1.3,IF(AND(OR(LEFT(E65,4)="GDQP",LEFT(E65,4)="gdqp",LEFT(E65,19)="Giáo dục quốc phòng"),J65>35),1.2,IF(AND(OR(LEFT(E65,4)="GDQP",LEFT(E65,4)="gdqp",LEFT(E65,19)="Giáo dục quốc phòng"),J65<=35),1,IF(J65>35,1.2,IF(J65>29,1.1,1))))),0)) -> 1.2 | M65: =ROUND(IF(AND(MID(F65,3,2)="C3",LEFT(E65,5)="Đồ án"),(J65*0.5)*1.3,IF(OR(LEFT(E65,2)="ĐA",LEFT(E65,2)="DA",LEFT(E65,5)="Đồ án",LEFT(E65,5)="Đồán "),J65*0.5,(IF(H65>0,H65*K65,"0"))+IF(I65>0,(I65*0.75)*L65,"0"))),1) -> 54
E66: TH TBĐ | F66: 20T4-TĐH1 | G66: 2 | I66: 90 | J66: 36 | K66: =IF(OR(LEFT(E66,2)="ĐA",LEFT(E66,2)="DA",LEFT(E66,5)="Đồ án",LEFT(E66,5)="Đồán ",LEFT(E66,9)="Sinh hoạt",LEFT(E66,9)="sinh hoạt",LEFT(E66,6)="Cố vấn",LEFT(E66,6)="cố vấn",LEFT(E66,4)="cvht",LEFT(E66,4)="CVHT",LEFT(E66,4)="shcn",LEFT(E66,4)="SHCN"),0,(IF(AND(H66>0,J66>0),IF(J66>250,1.5,IF(J66>150,1.4,IF(OR(J66>60,MID(F66,3,2)="C3",MID(F66,3,2)="C5",MID(F66,3,2)="C6"),1.3,IF(J66>35,1.2,1)))),0))) -> 0 | L66: =IF(OR(LEFT(E66,2)="ĐA",LEFT(E66,2)="DA",LEFT(E66,5)="Đồ án",LEFT(E66,5)="Đồán "),0,IF(AND(J66>0,I66>0),IF(OR(AND(OR(LEFT(E66,4)="GDQP",LEFT(E66,4)="GDTC",LEFT(E66,4)="gdqp",LEFT(E66,4)="gdtc",LEFT(E66,19)="Giáo dục quốc phòng",LEFT(E66,17)="Giáo dục thể chất"),J66>60),AND(OR(MID(F66,3,2)="C3",MID(F66,3,2)="C5",MID(F66,3,2)="C6"),J66>0)),1.3,IF(AND(OR(LEFT(E66,4)="GDQP",LEFT(E66,4)="gdqp",LEFT(E66,19)="Giáo dục quốc phòng"),J66>35),1.2,IF(AND(OR(LEFT(E66,4)="GDQP",LEFT(E66,4)="gdqp",LEFT(E66,19)="Giáo dục quốc phòng"),J66<=35),1,IF(J66>35,1.2,IF(J66>29,1.1,1))))),0)) -> 1.2 | M66: =ROUND(IF(AND(MID(F66,3,2)="C3",LEFT(E66,5)="Đồ án"),(J66*0.5)*1.3,IF(OR(LEFT(E66,2)="ĐA",LEFT(E66,2)="DA",LEFT(E66,5)="Đồ án",LEFT(E66,5)="Đồán "),J66*0.5,(IF(H66>0,H66*K66,"0"))+IF(I66>0,(I66*0.75)*L66,"0"))),1) -> 81
E67: Đồ án chuyên ngành 1 | F67: 20C1 - ĐCN 2 | H67: 45 | J67: 35 | K67: =IF(OR(LEFT(E67,2)="ĐA",LEFT(E67,2)="DA",LEFT(E67,5)="Đồ án",LEFT(E67,5)="Đồán ",LEFT(E67,9)="Sinh hoạt",LEFT(E67,9)="sinh hoạt",LEFT(E67,6)="Cố vấn",LEFT(E67,6)="cố vấn",LEFT(E67,4)="cvht",LEFT(E67,4)="CVHT",LEFT(E67,4)="shcn",LEFT(E67,4)="SHCN"),0,(IF(AND(H67>0,J67>0),IF(J67>250,1.5,IF(J67>150,1.4,IF(OR(J67>60,MID(F67,3,2)="C3",MID(F67,3,2)="C5",MID(F67,3,2)="C6"),1.3,IF(J67>35,1.2,1)))),0))) -> 0 | L67: =IF(OR(LEFT(E67,2)="ĐA",LEFT(E67,2)="DA",LEFT(E67,5)="Đồ án",LEFT(E67,5)="Đồán "),0,IF(AND(J67>0,I67>0),IF(OR(AND(OR(LEFT(E67,4)="GDQP",LEFT(E67,4)="GDTC",LEFT(E67,4)="gdqp",LEFT(E67,4)="gdtc",LEFT(E67,19)="Giáo dục quốc phòng",LEFT(E67,17)="Giáo dục thể chất"),J67>60),AND(OR(MID(F67,3,2)="C3",MID(F67,3,2)="C5",MID(F67,3,2)="C6"),J67>0)),1.3,IF(AND(OR(LEFT(E67,4)="GDQP",LEFT(E67,4)="gdqp",LEFT(E67,19)="Giáo dục quốc phòng"),J67>35),1.2,IF(AND(OR(LEFT(E67,4)="GDQP",LEFT(E67,4)="gdqp",LEFT(E67,19)="Giáo dục quốc phòng"),J67<=35),1,IF(J67>35,1.2,IF(J67>29,1.1,1))))),0)) -> 0 | M67: =ROUND(IF(AND(MID(F67,3,2)="C3",LEFT(E67,5)="Đồ án"),(J67*0.5)*1.3,IF(OR(LEFT(E67,2)="ĐA",LEFT(E67,2)="DA",LEFT(E67,5)="Đồ án",LEFT(E67,5)="Đồán "),J67*0.5,(IF(H67>0,H67*K67,"0"))+IF(I67>0,(I67*0.75)*L67,"0"))),1) -> 17.5
E68: TH TBĐ | F68: 20C1-CĐT1 (N2) | I68: 60 | J68: 20 | K68: =IF(OR(LEFT(E68,2)="ĐA",LEFT(E68,2)="DA",LEFT(E68,5)="Đồ án",LEFT(E68,5)="Đồán ",LEFT(E68,9)="Sinh hoạt",LEFT(E68,9)="sinh hoạt",LEFT(E68,6)="Cố vấn",LEFT(E68,6)="cố vấn",LEFT(E68,4)="cvht",LEFT(E68,4)="CVHT",LEFT(E68,4)="shcn",LEFT(E68,4)="SHCN"),0,(IF(AND(H68>0,J68>0),IF(J68>250,1.5,IF(J68>150,1.4,IF(OR(J68>60,MID(F68,3,2)="C3",MID(F68,3,2)="C5",MID(F68,3,2)="C6"),1.3,IF(J68>35,1.2,1)))),0))) -> 0 | L68: =IF(OR(LEFT(E68,2)="ĐA",LEFT(E68,2)="DA",LEFT(E68,5)="Đồ án",LEFT(E68,5)="Đồán "),0,IF(AND(J68>0,I68>0),IF(OR(AND(OR(LEFT(E68,4)="GDQP",LEFT(E68,4)="GDTC",LEFT(E68,4)="gdqp",LEFT(E68,4)="gdtc",LEFT(E68,19)="Giáo dục quốc phòng",LEFT(E68,17)="Giáo dục thể chất"),J68>60),AND(OR(MID(F68,3,2)="C3",MID(F68,3,2)="C5",MID(F68,3,2)="C6"),J68>0)),1.3,IF(AND(OR(LEFT(E68,4)="GDQP",LEFT(E68,4)="gdqp",LEFT(E68,19)="Giáo dục quốc phòng"),J68>35),1.2,IF(AND(OR(LEFT(E68,4)="GDQP",LEFT(E68,4)="gdqp",LEFT(E68,19)="Giáo dục quốc phòng"),J68<=35),1,IF(J68>35,1.2,IF(J68>29,1.1,1))))),0)) -> 1 | M68: =ROUND(IF(AND(MID(F68,3,2)="C3",LEFT(E68,5)="Đồ án"),(J68*0.5)*1.3,IF(OR(LEFT(E68,2)="ĐA",LEFT(E68,2)="DA",LEFT(E68,5)="Đồ án",LEFT(E68,5)="Đồán "),J68*0.5,(IF(H68>0,H68*K68,"0"))+IF(I68>0,(I68*0.75)*L68,"0"))),1) -> 45
K69: =IF(OR(LEFT(E69,2)="ĐA",LEFT(E69,2)="DA",LEFT(E69,5)="Đồ án",LEFT(E69,5)="Đồán ",LEFT(E69,9)="Sinh hoạt",LEFT(E69,9)="sinh hoạt",LEFT(E69,6)="Cố vấn",LEFT(E69,6)="cố vấn",LEFT(E69,4)="cvht",LEFT(E69,4)="CVHT",LEFT(E69,4)="shcn",LEFT(E69,4)="SHCN"),0,(IF(AND(H69>0,J69>0),IF(J69>250,1.5,IF(J69>150,1.4,IF(OR(J69>60,MID(F69,3,2)="C3",MID(F69,3,2)="C5",MID(F69,3,2)="C6"),1.3,IF(J69>35,1.2,1)))),0))) -> 0 | L69: =IF(OR(LEFT(E69,2)="ĐA",LEFT(E69,2)="DA",LEFT(E69,5)="Đồ án",LEFT(E69,5)="Đồán "),0,IF(AND(J69>0,I69>0),IF(OR(AND(OR(LEFT(E69,4)="GDQP",LEFT(E69,4)="GDTC",LEFT(E69,4)="gdqp",LEFT(E69,4)="gdtc",LEFT(E69,19)="Giáo dục quốc phòng",LEFT(E69,17)="Giáo dục thể chất"),J69>60),AND(OR(MID(F69,3,2)="C3",MID(F69,3,2)="C5",MID(F69,3,2)="C6"),J69>0)),1.3,IF(AND(OR(LEFT(E69,4)="GDQP",LEFT(E69,4)="gdqp",LEFT(E69,19)="Giáo dục quốc phòng"),J69>35),1.2,IF(AND(OR(LEFT(E69,4)="GDQP",LEFT(E69,4)="gdqp",LEFT(E69,19)="Giáo dục quốc phòng"),J69<=35),1,IF(J69>35,1.2,IF(J69>29,1.1,1))))),0)) -> 0 | M69: =ROUND(IF(AND(MID(F69,3,2)="C3",LEFT(E69,5)="Đồ án"),(J69*0.5)*1.3,IF(OR(LEFT(E69,2)="ĐA",LEFT(E69,2)="DA",LEFT(E69,5)="Đồ án",LEFT(E69,5)="Đồán "),J69*0.5,(IF(H69>0,H69*K69,"0"))+IF(I69>0,(I69*0.75)*L69,"0"))),1) -> 0
K70: =IF(OR(LEFT(E70,2)="ĐA",LEFT(E70,2)="DA",LEFT(E70,5)="Đồ án",LEFT(E70,5)="Đồán ",LEFT(E70,9)="Sinh hoạt",LEFT(E70,9)="sinh hoạt",LEFT(E70,6)="Cố vấn",LEFT(E70,6)="cố vấn",LEFT(E70,4)="cvht",LEFT(E70,4)="CVHT",LEFT(E70,4)="shcn",LEFT(E70,4)="SHCN"),0,(IF(AND(H70>0,J70>0),IF(J70>250,1.5,IF(J70>150,1.4,IF(OR(J70>60,MID(F70,3,2)="C3",MID(F70,3,2)="C5",MID(F70,3,2)="C6"),1.3,IF(J70>35,1.2,1)))),0))) -> 0 | L70: =IF(OR(LEFT(E70,2)="ĐA",LEFT(E70,2)="DA",LEFT(E70,5)="Đồ án",LEFT(E70,5)="Đồán "),0,IF(AND(J70>0,I70>0),IF(OR(AND(OR(LEFT(E70,4)="GDQP",LEFT(E70,4)="GDTC",LEFT(E70,4)="gdqp",LEFT(E70,4)="gdtc",LEFT(E70,19)="Giáo dục quốc phòng",LEFT(E70,17)="Giáo dục thể chất"),J70>60),AND(OR(MID(F70,3,2)="C3",MID(F70,3,2)="C5",MID(F70,3,2)="C6"),J70>0)),1.3,IF(AND(OR(LEFT(E70,4)="GDQP",LEFT(E70,4)="gdqp",LEFT(E70,19)="Giáo dục quốc phòng"),J70>35),1.2,IF(AND(OR(LEFT(E70,4)="GDQP",LEFT(E70,4)="gdqp",LEFT(E70,19)="Giáo dục quốc phòng"),J70<=35),1,IF(J70>35,1.2,IF(J70>29,1.1,1))))),0)) -> 0 | M70: =ROUND(IF(AND(MID(F70,3,2)="C3",LEFT(E70,5)="Đồ án"),(J70*0.5)*1.3,IF(OR(LEFT(E70,2)="ĐA",LEFT(E70,2)="DA",LEFT(E70,5)="Đồ án",LEFT(E70,5)="Đồán "),J70*0.5,(IF(H70>0,H70*K70,"0"))+IF(I70>0,(I70*0.75)*L70,"0"))),1) -> 0
K71: =IF(OR(LEFT(E71,2)="ĐA",LEFT(E71,2)="DA",LEFT(E71,5)="Đồ án",LEFT(E71,5)="Đồán ",LEFT(E71,9)="Sinh hoạt",LEFT(E71,9)="sinh hoạt",LEFT(E71,6)="Cố vấn",LEFT(E71,6)="cố vấn",LEFT(E71,4)="cvht",LEFT(E71,4)="CVHT",LEFT(E71,4)="shcn",LEFT(E71,4)="SHCN"),0,(IF(AND(H71>0,J71>0),IF(J71>250,1.5,IF(J71>150,1.4,IF(OR(J71>60,MID(F71,3,2)="C3",MID(F71,3,2)="C5",MID(F71,3,2)="C6"),1.3,IF(J71>35,1.2,1)))),0))) -> 0 | L71: =IF(OR(LEFT(E71,2)="ĐA",LEFT(E71,2)="DA",LEFT(E71,5)="Đồ án",LEFT(E71,5)="Đồán "),0,IF(AND(J71>0,I71>0),IF(OR(AND(OR(LEFT(E71,4)="GDQP",LEFT(E71,4)="GDTC",LEFT(E71,4)="gdqp",LEFT(E71,4)="gdtc",LEFT(E71,19)="Giáo dục quốc phòng",LEFT(E71,17)="Giáo dục thể chất"),J71>60),AND(OR(MID(F71,3,2)="C3",MID(F71,3,2)="C5",MID(F71,3,2)="C6"),J71>0)),1.3,IF(AND(OR(LEFT(E71,4)="GDQP",LEFT(E71,4)="gdqp",LEFT(E71,19)="Giáo dục quốc phòng"),J71>35),1.2,IF(AND(OR(LEFT(E71,4)="GDQP",LEFT(E71,4)="gdqp",LEFT(E71,19)="Giáo dục quốc phòng"),J71<=35),1,IF(J71>35,1.2,IF(J71>29,1.1,1))))),0)) -> 0 | M71: =ROUND(IF(AND(MID(F71,3,2)="C3",LEFT(E71,5)="Đồ án"),(J71*0.5)*1.3,IF(OR(LEFT(E71,2)="ĐA",LEFT(E71,2)="DA",LEFT(E71,5)="Đồ án",LEFT(E71,5)="Đồán "),J71*0.5,(IF(H71>0,H71*K71,"0"))+IF(I71>0,(I71*0.75)*L71,"0"))),1) -> 0
K72: =IF(OR(LEFT(E72,2)="ĐA",LEFT(E72,2)="DA",LEFT(E72,5)="Đồ án",LEFT(E72,5)="Đồán ",LEFT(E72,9)="Sinh hoạt",LEFT(E72,9)="sinh hoạt",LEFT(E72,6)="Cố vấn",LEFT(E72,6)="cố vấn",LEFT(E72,4)="cvht",LEFT(E72,4)="CVHT",LEFT(E72,4)="shcn",LEFT(E72,4)="SHCN"),0,(IF(AND(H72>0,J72>0),IF(J72>250,1.5,IF(J72>150,1.4,IF(OR(J72>60,MID(F72,3,2)="C3",MID(F72,3,2)="C5",MID(F72,3,2)="C6"),1.3,IF(J72>35,1.2,1)))),0))) -> 0 | L72: =IF(OR(LEFT(E72,2)="ĐA",LEFT(E72,2)="DA",LEFT(E72,5)="Đồ án",LEFT(E72,5)="Đồán "),0,IF(AND(J72>0,I72>0),IF(OR(AND(OR(LEFT(E72,4)="GDQP",LEFT(E72,4)="GDTC",LEFT(E72,4)="gdqp",LEFT(E72,4)="gdtc",LEFT(E72,19)="Giáo dục quốc phòng",LEFT(E72,17)="Giáo dục thể chất"),J72>60),AND(OR(MID(F72,3,2)="C3",MID(F72,3,2)="C5",MID(F72,3,2)="C6"),J72>0)),1.3,IF(AND(OR(LEFT(E72,4)="GDQP",LEFT(E72,4)="gdqp",LEFT(E72,19)="Giáo dục quốc phòng"),J72>35),1.2,IF(AND(OR(LEFT(E72,4)="GDQP",LEFT(E72,4)="gdqp",LEFT(E72,19)="Giáo dục quốc phòng"),J72<=35),1,IF(J72>35,1.2,IF(J72>29,1.1,1))))),0)) -> 0 | M72: =ROUND(IF(AND(MID(F72,3,2)="C3",LEFT(E72,5)="Đồ án"),(J72*0.5)*1.3,IF(OR(LEFT(E72,2)="ĐA",LEFT(E72,2)="DA",LEFT(E72,5)="Đồ án",LEFT(E72,5)="Đồán "),J72*0.5,(IF(H72>0,H72*K72,"0"))+IF(I72>0,(I72*0.75)*L72,"0"))),1) -> 0
K73: =IF(OR(LEFT(E73,2)="ĐA",LEFT(E73,2)="DA",LEFT(E73,5)="Đồ án",LEFT(E73,5)="Đồán ",LEFT(E73,9)="Sinh hoạt",LEFT(E73,9)="sinh hoạt",LEFT(E73,6)="Cố vấn",LEFT(E73,6)="cố vấn",LEFT(E73,4)="cvht",LEFT(E73,4)="CVHT",LEFT(E73,4)="shcn",LEFT(E73,4)="SHCN"),0,(IF(AND(H73>0,J73>0),IF(J73>250,1.5,IF(J73>150,1.4,IF(OR(J73>60,MID(F73,3,2)="C3",MID(F73,3,2)="C5",MID(F73,3,2)="C6"),1.3,IF(J73>35,1.2,1)))),0))) -> 0 | L73: =IF(OR(LEFT(E73,2)="ĐA",LEFT(E73,2)="DA",LEFT(E73,5)="Đồ án",LEFT(E73,5)="Đồán "),0,IF(AND(J73>0,I73>0),IF(OR(AND(OR(LEFT(E73,4)="GDQP",LEFT(E73,4)="GDTC",LEFT(E73,4)="gdqp",LEFT(E73,4)="gdtc",LEFT(E73,19)="Giáo dục quốc phòng",LEFT(E73,17)="Giáo dục thể chất"),J73>60),AND(OR(MID(F73,3,2)="C3",MID(F73,3,2)="C5",MID(F73,3,2)="C6"),J73>0)),1.3,IF(AND(OR(LEFT(E73,4)="GDQP",LEFT(E73,4)="gdqp",LEFT(E73,19)="Giáo dục quốc phòng"),J73>35),1.2,IF(AND(OR(LEFT(E73,4)="GDQP",LEFT(E73,4)="gdqp",LEFT(E73,19)="Giáo dục quốc phòng"),J73<=35),1,IF(J73>35,1.2,IF(J73>29,1.1,1))))),0)) -> 0 | M73: =ROUND(IF(AND(MID(F73,3,2)="C3",LEFT(E73,5)="Đồ án"),(J73*0.5)*1.3,IF(OR(LEFT(E73,2)="ĐA",LEFT(E73,2)="DA",LEFT(E73,5)="Đồ án",LEFT(E73,5)="Đồán "),J73*0.5,(IF(H73>0,H73*K73,"0"))+IF(I73>0,(I73*0.75)*L73,"0"))),1) -> 0
K74: =IF(OR(LEFT(E74,2)="ĐA",LEFT(E74,2)="DA",LEFT(E74,5)="Đồ án",LEFT(E74,5)="Đồán ",LEFT(E74,9)="Sinh hoạt",LEFT(E74,9)="sinh hoạt",LEFT(E74,6)="Cố vấn",LEFT(E74,6)="cố vấn",LEFT(E74,4)="cvht",LEFT(E74,4)="CVHT",LEFT(E74,4)="shcn",LEFT(E74,4)="SHCN"),0,(IF(AND(H74>0,J74>0),IF(J74>250,1.5,IF(J74>150,1.4,IF(OR(J74>60,MID(F74,3,2)="C3",MID(F74,3,2)="C5",MID(F74,3,2)="C6"),1.3,IF(J74>35,1.2,1)))),0))) -> 0 | L74: =IF(OR(LEFT(E74,2)="ĐA",LEFT(E74,2)="DA",LEFT(E74,5)="Đồ án",LEFT(E74,5)="Đồán "),0,IF(AND(J74>0,I74>0),IF(OR(AND(OR(LEFT(E74,4)="GDQP",LEFT(E74,4)="GDTC",LEFT(E74,4)="gdqp",LEFT(E74,4)="gdtc",LEFT(E74,19)="Giáo dục quốc phòng",LEFT(E74,17)="Giáo dục thể chất"),J74>60),AND(OR(MID(F74,3,2)="C3",MID(F74,3,2)="C5",MID(F74,3,2)="C6"),J74>0)),1.3,IF(AND(OR(LEFT(E74,4)="GDQP",LEFT(E74,4)="gdqp",LEFT(E74,19)="Giáo dục quốc phòng"),J74>35),1.2,IF(AND(OR(LEFT(E74,4)="GDQP",LEFT(E74,4)="gdqp",LEFT(E74,19)="Giáo dục quốc phòng"),J74<=35),1,IF(J74>35,1.2,IF(J74>29,1.1,1))))),0)) -> 0 | M74: =ROUND(IF(AND(MID(F74,3,2)="C3",LEFT(E74,5)="Đồ án"),(J74*0.5)*1.3,IF(OR(LEFT(E74,2)="ĐA",LEFT(E74,2)="DA",LEFT(E74,5)="Đồ án",LEFT(E74,5)="Đồán "),J74*0.5,(IF(H74>0,H74*K74,"0"))+IF(I74>0,(I74*0.75)*L74,"0"))),1) -> 0
K75: =IF(OR(LEFT(E75,2)="ĐA",LEFT(E75,2)="DA",LEFT(E75,5)="Đồ án",LEFT(E75,5)="Đồán ",LEFT(E75,9)="Sinh hoạt",LEFT(E75,9)="sinh hoạt",LEFT(E75,6)="Cố vấn",LEFT(E75,6)="cố vấn",LEFT(E75,4)="cvht",LEFT(E75,4)="CVHT",LEFT(E75,4)="shcn",LEFT(E75,4)="SHCN"),0,(IF(AND(H75>0,J75>0),IF(J75>250,1.5,IF(J75>150,1.4,IF(OR(J75>60,MID(F75,3,2)="C3",MID(F75,3,2)="C5",MID(F75,3,2)="C6"),1.3,IF(J75>35,1.2,1)))),0))) -> 0 | L75: =IF(OR(LEFT(E75,2)="ĐA",LEFT(E75,2)="DA",LEFT(E75,5)="Đồ án",LEFT(E75,5)="Đồán "),0,IF(AND(J75>0,I75>0),IF(OR(AND(OR(LEFT(E75,4)="GDQP",LEFT(E75,4)="GDTC",LEFT(E75,4)="gdqp",LEFT(E75,4)="gdtc",LEFT(E75,19)="Giáo dục quốc phòng",LEFT(E75,17)="Giáo dục thể chất"),J75>60),AND(OR(MID(F75,3,2)="C3",MID(F75,3,2)="C5",MID(F75,3,2)="C6"),J75>0)),1.3,IF(AND(OR(LEFT(E75,4)="GDQP",LEFT(E75,4)="gdqp",LEFT(E75,19)="Giáo dục quốc phòng"),J75>35),1.2,IF(AND(OR(LEFT(E75,4)="GDQP",LEFT(E75,4)="gdqp",LEFT(E75,19)="Giáo dục quốc phòng"),J75<=35),1,IF(J75>35,1.2,IF(J75>29,1.1,1))))),0)) -> 0 | M75: =ROUND(IF(AND(MID(F75,3,2)="C3",LEFT(E75,5)="Đồ án"),(J75*0.5)*1.3,IF(OR(LEFT(E75,2)="ĐA",LEFT(E75,2)="DA",LEFT(E75,5)="Đồ án",LEFT(E75,5)="Đồán "),J75*0.5,(IF(H75>0,H75*K75,"0"))+IF(I75>0,(I75*0.75)*L75,"0"))),1) -> 0
K76: =IF(OR(LEFT(E76,2)="ĐA",LEFT(E76,2)="DA",LEFT(E76,5)="Đồ án",LEFT(E76,5)="Đồán ",LEFT(E76,9)="Sinh hoạt",LEFT(E76,9)="sinh hoạt",LEFT(E76,6)="Cố vấn",LEFT(E76,6)="cố vấn",LEFT(E76,4)="cvht",LEFT(E76,4)="CVHT",LEFT(E76,4)="shcn",LEFT(E76,4)="SHCN"),0,(IF(AND(H76>0,J76>0),IF(J76>250,1.5,IF(J76>150,1.4,IF(OR(J76>60,MID(F76,3,2)="C3",MID(F76,3,2)="C5",MID(F76,3,2)="C6"),1.3,IF(J76>35,1.2,1)))),0))) -> 0 | L76: =IF(OR(LEFT(E76,2)="ĐA",LEFT(E76,2)="DA",LEFT(E76,5)="Đồ án",LEFT(E76,5)="Đồán "),0,IF(AND(J76>0,I76>0),IF(OR(AND(OR(LEFT(E76,4)="GDQP",LEFT(E76,4)="GDTC",LEFT(E76,4)="gdqp",LEFT(E76,4)="gdtc",LEFT(E76,19)="Giáo dục quốc phòng",LEFT(E76,17)="Giáo dục thể chất"),J76>60),AND(OR(MID(F76,3,2)="C3",MID(F76,3,2)="C5",MID(F76,3,2)="C6"),J76>0)),1.3,IF(AND(OR(LEFT(E76,4)="GDQP",LEFT(E76,4)="gdqp",LEFT(E76,19)="Giáo dục quốc phòng"),J76>35),1.2,IF(AND(OR(LEFT(E76,4)="GDQP",LEFT(E76,4)="gdqp",LEFT(E76,19)="Giáo dục quốc phòng"),J76<=35),1,IF(J76>35,1.2,IF(J76>29,1.1,1))))),0)) -> 0 | M76: =ROUND(IF(AND(MID(F76,3,2)="C3",LEFT(E76,5)="Đồ án"),(J76*0.5)*1.3,IF(OR(LEFT(E76,2)="ĐA",LEFT(E76,2)="DA",LEFT(E76,5)="Đồ án",LEFT(E76,5)="Đồán "),J76*0.5,(IF(H76>0,H76*K76,"0"))+IF(I76>0,(I76*0.75)*L76,"0"))),1) -> 0
K77: =IF(OR(LEFT(E77,2)="ĐA",LEFT(E77,2)="DA",LEFT(E77,5)="Đồ án",LEFT(E77,5)="Đồán ",LEFT(E77,9)="Sinh hoạt",LEFT(E77,9)="sinh hoạt",LEFT(E77,6)="Cố vấn",LEFT(E77,6)="cố vấn",LEFT(E77,4)="cvht",LEFT(E77,4)="CVHT",LEFT(E77,4)="shcn",LEFT(E77,4)="SHCN"),0,(IF(AND(H77>0,J77>0),IF(J77>250,1.5,IF(J77>150,1.4,IF(OR(J77>60,MID(F77,3,2)="C3",MID(F77,3,2)="C5",MID(F77,3,2)="C6"),1.3,IF(J77>35,1.2,1)))),0))) -> 0 | L77: =IF(OR(LEFT(E77,2)="ĐA",LEFT(E77,2)="DA",LEFT(E77,5)="Đồ án",LEFT(E77,5)="Đồán "),0,IF(AND(J77>0,I77>0),IF(OR(AND(OR(LEFT(E77,4)="GDQP",LEFT(E77,4)="GDTC",LEFT(E77,4)="gdqp",LEFT(E77,4)="gdtc",LEFT(E77,19)="Giáo dục quốc phòng",LEFT(E77,17)="Giáo dục thể chất"),J77>60),AND(OR(MID(F77,3,2)="C3",MID(F77,3,2)="C5",MID(F77,3,2)="C6"),J77>0)),1.3,IF(AND(OR(LEFT(E77,4)="GDQP",LEFT(E77,4)="gdqp",LEFT(E77,19)="Giáo dục quốc phòng"),J77>35),1.2,IF(AND(OR(LEFT(E77,4)="GDQP",LEFT(E77,4)="gdqp",LEFT(E77,19)="Giáo dục quốc phòng"),J77<=35),1,IF(J77>35,1.2,IF(J77>29,1.1,1))))),0)) -> 0 | M77: =ROUND(IF(AND(MID(F77,3,2)="C3",LEFT(E77,5)="Đồ án"),(J77*0.5)*1.3,IF(OR(LEFT(E77,2)="ĐA",LEFT(E77,2)="DA",LEFT(E77,5)="Đồ án",LEFT(E77,5)="Đồán "),J77*0.5,(IF(H77>0,H77*K77,"0"))+IF(I77>0,(I77*0.75)*L77,"0"))),1) -> 0
K78: =IF(OR(LEFT(E78,2)="ĐA",LEFT(E78,2)="DA",LEFT(E78,5)="Đồ án",LEFT(E78,5)="Đồán ",LEFT(E78,9)="Sinh hoạt",LEFT(E78,9)="sinh hoạt",LEFT(E78,6)="Cố vấn",LEFT(E78,6)="cố vấn",LEFT(E78,4)="cvht",LEFT(E78,4)="CVHT",LEFT(E78,4)="shcn",LEFT(E78,4)="SHCN"),0,(IF(AND(H78>0,J78>0),IF(J78>250,1.5,IF(J78>150,1.4,IF(OR(J78>60,MID(F78,3,2)="C3",MID(F78,3,2)="C5",MID(F78,3,2)="C6"),1.3,IF(J78>35,1.2,1)))),0))) -> 0 | L78: =IF(OR(LEFT(E78,2)="ĐA",LEFT(E78,2)="DA",LEFT(E78,5)="Đồ án",LEFT(E78,5)="Đồán "),0,IF(AND(J78>0,I78>0),IF(OR(AND(OR(LEFT(E78,4)="GDQP",LEFT(E78,4)="GDTC",LEFT(E78,4)="gdqp",LEFT(E78,4)="gdtc",LEFT(E78,19)="Giáo dục quốc phòng",LEFT(E78,17)="Giáo dục thể chất"),J78>60),AND(OR(MID(F78,3,2)="C3",MID(F78,3,2)="C5",MID(F78,3,2)="C6"),J78>0)),1.3,IF(AND(OR(LEFT(E78,4)="GDQP",LEFT(E78,4)="gdqp",LEFT(E78,19)="Giáo dục quốc phòng"),J78>35),1.2,IF(AND(OR(LEFT(E78,4)="GDQP",LEFT(E78,4)="gdqp",LEFT(E78,19)="Giáo dục quốc phòng"),J78<=35),1,IF(J78>35,1.2,IF(J78>29,1.1,1))))),0)) -> 0 | M78: =ROUND(IF(AND(MID(F78,3,2)="C3",LEFT(E78,5)="Đồ án"),(J78*0.5)*1.3,IF(OR(LEFT(E78,2)="ĐA",LEFT(E78,2)="DA",LEFT(E78,5)="Đồ án",LEFT(E78,5)="Đồán "),J78*0.5,(IF(H78>0,H78*K78,"0"))+IF(I78>0,(I78*0.75)*L78,"0"))),1) -> 0
K79: =IF(OR(LEFT(E79,2)="ĐA",LEFT(E79,2)="DA",LEFT(E79,5)="Đồ án",LEFT(E79,5)="Đồán ",LEFT(E79,9)="Sinh hoạt",LEFT(E79,9)="sinh hoạt",LEFT(E79,6)="Cố vấn",LEFT(E79,6)="cố vấn",LEFT(E79,4)="cvht",LEFT(E79,4)="CVHT",LEFT(E79,4)="shcn",LEFT(E79,4)="SHCN"),0,(IF(AND(H79>0,J79>0),IF(J79>250,1.5,IF(J79>150,1.4,IF(OR(J79>60,MID(F79,3,2)="C3",MID(F79,3,2)="C5",MID(F79,3,2)="C6"),1.3,IF(J79>35,1.2,1)))),0))) -> 0 | L79: =IF(OR(LEFT(E79,2)="ĐA",LEFT(E79,2)="DA",LEFT(E79,5)="Đồ án",LEFT(E79,5)="Đồán "),0,IF(AND(J79>0,I79>0),IF(OR(AND(OR(LEFT(E79,4)="GDQP",LEFT(E79,4)="GDTC",LEFT(E79,4)="gdqp",LEFT(E79,4)="gdtc",LEFT(E79,19)="Giáo dục quốc phòng",LEFT(E79,17)="Giáo dục thể chất"),J79>60),AND(OR(MID(F79,3,2)="C3",MID(F79,3,2)="C5",MID(F79,3,2)="C6"),J79>0)),1.3,IF(AND(OR(LEFT(E79,4)="GDQP",LEFT(E79,4)="gdqp",LEFT(E79,19)="Giáo dục quốc phòng"),J79>35),1.2,IF(AND(OR(LEFT(E79,4)="GDQP",LEFT(E79,4)="gdqp",LEFT(E79,19)="Giáo dục quốc phòng"),J79<=35),1,IF(J79>35,1.2,IF(J79>29,1.1,1))))),0)) -> 0 | M79: =ROUND(IF(AND(MID(F79,3,2)="C3",LEFT(E79,5)="Đồ án"),(J79*0.5)*1.3,IF(OR(LEFT(E79,2)="ĐA",LEFT(E79,2)="DA",LEFT(E79,5)="Đồ án",LEFT(E79,5)="Đồán "),J79*0.5,(IF(H79>0,H79*K79,"0"))+IF(I79>0,(I79*0.75)*L79,"0"))),1) -> 0
K80: =IF(OR(LEFT(E80,2)="ĐA",LEFT(E80,2)="DA",LEFT(E80,5)="Đồ án",LEFT(E80,5)="Đồán ",LEFT(E80,9)="Sinh hoạt",LEFT(E80,9)="sinh hoạt",LEFT(E80,6)="Cố vấn",LEFT(E80,6)="cố vấn",LEFT(E80,4)="cvht",LEFT(E80,4)="CVHT",LEFT(E80,4)="shcn",LEFT(E80,4)="SHCN"),0,(IF(AND(H80>0,J80>0),IF(J80>250,1.5,IF(J80>150,1.4,IF(OR(J80>60,MID(F80,3,2)="C3",MID(F80,3,2)="C5",MID(F80,3,2)="C6"),1.3,IF(J80>35,1.2,1)))),0))) -> 0 | L80: =IF(OR(LEFT(E80,2)="ĐA",LEFT(E80,2)="DA",LEFT(E80,5)="Đồ án",LEFT(E80,5)="Đồán "),0,IF(AND(J80>0,I80>0),IF(OR(AND(OR(LEFT(E80,4)="GDQP",LEFT(E80,4)="GDTC",LEFT(E80,4)="gdqp",LEFT(E80,4)="gdtc",LEFT(E80,19)="Giáo dục quốc phòng",LEFT(E80,17)="Giáo dục thể chất"),J80>60),AND(OR(MID(F80,3,2)="C3",MID(F80,3,2)="C5",MID(F80,3,2)="C6"),J80>0)),1.3,IF(AND(OR(LEFT(E80,4)="GDQP",LEFT(E80,4)="gdqp",LEFT(E80,19)="Giáo dục quốc phòng"),J80>35),1.2,IF(AND(OR(LEFT(E80,4)="GDQP",LEFT(E80,4)="gdqp",LEFT(E80,19)="Giáo dục quốc phòng"),J80<=35),1,IF(J80>35,1.2,IF(J80>29,1.1,1))))),0)) -> 0 | M80: =ROUND(IF(AND(MID(F80,3,2)="C3",LEFT(E80,5)="Đồ án"),(J80*0.5)*1.3,IF(OR(LEFT(E80,2)="ĐA",LEFT(E80,2)="DA",LEFT(E80,5)="Đồ án",LEFT(E80,5)="Đồán "),J80*0.5,(IF(H80>0,H80*K80,"0"))+IF(I80>0,(I80*0.75)*L80,"0"))),1) -> 0
... K90: =IF(OR(LEFT(E90,2)="ĐA",LEFT(E90,2)="DA",LEFT(E90,5)="Đồ án",LEFT(E90,5)="Đồán ",LEFT(E90,9)="Sinh hoạt",LEFT(E90,9)="sinh hoạt",LEFT(E90,6)="Cố vấn",LEFT(E90,6)="cố vấn",LEFT(E90,4)="cvht",LEFT(E90,4)="CVHT",LEFT(E90,4)="shcn",LEFT(E90,4)="SHCN"),0,(IF(AND(H90>0,J90>0),IF(J90>250,1.5,IF(J90>150,1.4,IF(OR(J90>60,MID(F90,3,2)="C3",MID(F90,3,2)="C5",MID(F90,3,2)="C6"),1.3,IF(J90>35,1.2,1)))),0))) -> 0 | L90: =IF(OR(LEFT(E90,2)="ĐA",LEFT(E90,2)="DA",LEFT(E90,5)="Đồ án",LEFT(E90,5)="Đồán "),0,IF(AND(J90>0,I90>0),IF(OR(AND(OR(LEFT(E90,4)="GDQP",LEFT(E90,4)="GDTC",LEFT(E90,4)="gdqp",LEFT(E90,4)="gdtc",LEFT(E90,19)="Giáo dục quốc phòng",LEFT(E90,17)="Giáo dục thể chất"),J90>60),AND(OR(MID(F90,3,2)="C3",MID(F90,3,2)="C5",MID(F90,3,2)="C6"),J90>0)),1.3,IF(AND(OR(LEFT(E90,4)="GDQP",LEFT(E90,4)="gdqp",LEFT(E90,19)="Giáo dục quốc phòng"),J90>35),1.2,IF(AND(OR(LEFT(E90,4)="GDQP",LEFT(E90,4)="gdqp",LEFT(E90,19)="Giáo dục quốc phòng"),J90<=35),1,IF(J90>35,1.2,IF(J90>29,1.1,1))))),0)) -> 0 | M90: =ROUND(IF(AND(MID(F90,3,2)="C3",LEFT(E90,5)="Đồ án"),(J90*0.5)*1.3,IF(OR(LEFT(E90,2)="ĐA",LEFT(E90,2)="DA",LEFT(E90,5)="Đồ án",LEFT(E90,5)="Đồán "),J90*0.5,(IF(H90>0,H90*K90,"0"))+IF(I90>0,(I90*0.75)*L90,"0"))),1) -> 0
A91: 3 | B91: Vũ Hạnh | C91: Chiêu | K91: =IF(OR(LEFT(E91,2)="ĐA",LEFT(E91,2)="DA",LEFT(E91,5)="Đồ án",LEFT(E91,5)="Đồán ",LEFT(E91,9)="Sinh hoạt",LEFT(E91,9)="sinh hoạt",LEFT(E91,6)="Cố vấn",LEFT(E91,6)="cố vấn",LEFT(E91,4)="cvht",LEFT(E91,4)="CVHT",LEFT(E91,4)="shcn",LEFT(E91,4)="SHCN"),0,(IF(AND(H91>0,J91>0),IF(J91>250,1.5,IF(J91>150,1.4,IF(OR(J91>60,MID(F91,3,2)="C3",MID(F91,3,2)="C5",MID(F91,3,2)="C6"),1.3,IF(J91>35,1.2,1)))),0))) -> 0 | L91: =IF(OR(LEFT(E91,2)="ĐA",LEFT(E91,2)="DA",LEFT(E91,5)="Đồ án",LEFT(E91,5)="Đồán "),0,IF(AND(J91>0,I91>0),IF(OR(AND(OR(LEFT(E91,4)="GDQP",LEFT(E91,4)="GDTC",LEFT(E91,4)="gdqp",LEFT(E91,4)="gdtc",LEFT(E91,19)="Giáo dục quốc phòng",LEFT(E91,17)="Giáo dục thể chất"),J91>60),AND(OR(MID(F91,3,2)="C3",MID(F91,3,2)="C5",MID(F91,3,2)="C6"),J91>0)),1.3,IF(AND(OR(LEFT(E91,4)="GDQP",LEFT(E91,4)="gdqp",LEFT(E91,19)="Giáo dục quốc phòng"),J91>35),1.2,IF(AND(OR(LEFT(E91,4)="GDQP",LEFT(E91,4)="gdqp",LEFT(E91,19)="Giáo dục quốc phòng"),J91<=35),1,IF(J91>35,1.2,IF(J91>29,1.1,1))))),0)) -> 0 | M91: =ROUND(IF(AND(MID(F91,3,2)="C3",LEFT(E91,5)="Đồ án"),(J91*0.5)*1.3,IF(OR(LEFT(E91,2)="ĐA",LEFT(E91,2)="DA",LEFT(E91,5)="Đồ án",LEFT(E91,5)="Đồán "),J91*0.5,(IF(H91>0,H91*K91,"0"))+IF(I91>0,(I91*0.75)*L91,"0"))),1) -> 0 | N91: =T91*15% -> 0 | O91: 0 | P91: =SUM(M91:M130)+N91+O91 -> 346.2 | Q91: 0 | R91: 10 | S91: =IF('Mau B2'!I13>54,54,'Mau B2'!I13) -> 0 | T91: =IF(J91<1,0,IF(OR(LEFT(E91,4)="Toán",LEFT(E91,3)="Vật",LEFT(E91,4)="Hóa",LEFT(E91,3)="Hóa",LEFT(E91,7)="Ngữ văn"),629,IF(OR(LEFT(E91,2)="GD",LEFT(E91,8)="Giáo dục",LEFT(E91,4)="Pháp",LEFT(E91,9)="chính trị"),450,430))) -> 0 | U91: 629 | V91: =IF(J91<1,0,IF(OR(LEFT(E91,4)="Toán",LEFT(E91,3)="Vật",LEFT(E91,3)="Hóa",LEFT(E91,4)="Hóa",LEFT(E91,7)="Ngữ văn"),51,IF(OR(LEFT(E91,4)="Giáo",LEFT(E91,5)="Giáo",LEFT(E91,4)="Pháp",LEFT(E91,5)="Pháp"),56,54))) -> 0 | W91: 51 | X91: =IF(J91<1,0,IF(OR(LEFT(E91,4)="Toán",LEFT(E91,3)="Vật",LEFT(E91,3)="Hóa",LEFT(E91,4)="Hóa",LEFT(E91,7)="Ngữ văn"),0,IF(OR(LEFT(E91,4)="Giáo",LEFT(E91,5)="Giáo",LEFT(E91,4)="Pháp",LEFT(E91,5)="Pháp"),56,54))) -> 0 | Y91: 0 | Z91: =IF(J91<1,0,IF(OR(LEFT(E91,4)="Toán",LEFT(E91,3)="Vật",LEFT(E91,3)="Hóa",LEFT(E91,4)="Hóa",LEFT(E91,7)="Ngữ văn"),0,IF(OR(LEFT(E91,4)="Giáo",LEFT(E91,5)="Giáo",LEFT(E91,4)="Pháp",LEFT(E91,5)="Pháp"),56,54))) -> 0 | AA91: 0 | AB91: =ROUND((P91-U91),1) -> -282.8 | AC91: =IF(OR(SUM(W91:W130)="",SUM(Q91:Q130)="",SUM(Y91:Y130)="",SUM(R91:R130)=""),0,IF(OR(SUM(V91:V130)+SUM(X91:X130)=108,SUM(W91:W130)+SUM(Y91:Y130)>0),ROUND((SUM(Q91:Q130)-SUM(W91:W130)+SUM(R91:R130)-SUM(Y91:Y130)),1),0)) -> -41 | AD91: =IF(OR(SUM(AA91:AA130)="",SUM(S91:S130)=""),0,IF(OR(SUM(Z91:Z130)=160,SUM(AA91:AA130)>0),ROUND((SUM(S91:S130)-SUM(AA91:AA130)),1),0)) -> 0 | AE91: 0 | AF91: =SUM(AB91:AD130) -> -323.8 | AH91: Cao Nga
K92: =IF(OR(LEFT(E92,2)="ĐA",LEFT(E92,2)="DA",LEFT(E92,5)="Đồ án",LEFT(E92,5)="Đồán ",LEFT(E92,9)="Sinh hoạt",LEFT(E92,9)="sinh hoạt",LEFT(E92,6)="Cố vấn",LEFT(E92,6)="cố vấn",LEFT(E92,4)="cvht",LEFT(E92,4)="CVHT",LEFT(E92,4)="shcn",LEFT(E92,4)="SHCN"),0,(IF(AND(H92>0,J92>0),IF(J92>250,1.5,IF(J92>150,1.4,IF(OR(J92>60,MID(F92,3,2)="C3",MID(F92,3,2)="C5",MID(F92,3,2)="C6"),1.3,IF(J92>35,1.2,1)))),0))) -> 0 | L92: =IF(OR(LEFT(E92,2)="ĐA",LEFT(E92,2)="DA",LEFT(E92,5)="Đồ án",LEFT(E92,5)="Đồán "),0,IF(AND(J92>0,I92>0),IF(OR(AND(OR(LEFT(E92,4)="GDQP",LEFT(E92,4)="GDTC",LEFT(E92,4)="gdqp",LEFT(E92,4)="gdtc",LEFT(E92,19)="Giáo dục quốc phòng",LEFT(E92,17)="Giáo dục thể chất"),J92>60),AND(OR(MID(F92,3,2)="C3",MID(F92,3,2)="C5",MID(F92,3,2)="C6"),J92>0)),1.3,IF(AND(OR(LEFT(E92,4)="GDQP",LEFT(E92,4)="gdqp",LEFT(E92,19)="Giáo dục quốc phòng"),J92>35),1.2,IF(AND(OR(LEFT(E92,4)="GDQP",LEFT(E92,4)="gdqp",LEFT(E92,19)="Giáo dục quốc phòng"),J92<=35),1,IF(J92>35,1.2,IF(J92>29,1.1,1))))),0)) -> 0 | M92: =ROUND(IF(AND(MID(F92,3,2)="C3",LEFT(E92,5)="Đồ án"),(J92*0.5)*1.3,IF(OR(LEFT(E92,2)="ĐA",LEFT(E92,2)="DA",LEFT(E92,5)="Đồ án",LEFT(E92,5)="Đồán "),J92*0.5,(IF(H92>0,H92*K92,"0"))+IF(I92>0,(I92*0.75)*L92,"0"))),1) -> 0
E93: Mạch điện | F93: 21C1-TĐH1 | G93: 1 | H93: 30 | J93: 58 | K93: =IF(OR(LEFT(E93,2)="ĐA",LEFT(E93,2)="DA",LEFT(E93,5)="Đồ án",LEFT(E93,5)="Đồán ",LEFT(E93,9)="Sinh hoạt",LEFT(E93,9)="sinh hoạt",LEFT(E93,6)="Cố vấn",LEFT(E93,6)="cố vấn",LEFT(E93,4)="cvht",LEFT(E93,4)="CVHT",LEFT(E93,4)="shcn",LEFT(E93,4)="SHCN"),0,(IF(AND(H93>0,J93>0),IF(J93>250,1.5,IF(J93>150,1.4,IF(OR(J93>60,MID(F93,3,2)="C3",MID(F93,3,2)="C5",MID(F93,3,2)="C6"),1.3,IF(J93>35,1.2,1)))),0))) -> 1.2 | L93: =IF(OR(LEFT(E93,2)="ĐA",LEFT(E93,2)="DA",LEFT(E93,5)="Đồ án",LEFT(E93,5)="Đồán "),0,IF(AND(J93>0,I93>0),IF(OR(AND(OR(LEFT(E93,4)="GDQP",LEFT(E93,4)="GDTC",LEFT(E93,4)="gdqp",LEFT(E93,4)="gdtc",LEFT(E93,19)="Giáo dục quốc phòng",LEFT(E93,17)="Giáo dục thể chất"),J93>60),AND(OR(MID(F93,3,2)="C3",MID(F93,3,2)="C5",MID(F93,3,2)="C6"),J93>0)),1.3,IF(AND(OR(LEFT(E93,4)="GDQP",LEFT(E93,4)="gdqp",LEFT(E93,19)="Giáo dục quốc phòng"),J93>35),1.2,IF(AND(OR(LEFT(E93,4)="GDQP",LEFT(E93,4)="gdqp",LEFT(E93,19)="Giáo dục quốc phòng"),J93<=35),1,IF(J93>35,1.2,IF(J93>29,1.1,1))))),0)) -> 0 | M93: =ROUND(IF(AND(MID(F93,3,2)="C3",LEFT(E93,5)="Đồ án"),(J93*0.5)*1.3,IF(OR(LEFT(E93,2)="ĐA",LEFT(E93,2)="DA",LEFT(E93,5)="Đồ án",LEFT(E93,5)="Đồán "),J93*0.5,(IF(H93>0,H93*K93,"0"))+IF(I93>0,(I93*0.75)*L93,"0"))),1) -> 36
E94: Mạch điện | F94: 21T4-TĐH1 | G94: 1 | H94: 60 | J94: 30 | K94: =IF(OR(LEFT(E94,2)="ĐA",LEFT(E94,2)="DA",LEFT(E94,5)="Đồ án",LEFT(E94,5)="Đồán ",LEFT(E94,9)="Sinh hoạt",LEFT(E94,9)="sinh hoạt",LEFT(E94,6)="Cố vấn",LEFT(E94,6)="cố vấn",LEFT(E94,4)="cvht",LEFT(E94,4)="CVHT",LEFT(E94,4)="shcn",LEFT(E94,4)="SHCN"),0,(IF(AND(H94>0,J94>0),IF(J94>250,1.5,IF(J94>150,1.4,IF(OR(J94>60,MID(F94,3,2)="C3",MID(F94,3,2)="C5",MID(F94,3,2)="C6"),1.3,IF(J94>35,1.2,1)))),0))) -> 1 | L94: =IF(OR(LEFT(E94,2)="ĐA",LEFT(E94,2)="DA",LEFT(E94,5)="Đồ án",LEFT(E94,5)="Đồán "),0,IF(AND(J94>0,I94>0),IF(OR(AND(OR(LEFT(E94,4)="GDQP",LEFT(E94,4)="GDTC",LEFT(E94,4)="gdqp",LEFT(E94,4)="gdtc",LEFT(E94,19)="Giáo dục quốc phòng",LEFT(E94,17)="Giáo dục thể chất"),J94>60),AND(OR(MID(F94,3,2)="C3",MID(F94,3,2)="C5",MID(F94,3,2)="C6"),J94>0)),1.3,IF(AND(OR(LEFT(E94,4)="GDQP",LEFT(E94,4)="gdqp",LEFT(E94,19)="Giáo dục quốc phòng"),J94>35),1.2,IF(AND(OR(LEFT(E94,4)="GDQP",LEFT(E94,4)="gdqp",LEFT(E94,19)="Giáo dục quốc phòng"),J94<=35),1,IF(J94>35,1.2,IF(J94>29,1.1,1))))),0)) -> 0 | M94: =ROUND(IF(AND(MID(F94,3,2)="C3",LEFT(E94,5)="Đồ án"),(J94*0.5)*1.3,IF(OR(LEFT(E94,2)="ĐA",LEFT(E94,2)="DA",LEFT(E94,5)="Đồ án",LEFT(E94,5)="Đồán "),J94*0.5,(IF(H94>0,H94*K94,"0"))+IF(I94>0,(I94*0.75)*L94,"0"))),1) -> 60
E95: Mạch điện | F95: 21T4-ĐCN1 | G95: 1 | H95: 60 | J95: 50 | K95: =IF(OR(LEFT(E95,2)="ĐA",LEFT(E95,2)="DA",LEFT(E95,5)="Đồ án",LEFT(E95,5)="Đồán ",LEFT(E95,9)="Sinh hoạt",LEFT(E95,9)="sinh hoạt",LEFT(E95,6)="Cố vấn",LEFT(E95,6)="cố vấn",LEFT(E95,4)="cvht",LEFT(E95,4)="CVHT",LEFT(E95,4)="shcn",LEFT(E95,4)="SHCN"),0,(IF(AND(H95>0,J95>0),IF(J95>250,1.5,IF(J95>150,1.4,IF(OR(J95>60,MID(F95,3,2)="C3",MID(F95,3,2)="C5",MID(F95,3,2)="C6"),1.3,IF(J95>35,1.2,1)))),0))) -> 1.2 | L95: =IF(OR(LEFT(E95,2)="ĐA",LEFT(E95,2)="DA",LEFT(E95,5)="Đồ án",LEFT(E95,5)="Đồán "),0,IF(AND(J95>0,I95>0),IF(OR(AND(OR(LEFT(E95,4)="GDQP",LEFT(E95,4)="GDTC",LEFT(E95,4)="gdqp",LEFT(E95,4)="gdtc",LEFT(E95,19)="Giáo dục quốc phòng",LEFT(E95,17)="Giáo dục thể chất"),J95>60),AND(OR(MID(F95,3,2)="C3",MID(F95,3,2)="C5",MID(F95,3,2)="C6"),J95>0)),1.3,IF(AND(OR(LEFT(E95,4)="GDQP",LEFT(E95,4)="gdqp",LEFT(E95,19)="Giáo dục quốc phòng"),J95>35),1.2,IF(AND(OR(LEFT(E95,4)="GDQP",LEFT(E95,4)="gdqp",LEFT(E95,19)="Giáo dục quốc phòng"),J95<=35),1,IF(J95>35,1.2,IF(J95>29,1.1,1))))),0)) -> 0 | M95: =ROUND(IF(AND(MID(F95,3,2)="C3",LEFT(E95,5)="Đồ án"),(J95*0.5)*1.3,IF(OR(LEFT(E95,2)="ĐA",LEFT(E95,2)="DA",LEFT(E95,5)="Đồ án",LEFT(E95,5)="Đồán "),J95*0.5,(IF(H95>0,H95*K95,"0"))+IF(I95>0,(I95*0.75)*L95,"0"))),1) -> 72
E96: ATĐ | F96: 21C1-TĐH1 | G96: 1 | H96: 30 | J96: 58 | K96: =IF(OR(LEFT(E96,2)="ĐA",LEFT(E96,2)="DA",LEFT(E96,5)="Đồ án",LEFT(E96,5)="Đồán ",LEFT(E96,9)="Sinh hoạt",LEFT(E96,9)="sinh hoạt",LEFT(E96,6)="Cố vấn",LEFT(E96,6)="cố vấn",LEFT(E96,4)="cvht",LEFT(E96,4)="CVHT",LEFT(E96,4)="shcn",LEFT(E96,4)="SHCN"),0,(IF(AND(H96>0,J96>0),IF(J96>250,1.5,IF(J96>150,1.4,IF(OR(J96>60,MID(F96,3,2)="C3",MID(F96,3,2)="C5",MID(F96,3,2)="C6"),1.3,IF(J96>35,1.2,1)))),0))) -> 1.2 | L96: =IF(OR(LEFT(E96,2)="ĐA",LEFT(E96,2)="DA",LEFT(E96,5)="Đồ án",LEFT(E96,5)="Đồán "),0,IF(AND(J96>0,I96>0),IF(OR(AND(OR(LEFT(E96,4)="GDQP",LEFT(E96,4)="GDTC",LEFT(E96,4)="gdqp",LEFT(E96,4)="gdtc",LEFT(E96,19)="Giáo dục quốc phòng",LEFT(E96,17)="Giáo dục thể chất"),J96>60),AND(OR(MID(F96,3,2)="C3",MID(F96,3,2)="C5",MID(F96,3,2)="C6"),J96>0)),1.3,IF(AND(OR(LEFT(E96,4)="GDQP",LEFT(E96,4)="gdqp",LEFT(E96,19)="Giáo dục quốc phòng"),J96>35),1.2,IF(AND(OR(LEFT(E96,4)="GDQP",LEFT(E96,4)="gdqp",LEFT(E96,19)="Giáo dục quốc phòng"),J96<=35),1,IF(J96>35,1.2,IF(J96>29,1.1,1))))),0)) -> 0 | M96: =ROUND(IF(AND(MID(F96,3,2)="C3",LEFT(E96,5)="Đồ án"),(J96*0.5)*1.3,IF(OR(LEFT(E96,2)="ĐA",LEFT(E96,2)="DA",LEFT(E96,5)="Đồ án",LEFT(E96,5)="Đồán "),J96*0.5,(IF(H96>0,H96*K96,"0"))+IF(I96>0,(I96*0.75)*L96,"0"))),1) -> 36
E97: ATĐ | F97: 21T4-ĐĐT1 | G97: 1 | H97: 30 | J97: 70 | K97: =IF(OR(LEFT(E97,2)="ĐA",LEFT(E97,2)="DA",LEFT(E97,5)="Đồ án",LEFT(E97,5)="Đồán ",LEFT(E97,9)="Sinh hoạt",LEFT(E97,9)="sinh hoạt",LEFT(E97,6)="Cố vấn",LEFT(E97,6)="cố vấn",LEFT(E97,4)="cvht",LEFT(E97,4)="CVHT",LEFT(E97,4)="shcn",LEFT(E97,4)="SHCN"),0,(IF(AND(H97>0,J97>0),IF(J97>250,1.5,IF(J97>150,1.4,IF(OR(J97>60,MID(F97,3,2)="C3",MID(F97,3,2)="C5",MID(F97,3,2)="C6"),1.3,IF(J97>35,1.2,1)))),0))) -> 1.3 | L97: =IF(OR(LEFT(E97,2)="ĐA",LEFT(E97,2)="DA",LEFT(E97,5)="Đồ án",LEFT(E97,5)="Đồán "),0,IF(AND(J97>0,I97>0),IF(OR(AND(OR(LEFT(E97,4)="GDQP",LEFT(E97,4)="GDTC",LEFT(E97,4)="gdqp",LEFT(E97,4)="gdtc",LEFT(E97,19)="Giáo dục quốc phòng",LEFT(E97,17)="Giáo dục thể chất"),J97>60),AND(OR(MID(F97,3,2)="C3",MID(F97,3,2)="C5",MID(F97,3,2)="C6"),J97>0)),1.3,IF(AND(OR(LEFT(E97,4)="GDQP",LEFT(E97,4)="gdqp",LEFT(E97,19)="Giáo dục quốc phòng"),J97>35),1.2,IF(AND(OR(LEFT(E97,4)="GDQP",LEFT(E97,4)="gdqp",LEFT(E97,19)="Giáo dục quốc phòng"),J97<=35),1,IF(J97>35,1.2,IF(J97>29,1.1,1))))),0)) -> 0 | M97: =ROUND(IF(AND(MID(F97,3,2)="C3",LEFT(E97,5)="Đồ án"),(J97*0.5)*1.3,IF(OR(LEFT(E97,2)="ĐA",LEFT(E97,2)="DA",LEFT(E97,5)="Đồ án",LEFT(E97,5)="Đồán "),J97*0.5,(IF(H97>0,H97*K97,"0"))+IF(I97>0,(I97*0.75)*L97,"0"))),1) -> 39
C98: 30 | E98: ATĐ | F98: 21T4-TĐH1 | G98: 1 | H98: 30 | J98: 30 | K98: =IF(OR(LEFT(E98,2)="ĐA",LEFT(E98,2)="DA",LEFT(E98,5)="Đồ án",LEFT(E98,5)="Đồán ",LEFT(E98,9)="Sinh hoạt",LEFT(E98,9)="sinh hoạt",LEFT(E98,6)="Cố vấn",LEFT(E98,6)="cố vấn",LEFT(E98,4)="cvht",LEFT(E98,4)="CVHT",LEFT(E98,4)="shcn",LEFT(E98,4)="SHCN"),0,(IF(AND(H98>0,J98>0),IF(J98>250,1.5,IF(J98>150,1.4,IF(OR(J98>60,MID(F98,3,2)="C3",MID(F98,3,2)="C5",MID(F98,3,2)="C6"),1.3,IF(J98>35,1.2,1)))),0))) -> 1 | L98: =IF(OR(LEFT(E98,2)="ĐA",LEFT(E98,2)="DA",LEFT(E98,5)="Đồ án",LEFT(E98,5)="Đồán "),0,IF(AND(J98>0,I98>0),IF(OR(AND(OR(LEFT(E98,4)="GDQP",LEFT(E98,4)="GDTC",LEFT(E98,4)="gdqp",LEFT(E98,4)="gdtc",LEFT(E98,19)="Giáo dục quốc phòng",LEFT(E98,17)="Giáo dục thể chất"),J98>60),AND(OR(MID(F98,3,2)="C3",MID(F98,3,2)="C5",MID(F98,3,2)="C6"),J98>0)),1.3,IF(AND(OR(LEFT(E98,4)="GDQP",LEFT(E98,4)="gdqp",LEFT(E98,19)="Giáo dục quốc phòng"),J98>35),1.2,IF(AND(OR(LEFT(E98,4)="GDQP",LEFT(E98,4)="gdqp",LEFT(E98,19)="Giáo dục quốc phòng"),J98<=35),1,IF(J98>35,1.2,IF(J98>29,1.1,1))))),0)) -> 0 | M98: =ROUND(IF(AND(MID(F98,3,2)="C3",LEFT(E98,5)="Đồ án"),(J98*0.5)*1.3,IF(OR(LEFT(E98,2)="ĐA",LEFT(E98,2)="DA",LEFT(E98,5)="Đồ án",LEFT(E98,5)="Đồán "),J98*0.5,(IF(H98>0,H98*K98,"0"))+IF(I98>0,(I98*0.75)*L98,"0"))),1) -> 30
E99: ĐTCB | F99: 21C1-ĐĐT1 | G99: 2 | H99: 30 | J99: 39 | K99: =IF(OR(LEFT(E99,2)="ĐA",LEFT(E99,2)="DA",LEFT(E99,5)="Đồ án",LEFT(E99,5)="Đồán ",LEFT(E99,9)="Sinh hoạt",LEFT(E99,9)="sinh hoạt",LEFT(E99,6)="Cố vấn",LEFT(E99,6)="cố vấn",LEFT(E99,4)="cvht",LEFT(E99,4)="CVHT",LEFT(E99,4)="shcn",LEFT(E99,4)="SHCN"),0,(IF(AND(H99>0,J99>0),IF(J99>250,1.5,IF(J99>150,1.4,IF(OR(J99>60,MID(F99,3,2)="C3",MID(F99,3,2)="C5",MID(F99,3,2)="C6"),1.3,IF(J99>35,1.2,1)))),0))) -> 1.2 | L99: =IF(OR(LEFT(E99,2)="ĐA",LEFT(E99,2)="DA",LEFT(E99,5)="Đồ án",LEFT(E99,5)="Đồán "),0,IF(AND(J99>0,I99>0),IF(OR(AND(OR(LEFT(E99,4)="GDQP",LEFT(E99,4)="GDTC",LEFT(E99,4)="gdqp",LEFT(E99,4)="gdtc",LEFT(E99,19)="Giáo dục quốc phòng",LEFT(E99,17)="Giáo dục thể chất"),J99>60),AND(OR(MID(F99,3,2)="C3",MID(F99,3,2)="C5",MID(F99,3,2)="C6"),J99>0)),1.3,IF(AND(OR(LEFT(E99,4)="GDQP",LEFT(E99,4)="gdqp",LEFT(E99,19)="Giáo dục quốc phòng"),J99>35),1.2,IF(AND(OR(LEFT(E99,4)="GDQP",LEFT(E99,4)="gdqp",LEFT(E99,19)="Giáo dục quốc phòng"),J99<=35),1,IF(J99>35,1.2,IF(J99>29,1.1,1))))),0)) -> 0 | M99: =ROUND(IF(AND(MID(F99,3,2)="C3",LEFT(E99,5)="Đồ án"),(J99*0.5)*1.3,IF(OR(LEFT(E99,2)="ĐA",LEFT(E99,2)="DA",LEFT(E99,5)="Đồ án",LEFT(E99,5)="Đồán "),J99*0.5,(IF(H99>0,H99*K99,"0"))+IF(I99>0,(I99*0.75)*L99,"0"))),1) -> 36
E100: ĐTCB | F100: 21C1-TĐH1 | G100: 2 | H100: 31 | J100: 51 | K100: =IF(OR(LEFT(E100,2)="ĐA",LEFT(E100,2)="DA",LEFT(E100,5)="Đồ án",LEFT(E100,5)="Đồán ",LEFT(E100,9)="Sinh hoạt",LEFT(E100,9)="sinh hoạt",LEFT(E100,6)="Cố vấn",LEFT(E100,6)="cố vấn",LEFT(E100,4)="cvht",LEFT(E100,4)="CVHT",LEFT(E100,4)="shcn",LEFT(E100,4)="SHCN"),0,(IF(AND(H100>0,J100>0),IF(J100>250,1.5,IF(J100>150,1.4,IF(OR(J100>60,MID(F100,3,2)="C3",MID(F100,3,2)="C5",MID(F100,3,2)="C6"),1.3,IF(J100>35,1.2,1)))),0))) -> 1.2 | L100: =IF(OR(LEFT(E100,2)="ĐA",LEFT(E100,2)="DA",LEFT(E100,5)="Đồ án",LEFT(E100,5)="Đồán "),0,IF(AND(J100>0,I100>0),IF(OR(AND(OR(LEFT(E100,4)="GDQP",LEFT(E100,4)="GDTC",LEFT(E100,4)="gdqp",LEFT(E100,4)="gdtc",LEFT(E100,19)="Giáo dục quốc phòng",LEFT(E100,17)="Giáo dục thể chất"),J100>60),AND(OR(MID(F100,3,2)="C3",MID(F100,3,2)="C5",MID(F100,3,2)="C6"),J100>0)),1.3,IF(AND(OR(LEFT(E100,4)="GDQP",LEFT(E100,4)="gdqp",LEFT(E100,19)="Giáo dục quốc phòng"),J100>35),1.2,IF(AND(OR(LEFT(E100,4)="GDQP",LEFT(E100,4)="gdqp",LEFT(E100,19)="Giáo dục quốc phòng"),J100<=35),1,IF(J100>35,1.2,IF(J100>29,1.1,1))))),0)) -> 0 | M100: =ROUND(IF(AND(MID(F100,3,2)="C3",LEFT(E100,5)="Đồ án"),(J100*0.5)*1.3,IF(OR(LEFT(E100,2)="ĐA",LEFT(E100,2)="DA",LEFT(E100,5)="Đồ án",LEFT(E100,5)="Đồán "),J100*0.5,(IF(H100>0,H100*K100,"0"))+IF(I100>0,(I100*0.75)*L100,"0"))),1) -> 37.2
K101: =IF(OR(LEFT(E101,2)="ĐA",LEFT(E101,2)="DA",LEFT(E101,5)="Đồ án",LEFT(E101,5)="Đồán ",LEFT(E101,9)="Sinh hoạt",LEFT(E101,9)="sinh hoạt",LEFT(E101,6)="Cố vấn",LEFT(E101,6)="cố vấn",LEFT(E101,4)="cvht",LEFT(E101,4)="CVHT",LEFT(E101,4)="shcn",LEFT(E101,4)="SHCN"),0,(IF(AND(H101>0,J101>0),IF(J101>250,1.5,IF(J101>150,1.4,IF(OR(J101>60,MID(F101,3,2)="C3",MID(F101,3,2)="C5",MID(F101,3,2)="C6"),1.3,IF(J101>35,1.2,1)))),0))) -> 0 | L101: =IF(OR(LEFT(E101,2)="ĐA",LEFT(E101,2)="DA",LEFT(E101,5)="Đồ án",LEFT(E101,5)="Đồán "),0,IF(AND(J101>0,I101>0),IF(OR(AND(OR(LEFT(E101,4)="GDQP",LEFT(E101,4)="GDTC",LEFT(E101,4)="gdqp",LEFT(E101,4)="gdtc",LEFT(E101,19)="Giáo dục quốc phòng",LEFT(E101,17)="Giáo dục thể chất"),J101>60),AND(OR(MID(F101,3,2)="C3",MID(F101,3,2)="C5",MID(F101,3,2)="C6"),J101>0)),1.3,IF(AND(OR(LEFT(E101,4)="GDQP",LEFT(E101,4)="gdqp",LEFT(E101,19)="Giáo dục quốc phòng"),J101>35),1.2,IF(AND(OR(LEFT(E101,4)="GDQP",LEFT(E101,4)="gdqp",LEFT(E101,19)="Giáo dục quốc phòng"),J101<=35),1,IF(J101>35,1.2,IF(J101>29,1.1,1))))),0)) -> 0 | M101: =ROUND(IF(AND(MID(F101,3,2)="C3",LEFT(E101,5)="Đồ án"),(J101*0.5)*1.3,IF(OR(LEFT(E101,2)="ĐA",LEFT(E101,2)="DA",LEFT(E101,5)="Đồ án",LEFT(E101,5)="Đồán "),J101*0.5,(IF(H101>0,H101*K101,"0"))+IF(I101>0,(I101*0.75)*L101,"0"))),1) -> 0
K102: =IF(OR(LEFT(E102,2)="ĐA",LEFT(E102,2)="DA",LEFT(E102,5)="Đồ án",LEFT(E102,5)="Đồán ",LEFT(E102,9)="Sinh hoạt",LEFT(E102,9)="sinh hoạt",LEFT(E102,6)="Cố vấn",LEFT(E102,6)="cố vấn",LEFT(E102,4)="cvht",LEFT(E102,4)="CVHT",LEFT(E102,4)="shcn",LEFT(E102,4)="SHCN"),0,(IF(AND(H102>0,J102>0),IF(J102>250,1.5,IF(J102>150,1.4,IF(OR(J102>60,MID(F102,3,2)="C3",MID(F102,3,2)="C5",MID(F102,3,2)="C6"),1.3,IF(J102>35,1.2,1)))),0))) -> 0 | L102: =IF(OR(LEFT(E102,2)="ĐA",LEFT(E102,2)="DA",LEFT(E102,5)="Đồ án",LEFT(E102,5)="Đồán "),0,IF(AND(J102>0,I102>0),IF(OR(AND(OR(LEFT(E102,4)="GDQP",LEFT(E102,4)="GDTC",LEFT(E102,4)="gdqp",LEFT(E102,4)="gdtc",LEFT(E102,19)="Giáo dục quốc phòng",LEFT(E102,17)="Giáo dục thể chất"),J102>60),AND(OR(MID(F102,3,2)="C3",MID(F102,3,2)="C5",MID(F102,3,2)="C6"),J102>0)),1.3,IF(AND(OR(LEFT(E102,4)="GDQP",LEFT(E102,4)="gdqp",LEFT(E102,19)="Giáo dục quốc phòng"),J102>35),1.2,IF(AND(OR(LEFT(E102,4)="GDQP",LEFT(E102,4)="gdqp",LEFT(E102,19)="Giáo dục quốc phòng"),J102<=35),1,IF(J102>35,1.2,IF(J102>29,1.1,1))))),0)) -> 0 | M102: =ROUND(IF(AND(MID(F102,3,2)="C3",LEFT(E102,5)="Đồ án"),(J102*0.5)*1.3,IF(OR(LEFT(E102,2)="ĐA",LEFT(E102,2)="DA",LEFT(E102,5)="Đồ án",LEFT(E102,5)="Đồán "),J102*0.5,(IF(H102>0,H102*K102,"0"))+IF(I102>0,(I102*0.75)*L102,"0"))),1) -> 0
K103: =IF(OR(LEFT(E103,2)="ĐA",LEFT(E103,2)="DA",LEFT(E103,5)="Đồ án",LEFT(E103,5)="Đồán ",LEFT(E103,9)="Sinh hoạt",LEFT(E103,9)="sinh hoạt",LEFT(E103,6)="Cố vấn",LEFT(E103,6)="cố vấn",LEFT(E103,4)="cvht",LEFT(E103,4)="CVHT",LEFT(E103,4)="shcn",LEFT(E103,4)="SHCN"),0,(IF(AND(H103>0,J103>0),IF(J103>250,1.5,IF(J103>150,1.4,IF(OR(J103>60,MID(F103,3,2)="C3",MID(F103,3,2)="C5",MID(F103,3,2)="C6"),1.3,IF(J103>35,1.2,1)))),0))) -> 0 | L103: =IF(OR(LEFT(E103,2)="ĐA",LEFT(E103,2)="DA",LEFT(E103,5)="Đồ án",LEFT(E103,5)="Đồán "),0,IF(AND(J103>0,I103>0),IF(OR(AND(OR(LEFT(E103,4)="GDQP",LEFT(E103,4)="GDTC",LEFT(E103,4)="gdqp",LEFT(E103,4)="gdtc",LEFT(E103,19)="Giáo dục quốc phòng",LEFT(E103,17)="Giáo dục thể chất"),J103>60),AND(OR(MID(F103,3,2)="C3",MID(F103,3,2)="C5",MID(F103,3,2)="C6"),J103>0)),1.3,IF(AND(OR(LEFT(E103,4)="GDQP",LEFT(E103,4)="gdqp",LEFT(E103,19)="Giáo dục quốc phòng"),J103>35),1.2,IF(AND(OR(LEFT(E103,4)="GDQP",LEFT(E103,4)="gdqp",LEFT(E103,19)="Giáo dục quốc phòng"),J103<=35),1,IF(J103>35,1.2,IF(J103>29,1.1,1))))),0)) -> 0 | M103: =ROUND(IF(AND(MID(F103,3,2)="C3",LEFT(E103,5)="Đồ án"),(J103*0.5)*1.3,IF(OR(LEFT(E103,2)="ĐA",LEFT(E103,2)="DA",LEFT(E103,5)="Đồ án",LEFT(E103,5)="Đồán "),J103*0.5,(IF(H103>0,H103*K103,"0"))+IF(I103>0,(I103*0.75)*L103,"0"))),1) -> 0
B104: 30 | C104: 58 | K104: =IF(OR(LEFT(E104,2)="ĐA",LEFT(E104,2)="DA",LEFT(E104,5)="Đồ án",LEFT(E104,5)="Đồán ",LEFT(E104,9)="Sinh hoạt",LEFT(E104,9)="sinh hoạt",LEFT(E104,6)="Cố vấn",LEFT(E104,6)="cố vấn",LEFT(E104,4)="cvht",LEFT(E104,4)="CVHT",LEFT(E104,4)="shcn",LEFT(E104,4)="SHCN"),0,(IF(AND(H104>0,J104>0),IF(J104>250,1.5,IF(J104>150,1.4,IF(OR(J104>60,MID(F104,3,2)="C3",MID(F104,3,2)="C5",MID(F104,3,2)="C6"),1.3,IF(J104>35,1.2,1)))),0))) -> 0 | L104: =IF(OR(LEFT(E104,2)="ĐA",LEFT(E104,2)="DA",LEFT(E104,5)="Đồ án",LEFT(E104,5)="Đồán "),0,IF(AND(J104>0,I104>0),IF(OR(AND(OR(LEFT(E104,4)="GDQP",LEFT(E104,4)="GDTC",LEFT(E104,4)="gdqp",LEFT(E104,4)="gdtc",LEFT(E104,19)="Giáo dục quốc phòng",LEFT(E104,17)="Giáo dục thể chất"),J104>60),AND(OR(MID(F104,3,2)="C3",MID(F104,3,2)="C5",MID(F104,3,2)="C6"),J104>0)),1.3,IF(AND(OR(LEFT(E104,4)="GDQP",LEFT(E104,4)="gdqp",LEFT(E104,19)="Giáo dục quốc phòng"),J104>35),1.2,IF(AND(OR(LEFT(E104,4)="GDQP",LEFT(E104,4)="gdqp",LEFT(E104,19)="Giáo dục quốc phòng"),J104<=35),1,IF(J104>35,1.2,IF(J104>29,1.1,1))))),0)) -> 0 | M104: =ROUND(IF(AND(MID(F104,3,2)="C3",LEFT(E104,5)="Đồ án"),(J104*0.5)*1.3,IF(OR(LEFT(E104,2)="ĐA",LEFT(E104,2)="DA",LEFT(E104,5)="Đồ án",LEFT(E104,5)="Đồán "),J104*0.5,(IF(H104>0,H104*K104,"0"))+IF(I104>0,(I104*0.75)*L104,"0"))),1) -> 0
B105: 30 | C105: 36 | K105: =IF(OR(LEFT(E105,2)="ĐA",LEFT(E105,2)="DA",LEFT(E105,5)="Đồ án",LEFT(E105,5)="Đồán ",LEFT(E105,9)="Sinh hoạt",LEFT(E105,9)="sinh hoạt",LEFT(E105,6)="Cố vấn",LEFT(E105,6)="cố vấn",LEFT(E105,4)="cvht",LEFT(E105,4)="CVHT",LEFT(E105,4)="shcn",LEFT(E105,4)="SHCN"),0,(IF(AND(H105>0,J105>0),IF(J105>250,1.5,IF(J105>150,1.4,IF(OR(J105>60,MID(F105,3,2)="C3",MID(F105,3,2)="C5",MID(F105,3,2)="C6"),1.3,IF(J105>35,1.2,1)))),0))) -> 0 | L105: =IF(OR(LEFT(E105,2)="ĐA",LEFT(E105,2)="DA",LEFT(E105,5)="Đồ án",LEFT(E105,5)="Đồán "),0,IF(AND(J105>0,I105>0),IF(OR(AND(OR(LEFT(E105,4)="GDQP",LEFT(E105,4)="GDTC",LEFT(E105,4)="gdqp",LEFT(E105,4)="gdtc",LEFT(E105,19)="Giáo dục quốc phòng",LEFT(E105,17)="Giáo dục thể chất"),J105>60),AND(OR(MID(F105,3,2)="C3",MID(F105,3,2)="C5",MID(F105,3,2)="C6"),J105>0)),1.3,IF(AND(OR(LEFT(E105,4)="GDQP",LEFT(E105,4)="gdqp",LEFT(E105,19)="Giáo dục quốc phòng"),J105>35),1.2,IF(AND(OR(LEFT(E105,4)="GDQP",LEFT(E105,4)="gdqp",LEFT(E105,19)="Giáo dục quốc phòng"),J105<=35),1,IF(J105>35,1.2,IF(J105>29,1.1,1))))),0)) -> 0 | M105: =ROUND(IF(AND(MID(F105,3,2)="C3",LEFT(E105,5)="Đồ án"),(J105*0.5)*1.3,IF(OR(LEFT(E105,2)="ĐA",LEFT(E105,2)="DA",LEFT(E105,5)="Đồ án",LEFT(E105,5)="Đồán "),J105*0.5,(IF(H105>0,H105*K105,"0"))+IF(I105>0,(I105*0.75)*L105,"0"))),1) -> 0
B106: 30 | C106: 251 | K106: =IF(OR(LEFT(E106,2)="ĐA",LEFT(E106,2)="DA",LEFT(E106,5)="Đồ án",LEFT(E106,5)="Đồán ",LEFT(E106,9)="Sinh hoạt",LEFT(E106,9)="sinh hoạt",LEFT(E106,6)="Cố vấn",LEFT(E106,6)="cố vấn",LEFT(E106,4)="cvht",LEFT(E106,4)="CVHT",LEFT(E106,4)="shcn",LEFT(E106,4)="SHCN"),0,(IF(AND(H106>0,J106>0),IF(J106>250,1.5,IF(J106>150,1.4,IF(OR(J106>60,MID(F106,3,2)="C3",MID(F106,3,2)="C5",MID(F106,3,2)="C6"),1.3,IF(J106>35,1.2,1)))),0))) -> 0 | L106: =IF(OR(LEFT(E106,2)="ĐA",LEFT(E106,2)="DA",LEFT(E106,5)="Đồ án",LEFT(E106,5)="Đồán "),0,IF(AND(J106>0,I106>0),IF(OR(AND(OR(LEFT(E106,4)="GDQP",LEFT(E106,4)="GDTC",LEFT(E106,4)="gdqp",LEFT(E106,4)="gdtc",LEFT(E106,19)="Giáo dục quốc phòng",LEFT(E106,17)="Giáo dục thể chất"),J106>60),AND(OR(MID(F106,3,2)="C3",MID(F106,3,2)="C5",MID(F106,3,2)="C6"),J106>0)),1.3,IF(AND(OR(LEFT(E106,4)="GDQP",LEFT(E106,4)="gdqp",LEFT(E106,19)="Giáo dục quốc phòng"),J106>35),1.2,IF(AND(OR(LEFT(E106,4)="GDQP",LEFT(E106,4)="gdqp",LEFT(E106,19)="Giáo dục quốc phòng"),J106<=35),1,IF(J106>35,1.2,IF(J106>29,1.1,1))))),0)) -> 0 | M106: =ROUND(IF(AND(MID(F106,3,2)="C3",LEFT(E106,5)="Đồ án"),(J106*0.5)*1.3,IF(OR(LEFT(E106,2)="ĐA",LEFT(E106,2)="DA",LEFT(E106,5)="Đồ án",LEFT(E106,5)="Đồán "),J106*0.5,(IF(H106>0,H106*K106,"0"))+IF(I106>0,(I106*0.75)*L106,"0"))),1) -> 0
B107: 60 | C107: 60 | K107: =IF(OR(LEFT(E107,2)="ĐA",LEFT(E107,2)="DA",LEFT(E107,5)="Đồ án",LEFT(E107,5)="Đồán ",LEFT(E107,9)="Sinh hoạt",LEFT(E107,9)="sinh hoạt",LEFT(E107,6)="Cố vấn",LEFT(E107,6)="cố vấn",LEFT(E107,4)="cvht",LEFT(E107,4)="CVHT",LEFT(E107,4)="shcn",LEFT(E107,4)="SHCN"),0,(IF(AND(H107>0,J107>0),IF(J107>250,1.5,IF(J107>150,1.4,IF(OR(J107>60,MID(F107,3,2)="C3",MID(F107,3,2)="C5",MID(F107,3,2)="C6"),1.3,IF(J107>35,1.2,1)))),0))) -> 0 | L107: =IF(OR(LEFT(E107,2)="ĐA",LEFT(E107,2)="DA",LEFT(E107,5)="Đồ án",LEFT(E107,5)="Đồán "),0,IF(AND(J107>0,I107>0),IF(OR(AND(OR(LEFT(E107,4)="GDQP",LEFT(E107,4)="GDTC",LEFT(E107,4)="gdqp",LEFT(E107,4)="gdtc",LEFT(E107,19)="Giáo dục quốc phòng",LEFT(E107,17)="Giáo dục thể chất"),J107>60),AND(OR(MID(F107,3,2)="C3",MID(F107,3,2)="C5",MID(F107,3,2)="C6"),J107>0)),1.3,IF(AND(OR(LEFT(E107,4)="GDQP",LEFT(E107,4)="gdqp",LEFT(E107,19)="Giáo dục quốc phòng"),J107>35),1.2,IF(AND(OR(LEFT(E107,4)="GDQP",LEFT(E107,4)="gdqp",LEFT(E107,19)="Giáo dục quốc phòng"),J107<=35),1,IF(J107>35,1.2,IF(J107>29,1.1,1))))),0)) -> 0 | M107: =ROUND(IF(AND(MID(F107,3,2)="C3",LEFT(E107,5)="Đồ án"),(J107*0.5)*1.3,IF(OR(LEFT(E107,2)="ĐA",LEFT(E107,2)="DA",LEFT(E107,5)="Đồ án",LEFT(E107,5)="Đồán "),J107*0.5,(IF(H107>0,H107*K107,"0"))+IF(I107>0,(I107*0.75)*L107,"0"))),1) -> 0
B108: 60 | C108: 40 | K108: =IF(OR(LEFT(E108,2)="ĐA",LEFT(E108,2)="DA",LEFT(E108,5)="Đồ án",LEFT(E108,5)="Đồán ",LEFT(E108,9)="Sinh hoạt",LEFT(E108,9)="sinh hoạt",LEFT(E108,6)="Cố vấn",LEFT(E108,6)="cố vấn",LEFT(E108,4)="cvht",LEFT(E108,4)="CVHT",LEFT(E108,4)="shcn",LEFT(E108,4)="SHCN"),0,(IF(AND(H108>0,J108>0),IF(J108>250,1.5,IF(J108>150,1.4,IF(OR(J108>60,MID(F108,3,2)="C3",MID(F108,3,2)="C5",MID(F108,3,2)="C6"),1.3,IF(J108>35,1.2,1)))),0))) -> 0 | L108: =IF(OR(LEFT(E108,2)="ĐA",LEFT(E108,2)="DA",LEFT(E108,5)="Đồ án",LEFT(E108,5)="Đồán "),0,IF(AND(J108>0,I108>0),IF(OR(AND(OR(LEFT(E108,4)="GDQP",LEFT(E108,4)="GDTC",LEFT(E108,4)="gdqp",LEFT(E108,4)="gdtc",LEFT(E108,19)="Giáo dục quốc phòng",LEFT(E108,17)="Giáo dục thể chất"),J108>60),AND(OR(MID(F108,3,2)="C3",MID(F108,3,2)="C5",MID(F108,3,2)="C6"),J108>0)),1.3,IF(AND(OR(LEFT(E108,4)="GDQP",LEFT(E108,4)="gdqp",LEFT(E108,19)="Giáo dục quốc phòng"),J108>35),1.2,IF(AND(OR(LEFT(E108,4)="GDQP",LEFT(E108,4)="gdqp",LEFT(E108,19)="Giáo dục quốc phòng"),J108<=35),1,IF(J108>35,1.2,IF(J108>29,1.1,1))))),0)) -> 0 | M108: =ROUND(IF(AND(MID(F108,3,2)="C3",LEFT(E108,5)="Đồ án"),(J108*0.5)*1.3,IF(OR(LEFT(E108,2)="ĐA",LEFT(E108,2)="DA",LEFT(E108,5)="Đồ án",LEFT(E108,5)="Đồán "),J108*0.5,(IF(H108>0,H108*K108,"0"))+IF(I108>0,(I108*0.75)*L108,"0"))),1) -> 0
K109: =IF(OR(LEFT(E109,2)="ĐA",LEFT(E109,2)="DA",LEFT(E109,5)="Đồ án",LEFT(E109,5)="Đồán ",LEFT(E109,9)="Sinh hoạt",LEFT(E109,9)="sinh hoạt",LEFT(E109,6)="Cố vấn",LEFT(E109,6)="cố vấn",LEFT(E109,4)="cvht",LEFT(E109,4)="CVHT",LEFT(E109,4)="shcn",LEFT(E109,4)="SHCN"),0,(IF(AND(H109>0,J109>0),IF(J109>250,1.5,IF(J109>150,1.4,IF(OR(J109>60,MID(F109,3,2)="C3",MID(F109,3,2)="C5",MID(F109,3,2)="C6"),1.3,IF(J109>35,1.2,1)))),0))) -> 0 | L109: =IF(OR(LEFT(E109,2)="ĐA",LEFT(E109,2)="DA",LEFT(E109,5)="Đồ án",LEFT(E109,5)="Đồán "),0,IF(AND(J109>0,I109>0),IF(OR(AND(OR(LEFT(E109,4)="GDQP",LEFT(E109,4)="GDTC",LEFT(E109,4)="gdqp",LEFT(E109,4)="gdtc",LEFT(E109,19)="Giáo dục quốc phòng",LEFT(E109,17)="Giáo dục thể chất"),J109>60),AND(OR(MID(F109,3,2)="C3",MID(F109,3,2)="C5",MID(F109,3,2)="C6"),J109>0)),1.3,IF(AND(OR(LEFT(E109,4)="GDQP",LEFT(E109,4)="gdqp",LEFT(E109,19)="Giáo dục quốc phòng"),J109>35),1.2,IF(AND(OR(LEFT(E109,4)="GDQP",LEFT(E109,4)="gdqp",LEFT(E109,19)="Giáo dục quốc phòng"),J109<=35),1,IF(J109>35,1.2,IF(J109>29,1.1,1))))),0)) -> 0 | M109: =ROUND(IF(AND(MID(F109,3,2)="C3",LEFT(E109,5)="Đồ án"),(J109*0.5)*1.3,IF(OR(LEFT(E109,2)="ĐA",LEFT(E109,2)="DA",LEFT(E109,5)="Đồ án",LEFT(E109,5)="Đồán "),J109*0.5,(IF(H109>0,H109*K109,"0"))+IF(I109>0,(I109*0.75)*L109,"0"))),1) -> 0
K110: =IF(OR(LEFT(E110,2)="ĐA",LEFT(E110,2)="DA",LEFT(E110,5)="Đồ án",LEFT(E110,5)="Đồán ",LEFT(E110,9)="Sinh hoạt",LEFT(E110,9)="sinh hoạt",LEFT(E110,6)="Cố vấn",LEFT(E110,6)="cố vấn",LEFT(E110,4)="cvht",LEFT(E110,4)="CVHT",LEFT(E110,4)="shcn",LEFT(E110,4)="SHCN"),0,(IF(AND(H110>0,J110>0),IF(J110>250,1.5,IF(J110>150,1.4,IF(OR(J110>60,MID(F110,3,2)="C3",MID(F110,3,2)="C5",MID(F110,3,2)="C6"),1.3,IF(J110>35,1.2,1)))),0))) -> 0 | L110: =IF(OR(LEFT(E110,2)="ĐA",LEFT(E110,2)="DA",LEFT(E110,5)="Đồ án",LEFT(E110,5)="Đồán "),0,IF(AND(J110>0,I110>0),IF(OR(AND(OR(LEFT(E110,4)="GDQP",LEFT(E110,4)="GDTC",LEFT(E110,4)="gdqp",LEFT(E110,4)="gdtc",LEFT(E110,19)="Giáo dục quốc phòng",LEFT(E110,17)="Giáo dục thể chất"),J110>60),AND(OR(MID(F110,3,2)="C3",MID(F110,3,2)="C5",MID(F110,3,2)="C6"),J110>0)),1.3,IF(AND(OR(LEFT(E110,4)="GDQP",LEFT(E110,4)="gdqp",LEFT(E110,19)="Giáo dục quốc phòng"),J110>35),1.2,IF(AND(OR(LEFT(E110,4)="GDQP",LEFT(E110,4)="gdqp",LEFT(E110,19)="Giáo dục quốc phòng"),J110<=35),1,IF(J110>35,1.2,IF(J110>29,1.1,1))))),0)) -> 0 | M110: =ROUND(IF(AND(MID(F110,3,2)="C3",LEFT(E110,5)="Đồ án"),(J110*0.5)*1.3,IF(OR(LEFT(E110,2)="ĐA",LEFT(E110,2)="DA",LEFT(E110,5)="Đồ án",LEFT(E110,5)="Đồán "),J110*0.5,(IF(H110>0,H110*K110,"0"))+IF(I110>0,(I110*0.75)*L110,"0"))),1) -> 0
K111: =IF(OR(LEFT(E111,2)="ĐA",LEFT(E111,2)="DA",LEFT(E111,5)="Đồ án",LEFT(E111,5)="Đồán ",LEFT(E111,9)="Sinh hoạt",LEFT(E111,9)="sinh hoạt",LEFT(E111,6)="Cố vấn",LEFT(E111,6)="cố vấn",LEFT(E111,4)="cvht",LEFT(E111,4)="CVHT",LEFT(E111,4)="shcn",LEFT(E111,4)="SHCN"),0,(IF(AND(H111>0,J111>0),IF(J111>250,1.5,IF(J111>150,1.4,IF(OR(J111>60,MID(F111,3,2)="C3",MID(F111,3,2)="C5",MID(F111,3,2)="C6"),1.3,IF(J111>35,1.2,1)))),0))) -> 0 | L111: =IF(OR(LEFT(E111,2)="ĐA",LEFT(E111,2)="DA",LEFT(E111,5)="Đồ án",LEFT(E111,5)="Đồán "),0,IF(AND(J111>0,I111>0),IF(OR(AND(OR(LEFT(E111,4)="GDQP",LEFT(E111,4)="GDTC",LEFT(E111,4)="gdqp",LEFT(E111,4)="gdtc",LEFT(E111,19)="Giáo dục quốc phòng",LEFT(E111,17)="Giáo dục thể chất"),J111>60),AND(OR(MID(F111,3,2)="C3",MID(F111,3,2)="C5",MID(F111,3,2)="C6"),J111>0)),1.3,IF(AND(OR(LEFT(E111,4)="GDQP",LEFT(E111,4)="gdqp",LEFT(E111,19)="Giáo dục quốc phòng"),J111>35),1.2,IF(AND(OR(LEFT(E111,4)="GDQP",LEFT(E111,4)="gdqp",LEFT(E111,19)="Giáo dục quốc phòng"),J111<=35),1,IF(J111>35,1.2,IF(J111>29,1.1,1))))),0)) -> 0 | M111: =ROUND(IF(AND(MID(F111,3,2)="C3",LEFT(E111,5)="Đồ án"),(J111*0.5)*1.3,IF(OR(LEFT(E111,2)="ĐA",LEFT(E111,2)="DA",LEFT(E111,5)="Đồ án",LEFT(E111,5)="Đồán "),J111*0.5,(IF(H111>0,H111*K111,"0"))+IF(I111>0,(I111*0.75)*L111,"0"))),1) -> 0
K112: =IF(OR(LEFT(E112,2)="ĐA",LEFT(E112,2)="DA",LEFT(E112,5)="Đồ án",LEFT(E112,5)="Đồán ",LEFT(E112,9)="Sinh hoạt",LEFT(E112,9)="sinh hoạt",LEFT(E112,6)="Cố vấn",LEFT(E112,6)="cố vấn",LEFT(E112,4)="cvht",LEFT(E112,4)="CVHT",LEFT(E112,4)="shcn",LEFT(E112,4)="SHCN"),0,(IF(AND(H112>0,J112>0),IF(J112>250,1.5,IF(J112>150,1.4,IF(OR(J112>60,MID(F112,3,2)="C3",MID(F112,3,2)="C5",MID(F112,3,2)="C6"),1.3,IF(J112>35,1.2,1)))),0))) -> 0 | L112: =IF(OR(LEFT(E112,2)="ĐA",LEFT(E112,2)="DA",LEFT(E112,5)="Đồ án",LEFT(E112,5)="Đồán "),0,IF(AND(J112>0,I112>0),IF(OR(AND(OR(LEFT(E112,4)="GDQP",LEFT(E112,4)="GDTC",LEFT(E112,4)="gdqp",LEFT(E112,4)="gdtc",LEFT(E112,19)="Giáo dục quốc phòng",LEFT(E112,17)="Giáo dục thể chất"),J112>60),AND(OR(MID(F112,3,2)="C3",MID(F112,3,2)="C5",MID(F112,3,2)="C6"),J112>0)),1.3,IF(AND(OR(LEFT(E112,4)="GDQP",LEFT(E112,4)="gdqp",LEFT(E112,19)="Giáo dục quốc phòng"),J112>35),1.2,IF(AND(OR(LEFT(E112,4)="GDQP",LEFT(E112,4)="gdqp",LEFT(E112,19)="Giáo dục quốc phòng"),J112<=35),1,IF(J112>35,1.2,IF(J112>29,1.1,1))))),0)) -> 0 | M112: =ROUND(IF(AND(MID(F112,3,2)="C3",LEFT(E112,5)="Đồ án"),(J112*0.5)*1.3,IF(OR(LEFT(E112,2)="ĐA",LEFT(E112,2)="DA",LEFT(E112,5)="Đồ án",LEFT(E112,5)="Đồán "),J112*0.5,(IF(H112>0,H112*K112,"0"))+IF(I112>0,(I112*0.75)*L112,"0"))),1) -> 0
K113: =IF(OR(LEFT(E113,2)="ĐA",LEFT(E113,2)="DA",LEFT(E113,5)="Đồ án",LEFT(E113,5)="Đồán ",LEFT(E113,9)="Sinh hoạt",LEFT(E113,9)="sinh hoạt",LEFT(E113,6)="Cố vấn",LEFT(E113,6)="cố vấn",LEFT(E113,4)="cvht",LEFT(E113,4)="CVHT",LEFT(E113,4)="shcn",LEFT(E113,4)="SHCN"),0,(IF(AND(H113>0,J113>0),IF(J113>250,1.5,IF(J113>150,1.4,IF(OR(J113>60,MID(F113,3,2)="C3",MID(F113,3,2)="C5",MID(F113,3,2)="C6"),1.3,IF(J113>35,1.2,1)))),0))) -> 0 | L113: =IF(OR(LEFT(E113,2)="ĐA",LEFT(E113,2)="DA",LEFT(E113,5)="Đồ án",LEFT(E113,5)="Đồán "),0,IF(AND(J113>0,I113>0),IF(OR(AND(OR(LEFT(E113,4)="GDQP",LEFT(E113,4)="GDTC",LEFT(E113,4)="gdqp",LEFT(E113,4)="gdtc",LEFT(E113,19)="Giáo dục quốc phòng",LEFT(E113,17)="Giáo dục thể chất"),J113>60),AND(OR(MID(F113,3,2)="C3",MID(F113,3,2)="C5",MID(F113,3,2)="C6"),J113>0)),1.3,IF(AND(OR(LEFT(E113,4)="GDQP",LEFT(E113,4)="gdqp",LEFT(E113,19)="Giáo dục quốc phòng"),J113>35),1.2,IF(AND(OR(LEFT(E113,4)="GDQP",LEFT(E113,4)="gdqp",LEFT(E113,19)="Giáo dục quốc phòng"),J113<=35),1,IF(J113>35,1.2,IF(J113>29,1.1,1))))),0)) -> 0 | M113: =ROUND(IF(AND(MID(F113,3,2)="C3",LEFT(E113,5)="Đồ án"),(J113*0.5)*1.3,IF(OR(LEFT(E113,2)="ĐA",LEFT(E113,2)="DA",LEFT(E113,5)="Đồ án",LEFT(E113,5)="Đồán "),J113*0.5,(IF(H113>0,H113*K113,"0"))+IF(I113>0,(I113*0.75)*L113,"0"))),1) -> 0
K114: =IF(OR(LEFT(E114,2)="ĐA",LEFT(E114,2)="DA",LEFT(E114,5)="Đồ án",LEFT(E114,5)="Đồán ",LEFT(E114,9)="Sinh hoạt",LEFT(E114,9)="sinh hoạt",LEFT(E114,6)="Cố vấn",LEFT(E114,6)="cố vấn",LEFT(E114,4)="cvht",LEFT(E114,4)="CVHT",LEFT(E114,4)="shcn",LEFT(E114,4)="SHCN"),0,(IF(AND(H114>0,J114>0),IF(J114>250,1.5,IF(J114>150,1.4,IF(OR(J114>60,MID(F114,3,2)="C3",MID(F114,3,2)="C5",MID(F114,3,2)="C6"),1.3,IF(J114>35,1.2,1)))),0))) -> 0 | L114: =IF(OR(LEFT(E114,2)="ĐA",LEFT(E114,2)="DA",LEFT(E114,5)="Đồ án",LEFT(E114,5)="Đồán "),0,IF(AND(J114>0,I114>0),IF(OR(AND(OR(LEFT(E114,4)="GDQP",LEFT(E114,4)="GDTC",LEFT(E114,4)="gdqp",LEFT(E114,4)="gdtc",LEFT(E114,19)="Giáo dục quốc phòng",LEFT(E114,17)="Giáo dục thể chất"),J114>60),AND(OR(MID(F114,3,2)="C3",MID(F114,3,2)="C5",MID(F114,3,2)="C6"),J114>0)),1.3,IF(AND(OR(LEFT(E114,4)="GDQP",LEFT(E114,4)="gdqp",LEFT(E114,19)="Giáo dục quốc phòng"),J114>35),1.2,IF(AND(OR(LEFT(E114,4)="GDQP",LEFT(E114,4)="gdqp",LEFT(E114,19)="Giáo dục quốc phòng"),J114<=35),1,IF(J114>35,1.2,IF(J114>29,1.1,1))))),0)) -> 0 | M114: =ROUND(IF(AND(MID(F114,3,2)="C3",LEFT(E114,5)="Đồ án"),(J114*0.5)*1.3,IF(OR(LEFT(E114,2)="ĐA",LEFT(E114,2)="DA",LEFT(E114,5)="Đồ án",LEFT(E114,5)="Đồán "),J114*0.5,(IF(H114>0,H114*K114,"0"))+IF(I114>0,(I114*0.75)*L114,"0"))),1) -> 0
K115: =IF(OR(LEFT(E115,2)="ĐA",LEFT(E115,2)="DA",LEFT(E115,5)="Đồ án",LEFT(E115,5)="Đồán ",LEFT(E115,9)="Sinh hoạt",LEFT(E115,9)="sinh hoạt",LEFT(E115,6)="Cố vấn",LEFT(E115,6)="cố vấn",LEFT(E115,4)="cvht",LEFT(E115,4)="CVHT",LEFT(E115,4)="shcn",LEFT(E115,4)="SHCN"),0,(IF(AND(H115>0,J115>0),IF(J115>250,1.5,IF(J115>150,1.4,IF(OR(J115>60,MID(F115,3,2)="C3",MID(F115,3,2)="C5",MID(F115,3,2)="C6"),1.3,IF(J115>35,1.2,1)))),0))) -> 0 | L115: =IF(OR(LEFT(E115,2)="ĐA",LEFT(E115,2)="DA",LEFT(E115,5)="Đồ án",LEFT(E115,5)="Đồán "),0,IF(AND(J115>0,I115>0),IF(OR(AND(OR(LEFT(E115,4)="GDQP",LEFT(E115,4)="GDTC",LEFT(E115,4)="gdqp",LEFT(E115,4)="gdtc",LEFT(E115,19)="Giáo dục quốc phòng",LEFT(E115,17)="Giáo dục thể chất"),J115>60),AND(OR(MID(F115,3,2)="C3",MID(F115,3,2)="C5",MID(F115,3,2)="C6"),J115>0)),1.3,IF(AND(OR(LEFT(E115,4)="GDQP",LEFT(E115,4)="gdqp",LEFT(E115,19)="Giáo dục quốc phòng"),J115>35),1.2,IF(AND(OR(LEFT(E115,4)="GDQP",LEFT(E115,4)="gdqp",LEFT(E115,19)="Giáo dục quốc phòng"),J115<=35),1,IF(J115>35,1.2,IF(J115>29,1.1,1))))),0)) -> 0 | M115: =ROUND(IF(AND(MID(F115,3,2)="C3",LEFT(E115,5)="Đồ án"),(J115*0.5)*1.3,IF(OR(LEFT(E115,2)="ĐA",LEFT(E115,2)="DA",LEFT(E115,5)="Đồ án",LEFT(E115,5)="Đồán "),J115*0.5,(IF(H115>0,H115*K115,"0"))+IF(I115>0,(I115*0.75)*L115,"0"))),1) -> 0
K116: =IF(OR(LEFT(E116,2)="ĐA",LEFT(E116,2)="DA",LEFT(E116,5)="Đồ án",LEFT(E116,5)="Đồán ",LEFT(E116,9)="Sinh hoạt",LEFT(E116,9)="sinh hoạt",LEFT(E116,6)="Cố vấn",LEFT(E116,6)="cố vấn",LEFT(E116,4)="cvht",LEFT(E116,4)="CVHT",LEFT(E116,4)="shcn",LEFT(E116,4)="SHCN"),0,(IF(AND(H116>0,J116>0),IF(J116>250,1.5,IF(J116>150,1.4,IF(OR(J116>60,MID(F116,3,2)="C3",MID(F116,3,2)="C5",MID(F116,3,2)="C6"),1.3,IF(J116>35,1.2,1)))),0))) -> 0 | L116: =IF(OR(LEFT(E116,2)="ĐA",LEFT(E116,2)="DA",LEFT(E116,5)="Đồ án",LEFT(E116,5)="Đồán "),0,IF(AND(J116>0,I116>0),IF(OR(AND(OR(LEFT(E116,4)="GDQP",LEFT(E116,4)="GDTC",LEFT(E116,4)="gdqp",LEFT(E116,4)="gdtc",LEFT(E116,19)="Giáo dục quốc phòng",LEFT(E116,17)="Giáo dục thể chất"),J116>60),AND(OR(MID(F116,3,2)="C3",MID(F116,3,2)="C5",MID(F116,3,2)="C6"),J116>0)),1.3,IF(AND(OR(LEFT(E116,4)="GDQP",LEFT(E116,4)="gdqp",LEFT(E116,19)="Giáo dục quốc phòng"),J116>35),1.2,IF(AND(OR(LEFT(E116,4)="GDQP",LEFT(E116,4)="gdqp",LEFT(E116,19)="Giáo dục quốc phòng"),J116<=35),1,IF(J116>35,1.2,IF(J116>29,1.1,1))))),0)) -> 0 | M116: =ROUND(IF(AND(MID(F116,3,2)="C3",LEFT(E116,5)="Đồ án"),(J116*0.5)*1.3,IF(OR(LEFT(E116,2)="ĐA",LEFT(E116,2)="DA",LEFT(E116,5)="Đồ án",LEFT(E116,5)="Đồán "),J116*0.5,(IF(H116>0,H116*K116,"0"))+IF(I116>0,(I116*0.75)*L116,"0"))),1) -> 0
K117: =IF(OR(LEFT(E117,2)="ĐA",LEFT(E117,2)="DA",LEFT(E117,5)="Đồ án",LEFT(E117,5)="Đồán ",LEFT(E117,9)="Sinh hoạt",LEFT(E117,9)="sinh hoạt",LEFT(E117,6)="Cố vấn",LEFT(E117,6)="cố vấn",LEFT(E117,4)="cvht",LEFT(E117,4)="CVHT",LEFT(E117,4)="shcn",LEFT(E117,4)="SHCN"),0,(IF(AND(H117>0,J117>0),IF(J117>250,1.5,IF(J117>150,1.4,IF(OR(J117>60,MID(F117,3,2)="C3",MID(F117,3,2)="C5",MID(F117,3,2)="C6"),1.3,IF(J117>35,1.2,1)))),0))) -> 0 | L117: =IF(OR(LEFT(E117,2)="ĐA",LEFT(E117,2)="DA",LEFT(E117,5)="Đồ án",LEFT(E117,5)="Đồán "),0,IF(AND(J117>0,I117>0),IF(OR(AND(OR(LEFT(E117,4)="GDQP",LEFT(E117,4)="GDTC",LEFT(E117,4)="gdqp",LEFT(E117,4)="gdtc",LEFT(E117,19)="Giáo dục quốc phòng",LEFT(E117,17)="Giáo dục thể chất"),J117>60),AND(OR(MID(F117,3,2)="C3",MID(F117,3,2)="C5",MID(F117,3,2)="C6"),J117>0)),1.3,IF(AND(OR(LEFT(E117,4)="GDQP",LEFT(E117,4)="gdqp",LEFT(E117,19)="Giáo dục quốc phòng"),J117>35),1.2,IF(AND(OR(LEFT(E117,4)="GDQP",LEFT(E117,4)="gdqp",LEFT(E117,19)="Giáo dục quốc phòng"),J117<=35),1,IF(J117>35,1.2,IF(J117>29,1.1,1))))),0)) -> 0 | M117: =ROUND(IF(AND(MID(F117,3,2)="C3",LEFT(E117,5)="Đồ án"),(J117*0.5)*1.3,IF(OR(LEFT(E117,2)="ĐA",LEFT(E117,2)="DA",LEFT(E117,5)="Đồ án",LEFT(E117,5)="Đồán "),J117*0.5,(IF(H117>0,H117*K117,"0"))+IF(I117>0,(I117*0.75)*L117,"0"))),1) -> 0
K118: =IF(OR(LEFT(E118,2)="ĐA",LEFT(E118,2)="DA",LEFT(E118,5)="Đồ án",LEFT(E118,5)="Đồán ",LEFT(E118,9)="Sinh hoạt",LEFT(E118,9)="sinh hoạt",LEFT(E118,6)="Cố vấn",LEFT(E118,6)="cố vấn",LEFT(E118,4)="cvht",LEFT(E118,4)="CVHT",LEFT(E118,4)="shcn",LEFT(E118,4)="SHCN"),0,(IF(AND(H118>0,J118>0),IF(J118>250,1.5,IF(J118>150,1.4,IF(OR(J118>60,MID(F118,3,2)="C3",MID(F118,3,2)="C5",MID(F118,3,2)="C6"),1.3,IF(J118>35,1.2,1)))),0))) -> 0 | L118: =IF(OR(LEFT(E118,2)="ĐA",LEFT(E118,2)="DA",LEFT(E118,5)="Đồ án",LEFT(E118,5)="Đồán "),0,IF(AND(J118>0,I118>0),IF(OR(AND(OR(LEFT(E118,4)="GDQP",LEFT(E118,4)="GDTC",LEFT(E118,4)="gdqp",LEFT(E118,4)="gdtc",LEFT(E118,19)="Giáo dục quốc phòng",LEFT(E118,17)="Giáo dục thể chất"),J118>60),AND(OR(MID(F118,3,2)="C3",MID(F118,3,2)="C5",MID(F118,3,2)="C6"),J118>0)),1.3,IF(AND(OR(LEFT(E118,4)="GDQP",LEFT(E118,4)="gdqp",LEFT(E118,19)="Giáo dục quốc phòng"),J118>35),1.2,IF(AND(OR(LEFT(E118,4)="GDQP",LEFT(E118,4)="gdqp",LEFT(E118,19)="Giáo dục quốc phòng"),J118<=35),1,IF(J118>35,1.2,IF(J118>29,1.1,1))))),0)) -> 0 | M118: =ROUND(IF(AND(MID(F118,3,2)="C3",LEFT(E118,5)="Đồ án"),(J118*0.5)*1.3,IF(OR(LEFT(E118,2)="ĐA",LEFT(E118,2)="DA",LEFT(E118,5)="Đồ án",LEFT(E118,5)="Đồán "),J118*0.5,(IF(H118>0,H118*K118,"0"))+IF(I118>0,(I118*0.75)*L118,"0"))),1) -> 0
K119: =IF(OR(LEFT(E119,2)="ĐA",LEFT(E119,2)="DA",LEFT(E119,5)="Đồ án",LEFT(E119,5)="Đồán ",LEFT(E119,9)="Sinh hoạt",LEFT(E119,9)="sinh hoạt",LEFT(E119,6)="Cố vấn",LEFT(E119,6)="cố vấn",LEFT(E119,4)="cvht",LEFT(E119,4)="CVHT",LEFT(E119,4)="shcn",LEFT(E119,4)="SHCN"),0,(IF(AND(H119>0,J119>0),IF(J119>250,1.5,IF(J119>150,1.4,IF(OR(J119>60,MID(F119,3,2)="C3",MID(F119,3,2)="C5",MID(F119,3,2)="C6"),1.3,IF(J119>35,1.2,1)))),0))) -> 0 | L119: =IF(OR(LEFT(E119,2)="ĐA",LEFT(E119,2)="DA",LEFT(E119,5)="Đồ án",LEFT(E119,5)="Đồán "),0,IF(AND(J119>0,I119>0),IF(OR(AND(OR(LEFT(E119,4)="GDQP",LEFT(E119,4)="GDTC",LEFT(E119,4)="gdqp",LEFT(E119,4)="gdtc",LEFT(E119,19)="Giáo dục quốc phòng",LEFT(E119,17)="Giáo dục thể chất"),J119>60),AND(OR(MID(F119,3,2)="C3",MID(F119,3,2)="C5",MID(F119,3,2)="C6"),J119>0)),1.3,IF(AND(OR(LEFT(E119,4)="GDQP",LEFT(E119,4)="gdqp",LEFT(E119,19)="Giáo dục quốc phòng"),J119>35),1.2,IF(AND(OR(LEFT(E119,4)="GDQP",LEFT(E119,4)="gdqp",LEFT(E119,19)="Giáo dục quốc phòng"),J119<=35),1,IF(J119>35,1.2,IF(J119>29,1.1,1))))),0)) -> 0 | M119: =ROUND(IF(AND(MID(F119,3,2)="C3",LEFT(E119,5)="Đồ án"),(J119*0.5)*1.3,IF(OR(LEFT(E119,2)="ĐA",LEFT(E119,2)="DA",LEFT(E119,5)="Đồ án",LEFT(E119,5)="Đồán "),J119*0.5,(IF(H119>0,H119*K119,"0"))+IF(I119>0,(I119*0.75)*L119,"0"))),1) -> 0
K120: =IF(OR(LEFT(E120,2)="ĐA",LEFT(E120,2)="DA",LEFT(E120,5)="Đồ án",LEFT(E120,5)="Đồán ",LEFT(E120,9)="Sinh hoạt",LEFT(E120,9)="sinh hoạt",LEFT(E120,6)="Cố vấn",LEFT(E120,6)="cố vấn",LEFT(E120,4)="cvht",LEFT(E120,4)="CVHT",LEFT(E120,4)="shcn",LEFT(E120,4)="SHCN"),0,(IF(AND(H120>0,J120>0),IF(J120>250,1.5,IF(J120>150,1.4,IF(OR(J120>60,MID(F120,3,2)="C3",MID(F120,3,2)="C5",MID(F120,3,2)="C6"),1.3,IF(J120>35,1.2,1)))),0))) -> 0 | L120: =IF(OR(LEFT(E120,2)="ĐA",LEFT(E120,2)="DA",LEFT(E120,5)="Đồ án",LEFT(E120,5)="Đồán "),0,IF(AND(J120>0,I120>0),IF(OR(AND(OR(LEFT(E120,4)="GDQP",LEFT(E120,4)="GDTC",LEFT(E120,4)="gdqp",LEFT(E120,4)="gdtc",LEFT(E120,19)="Giáo dục quốc phòng",LEFT(E120,17)="Giáo dục thể chất"),J120>60),AND(OR(MID(F120,3,2)="C3",MID(F120,3,2)="C5",MID(F120,3,2)="C6"),J120>0)),1.3,IF(AND(OR(LEFT(E120,4)="GDQP",LEFT(E120,4)="gdqp",LEFT(E120,19)="Giáo dục quốc phòng"),J120>35),1.2,IF(AND(OR(LEFT(E120,4)="GDQP",LEFT(E120,4)="gdqp",LEFT(E120,19)="Giáo dục quốc phòng"),J120<=35),1,IF(J120>35,1.2,IF(J120>29,1.1,1))))),0)) -> 0 | M120: =ROUND(IF(AND(MID(F120,3,2)="C3",LEFT(E120,5)="Đồ án"),(J120*0.5)*1.3,IF(OR(LEFT(E120,2)="ĐA",LEFT(E120,2)="DA",LEFT(E120,5)="Đồ án",LEFT(E120,5)="Đồán "),J120*0.5,(IF(H120>0,H120*K120,"0"))+IF(I120>0,(I120*0.75)*L120,"0"))),1) -> 0
... K130: =IF(OR(LEFT(E130,2)="ĐA",LEFT(E130,2)="DA",LEFT(E130,5)="Đồ án",LEFT(E130,5)="Đồán ",LEFT(E130,9)="Sinh hoạt",LEFT(E130,9)="sinh hoạt",LEFT(E130,6)="Cố vấn",LEFT(E130,6)="cố vấn",LEFT(E130,4)="cvht",LEFT(E130,4)="CVHT",LEFT(E130,4)="shcn",LEFT(E130,4)="SHCN"),0,(IF(AND(H130>0,J130>0),IF(J130>250,1.5,IF(J130>150,1.4,IF(OR(J130>60,MID(F130,3,2)="C3",MID(F130,3,2)="C5",MID(F130,3,2)="C6"),1.3,IF(J130>35,1.2,1)))),0))) -> 0 | L130: =IF(OR(LEFT(E130,2)="ĐA",LEFT(E130,2)="DA",LEFT(E130,5)="Đồ án",LEFT(E130,5)="Đồán "),0,IF(AND(J130>0,I130>0),IF(OR(AND(OR(LEFT(E130,4)="GDQP",LEFT(E130,4)="GDTC",LEFT(E130,4)="gdqp",LEFT(E130,4)="gdtc",LEFT(E130,19)="Giáo dục quốc phòng",LEFT(E130,17)="Giáo dục thể chất"),J130>60),AND(OR(MID(F130,3,2)="C3",MID(F130,3,2)="C5",MID(F130,3,2)="C6"),J130>0)),1.3,IF(AND(OR(LEFT(E130,4)="GDQP",LEFT(E130,4)="gdqp",LEFT(E130,19)="Giáo dục quốc phòng"),J130>35),1.2,IF(AND(OR(LEFT(E130,4)="GDQP",LEFT(E130,4)="gdqp",LEFT(E130,19)="Giáo dục quốc phòng"),J130<=35),1,IF(J130>35,1.2,IF(J130>29,1.1,1))))),0)) -> 0 | M130: =ROUND(IF(AND(MID(F130,3,2)="C3",LEFT(E130,5)="Đồ án"),(J130*0.5)*1.3,IF(OR(LEFT(E130,2)="ĐA",LEFT(E130,2)="DA",LEFT(E130,5)="Đồ án",LEFT(E130,5)="Đồán "),J130*0.5,(IF(H130>0,H130*K130,"0"))+IF(I130>0,(I130*0.75)*L130,"0"))),1) -> 0
A131: 4 | B131: Ngô Phong | C131: Cường | E131: Hóa học 3 | F131: 18T7-ĐCN1 | K131: =IF(OR(LEFT(E131,2)="ĐA",LEFT(E131,2)="DA",LEFT(E131,5)="Đồ án",LEFT(E131,5)="Đồán ",LEFT(E131,9)="Sinh hoạt",LEFT(E131,9)="sinh hoạt",LEFT(E131,6)="Cố vấn",LEFT(E131,6)="cố vấn",LEFT(E131,4)="cvht",LEFT(E131,4)="CVHT",LEFT(E131,4)="shcn",LEFT(E131,4)="SHCN"),0,(IF(AND(H131>0,J131>0),IF(J131>250,1.5,IF(J131>150,1.4,IF(OR(J131>60,MID(F131,3,2)="C3",MID(F131,3,2)="C5",MID(F131,3,2)="C6"),1.3,IF(J131>35,1.2,1)))),0))) -> 0 | L131: =IF(OR(LEFT(E131,2)="ĐA",LEFT(E131,2)="DA",LEFT(E131,5)="Đồ án",LEFT(E131,5)="Đồán "),0,IF(AND(J131>0,I131>0),IF(OR(AND(OR(LEFT(E131,4)="GDQP",LEFT(E131,4)="GDTC",LEFT(E131,4)="gdqp",LEFT(E131,4)="gdtc",LEFT(E131,19)="Giáo dục quốc phòng",LEFT(E131,17)="Giáo dục thể chất"),J131>60),AND(OR(MID(F131,3,2)="C3",MID(F131,3,2)="C5",MID(F131,3,2)="C6"),J131>0)),1.3,IF(AND(OR(LEFT(E131,4)="GDQP",LEFT(E131,4)="gdqp",LEFT(E131,19)="Giáo dục quốc phòng"),J131>35),1.2,IF(AND(OR(LEFT(E131,4)="GDQP",LEFT(E131,4)="gdqp",LEFT(E131,19)="Giáo dục quốc phòng"),J131<=35),1,IF(J131>35,1.2,IF(J131>29,1.1,1))))),0)) -> 0 | M131: =ROUND(IF(AND(MID(F131,3,2)="C3",LEFT(E131,5)="Đồ án"),(J131*0.5)*1.3,IF(OR(LEFT(E131,2)="ĐA",LEFT(E131,2)="DA",LEFT(E131,5)="Đồ án",LEFT(E131,5)="Đồán "),J131*0.5,(IF(H131>0,H131*K131,"0"))+IF(I131>0,(I131*0.75)*L131,"0"))),1) -> 0 | N131: =T131*15% -> 0 | O131: 0 | P131: =SUM(M131:M170)+N131+O131 -> 406.5 | Q131: 0 | R131: 0 | S131: =IF('Mau B2'!I14>54,54,'Mau B2'!I14) -> 0 | T131: =IF(J131<1,0,IF(OR(LEFT(E131,4)="Toán",LEFT(E131,3)="Vật",LEFT(E131,4)="Hóa",LEFT(E131,3)="Hóa",LEFT(E131,7)="Ngữ văn"),629,IF(OR(LEFT(E131,2)="GD",LEFT(E131,8)="Giáo dục",LEFT(E131,4)="Pháp",LEFT(E131,9)="chính trị"),450,430))) -> 0 | U131: 629 | V131: =IF(J131<1,0,IF(OR(LEFT(E131,4)="Toán",LEFT(E131,3)="Vật",LEFT(E131,3)="Hóa",LEFT(E131,4)="Hóa",LEFT(E131,7)="Ngữ văn"),51,IF(OR(LEFT(E131,4)="Giáo",LEFT(E131,5)="Giáo",LEFT(E131,4)="Pháp",LEFT(E131,5)="Pháp"),56,54))) -> 0 | W131: 51 | X131: =IF(J131<1,0,IF(OR(LEFT(E131,4)="Toán",LEFT(E131,3)="Vật",LEFT(E131,3)="Hóa",LEFT(E131,4)="Hóa",LEFT(E131,7)="Ngữ văn"),0,IF(OR(LEFT(E131,4)="Giáo",LEFT(E131,5)="Giáo",LEFT(E131,4)="Pháp",LEFT(E131,5)="Pháp"),56,54))) -> 0 | Y131: 0 | Z131: =IF(J131<1,0,IF(OR(LEFT(E131,4)="Toán",LEFT(E131,3)="Vật",LEFT(E131,3)="Hóa",LEFT(E131,4)="Hóa",LEFT(E131,7)="Ngữ văn"),0,IF(OR(LEFT(E131,4)="Giáo",LEFT(E131,5)="Giáo",LEFT(E131,4)="Pháp",LEFT(E131,5)="Pháp"),56,54))) -> 0 | AA131: 0 | AB131: =ROUND((P131-U131),1) -> -222.5 | AC131: =IF(OR(SUM(W131:W170)="",SUM(Q131:Q170)="",SUM(Y131:Y170)="",SUM(R131:R170)=""),0,IF(OR(SUM(V131:V170)+SUM(X131:X170)=108,SUM(W131:W170)+SUM(Y131:Y170)>0),ROUND((SUM(Q131:Q170)-SUM(W131:W170)+SUM(R131:R170)-SUM(Y131:Y170)),1),0)) -> -51 | AD131: =IF(OR(SUM(AA131:AA170)="",SUM(S131:S170)=""),0,IF(OR(SUM(Z131:Z170)=160,SUM(AA131:AA170)>0),ROUND((SUM(S131:S170)-SUM(AA131:AA170)),1),0)) -> 0 | AE131: 0 | AF131: =SUM(AB131:AD170) -> -273.5
K132: =IF(OR(LEFT(E132,2)="ĐA",LEFT(E132,2)="DA",LEFT(E132,5)="Đồ án",LEFT(E132,5)="Đồán ",LEFT(E132,9)="Sinh hoạt",LEFT(E132,9)="sinh hoạt",LEFT(E132,6)="Cố vấn",LEFT(E132,6)="cố vấn",LEFT(E132,4)="cvht",LEFT(E132,4)="CVHT",LEFT(E132,4)="shcn",LEFT(E132,4)="SHCN"),0,(IF(AND(H132>0,J132>0),IF(J132>250,1.5,IF(J132>150,1.4,IF(OR(J132>60,MID(F132,3,2)="C3",MID(F132,3,2)="C5",MID(F132,3,2)="C6"),1.3,IF(J132>35,1.2,1)))),0))) -> 0 | L132: =IF(OR(LEFT(E132,2)="ĐA",LEFT(E132,2)="DA",LEFT(E132,5)="Đồ án",LEFT(E132,5)="Đồán "),0,IF(AND(J132>0,I132>0),IF(OR(AND(OR(LEFT(E132,4)="GDQP",LEFT(E132,4)="GDTC",LEFT(E132,4)="gdqp",LEFT(E132,4)="gdtc",LEFT(E132,19)="Giáo dục quốc phòng",LEFT(E132,17)="Giáo dục thể chất"),J132>60),AND(OR(MID(F132,3,2)="C3",MID(F132,3,2)="C5",MID(F132,3,2)="C6"),J132>0)),1.3,IF(AND(OR(LEFT(E132,4)="GDQP",LEFT(E132,4)="gdqp",LEFT(E132,19)="Giáo dục quốc phòng"),J132>35),1.2,IF(AND(OR(LEFT(E132,4)="GDQP",LEFT(E132,4)="gdqp",LEFT(E132,19)="Giáo dục quốc phòng"),J132<=35),1,IF(J132>35,1.2,IF(J132>29,1.1,1))))),0)) -> 0 | M132: =ROUND(IF(AND(MID(F132,3,2)="C3",LEFT(E132,5)="Đồ án"),(J132*0.5)*1.3,IF(OR(LEFT(E132,2)="ĐA",LEFT(E132,2)="DA",LEFT(E132,5)="Đồ án",LEFT(E132,5)="Đồán "),J132*0.5,(IF(H132>0,H132*K132,"0"))+IF(I132>0,(I132*0.75)*L132,"0"))),1) -> 0
...

Sheet Mau A2
S1: Mẫu A2
A2: UBND THÀNH PHỐ HỒ CHÍ MINH | L2: CỘNG HÒA XÃ HỘI CHỦ NGHĨA VIỆT NAM
A3: TRƯỜNG CAO ĐẲNG LÝ TỰ TRỌNG THÀNH PHỐ HỒ CHÍ MINH | L3: Độc lập - Tự do - Hạnh phúc
A4: BẢNG TỔNG KẾT KHỐI LƯỢNG CÔNG VIỆC CỦA GIẢNG VIÊN TRONG NĂM HỌC 2020 - 2021
A5: KHOA :
A7: TT | B7: Họ và Tên | D7: Thực hiện trong năm học | K7: Số tiết chuẩn giảng dạy cả năm còn lại | L7: Số tiết chuẩn "Học tập, bồi dưỡng chuẩn hóa, bồi dưỡng nâng cao" còn lại | M7: Số tiết chuẩn "Nghiên cứu khoa học" còn lại | N7: Số tiết chuẩn "Thực tập tại doanh nghiệp hoặc cơ quan chuyên môn" còn lại | O7: Số tiết thừa, thiếu giảng dạy | P7: Số tiết thừa, thiếu "Học tập, bồi dưỡng chuẩn hóa, bồi dưỡng nâng cao, nghiên cứu khoa học" | Q7: Số tiết thừa, thiếu "Thực tập tại doanh nghiệp hoặc cơ quan chuyên môn" | R7: Tổng số tiết thừa, thiếu năm học 2020-2021 | S7: Số tiết thiếu năm học 2019-2020 | T7: Tổng số tiết thừa, thiếu (sau khi cộng số tiết thiếu năm học 2019-2020)
D8: Số tiết quy đổi và đã nhân hệ số | E8: Kiêm nhiệm | F8: Số tiết soạn đề, coi thi, chấm thi | G8: Tổng tiết thực hiện | H8: Số tiết "Học tập, bồi dưỡng chuẩn hóa, bồi dưỡng nâng cao" | I8: Số tiết "Nghiên cứu khoa học" | J8: Số tiết "Thực tập tại doanh nghiệp hoặc cơ quan chuyên môn"
T9: Khối lượng vượt giờ (tính phụ trội) | U9: Khối lượng thỉnh giảng (tiết thỉnh giảng) | V9: Số tiết thiếu năm học 2020-2021
A10: (1) | B10: (2) | D10: (3) | E10: (4) | F10: (5) | G10: (6) | H10: (7) | I10: (8) | J10: (9) | K10: (10) | L10: (11) | M10: (12) | N10: (13) | O10: (14) | P10: (15) | Q10: (16) | S10: (17) | T10: (18) | U10: (19) | V10: (20)
A11: 1 | B11: =IF('Mau A1'!B11="","",'Mau A1'!B11) -> Ngô Hoàng | C11: =IF('Mau A1'!C11="","",'Mau A1'!C11) -> Anh | D11: =SUM('Mau A1'!M11:M50) -> 543.6 | E11: =SUM('Mau A1'!N11:N50) -> 64.5 | F11: =SUM('Mau A1'!O11:O50) -> 0 | G11: =SUM('Mau A1'!P11:P50) -> 608.1 | H11: =SUM('Mau A1'!Q11:Q50) -> 0 | I11: =SUM('Mau A1'!R11:R50) -> 0 | J11: =SUM('Mau A1'!S11:S50) -> 0 | K11: =SUM('Mau A1'!U11:U50) -> 629 | L11: =SUM('Mau A1'!W11:W50) -> 51 | M11: =SUM('Mau A1'!Y11:Y50) -> 0 | N11: =SUM('Mau A1'!AA11:AA50) -> 0 | O11: =SUM('Mau A1'!AB11:AB50) -> -20.9 | P11: =SUM('Mau A1'!AC11:AC50) -> -51 | Q11: =SUM('Mau A1'!AD11:AD50) -> 0 | R11: =SUM('Mau A1'!AF11:AF50) -> -71.9 | S11: =SUM('Mau A1'!AE11:AE50) -> 0 | T11: =ROUND(IF(OR((O11+P11+Q11)-S11<=0,R11-F11<0),"0",IF(OR(AND(0<O11<200,0<(O11-S11)<200,P11>=0,Q11>=0),AND((O11-S11)>200,R11<200),AND(O11-S11<200,R11<O11)),O11-S11+P11+Q11,IF(AND(R11>0,R11>200,F11>=0,(R11-S11)>200),"200",IF(OR(AND(P11<0,Q11=0,R11-S11<200),AND(P11=0,Q11<0,F11>0,R11-S11<200),AND(P11<0,Q11<0,F11>0,R11-S11<=200)),R11-S11-F11,R11-S11-F11-P11-Q11)))),1) -> 0 | U11: =ROUND(IF(AND(R11>0,T11=200),R11-S11-T11,IF(AND(P11>0,Q11>0,O11<=0,T11=0),R11-S11+P11,IF(AND(R11>0,P11>0,T11=200),R11-S11-T11+P11,IF(AND(R11>0,T11<200,OR(P11>0,F11>0)),R11-S11-T11,)))),1) -> 0 | V11: =ROUND(IF(SUM(O11:Q11)-S11<0,SUM(O11:Q11)-S11,),1) -> -71.9
A12: 2 | B12: =IF('Mau A1'!B51="","",'Mau A1'!B51) -> Trần Nam | C12: =IF('Mau A1'!C51="","",'Mau A1'!C51) -> Anh | D12: =SUM('Mau A1'!M51:M90) -> 505 | E12: =SUM('Mau A1'!N51:N90) -> 22 | F12: =SUM('Mau A1'!O51:O90) -> 0 | G12: =SUM('Mau A1'!P51:P90) -> 527 | H12: =SUM('Mau A1'!Q51:Q90) -> 0 | I12: =SUM('Mau A1'!R51:R90) -> 0 | J12: =SUM('Mau A1'!S51:S90) -> 0 | K12: =SUM('Mau A1'!U51:U90) -> 450 | L12: =SUM('Mau A1'!W51:W90) -> 56 | M12: =SUM('Mau A1'!Y51:Y90) -> 56 | N12: =SUM('Mau A1'!AA51:AA90) -> 56 | O12: =SUM('Mau A1'!AB51:AB90) -> 77 | P12: =SUM('Mau A1'!AC51:AC90) -> -112 | Q12: =SUM('Mau A1'!AD51:AD90) -> -56 | R12: =SUM('Mau A1'!AF51:AF90) -> -91 | S12: =SUM('Mau A1'!AE51:AE90) -> 0 | T12: =ROUND(IF(OR((O12+P12+Q12)-S12<=0,R12-F12<0),"0",IF(OR(AND(0<O12<200,0<(O12-S12)<200,P12>=0,Q12>=0),AND((O12-S12)>200,R12<200),AND(O12-S12<200,R12<O12)),O12-S12+P12+Q12,IF(AND(R12>0,R12>200,F12>=0,(R12-S12)>200),"200",IF(OR(AND(P12<0,Q12=0,R12-S12<200),AND(P12=0,Q12<0,F12>0,R12-S12<200),AND(P12<0,Q12<0,F12>0,R12-S12<=200)),R12-S12-F12,R12-S12-F12-P12-Q12)))),1) -> 0 | U12: =ROUND(IF(AND(R12>0,T12=200),R12-S12-T12,IF(AND(P12>0,Q12>0,O12<=0,T12=0),R12-S12+P12,IF(AND(R12>0,P12>0,T12=200),R12-S12-T12+P12,IF(AND(R12>0,T12<200,OR(P12>0,F12>0)),R12-S12-T12,)))),1) -> 0 | V12: =ROUND(IF(SUM(O12:Q12)-S12<0,SUM(O12:Q12)-S12,),1) -> -91
A13: 3 | B13: =IF('Mau A1'!B91="","",'Mau A1'!B91) -> Vũ Hạnh | C13: =IF('Mau A1'!C91="","",'Mau A1'!C91) -> Chiêu | D13: =SUM('Mau A1'!M91:M130) -> 346.2 | E13: =SUM('Mau A1'!N91:N130) -> 0 | F13: =SUM('Mau A1'!O91:O130) -> 0 | G13: =SUM('Mau A1'!P91:P130) -> 346.2 | H13: =SUM('Mau A1'!Q91:Q130) -> 0 | I13: =SUM('Mau A1'!R91:R130) -> 10 | J13: =SUM('Mau A1'!S91:S130) -> 0 | K13: =SUM('Mau A1'!U91:U130) -> 629 | L13: =SUM('Mau A1'!W91:W130) -> 51 | M13: =SUM('Mau A1'!Y91:Y130) -> 0 | N13: =SUM('Mau A1'!AA91:AA130) -> 0 | O13: =SUM('Mau A1'!AB91:AB130) -> -282.8 | P13: =SUM('Mau A1'!AC91:AC130) -> -41 | Q13: =SUM('Mau A1'!AD91:AD130) -> 0 | R13: =SUM('Mau A1'!AF91:AF130) -> -323.8 | S13: =SUM('Mau A1'!AE91:AE130) -> 0 | T13: =ROUND(IF(OR((O13+P13+Q13)-S13<=0,R13-F13<0),"0",IF(OR(AND(0<O13<200,0<(O13-S13)<200,P13>=0,Q13>=0),AND((O13-S13)>200,R13<200),AND(O13-S13<200,R13<O13)),O13-S13+P13+Q13,IF(AND(R13>0,R13>200,F13>=0,(R13-S13)>200),"200",IF(OR(AND(P13<0,Q13=0,R13-S13<200),AND(P13=0,Q13<0,F13>0,R13-S13<200),AND(P13<0,Q13<0,F13>0,R13-S13<=200)),R13-S13-F13,R13-S13-F13-P13-Q13)))),1) -> 0 | U13: =ROUND(IF(AND(R13>0,T13=200),R13-S13-T13,IF(AND(P13>0,Q13>0,O13<=0,T13=0),R13-S13+P13,IF(AND(R13>0,P13>0,T13=200),R13-S13-T13+P13,IF(AND(R13>0,T13<200,OR(P13>0,F13>0)),R13-S13-T13,)))),1) -> 0 | V13: =ROUND(IF(SUM(O13:Q13)-S13<0,SUM(O13:Q13)-S13,),1) -> -323.8
A14: 4 | B14: =IF('Mau A1'!B131="","",'Mau A1'!B131) -> Ngô Phong | C14: =IF('Mau A1'!C131="","",'Mau A1'!C131) -> Cường | D14: =SUM('Mau A1'!M131:M170) -> 406.5 | E14: =SUM('Mau A1'!N131:N170) -> 0 | F14: =SUM('Mau A1'!O131:O170) -> 0 | G14: =SUM('Mau A1'!P131:P170) -> 406.5 | H14: =SUM('Mau A1'!Q131:Q170) -> 0 | I14: =SUM('Mau A1'!R131:R170) -> 0 | J14: =SUM('Mau A1'!S131:S170) -> 0 | K14: =SUM('Mau A1'!U131:U170) -> 629 | L14: =SUM('Mau A1'!W131:W170) -> 51 | M14: =SUM('Mau A1'!Y131:Y170) -> 0 | N14: =SUM('Mau A1'!AA131:AA170) -> 0 | O14: =SUM('Mau A1'!AB131:AB170) -> -222.5 | P14: =SUM('Mau A1'!AC131:AC170) -> -51 | Q14: =SUM('Mau A1'!AD131:AD170) -> 0 | R14: =SUM('Mau A1'!AF131:AF170) -> -273.5 | S14: =SUM('Mau A1'!AE131:AE170) -> 0 | T14: =ROUND(IF(OR((O14+P14+Q14)-S14<=0,R14-F14<0),"0",IF(OR(AND(0<O14<200,0<(O14-S14)<200,P14>=0,Q14>=0),AND((O14-S14)>200,R14<200),AND(O14-S14<200,R14<O14)),O14-S14+P14+Q14,IF(AND(R14>0,R14>200,F14>=0,(R14-S14)>200),"200",IF(OR(AND(P14<0,Q14=0,R14-S14<200),AND(P14=0,Q14<0,F14>0,R14-S14<200),AND(P14<0,Q14<0,F14>0,R14-S14<=200)),R14-S14-F14,R14-S14-F14-P14-Q14)))),1) -> 0 | U14: =ROUND(IF(AND(R14>0,T14=200),R14-S14-T14,IF(AND(P14>0,Q14>0,O14<=0,T14=0),R14-S14+P14,IF(AND(R14>0,P14>0,T14=200),R14-S14-T14+P14,IF(AND(R14>0,T14<200,OR(P14>0,F14>0)),R14-S14-T14,)))),1) -> 0 | V14: =ROUND(IF(SUM(O14:Q14)-S14<0,SUM(O14:Q14)-S14,),1) -> -273.5
A15: 5 | B15: =IF('Mau A1'!B171="","",'Mau A1'!B171) -> Nguyễn Minh Đức | C15: =IF('Mau A1'!C171="","",'Mau A1'!C171) -> Cường | D15: =SUM('Mau A1'!M171:M210) -> 539.8 | E15: =SUM('Mau A1'!N171:N210) -> 0 | F15: =SUM('Mau A1'!O171:O210) -> 0 | G15: =SUM('Mau A1'!P171:P210) -> 539.8 | H15: =SUM('Mau A1'!Q171:Q210) -> 54 | I15: =SUM('Mau A1'!R171:R210) -> 0 | J15: =SUM('Mau A1'!S171:S210) -> 0 | K15: =SUM('Mau A1'!U171:U210) -> 430 | L15: =SUM('Mau A1'!W171:W210) -> 0 | M15: =SUM('Mau A1'!Y171:Y210) -> 54 | N15: =SUM('Mau A1'!AA171:AA210) -> 54 | O15: =SUM('Mau A1'!AB171:AB210) -> 109.8 | P15: =SUM('Mau A1'!AC171:AC210) -> 0 | Q15: =SUM('Mau A1'!AD171:AD210) -> -54 | R15: =SUM('Mau A1'!AF171:AF210) -> 55.8 | S15: =SUM('Mau A1'!AE171:AE210) -> 0 | T15: =ROUND(IF(OR((O15+P15+Q15)-S15<=0,R15-F15<0),"0",IF(OR(AND(0<O15<200,0<(O15-S15)<200,P15>=0,Q15>=0),AND((O15-S15)>200,R15<200),AND(O15-S15<200,R15<O15)),O15-S15+P15+Q15,IF(AND(R15>0,R15>200,F15>=0,(R15-S15)>200),"200",IF(OR(AND(P15<0,Q15=0,R15-S15<200),AND(P15=0,Q15<0,F15>0,R15-S15<200),AND(P15<0,Q15<0,F15>0,R15-S15<=200)),R15-S15-F15,R15-S15-F15-P15-Q15)))),1) -> 55.8 | U15: =ROUND(IF(AND(R15>0,T15=200),R15-S15-T15,IF(AND(P15>0,Q15>0,O15<=0,T15=0),R15-S15+P15,IF(AND(R15>0,P15>0,T15=200),R15-S15-T15+P15,IF(AND(R15>0,T15<200,OR(P15>0,F15>0)),R15-S15-T15,)))),1) -> 0 | V15: =ROUND(IF(SUM(O15:Q15)-S15<0,SUM(O15:Q15)-S15,),1) -> 0
A16: 6 | B16: =IF('Mau A1'!B211="","",'Mau A1'!B211) -> Tạ Minh | C16: =IF('Mau A1'!C211="","",'Mau A1'!C211) -> Cường | D16: =SUM('Mau A1'!M211:M250) -> 446.3 | E16: =SUM('Mau A1'!N211:N250) -> 0 | F16: =SUM('Mau A1'!O211:O250) -> 0 | G16: =SUM('Mau A1'!P211:P250) -> 446.3 | H16: =SUM('Mau A1'!Q211:Q250) -> 0 | I16: =SUM('Mau A1'!R211:R250) -> 0 | J16: =SUM('Mau A1'!S211:S250) -> 0 | K16: =SUM('Mau A1'!U211:U250) -> 629 | L16: =SUM('Mau A1'!W211:W250) -> 51 | M16: =SUM('Mau A1'!Y211:Y250) -> 0 | N16: =SUM('Mau A1'!AA211:AA250) -> 0 | O16: =SUM('Mau A1'!AB211:AB250) -> -182.7 | P16: =SUM('Mau A1'!AC211:AC250) -> -51 | Q16: =SUM('Mau A1'!AD211:AD250) -> 0 | R16: =SUM('Mau A1'!AF211:AF250) -> -233.7 | S16: =SUM('Mau A1'!AE211:AE250) -> 0 | T16: =ROUND(IF(OR((O16+P16+Q16)-S16<=0,R16-F16<0),"0",IF(OR(AND(0<O16<200,0<(O16-S16)<200,P16>=0,Q16>=0),AND((O16-S16)>200,R16<200),AND(O16-S16<200,R16<O16)),O16-S16+P16+Q16,IF(AND(R16>0,R16>200,F16>=0,(R16-S16)>200),"200",IF(OR(AND(P16<0,Q16=0,R16-S16<200),AND(P16=0,Q16<0,F16>0,R16-S16<200),AND(P16<0,Q16<0,F16>0,R16-S16<=200)),R16-S16-F16,R16-S16-F16-P16-Q16)))),1) -> 0 | U16: =ROUND(IF(AND(R16>0,T16=200),R16-S16-T16,IF(AND(P16>0,Q16>0,O16<=0,T16=0),R16-S16+P16,IF(AND(R16>0,P16>0,T16=200),R16-S16-T16+P16,IF(AND(R16>0,T16<200,OR(P16>0,F16>0)),R16-S16-T16,)))),1) -> 0 | V16: =ROUND(IF(SUM(O16:Q16)-S16<0,SUM(O16:Q16)-S16,),1) -> -233.7
A17: 7 | B17: =IF('Mau A1'!B251="","",'Mau A1'!B251) -> Võ | C17: =IF('Mau A1'!C251="","",'Mau A1'!C251) -> Cường | D17: =SUM('Mau A1'!M251:M290) -> 516.1 | E17: =SUM('Mau A1'!N251:N290) -> 0 | F17: =SUM('Mau A1'!O251:O290) -> 0 | G17: =SUM('Mau A1'!P251:P290) -> 516.1 | H17: =SUM('Mau A1'!Q251:Q290) -> 54 | I17: =SUM('Mau A1'!R251:R290) -> 0 | J17: =SUM('Mau A1'!S251:S290) -> 0 | K17: =SUM('Mau A1'!U251:U290) -> 155.2 | L17: =SUM('Mau A1'!W251:W290) -> 0 | M17: =SUM('Mau A1'!Y251:Y290) -> 54 | N17: =SUM('Mau A1'!AA251:AA290) -> 54 | O17: =SUM('Mau A1'!AB251:AB290) -> 360.9 | P17: =SUM('Mau A1'!AC251:AC290) -> 0 | Q17: =SUM('Mau A1'!AD251:AD290) -> -54 | R17: =SUM('Mau A1'!AF251:AF290) -> 306.9 | S17: =SUM('Mau A1'!AE251:AE290) -> 41.3 | T17: =ROUND(IF(OR((O17+P17+Q17)-S17<=0,R17-F17<0),"0",IF(OR(AND(0<O17<200,0<(O17-S17)<200,P17>=0,Q17>=0),AND((O17-S17)>200,R17<200),AND(O17-S17<200,R17<O17)),O17-S17+P17+Q17,IF(AND(R17>0,R17>200,F17>=0,(R17-S17)>200),"200",IF(OR(AND(P17<0,Q17=0,R17-S17<200),AND(P17=0,Q17<0,F17>0,R17-S17<200),AND(P17<0,Q17<0,F17>0,R17-S17<=200)),R17-S17-F17,R17-S17-F17-P17-Q17)))),1) -> 200 | U17: =ROUND(IF(AND(R17>0,T17=200),R17-S17-T17,IF(AND(P17>0,Q17>0,O17<=0,T17=0),R17-S17+P17,IF(AND(R17>0,P17>0,T17=200),R17-S17-T17+P17,IF(AND(R17>0,T17<200,OR(P17>0,F17>0)),R17-S17-T17,)))),1) -> 65.6 | V17: =ROUND(IF(SUM(O17:Q17)-S17<0,SUM(O17:Q17)-S17,),1) -> 0
A18: 8 | B18: =IF('Mau A1'!B291="","",'Mau A1'!B291) -> Lê Tiến | C18: =IF('Mau A1'!C291="","",'Mau A1'!C291) -> Đạt | D18: =SUM('Mau A1'!M291:M330) -> 402.8 | E18: =SUM('Mau A1'!N291:N330) -> 0 | F18: =SUM('Mau A1'!O291:O330) -> 0 | G18: =SUM('Mau A1'!P291:P330) -> 402.8 | H18: =SUM('Mau A1'!Q291:Q330) -> 10.9 | I18: =SUM('Mau A1'!R291:R330) -> 0 | J18: =SUM('Mau A1'!S291:S330) -> 0 | K18: =SUM('Mau A1'!U291:U330) -> 366.9 | L18: =SUM('Mau A1'!W291:W330) -> 40.1 | M18: =SUM('Mau A1'!Y291:Y330) -> 0 | N18: =SUM('Mau A1'!AA291:AA330) -> 0 | O18: =SUM('Mau A1'!AB291:AB330) -> 35.9 | P18: =SUM('Mau A1'!AC291:AC330) -> -29.2 | Q18: =SUM('Mau A1'!AD291:AD330) -> 0 | R18: =SUM('Mau A1'!AF291:AF330) -> 6.7 | S18: =SUM('Mau A1'!AE291:AE330) -> 0 | T18: =ROUND(IF(OR((O18+P18+Q18)-S18<=0,R18-F18<0),"0",IF(OR(AND(0<O18<200,0<(O18-S18)<200,P18>=0,Q18>=0),AND((O18-S18)>200,R18<200),AND(O18-S18<200,R18<O18)),O18-S18+P18+Q18,IF(AND(R18>0,R18>200,F18>=0,(R18-S18)>200),"200",IF(OR(AND(P18<0,Q18=0,R18-S18<200),AND(P18=0,Q18<0,F18>0,R18-S18<200),AND(P18<0,Q18<0,F18>0,R18-S18<=200)),R18-S18-F18,R18-S18-F18-P18-Q18)))),1) -> 6.7 | U18: =ROUND(IF(AND(R18>0,T18=200),R18-S18-T18,IF(AND(P18>0,Q18>0,O18<=0,T18=0),R18-S18+P18,IF(AND(R18>0,P18>0,T18=200),R18-S18-T18+P18,IF(AND(R18>0,T18<200,OR(P18>0,F18>0)),R18-S18-T18,)))),1) -> 0 | V18: =ROUND(IF(SUM(O18:Q18)-S18<0,SUM(O18:Q18)-S18,),1) -> 0
A19: 9 | B19: =IF('Mau A1'!B331="","",'Mau A1'!B331) -> Nguyễn Hồng | C19: =IF('Mau A1'!C331="","",'Mau A1'!C331) -> Đức | D19: =SUM('Mau A1'!M331:M370) -> 411.1 | E19: =SUM('Mau A1'!N331:N370) -> 0 | F19: =SUM('Mau A1'!O331:O370) -> 0 | G19: =SUM('Mau A1'!P331:P370) -> 411.1 | H19: =SUM('Mau A1'!Q331:Q370) -> 0 | I19: =SUM('Mau A1'!R331:R370) -> 0 | J19: =SUM('Mau A1'!S331:S370) -> 0 | K19: =SUM('Mau A1'!U331:U370) -> 450 | L19: =SUM('Mau A1'!W331:W370) -> 56 | M19: =SUM('Mau A1'!Y331:Y370) -> 56 | N19: =SUM('Mau A1'!AA331:AA370) -> 56 | O19: =SUM('Mau A1'!AB331:AB370) -> -38.9 | P19: =SUM('Mau A1'!AC331:AC370) -> -112 | Q19: =SUM('Mau A1'!AD331:AD370) -> -56 | R19: =SUM('Mau A1'!AF331:AF370) -> -206.9 | S19: =SUM('Mau A1'!AE331:AE370) -> 0 | T19: =ROUND(IF(OR((O19+P19+Q19)-S19<=0,R19-F19<0),"0",IF(OR(AND(0<O19<200,0<(O19-S19)<200,P19>=0,Q19>=0),AND((O19-S19)>200,R19<200),AND(O19-S19<200,R19<O19)),O19-S19+P19+Q19,IF(AND(R19>0,R19>200,F19>=0,(R19-S19)>200),"200",IF(OR(AND(P19<0,Q19=0,R19-S19<200),AND(P19=0,Q19<0,F19>0,R19-S19<200),AND(P19<0,Q19<0,F19>0,R19-S19<=200)),R19-S19-F19,R19-S19-F19-P19-Q19)))),1) -> 0 | U19: =ROUND(IF(AND(R19>0,T19=200),R19-S19-T19,IF(AND(P19>0,Q19>0,O19<=0,T19=0),R19-S19+P19,IF(AND(R19>0,P19>0,T19=200),R19-S19-T19+P19,IF(AND(R19>0,T19<200,OR(P19>0,F19>0)),R19-S19-T19,)))),1) -> 0 | V19: =ROUND(IF(SUM(O19:Q19)-S19<0,SUM(O19:Q19)-S19,),1) -> -206.9
A20: 10 | B20: =IF('Mau A1'!B371="","",'Mau A1'!B371) -> Nguyễn Minh | C20: =IF('Mau A1'!C371="","",'Mau A1'!C371) -> Đức (B) | D20: =SUM('Mau A1'!M371:M410) -> 462 | E20: =SUM('Mau A1'!N371:N410) -> 0 | F20: =SUM('Mau A1'!O371:O410) -> 0 | G20: =SUM('Mau A1'!P371:P410) -> 462 | H20: =SUM('Mau A1'!Q371:Q410) -> 0 | I20: =SUM('Mau A1'!R371:R410) -> 0 | J20: =SUM('Mau A1'!S371:S410) -> 0 | K20: =SUM('Mau A1'!U371:U410) -> 450 | L20: =SUM('Mau A1'!W371:W410) -> 56 | M20: =SUM('Mau A1'!Y371:Y410) -> 56 | N20: =SUM('Mau A1'!AA371:AA410) -> 56 | O20: =SUM('Mau A1'!AB371:AB410) -> 12 | P20: =SUM('Mau A1'!AC371:AC410) -> -112 | Q20: =SUM('Mau A1'!AD371:AD410) -> -56 | R20: =SUM('Mau A1'!AF371:AF410) -> -156 | S20: =SUM('Mau A1'!AE371:AE410) -> 0 | T20: =ROUND(IF(OR((O20+P20+Q20)-S20<=0,R20-F20<0),"0",IF(OR(AND(0<O20<200,0<(O20-S20)<200,P20>=0,Q20>=0),AND((O20-S20)>200,R20<200),AND(O20-S20<200,R20<O20)),O20-S20+P20+Q20,IF(AND(R20>0,R20>200,F20>=0,(R20-S20)>200),"200",IF(OR(AND(P20<0,Q20=0,R20-S20<200),AND(P20=0,Q20<0,F20>0,R20-S20<200),AND(P20<0,Q20<0,F20>0,R20-S20<=200)),R20-S20-F20,R20-S20-F20-P20-Q20)))),1) -> 0 | U20: =ROUND(IF(AND(R20>0,T20=200),R20-S20-T20,IF(AND(P20>0,Q20>0,O20<=0,T20=0),R20-S20+P20,IF(AND(R20>0,P20>0,T20=200),R20-S20-T20+P20,IF(AND(R20>0,T20<200,OR(P20>0,F20>0)),R20-S20-T20,)))),1) -> 0 | V20: =ROUND(IF(SUM(O20:Q20)-S20<0,SUM(O20:Q20)-S20,),1) -> -156
A21: 11 | B21: =IF('Mau A1'!B411="","",'Mau A1'!B411) -> Nguyễn Thị Ngọc | C21: =IF('Mau A1'!C411="","",'Mau A1'!C411) -> Hiền | D21: =SUM('Mau A1'!M411:M450) -> 550.2 | E21: =SUM('Mau A1'!N411:N450) -> 0 | F21: =SUM('Mau A1'!O411:O450) -> 0 | G21: =SUM('Mau A1'!P411:P450) -> 550.2 | H21: =SUM('Mau A1'!Q411:Q450) -> 0 | I21: =SUM('Mau A1'!R411:R450) -> 0 | J21: =SUM('Mau A1'!S411:S450) -> 0 | K21: =SUM('Mau A1'!U411:U450) -> 0 | L21: =SUM('Mau A1'!W411:W450) -> 0 | M21: =SUM('Mau A1'!Y411:Y450) -> 0 | N21: =SUM('Mau A1'!AA411:AA450) -> 0 | O21: =SUM('Mau A1'!AB411:AB450) -> 550.2 | P21: =SUM('Mau A1'!AC411:AC450) -> 0 | Q21: =SUM('Mau A1'!AD411:AD450) -> 0 | R21: =SUM('Mau A1'!AF411:AF450) -> 550.2 | S21: =SUM('Mau A1'!AE411:AE450) -> 0 | T21: =ROUND(IF(OR((O21+P21+Q21)-S21<=0,R21-F21<0),"0",IF(OR(AND(0<O21<200,0<(O21-S21)<200,P21>=0,Q21>=0),AND((O21-S21)>200,R21<200),AND(O21-S21<200,R21<O21)),O21-S21+P21+Q21,IF(AND(R21>0,R21>200,F21>=0,(R21-S21)>200),"200",IF(OR(AND(P21<0,Q21=0,R21-S21<200),AND(P21=0,Q21<0,F21>0,R21-S21<200),AND(P21<0,Q21<0,F21>0,R21-S21<=200)),R21-S21-F21,R21-S21-F21-P21-Q21)))),1) -> 200 | U21: =ROUND(IF(AND(R21>0,T21=200),R21-S21-T21,IF(AND(P21>0,Q21>0,O21<=0,T21=0),R21-S21+P21,IF(AND(R21>0,P21>0,T21=200),R21-S21-T21+P21,IF(AND(R21>0,T21<200,OR(P21>0,F21>0)),R21-S21-T21,)))),1) -> 350.2 | V21: =ROUND(IF(SUM(O21:Q21)-S21<0,SUM(O21:Q21)-S21,),1) -> 0
A22: 12 | B22: =IF('Mau A1'!B451="","",'Mau A1'!B451) -> Trần Trung | C22: =IF('Mau A1'!C451="","",'Mau A1'!C451) -> Hiếu | D22: =SUM('Mau A1'!M451:M490) -> 524.3 | E22: =SUM('Mau A1'!N451:N490) -> 0 | F22: =SUM('Mau A1'!O451:O490) -> 0 | G22: =SUM('Mau A1'!P451:P490) -> 524.3 | H22: =SUM('Mau A1'!Q451:Q490) -> 0 | I22: =SUM('Mau A1'!R451:R490) -> 0 | J22: =SUM('Mau A1'!S451:S490) -> 0 | K22: =SUM('Mau A1'!U451:U490) -> 0 | L22: =SUM('Mau A1'!W451:W490) -> 0 | M22: =SUM('Mau A1'!Y451:Y490) -> 0 | N22: =SUM('Mau A1'!AA451:AA490) -> 0 | O22: =SUM('Mau A1'!AB451:AB490) -> 524.3 | P22: =SUM('Mau A1'!AC451:AC490) -> 0 | Q22: =SUM('Mau A1'!AD451:AD490) -> 0 | R22: =SUM('Mau A1'!AF451:AF490) -> 524.3 | S22: =SUM('Mau A1'!AE451:AE490) -> 0 | T22: =ROUND(IF(OR((O22+P22+Q22)-S22<=0,R22-F22<0),"0",IF(OR(AND(0<O22<200,0<(O22-S22)<200,P22>=0,Q22>=0),AND((O22-S22)>200,R22<200),AND(O22-S22<200,R22<O22)),O22-S22+P22+Q22,IF(AND(R22>0,R22>200,F22>=0,(R22-S22)>200),"200",IF(OR(AND(P22<0,Q22=0,R22-S22<200),AND(P22=0,Q22<0,F22>0,R22-S22<200),AND(P22<0,Q22<0,F22>0,R22-S22<=200)),R22-S22-F22,R22-S22-F22-P22-Q22)))),1) -> 200 | U22: =ROUND(IF(AND(R22>0,T22=200),R22-S22-T22,IF(AND(P22>0,Q22>0,O22<=0,T22=0),R22-S22+P22,IF(AND(R22>0,P22>0,T22=200),R22-S22-T22+P22,IF(AND(R22>0,T22<200,OR(P22>0,F22>0)),R22-S22-T22,)))),1) -> 324.3 | V22: =ROUND(IF(SUM(O22:Q22)-S22<0,SUM(O22:Q22)-S22,),1) -> 0
A23: 13 | B23: =IF('Mau A1'!B491="","",'Mau A1'!B491) -> Mạnh Lê | C23: =IF('Mau A1'!C491="","",'Mau A1'!C491) -> Hoàn | D23: =SUM('Mau A1'!M491:M530) -> 544.6 | E23: =SUM('Mau A1'!N491:N530) -> 0 | F23: =SUM('Mau A1'!O491:O530) -> 0 | G23: =SUM('Mau A1'!P491:P530) -> 544.6 | H23: =SUM('Mau A1'!Q491:Q530) -> 0 | I23: =SUM('Mau A1'!R491:R530) -> 0 | J23: =SUM('Mau A1'!S491:S530) -> 0 | K23: =SUM('Mau A1'!U491:U530) -> 0 | L23: =SUM('Mau A1'!W491:W530) -> 0 | M23: =SUM('Mau A1'!Y491:Y530) -> 0 | N23: =SUM('Mau A1'!AA491:AA530) -> 0 | O23: =SUM('Mau A1'!AB491:AB530) -> 544.6 | P23: =SUM('Mau A1'!AC491:AC530) -> 0 | Q23: =SUM('Mau A1'!AD491:AD530) -> 0 | R23: =SUM('Mau A1'!AF491:AF530) -> 544.6 | S23: =SUM('Mau A1'!AE491:AE530) -> 0 | T23: =ROUND(IF(OR((O23+P23+Q23)-S23<=0,R23-F23<0),"0",IF(OR(AND(0<O23<200,0<(O23-S23)<200,P23>=0,Q23>=0),AND((O23-S23)>200,R23<200),AND(O23-S23<200,R23<O23)),O23-S23+P23+Q23,IF(AND(R23>0,R23>200,F23>=0,(R23-S23)>200),"200",IF(OR(AND(P23<0,Q23=0,R23-S23<200),AND(P23=0,Q23<0,F23>0,R23-S23<200),AND(P23<0,Q23<0,F23>0,R23-S23<=200)),R23-S23-F23,R23-S23-F23-P23-Q23)))),1) -> 200 | U23: =ROUND(IF(AND(R23>0,T23=200),R23-S23-T23,IF(AND(P23>0,Q23>0,O23<=0,T23=0),R23-S23+P23,IF(AND(R23>0,P23>0,T23=200),R23-S23-T23+P23,IF(AND(R23>0,T23<200,OR(P23>0,F23>0)),R23-S23-T23,)))),1) -> 344.6 | V23: =ROUND(IF(SUM(O23:Q23)-S23<0,SUM(O23:Q23)-S23,),1) -> 0
A24: 14 | B24: =IF('Mau A1'!B531="","",'Mau A1'!B531) -> Phan Thanh | C24: =IF('Mau A1'!C531="","",'Mau A1'!C531) -> Hoàng | D24: =SUM('Mau A1'!M531:M570) -> 414.3 | E24: =SUM('Mau A1'!N531:N570) -> 0 | F24: =SUM('Mau A1'!O531:O570) -> 0 | G24: =SUM('Mau A1'!P531:P570) -> 414.3 | H24: =SUM('Mau A1'!Q531:Q570) -> 20.6 | I24: =SUM('Mau A1'!R531:R570) -> 0 | J24: =SUM('Mau A1'!S531:S570) -> 0 | K24: =SUM('Mau A1'!U531:U570) -> 0 | L24: =SUM('Mau A1'!W531:W570) -> 0 | M24: =SUM('Mau A1'!Y531:Y570) -> 0 | N24: =SUM('Mau A1'!AA531:AA570) -> 0 | O24: =SUM('Mau A1'!AB531:AB570) -> 414.3 | P24: =SUM('Mau A1'!AC531:AC570) -> 20.6 | Q24: =SUM('Mau A1'!AD531:AD570) -> 0 | R24: =SUM('Mau A1'!AF531:AF570) -> 434.9 | S24: =SUM('Mau A1'!AE531:AE570) -> 0 | T24: =ROUND(IF(OR((O24+P24+Q24)-S24<=0,R24-F24<0),"0",IF(OR(AND(0<O24<200,0<(O24-S24)<200,P24>=0,Q24>=0),AND((O24-S24)>200,R24<200),AND(O24-S24<200,R24<O24)),O24-S24+P24+Q24,IF(AND(R24>0,R24>200,F24>=0,(R24-S24)>200),"200",IF(OR(AND(P24<0,Q24=0,R24-S24<200),AND(P24=0,Q24<0,F24>0,R24-S24<200),AND(P24<0,Q24<0,F24>0,R24-S24<=200)),R24-S24-F24,R24-S24-F24-P24-Q24)))),1) -> 200 | U24: =ROUND(IF(AND(R24>0,T24=200),R24-S24-T24,IF(AND(P24>0,Q24>0,O24<=0,T24=0),R24-S24+P24,IF(AND(R24>0,P24>0,T24=200),R24-S24-T24+P24,IF(AND(R24>0,T24<200,OR(P24>0,F24>0)),R24-S24-T24,)))),1) -> 234.9 | V24: =ROUND(IF(SUM(O24:Q24)-S24<0,SUM(O24:Q24)-S24,),1) -> 0
A25: 15 | B25: =IF('Mau A1'!B571="","",'Mau A1'!B571) -> Lê Thế | C25: =IF('Mau A1'!C571="","",'Mau A1'!C571) -> Huân | D25: =SUM('Mau A1'!M571:M610) -> 516.1 | E25: =SUM('Mau A1'!N571:N610) -> 0 | F25: =SUM('Mau A1'!O571:O610) -> 0 | G25: =SUM('Mau A1'!P571:P610) -> 516.1 | H25: =SUM('Mau A1'!Q571:Q610) -> 0 | I25: =SUM('Mau A1'!R571:R610) -> 0 | J25: =SUM('Mau A1'!S571:S610) -> 0 | K25: =SUM('Mau A1'!U571:U610) -> 0 | L25: =SUM('Mau A1'!W571:W610) -> 0 | M25: =SUM('Mau A1'!Y571:Y610) -> 0 | N25: =SUM('Mau A1'!AA571:AA610) -> 0 | O25: =SUM('Mau A1'!AB571:AB610) -> 516.1 | P25: =SUM('Mau A1'!AC571:AC610) -> 0 | Q25: =SUM('Mau A1'!AD571:AD610) -> 0 | R25: =SUM('Mau A1'!AF571:AF610) -> 516.1 | S25: =SUM('Mau A1'!AE571:AE610) -> 0 | T25: =ROUND(IF(OR((O25+P25+Q25)-S25<=0,R25-F25<0),"0",IF(OR(AND(0<O25<200,0<(O25-S25)<200,P25>=0,Q25>=0),AND((O25-S25)>200,R25<200),AND(O25-S25<200,R25<O25)),O25-S25+P25+Q25,IF(AND(R25>0,R25>200,F25>=0,(R25-S25)>200),"200",IF(OR(AND(P25<0,Q25=0,R25-S25<200),AND(P25=0,Q25<0,F25>0,R25-S25<200),AND(P25<0,Q25<0,F25>0,R25-S25<=200)),R25-S25-F25,R25-S25-F25-P25-Q25)))),1) -> 200 | U25: =ROUND(IF(AND(R25>0,T25=200),R25-S25-T25,IF(AND(P25>0,Q25>0,O25<=0,T25=0),R25-S25+P25,IF(AND(R25>0,P25>0,T25=200),R25-S25-T25+P25,IF(AND(R25>0,T25<200,OR(P25>0,F25>0)),R25-S25-T25,)))),1) -> 316.1 | V25: =ROUND(IF(SUM(O25:Q25)-S25<0,SUM(O25:Q25)-S25,),1) -> 0
A26: 16 | B26: =IF('Mau A1'!B611="","",'Mau A1'!B611) -> Tăng Cẩm | C26: =IF('Mau A1'!C611="","",'Mau A1'!C611) -> Huê | D26: =SUM('Mau A1'!M611:M650) -> 588.1 | E26: =SUM('Mau A1'!N611:N650) -> 0 | F26: =SUM('Mau A1'!O611:O650) -> 0 | G26: =SUM('Mau A1'!P611:P650) -> 588.1 | H26: =SUM('Mau A1'!Q611:Q650) -> 0 | I26: =SUM('Mau A1'!R611:R650) -> 0 | J26: =SUM('Mau A1'!S611:S650) -> 0 | K26: =SUM('Mau A1'!U611:U650) -> 0 | L26: =SUM('Mau A1'!W611:W650) -> 0 | M26: =SUM('Mau A1'!Y611:Y650) -> 0 | N26: =SUM('Mau A1'!AA611:AA650) -> 0 | O26: =SUM('Mau A1'!AB611:AB650) -> 588.1 | P26: =SUM('Mau A1'!AC611:AC650) -> 0 | Q26: =SUM('Mau A1'!AD611:AD650) -> 0 | R26: =SUM('Mau A1'!AF611:AF650) -> 588.1 | S26: =SUM('Mau A1'!AE611:AE650) -> 0 | T26: =ROUND(IF(OR((O26+P26+Q26)-S26<=0,R26-F26<0),"0",IF(OR(AND(0<O26<200,0<(O26-S26)<200,P26>=0,Q26>=0),AND((O26-S26)>200,R26<200),AND(O26-S26<200,R26<O26)),O26-S26+P26+Q26,IF(AND(R26>0,R26>200,F26>=0,(R26-S26)>200),"200",IF(OR(AND(P26<0,Q26=0,R26-S26<200),AND(P26=0,Q26<0,F26>0,R26-S26<200),AND(P26<0,Q26<0,F26>0,R26-S26<=200)),R26-S26-F26,R26-S26-F26-P26-Q26)))),1) -> 200 | U26: =ROUND(IF(AND(R26>0,T26=200),R26-S26-T26,IF(AND(P26>0,Q26>0,O26<=0,T26=0),R26-S26+P26,IF(AND(R26>0,P26>0,T26=200),R26-S26-T26+P26,IF(AND(R26>0,T26<200,OR(P26>0,F26>0)),R26-S26-T26,)))),1) -> 388.1 | V26: =ROUND(IF(SUM(O26:Q26)-S26<0,SUM(O26:Q26)-S26,),1) -> 0
A27: 17 | B27: =IF('Mau A1'!B651="","",'Mau A1'!B651) -> Nguyễn Thùy | C27: =IF('Mau A1'!C651="","",'Mau A1'!C651) -> Linh | D27: =SUM('Mau A1'!M651:M690) -> 525.1 | E27: =SUM('Mau A1'!N651:N690) -> 0 | F27: =SUM('Mau A1'!O651:O690) -> 0 | G27: =SUM('Mau A1'!P651:P690) -> 525.1 | H27: =SUM('Mau A1'!Q651:Q690) -> 0 | I27: =SUM('Mau A1'!R651:R690) -> 0 | J27: =SUM('Mau A1'!S651:S690) -> 0 | K27: =SUM('Mau A1'!U651:U690) -> 0 | L27: =SUM('Mau A1'!W651:W690) -> 0 | M27: =SUM('Mau A1'!Y651:Y690) -> 0 | N27: =SUM('Mau A1'!AA651:AA690) -> 0 | O27: =SUM('Mau A1'!AB651:AB690) -> 525.1 | P27: =SUM('Mau A1'!AC651:AC690) -> 0 | Q27: =SUM('Mau A1'!AD651:AD690) -> 0 | R27: =SUM('Mau A1'!AF651:AF690) -> 525.1 | S27: =SUM('Mau A1'!AE651:AE690) -> 0 | T27: =ROUND(IF(OR((O27+P27+Q27)-S27<=0,R27-F27<0),"0",IF(OR(AND(0<O27<200,0<(O27-S27)<200,P27>=0,Q27>=0),AND((O27-S27)>200,R27<200),AND(O27-S27<200,R27<O27)),O27-S27+P27+Q27,IF(AND(R27>0,R27>200,F27>=0,(R27-S27)>200),"200",IF(OR(AND(P27<0,Q27=0,R27-S27<200),AND(P27=0,Q27<0,F27>0,R27-S27<200),AND(P27<0,Q27<0,F27>0,R27-S27<=200)),R27-S27-F27,R27-S27-F27-P27-Q27)))),1) -> 200 | U27: =ROUND(IF(AND(R27>0,T27=200),R27-S27-T27,IF(AND(P27>0,Q27>0,O27<=0,T27=0),R27-S27+P27,IF(AND(R27>0,P27>0,T27=200),R27-S27-T27+P27,IF(AND(R27>0,T27<200,OR(P27>0,F27>0)),R27-S27-T27,)))),1) -> 325.1 | V27: =ROUND(IF(SUM(O27:Q27)-S27<0,SUM(O27:Q27)-S27,),1) -> 0
A28: 18 | B28: =IF('Mau A1'!B691="","",'Mau A1'!B691) -> Huỳnh Ngọc | C28: =IF('Mau A1'!C691="","",'Mau A1'!C691) -> Mai | D28: =SUM('Mau A1'!M691:M730) -> 455.9 | E28: =SUM('Mau A1'!N691:N730) -> 0 | F28: =SUM('Mau A1'!O691:O730) -> 0 | G28: =SUM('Mau A1'!P691:P730) -> 455.9 | H28: =SUM('Mau A1'!Q691:Q730) -> 0 | I28: =SUM('Mau A1'!R691:R730) -> 0 | J28: =SUM('Mau A1'!S691:S730) -> 0 | K28: =SUM('Mau A1'!U691:U730) -> 0 | L28: =SUM('Mau A1'!W691:W730) -> 0 | M28: =SUM('Mau A1'!Y691:Y730) -> 0 | N28: =SUM('Mau A1'!AA691:AA730) -> 0 | O28: =SUM('Mau A1'!AB691:AB730) -> 455.9 | P28: =SUM('Mau A1'!AC691:AC730) -> 0 | Q28: =SUM('Mau A1'!AD691:AD730) -> 0 | R28: =SUM('Mau A1'!AF691:AF730) -> 455.9 | S28: =SUM('Mau A1'!AE691:AE730) -> 0 | T28: =ROUND(IF(OR((O28+P28+Q28)-S28<=0,R28-F28<0),"0",IF(OR(AND(0<O28<200,0<(O28-S28)<200,P28>=0,Q28>=0),AND((O28-S28)>200,R28<200),AND(O28-S28<200,R28<O28)),O28-S28+P28+Q28,IF(AND(R28>0,R28>200,F28>=0,(R28-S28)>200),"200",IF(OR(AND(P28<0,Q28=0,R28-S28<200),AND(P28=0,Q28<0,F28>0,R28-S28<200),AND(P28<0,Q28<0,F28>0,R28-S28<=200)),R28-S28-F28,R28-S28-F28-P28-Q28)))),1) -> 200 | U28: =ROUND(IF(AND(R28>0,T28=200),R28-S28-T28,IF(AND(P28>0,Q28>0,O28<=0,T28=0),R28-S28+P28,IF(AND(R28>0,P28>0,T28=200),R28-S28-T28+P28,IF(AND(R28>0,T28<200,OR(P28>0,F28>0)),R28-S28-T28,)))),1) -> 255.9 | V28: =ROUND(IF(SUM(O28:Q28)-S28<0,SUM(O28:Q28)-S28,),1) -> 0
A29: 19 | B29: =IF('Mau A1'!B731="","",'Mau A1'!B731) -> Đặng Đức | C29: =IF('Mau A1'!C731="","",'Mau A1'!C731) -> Minh | D29: =SUM('Mau A1'!M731:M770) -> 536.3 | E29: =SUM('Mau A1'!N731:N770) -> 0 | F29: =SUM('Mau A1'!O731:O770) -> 0 | G29: =SUM('Mau A1'!P731:P770) -> 536.3 | H29: =SUM('Mau A1'!Q731:Q770) -> 54 | I29: =SUM('Mau A1'!R731:R770) -> 0 | J29: =SUM('Mau A1'!S731:S770) -> 0 | K29: =SUM('Mau A1'!U731:U770) -> 0 | L29: =SUM('Mau A1'!W731:W770) -> 0 | M29: =SUM('Mau A1'!Y731:Y770) -> 0 | N29: =SUM('Mau A1'!AA731:AA770) -> 0 | O29: =SUM('Mau A1'!AB731:AB770) -> 536.3 | P29: =SUM('Mau A1'!AC731:AC770) -> 0 | Q29: =SUM('Mau A1'!AD731:AD770) -> 0 | R29: =SUM('Mau A1'!AF731:AF770) -> 536.3 | S29: =SUM('Mau A1'!AE731:AE770) -> 0 | T29: =ROUND(IF(OR((O29+P29+Q29)-S29<=0,R29-F29<0),"0",IF(OR(AND(0<O29<200,0<(O29-S29)<200,P29>=0,Q29>=0),AND((O29-S29)>200,R29<200),AND(O29-S29<200,R29<O29)),O29-S29+P29+Q29,IF(AND(R29>0,R29>200,F29>=0,(R29-S29)>200),"200",IF(OR(AND(P29<0,Q29=0,R29-S29<200),AND(P29=0,Q29<0,F29>0,R29-S29<200),AND(P29<0,Q29<0,F29>0,R29-S29<=200)),R29-S29-F29,R29-S29-F29-P29-Q29)))),1) -> 200 | U29: =ROUND(IF(AND(R29>0,T29=200),R29-S29-T29,IF(AND(P29>0,Q29>0,O29<=0,T29=0),R29-S29+P29,IF(AND(R29>0,P29>0,T29=200),R29-S29-T29+P29,IF(AND(R29>0,T29<200,OR(P29>0,F29>0)),R29-S29-T29,)))),1) -> 336.3 | V29: =ROUND(IF(SUM(O29:Q29)-S29<0,SUM(O29:Q29)-S29,),1) -> 0
A30: 20 | B30: =IF('Mau A1'!B771="","",'Mau A1'!B771) -> Trần Giang | C30: =IF('Mau A1'!C771="","",'Mau A1'!C771) -> Nam | D30: =SUM('Mau A1'!M771:M810) -> 463.5 | E30: =SUM('Mau A1'!N771:N810) -> 0 | F30: =SUM('Mau A1'!O771:O810) -> 0 | G30: =SUM('Mau A1'!P771:P810) -> 463.5 | H30: =SUM('Mau A1'!Q771:Q810) -> 0 | I30: =SUM('Mau A1'!R771:R810) -> 0 | J30: =SUM('Mau A1'!S771:S810) -> 0 | K30: =SUM('Mau A1'!U771:U810) -> 0 | L30: =SUM('Mau A1'!W771:W810) -> 0 | M30: =SUM('Mau A1'!Y771:Y810) -> 0 | N30: =SUM('Mau A1'!AA771:AA810) -> 0 | O30: =SUM('Mau A1'!AB771:AB810) -> 463.5 | P30: =SUM('Mau A1'!AC771:AC810) -> 0 | Q30: =SUM('Mau A1'!AD771:AD810) -> 0 | R30: =SUM('Mau A1'!AF771:AF810) -> 463.5 | S30: =SUM('Mau A1'!AE771:AE810) -> 0 | T30: =ROUND(IF(OR((O30+P30+Q30)-S30<=0,R30-F30<0),"0",IF(OR(AND(0<O30<200,0<(O30-S30)<200,P30>=0,Q30>=0),AND((O30-S30)>200,R30<200),AND(O30-S30<200,R30<O30)),O30-S30+P30+Q30,IF(AND(R30>0,R30>200,F30>=0,(R30-S30)>200),"200",IF(OR(AND(P30<0,Q30=0,R30-S30<200),AND(P30=0,Q30<0,F30>0,R30-S30<200),AND(P30<0,Q30<0,F30>0,R30-S30<=200)),R30-S30-F30,R30-S30-F30-P30-Q30)))),1) -> 200 | U30: =ROUND(IF(AND(R30>0,T30=200),R30-S30-T30,IF(AND(P30>0,Q30>0,O30<=0,T30=0),R30-S30+P30,IF(AND(R30>0,P30>0,T30=200),R30-S30-T30+P30,IF(AND(R30>0,T30<200,OR(P30>0,F30>0)),R30-S30-T30,)))),1) -> 263.5 | V30: =ROUND(IF(SUM(O30:Q30)-S30<0,SUM(O30:Q30)-S30,),1) -> 0
A31: 21 | B31: =IF('Mau A1'!B811="","",'Mau A1'!B811) -> Nguyễn Thị Tố | C31: =IF('Mau A1'!C811="","",'Mau A1'!C811) -> Nga | D31: =SUM('Mau A1'!M811:M850) -> 519.1 | E31: =SUM('Mau A1'!N811:N850) -> 0 | F31: =SUM('Mau A1'!O811:O850) -> 0 | G31: =SUM('Mau A1'!P811:P850) -> 519.1 | H31: =SUM('Mau A1'!Q811:Q850) -> 0 | I31: =SUM('Mau A1'!R811:R850) -> 0 | J31: =SUM('Mau A1'!S811:S850) -> 0 | K31: =SUM('Mau A1'!U811:U850) -> 0 | L31: =SUM('Mau A1'!W811:W850) -> 0 | M31: =SUM('Mau A1'!Y811:Y850) -> 0 | N31: =SUM('Mau A1'!AA811:AA850) -> 0 | O31: =SUM('Mau A1'!AB811:AB850) -> 519.1 | P31: =SUM('Mau A1'!AC811:AC850) -> 0 | Q31: =SUM('Mau A1'!AD811:AD850) -> 0 | R31: =SUM('Mau A1'!AF811:AF850) -> 519.1 | S31: =SUM('Mau A1'!AE811:AE850) -> 0 | T31: =ROUND(IF(OR((O31+P31+Q31)-S31<=0,R31-F31<0),"0",IF(OR(AND(0<O31<200,0<(O31-S31)<200,P31>=0,Q31>=0),AND((O31-S31)>200,R31<200),AND(O31-S31<200,R31<O31)),O31-S31+P31+Q31,IF(AND(R31>0,R31>200,F31>=0,(R31-S31)>200),"200",IF(OR(AND(P31<0,Q31=0,R31-S31<200),AND(P31=0,Q31<0,F31>0,R31-S31<200),AND(P31<0,Q31<0,F31>0,R31-S31<=200)),R31-S31-F31,R31-S31-F31-P31-Q31)))),1) -> 200 | U31: =ROUND(IF(AND(R31>0,T31=200),R31-S31-T31,IF(AND(P31>0,Q31>0,O31<=0,T31=0),R31-S31+P31,IF(AND(R31>0,P31>0,T31=200),R31-S31-T31+P31,IF(AND(R31>0,T31<200,OR(P31>0,F31>0)),R31-S31-T31,)))),1) -> 319.1 | V31: =ROUND(IF(SUM(O31:Q31)-S31<0,SUM(O31:Q31)-S31,),1) -> 0
A32: 22 | B32: =IF('Mau A1'!B851="","",'Mau A1'!B851) -> Phạm Minh | C32: =IF('Mau A1'!C851="","",'Mau A1'!C851) -> Nghĩa | D32: =SUM('Mau A1'!M851:M890) -> 501.8 | E32: =SUM('Mau A1'!N851:N890) -> 0 | F32: =SUM('Mau A1'!O851:O890) -> 0 | G32: =SUM('Mau A1'!P851:P890) -> 501.8 | H32: =SUM('Mau A1'!Q851:Q890) -> 0 | I32: =SUM('Mau A1'!R851:R890) -> 0 | J32: =SUM('Mau A1'!S851:S890) -> 0 | K32: =SUM('Mau A1'!U851:U890) -> 0 | L32: =SUM('Mau A1'!W851:W890) -> 0 | M32: =SUM('Mau A1'!Y851:Y890) -> 0 | N32: =SUM('Mau A1'!AA851:AA890) -> 0 | O32: =SUM('Mau A1'!AB851:AB890) -> 501.8 | P32: =SUM('Mau A1'!AC851:AC890) -> 0 | Q32: =SUM('Mau A1'!AD851:AD890) -> 0 | R32: =SUM('Mau A1'!AF851:AF890) -> 501.8 | S32: =SUM('Mau A1'!AE851:AE890) -> 0 | T32: =ROUND(IF(OR((O32+P32+Q32)-S32<=0,R32-F32<0),"0",IF(OR(AND(0<O32<200,0<(O32-S32)<200,P32>=0,Q32>=0),AND((O32-S32)>200,R32<200),AND(O32-S32<200,R32<O32)),O32-S32+P32+Q32,IF(AND(R32>0,R32>200,F32>=0,(R32-S32)>200),"200",IF(OR(AND(P32<0,Q32=0,R32-S32<200),AND(P32=0,Q32<0,F32>0,R32-S32<200),AND(P32<0,Q32<0,F32>0,R32-S32<=200)),R32-S32-F32,R32-S32-F32-P32-Q32)))),1) -> 200 | U32: =ROUND(IF(AND(R32>0,T32=200),R32-S32-T32,IF(AND(P32>0,Q32>0,O32<=0,T32=0),R32-S32+P32,IF(AND(R32>0,P32>0,T32=200),R32-S32-T32+P32,IF(AND(R32>0,T32<200,OR(P32>0,F32>0)),R32-S32-T32,)))),1) -> 301.8 | V32: =ROUND(IF(SUM(O32:Q32)-S32<0,SUM(O32:Q32)-S32,),1) -> 0
A33: 23 | B33: =IF('Mau A1'!B891="","",'Mau A1'!B891) -> Nguyễn Trần Thanh | C33: =IF('Mau A1'!C891="","",'Mau A1'!C891) -> Nhàn | D33: =SUM('Mau A1'!M891:M930) -> 483 | E33: =SUM('Mau A1'!N891:N930) -> 0 | F33: =SUM('Mau A1'!O891:O930) -> 0 | G33: =SUM('Mau A1'!P891:P930) -> 483 | H33: =SUM('Mau A1'!Q891:Q930) -> 0 | I33: =SUM('Mau A1'!R891:R930) -> 0 | J33: =SUM('Mau A1'!S891:S930) -> 0 | K33: =SUM('Mau A1'!U891:U930) -> 0 | L33: =SUM('Mau A1'!W891:W930) -> 0 | M33: =SUM('Mau A1'!Y891:Y930) -> 0 | N33: =SUM('Mau A1'!AA891:AA930) -> 0 | O33: =SUM('Mau A1'!AB891:AB930) -> 483 | P33: =SUM('Mau A1'!AC891:AC930) -> 0 | Q33: =SUM('Mau A1'!AD891:AD930) -> 0 | R33: =SUM('Mau A1'!AF891:AF930) -> 483 | S33: =SUM('Mau A1'!AE891:AE930) -> 0 | T33: =ROUND(IF(OR((O33+P33+Q33)-S33<=0,R33-F33<0),"0",IF(OR(AND(0<O33<200,0<(O33-S33)<200,P33>=0,Q33>=0),AND((O33-S33)>200,R33<200),AND(O33-S33<200,R33<O33)),O33-S33+P33+Q33,IF(AND(R33>0,R33>200,F33>=0,(R33-S33)>200),"200",IF(OR(AND(P33<0,Q33=0,R33-S33<200),AND(P33=0,Q33<0,F33>0,R33-S33<200),AND(P33<0,Q33<0,F33>0,R33-S33<=200)),R33-S33-F33,R33-S33-F33-P33-Q33)))),1) -> 200 | U33: =ROUND(IF(AND(R33>0,T33=200),R33-S33-T33,IF(AND(P33>0,Q33>0,O33<=0,T33=0),R33-S33+P33,IF(AND(R33>0,P33>0,T33=200),R33-S33-T33+P33,IF(AND(R33>0,T33<200,OR(P33>0,F33>0)),R33-S33-T33,)))),1) -> 283 | V33: =ROUND(IF(SUM(O33:Q33)-S33<0,SUM(O33:Q33)-S33,),1) -> 0
A34: 24 | B34: =IF('Mau A1'!B931="","",'Mau A1'!B931) -> Đỗ Huỳnh Thanh | C34: =IF('Mau A1'!C931="","",'Mau A1'!C931) -> Phong | D34: =SUM('Mau A1'!M931:M970) -> 506.8 | E34: =SUM('Mau A1'!N931:N970) -> 0 | F34: =SUM('Mau A1'!O931:O970) -> 0 | G34: =SUM('Mau A1'!P931:P970) -> 506.8 | H34: =SUM('Mau A1'!Q931:Q970) -> 54 | I34: =SUM('Mau A1'!R931:R970) -> 0 | J34: =SUM('Mau A1'!S931:S970) -> 0 | K34: =SUM('Mau A1'!U931:U970) -> 0 | L34: =SUM('Mau A1'!W931:W970) -> 0 | M34: =SUM('Mau A1'!Y931:Y970) -> 0 | N34: =SUM('Mau A1'!AA931:AA970) -> 0 | O34: =SUM('Mau A1'!AB931:AB970) -> 506.8 | P34: =SUM('Mau A1'!AC931:AC970) -> 0 | Q34: =SUM('Mau A1'!AD931:AD970) -> 0 | R34: =SUM('Mau A1'!AF931:AF970) -> 506.8 | S34: =SUM('Mau A1'!AE931:AE970) -> 0 | T34: =ROUND(IF(OR((O34+P34+Q34)-S34<=0,R34-F34<0),"0",IF(OR(AND(0<O34<200,0<(O34-S34)<200,P34>=0,Q34>=0),AND((O34-S34)>200,R34<200),AND(O34-S34<200,R34<O34)),O34-S34+P34+Q34,IF(AND(R34>0,R34>200,F34>=0,(R34-S34)>200),"200",IF(OR(AND(P34<0,Q34=0,R34-S34<200),AND(P34=0,Q34<0,F34>0,R34-S34<200),AND(P34<0,Q34<0,F34>0,R34-S34<=200)),R34-S34-F34,R34-S34-F34-P34-Q34)))),1) -> 200 | U34: =ROUND(IF(AND(R34>0,T34=200),R34-S34-T34,IF(AND(P34>0,Q34>0,O34<=0,T34=0),R34-S34+P34,IF(AND(R34>0,P34>0,T34=200),R34-S34-T34+P34,IF(AND(R34>0,T34<200,OR(P34>0,F34>0)),R34-S34-T34,)))),1) -> 306.8 | V34: =ROUND(IF(SUM(O34:Q34)-S34<0,SUM(O34:Q34)-S34,),1) -> 0
A35: 25 | B35: =IF('Mau A1'!B971="","",'Mau A1'!B971) -> Nguyên Anh | C35: =IF('Mau A1'!C971="","",'Mau A1'!C971) -> Tăng | D35: =SUM('Mau A1'!M971:M1010) -> 449.4 | E35: =SUM('Mau A1'!N971:N1010) -> 0 | F35: =SUM('Mau A1'!O971:O1010) -> 0 | G35: =SUM('Mau A1'!P971:P1010) -> 449.4 | H35: =SUM('Mau A1'!Q971:Q1010) -> 0 | I35: =SUM('Mau A1'!R971:R1010) -> 0 | J35: =SUM('Mau A1'!S971:S1010) -> 0 | K35: =SUM('Mau A1'!U971:U1010) -> 0 | L35: =SUM('Mau A1'!W971:W1010) -> 0 | M35: =SUM('Mau A1'!Y971:Y1010) -> 0 | N35: =SUM('Mau A1'!AA971:AA1010) -> 0 | O35: =SUM('Mau A1'!AB971:AB1010) -> 449.4 | P35: =SUM('Mau A1'!AC971:AC1010) -> 0 | Q35: =SUM('Mau A1'!AD971:AD1010) -> 0 | R35: =SUM('Mau A1'!AF971:AF1010) -> 449.4 | S35: =SUM('Mau A1'!AE971:AE1010) -> 0 | T35: =ROUND(IF(OR((O35+P35+Q35)-S35<=0,R35-F35<0),"0",IF(OR(AND(0<O35<200,0<(O35-S35)<200,P35>=0,Q35>=0),AND((O35-S35)>200,R35<200),AND(O35-S35<200,R35<O35)),O35-S35+P35+Q35,IF(AND(R35>0,R35>200,F35>=0,(R35-S35)>200),"200",IF(OR(AND(P35<0,Q35=0,R35-S35<200),AND(P35=0,Q35<0,F35>0,R35-S35<200),AND(P35<0,Q35<0,F35>0,R35-S35<=200)),R35-S35-F35,R35-S35-F35-P35-Q35)))),1) -> 200 | U35: =ROUND(IF(AND(R35>0,T35=200),R35-S35-T35,IF(AND(P35>0,Q35>0,O35<=0,T35=0),R35-S35+P35,IF(AND(R35>0,P35>0,T35=200),R35-S35-T35+P35,IF(AND(R35>0,T35<200,OR(P35>0,F35>0)),R35-S35-T35,)))),1) -> 249.4 | V35: =ROUND(IF(SUM(O35:Q35)-S35<0,SUM(O35:Q35)-S35,),1) -> 0
A36: 26 | B36: =IF('Mau A1'!B1011="","",'Mau A1'!B1011) -> Quách Minh | C36: =IF('Mau A1'!C1011="","",'Mau A1'!C1011) -> Thử | D36: =SUM('Mau A1'!M1011:M1050) -> 534.2 | E36: =SUM('Mau A1'!N1011:N1050) -> 0 | F36: =SUM('Mau A1'!O1011:O1050) -> 0 | G36: =SUM('Mau A1'!P1011:P1050) -> 534.2 | H36: =SUM('Mau A1'!Q1011:Q1050) -> 0 | I36: =SUM('Mau A1'!R1011:R1050) -> 0 | J36: =SUM('Mau A1'!S1011:S1050) -> 0 | K36: =SUM('Mau A1'!U1011:U1050) -> 0 | L36: =SUM('Mau A1'!W1011:W1050) -> 0 | M36: =SUM('Mau A1'!Y1011:Y1050) -> 0 | N36: =SUM('Mau A1'!AA1011:AA1050) -> 0 | O36: =SUM('Mau A1'!AB1011:AB1050) -> 534.2 | P36: =SUM('Mau A1'!AC1011:AC1050) -> 0 | Q36: =SUM('Mau A1'!AD1011:AD1050) -> 0 | R36: =SUM('Mau A1'!AF1011:AF1050) -> 534.2 | S36: =SUM('Mau A1'!AE1011:AE1050) -> 0 | T36: =ROUND(IF(OR((O36+P36+Q36)-S36<=0,R36-F36<0),"0",IF(OR(AND(0<O36<200,0<(O36-S36)<200,P36>=0,Q36>=0),AND((O36-S36)>200,R36<200),AND(O36-S36<200,R36<O36)),O36-S36+P36+Q36,IF(AND(R36>0,R36>200,F36>=0,(R36-S36)>200),"200",IF(OR(AND(P36<0,Q36=0,R36-S36<200),AND(P36=0,Q36<0,F36>0,R36-S36<200),AND(P36<0,Q36<0,F36>0,R36-S36<=200)),R36-S36-F36,R36-S36-F36-P36-Q36)))),1) -> 200 | U36: =ROUND(IF(AND(R36>0,T36=200),R36-S36-T36,IF(AND(P36>0,Q36>0,O36<=0,T36=0),R36-S36+P36,IF(AND(R36>0,P36>0,T36=200),R36-S36-T36+P36,IF(AND(R36>0,T36<200,OR(P36>0,F36>0)),R36-S36-T36,)))),1) -> 334.2 | V36: =ROUND(IF(SUM(O36:Q36)-S36<0,SUM(O36:Q36)-S36,),1) -> 0
A37: 27 | B37: =IF('Mau A1'!B1051="","",'Mau A1'!B1051) -> Trần Công | C37: =IF('Mau A1'!C1051="","",'Mau A1'!C1051) -> Tiến | D37: =SUM('Mau A1'!M1051:M1090) -> 727.1 | E37: =SUM('Mau A1'!N1051:N1090) -> 0 | F37: =SUM('Mau A1'!O1051:O1090) -> 0 | G37: =SUM('Mau A1'!P1051:P1090) -> 727.1 | H37: =SUM('Mau A1'!Q1051:Q1090) -> 0 | I37: =SUM('Mau A1'!R1051:R1090) -> 0 | J37: =SUM('Mau A1'!S1051:S1090) -> 0 | K37: =SUM('Mau A1'!U1051:U1090) -> 0 | L37: =SUM('Mau A1'!W1051:W1090) -> 0 | M37: =SUM('Mau A1'!Y1051:Y1090) -> 0 | N37: =SUM('Mau A1'!AA1051:AA1090) -> 0 | O37: =SUM('Mau A1'!AB1051:AB1090) -> 727.1 | P37: =SUM('Mau A1'!AC1051:AC1090) -> 0 | Q37: =SUM('Mau A1'!AD1051:AD1090) -> 0 | R37: =SUM('Mau A1'!AF1051:AF1090) -> 727.1 | S37: =SUM('Mau A1'!AE1051:AE1090) -> 0 | T37: =ROUND(IF(OR((O37+P37+Q37)-S37<=0,R37-F37<0),"0",IF(OR(AND(0<O37<200,0<(O37-S37)<200,P37>=0,Q37>=0),AND((O37-S37)>200,R37<200),AND(O37-S37<200,R37<O37)),O37-S37+P37+Q37,IF(AND(R37>0,R37>200,F37>=0,(R37-S37)>200),"200",IF(OR(AND(P37<0,Q37=0,R37-S37<200),AND(P37=0,Q37<0,F37>0,R37-S37<200),AND(P37<0,Q37<0,F37>0,R37-S37<=200)),R37-S37-F37,R37-S37-F37-P37-Q37)))),1) -> 200 | U37: =ROUND(IF(AND(R37>0,T37=200),R37-S37-T37,IF(AND(P37>0,Q37>0,O37<=0,T37=0),R37-S37+P37,IF(AND(R37>0,P37>0,T37=200),R37-S37-T37+P37,IF(AND(R37>0,T37<200,OR(P37>0,F37>0)),R37-S37-T37,)))),1) -> 527.1 | V37: =ROUND(IF(SUM(O37:Q37)-S37<0,SUM(O37:Q37)-S37,),1) -> 0
A38: 28 | B38: =IF('Mau A1'!B1091="","",'Mau A1'!B1091) -> Trần Nguyên Bảo | C38: =IF('Mau A1'!C1091="","",'Mau A1'!C1091) -> Trân | D38: =SUM('Mau A1'!M1091:M1130) -> 645.4 | E38: =SUM('Mau A1'!N1091:N1130) -> 0 | F38: =SUM('Mau A1'!O1091:O1130) -> 0 | G38: =SUM('Mau A1'!P1091:P1130) -> 645.4 | H38: =SUM('Mau A1'!Q1091:Q1130) -> 0 | I38: =SUM('Mau A1'!R1091:R1130) -> 0 | J38: =SUM('Mau A1'!S1091:S1130) -> 0 | K38: =SUM('Mau A1'!U1091:U1130) -> 0 | L38: =SUM('Mau A1'!W1091:W1130) -> 0 | M38: =SUM('Mau A1'!Y1091:Y1130) -> 0 | N38: =SUM('Mau A1'!AA1091:AA1130) -> 0 | O38: =SUM('Mau A1'!AB1091:AB1130) -> 645.4 | P38: =SUM('Mau A1'!AC1091:AC1130) -> 0 | Q38: =SUM('Mau A1'!AD1091:AD1130) -> 0 | R38: =SUM('Mau A1'!AF1091:AF1130) -> 645.4 | S38: =SUM('Mau A1'!AE1091:AE1130) -> 0 | T38: =ROUND(IF(OR((O38+P38+Q38)-S38<=0,R38-F38<0),"0",IF(OR(AND(0<O38<200,0<(O38-S38)<200,P38>=0,Q38>=0),AND((O38-S38)>200,R38<200),AND(O38-S38<200,R38<O38)),O38-S38+P38+Q38,IF(AND(R38>0,R38>200,F38>=0,(R38-S38)>200),"200",IF(OR(AND(P38<0,Q38=0,R38-S38<200),AND(P38=0,Q38<0,F38>0,R38-S38<200),AND(P38<0,Q38<0,F38>0,R38-S38<=200)),R38-S38-F38,R38-S38-F38-P38-Q38)))),1) -> 200 | U38: =ROUND(IF(AND(R38>0,T38=200),R38-S38-T38,IF(AND(P38>0,Q38>0,O38<=0,T38=0),R38-S38+P38,IF(AND(R38>0,P38>0,T38=200),R38-S38-T38+P38,IF(AND(R38>0,T38<200,OR(P38>0,F38>0)),R38-S38-T38,)))),1) -> 445.4 | V38: =ROUND(IF(SUM(O38:Q38)-S38<0,SUM(O38:Q38)-S38,),1) -> 0
A39: 29 | B39: =IF('Mau A1'!B1131="","",'Mau A1'!B1131) -> Trần Hiếu | C39: =IF('Mau A1'!C1131="","",'Mau A1'!C1131) -> Trinh | D39: =SUM('Mau A1'!M1131:M1170) -> 456.6 | E39: =SUM('Mau A1'!N1131:N1170) -> 0 | F39: =SUM('Mau A1'!O1131:O1170) -> 0 | G39: =SUM('Mau A1'!P1131:P1170) -> 456.6 | H39: =SUM('Mau A1'!Q1131:Q1170) -> 0 | I39: =SUM('Mau A1'!R1131:R1170) -> 0 | J39: =SUM('Mau A1'!S1131:S1170) -> 0 | K39: =SUM('Mau A1'!U1131:U1170) -> 0 | L39: =SUM('Mau A1'!W1131:W1170) -> 0 | M39: =SUM('Mau A1'!Y1131:Y1170) -> 0 | N39: =SUM('Mau A1'!AA1131:AA1170) -> 0 | O39: =SUM('Mau A1'!AB1131:AB1170) -> 456.6 | P39: =SUM('Mau A1'!AC1131:AC1170) -> 0 | Q39: =SUM('Mau A1'!AD1131:AD1170) -> 0 | R39: =SUM('Mau A1'!AF1131:AF1170) -> 456.6 | S39: =SUM('Mau A1'!AE1131:AE1170) -> 0 | T39: =ROUND(IF(OR((O39+P39+Q39)-S39<=0,R39-F39<0),"0",IF(OR(AND(0<O39<200,0<(O39-S39)<200,P39>=0,Q39>=0),AND((O39-S39)>200,R39<200),AND(O39-S39<200,R39<O39)),O39-S39+P39+Q39,IF(AND(R39>0,R39>200,F39>=0,(R39-S39)>200),"200",IF(OR(AND(P39<0,Q39=0,R39-S39<200),AND(P39=0,Q39<0,F39>0,R39-S39<200),AND(P39<0,Q39<0,F39>0,R39-S39<=200)),R39-S39-F39,R39-S39-F39-P39-Q39)))),1) -> 200 | U39: =ROUND(IF(AND(R39>0,T39=200),R39-S39-T39,IF(AND(P39>0,Q39>0,O39<=0,T39=0),R39-S39+P39,IF(AND(R39>0,P39>0,T39=200),R39-S39-T39+P39,IF(AND(R39>0,T39<200,OR(P39>0,F39>0)),R39-S39-T39,)))),1) -> 256.6 | V39: =ROUND(IF(SUM(O39:Q39)-S39<0,SUM(O39:Q39)-S39,),1) -> 0
A40: 30 | B40: =IF('Mau A1'!B1171="","",'Mau A1'!B1171) -> Cao Văn | C40: =IF('Mau A1'!C1171="","",'Mau A1'!C1171) -> Tuấn | D40: =SUM('Mau A1'!M1171:M1210) -> 406.1 | E40: =SUM('Mau A1'!N1171:N1210) -> 0 | F40: =SUM('Mau A1'!O1171:O1210) -> 0 | G40: =SUM('Mau A1'!P1171:P1210) -> 406.1 | H40: =SUM('Mau A1'!Q1171:Q1210) -> 0 | I40: =SUM('Mau A1'!R1171:R1210) -> 0 | J40: =SUM('Mau A1'!S1171:S1210) -> 0 | K40: =SUM('Mau A1'!U1171:U1210) -> 0 | L40: =SUM('Mau A1'!W1171:W1210) -> 0 | M40: =SUM('Mau A1'!Y1171:Y1210) -> 0 | N40: =SUM('Mau A1'!AA1171:AA1210) -> 0 | O40: =SUM('Mau A1'!AB1171:AB1210) -> 406.1 | P40: =SUM('Mau A1'!AC1171:AC1210) -> 0 | Q40: =SUM('Mau A1'!AD1171:AD1210) -> 0 | R40: =SUM('Mau A1'!AF1171:AF1210) -> 406.1 | S40: =SUM('Mau A1'!AE1171:AE1210) -> 0 | T40: =ROUND(IF(OR((O40+P40+Q40)-S40<=0,R40-F40<0),"0",IF(OR(AND(0<O40<200,0<(O40-S40)<200,P40>=0,Q40>=0),AND((O40-S40)>200,R40<200),AND(O40-S40<200,R40<O40)),O40-S40+P40+Q40,IF(AND(R40>0,R40>200,F40>=0,(R40-S40)>200),"200",IF(OR(AND(P40<0,Q40=0,R40-S40<200),AND(P40=0,Q40<0,F40>0,R40-S40<200),AND(P40<0,Q40<0,F40>0,R40-S40<=200)),R40-S40-F40,R40-S40-F40-P40-Q40)))),1) -> 200 | U40: =ROUND(IF(AND(R40>0,T40=200),R40-S40-T40,IF(AND(P40>0,Q40>0,O40<=0,T40=0),R40-S40+P40,IF(AND(R40>0,P40>0,T40=200),R40-S40-T40+P40,IF(AND(R40>0,T40<200,OR(P40>0,F40>0)),R40-S40-T40,)))),1) -> 206.1 | V40: =ROUND(IF(SUM(O40:Q40)-S40<0,SUM(O40:Q40)-S40,),1) -> 0
A41: 31 | B41: =IF('Mau A1'!B1211="","",'Mau A1'!B1211) -> Nguyễn Văn | C41: =IF('Mau A1'!C1211="","",'Mau A1'!C1211) -> Yên | D41: =SUM('Mau A1'!M1211:M1250) -> 546.6 | E41: =SUM('Mau A1'!N1211:N1250) -> 0 | F41: =SUM('Mau A1'!O1211:O1250) -> 0 | G41: =SUM('Mau A1'!P1211:P1250) -> 546.6 | H41: =SUM('Mau A1'!Q1211:Q1250) -> 0 | I41: =SUM('Mau A1'!R1211:R1250) -> 0 | J41: =SUM('Mau A1'!S1211:S1250) -> 0 | K41: =SUM('Mau A1'!U1211:U1250) -> 0 | L41: =SUM('Mau A1'!W1211:W1250) -> 0 | M41: =SUM('Mau A1'!Y1211:Y1250) -> 0 | N41: =SUM('Mau A1'!AA1211:AA1250) -> 0 | O41: =SUM('Mau A1'!AB1211:AB1250) -> 546.6 | P41: =SUM('Mau A1'!AC1211:AC1250) -> 0 | Q41: =SUM('Mau A1'!AD1211:AD1250) -> 0 | R41: =SUM('Mau A1'!AF1211:AF1250) -> 546.6 | S41: =SUM('Mau A1'!AE1211:AE1250) -> 0 | T41: =ROUND(IF(OR((O41+P41+Q41)-S41<=0,R41-F41<0),"0",IF(OR(AND(0<O41<200,0<(O41-S41)<200,P41>=0,Q41>=0),AND((O41-S41)>200,R41<200),AND(O41-S41<200,R41<O41)),O41-S41+P41+Q41,IF(AND(R41>0,R41>200,F41>=0,(R41-S41)>200),"200",IF(OR(AND(P41<0,Q41=0,R41-S41<200),AND(P41=0,Q41<0,F41>0,R41-S41<200),AND(P41<0,Q41<0,F41>0,R41-S41<=200)),R41-S41-F41,R41-S41-F41-P41-Q41)))),1) -> 200 | U41: =ROUND(IF(AND(R41>0,T41=200),R41-S41-T41,IF(AND(P41>0,Q41>0,O41<=0,T41=0),R41-S41+P41,IF(AND(R41>0,P41>0,T41=200),R41-S41-T41+P41,IF(AND(R41>0,T41<200,OR(P41>0,F41>0)),R41-S41-T41,)))),1) -> 346.6 | V41: =ROUND(IF(SUM(O41:Q41)-S41<0,SUM(O41:Q41)-S41,),1) -> 0
A42: 32 | B42: =IF('Mau A1'!B1251="","",'Mau A1'!B1251) -> Châu Văn | C42: =IF('Mau A1'!C1251="","",'Mau A1'!C1251) -> Bảo | D42: =SUM('Mau A1'!M1251:M1290) -> 105 | E42: =SUM('Mau A1'!N1251:N1290) -> 0 | F42: =SUM('Mau A1'!O1251:O1290) -> 0 | G42: =SUM('Mau A1'!P1251:P1290) -> 105 | H42: =SUM('Mau A1'!Q1251:Q1290) -> 0 | I42: =SUM('Mau A1'!R1251:R1290) -> 0 | J42: =SUM('Mau A1'!S1251:S1290) -> 0 | K42: =SUM('Mau A1'!U1251:U1290) -> 0 | L42: =SUM('Mau A1'!W1251:W1290) -> 0 | M42: =SUM('Mau A1'!Y1251:Y1290) -> 0 | N42: =SUM('Mau A1'!AA1251:AA1290) -> 0 | O42: =SUM('Mau A1'!AB1251:AB1290) -> 105 | P42: =SUM('Mau A1'!AC1251:AC1290) -> 0 | Q42: =SUM('Mau A1'!AD1251:AD1290) -> 0 | R42: =SUM('Mau A1'!AF1251:AF1290) -> 105 | S42: =SUM('Mau A1'!AE1251:AE1290) -> 0 | T42: =ROUND(IF(OR((O42+P42+Q42)-S42<=0,R42-F42<0),"0",IF(OR(AND(0<O42<200,0<(O42-S42)<200,P42>=0,Q42>=0),AND((O42-S42)>200,R42<200),AND(O42-S42<200,R42<O42)),O42-S42+P42+Q42,IF(AND(R42>0,R42>200,F42>=0,(R42-S42)>200),"200",IF(OR(AND(P42<0,Q42=0,R42-S42<200),AND(P42=0,Q42<0,F42>0,R42-S42<200),AND(P42<0,Q42<0,F42>0,R42-S42<=200)),R42-S42-F42,R42-S42-F42-P42-Q42)))),1) -> 105 | U42: =ROUND(IF(AND(R42>0,T42=200),R42-S42-T42,IF(AND(P42>0,Q42>0,O42<=0,T42=0),R42-S42+P42,IF(AND(R42>0,P42>0,T42=200),R42-S42-T42+P42,IF(AND(R42>0,T42<200,OR(P42>0,F42>0)),R42-S42-T42,)))),1) -> 0 | V42: =ROUND(IF(SUM(O42:Q42)-S42<0,SUM(O42:Q42)-S42,),1) -> 0
A43: 33 | B43: =IF('Mau A1'!B1291="","",'Mau A1'!B1291) -> Lâm Viết | C43: =IF('Mau A1'!C1291="","",'Mau A1'!C1291) -> Dũng | D43: =SUM('Mau A1'!M1291:M1330) -> 87 | E43: =SUM('Mau A1'!N1291:N1330) -> 0 | F43: =SUM('Mau A1'!O1291:O1330) -> 0 | G43: =SUM('Mau A1'!P1291:P1330) -> 87 | H43: =SUM('Mau A1'!Q1291:Q1330) -> 39.3 | I43: =SUM('Mau A1'!R1291:R1330) -> 0 | J43: =SUM('Mau A1'!S1291:S1330) -> 0 | K43: =SUM('Mau A1'!U1291:U1330) -> 0 | L43: =SUM('Mau A1'!W1291:W1330) -> 0 | M43: =SUM('Mau A1'!Y1291:Y1330) -> 0 | N43: =SUM('Mau A1'!AA1291:AA1330) -> 0 | O43: =SUM('Mau A1'!AB1291:AB1330) -> 87 | P43: =SUM('Mau A1'!AC1291:AC1330) -> 0 | Q43: =SUM('Mau A1'!AD1291:AD1330) -> 0 | R43: =SUM('Mau A1'!AF1291:AF1330) -> 87 | S43: =SUM('Mau A1'!AE1291:AE1330) -> 0 | T43: =ROUND(IF(OR((O43+P43+Q43)-S43<=0,R43-F43<0),"0",IF(OR(AND(0<O43<200,0<(O43-S43)<200,P43>=0,Q43>=0),AND((O43-S43)>200,R43<200),AND(O43-S43<200,R43<O43)),O43-S43+P43+Q43,IF(AND(R43>0,R43>200,F43>=0,(R43-S43)>200),"200",IF(OR(AND(P43<0,Q43=0,R43-S43<200),AND(P43=0,Q43<0,F43>0,R43-S43<200),AND(P43<0,Q43<0,F43>0,R43-S43<=200)),R43-S43-F43,R43-S43-F43-P43-Q43)))),1) -> 87 | U43: =ROUND(IF(AND(R43>0,T43=200),R43-S43-T43,IF(AND(P43>0,Q43>0,O43<=0,T43=0),R43-S43+P43,IF(AND(R43>0,P43>0,T43=200),R43-S43-T43+P43,IF(AND(R43>0,T43<200,OR(P43>0,F43>0)),R43-S43-T43,)))),1) -> 0 | V43: =ROUND(IF(SUM(O43:Q43)-S43<0,SUM(O43:Q43)-S43,),1) -> 0
A44: 34 | B44: =IF('Mau A1'!B1331="","",'Mau A1'!B1331) -> Nguyễn Văn | C44: =IF('Mau A1'!C1331="","",'Mau A1'!C1331) -> Tấn | D44: =SUM('Mau A1'!M1331:M1370) -> 36 | E44: =SUM('Mau A1'!N1331:N1370) -> 0 | F44: =SUM('Mau A1'!O1331:O1370) -> 0 | G44: =SUM('Mau A1'!P1331:P1370) -> 36 | H44: =SUM('Mau A1'!Q1331:Q1370) -> 0 | I44: =SUM('Mau A1'!R1331:R1370) -> 0 | J44: =SUM('Mau A1'!S1331:S1370) -> 0 | K44: =SUM('Mau A1'!U1331:U1370) -> 0 | L44: =SUM('Mau A1'!W1331:W1370) -> 0 | M44: =SUM('Mau A1'!Y1331:Y1370) -> 0 | N44: =SUM('Mau A1'!AA1331:AA1370) -> 0 | O44: =SUM('Mau A1'!AB1331:AB1370) -> 36 | P44: =SUM('Mau A1'!AC1331:AC1370) -> 0 | Q44: =SUM('Mau A1'!AD1331:AD1370) -> 0 | R44: =SUM('Mau A1'!AF1331:AF1370) -> 36 | S44: =SUM('Mau A1'!AE1331:AE1370) -> 0 | T44: =ROUND(IF(OR((O44+P44+Q44)-S44<=0,R44-F44<0),"0",IF(OR(AND(0<O44<200,0<(O44-S44)<200,P44>=0,Q44>=0),AND((O44-S44)>200,R44<200),AND(O44-S44<200,R44<O44)),O44-S44+P44+Q44,IF(AND(R44>0,R44>200,F44>=0,(R44-S44)>200),"200",IF(OR(AND(P44<0,Q44=0,R44-S44<200),AND(P44=0,Q44<0,F44>0,R44-S44<200),AND(P44<0,Q44<0,F44>0,R44-S44<=200)),R44-S44-F44,R44-S44-F44-P44-Q44)))),1) -> 36 | U44: =ROUND(IF(AND(R44>0,T44=200),R44-S44-T44,IF(AND(P44>0,Q44>0,O44<=0,T44=0),R44-S44+P44,IF(AND(R44>0,P44>0,T44=200),R44-S44-T44+P44,IF(AND(R44>0,T44<200,OR(P44>0,F44>0)),R44-S44-T44,)))),1) -> 0 | V44: =ROUND(IF(SUM(O44:Q44)-S44<0,SUM(O44:Q44)-S44,),1) -> 0
A45: 35 | B45: =IF('Mau A1'!B1371="","",'Mau A1'!B1371) -> Nguyễn Minh | C45: =IF('Mau A1'!C1371="","",'Mau A1'!C1371) -> Đức (TG) | D45: =SUM('Mau A1'!M1371:M1410) -> 195 | E45: =SUM('Mau A1'!N1371:N1410) -> 0 | F45: =SUM('Mau A1'!O1371:O1410) -> 0 | G45: =SUM('Mau A1'!P1371:P1410) -> 195 | H45: =SUM('Mau A1'!Q1371:Q1410) -> 0 | I45: =SUM('Mau A1'!R1371:R1410) -> 0 | J45: =SUM('Mau A1'!S1371:S1410) -> 0 | K45: =SUM('Mau A1'!U1371:U1410) -> 0 | L45: =SUM('Mau A1'!W1371:W1410) -> 0 | M45: =SUM('Mau A1'!Y1371:Y1410) -> 0 | N45: =SUM('Mau A1'!AA1371:AA1410) -> 0 | O45: =SUM('Mau A1'!AB1371:AB1410) -> 195 | P45: =SUM('Mau A1'!AC1371:AC1410) -> 0 | Q45: =SUM('Mau A1'!AD1371:AD1410) -> 0 | R45: =SUM('Mau A1'!AF1371:AF1410) -> 195 | S45: =SUM('Mau A1'!AE1371:AE1410) -> 0 | T45: =ROUND(IF(OR((O45+P45+Q45)-S45<=0,R45-F45<0),"0",IF(OR(AND(0<O45<200,0<(O45-S45)<200,P45>=0,Q45>=0),AND((O45-S45)>200,R45<200),AND(O45-S45<200,R45<O45)),O45-S45+P45+Q45,IF(AND(R45>0,R45>200,F45>=0,(R45-S45)>200),"200",IF(OR(AND(P45<0,Q45=0,R45-S45<200),AND(P45=0,Q45<0,F45>0,R45-S45<200),AND(P45<0,Q45<0,F45>0,R45-S45<=200)),R45-S45-F45,R45-S45-F45-P45-Q45)))),1) -> 195 | U45: =ROUND(IF(AND(R45>0,T45=200),R45-S45-T45,IF(AND(P45>0,Q45>0,O45<=0,T45=0),R45-S45+P45,IF(AND(R45>0,P45>0,T45=200),R45-S45-T45+P45,IF(AND(R45>0,T45<200,OR(P45>0,F45>0)),R45-S45-T45,)))),1) -> 0 | V45: =ROUND(IF(SUM(O45:Q45)-S45<0,SUM(O45:Q45)-S45,),1) -> 0
A46: 36 | B46: =IF('Mau A1'!B1411="","",'Mau A1'!B1411) -> Nguyễn Thái | C46: =IF('Mau A1'!C1411="","",'Mau A1'!C1411) -> Bình (TG) | D46: =SUM('Mau A1'!M1411:M1450) -> 0 | E46: =SUM('Mau A1'!N1411:N1450) -> 0 | F46: =SUM('Mau A1'!O1411:O1450) -> 0 | G46: =SUM('Mau A1'!P1411:P1450) -> 0 | H46: =SUM('Mau A1'!Q1411:Q1450) -> 0 | I46: =SUM('Mau A1'!R1411:R1450) -> 0 | J46: =SUM('Mau A1'!S1411:S1450) -> 0 | K46: =SUM('Mau A1'!U1411:U1450) -> 0 | L46: =SUM('Mau A1'!W1411:W1450) -> 0 | M46: =SUM('Mau A1'!Y1411:Y1450) -> 0 | N46: =SUM('Mau A1'!AA1411:AA1450) -> 0 | O46: =SUM('Mau A1'!AB1411:AB1450) -> 0 | P46: =SUM('Mau A1'!AC1411:AC1450) -> 0 | Q46: =SUM('Mau A1'!AD1411:AD1450) -> 0 | R46: =SUM('Mau A1'!AF1411:AF1450) -> 0 | S46: =SUM('Mau A1'!AE1411:AE1450) -> 0 | T46: =ROUND(IF(OR((O46+P46+Q46)-S46<=0,R46-F46<0),"0",IF(AND(0<O46<200,0<(O46-S46)<200,P46>=0,Q46>=0),O46-S46,IF(AND(R46>0,R46>200,F46>=0,(R46-S46)>200),"200",IF(OR(AND(P46<0,Q46=0,R46-S46<200),AND(P46=0,Q46<0,F46>0,R46-S46<200),AND(P46<0,Q46<0,F46>0,R46-S46<=200)),R46-S46-F46,R46-S46-F46-P46-Q46)))),1) -> 0 | U46: =ROUND(IF(AND(R46>0,T46=200),R46-S46-T46,IF(AND(P46>0,Q46>0,O46<=0,T46=0),R46-S46+P46,IF(AND(R46>0,P46>0,T46=200),R46-S46-T46+P46,IF(AND(R46>0,T46<200,OR(P46>0,F46>0)),R46-S46-T46,)))),1) -> 0 | V46: =ROUND(IF(SUM(O46:Q46)-S46<0,SUM(O46:Q46)-S46,),1) -> 0
A47: 37 | B47: =IF('Mau A1'!B1451="","",'Mau A1'!B1451) | C47: =IF('Mau A1'!C1451="","",'Mau A1'!C1451) | D47: =SUM('Mau A1'!M1451:M1490) -> 0 | E47: =SUM('Mau A1'!N1451:N1490) -> 0 | F47: =SUM('Mau A1'!O1451:O1490) -> 0 | G47: =SUM('Mau A1'!P1451:P1490) -> 0 | H47: =SUM('Mau A1'!Q1451:Q1490) -> 0 | I47: =SUM('Mau A1'!R1451:R1490) -> 0 | J47: =SUM('Mau A1'!S1451:S1490) -> 0 | K47: =SUM('Mau A1'!U1451:U1490) -> 0 | L47: =SUM('Mau A1'!W1451:W1490) -> 0 | M47: =SUM('Mau A1'!Y1451:Y1490) -> 0 | N47: =SUM('Mau A1'!AA1451:AA1490) -> 0 | O47: =SUM('Mau A1'!AB1451:AB1490) -> 0 | P47: =SUM('Mau A1'!AC1451:AC1490) -> 0 | Q47: =SUM('Mau A1'!AD1451:AD1490) -> 0 | R47: =SUM('Mau A1'!AF1451:AF1490) -> 0 | S47: =SUM('Mau A1'!AE1451:AE1490) -> 0 | T47: =ROUND(IF(OR((O47+P47+Q47)-S47<=0,R47-F47<0),"0",IF(AND(0<O47<200,0<(O47-S47)<200,P47>=0,Q47>=0),O47-S47,IF(AND(R47>0,R47>200,F47>=0,(R47-S47)>200),"200",IF(OR(AND(P47<0,Q47=0,R47-S47<200),AND(P47=0,Q47<0,F47>0,R47-S47<200),AND(P47<0,Q47<0,F47>0,R47-S47<=200)),R47-S47-F47,R47-S47-F47-P47-Q47)))),1) -> 0 | U47: =ROUND(IF(AND(R47>0,T47=200),R47-S47-T47,IF(AND(P47>0,Q47>0,O47<=0,T47=0),R47-S47+P47,IF(AND(R47>0,P47>0,T47=200),R47-S47-T47+P47,IF(AND(R47>0,T47<200,OR(P47>0,F47>0)),R47-S47-T47,)))),1) -> 0 | V47: =ROUND(IF(SUM(O47:Q47)-S47<0,SUM(O47:Q47)-S47,),1) -> 0
A48: 38 | B48: =IF('Mau A1'!B1491="","",'Mau A1'!B1491) | C48: =IF('Mau A1'!C1491="","",'Mau A1'!C1491) | D48: =SUM('Mau A1'!M1491:M1530) -> 0 | E48: =SUM('Mau A1'!N1491:N1530) -> 0 | F48: =SUM('Mau A1'!O1491:O1530) -> 0 | G48: =SUM('Mau A1'!P1491:P1530) -> 0 | H48: =SUM('Mau A1'!Q1491:Q1530) -> 0 | I48: =SUM('Mau A1'!R1491:R1530) -> 0 | J48: =SUM('Mau A1'!S1491:S1530) -> 0 | K48: =SUM('Mau A1'!U1491:U1530) -> 0 | L48: =SUM('Mau A1'!W1491:W1530) -> 0 | M48: =SUM('Mau A1'!Y1491:Y1530) -> 0 | N48: =SUM('Mau A1'!AA1491:AA1530) -> 0 | O48: =SUM('Mau A1'!AB1491:AB1530) -> 0 | P48: =SUM('Mau A1'!AC1491:AC1530) -> 0 | Q48: =SUM('Mau A1'!AD1491:AD1530) -> 0 | R48: =SUM('Mau A1'!AF1491:AF1530) -> 0 | S48: =SUM('Mau A1'!AE1491:AE1530) -> 0 | T48: =ROUND(IF(OR((O48+P48+Q48)-S48<=0,R48-F48<0),"0",IF(AND(0<O48<200,0<(O48-S48)<200,P48>=0,Q48>=0),O48-S48,IF(AND(R48>0,R48>200,F48>=0,(R48-S48)>200),"200",IF(OR(AND(P48<0,Q48=0,R48-S48<200),AND(P48=0,Q48<0,F48>0,R48-S48<200),AND(P48<0,Q48<0,F48>0,R48-S48<=200)),R48-S48-F48,R48-S48-F48-P48-Q48)))),1) -> 0 | U48: =ROUND(IF(AND(R48>0,T48=200),R48-S48-T48,IF(AND(P48>0,Q48>0,O48<=0,T48=0),R48-S48+P48,IF(AND(R48>0,P48>0,T48=200),R48-S48-T48+P48,IF(AND(R48>0,T48<200,OR(P48>0,F48>0)),R48-S48-T48,)))),1) -> 0 | V48: =ROUND(IF(SUM(O48:Q48)-S48<0,SUM(O48:Q48)-S48,),1) -> 0
A49: 39 | B49: =IF('Mau A1'!B1531="","",'Mau A1'!B1531) | C49: =IF('Mau A1'!C1531="","",'Mau A1'!C1531) | D49: =SUM('Mau A1'!M1531:M1570) -> 0 | E49: =SUM('Mau A1'!N1531:N1570) -> 0 | F49: =SUM('Mau A1'!O1531:O1570) -> 0 | G49: =SUM('Mau A1'!P1531:P1570) -> 0 | H49: =SUM('Mau A1'!Q1531:Q1570) -> 0 | I49: =SUM('Mau A1'!R1531:R1570) -> 0 | J49: =SUM('Mau A1'!S1531:S1570) -> 0 | K49: =SUM('Mau A1'!U1531:U1570) -> 0 | L49: =SUM('Mau A1'!W1531:W1570) -> 0 | M49: =SUM('Mau A1'!Y1531:Y1570) -> 0 | N49: =SUM('Mau A1'!AA1531:AA1570) -> 0 | O49: =SUM('Mau A1'!AB1531:AB1570) -> 0 | P49: =SUM('Mau A1'!AC1531:AC1570) -> 0 | Q49: =SUM('Mau A1'!AD1531:AD1570) -> 0 | R49: =SUM('Mau A1'!AF1531:AF1570) -> 0 | S49: =SUM('Mau A1'!AE1531:AE1570) -> 0 | T49: =ROUND(IF(OR((O49+P49+Q49)-S49<=0,R49-F49<0),"0",IF(AND(0<O49<200,0<(O49-S49)<200,P49>=0,Q49>=0),O49-S49,IF(AND(R49>0,R49>200,F49>=0,(R49-S49)>200),"200",IF(OR(AND(P49<0,Q49=0,R49-S49<200),AND(P49=0,Q49<0,F49>0,R49-S49<200),AND(P49<0,Q49<0,F49>0,R49-S49<=200)),R49-S49-F49,R49-S49-F49-P49-Q49)))),1) -> 0 | U49: =ROUND(IF(AND(R49>0,T49=200),R49-S49-T49,IF(AND(P49>0,Q49>0,O49<=0,T49=0),R49-S49+P49,IF(AND(R49>0,P49>0,T49=200),R49-S49-T49+P49,IF(AND(R49>0,T49<200,OR(P49>0,F49>0)),R49-S49-T49,)))),1) -> 0 | V49: =ROUND(IF(SUM(O49:Q49)-S49<0,SUM(O49:Q49)-S49,),1) -> 0
A50: 40 | B50: =IF('Mau A1'!B1571="","",'Mau A1'!B1571) | C50: =IF('Mau A1'!C1571="","",'Mau A1'!C1571) | D50: =SUM('Mau A1'!M1571:M1610) -> 0 | E50: =SUM('Mau A1'!N1571:N1610) -> 0 | F50: =SUM('Mau A1'!O1571:O1610) -> 0 | G50: =SUM('Mau A1'!P1571:P1610) -> 0 | H50: =SUM('Mau A1'!Q1571:Q1610) -> 0 | I50: =SUM('Mau A1'!R1571:R1610) -> 0 | J50: =SUM('Mau A1'!S1571:S1610) -> 0 | K50: =SUM('Mau A1'!U1571:U1610) -> 0 | L50: =SUM('Mau A1'!W1571:W1610) -> 0 | M50: =SUM('Mau A1'!Y1571:Y1610) -> 0 | N50: =SUM('Mau A1'!AA1571:AA1610) -> 0 | O50: =SUM('Mau A1'!AB1571:AB1610) -> 0 | P50: =SUM('Mau A1'!AC1571:AC1610) -> 0 | Q50: =SUM('Mau A1'!AD1571:AD1610) -> 0 | R50: =SUM('Mau A1'!AF1571:AF1610) -> 0 | S50: =SUM('Mau A1'!AE1571:AE1610) -> 0 | T50: =ROUND(IF(OR((O50+P50+Q50)-S50<=0,R50-F50<0),"0",IF(AND(0<O50<200,0<(O50-S50)<200,P50>=0,Q50>=0),O50-S50,IF(AND(R50>0,R50>200,F50>=0,(R50-S50)>200),"200",IF(OR(AND(P50<0,Q50=0,R50-S50<200),AND(P50=0,Q50<0,F50>0,R50-S50<200),AND(P50<0,Q50<0,F50>0,R50-S50<=200)),R50-S50-F50,R50-S50-F50-P50-Q50)))),1) -> 0 | U50: =ROUND(IF(AND(R50>0,T50=200),R50-S50-T50,IF(AND(P50>0,Q50>0,O50<=0,T50=0),R50-S50+P50,IF(AND(R50>0,P50>0,T50=200),R50-S50-T50+P50,IF(AND(R50>0,T50<200,OR(P50>0,F50>0)),R50-S50-T50,)))),1) -> 0 | V50: =ROUND(IF(SUM(O50:Q50)-S50<0,SUM(O50:Q50)-S50,),1) -> 0
A51: 41 | B51: =IF('Mau A1'!B1611="","",'Mau A1'!B1611) | C51: =IF('Mau A1'!C1611="","",'Mau A1'!C1611) | D51: =SUM('Mau A1'!M1611:M1650) -> 0 | E51: =SUM('Mau A1'!N1611:N1650) -> 0 | F51: =SUM('Mau A1'!O1611:O1650) -> 0 | G51: =SUM('Mau A1'!P1611:P1650) -> 0 | H51: =SUM('Mau A1'!Q1611:Q1650) -> 0 | I51: =SUM('Mau A1'!R1611:R1650) -> 0 | J51: =SUM('Mau A1'!S1611:S1650) -> 0 | K51: =SUM('Mau A1'!U1611:U1650) -> 0 | L51: =SUM('Mau A1'!W1611:W1650) -> 0 | M51: =SUM('Mau A1'!Y1611:Y1650) -> 0 | N51: =SUM('Mau A1'!AA1611:AA1650) -> 0 | O51: =SUM('Mau A1'!AB1611:AB1650) -> 0 | P51: =SUM('Mau A1'!AC1611:AC1650) -> 0 | Q51: =SUM('Mau A1'!AD1611:AD1650) -> 0 | R51: =SUM('Mau A1'!AF1611:AF1650) -> 0 | S51: =SUM('Mau A1'!AE1611:AE1650) -> 0 | T51: =ROUND(IF(OR((O51+P51+Q51)-S51<=0,R51-F51<0),"0",IF(AND(0<O51<200,0<(O51-S51)<200,P51>=0,Q51>=0),O51-S51,IF(AND(R51>0,R51>200,F51>=0,(R51-S51)>200),"200",IF(OR(AND(P51<0,Q51=0,R51-S51<200),AND(P51=0,Q51<0,F51>0,R51-S51<200),AND(P51<0,Q51<0,F51>0,R51-S51<=200)),R51-S51-F51,R51-S51-F51-P51-Q51)))),1) -> 0 | U51: =ROUND(IF(AND(R51>0,T51=200),R51-S51-T51,IF(AND(P51>0,Q51>0,O51<=0,T51=0),R51-S51+P51,IF(AND(R51>0,P51>0,T51=200),R51-S51-T51+P51,IF(AND(R51>0,T51<200,OR(P51>0,F51>0)),R51-S51-T51,)))),1) -> 0 | V51: =ROUND(IF(SUM(O51:Q51)-S51<0,SUM(O51:Q51)-S51,),1) -> 0
A52: 42 | B52: =IF('Mau A1'!B1651="","",'Mau A1'!B1651) | C52: =IF('Mau A1'!C1651="","",'Mau A1'!C1651) | D52: =SUM('Mau A1'!M1651:M1690) -> 0 | E52: =SUM('Mau A1'!N1651:N1690) -> 0 | F52: =SUM('Mau A1'!O1651:O1690) -> 0 | G52: =SUM('Mau A1'!P1651:P1690) -> 0 | H52: =SUM('Mau A1'!Q1651:Q1690) -> 0 | I52: =SUM('Mau A1'!R1651:R1690) -> 0 | J52: =SUM('Mau A1'!S1651:S1690) -> 0 | K52: =SUM('Mau A1'!U1651:U1690) -> 0 | L52: =SUM('Mau A1'!W1651:W1690) -> 0 | M52: =SUM('Mau A1'!Y1651:Y1690) -> 0 | N52: =SUM('Mau A1'!AA1651:AA1690) -> 0 | O52: =SUM('Mau A1'!AB1651:AB1690) -> 0 | P52: =SUM('Mau A1'!AC1651:AC1690) -> 0 | Q52: =SUM('Mau A1'!AD1651:AD1690) -> 0 | R52: =SUM('Mau A1'!AF1651:AF1690) -> 0 | S52: =SUM('Mau A1'!AE1651:AE1690) -> 0 | T52: =ROUND(IF(OR((O52+P52+Q52)-S52<=0,R52-F52<0),"0",IF(AND(0<O52<200,0<(O52-S52)<200,P52>=0,Q52>=0),O52-S52,IF(AND(R52>0,R52>200,F52>=0,(R52-S52)>200),"200",IF(OR(AND(P52<0,Q52=0,R52-S52<200),AND(P52=0,Q52<0,F52>0,R52-S52<200),AND(P52<0,Q52<0,F52>0,R52-S52<=200)),R52-S52-F52,R52-S52-F52-P52-Q52)))),1) -> 0 | U52: =ROUND(IF(AND(R52>0,T52=200),R52-S52-T52,IF(AND(P52>0,Q52>0,O52<=0,T52=0),R52-S52+P52,IF(AND(R52>0,P52>0,T52=200),R52-S52-T52+P52,IF(AND(R52>0,T52<200,OR(P52>0,F52>0)),R52-S52-T52,)))),1) -> 0 | V52: =ROUND(IF(SUM(O52:Q52)-S52<0,SUM(O52:Q52)-S52,),1) -> 0
A53: 43 | B53: =IF('Mau A1'!B1691="","",'Mau A1'!B1691) | C53: =IF('Mau A1'!C1691="","",'Mau A1'!C1691) | D53: =SUM('Mau A1'!M1691:M1730) -> 0 | E53: =SUM('Mau A1'!N1691:N1730) -> 0 | F53: =SUM('Mau A1'!O1691:O1730) -> 0 | G53: =SUM('Mau A1'!P1691:P1730) -> 0 | H53: =SUM('Mau A1'!Q1691:Q1730) -> 0 | I53: =SUM('Mau A1'!R1691:R1730) -> 0 | J53: =SUM('Mau A1'!S1691:S1730) -> 0 | K53: =SUM('Mau A1'!U1691:U1730) -> 0 | L53: =SUM('Mau A1'!W1691:W1730) -> 0 | M53: =SUM('Mau A1'!Y1691:Y1730) -> 0 | N53: =SUM('Mau A1'!AA1691:AA1730) -> 0 | O53: =SUM('Mau A1'!AB1691:AB1730) -> 0 | P53: =SUM('Mau A1'!AC1691:AC1730) -> 0 | Q53: =SUM('Mau A1'!AD1691:AD1730) -> 0 | R53: =SUM('Mau A1'!AF1691:AF1730) -> 0 | S53: =SUM('Mau A1'!AE1691:AE1730) -> 0 | T53: =ROUND(IF(OR((O53+P53+Q53)-S53<=0,R53-F53<0),"0",IF(AND(0<O53<200,0<(O53-S53)<200,P53>=0,Q53>=0),O53-S53,IF(AND(R53>0,R53>200,F53>=0,(R53-S53)>200),"200",IF(OR(AND(P53<0,Q53=0,R53-S53<200),AND(P53=0,Q53<0,F53>0,R53-S53<200),AND(P53<0,Q53<0,F53>0,R53-S53<=200)),R53-S53-F53,R53-S53-F53-P53-Q53)))),1) -> 0 | U53: =ROUND(IF(AND(R53>0,T53=200),R53-S53-T53,IF(AND(P53>0,Q53>0,O53<=0,T53=0),R53-S53+P53,IF(AND(R53>0,P53>0,T53=200),R53-S53-T53+P53,IF(AND(R53>0,T53<200,OR(P53>0,F53>0)),R53-S53-T53,)))),1) -> 0 | V53: =ROUND(IF(SUM(O53:Q53)-S53<0,SUM(O53:Q53)-S53,),1) -> 0
A54: 44 | B54: =IF('Mau A1'!B1731="","",'Mau A1'!B1731) | C54: =IF('Mau A1'!C1731="","",'Mau A1'!C1731) | D54: =SUM('Mau A1'!M1731:M1770) -> 0 | E54: =SUM('Mau A1'!N1731:N1770) -> 0 | F54: =SUM('Mau A1'!O1731:O1770) -> 0 | G54: =SUM('Mau A1'!P1731:P1770) -> 0 | H54: =SUM('Mau A1'!Q1731:Q1770) -> 0 | I54: =SUM('Mau A1'!R1731:R1770) -> 0 | J54: =SUM('Mau A1'!S1731:S1770) -> 0 | K54: =SUM('Mau A1'!U1731:U1770) -> 0 | L54: =SUM('Mau A1'!W1731:W1770) -> 0 | M54: =SUM('Mau A1'!Y1731:Y1770) -> 0 | N54: =SUM('Mau A1'!AA1731:AA1770) -> 0 | O54: =SUM('Mau A1'!AB1731:AB1770) -> 0 | P54: =SUM('Mau A1'!AC1731:AC1770) -> 0 | Q54: =SUM('Mau A1'!AD1731:AD1770) -> 0 | R54: =SUM('Mau A1'!AF1731:AF1770) -> 0 | S54: =SUM('Mau A1'!AE1731:AE1770) -> 0 | T54: =ROUND(IF(OR((O54+P54+Q54)-S54<=0,R54-F54<0),"0",IF(AND(0<O54<200,0<(O54-S54)<200,P54>=0,Q54>=0),O54-S54,IF(AND(R54>0,R54>200,F54>=0,(R54-S54)>200),"200",IF(OR(AND(P54<0,Q54=0,R54-S54<200),AND(P54=0,Q54<0,F54>0,R54-S54<200),AND(P54<0,Q54<0,F54>0,R54-S54<=200)),R54-S54-F54,R54-S54-F54-P54-Q54)))),1) -> 0 | U54: =ROUND(IF(AND(R54>0,T54=200),R54-S54-T54,IF(AND(P54>0,Q54>0,O54<=0,T54=0),R54-S54+P54,IF(AND(R54>0,P54>0,T54=200),R54-S54-T54+P54,IF(AND(R54>0,T54<200,OR(P54>0,F54>0)),R54-S54-T54,)))),1) -> 0 | V54: =ROUND(IF(SUM(O54:Q54)-S54<0,SUM(O54:Q54)-S54,),1) -> 0
A55: 45 | B55: =IF('Mau A1'!B1771="","",'Mau A1'!B1771) | C55: =IF('Mau A1'!C1771="","",'Mau A1'!C1771) | D55: =SUM('Mau A1'!M1771:M1810) -> 0 | E55: =SUM('Mau A1'!N1771:N1810) -> 0 | F55: =SUM('Mau A1'!O1771:O1810) -> 0 | G55: =SUM('Mau A1'!P1771:P1810) -> 0 | H55: =SUM('Mau A1'!Q1771:Q1810) -> 0 | I55: =SUM('Mau A1'!R1771:R1810) -> 0 | J55: =SUM('Mau A1'!S1771:S1810) -> 0 | K55: =SUM('Mau A1'!U1771:U1810) -> 0 | L55: =SUM('Mau A1'!W1771:W1810) -> 0 | M55: =SUM('Mau A1'!Y1771:Y1810) -> 0 | N55: =SUM('Mau A1'!AA1771:AA1810) -> 0 | O55: =SUM('Mau A1'!AB1771:AB1810) -> 0 | P55: =SUM('Mau A1'!AC1771:AC1810) -> 0 | Q55: =SUM('Mau A1'!AD1771:AD1810) -> 0 | R55: =SUM('Mau A1'!AF1771:AF1810) -> 0 | S55: =SUM('Mau A1'!AE1771:AE1810) -> 0 | T55: =ROUND(IF(OR((O55+P55+Q55)-S55<=0,R55-F55<0),"0",IF(AND(0<O55<200,0<(O55-S55)<200,P55>=0,Q55>=0),O55-S55,IF(AND(R55>0,R55>200,F55>=0,(R55-S55)>200),"200",IF(OR(AND(P55<0,Q55=0,R55-S55<200),AND(P55=0,Q55<0,F55>0,R55-S55<200),AND(P55<0,Q55<0,F55>0,R55-S55<=200)),R55-S55-F55,R55-S55-F55-P55-Q55)))),1) -> 0 | U55: =ROUND(IF(AND(R55>0,T55=200),R55-S55-T55,IF(AND(P55>0,Q55>0,O55<=0,T55=0),R55-S55+P55,IF(AND(R55>0,P55>0,T55=200),R55-S55-T55+P55,IF(AND(R55>0,T55<200,OR(P55>0,F55>0)),R55-S55-T55,)))),1) -> 0 | V55: =ROUND(IF(SUM(O55:Q55)-S55<0,SUM(O55:Q55)-S55,),1) -> 0
A56: 46 | B56: =IF('Mau A1'!B1811="","",'Mau A1'!B1811) | C56: =IF('Mau A1'!C1811="","",'Mau A1'!C1811) | D56: =SUM('Mau A1'!M1811:M1850) -> 0 | E56: =SUM('Mau A1'!N1811:N1850) -> 0 | F56: =SUM('Mau A1'!O1811:O1850) -> 0 | G56: =SUM('Mau A1'!P1811:P1850) -> 0 | H56: =SUM('Mau A1'!Q1811:Q1850) -> 0 | I56: =SUM('Mau A1'!R1811:R1850) -> 0 | J56: =SUM('Mau A1'!S1811:S1850) -> 0 | K56: =SUM('Mau A1'!U1811:U1850) -> 0 | L56: =SUM('Mau A1'!W1811:W1850) -> 0 | M56: =SUM('Mau A1'!Y1811:Y1850) -> 0 | N56: =SUM('Mau A1'!AA1811:AA1850) -> 0 | O56: =SUM('Mau A1'!AB1811:AB1850) -> 0 | P56: =SUM('Mau A1'!AC1811:AC1850) -> 0 | Q56: =SUM('Mau A1'!AD1811:AD1850) -> 0 | R56: =SUM('Mau A1'!AF1811:AF1850) -> 0 | S56: =SUM('Mau A1'!AE1811:AE1850) -> 0 | T56: =ROUND(IF(OR((O56+P56+Q56)-S56<=0,R56-F56<0),"0",IF(AND(0<O56<200,0<(O56-S56)<200,P56>=0,Q56>=0),O56-S56,IF(AND(R56>0,R56>200,F56>=0,(R56-S56)>200),"200",IF(OR(AND(P56<0,Q56=0,R56-S56<200),AND(P56=0,Q56<0,F56>0,R56-S56<200),AND(P56<0,Q56<0,F56>0,R56-S56<=200)),R56-S56-F56,R56-S56-F56-P56-Q56)))),1) -> 0 | U56: =ROUND(IF(AND(R56>0,T56=200),R56-S56-T56,IF(AND(P56>0,Q56>0,O56<=0,T56=0),R56-S56+P56,IF(AND(R56>0,P56>0,T56=200),R56-S56-T56+P56,IF(AND(R56>0,T56<200,OR(P56>0,F56>0)),R56-S56-T56,)))),1) -> 0 | V56: =ROUND(IF(SUM(O56:Q56)-S56<0,SUM(O56:Q56)-S56,),1) -> 0
A57: 47 | B57: =IF('Mau A1'!B1851="","",'Mau A1'!B1851) | C57: =IF('Mau A1'!C1851="","",'Mau A1'!C1851) | D57: =SUM('Mau A1'!M1851:M1890) -> 0 | E57: =SUM('Mau A1'!N1851:N1890) -> 0 | F57: =SUM('Mau A1'!O1851:O1890) -> 0 | G57: =SUM('Mau A1'!P1851:P1890) -> 0 | H57: =SUM('Mau A1'!Q1851:Q1890) -> 0 | I57: =SUM('Mau A1'!R1851:R1890) -> 0 | J57: =SUM('Mau A1'!S1851:S1890) -> 0 | K57: =SUM('Mau A1'!U1851:U1890) -> 0 | L57: =SUM('Mau A1'!W1851:W1890) -> 0 | M57: =SUM('Mau A1'!Y1851:Y1890) -> 0 | N57: =SUM('Mau A1'!AA1851:AA1890) -> 0 | O57: =SUM('Mau A1'!AB1851:AB1890) -> 0 | P57: =SUM('Mau A1'!AC1851:AC1890) -> 0 | Q57: =SUM('Mau A1'!AD1851:AD1890) -> 0 | R57: =SUM('Mau A1'!AF1851:AF1890) -> 0 | S57: =SUM('Mau A1'!AE1851:AE1890) -> 0 | T57: =ROUND(IF(OR((O57+P57+Q57)-S57<=0,R57-F57<0),"0",IF(AND(0<O57<200,0<(O57-S57)<200,P57>=0,Q57>=0),O57-S57,IF(AND(R57>0,R57>200,F57>=0,(R57-S57)>200),"200",IF(OR(AND(P57<0,Q57=0,R57-S57<200),AND(P57=0,Q57<0,F57>0,R57-S57<200),AND(P57<0,Q57<0,F57>0,R57-S57<=200)),R57-S57-F57,R57-S57-F57-P57-Q57)))),1) -> 0 | U57: =ROUND(IF(AND(R57>0,T57=200),R57-S57-T57,IF(AND(P57>0,Q57>0,O57<=0,T57=0),R57-S57+P57,IF(AND(R57>0,P57>0,T57=200),R57-S57-T57+P57,IF(AND(R57>0,T57<200,OR(P57>0,F57>0)),R57-S57-T57,)))),1) -> 0 | V57: =ROUND(IF(SUM(O57:Q57)-S57<0,SUM(O57:Q57)-S57,),1) -> 0
A58: 48 | B58: =IF('Mau A1'!B1891="","",'Mau A1'!B1891) | C58: =IF('Mau A1'!C1891="","",'Mau A1'!C1891) | D58: =SUM('Mau A1'!M1891:M1930) -> 0 | E58: =SUM('Mau A1'!N1891:N1930) -> 0 | F58: =SUM('Mau A1'!O1891:O1930) -> 0 | G58: =SUM('Mau A1'!P1891:P1930) -> 0 | H58: =SUM('Mau A1'!Q1891:Q1930) -> 0 | I58: =SUM('Mau A1'!R1891:R1930) -> 0 | J58: =SUM('Mau A1'!S1891:S1930) -> 0 | K58: =SUM('Mau A1'!U1891:U1930) -> 0 | L58: =SUM('Mau A1'!W1891:W1930) -> 0 | M58: =SUM('Mau A1'!Y1891:Y1930) -> 0 | N58: =SUM('Mau A1'!AA1891:AA1930) -> 0 | O58: =SUM('Mau A1'!AB1891:AB1930) -> 0 | P58: =SUM('Mau A1'!AC1891:AC1930) -> 0 | Q58: =SUM('Mau A1'!AD1891:AD1930) -> 0 | R58: =SUM('Mau A1'!AF1891:AF1930) -> 0 | S58: =SUM('Mau A1'!AE1891:AE1930) -> 0 | T58: =ROUND(IF(OR((O58+P58+Q58)-S58<=0,R58-F58<0),"0",IF(AND(0<O58<200,0<(O58-S58)<200,P58>=0,Q58>=0),O58-S58,IF(AND(R58>0,R58>200,F58>=0,(R58-S58)>200),"200",IF(OR(AND(P58<0,Q58=0,R58-S58<200),AND(P58=0,Q58<0,F58>0,R58-S58<200),AND(P58<0,Q58<0,F58>0,R58-S58<=200)),R58-S58-F58,R58-S58-F58-P58-Q58)))),1) -> 0 | U58: =ROUND(IF(AND(R58>0,T58=200),R58-S58-T58,IF(AND(P58>0,Q58>0,O58<=0,T58=0),R58-S58+P58,IF(AND(R58>0,P58>0,T58=200),R58-S58-T58+P58,IF(AND(R58>0,T58<200,OR(P58>0,F58>0)),R58-S58-T58,)))),1) -> 0 | V58: =ROUND(IF(SUM(O58:Q58)-S58<0,SUM(O58:Q58)-S58,),1) -> 0
A59: 49 | B59: =IF('Mau A1'!B1931="","",'Mau A1'!B1931) | C59: =IF('Mau A1'!C1931="","",'Mau A1'!C1931) | D59: =SUM('Mau A1'!M1931:M1970) -> 0 | E59: =SUM('Mau A1'!N1931:N1970) -> 0 | F59: =SUM('Mau A1'!O1931:O1970) -> 0 | G59: =SUM('Mau A1'!P1931:P1970) -> 0 | H59: =SUM('Mau A1'!Q1931:Q1970) -> 0 | I59: =SUM('Mau A1'!R1931:R1970) -> 0 | J59: =SUM('Mau A1'!S1931:S1970) -> 0 | K59: =SUM('Mau A1'!U1931:U1970) -> 0 | L59: =SUM('Mau A1'!W1931:W1970) -> 0 | M59: =SUM('Mau A1'!Y1931:Y1970) -> 0 | N59: =SUM('Mau A1'!AA1931:AA1970) -> 0 | O59: =SUM('Mau A1'!AB1931:AB1970) -> 0 | P59: =SUM('Mau A1'!AC1931:AC1970) -> 0 | Q59: =SUM('Mau A1'!AD1931:AD1970) -> 0 | R59: =SUM('Mau A1'!AF1931:AF1970) -> 0 | S59: =SUM('Mau A1'!AE1931:AE1970) -> 0 | T59: =ROUND(IF(OR((O59+P59+Q59)-S59<=0,R59-F59<0),"0",IF(AND(0<O59<200,0<(O59-S59)<200,P59>=0,Q59>=0),O59-S59,IF(AND(R59>0,R59>200,F59>=0,(R59-S59)>200),"200",IF(OR(AND(P59<0,Q59=0,R59-S59<200),AND(P59=0,Q59<0,F59>0,R59-S59<200),AND(P59<0,Q59<0,F59>0,R59-S59<=200)),R59-S59-F59,R59-S59-F59-P59-Q59)))),1) -> 0 | U59: =ROUND(IF(AND(R59>0,T59=200),R59-S59-T59,IF(AND(P59>0,Q59>0,O59<=0,T59=0),R59-S59+P59,IF(AND(R59>0,P59>0,T59=200),R59-S59-T59+P59,IF(AND(R59>0,T59<200,OR(P59>0,F59>0)),R59-S59-T59,)))),1) -> 0 | V59: =ROUND(IF(SUM(O59:Q59)-S59<0,SUM(O59:Q59)-S59,),1) -> 0
A60: 50 | B60: =IF('Mau A1'!B1971="","",'Mau A1'!B1971) | C60: =IF('Mau A1'!C1971="","",'Mau A1'!C1971) | D60: =SUM('Mau A1'!M1971:M2010) -> 0 | E60: =SUM('Mau A1'!N1971:N2010) -> 0 | F60: =SUM('Mau A1'!O1971:O2010) -> 0 | G60: =SUM('Mau A1'!P1971:P2010) -> 0 | H60: =SUM('Mau A1'!Q1971:Q2010) -> 0 | I60: =SUM('Mau A1'!R1971:R2010) -> 0 | J60: =SUM('Mau A1'!S1971:S2010) -> 0 | K60: =SUM('Mau A1'!U1971:U2010) -> 0 | L60: =SUM('Mau A1'!W1971:W2010) -> 0 | M60: =SUM('Mau A1'!Y1971:Y2010) -> 0 | N60: =SUM('Mau A1'!AA1971:AA2010) -> 0 | O60: =SUM('Mau A1'!AB1971:AB2010) -> 0 | P60: =SUM('Mau A1'!AC1971:AC2010) -> 0 | Q60: =SUM('Mau A1'!AD1971:AD2010) -> 0 | R60: =SUM('Mau A1'!AF1971:AF2010) -> 0 | S60: =SUM('Mau A1'!AE1971:AE2010) -> 0 | T60: =ROUND(IF((O60+P60+Q60)-S60<=0,"0",IF(AND(0<O60<200,0<(O60-S60)<200,P60>=0,Q60>=0),O60-S60,IF(AND(R60>0,R60>200,F60>=0,(R60-S60)>200),"200",IF(OR(AND(P60<0,Q60=0,R60-S60<200),AND(P60=0,Q60<0,F60>0,R60-S60<200),AND(P60<0,Q60<0,F60>0,R60-S60<=200)),R60-S60-F60,R60-S60-F60-P60-Q60)))),1) -> 0 | U60: =ROUND(IF(AND(R60>0,T60=200),R60-S60-T60,IF(AND(P60>0,Q60>0,O60<=0,T60=0),R60-S60+P60,IF(AND(R60>0,P60>0,T60=200),R60-S60-T60+P60,IF(AND(R60>0,T60<200,OR(P60>0,F60>0)),R60-S60-T60,)))),1) -> 0 | V60: =ROUND(IF(SUM(O60:Q60)-S60<0,SUM(O60:Q60)-S60,),1) -> 0 | W60: *
A61: TỔNG CỘNG | D61: =SUM(D11:D60) -> 15896.9 | E61: =SUM(E11:E60) -> 86.5 | F61: =SUM(F11:F60) -> 0 | G61: =SUM(G11:G60) -> 15983.4 | H61: =SUM(H11:H60) -> 286.8 | I61: =SUM(I11:I60) -> 10 | J61: =SUM(J11:J60) -> 0 | K61: =SUM(K11:K60) -> 4818.1 | ... V61: =SUM(V11:V60) -> -1356.8
B63: Lưu ý: Không cần nhập số liệu, vì tất cả các số liệu được cài sẵn công thức chuyển từ mẫu A1 sang
V64: Thành phố Hồ Chí Minh, ngày tháng năm 2021
A65: HIỆU TRƯỞNG | D65: TRƯỞNG P. TS-ĐT | H65: TRƯỞNG P. TTGD-CTSV | K65: TRƯỞNG P. QLKH-HTQT | N65: TRƯỞNG PHÒNG KT&ĐBCL | Q65: TRƯỞNG P. TC-HC-TH | U65: TRƯỞNG KHOA
H71: Lê Xuân Thiện | K71: Nguyễn Thành Nam | N71: Nguyễn Chí Nhân | Q71: Lâm Viết Dũng

Sheet LHP
A1: BÁO CÁO CHẤT LƯỢNG ĐÀO TẠO LỚP HỌC PHẦN
A3: STT | B3: Mã lớp học phần | C3: Tên môn học | D3: Tên lớp học | E3: HK | F3: Giảng viên | G3: SĨ SỐ
A4: 1 | B4: 071400110601 | C4: Toán 1 | D4: 20T4-CCK1 | E4: 1 | F4: Nguyễn Trọng (TG) | G4: 57
A5: 2 | B5: 071400109201 | C5: Ngữ văn 1 | D5: 20T4-CCK1 | E5: 1 | F5: Bùi Đình Trường (TG) | G5: 57
A6: 3 | B6: 071400106801 | C6: An toàn lao động | D6: 20T4-CCK1 | E6: 1 | F6: Trần Thị Hương | G6: 58
A7: 4 | B7: 071400198301 | C7: Giáo dục thể chất | D7: 20T4-CCK1 | E7: 1 | F7: Bùi Đức Phước | G7: 58
A8: 5 | B8: 071400198201 | C8: Pháp luật | D8: 20T4-CCK1 | E8: 1 | F8: Đặng Thị Nhật Minh | G8: 57
A9: 6 | B9: 071400198101 | C9: Giáo dục chính trị | D9: 20T4-CCK1 | E9: 1 | F9: Lê Thị Mai Hường | G9: 58
A10: 7 | B10: 071400197201 | C10: Kỹ năng mềm | D10: 20T4-CCK1 | E10: 1 | F10: Nguyễn Mai Chinh (TG) | G10: 85
A11: 8 | B11: SHCN(9+)01 | C11: Sinh Hoạt Chủ Nhiệm | D11: 18T7-ĐCN1 | E11: 1 | G11: 39
A12: 9 | B12: 071700161501 | C12: Hóa học 3 | D12: 18T7-ĐCN1 | E12: 1 | F12: Nguyễn Phương Hà | G12: 39
A13: 10 | B13: 071700161601 | C13: Vật lý 4 | D13: 18T7-ĐCN1 | E13: 1 | F13: Nguyễn Thanh Tú | G13: 39
A14: 11 | B14: 071700161701 | C14: Toán 5 | D14: 18T7-ĐCN1 | E14: 1 | F14: Nguyễn Thị Thủy | G14: 39
A15: 12 | B15: 071700167001 | C15: Điện tử cơ bản | D15: 18T7-ĐCN1 | E15: 1 | F15: Tạ Minh Cường | G15: 39
A16: 13 | B16: 071700167101 | C16: Thực hành điện tử cơ bản | D16: 18T7-ĐCN1 | E16: 1 | F16: Phạm Minh Nghĩa | G16: 39
A17: 14 | B17: 071700168501 | C17: Thực hành Trang bị điện | D17: 18T7-ĐCN1 | E17: 1 | F17: Quách Minh Thử | G17: 39
A18: 15 | B18: 071700168601 | C18: Cung cấp điện | D18: 18T7-ĐCN1 | E18: 1 | F18: Nguyễn Minh Đức Cường | G18: 39
A19: 16 | B19: 071700119701 | C19: Anh văn | D19: 18T7-ĐCN1 | E19: 1 | F19: Nguyễn Thị Thu Tâm | G19: 39
A20: 17 | B20: 071400110602 | C20: Toán 1 | D20: 20T4-QTD1 | E20: 1 | F20: Nguyễn Trọng (TG) | G20: 47
A21: 18 | B21: 071400109202 | C21: Ngữ văn 1 | D21: 20T4-QTD1 | E21: 1 | F21: Hà Thị Hường (TG) | G21: 46
A22: 19 | B22: 071400228602 | C22: Tâm lý kinh doanh | D22: 20T4-QTD1 | E22: 1 | F22: Nguyễn Mỹ Tiên | G22: 46
A23: 20 | B23: 071400209001 | C23: Quản trị học | D23: 20T4-QTD1 | E23: 1 | F23: Võ Thị Kim Thư | G23: 47
... A450: 447 | B450: 071400202110 | C450: Cơ sở dữ liệu | D450: 20T4-CMT2 | E450: 1 | F450: Nguyễn Văn Minh | G450: 38
A451: 448 | B451: 000000197201 | C451: Kỹ năng mềm | D451: CHUYENDIEM_1 | E451: 1 | G451: 20
A452: 449 | B452: 020100096202 | C452: Động cơ đốt trong | D452: 20C3-CNÔ2 | E452: 1 | F452: Triệu Phú Nguyên | G452: 40
A453: 450 | B453: 020100132302 | C453: Thực hành Động cơ cơ bản | D453: 20C3-CNÔ2 | E453: 1 | F453: Triệu Phú Nguyên | G453: 40
A454: 451 | B454: 020100096102 | C454: Kỹ thuật điện - điện tử | D454: 20C3-CNÔ2 | E454: 1 | F454: Trần Xuân Dung (TG) | G454: 40
A455: 452 | B455: 020100198702 | C455: Dung sai - Vẽ kỹ thuật | D455: 20C3-CNÔ2 | E455: 1 | F455: Vũ Quang Khải | G455: 40
A456: 453 | B456: 020100198602 | C456: Thực hành Hàn | D456: 20C3-CNÔ2 | E456: 1 | F456: Nguyễn Thành Long | G456: 40
A457: 454 | B457: 020100198502 | C457: Thực hành Nguội | D457: 20C3-CNÔ2 | E457: 1 | F457: Nguyễn Ngọc Quỳnh | G457: 40
A458: 455 | B458: 021100096209 | C458: Động cơ đốt trong | D458: 20C1-CNÔ9 | E458: 1 | F458: Nguyễn Thành Nhân (TG) | G458: 59
A459: 456 | B459: 021100132309 | C459: Thực hành Động cơ cơ bản | D459: 20C1-CNÔ9 | E459: 1 | F459: Phan Anh Tuấn Kiệt, Trần Duy Sư (TG) | G459: 59
A460: 457 | B460: 021100096109 | C460: Kỹ thuật điện - điện tử | D460: 20C1-CNÔ9 | E460: 1 | F460: Nguyễn Thanh Hùng | G460: 59
A461: 458 | B461: 021100198709 | C461: Dung sai - Vẽ kỹ thuật | D461: 20C1-CNÔ9 | E461: 1 | F461: Nguyễn Thanh Vũ | G461: 59
A462: 459 | B462: 021100198609 | C462: Thực hành Hàn | D462: 20C1-CNÔ9 | E462: 1 | F462: Nguyễn Thanh Vĩnh Phúc | G462: 59
A463: 460 | B463: 021100198509 | C463: Thực hành Nguội | D463: 20C1-CNÔ9 | E463: 1 | F463: Võ Minh Quang | G463: 59
... A813: 810 | B813: 071400207606 | C813: Hệ quản trị cơ sở dữ liệu | D813: 19T4-ANM1 | E813: 1 | F813: Lê Hồng Thái | G813: 20
A814: 811 | B814: 021100148001 | C814: Thực tập tốt nghiệp | D814: 17C1_HL1_TTTN-OTO | E814: 1 | G814: 1
A815: 812 | B815: 020400009101 | C815: Kỹ thuật số | D815: 20C2-ĐĐT1 | E815: 1 | F815: Mạnh Lê Hoàn | G815: 49
A816: 813 | B816: 020400022201 | C816: Vi xử lý | D816: 20C2-ĐĐT1 | E816: 1 | F816: Trần Giang Nam | G816: 47
