Workbook

Sheet Mau 2
A1: TRƯỜNG CAO ĐẲNG LÝ TỰ TRỌNG THÀNH PHỐ HỒ CHÍ MINH PHÒNG QUẢN LÝ KHOA HỌC - HỢP TÁC QUỐC TẾ | E1: CỘNG HÒA XÃ HỘI CHỦ NGHĨA VIỆT NAM Độc lập - Tự do - Hạnh phúc
G2: Mẫu 2
A3: BẢNG TỔNG HỢP CÔNG VIỆC ĐỘT XUẤT ĐÃ THỰC HIỆN THÁNG 4/2022 (Gửi file mềm ngày 25 hàng tháng)
A6: TT | B6: Nội dung công việc | C6: Số lượng người tham gia thực hiện | D6: Tên người tham gia thực hiện | E6: Thời gian thực hiện | F6: Kết quả thực hiện | G6: Ghi chú
A7: I. | B7: Công việc chung của Trường
A8: Nhiệm vụ 1 | B8: Thu thập thông tin và báo cáo cho tập đoàn Schneider Electric, Pháp phục vụ cho dự án Trung tâm Xuất sắc Việt Nam | C8: 2 | D8: Nguyễn Thành Nam Lê Tiến Dũng | E8: 4/2022 | F8: Hoàn thành
A9: Nhiệm vụ 2 | B9: Dịch thuật quyết định mở lớp đào tạo trình độ cao đẳng liên kết quốc tế khóa 2021(21C7) và gửi cho trường Cao đẳng City of Glasgow | C9: 3 | D9: Nguyễn Thành Nam Nguyễn Thị Thùy Tiên Lê Trần Thanh Nga | E9: 4/2022 | F9: Hoàn thành
A10: Nhiệm vụ 3 | B10: Thực hiện nộp hồ sơ tham gia Dự án Tặng sách – Read Nippon Project | C10: 3 | D10: Nguyễn Thành Nam Lê Tiến Dũng Nguyễn Thị Thùy Tiên | E10: 4/2022 | F10: Hoàn thành
A11: Nhiệm vụ 4 | B11: Hỗ trợ báo cáo Hoạt động giáo dục nghề nghiệp giai đoạn 2019 – 2021 (theo Công văn số 7780/SLĐTBXH-GDNN ngày 04 tháng 3 năm 2022) | C11: 2 | D11: Nguyễn Thành Nam Lê Tiến Dũng | E11: 4/2022 | F11: Hoàn thành
A12: Nhiệm vụ 5 | B12: Thực hiện Thư mời quý nhà khoa học, nghiên cứu và doanh nhân (tiếng Việt và tiếng Anh) | C12: 3 | D12: Nguyễn Thành Nam Lê Tiến Dũng Lê Trần Thanh Nga | E12: 4/2022 | F12: Hoàn thành
A13: II. | B13: Công việc chung của đơn vị
A14: Nhiệm vụ 1 | B14: Thực hiện soạn thảo bản ghi nhớ hợp tác với Liên đoàn quốc tế trao đổi đa văn hóa Á Châu, Hàn Quốc | C14: 2 | D14: Nguyễn Thành Nam Lê Tiến Dũng | E14: 4/2022 | F14: Hoàn thành
A15: Nhiệm vụ 2 | B15: Thực hiện soạn thảo bản ghi nhớ hợp tác với Đại học Đà Nẵng | C15: 2 | D15: Nguyễn Thành Nam Lê Tiến Dũng | E15: 4/2022 | F15: Hoàn thành
A16: Nhiệm vụ 3 | B16: Thực hiện công văn đăng ký 10 mô hình thiết bị đào tạo tự làm tham gia Hội thi thiết bị đào tạo tự làm cấp Thành phố cho Sở Lao động – Thương binh và Xã hội TP. HCM | C16: 2 | D16: Nguyễn Thành Nam Lê Tiến Dũng | E16: 4/2022 | F16: Hoàn thành
A17: Nhiệm vụ 4 | B17: Thông báo về việc tuyển chọn sinh viên tham gia chương trình hỗ trợ được mượn máy tính xách tay do Quỹ Dariu, Thụy Sĩ tài trợ | C17: 3 | D17: Nguyễn Thành Nam Lê Tiến Dũng Nguyễn Thị Thùy Tiên | E17: 4/2022 | F17: Hoàn thành
A18: Nhiệm vụ 5 | B18: Tham gia Hội thảo trực tuyến Ứng dụng CNTT vào việc giảng dạy ngoại ngữ trong phòng học thông minh kết hợp với đào tạo và khảo thí trực tuyến do Công ty cổ phần Giải pháp thiết bị Sao Mai tổ chức | C18: 1 | D18: Nguyễn Thành Nam | E18: 22/4/2022 | F18: Hoàn thành
D20: Thành phố Hồ Chí Minh, ngày 25 tháng 4 năm 2022
E21: TRƯỞNG ĐƠN VỊ
E25: Nguyễn Thành Nam

Sheet Mau 3
A1: TRƯỜNG CAO ĐẲNG LÝ TỰ TRỌNG | K1: CỘNG HÒA XÃ HỘI CHỦ NGHĨA VIỆT NAM
A2: THÀNH PHỐ HỒ CHÍ MINH | K2: Độc lập - Tự do - Hạnh phúc
A3: PHÒNG QUẢN LÝ KHOA HỌC - HỢP TÁC QUỐC TẾ
Q4: Mẫu 3
A5: THỐNG KÊ CHI TIẾT KHỐI LƯỢNG CÔNG VIỆC THỰC HIỆN THÁNG 4/2022
A7: TT | B7: Tên nội dung công việc | D7: Công việc chung của trường | K7: Công việc chung của đơn vị | Q7: Ghi chú
B8: Họ và tên | C8: Mã E-office | D8: Nhiệm vụ 1 | E8: Nhiệm vụ 2 | F8: Nhiệm vụ 3 | G8: Nhiệm vụ 4 | H8: Nhiệm vụ 5 | I8: Nhiệm vụ 6 | J8: Tổng cộng | K8: Nhiệm vụ 1 | L8: Nhiệm vụ 2 | M8: Nhiệm vụ 3 | N8: Nhiệm vụ 4 | O8: Nhiệm vụ 5 | P8: Tổng cộng
A9: I. Viên chức
A10: 01 | B10: Nguyễn Thành Nam | C10: 01005007 | D10: X | E10: X | F10: X | G10: X | H10: X | J10: =COUNTIF(D10:I10,"X") -> 5 | K10: X | L10: X | M10: X | N10: X | O10: X | P10: =COUNTIF(K10:O10,"X") -> 5
A11: II. Hợp đồng trường
A12: 01 | B12: Lê Tiến Dũng | C12: 01005003 | D12: X | F12: X | G12: X | H12: X | J12: =COUNTIF(D12:I12,"X") -> 4 | K12: X | L12: X | M12: X | N12: X | P12: =COUNTIF(K12:O12,"X") -> 4
A13: 02 | B13: Lê Trần Thanh Nga | C13: 01005011 | E13: X | H13: X | J13: =COUNTIF(D13:I13,"X") -> 2 | P13: =COUNTIF(K13:O13,"X") -> 0
K15: TPHCM, ngày 25 tháng 4 năm 2022
K16: TRƯỞNG ĐƠN VỊ
K22: Nguyễn Thành Nam

Sheet Mau 4 
A1: TRƯỜNG CAO ĐẲNG LÝ TỰ TRỌNG | G1: CỘNG HÒA XÃ HỘI CHỦ NGHĨA VIỆT NAM
A2: THÀNH PHỐ HỒ CHÍ MINH | G2: Độc lập - Tự do - Hạnh phúc
A3: PHÒNG QUẢN LÝ KHOA HỌC - HỢP TÁC QUỐC TẾ
L4: Mẫu 4
A5: DANH SÁCH XẾP LOẠI THI ĐUA THÁNG 4/2022
A7: TT | B7: Họ tên | C7: Mã E-Office | D7: Tiêu chuẩn đạt mức xếp loại thi đua tối đa trong năm (Ẩn khi in) | E7: Xếp loại thi đua tháng theo quy định (Không vượt quá mức thi đua tối đa) | I7: Số ngày/giờ vượt so với ngày công kế hoạch (đối với CB-NV) | J7: Số ngày nghỉ/ tiết nghỉ (đối với GV) | K7: Đơn vị đề nghị mức xếp loại thi đua
E8: Xếp loại | F8: Lý do | G8: Số lượng công việc chung của trường | H8: Số lượng công việc chung của đơn vị | K8: Xếp loại | L8: Lý do đề nghị
A9: I. Viên chức
A10: 01 | B10: Nguyễn Thành Nam | C10: 01005007 | D10: A1 | E10: A1 | G10: =IFERROR(VLOOKUP($C10,'Mau 3'!$C$10:$P$12,8,0),0) -> 5 | H10: =IFERROR(VLOOKUP($C10,'Mau 3'!$C$10:$P$12,14,0),0) -> 5 | I10: 3
A12: II. Hợp đồng trường
A13: 01 | B13: Lê Tiến Dũng | C13: 01005003 | D13: A2 | E13: A2 | G13: =IFERROR(VLOOKUP($C13,'Mau 3'!$C$10:$P$13,8,0),0) -> 4 | H13: =IFERROR(VLOOKUP($C13,'Mau 3'!$C$10:$P$13,14,0),0) -> 4
A14: 02 | B14: Lê Trần Thanh Nga | C14: 01005011 | D14: A2 | E14: A4 | G14: =IFERROR(VLOOKUP($C14,'Mau 3'!$C$10:$P$13,8,0),0) -> 2 | H14: =IFERROR(VLOOKUP($C14,'Mau 3'!$C$10:$P$13,14,0),0) -> 0
B16: Kết quả xếp loại | G16: Viên chức | I16: Hợp đồng trường
B17: A1 | G17: =COUNTIF($E$10:$E$10,"A1") -> 1 | I17: =COUNTIF($E$13:$E$13,"A1") -> 0
B18: A2 | G18: =COUNTIF($E$10:$E$10,"A2") -> 0 | I18: =COUNTIF($E$13:$E$13,"A2") -> 1
B19: A3 | G19: =COUNTIF($E$10:$E$10,"A3") -> 0 | I19: =COUNTIF($E$13:$E$13,"A3") -> 0
B20: A4 | G20: =COUNTIF($E$10:$E$10,"A4") -> 0 | I20: =COUNTIF($E$14:$E$14,"A4") -> 1
B21: Tổng số nhân sự: | G21: =SUM(G17:G20) -> 1 | I21: =SUM(I17:I20) -> 2
G23: TPHCM, ngày 25 tháng 4 năm 2022
G24: TRƯỞNG ĐƠN VỊ
G29: Nguyễn Thành Nam
