Workbook
Name loai_3_name_name: 'TONG HOP'!$A$6

Sheet TONG HOP
A1: TRƯỜNG CAO ĐẲNG LÝ TỰ TRỌNG | G1: CỘNG HÒA XÃ HỘI CHỦ NGHĨA VIỆT NAM
A2: THÀNH PHỐ HỒ CHÍ MINH | G2: Độc lập - Tự do - Hạnh phúc
A3: KHOA XÂY DỰNG
A5: PHIẾU TỔNG HỢP ĐÁNH GIÁ, XẾP LOẠI
A6: CHUYÊN MÔN, NGHIỆP VỤ NHÀ GIÁO CỦA KHOA NĂM HỌC 2021-2022
A8: TT | B8: Họ và tên nhà giáo | C8: Cấp trình độ giảng dạy | F8: Nhiệm vụ giảng dạy | I8: Tự đánh giá, xếp loại của nhà giáo | K8: Đánh giá, xếp loại | M8: Ghi chú
K9: của Khoa
C10: Sơ cấp (x) | D10: Trung cấp (x) | E10: Cao đẳng (x) | F10: Dạy lý thuyết (x) | G10: Dạy thực hành (x) | H10: Dạy tích hợp (x) | I10: Điểm quy đổi | J10: Xếp loại | K10: Điểm quy đổi | L10: Xếp loại
A11: 1 | B11: Phạm Quang Vũ | D11: X | E11: X | F11: X | G11: X | H11: X | I11: ='P.Q.VŨ'!C80 -> 0.88636364 | J11: ='P.Q.VŨ'!C81 -> A | K11: ='P.Q.VŨ'!G80 -> 0.88636364 | L11: ='P.Q.VŨ'!G81 -> A
A12: 2 | B12: Trình Minh Phong | D12: X | E12: X | F12: X | G12: X | H12: X | I12: ='T.M.PHONG'!C80 -> 0.81818182 | J12: ='T.M.PHONG'!C81 -> A | K12: ='T.M.PHONG'!G80 -> 0.81818182 | L12: ='T.M.PHONG'!G81 -> A
A13: 3 | B13: Trần Ngọc Tuấn | E13: X | F13: X | G13: X | H13: X | I13: ='T. N. TUAN'!C80 -> 0.81818182 | J13: ='T. N. TUAN'!C81 -> KĐ | K13: ='T. N. TUAN'!G80 -> 0.81818182 | L13: ='T. N. TUAN'!G81 -> KĐ
H15: Thành phố Hồ Chí Minh, ngày 16 tháng 05 năm 2022
H16: PHÓ TRƯỞNG KHOA
H21: Phạm Quang Vũ

Sheet P.Q.VŨ
A2: TRƯỜNG CAO ĐẲNG LÝ TỰ TRỌNG THÀNH PHỐ HỒ CHÍ MINH KHOA XÂY DỰNG | F2: CỘNG HÒA XÃ HỘI CHỦ NGHĨA VIỆT NAM Độc lập - Tự do - Hạnh phúc
A5: PHIẾU ĐÁNH GIÁ, XẾP LOẠI CHUYÊN MÔN, NGHIỆP VỤ CỦA NHÀ GIÁO Năm học 2021-2022
A7: Họ và tên giảng viên: | E7: Phạm Quang Vũ
A8: Khoa, tổ bộ môn: | E8: Khoa Xây dựng
A9: Cấp trình độ giảng dạy: | E9: Trung cấp - Cao đẳng
A10: Nhiệm vụ được phân công giảng dạy (Lý thuyết, thực hành, tích hợp): | F10: : Lý thuyết, thực hành
B12: Ghi chú: 1. Nhà giáo chỉ cho điểm vào cột: "Nhà giáo tự cho điểm" và ghi các minh chứng vào cột: Các minh chứng của Nhà giáo. Các ô tô màu Nhà giáo không nhập điểm hoặc không ghi các minh chứng vào các ô đó. 2. Các Trưởng đơn vị cho điểm Nhà giáo thuộc đơn vị quản lý vào các ô màu hồng (sau khi Hội đồng chuyên môn đơn vị tổ chức họp xem xét và chấm điểm).
A15: Các tiêu chí và tiêu chuẩn | B15: Điểm tối đa | C15: Nhà giáo tự đánh giá xếp loại | F15: Khoa đánh giá, xếp loại
C16: Điểm đánh giá đạt được (Nhà giáo tự cho điểm) | D16: Tỷ lệ % của điểm đánh giá đạt được so với điểm đánh giá tối đa của mỗi tiêu chuẩn | E16: Các minh chứng (Nhà giáo nhập minh chứng ở cột này; Mỗi tiêu chuẩn cho điểm phải có minh chứng) | F16: Điểm đánh giá đạt được (Dành cho Trưởng bộ môn) | G16: Điểm đánh giá đạt được (Dành cho Trưởng khoa) | H16: Tỷ lệ % của điểm đánh giá đạt được so với điểm đánh giá tối đa của mỗi tiêu chuẩn | I16: Các minh chứng (Khoa nhập minh chứng ở cột này; Mỗi tiêu chuẩn cho điểm phải có minh chứng)
A17: Tiêu chí 1 về Năng lực chuyên môn | B17: 20 | C17: =ROUND(C18+C25+C28,0) -> 18 | D17: =C17/$B$17 -> 0.9 | F17: =ROUND(F18+F25+F28,0) -> 0 | G17: =ROUND(G18+G25+G28,0) -> 18 | H17: =G17/$B$17 -> 0.9
A18: - Tiêu chuẩn 1: Trình độ chuyên môn | B18: 12 | C18: =IF(SUM(C19:C24)>12,"12",SUM(C19:C24)) -> 12 | D18: =C18/B18 -> 1 | F18: =IF(SUM(F19:F24)>12,"12",SUM(F19:F24)) -> 0 | G18: =IF(SUM(G19:G24)>12,"12",SUM(G19:G24)) -> 12 | H18: =G18/B18 -> 1
A19: + Có bằng tốt nghiệp đại học chuyên ngành hoặc đại học sư phạm chuyên ngành trở lên, phù hợp với ngành, nghề giảng dạy và có một trong các chứng chỉ kỹ năng nghề phù hợp với ngành, nghề giảng dạy để dạy thực hành trình độ cao đẳng sau: Chứng chỉ kỹ năng nghề quốc gia Bậc 3 hoặc chứng nhận bậc thợ 5/7, 4/6 trở lên hoặc bằng tốt nghiệp cao đẳng nghề hoặc chứng chỉ kỹ năng thực hành nghề trình độ cao đẳng nghề hoặc tương đương; | B19: 2 | C19: 2 | D19: =IF(C19/B19>1,"100%",C19/B19) -> 1 | E19: - Bằng tốt nghiệp Thạc sĩ - Chứng chỉ kỹ năng nghề quốc gia bậc 3 | G19: 2 | H19: =IF(G19/B19>1,"100%",G19/B19) -> 1 | I19: - Bằng tốt nghiệp Thạc sĩ - Chứng chỉ kỹ năng nghề quốc gia bậc 3
A20: + Nắm vững kiến thức ngành, nghề được phân công giảng dạy; | B20: 2 | C20: 2 | D20: =IF(C20/B20>1,"100%",C20/B20) -> 1 | E20: - Kết quả dự giờ, kiểm tra chuyên môn đạt từ loại khá trở lên - Tham gia hiệu chỉnh hoặc biên soạn các chương trình, giáo trình đào tạo khoa xây dựng | G20: 2 | H20: =IF(G20/B20>1,"100%",G20/B20) -> 1 | I20: - Kết quả dự giờ, kiểm tra chuyên môn đạt từ loại khá trở lên - Tham gia hiệu chỉnh hoặc biên soạn các chương trình, giáo trình đào tạo khoa xây dựng
A21: + Có kiến thức về ngành, nghề liên quan; | B21: 2 | C21: 2 | D21: =IF(C21/B21>1,"100%",C21/B21) -> 1 | E21: - Được phân công giảng dạy ít nhất 2 học phần/năm học - Có tham gia vào các công trình nghiên cứu khoa học hoặc chuyển giao công nghệ về các lĩnh vực đào tạo | G21: 2 | H21: =IF(G21/B21>1,"100%",G21/B21) -> 1 | I21: - Được phân công giảng dạy ít nhất 2 học phần/năm học - Có tham gia vào các công trình nghiên cứu khoa học hoặc chuyển giao công nghệ về các lĩnh vực đào tạo
A22: + Hiểu biết về thực tiễn nghề nghiệp, tiến bộ khoa học kỹ thuật, công nghệ mới và kỹ thuật an toàn, vệ sinh lao động của ngành, nghề được phân công giảng dạy | B22: 2 | C22: 2 | D22: =IF(C22/B22>1,"100%",C22/B22) -> 1 | E22: - Tham gia tham quan, học tập tại các đơn vị sản xuất, kinh doanh có ứng dụng công nghệ mới vào sản xuất… (có xác nhận) - Tham gia xây xây dựng chương trình, viết giáo trình tài liệu tham khảo. | G22: 2 | H22: =IF(G22/B22>1,"100%",G22/B22) -> 1 | I22: - Tham gia tham quan, học tập tại các đơn vị sản xuất, kinh doanh có ứng dụng công nghệ mới vào sản xuất… (có xác nhận) - Tham gia xây xây dựng chương trình, viết giáo trình tài liệu tham khảo.
A23: + Thực hiện thành thạo các kỹ năng của ngành, nghề được phân công giảng dạy | B23: 2 | C23: 2 | D23: =IF(C23/B23>1,"100%",C23/B23) -> 1 | E23: - Trực tiếp tham gia giảng dạy các môn Thực tập, Thực hành - Tham gia các khóa học, đào tại tại đơn vị, doanh nghiệp | G23: 2 | H23: =IF(G23/B23>1,"100%",G23/B23) -> 1 | I23: - Trực tiếp tham gia giảng dạy các môn Thực tập, Thực hành - Tham gia các khóa học, đào tại tại đơn vị, doanh nghiệp
A24: + Tổ chức thành thạo các hoạt động lao động sản xuất, dịch vụ ngành, nghề được phân công giảng dạy | B24: 2 | C24: 2 | D24: =IF(C24/B24>1,"100%",C24/B24) -> 1 | E24: - Tham gia giảng dạy tại các đơn vị, doanh nghiệp - Đề xuất các dịch vụ gia công sản xuất khác trong phạm vi trang thiết bị được giao quản lý và giảng dạy | G24: 2 | H24: =IF(G24/B24>1,"100%",G24/B24) -> 1 | I24: - Tham gia giảng dạy tại các đơn vị, doanh nghiệp - Đề xuất các dịch vụ gia công sản xuất khác trong phạm vi trang thiết bị được giao quản lý và giảng dạy
A25: - Tiêu chuẩn 2: Trình độ ngoại ngữ | B25: 4 | C25: =IF(SUM(C26:C27)>4,"4",SUM(C26:C27)) -> 2 | D25: =C25/B25 -> 0.5 | F25: =IF(SUM(F26:F27)>4,"4",SUM(F26:F27)) -> 0 | G25: =IF(SUM(G26:G27)>4,"4",SUM(G26:G27)) -> 2 | H25: =G25/B25 -> 0.5
A26: + Đối vối giáo viên, giảng viên không chuyên ngành ngoại ngữ: Có trình độ ngoại ngữ Bậc 2 (A2) theo quy định tại Thông tư số 01/2014/TT-BGDĐT ngày 24/01/2014 của Bộ Giáo dục và Đào tạo ban hành Khung năng lực ngoại ngữ 6 bậc dùng cho Việt Nam hoặc tương đương trở lên. + Đối với giáo viên, giảng viên chuyên ngành ngoại ngữ (giáo viên, giảng viên tổ Anh văn thuộc Khoa KHCB): Có trình độ ngoại ngữ Bậc 5 (C1) theo quy định tại Thông tư số 01/2014/TT-BGDĐT ngày 24/01/2014 của Bộ Giáo dục và Đào tạo ban hành Khung năng lực ngoại ngữ 6 bậc dùng cho Việt Nam hoặc tương đương trở lên. Và trình độ ngoại ngữ thứ hai phải đạt Bậc 2 (A2) theo quy định tại Thông tư số 01/2014/TT-BGDĐT. | B26: 2 | C26: 2 | D26: =IF(C26/B26>1,"100%",C26/B26) -> 1 | E26: - Bằng cử nhân ngoại ngữ. - Chứng chỉ ngoại ngữ bậc 2 khung năng lực ngoại ngữ (tương đương A2 Châu Âu) hoặc chứng chỉ IETS, chứng chỉ TOIEC, TOEFL có điểm tương đương. (Trước 21/5/2019 không phân biệt đơn vị cấp. Sau ngày 21/5/2019 chỉ công nhận chứng chỉ của các đơn vị được Bộ GDĐT cấp phép) - Trước 15/01/2020, Chứng chỉ Trình độ B theo Quyết định 177/QĐ-TCRT ngày 30/01/1993 và trình độ A2 theo Quyết định 66/2008/QĐ-BGDĐT ngày 02/12/2008 tương đương bậc 2 của Khung 6 bậc theo Thông tư 01/2014/TT-BGDĐT ngày 24/01/2014. Sau | G26: 2 | H26: =IF(G26/B26>1,"100%",G26/B26) -> 1 | I26: - Bằng cử nhân ngoại ngữ. - Chứng chỉ ngoại ngữ bậc 2 khung năng lực ngoại ngữ (tương đương A2 Châu Âu) hoặc chứng chỉ IETS, chứng chỉ TOIEC, TOEFL có điểm tương đương. (Trước 21/5/2019 không phân biệt đơn vị cấp. Sau ngày 21/5/2019 chỉ công nhận chứng chỉ của các đơn vị được Bộ GDĐT cấp phép) - Trước 15/01/2020, Chứng chỉ Trình độ B theo Quyết định 177/QĐ-TCRT ngày 30/01/1993 và trình độ A2 theo Quyết định 66/2008/QĐ-BGDĐT ngày 02/12/2008 tương đương bậc 2 của Khung 6 bậc theo Thông tư 01/2014/TT-BGDĐT ngày 24/01/2014. Sau
A27: + Đọc và hiểu tài liệu chuyên ngành phục vụ công tác giảng dạy; mô tả được một số công việc cơ bản của ngành, nghề được phân công giảng dạy. | B27: 2 | D27: =IF(C27/B27>1,"100%",C27/B27) -> 0 | H27: =IF(G27/B27>1,"100%",G27/B27) -> 0
A28: - Tiêu chuẩn 3: Trình độ tin học | B28: 4 | C28: =IF(SUM(C29:C30)>4,"4",SUM(C29:C30)) -> 4 | D28: =C28/B28 -> 1 | F28: =IF(SUM(F29:F30)>4,"4",SUM(F29:F30)) -> 0 | G28: =IF(SUM(G29:G30)>4,"4",SUM(G29:G30)) -> 4 | H28: =G28/B28 -> 1
A29: + Có trình độ tin học đạt Chuẩn kỹ năng sử dụng công nghệ thông tin cơ bản theo quy định tại Thông tư số 03/2014/TT-BTTTT ngày 11/3/2014 của Bộ Thông tin và Truyền thông quy định Chuẩn kỹ năng sử dụng công nghệ thông tin hoặc tương đương trở lên. | B29: 2 | C29: 2 | D29: =IF(C29/B29>1,"100%",C29/B29) -> 1 | E29: - Chứng chỉ tin học cơ bản trở lên | G29: 2 | H29: =IF(G29/B29>1,"100%",G29/B29) -> 1 | I29: - Chứng chỉ tin học cơ bản trở lên
A30: + Sử dụng thành thạo phần mềm dạy học chuyên ngành để thiết kế bài giảng, tài liệu giảng dạy. | B30: 2 | C30: 2 | D30: =IF(C30/B30>1,"100%",C30/B30) -> 1 | E30: - Có ứng dụng CNTT vào giảng dạy - Tham gia giảng dạy ít nhất một môn học có ứng dụng phần mềm CNTT (trừ microsoft offfice như word, powerpoint) - Tham gia giảng dạy trực tuyến | G30: 2 | H30: =IF(G30/B30>1,"100%",G30/B30) -> 1 | I30: - Có ứng dụng CNTT vào giảng dạy - Tham gia giảng dạy ít nhất một môn học có ứng dụng phần mềm CNTT (trừ microsoft offfice như word, powerpoint) - Tham gia giảng dạy trực tuyến
A31: Tiêu chí 2 về Năng lực sư phạm | B31: 52 | C31: =ROUND(C32+C35+C42+C47+C50+C53+C56+C61+C64,0) -> 52 | D31: =C31/$B$31 -> 1 | F31: =ROUND(F32+F35+F42+F47+F50+F53+F56+F61+F64,0) -> 0 | G31: =ROUND(G32+G35+G42+G47+G50+G53+G56+G61+G64,0) -> 52 | H31: =G31/$B$31 -> 1
A32: - Tiêu chuẩn 1 về Trình độ nghiệp vụ sư phạm và thời gian tham gia giảng dạy | B32: 4 | C32: =IF(SUM(C33:C34)>4,"4",SUM(C33:C34)) -> 4 | D32: =C32/B32 -> 1 | F32: =IF(SUM(F33:F34)>4,"4",SUM(F33:F34)) -> 0 | G32: =IF(SUM(G33:G34)>4,"4",SUM(G33:G34)) -> 4 | H32: =G32/B32 -> 1
A33: + Có chứng chỉ sư phạm dạy nghề dạy trình độ trung cấp nghề, cao đẳng nghề hoặc chứng chỉ bồi dưỡng nghiệp vụ sư phạm cho giảng viên đại học, cao đẳng hoặc bằng tốt nghiệp đại học chuyên ngành sư phạm hoặc chứng chỉ nghiệp vụ sư phạm dạy trình độ cao đẳng hoặc tương đương. | B33: 2 | C33: 2 | D33: =IF(C33/B33>1,"100%",C33/B33) -> 1 | E33: - Chứng chỉ sư phạm bậc 2 (đối với GV chỉ dạy bậc Trung cấp) - Chứng chỉ sư phạm dạy nghề - Chứng chỉ nghiệp vụ sư phạm dạy trình độ cao đẳng, đại học | G33: 2 | H33: =IF(G33/B33>1,"100%",G33/B33) -> 1 | I33: - Chứng chỉ sư phạm bậc 2 (đối với GV chỉ dạy bậc Trung cấp) - Chứng chỉ sư phạm dạy nghề - Chứng chỉ nghiệp vụ sư phạm dạy trình độ cao đẳng, đại học
A34: + Có thời gian tham gia giảng dạy ít nhất 12 tháng. | B34: 2 | C34: 2 | D34: =IF(C34/B34>1,"100%",C34/B34) -> 1 | E34: - Tham gia giảng dạy liên tục tính đến ngày đánh giá | G34: 2 | H34: =IF(G34/B34>1,"100%",G34/B34) -> 1 | I34: - Tham gia giảng dạy liên tục tính đến ngày đánh giá
A35: - Tiêu chuẩn 2: Chuẩn bị hoạt động giảng dạy | B35: 12 | C35: =IF(SUM(C36:C41)>12,"12",SUM(C36:C41)) -> 12 | D35: =C35/B35 -> 1 | F35: =IF(SUM(F36:F41)>12,"12",SUM(F36:F41)) -> 0 | G35: =IF(SUM(G36:G41)>12,"12",SUM(G36:G41)) -> 12 | H35: =G35/B35 -> 1
A36: + Lập được kế hoạch giảng dạy môn học, mô-đun được phân công trên cơ sở chương trình, kế hoạch đào tạo của cả khóa học. | B36: 2 | C36: 2 | D36: =IF(C36/B36>1,"100%",C36/B36) -> 1 | E36: - Có tham gia xây dựng chương trình môn học - Có kế hoạch giảng dạy cho từng môn học | G36: 2 | H36: =IF(G36/B36>1,"100%",G36/B36) -> 1 | I36: - Có tham gia xây dựng chương trình môn học - Có kế hoạch giảng dạy cho từng môn học
A37: + Soạn giáo án theo quy định, thể hiện được các hoạt động dạy và học. | B37: 2 | C37: 2 | D37: =IF(C37/B37>1,"100%",C37/B37) -> 1 | E37: - Có giáo án cho các môn dạy được Hội đồng khoa, Tổ chuyên môn thông qua | G37: 2 | H37: =IF(G37/B37>1,"100%",G37/B37) -> 1 | I37: - Có giáo án cho các môn dạy được Hội đồng khoa, Tổ chuyên môn thông qua
A38: + Lựa chọn phương pháp dạy học phù hợp cho các bài học của chương trình môn học, mô-đun được phân công giảng dạy. | B38: 2 | C38: 2 | D38: =IF(C38/B38>1,"100%",C38/B38) -> 1 | E38: - Có giáo án, bài giảng được Hội đồng khoa, Tổ chuyên môn thông qua | G38: 2 | H38: =IF(G38/B38>1,"100%",G38/B38) -> 1 | I38: - Có giáo án, bài giảng được Hội đồng khoa, Tổ chuyên môn thông qua
A39: + Chuẩn bị đầy đủ các phương tiện dạy học, thiết bị, nguyên, nhiên, vật liệu thực hành cần thiết | B39: 2 | C39: 2 | D39: =IF(C39/B39>1,"100%",C39/B39) -> 1 | E39: - Sử dụng đúng, hiệu quả các phương tiện, thiết bị dạy học… theo giáo án đã được duyệt | G39: 2 | H39: =IF(G39/B39>1,"100%",G39/B39) -> 1 | I39: - Sử dụng đúng, hiệu quả các phương tiện, thiết bị dạy học… theo giáo án đã được duyệt
A40: + Tự làm các thiết bị dạy học đơn giản để phục vụ giảng dạy | B40: 2 | C40: 2 | D40: =IF(C40/B40>1,"100%",C40/B40) -> 1 | E40: - Có các sản phẩm, mô hình tự làm hoặc tự thiết kế phục vụ giảng dạy (được Tổ, Hội đồng Khoa xác nhận) | G40: 2 | H40: =IF(G40/B40>1,"100%",G40/B40) -> 1 | I40: - Có các sản phẩm, mô hình tự làm hoặc tự thiết kế phục vụ giảng dạy (được Tổ, Hội đồng Khoa xác nhận)
A41: + Chủ trì hoặc tham gia thiết kế và bố trí trang thiết bị dạy học của phòng học chuyên môn phù hợp với chương trình của ngành, nghề được phân công giảng dạy. | B41: 2 | C41: 2 | D41: =IF(C41/B41>1,"100%",C41/B41) -> 1 | E41: - Quản lý Phòng thực tập, thực hành - Có tham gia thiết kế mô hình, sản phẩm, thiết bị dạy học phục vụ chung trong đơn vị (được Tổ, Hội đồng Khoa xác nhận) | G41: 2 | H41: =IF(G41/B41>1,"100%",G41/B41) -> 1 | I41: - Quản lý Phòng thực tập, thực hành - Có tham gia thiết kế mô hình, sản phẩm, thiết bị dạy học phục vụ chung trong đơn vị (được Tổ, Hội đồng Khoa xác nhận)
A42: - Tiêu chuẩn 3: Thực hiện hoạt động giảng dạy | B42: 8 | C42: =IF(SUM(C43:C46)>8,"8",SUM(C43:C46)) -> 8 | D42: =C42/B42 -> 1 | F42: =IF(SUM(F43:F46)>8,"8",SUM(F43:F46)) -> 0 | G42: =IF(SUM(G43:G46)>8,"8",SUM(G43:G46)) -> 8 | H42: =G42/B42 -> 1
A43: + Tổ chức dạy học phù hợp với ngành, nghề đào tạo và với từng đối tượng người học; thực hiện đầy đủ kế hoạch giảng dạy, đúng chương trình, nội dung. | B43: 2 | C43: 2 | D43: =IF(C43/B43>1,"100%",C43/B43) -> 1 | E43: - Có kế hoạch giảng dạy, giáo án cho từng môn học và được Hội đồng Khoa, Tổ chuyên môn đánh giá thông qua; | G43: 2 | H43: =IF(G43/B43>1,"100",G43/B43) -> 1 | I43: - Có kế hoạch giảng dạy, giáo án cho từng môn học và được Hội đồng Khoa, Tổ chuyên môn đánh giá thông qua;
A44: + Thực hiện các giờ dạy lý thuyết, thực hành, tích hợp theo quy định | B44: 2 | C44: 2 | D44: =IF(C44/B44>1,"100%",C44/B44) -> 1 | E44: - Thực hiện giảng dạy đúng, đủ theo lịch giảng dạy đã được duyệt (trừ các trường hợp được duyệt nghỉ và bù đúng theo quy định) | G44: 2 | H44: =IF(G44/B44>1,"100",G44/B44) -> 1 | I44: - Thực hiện giảng dạy đúng, đủ theo lịch giảng dạy đã được duyệt (trừ các trường hợp được duyệt nghỉ và bù đúng theo quy định)
A45: + Vận dụng, kết hợp các phương pháp dạy học để phát huy tính tích cực, sáng tạo, phát triển năng lực tự học của người học | B45: 2 | C45: 2 | D45: =IF(C45/B45>1,"100%",C45/B45) -> 1 | E45: - Kế hoạch giảng dạy, giáo án, bài giảng thể hiện rõ các phương pháp dạy tích cực phát triển năng lực tự học của HSSV (được Tổ chuyên môn xác nhận) | G45: 2 | H45: =IF(G45/B45>1,"100",G45/B45) -> 1 | I45: - Kế hoạch giảng dạy, giáo án, bài giảng thể hiện rõ các phương pháp dạy tích cực phát triển năng lực tự học của HSSV (được Tổ chuyên môn xác nhận)
A46: + Sử dụng thành thạo các phương tiện, thiết bị dạy học để nâng cao hiệu quả giảng dạy, đảm bảo chất lượng giáo dục nghề nghiệp | B46: 2 | C46: 2 | D46: =IF(C46/B46>1,"100%",C46/B46) -> 1 | E46: - GV làm chủ được phòng, lớp học. Sử dụng thành thạo các phương tiện hỗ trợ dạy học. | G46: 2 | H46: =IF(G46/B46>1,"100",G46/B46) -> 1 | I46: - GV làm chủ được phòng, lớp học. Sử dụng thành thạo các phương tiện hỗ trợ dạy học.
A47: - Tiêu chuẩn 4: Kiểm tra, đánh giá kết quả học tập của người học | B47: 4 | C47: =IF(SUM(C48:C49)>4,"4",SUM(C48:C49)) -> 4 | D47: =C47/B47 -> 1 | F47: =IF(SUM(F48:F49)>4,"4",SUM(F48:F49)) -> 0 | G47: =IF(SUM(G48:G49)>4,"4",SUM(G48:G49)) -> 4 | H47: =G47/B47 -> 1
...

Sheet T.M.PHONG
A2: TRƯỜNG CAO ĐẲNG LÝ TỰ TRỌNG TP HỒ CHÍ MINH KHOA XÂY DỰNG | F2: CỘNG HÒA XÃ HỘI CHỦ NGHĨA VIỆT NAM Độc lập - Tự do - Hạnh phúc
A5: PHIẾU ĐÁNH GIÁ, XẾP LOẠI CHUYÊN MÔN, NGHIỆP VỤ CỦA NHÀ GIÁO Năm học 2021-2022
A7: Họ và tên giảng viên: | E7: Trình Minh Phong
A8: Khoa, tổ bộ môn: | E8: Khoa Xây dựng
A9: Cấp trình độ giảng dạy: | E9: Trung cấp - Cao đẳng
A10: Nhiệm vụ được phân công giảng dạy (Lý thuyết, thực hành, tích hợp): | F10: : Lý thuyết, thực hành
A12: Ghi chú: 1. Nhà giáo chỉ cho điểm vào cột: "Nhà giáo tự cho điểm" và ghi các minh chứng vào cột: Các minh chứng của Nhà giáo. Các ô tô màu Nhà giáo không nhập điểm hoặc không ghi các minh chứng vào các ô đó. 2. Các Trưởng đơn vị cho điểm Nhà giáo thuộc đơn vị quản lý vào các ô màu hồng (sau khi Hội đồng chuyên môn đơn vị tổ chức họp xem xét và chấm điểm). | J12: X X X X
A15: Các tiêu chí và tiêu chuẩn | B15: Điểm tối đa | C15: Nhà giáo tự đánh giá xếp loại | F15: Khoa đánh giá, xếp loại
C16: Điểm đánh giá đạt được (Nhà giáo tự cho điểm) | D16: Tỷ lệ % của điểm đánh giá đạt được so với điểm đánh giá tối đa của mỗi tiêu chuẩn | E16: Các minh chứng (Nhà giáo nhập minh chứng ở cột này; Mỗi tiêu chuẩn cho điểm phải có minh chứng) | F16: Điểm đánh giá đạt được (Dành cho Trưởng bộ môn) | G16: Điểm đánh giá đạt được (Dành cho Trưởng khoa) | H16: Tỷ lệ % của điểm đánh giá đạt được so với điểm đánh giá tối đa của mỗi tiêu chuẩn | I16: Các minh chứng (Khoa nhập minh chứng ở cột này; Mỗi tiêu chuẩn cho điểm phải có minh chứng)
A17: Tiêu chí 1 về Năng lực chuyên môn | B17: 20 | C17: =ROUND(C18+C25+C28,0) -> 16 | D17: =C17/$B$17 -> 0.8 | F17: =ROUND(F18+F25+F28,0) -> 0 | G17: =ROUND(G18+G25+G28,0) -> 16 | H17: =G17/$B$17 -> 0.8
A18: - Tiêu chuẩn 1: Trình độ chuyên môn | B18: 12 | C18: =IF(SUM(C19:C24)>12,"12",SUM(C19:C24)) -> 9 | D18: =C18/B18 -> 0.75 | F18: =IF(SUM(F19:F24)>12,"12",SUM(F19:F24)) -> 0 | G18: =IF(SUM(G19:G24)>12,"12",SUM(G19:G24)) -> 9 | H18: =G18/B18 -> 0.75
A19: + Có bằng tốt nghiệp đại học chuyên ngành hoặc đại học sư phạm chuyên ngành trở lên, phù hợp với ngành, nghề giảng dạy và có một trong các chứng chỉ kỹ năng nghề phù hợp với ngành, nghề giảng dạy để dạy thực hành trình độ cao đẳng sau: Chứng chỉ kỹ năng nghề quốc gia Bậc 3 hoặc chứng nhận bậc thợ 5/7, 4/6 trở lên hoặc bằng tốt nghiệp cao đẳng nghề hoặc chứng chỉ kỹ năng thực hành nghề trình độ cao đẳng nghề hoặc tương đương; | B19: 2 | C19: 2 | D19: =IF(C19/B19>1,"100%",C19/B19) -> 1 | E19: - Có bằng Thạc sỹ chuyên ngành xây dựng, - Bằng kỹ năng nghề bậc 3 | G19: 2 | H19: =IF(G19/B19>1,"100%",G19/B19) -> 1 | I19: - Có bằng Thạc sỹ chuyên ngành xây dựng, - Bằng kỹ năng nghề bậc 3 | L19: =G19-C19 -> 0
A20: + Nắm vững kiến thức ngành, nghề được phân công giảng dạy; | B20: 2 | C20: 1 | D20: =IF(C20/B20>1,"100%",C20/B20) -> 0.5 | E20: - Tham gia hiệu chỉnh chương trình dạy học | G20: 1 | H20: =IF(G20/B20>1,"100%",G20/B20) -> 0.5 | I20: - Tham gia hiệu chỉnh chương trình dạy học | L20: =G20-C20 -> 0
A21: + Có kiến thức về ngành, nghề liên quan; | B21: 2 | C21: 2 | D21: =IF(C21/B21>1,"100%",C21/B21) -> 1 | E21: - Được phân công giảng dạy hơn 2 học phần mỗi năm - Có tham gia nghiên cứu khoa học | G21: 2 | H21: =IF(G21/B21>1,"100%",G21/B21) -> 1 | I21: - Được phân công giảng dạy hơn 2 học phần mỗi năm - Có tham gia nghiên cứu khoa học | L21: =G21-C21 -> 0
A22: + Hiểu biết về thực tiễn nghề nghiệp, tiến bộ khoa học kỹ thuật, công nghệ mới và kỹ thuật an toàn, vệ sinh lao động của ngành, nghề được phân công giảng dạy | B22: 2 | C22: 2 | D22: =IF(C22/B22>1,"100%",C22/B22) -> 1 | E22: - Đã có thời gian làm việc thực tế ở doanh nghiệp - Có tham gia soạn chương trình | G22: 2 | H22: =IF(G22/B22>1,"100%",G22/B22) -> 1 | I22: - Đã có thời gian làm việc thực tế ở doanh nghiệp - Có tham gia soạn chương trình | L22: =G22-C22 -> 0
A23: + Thực hiện thành thạo các kỹ năng của ngành, nghề được phân công giảng dạy | B23: 2 | C23: 2 | D23: =IF(C23/B23>1,"100%",C23/B23) -> 1 | G23: 2 | H23: =IF(G23/B23>1,"100%",G23/B23) -> 1 | I23: - Trực tiếp tham gia giảng dạy các môn Thực tập, Thực hành | L23: =G23-C23 -> 0
A24: + Tổ chức thành thạo các hoạt động lao động sản xuất, dịch vụ ngành, nghề được phân công giảng dạy | B24: 2 | D24: =IF(C24/B24>1,"100%",C24/B24) -> 0 | G24: 0 | H24: =IF(G24/B24>1,"100%",G24/B24) -> 0 | L24: =G24-C24 -> 0
A25: - Tiêu chuẩn 2: Trình độ ngoại ngữ | B25: 4 | C25: =IF(SUM(C26:C27)>4,"4",SUM(C26:C27)) -> 3 | D25: =C25/B25 -> 0.75 | F25: =IF(SUM(F26:F27)>4,"4",SUM(F26:F27)) -> 0 | G25: =IF(SUM(G26:G27)>4,"4",SUM(G26:G27)) -> 3 | H25: =G25/B25 -> 0.75 | L25: =G25-C25 -> 0
A26: + Đối vối giáo viên, giảng viên không chuyên ngành ngoại ngữ: Có trình độ ngoại ngữ Bậc 2 (A2) theo quy định tại Thông tư số 01/2014/TT-BGDĐT ngày 24/01/2014 của Bộ Giáo dục và Đào tạo ban hành Khung năng lực ngoại ngữ 6 bậc dùng cho Việt Nam hoặc tương đương trở lên. + Đối với giáo viên, giảng viên chuyên ngành ngoại ngữ (giáo viên, giảng viên tổ Anh văn thuộc Khoa KHCB): Có trình độ ngoại ngữ Bậc 5 (C1) theo quy định tại Thông tư số 01/2014/TT-BGDĐT ngày 24/01/2014 của Bộ Giáo dục và Đào tạo ban hành Khung năng lực ngoại ngữ 6 bậc dùng cho Việt Nam hoặc tương đương trở lên. Và trình độ ngoại ngữ thứ hai phải đạt Bậc 2 (A2) theo quy định tại Thông tư số 01/2014/TT-BGDĐT. | B26: 2 | C26: 2 | D26: =IF(C26/B26>1,"100%",C26/B26) -> 1 | E26: - Có chứng chỉ ngoại ngữ bậc 3 (B1) | G26: 2 | H26: =IF(G26/B26>1,"100%",G26/B26) -> 1 | I26: - Có chứng chỉ ngoại ngữ bậc 3 (B1) | L26: =G26-C26 -> 0
A27: + Đọc và hiểu tài liệu chuyên ngành phục vụ công tác giảng dạy; mô tả được một số công việc cơ bản của ngành, nghề được phân công giảng dạy. | B27: 2 | C27: 1 | D27: =IF(C27/B27>1,"100%",C27/B27) -> 0.5 | E27: - Đọc hiểu và dịch bài giảng từ tiếng Anh sang tiếng Việt | G27: 1 | H27: =IF(G27/B27>1,"100%",G27/B27) -> 0.5 | I27: - Đọc hiểu và dịch bài giảng từ tiếng Anh sang tiếng Việt | L27: =G27-C27 -> 0
A28: - Tiêu chuẩn 3: Trình độ tin học | B28: 4 | C28: =IF(SUM(C29:C30)>4,"4",SUM(C29:C30)) -> 4 | D28: =C28/B28 -> 1 | F28: =IF(SUM(F29:F30)>4,"4",SUM(F29:F30)) -> 0 | G28: =IF(SUM(G29:G30)>4,"4",SUM(G29:G30)) -> 4 | H28: =G28/B28 -> 1 | L28: =G28-C28 -> 0
A29: + Có trình độ tin học đạt Chuẩn kỹ năng sử dụng công nghệ thông tin cơ bản theo quy định tại Thông tư số 03/2014/TT-BTTTT ngày 11/3/2014 của Bộ Thông tin và Truyền thông quy định Chuẩn kỹ năng sử dụng công nghệ thông tin hoặc tương đương trở lên. | B29: 2 | C29: 2 | D29: =IF(C29/B29>1,"100%",C29/B29) -> 1 | E29: -Có trình độ tin học đạt chuẩn kỹ năng sử dụng công nghệ thông tin cơ bản | G29: 2 | H29: =IF(G29/B29>1,"100%",G29/B29) -> 1 | I29: -Có trình độ tin học đạt chuẩn kỹ năng sử dụng công nghệ thông tin cơ bản | L29: =G29-C29 -> 0
A30: + Sử dụng thành thạo phần mềm dạy học chuyên ngành để thiết kế bài giảng, tài liệu giảng dạy. | B30: 2 | C30: 2 | D30: =IF(C30/B30>1,"100%",C30/B30) -> 1 | E30: - Có ứng dụng CNTT vào trong giảng dạy (phần mềm Autocad) | G30: 2 | H30: =IF(G30/B30>1,"100%",G30/B30) -> 1 | I30: - Có ứng dụng CNTT vào trong giảng dạy (phần mềm Autocad) | L30: =G30-C30 -> 0
A31: Tiêu chí 2 về Năng lực sư phạm | B31: 52 | C31: =ROUND(C32+C35+C42+C47+C50+C53+C56+C61+C64,0) -> 45 | D31: =C31/$B$31 -> 0.86538462 | F31: =ROUND(F32+F35+F42+F47+F50+F53+F56+F61+F64,0) -> 0 | G31: =ROUND(G32+G35+G42+G47+G50+G53+G56+G61+G64,0) -> 45 | H31: =G31/$B$31 -> 0.86538462 | L31: =G31-C31 -> 0
A32: - Tiêu chuẩn 1 về Trình độ nghiệp vụ sư phạm và thời gian tham gia giảng dạy | B32: 4 | C32: =IF(SUM(C33:C34)>4,"4",SUM(C33:C34)) -> 4 | D32: =C32/B32 -> 1 | F32: =IF(SUM(F33:F34)>4,"4",SUM(F33:F34)) -> 0 | G32: =IF(SUM(G33:G34)>4,"4",SUM(G33:G34)) -> 4 | H32: =G32/B32 -> 1 | L32: =G32-C32 -> 0
A33: + Có chứng chỉ sư phạm dạy nghề dạy trình độ trung cấp nghề, cao đẳng nghề hoặc chứng chỉ bồi dưỡng nghiệp vụ sư phạm cho giảng viên đại học, cao đẳng hoặc bằng tốt nghiệp đại học chuyên ngành sư phạm hoặc chứng chỉ nghiệp vụ sư phạm dạy trình độ cao đẳng hoặc tương đương. | B33: 2 | C33: 2 | D33: =IF(C33/B33>1,"100%",C33/B33) -> 1 | E33: - Chứng chỉ nghiệp vụ sư phạm dạy trình độ cao đẳng, đại học | G33: 2 | H33: =IF(G33/B33>1,"100%",G33/B33) -> 1 | I33: - Chứng chỉ nghiệp vụ sư phạm dạy trình độ cao đẳng, đại học | L33: =G33-C33 -> 0
A34: + Có thời gian tham gia giảng dạy ít nhất 12 tháng. | B34: 2 | C34: 2 | D34: =IF(C34/B34>1,"100%",C34/B34) -> 1 | E34: - Tham gia giảng dạy hơn 12 tháng | G34: 2 | H34: =IF(G34/B34>1,"100%",G34/B34) -> 1 | I34: - Tham gia giảng dạy hơn 12 tháng | L34: =G34-C34 -> 0
A35: - Tiêu chuẩn 2: Chuẩn bị hoạt động giảng dạy | B35: 12 | C35: =IF(SUM(C36:C41)>12,"12",SUM(C36:C41)) -> 8 | D35: =C35/B35 -> 0.66666667 | F35: =IF(SUM(F36:F41)>12,"12",SUM(F36:F41)) -> 0 | G35: =IF(SUM(G36:G41)>12,"12",SUM(G36:G41)) -> 8 | H35: =G35/B35 -> 0.66666667 | L35: =G35-C35 -> 0
A36: + Lập được kế hoạch giảng dạy môn học, mô-đun được phân công trên cơ sở chương trình, kế hoạch đào tạo của cả khóa học. | B36: 2 | C36: 2 | D36: =IF(C36/B36>1,"100%",C36/B36) -> 1 | E36: - Có tham gia xây dựng chương trình môn học - Có kế hoạch giảng dạy cho từng môn học | G36: 2 | H36: =IF(G36/B36>1,"100%",G36/B36) -> 1 | I36: - Có tham gia xây dựng chương trình môn học - Có kế hoạch giảng dạy cho từng môn học | L36: =G36-C36 -> 0
A37: + Soạn giáo án theo quy định, thể hiện được các hoạt động dạy và học. | B37: 2 | C37: 2 | D37: =IF(C37/B37>1,"100%",C37/B37) -> 1 | E37: - Có giáo án cho các môn dạy được Hội đồng khoa, Tổ chuyên môn thông qua | G37: 2 | H37: =IF(G37/B37>1,"100%",G37/B37) -> 1 | I37: - Có giáo án cho các môn dạy được Hội đồng khoa, Tổ chuyên môn thông qua | L37: =G37-C37 -> 0
A38: + Lựa chọn phương pháp dạy học phù hợp cho các bài học của chương trình môn học, mô-đun được phân công giảng dạy. | B38: 2 | C38: 2 | D38: =IF(C38/B38>1,"100%",C38/B38) -> 1 | E38: - Có giáo án, bài giảng được Hội đồng khoa, Tổ chuyên môn thông qua | G38: 2 | H38: =IF(G38/B38>1,"100%",G38/B38) -> 1 | I38: - Có giáo án, bài giảng được Hội đồng khoa, Tổ chuyên môn thông qua | L38: =G38-C38 -> 0
A39: + Chuẩn bị đầy đủ các phương tiện dạy học, thiết bị, nguyên, nhiên, vật liệu thực hành cần thiết | B39: 2 | C39: 2 | D39: =IF(C39/B39>1,"100%",C39/B39) -> 1 | E39: - Sử dụng đúng, hiệu quả các phương tiện, thiết bị dạy học… theo giáo án đã được duyệt | G39: 2 | H39: =IF(G39/B39>1,"100%",G39/B39) -> 1 | I39: - Sử dụng đúng, hiệu quả các phương tiện, thiết bị dạy học… theo giáo án đã được duyệt | L39: =G39-C39 -> 0
A40: + Tự làm các thiết bị dạy học đơn giản để phục vụ giảng dạy | B40: 2 | C40: 0 | D40: =IF(C40/B40>1,"100%",C40/B40) -> 0 | G40: 0 | H40: =IF(G40/B40>1,"100%",G40/B40) -> 0 | L40: =G40-C40 -> 0
A41: + Chủ trì hoặc tham gia thiết kế và bố trí trang thiết bị dạy học của phòng học chuyên môn phù hợp với chương trình của ngành, nghề được phân công giảng dạy. | B41: 2 | C41: 0 | D41: =IF(C41/B41>1,"100%",C41/B41) -> 0 | G41: 0 | H41: =IF(G41/B41>1,"100%",G41/B41) -> 0 | L41: =G41-C41 -> 0
A42: - Tiêu chuẩn 3: Thực hiện hoạt động giảng dạy | B42: 8 | C42: =IF(SUM(C43:C46)>8,"8",SUM(C43:C46)) -> 8 | D42: =C42/B42 -> 1 | F42: =IF(SUM(F43:F46)>8,"8",SUM(F43:F46)) -> 0 | G42: =IF(SUM(G43:G46)>8,"8",SUM(G43:G46)) -> 8 | H42: =G42/B42 -> 1 | L42: =G42-C42 -> 0
A43: + Tổ chức dạy học phù hợp với ngành, nghề đào tạo và với từng đối tượng người học; thực hiện đầy đủ kế hoạch giảng dạy, đúng chương trình, nội dung. | B43: 2 | C43: 2 | D43: =IF(C43/B43>1,"100%",C43/B43) -> 1 | E43: - Có kế hoạch giảng dạy, giáo án cho từng môn học và được Hội đồng Khoa, Tổ chuyên môn đánh giá thông qua; | G43: 2 | H43: =IF(G43/B43>1,"100",G43/B43) -> 1 | I43: - Có kế hoạch giảng dạy, giáo án cho từng môn học và được Hội đồng Khoa, Tổ chuyên môn đánh giá thông qua; | L43: =G43-C43 -> 0
A44: + Thực hiện các giờ dạy lý thuyết, thực hành, tích hợp theo quy định | B44: 2 | C44: 2 | D44: =IF(C44/B44>1,"100%",C44/B44) -> 1 | E44: - Thực hiện giảng dạy đúng, đủ theo lịch giảng dạy đã được duyệt | G44: 2 | H44: =IF(G44/B44>1,"100",G44/B44) -> 1 | I44: - Thực hiện giảng dạy đúng, đủ theo lịch giảng dạy đã được duyệt | L44: =G44-C44 -> 0
A45: + Vận dụng, kết hợp các phương pháp dạy học để phát huy tính tích cực, sáng tạo, phát triển năng lực tự học của người học | B45: 2 | C45: 2 | D45: =IF(C45/B45>1,"100%",C45/B45) -> 1 | E45: - Kế hoạch giảng dạy, giáo án, bài giảng thể hiện rõ các phương pháp dạy tích cực phát triển năng lực tự học của HSSV | G45: 2 | H45: =IF(G45/B45>1,"100",G45/B45) -> 1 | I45: - Kế hoạch giảng dạy, giáo án, bài giảng thể hiện rõ các phương pháp dạy tích cực phát triển năng lực tự học của HSSV | L45: =G45-C45 -> 0
A46: + Sử dụng thành thạo các phương tiện, thiết bị dạy học để nâng cao hiệu quả giảng dạy, đảm bảo chất lượng giáo dục nghề nghiệp | B46: 2 | C46: 2 | D46: =IF(C46/B46>1,"100%",C46/B46) -> 1 | E46: - GV làm chủ được phòng, lớp học. Sử dụng thành thạo các phương tiện hỗ trợ dạy học. | G46: 2 | H46: =IF(G46/B46>1,"100",G46/B46) -> 1 | I46: - GV làm chủ được phòng, lớp học. Sử dụng thành thạo các phương tiện hỗ trợ dạy học. | L46: =G46-C46 -> 0
A47: - Tiêu chuẩn 4: Kiểm tra, đánh giá kết quả học tập của người học | B47: 4 | C47: =IF(SUM(C48:C49)>4,"4",SUM(C48:C49)) -> 4 | D47: =C47/B47 -> 1 | F47: =IF(SUM(F48:F49)>4,"4",SUM(F48:F49)) -> 0 | G47: =IF(SUM(G48:G49)>4,"4",SUM(G48:G49)) -> 4 | H47: =G47/B47 -> 1 | L47: =G47-C47 -> 0
...

Sheet T. N. TUAN
A2: TRƯỜNG CAO ĐẲNG LÝ TỰ TRỌNG THÀNH PHỐ HỒ CHÍ MINH KHOA XÂY DỰNG | F2: CỘNG HÒA XÃ HỘI CHỦ NGHĨA VIỆT NAM Độc lập - Tự do - Hạnh phúc
A5: PHIẾU ĐÁNH GIÁ, XẾP LOẠI CHUYÊN MÔN, NGHIỆP VỤ CỦA NHÀ GIÁO Năm học 2021-2022
A7: Họ và tên giảng viên: | E7: Trần Ngọc Tuấn
A8: Khoa, tổ bộ môn: | E8: Khoa Xây dựng
A9: Cấp trình độ giảng dạy: | E9: Cao đẳng
A10: Nhiệm vụ được phân công giảng dạy (Lý thuyết, thực hành, tích hợp): | F10: : Lý thuyết, tích hợp, thực hành
B12: Ghi chú: 1. Nhà giáo chỉ cho điểm vào cột: "Nhà giáo tự cho điểm" và ghi các minh chứng vào cột: Các minh chứng của Nhà giáo. Các ô tô màu Nhà giáo không nhập điểm hoặc không ghi các minh chứng vào các ô đó. 2. Các Trưởng đơn vị cho điểm Nhà giáo thuộc đơn vị quản lý vào các ô màu hồng (sau khi Hội đồng chuyên môn đơn vị tổ chức họp xem xét và chấm điểm).
A15: Các tiêu chí và tiêu chuẩn | B15: Điểm tối đa | C15: Nhà giáo tự đánh giá xếp loại | F15: Khoa đánh giá, xếp loại
C16: Điểm đánh giá đạt được (Nhà giáo tự cho điểm) | D16: Tỷ lệ % của điểm đánh giá đạt được so với điểm đánh giá tối đa của mỗi tiêu chuẩn | E16: Các minh chứng (Nhà giáo nhập minh chứng ở cột này; Mỗi tiêu chuẩn cho điểm phải có minh chứng) | F16: Điểm đánh giá đạt được (Dành cho Trưởng bộ môn) | G16: Điểm đánh giá đạt được (Dành cho Trưởng khoa) | H16: Tỷ lệ % của điểm đánh giá đạt được so với điểm đánh giá tối đa của mỗi tiêu chuẩn | I16: Các minh chứng (Khoa nhập minh chứng ở cột này; Mỗi tiêu chuẩn cho điểm phải có minh chứng)
A17: Tiêu chí 1 về Năng lực chuyên môn | B17: 20 | C17: =ROUND(C18+C25+C28,0) -> 15 | D17: =C17/$B$17 -> 0.75 | F17: =ROUND(F18+F25+F28,0) -> 0 | G17: =ROUND(G18+G25+G28,0) -> 15 | H17: =G17/$B$17 -> 0.75
A18: - Tiêu chuẩn 1: Trình độ chuyên môn | B18: 12 | C18: =IF(SUM(C19:C24)>12,"12",SUM(C19:C24)) -> 9 | D18: =C18/B18 -> 0.75 | F18: =IF(SUM(F19:F24)>12,"12",SUM(F19:F24)) -> 0 | G18: =IF(SUM(G19:G24)>12,"12",SUM(G19:G24)) -> 9 | H18: =G18/B18 -> 0.75
A19: + Có bằng tốt nghiệp đại học chuyên ngành hoặc đại học sư phạm chuyên ngành trở lên, phù hợp với ngành, nghề giảng dạy và có một trong các chứng chỉ kỹ năng nghề phù hợp với ngành, nghề giảng dạy để dạy thực hành trình độ cao đẳng sau: Chứng chỉ kỹ năng nghề quốc gia Bậc 3 hoặc chứng nhận bậc thợ 5/7, 4/6 trở lên hoặc bằng tốt nghiệp cao đẳng nghề hoặc chứng chỉ kỹ năng thực hành nghề trình độ cao đẳng nghề hoặc tương đương; | B19: 2 | C19: 1 | D19: =IF(C19/B19>1,"100%",C19/B19) -> 0.5 | E19: Bằng tốt nghiệp Đại học ngành Kinh tế Xây dựng (năm 2013)- Trường ĐH Giao thông vận tải TPHCM | G19: 1 | H19: =IF(G19/B19>1,"100%",G19/B19) -> 0.5 | I19: Bằng tốt nghiệp Đại học ngành Kinh tế Xây dựng (năm 2013)- Trường ĐH Giao thông vận tải TPHCM
A20: + Nắm vững kiến thức ngành, nghề được phân công giảng dạy; | B20: 2 | C20: 2 | D20: =IF(C20/B20>1,"100%",C20/B20) -> 1 | E20: + Tham gia góp ý, hiệu chỉnh chương trình đào tạo ngành Quản lý xây dựng; kỹ thuật xây dựng; + Tham gia biên soạn chương trình đào tạo ngành Mộc Xây dựng và trang trí nội thất; | G20: 2 | H20: =IF(G20/B20>1,"100%",G20/B20) -> 1 | I20: + Tham gia góp ý, hiệu chỉnh chương trình đào tạo ngành Quản lý xây dựng; kỹ thuật xây dựng; + Tham gia biên soạn chương trình đào tạo ngành Mộc Xây dựng và trang trí nội thất;
A21: + Có kiến thức về ngành, nghề liên quan; | B21: 2 | C21: 2 | D21: =IF(C21/B21>1,"100%",C21/B21) -> 1 | E21: - Được phân công giảng dạy 07 học phần; - Tham gia nghiên cứu, đóng góp tham luận Hội thảo cấp khoa, cấp trường về 50 năm thành lập trường; hội thảo năm 2022; - Có bài viết sáng kiến kinh nghiệm đạt loại khá. | G21: 2 | H21: =IF(G21/B21>1,"100%",G21/B21) -> 1 | I21: - Được phân công giảng dạy 07 học phần; - Tham gia nghiên cứu, đóng góp tham luận Hội thảo cấp khoa, cấp trường về 50 năm thành lập trường; hội thảo năm 2022; - Có bài viết sáng kiến kinh nghiệm đạt loại khá.
A22: + Hiểu biết về thực tiễn nghề nghiệp, tiến bộ khoa học kỹ thuật, công nghệ mới và kỹ thuật an toàn, vệ sinh lao động của ngành, nghề được phân công giảng dạy | B22: 2 | C22: 2 | D22: =IF(C22/B22>1,"100%",C22/B22) -> 1 | E22: + Thực tập tại doanh nghiệp, công trình xây dựng Công ty TNHH TV ĐT XD Phương Nam - ứng dụng công nghệ xây dựng nhà cao tầng; + Tham gia xây dựng chương trình đào tạo ngành Mộc Xây dựng và TT nội thất; | G22: 2 | H22: =IF(G22/B22>1,"100%",G22/B22) -> 1 | I22: + Thực tập tại doanh nghiệp, công trình xây dựng Công ty TNHH TV ĐT XD Phương Nam - ứng dụng công nghệ xây dựng nhà cao tầng; + Tham gia xây dựng chương trình đào tạo ngành Mộc Xây dựng và TT nội thất;
A23: + Thực hiện thành thạo các kỹ năng của ngành, nghề được phân công giảng dạy | B23: 2 | C23: 2 | D23: =IF(C23/B23>1,"100%",C23/B23) -> 1 | E23: + Tham gia hướng dẫn sinh viên khóa 18T4, 19C1-KXD1 thực tập tốt nghiệp; + Học tập nâng cao trình độ chuyên môn ngành quản lý xây dựng tại Trường ĐH Giao thông vận tải TPHCM. | G23: 2 | H23: =IF(G23/B23>1,"100%",G23/B23) -> 1 | I23: + Tham gia hướng dẫn sinh viên khóa 18T4, 19C1-KXD1 thực tập tốt nghiệp; + Học tập nâng cao trình độ chuyên môn ngành quản lý xây dựng tại Trường ĐH Giao thông vận tải TPHCM.
A24: + Tổ chức thành thạo các hoạt động lao động sản xuất, dịch vụ ngành, nghề được phân công giảng dạy | B24: 2 | D24: =IF(C24/B24>1,"100%",C24/B24) -> 0 | H24: =IF(G24/B24>1,"100%",G24/B24) -> 0
A25: - Tiêu chuẩn 2: Trình độ ngoại ngữ | B25: 4 | C25: =IF(SUM(C26:C27)>4,"4",SUM(C26:C27)) -> 2 | D25: =C25/B25 -> 0.5 | F25: =IF(SUM(F26:F27)>4,"4",SUM(F26:F27)) -> 0 | G25: =IF(SUM(G26:G27)>4,"4",SUM(G26:G27)) -> 2 | H25: =G25/B25 -> 0.5
A26: + Đối vối giáo viên, giảng viên không chuyên ngành ngoại ngữ: Có trình độ ngoại ngữ Bậc 2 (A2) theo quy định tại Thông tư số 01/2014/TT-BGDĐT ngày 24/01/2014 của Bộ Giáo dục và Đào tạo ban hành Khung năng lực ngoại ngữ 6 bậc dùng cho Việt Nam hoặc tương đương trở lên. + Đối với giáo viên, giảng viên chuyên ngành ngoại ngữ (giáo viên, giảng viên tổ Anh văn thuộc Khoa KHCB): Có trình độ ngoại ngữ Bậc 5 (C1) theo quy định tại Thông tư số 01/2014/TT-BGDĐT ngày 24/01/2014 của Bộ Giáo dục và Đào tạo ban hành Khung năng lực ngoại ngữ 6 bậc dùng cho Việt Nam hoặc tương đương trở lên. Và trình độ ngoại ngữ thứ hai phải đạt Bậc 2 (A2) theo quy định tại Thông tư số 01/2014/TT-BGDĐT. | B26: 2 | C26: 2 | D26: =IF(C26/B26>1,"100%",C26/B26) -> 1 | E26: Chứng chi trình độ B | G26: 2 | H26: =IF(G26/B26>1,"100%",G26/B26) -> 1 | I26: Chứng chi trình độ B
A27: + Đọc và hiểu tài liệu chuyên ngành phục vụ công tác giảng dạy; mô tả được một số công việc cơ bản của ngành, nghề được phân công giảng dạy. | B27: 2 | D27: =IF(C27/B27>1,"100%",C27/B27) -> 0 | H27: =IF(G27/B27>1,"100%",G27/B27) -> 0
A28: - Tiêu chuẩn 3: Trình độ tin học | B28: 4 | C28: =IF(SUM(C29:C30)>4,"4",SUM(C29:C30)) -> 4 | D28: =C28/B28 -> 1 | F28: =IF(SUM(F29:F30)>4,"4",SUM(F29:F30)) -> 0 | G28: =IF(SUM(G29:G30)>4,"4",SUM(G29:G30)) -> 4 | H28: =G28/B28 -> 1
A29: + Có trình độ tin học đạt Chuẩn kỹ năng sử dụng công nghệ thông tin cơ bản theo quy định tại Thông tư số 03/2014/TT-BTTTT ngày 11/3/2014 của Bộ Thông tin và Truyền thông quy định Chuẩn kỹ năng sử dụng công nghệ thông tin hoặc tương đương trở lên. | B29: 2 | C29: 2 | D29: =IF(C29/B29>1,"100%",C29/B29) -> 1 | E29: Chứng chi trình độ B | G29: 2 | H29: =IF(G29/B29>1,"100%",G29/B29) -> 1 | I29: Chứng chi trình độ B
A30: + Sử dụng thành thạo phần mềm dạy học chuyên ngành để thiết kế bài giảng, tài liệu giảng dạy. | B30: 2 | C30: 2 | D30: =IF(C30/B30>1,"100%",C30/B30) -> 1 | E30: + Ứng dụng CNTT vào giảng dạy; sử dụng cá phần mềm văn phòng; Auto CAD, dự toán vào giảng dạy; + Thực hiện giảng dạy trực tuyến | G30: 2 | H30: =IF(G30/B30>1,"100%",G30/B30) -> 1 | I30: + Ứng dụng CNTT vào giảng dạy; sử dụng cá phần mềm văn phòng; Auto CAD, dự toán vào giảng dạy; + Thực hiện giảng dạy trực tuyến
A31: Tiêu chí 2 về Năng lực sư phạm | B31: 52 | C31: =ROUND(C32+C35+C42+C47+C50+C53+C56+C61+C64,0) -> 47 | D31: =C31/$B$31 -> 0.90384615 | F31: =ROUND(F32+F35+F42+F47+F50+F53+F56+F61+F64,0) -> 0 | G31: =ROUND(G32+G35+G42+G47+G50+G53+G56+G61+G64,0) -> 47 | H31: =G31/$B$31 -> 0.90384615
A32: - Tiêu chuẩn 1 về Trình độ nghiệp vụ sư phạm và thời gian tham gia giảng dạy | B32: 4 | C32: =IF(SUM(C33:C34)>4,"4",SUM(C33:C34)) -> 2 | D32: =C32/B32 -> 0.5 | F32: =IF(SUM(F33:F34)>4,"4",SUM(F33:F34)) -> 0 | G32: =IF(SUM(G33:G34)>4,"4",SUM(G33:G34)) -> 2 | H32: =G32/B32 -> 0.5
A33: + Có chứng chỉ sư phạm dạy nghề dạy trình độ trung cấp nghề, cao đẳng nghề hoặc chứng chỉ bồi dưỡng nghiệp vụ sư phạm cho giảng viên đại học, cao đẳng hoặc bằng tốt nghiệp đại học chuyên ngành sư phạm hoặc chứng chỉ nghiệp vụ sư phạm dạy trình độ cao đẳng hoặc tương đương. | B33: 2 | C33: 2 | D33: =IF(C33/B33>1,"100%",C33/B33) -> 1 | E33: - Chứng chỉ nghiệp vụ sư phạm dạy trình độ cao đẳng, đại học | G33: 2 | H33: =IF(G33/B33>1,"100%",G33/B33) -> 1 | I33: - Chứng chỉ nghiệp vụ sư phạm dạy trình độ cao đẳng, đại học
A34: + Có thời gian tham gia giảng dạy ít nhất 12 tháng. | B34: 2 | D34: =IF(C34/B34>1,"100%",C34/B34) -> 0 | H34: =IF(G34/B34>1,"100%",G34/B34) -> 0
A35: - Tiêu chuẩn 2: Chuẩn bị hoạt động giảng dạy | B35: 12 | C35: =IF(SUM(C36:C41)>12,"12",SUM(C36:C41)) -> 9 | D35: =C35/B35 -> 0.75 | F35: =IF(SUM(F36:F41)>12,"12",SUM(F36:F41)) -> 0 | G35: =IF(SUM(G36:G41)>12,"12",SUM(G36:G41)) -> 9 | H35: =G35/B35 -> 0.75
A36: + Lập được kế hoạch giảng dạy môn học, mô-đun được phân công trên cơ sở chương trình, kế hoạch đào tạo của cả khóa học. | B36: 2 | C36: 2 | D36: =IF(C36/B36>1,"100%",C36/B36) -> 1 | E36: + Có tham gia xây dựng chương trình môn học + Có kế hoạch giảng dạy cho từng môn học | G36: 2 | H36: =IF(G36/B36>1,"100%",G36/B36) -> 1 | I36: + Có tham gia xây dựng chương trình môn học + Có kế hoạch giảng dạy cho từng môn học
A37: + Soạn giáo án theo quy định, thể hiện được các hoạt động dạy và học. | B37: 2 | C37: 2 | D37: =IF(C37/B37>1,"100%",C37/B37) -> 1 | E37: + Có giáo án cho các môn dạy được Hội đồng khoa, Tổ chuyên môn thông qua | G37: 2 | H37: =IF(G37/B37>1,"100%",G37/B37) -> 1 | I37: + Có giáo án cho các môn dạy được Hội đồng khoa, Tổ chuyên môn thông qua
A38: + Lựa chọn phương pháp dạy học phù hợp cho các bài học của chương trình môn học, mô-đun được phân công giảng dạy. | B38: 2 | C38: 2 | D38: =IF(C38/B38>1,"100%",C38/B38) -> 1 | E38: - Có giáo án, bài giảng được Hội đồng khoa, Tổ chuyên môn thông qua | G38: 2 | H38: =IF(G38/B38>1,"100%",G38/B38) -> 1 | I38: - Có giáo án, bài giảng được Hội đồng khoa, Tổ chuyên môn thông qua
A39: + Chuẩn bị đầy đủ các phương tiện dạy học, thiết bị, nguyên, nhiên, vật liệu thực hành cần thiết | B39: 2 | C39: 2 | D39: =IF(C39/B39>1,"100%",C39/B39) -> 1 | E39: - Sử dụng đúng, hiệu quả các phương tiện, thiết bị dạy học… theo giáo án đã được duyệt | G39: 2 | H39: =IF(G39/B39>1,"100%",G39/B39) -> 1 | I39: - Sử dụng đúng, hiệu quả các phương tiện, thiết bị dạy học… theo giáo án đã được duyệt
A40: + Tự làm các thiết bị dạy học đơn giản để phục vụ giảng dạy | B40: 2 | D40: =IF(C40/B40>1,"100%",C40/B40) -> 0 | G40: 1 | H40: =IF(G40/B40>1,"100%",G40/B40) -> 0.5
A41: + Chủ trì hoặc tham gia thiết kế và bố trí trang thiết bị dạy học của phòng học chuyên môn phù hợp với chương trình của ngành, nghề được phân công giảng dạy. | B41: 2 | C41: 1 | D41: =IF(C41/B41>1,"100%",C41/B41) -> 0.5 | E41: + Quản lý xưởng thực hành khoa | H41: =IF(G41/B41>1,"100%",G41/B41) -> 0 | I41: + Quản lý xưởng thực hành khoa
A42: - Tiêu chuẩn 3: Thực hiện hoạt động giảng dạy | B42: 8 | C42: =IF(SUM(C43:C46)>8,"8",SUM(C43:C46)) -> 8 | D42: =C42/B42 -> 1 | F42: =IF(SUM(F43:F46)>8,"8",SUM(F43:F46)) -> 0 | G42: =IF(SUM(G43:G46)>8,"8",SUM(G43:G46)) -> 8 | H42: =G42/B42 -> 1
A43: + Tổ chức dạy học phù hợp với ngành, nghề đào tạo và với từng đối tượng người học; thực hiện đầy đủ kế hoạch giảng dạy, đúng chương trình, nội dung. | B43: 2 | C43: 2 | D43: =IF(C43/B43>1,"100%",C43/B43) -> 1 | E43: - Có kế hoạch giảng dạy, giáo án cho từng môn học và được khoa đánh giá thông qua; | G43: 2 | H43: =IF(G43/B43>1,"100",G43/B43) -> 1 | I43: - Có kế hoạch giảng dạy, giáo án cho từng môn học và được khoa đánh giá thông qua;
A44: + Thực hiện các giờ dạy lý thuyết, thực hành, tích hợp theo quy định | B44: 2 | C44: 2 | D44: =IF(C44/B44>1,"100%",C44/B44) -> 1 | E44: - Thực hiện giảng dạy đúng, đủ theo lịch giảng dạy đã được duyệt | G44: 2 | H44: =IF(G44/B44>1,"100",G44/B44) -> 1 | I44: - Thực hiện giảng dạy đúng, đủ theo lịch giảng dạy đã được duyệt
A45: + Vận dụng, kết hợp các phương pháp dạy học để phát huy tính tích cực, sáng tạo, phát triển năng lực tự học của người học | B45: 2 | C45: 2 | D45: =IF(C45/B45>1,"100%",C45/B45) -> 1 | E45: - Kế hoạch giảng dạy, giáo án, bài giảng thể hiện rõ các phương pháp dạy tích cực phát triển năng lực tự học của HSSV | G45: 2 | H45: =IF(G45/B45>1,"100",G45/B45) -> 1 | I45: - Kế hoạch giảng dạy, giáo án, bài giảng thể hiện rõ các phương pháp dạy tích cực phát triển năng lực tự học của HSSV
A46: + Sử dụng thành thạo các phương tiện, thiết bị dạy học để nâng cao hiệu quả giảng dạy, đảm bảo chất lượng giáo dục nghề nghiệp | B46: 2 | C46: 2 | D46: =IF(C46/B46>1,"100%",C46/B46) -> 1 | E46: - GV làm chủ được phòng, lớp học. Sử dụng thành thạo các phương tiện hỗ trợ dạy học. | G46: 2 | H46: =IF(G46/B46>1,"100",G46/B46) -> 1 | I46: - GV làm chủ được phòng, lớp học. Sử dụng thành thạo các phương tiện hỗ trợ dạy học.
A47: - Tiêu chuẩn 4: Kiểm tra, đánh giá kết quả học tập của người học | B47: 4 | C47: =IF(SUM(C48:C49)>4,"4",SUM(C48:C49)) -> 4 | D47: =C47/B47 -> 1 | F47: =IF(SUM(F48:F49)>4,"4",SUM(F48:F49)) -> 0 | G47: =IF(SUM(G48:G49)>4,"4",SUM(G48:G49)) -> 4 | H47: =G47/B47 -> 1
...
