Workbook

Sheet Mau 1
A1: TRƯỜNG CAO ĐẲNG LÝ TỰ TRỌNG | E1: CỘNG HÒA XÃ HỘI CHỦ NGHĨA VIỆT NAM
A2: THÀNH PHỐ HỒ CHÍ MINH | E2: Độc lập - Tự do - Hạnh phúc
A3: PHÒNG KẾ HOẠCH - TÀI CHÍNH
G4: Mẫu 1
A5: Danh sách CB-GV-NV tham gia thực hiện bài viết sáng kiến, bài viết Hội thảo cấp trường, cấp đơn vị, giảng viên dạy giỏi, bài báo được đăng trên các tạp chí theo quy định, tham gia đề tài NCKH đã được nghiệm thu,... (Quy định số 1375/QyĐ-LTT-TĐ ngày 29/11/2021 của Trường)
A7: TT | B7: Họ tên | C7: Mã E-Office | D7: Điều kiện xếp loại thi đua A1 (Ghi rõ nội dung tiêu chuẩn: số Quyết định, thời gian, cơ quan ban hành,…) | E7: Điều kiện xếp loại thi đua A2 (Ghi rõ nội dung tiêu chuẩn: số Quyết định, thời gian, cơ quan ban hành,…) | F7: Điều kiện xếp loại thi đua A3 (Ghi rõ nội dung tiêu chuẩn: số Quyết định, thời gian, cơ quan ban hành,…) | G7: Ghi chú
A8: I. Viên chức
A9: 01
A10: 01 | B10: Nguyễn Kính | C10: 01002024 | D10: - Có bài sáng kiến kinh nghiệm NH 2020-2021, đạt loại xuất sắc (được công nhận có phạm vi ảnh hưởng cấp ngành năm học 2020-2021 theo QĐ số 1783/QĐ/SGDĐT-VP ngày 20/8/2021); - Năm 2021 có tham gia nhiều dự án cấp trường và cấp Sở (BTC Dự án ODA; Dự án Kone; Dự toán tài chính DA lên trường ĐH Lý Tự Trọng...) - Có thực hiện bài viết và được đăng trong Hội thảo Khoa học cấp trường năm 2021; - Thực hiện nhiều Báo cáo; giải trình theo yêu cầu của Sở Giáo dục, Sở Tài chính và Cục thuế TP; - Thực hiện hồ sơ dự toán tài chính trung hạn (2021-2025); - Năm 2021 hoàn thiện Đề án 151 của Chính phủ, đã được Sở Tài chính phê duyệt trình UBND TP
A11: 02 | B11: Nguyễn Thị Kim Dung | C11: 01003002 | E11: -Hoàn thành tốt và đúng thời gian nhiệm vụ được giao của đơn vị - Thực hiện đúng các qui định và nội quy làm việc của nhà trường - Thực hiện vượt ngày công kế hoạch - Tham gia sinh hoạt chi bộ 2 - Tham gia dự án lớp Cao đẳng nghề ô tô chuyển giao từ Đức - Hỗ trợ, hướng dẫn, kiểm tra hồ sơ thanh toán các đề tài NCKH cấp trường - Có bài sáng kiến kinh nghiệm NH 2020-2021, đạt loại tốt (được công nhận có phạm vi ảnh hưởng cấp ngành năm học 2020-2021 theo QĐ số 1783/QĐ/SGDĐT-VP ngày 20/8/2021); - Tiếp nhận, hoàn thiện hồ sơ nhận tài trợ từ các đơn vị, doanh nghiệp - Cung cấp số liệu, hồ sơ phục vụ kiểm toán năm 2021 - Xây dựng đề án sử dụng tài sản công
A12: 03 | B12: Hồng Mộng Tuyết Dung | C12: 01003009 | E12: - Hoàn thành tốt và đúng thời gian nhiệm vụ được giao của đơn vị; - Thực hiện đúng các qui định và nội quy làm việc của nhà trường -Thực hiện vượt ngày công kế hoạch; - Có bài sáng kiến kinh nghiệm NH 2020-2021, đạt loại tốt (được công nhận có phạm vi ảnh hưởng cấp ngành năm học 2020-2021 theo QĐ số 1783/QĐ/SGDĐT-VP ngày 20/8/2021); - Thực hiện kế hoạch mua sắm trang thiết bị và sửa chữa nhỏ năm 2022 - Tham gia dự án lớp Cao đẳng nghề ô tô chuyển giao từ Đức
A13: 04 | B13: Trần Thị Minh Thoa | C13: 01003005 | E13: -Hoàn thành tốt và đúng thời gian nhiệm vụ được giao của đơn vị - Thực hiện đúng các qui định và nội quy làm việc của nhà trường - Thực hiện vượt ngày công kế hoạch - Tham gia sinh hoạt, họp BCH Công đoàn - Tham gia thực hiện hồ sơ theo sự phân công trưởng phòng: các dự án của trường (Dự án tòa nhà Kone, dự án lớp Cao đẳng nghề ô tô chuyển giao từ Đức, ...) - Có bài sáng kiến kinh nghiệm NH 2020-2021, đạt loại tốt (được công nhận có phạm vi ảnh hưởng cấp ngành năm học 2020-2021 theo QĐ số 1783/QĐ/SGDĐT-VP ngày 20/8/2021); - Cung cấp số liệu, hồ sơ phục vụ kiểm toán năm 2021 - Thực hiện kế hoạch mua sắm trang thiết bị và sửa chữa nhỏ năm 2022 - Tham gia xây dựng đề án sử dụng tài sản công - Thực hiện hồ sơ dự toán năm 2023 - Thực hiện kiểm kê tài sản 2022
A14: 05 | B14: Võ Thị Lệ Trân | C14: 01023004 | E14: - Hoàn thành tốt và đúng thời gian nhiệm vụ được giao của đơn vị - Thực hiện đúng các qui định và nội quy làm việc của nhà trường - Thực hiện vượt ngày công kế hoạch - Tham gia sinh hoạt, họp BCH Công đoàn. - Có bài sáng kiến kinh nghiệm NH 2020-2021, đạt loại tốt (được công nhận có phạm vi ảnh hưởng cấp ngành năm học 2020-2021 theo QĐ số 1783/QĐ/SGDĐT-VP ngày 20/8/2021); - Cung cấp số liệu, hồ sơ phục vụ kiểm toán năm 2021 - Thực hiện kế hoạch mua sắm trang thiết bị và sửa chữa nhỏ 2022 - Tham gia xây dựng đề án sử dụng tài sản công
A15: 06 | B15: Nguyễn Thị Hồng Thắm | E15: - Hoàn thành tốt và đúng thời gian nhiệm vụ được giao của đơn vị - Thực hiện đúng các qui định và nội quy làm việc của nhà trường - Thực hiện vượt ngày công kế hoạch - Tham gia sinh hoạt, họp BCH Công đoàn - Tham gia dự án lớp Cao đẳng nghề ô tô chuyển giao từ Đức - Có bài sáng kiến kinh nghiệm NH 2019-2020, đạt loại tốt (được công nhận có phạm vi ảnh hưởng cấp ngành năm học 2019-2020 theo QĐ số 1720/QĐ/GDĐT-VP ngày 21/8/2020) - Cung cấp số liệu, hồ sơ phục vụ kiểm toán năm 2021 - Thực hiện kế hoạch mua sắm trang thiết bị và sửa chữa nhỏ 2021 - Tiếp nhận và hoàn thiện hồ sơ nhận tài trợ từ các đơn vị, doanh nghiệp -Tham gia xây dựng đề án sử dụng tài sản công
A16: II. Hợp đồng trường
A17: 01 | B17: Trần Thị Thảo Vân | C17: 01003008 | E17: -Hoàn thành tốt và đúng thời gian nhiệm vụ được giao của đơn vị - Thực hiện đúng các qui định và nội quy làm việc của nhà trường - Tham gia đầy đủ các buổi sinh hoạt, học tập của trường; - Tham gia dự án lớp Cao đẳng nghề ô tô chuyển giao từ Đức - Có bài sáng kiến kinh nghiệm NH 2020-2021, đạt loại tốt (được công nhận có phạm vi ảnh hưởng cấp ngành năm học 2020-2021 theo QĐ số 1783/QĐ/SGDĐT-VP ngày 20/8/2021); - Tiếp nhận và hoàn thiện hồ sơ nhận tài trợ từ các đơn vị, doanh nghiệp - Cung cấp số liệu, hồ sơ phục vụ kiểm toán 2021 -Tham gia xây dựng đề án sử dụng tài sản công
A18: 02 | B18: Nguyễn Thị Nghiêm | C18: 01003014 | F18: -Hoàn thành tốt và đúng thời gian nhiệm vụ được giao của đơn vị - Thực hiện đúng các qui định và nội quy làm việc của nhà trường - Tham gia đầy đủ các buổi sinh hoạt, học tập của trường; - Tham gia dự án lớp Cao đẳng nghề ô tô chuyển giao từ Đức - Thực hiện công tác dự toán nguồn tiền để kịp thời báo cáo cho trưởng phòng; - Có bài sáng kiến kinh nghiệm NH 2020-2021, được công nhận có phạm vi ảnh hưởng cấp trường trong năm học 2020-2021 theo QĐ số 358/LTT-HĐSK ngày 08/04/2021); - Tiếp nhận, hoàn thiện hồ sơ nhận tài trợ từ các đơn vị, doanh nghiệp - Cung cấp số liệu, hồ sơ phục vụ kiểm toán năm 2021
A20: Ghi chú: Gửi kèm minh chứng về phòng Tổ chức - Hành chính - Tổng hợp.
E21: TPHCM, ngày 16 tháng 01 năm 2022
E22: TRƯỞNG ĐƠN VỊ
E29: Nguyễn Kính

Sheet Mau 2
A1: TRƯỜNG CAO ĐẲNG LÝ TỰ TRỌNG THÀNH PHỐ HỒ CHÍ MINH PHÒNG KẾ HOẠCH - TÀI CHÍNH | C1: CỘNG HÒA XÃ HỘI CHỦ NGHĨA VIỆT NAM Độc lập - Tự do - Hạnh phúc
C2: Mẫu 2 | E2: Mẫu 2
A3: BẢNG TỔNG HỢP CÔNG VIỆC ĐỘT XUẤT ĐÃ THỰC HIỆN THÁNG 05/2022 (Gửi file mềm ngày 25 hàng tháng)
A6: TT | B6: Nội dung công việc | C6: Số lượng người tham gia thực hiện | D6: Tên người tham gia thực hiện | E6: Thời gian thực hiện | F6: Kết quả thực hiện | G6: Ghi chú
A7: I. | B7: Công việc chung của Trường
A8: Nhiệm vụ 1 | B8: Phối hợp với nhà trường thực hiện công văn số 15751/SLĐTBXH-GDNN về việc báo cáo sơ kết, đánh giá thi hành chính sách, pháp luật về giáo dục nghề nghiệp trên địa bàn TP.HCM (phòng KHTC thực hiện phần Cơ chế tài chính và đầu tư cho GDNN; Xã hội hóa GDNN; chế độ chính sách đối với người học). | C8: 05 | D8: Kính, Tuyết Dung, Thoa, Thắm, Ý. | E8: 05/2022 | F8: Đang thực hiện
A9: Nhiệm vụ 2 | B9: Tiếp tục thực hiện hồ sơ dự án viện trợ “Xây dựng TT đào tạo về lĩnh vực thang máy và thang cuốn cho Kỹ thuật viên Cơ điện chuyên nghiệp” theo ý kiến hướng dẫn của Sở Kế hoạch – Đầu tư (Hoàn thiện trong tháng 05/2022) | C9: 05 | D9: Kính,Thoa, Trân, Vân, Nghiêm. | E9: 05/2022 | F9: Đang thực hiện
A10: Nhiệm vụ 3 | B10: Thực hiện báo cáo Kiểm toán nhà nước năm 2021 theo CV số 300/KV IV-TH ngày 27/4/2022 của Kiểm toán nhà nước khu vực IV về việc cung cấp thông tin để lập KHKT của KTNN khu vực IV, (báo cáo ngày 6/5/2022 – hình thức báo cáo trực tuyến). | C10: 07 | D10: Kính,Tuyết Dung, Thoa, Trân,Thắm, Vân, Nghiêm. | E10: 05/2022 | F10: Đang thực hiện
A11: Nhiệm vụ 4 | B11: Thực hiện công văn số 2757/STC-HCSN ngày 6/5/2022 của Sở Tài chính về thực hiện chi trả thu nhập tăng thêm theo NQ số 03/2018/NQ-HĐND ngày 16/3/2018 và NQ 04/2022-HĐND ngày 7/4/2022 của Hội đồng nhân dân Thành phố | C11: 06 | D11: Kính,Tuyết Dung, Thoa, Thắm, Nghiêm, Ý. | E11: 05/2022 | F11: Đang thực hiện
A12: Nhiệm vụ 5 | B12: Thực hiện báo cáo về xác định nhu cầu kinh phí bổ sung để thực hiện Nghị quyết số 04/2022/NQ-HĐND ngày 07/4/2022 của Hội đồng nhân dân Thành phố theo CV số 1492/SGDGĐT-KHTC ngày 13/5/2022. | C12: 05 | D12: Kính, Thoa, Trân, Vân, Ý. | E12: 05/2022 | F12: Đang thực hiện
A13: Nhiệm vụ 6 | B13: Thực hiện báo cáo kế hoạch đầu tư trung hạn gia đoạn 2021 – 2025 vốn từ nguồn thu hợp pháp của cơ quan nhà nước, đợn vị sự nghiệp công lập dành để đầu tư dự án “Đầu tư xây dựng, cải tạo khối nhà E, F (liền kề) thành tòa nhà K. CNTT hiện đại và Thư viện tiên tiến” theo chương trình kích cầu của Trường Cao đẳng Lý Tự Trọng TP. HCM. | C13: 07 | D13: Kính,Tuyết Dung, Trân, Vân, Thắm, Nghiêm, Ý. | E13: 05/2022 | F13: Đang thực hiện
A14: Nhiệm vụ 7 | B14: Thực hiện báo cáo cung cấp thông tin để lập báo cáo tài chính theo TT số 133/2018/TT-BTC theo công văn số 1571/CGDĐT-KHTC ngày 18/5/2022 | C14: 05 | D14: Kính, Tuyết Dung, Thoa, Trân, Thắm. | E14: 05/2022 | F14: Đang thực hiện
B15: Công việc chung của đơn vị
A16: Nhiệm vụ 1 | B16: Báo cáo rà soát tình hình thực hiện dự toán kinh phí năm 2022 theo CV số 1582/SGDĐT-KHTC ngày 18/5/2022 của Sở Giáo dục và Đào tạo TP.HCM. | C16: 08 | D16: Kính,Tuyết Dung, Thoa, Trân,Thắm, Vân, Nghiêm, Ý. | E16: 05/2022 | F16: Đang thực hiện
A17: Nhiệm vụ 2 | B17: Tiếp tục hoàn thiện hồ sơ dự toán kinh phí tổ chức Hội thảo Khoa học năm 2022 để xin duyệt hỗ trợ kinh phí cho nhà trường từ sở Khoa học Công nghệ. | C17: 05 | D17: Kính, Thoa, Thắm, Nghiêm, Ý. | E17: 05/2022 | F17: Đang thực hiện
A18: Nhiệm vụ 3 | B18: Thực hiện Quyết toán chương trình kích cầu dự án “Nâng tầng khu thực hành Điện – Điện tử của trường CĐ Lý Tự Trọng TP.HCM” ( Quyết toán hồ sơ vay kích cầu) | C18: 05 | D18: Kính, Tuyết Dung, Trân, Vân, Nghiêm. | E18: 05/2022 | F18: Đang thực hiện
A19: Nhiệm vụ 4 | B19: Thực hiện công tác rút lãi vay hỗ trợ kích cầu dự án “Nâng tầng khu thực hành Điện – Điện tử của trường CĐ Lý Tự Trọng TP.HCM” và dự án “Khu Ký túc xá trường CĐ Lý Tự Trọng TP.HCM. | C19: 07 | D19: Kính, Tuyết Dung, Thoa, Trân, Thắm,Vân, Ý. | E19: 05/2022 | F19: Đang thực hiện
A20: Nhiệm vụ 5 | B20: Thực hiện choàng việc các công việc của bà Nguyễn Thị Kim Dung đã chuyển công tác qua phòng Khảo thí và Đảm bảo Chất lượng, nhưng chưa tuyển bổ sung nhân viên. | C20: 08 | D20: Kính,Tuyết Dung, Thoa, Trân,Thắm, Vân, Nghiêm, Ý. | E20: 05/2022 | F20: Đang thực hiện
A21: Lưu ý: - Nhóm công việc của đơn vị không tính nội dung công việc đã được quy định ở vị trí việc làm (đối với nhân viên); chế độ làm việc của giảng viên/ đã được tính chế độ, thù lao (đối với giảng viên). - Các đơn vị gửi file điện tử về phòng TC-HC-TH (Cô Trần Thị Ánh Phượng) qua hệ thống điện tử E-office nhà trường (không gửi văn bản giấy) ngày 25 hàng tháng./.
B22: Thành phố Hồ Chí Minh, ngày 20 tháng 05 năm 2022
E23: TRƯỞNG ĐƠN VỊ
E27: Nguyễn Kính

Sheet Mau 3
A1: TRƯỜNG CAO ĐẲNG LÝ TỰ TRỌNG | L1: CỘNG HÒA XÃ HỘI CHỦ NGHĨA VIỆT NAM
A2: THÀNH PHỐ HỒ CHÍ MINH | L2: Độc lập - Tự do - Hạnh phúc
A3: PHÒNG KẾ HOẠCH - TÀI CHÍNH
O4: Mẫu 3
A5: THỐNG KÊ CHI TIẾT KHỐI LƯỢNG CÔNG VIỆC THỰC HIỆN THÁNG 05/2022
A7: TT | B7: Tên nội dung công việc | D7: Công việc chung của trường | L7: Công việc chung của đơn vị | R7: Ghi chú
B8: Họ và tên | C8: Mã E-office | D8: Nhiệm vụ 1 | E8: Nhiệm vụ 2 | F8: Nhiệm vụ 3 | G8: Nhiệm vụ 4 | H8: Nhiệm vụ 5 | I8: Nhiệm vụ 6 | J8: Nhiệm vụ 7 | K8: Tổng cộng | L8: Nhiệm vụ 1 | M8: Nhiệm vụ 2 | N8: Nhiệm vụ 3 | O8: Nhiệm vụ 4 | P8: Nhiệm vụ 5 | Q8: Tổng cộng
A9: I. Viên chức
A10: 01 | B10: Nguyễn Kính | C10: 01002024 | D10: x | E10: x | F10: x | G10: x | H10: x | I10: x | J10: x | K10: =COUNTIF(D10:J10,"X") -> 7 | L10: x | M10: x | N10: x | O10: x | P10: x | Q10: =COUNTIF(L10:P10,"X") -> 5
A11: 02 | B11: Hồng Mộng Tuyết Dung | C11: 01003009 | D11: x | F11: x | G11: x | I11: x | J11: x | K11: =COUNTIF(D11:J11,"X") -> 5 | L11: x | N11: x | O11: x | P11: x | Q11: =COUNTIF(L11:P11,"X") -> 4
A12: 03 | B12: Trần Thị Minh Thoa | C12: 01003005 | D12: x | E12: x | F12: x | G12: x | H12: x | J12: x | K12: =COUNTIF(D12:J12,"X") -> 6 | L12: x | M12: x | O12: x | P12: x | Q12: =COUNTIF(L12:P12,"X") -> 4
A13: 04 | B13: Võ Thị Lệ Trân | C13: 01023004 | E13: x | F13: x | H13: x | I13: x | J13: x | K13: =COUNTIF(D13:J13,"X") -> 5 | L13: x | N13: x | O13: x | P13: x | Q13: =COUNTIF(L13:P13,"X") -> 4
A14: 05 | B14: Nguyễn Thị Hồng Thắm | C14: 01003007 | D14: x | F14: x | G14: x | I14: x | J14: x | K14: =COUNTIF(D14:J14,"X") -> 5 | L14: x | M14: x | O14: x | P14: x | Q14: =COUNTIF(L14:P14,"X") -> 4
A15: II. Hợp đồng trường
A16: 01 | B16: Trần Thị Thảo Vân | C16: 01003008 | E16: x | F16: x | H16: x | I16: x | K16: =COUNTIF(D16:J16,"X") -> 4 | L16: x | N16: x | O16: x | P16: x | Q16: =COUNTIF(L16:P16,"X") -> 4
A17: 02 | B17: Nguyễn Thụy Nghiêm | C17: 01003014 | E17: x | F17: x | G17: x | I17: x | K17: =COUNTIF(D17:J17,"X") -> 4 | L17: x | M17: x | N17: x | P17: x | Q17: =COUNTIF(L17:P17,"X") -> 4
A18: 03 | B18: Huỳnh Như Ý | C18: 01003015 | D18: x | G18: x | H18: x | I18: x | K18: =COUNTIF(D18:J18,"X") -> 4 | L18: x | M18: x | O18: x | P18: x | Q18: =COUNTIF(L18:P18,"X") -> 4
A20: Lưu ý: Các đơn vị gửi file điện tử về phòng TC-HC-TH (Cô Trần Thị Ánh Phượng) qua hệ thống điện tử E-office nhà trường (không gửi văn bản giấy).
L21: TPHCM, ngày 20 tháng 05 năm 2022
L22: TRƯỞNG ĐƠN VỊ
M27: Nguyễn Kính

Sheet Mau 4 
A1: TRƯỜNG CAO ĐẲNG LÝ TỰ TRỌNG | G1: CỘNG HÒA XÃ HỘI CHỦ NGHĨA VIỆT NAM
A2: THÀNH PHỐ HỒ CHÍ MINH | G2: Độc lập - Tự do - Hạnh phúc
A3: PHÒNG KẾ HOẠCH - TÀI CHÍNH
L4: Mẫu 4
A5: DANH SÁCH XẾP LOẠI THI ĐUA THÁNG 05/2022
A7: TT | B7: Họ tên | C7: Mã E-Office | D7: Tiêu chuẩn đạt mức xếp loại thi đua tối đa trong năm (Ẩn khi in) | E7: Xếp loại thi đua tháng theo quy định (Không vượt quá mức thi đua tối đa) | I7: Số ngày/giờ vượt so với ngày công kế hoạch (đối với CB-NV) | J7: Số ngày nghỉ/ tiết nghỉ (đối với GV) | K7: Đơn vị đề nghị mức xếp loại thi đua
E8: Xếp loại | F8: Lý do | G8: Số lượng công việc chung của trường | H8: Số lượng công việc chung của đơn vị | K8: Xếp loại | L8: Lý do đề nghị
A9: I. Viên chức
A10: 01 | B10: Nguyễn Kính | C10: 01002024 | D10: A1 | E10: A1 | G10: ='Mau 3'!K10 -> 7 | H10: ='Mau 3'!Q10 -> 5 | I10: 5 | K10: A1
A11: 02 | B11: Hồng Mộng Tuyết Dung | C11: 01003009 | D11: A2 | E11: A2 | G11: ='Mau 3'!K11 -> 5 | H11: ='Mau 3'!Q11 -> 4 | I11: 4 | K11: A1 | L11: - Chuẩn A2, tuy nhiên do có nhiều tích cực trong công việc của phòng và của trường, Phòng KH-TC kính đề nghị hội đồng thi đua xem xét xếp loại : A1
A12: 03 | B12: Trần Thị Minh Thoa | C12: 01003005 | D12: A2 | E12: A2 | G12: ='Mau 3'!K12 -> 6 | H12: ='Mau 3'!Q12 -> 4 | I12: 4 | K12: A1 | L12: - Chuẩn A2, tuy nhiên do có nhiều tích cực trong công việc của phòng và của trường, Phòng KH-TC kính đề nghị hội đồng thi đua xem xét xếp loại : A1
A13: 04 | B13: Võ Thị Lệ Trân | C13: 01023004 | D13: A2 | E13: A2 | G13: ='Mau 3'!K13 -> 5 | H13: ='Mau 3'!Q13 -> 4 | I13: 3 | K13: A1 | L13: - Chuẩn A2, tuy nhiên do có nhiều tích cực trong công việc của phòng và của trường, Phòng KH-TC kính đề nghị hội đồng thi đua xem xét xếp loại : A1
A14: 05 | B14: Nguyễn Thị Hồng Thắm | C14: 01003007 | D14: A2 | E14: A2 | G14: ='Mau 3'!K14 -> 5 | H14: ='Mau 3'!Q14 -> 4 | I14: 3 | K14: A1 | L14: - Chuẩn A2, tuy nhiên do có nhiều tích cực trong công việc của phòng và của trường, Phòng KH-TC kính đề nghị hội đồng thi đua xem xét xếp loại : A1
A15: II. Hợp đồng trường
A16: 01 | B16: Trần Thị Thảo Vân | C16: 01003008 | D16: A2 | E16: A2 | G16: ='Mau 3'!K16 -> 4 | H16: ='Mau 3'!Q16 -> 4 | K16: A2
A17: 02 | B17: Nguyễn Thụy Nghiêm | C17: 01003014 | D17: A3 | E17: A3 | G17: ='Mau 3'!K17 -> 4 | H17: ='Mau 3'!Q17 -> 4 | K17: A2 | L17: - Chuẩn A3, tuy nhiên do có nhiều tích cực trong công việc của phòng và của trường, Phòng KH-TC kính đề nghị hội đồng thi đua xem xét xếp loại : A2
A18: 03 | B18: Huỳnh Như Ý | C18: 01003015 | D18: A4 | E18: A4 | G18: ='Mau 3'!K18 -> 4 | H18: ='Mau 3'!Q18 -> 4 | K18: A2 | L18: - Chuẩn A4, tuy nhiên do có nhiều tích cực trong công việc của phòng và của trường, Phòng KH-TC kính đề nghị hội đồng thi đua xem xét xếp loại : A2
B20: Kết quả xếp loại | G20: Viên chức | I20: Hợp đồng trường
B21: A1 | G21: =COUNTIF($E$10:$E$14,"A1") -> 1 | I21: =COUNTIF($E$16:$E$18,"A1") -> 0
B22: A2 | G22: =COUNTIF($E$10:$E$14,"A2") -> 4 | I22: =COUNTIF($E$16:$E$18,"A3") -> 1
B23: A3 | G23: =COUNTIF($E$10:$E$14,"A3") -> 0 | I23: =COUNTIF($E$16:$E$18,"A3") -> 1
B24: A4 | G24: =COUNTIF($E$10:$E$14,"A4") -> 0 | I24: =COUNTIF($E$16:$E$18,"A4") -> 1
B25: A DN | G25: =COUNTIF($E$10:$E$14,"A DN") -> 0 | I25: =COUNTIF($E$16:$E$18,"A DN") -> 0
B26: Tổng số nhân sự: | G26: =SUM(G21:G25) -> 5 | I26: =SUM(I21:I25) -> 3
A27: Lưu ý: Các đơn vị gửi file mềm qua hệ thống điện tử E-office nhà trường và văn bản giấy về phòng TC-HC-TH (Cô Trần Thị Ánh Phượng).
G28: TPHCM, ngày 20 tháng 05 năm 2022
G29: TRƯỞNG ĐƠN VỊ
G34: Nguyễn Kính
