Workbook

Sheet Mau 1
A1: TRƯỜNG CAO ĐẲNG LÝ TỰ TRỌNG | F1: CỘNG HÒA XÃ HỘI CHỦ NGHĨA VIỆT NAM
A2: THÀNH PHỐ HỒ CHÍ MINH | F2: Độc lập - Tự do - Hạnh phúc
A3: ĐƠN VỊ: KHOA KINH TẾ
H4: Mẫu 1
A5: Danh sách CB-GV-NV tham gia thực hiện bài viết sáng kiến, bài viết Hội thảo cấp trường, cấp đơn vị, giảng viên dạy giỏi, bài báo được đăng trên các tạp chí theo quy định, tham gia đề tài NCKH đã được nghiệm thu,... (Quy định số 1375/QyĐ-LTT-TĐ ngày 29/11/2021 của Trường)
A7: TT | B7: Họ tên | D7: Mã E-Office | E7: Điều kiện xếp loại thi đua A1 (Ghi rõ nội dung tiêu chuẩn: số Quyết định, thời gian, cơ quan ban hành,…) | F7: Điều kiện xếp loại thi đua A2 (Ghi rõ nội dung tiêu chuẩn: số Quyết định, thời gian, cơ quan ban hành,…) | G7: Điều kiện xếp loại thi đua A3 (Ghi rõ nội dung tiêu chuẩn: số Quyết định, thời gian, cơ quan ban hành,…) | H7: Ghi chú
A8: I. Viên chức
A9: 01 | B9: Nguyễn Trọng | C9: Nghĩa | D9: 01025001 | F9: - Bài viết đăng Kỷ yếu hội thảo cấp trường COSS 2021 - Bài viết sáng kiến được công nhận phạm vi ảnh hưởng cấp ngành (QĐ số 1783/QĐ-SGDĐT ngày 20/8/2021) | G9: -Bài viết sáng kiến được công nhận phạm vi ảnh hưởng cấp trường trong năm học 2020-2021 (QĐ số 358/QĐ-LTT-HĐSK ngày 08/4/2021) - Bài viết đăng kỷ yếu hội thảo cấp đơn vị tháng 3/2021 - Bài viết đăng kỷ yếu hội thảo cấp đơn vị tháng 7/2021
A10: 02 | B10: Hồ Gia | C10: Bảo | D10: 01025029 | E10: - Bài báo được duyệt đăng trên tạp chí Kinh tế và Dự báo số 27(781) Bài viết: “Các yếu tố ảnh hưởng đến quyết định lựa chọn dịch vụ vận chuyển hàng không trong du lịch: Nghiên cứu trường hợp nhân viên văn phòng tại TP. HCM” | F10: - Bài viết đăng Kỷ yếu hội thảo cấp trường COSS 2021 | G10: - Bài viết đăng kỷ yếu hội thảo cấp đơn vị tháng 7/2021
A11: 03 | B11: Trần Thị Ngọc | C11: Dung | D11: 01025016
A12: 04 | B12: Cao Xuân | C12: Giang | D12: 01025018 | G12: - Bài viết đăng kỷ yếu hội thảo cấp đơn vị tháng 3/2021 - Bài viết đăng kỷ yếu hội thảo cấp đơn vị tháng 7/2021
A13: 05 | B13: Nguyễn Hoàng Thanh | C13: Ngân | D13: 01025027
A14: 06 | B14: Phạm Quỳnh | C14: Như | D14: 01025004 | E14: - GV đạt giải Nhì trong Hội giảng Nhà giáo GDNN toàn quốc năm 2021 (bằng khen của Bộ LĐTBXH 2021) (QĐ số 1281/QĐ-LĐTBXH ngày 17/11/2021). | F14: - GV đạt giải Nhì trong Hội giảng cấp Thành phố - Bài viết đăng Kỷ yếu hội thảo cấp trường COSS 2021 | G14: - Bài viết đăng kỷ yếu hội thảo cấp đơn vị tháng 3/2021 - Bài viết đăng kỷ yếu hội thảo cấp đơn vị tháng 7/2021
A15: 07 | B15: Lê Thị Thúy | C15: Oanh | D15: 01025020 | G15: -Bài viết sáng kiến được công nhận phạm vi ảnh hưởng cấp trường trong năm học 2020-2021 (QĐ số 358/QĐ-LTT-HĐSK ngày 08/4/2021) - Bài viết đăng kỷ yếu hội thảo cấp đơn vị tháng 3/2021
A16: 08 | B16: Lê Thị Thu | C16: Thảo | D16: 01025008 | G16: - Bài viết đăng kỷ yếu hội thảo cấp đơn vị tháng 3/2021 - Bài viết đăng kỷ yếu hội thảo cấp đơn vị tháng 7/2021
A17: 09 | B17: Võ Thị Kim | C17: Thư | D17: 01025012 | F17: z | G17: -Bài viết sáng kiến được công nhận phạm vi ảnh hưởng cấp trường trong năm học 2020-2021 (QĐ số 358/QĐ-LTT-HĐSK ngày 08/4/2021) - GV đạt giải Nhất trong Hội thảo Nâng cao giảng dạy trực tuyến cấp Trường trong năm học 2020-2021 (QĐ số 1074/QĐ-LTT-ĐT ngày 12/10/2021). - GV đạt giải khuyến khích trong Hội giảng Thiết kế dạy học trực tuyến trong GDNN cấp Trường trong năm học 2020-2021 (QĐ số 1075/QĐ-LTT-ĐT ngày 12/10/2021). - Bài viết đăng kỷ yếu hội thảo cấp đơn vị tháng 3/2021 - Bài viết đăng kỷ yếu hội thảo cấp đơn vị tháng 7/2021
A18: 10 | B18: Lưu Thị | C18: Thúy | D18: 01025002 | G18: -Bài viết sáng kiến được công nhận phạm vi ảnh hưởng cấp trường trong năm học 2020-2021 (QĐ số 358/QĐ-LTT-HĐSK ngày 08/4/2021) - Bài viết đăng kỷ yếu hội thảo cấp đơn vị tháng 3/2021 - Bài viết đăng kỷ yếu hội thảo cấp đơn vị tháng 7/2021
A19: 11 | B19: Nguyễn Thị Minh | C19: Thùy | D19: 01003013 | F19: Bài viết sáng kiến được công nhận phạm vi ảnh hưởng cấp ngành (QĐ số 1783/QĐ-SGDĐT ngày 20/8/2021) | G19: -Bài viết sáng kiến được công nhận phạm vi ảnh hưởng cấp trường trong năm học 2020-2021 (QĐ số 358/QĐ-LTT-HĐSK ngày 08/4/2021) - Bài viết đăng kỷ yếu hội thảo cấp đơn vị tháng 7/2021
A20: 12 | B20: Nguyễn Mỹ | C20: Tiên | D20: 01025015 | F20: - Bài viết đăng Kỷ yếu hội thảo cấp trường COSS 2021 | G20: -Bài viết sáng kiến được công nhận phạm vi ảnh hưởng cấp trường trong năm học 2020-2021 (QĐ số 358/QĐ-LTT-HĐSK ngày 08/4/2021) - Bài viết đăng kỷ yếu hội thảo cấp đơn vị tháng 3/2021 - Bài viết đăng kỷ yếu hội thảo cấp đơn vị tháng 7/2021
A21: 13 | B21: Nguyễn Thị Thùy | C21: Tiên | D21: 01005010 | F21: - Bài viết đăng Kỷ yếu hội thảo cấp trường COSS 2021 | G21: - Bài viết đăng kỷ yếu hội thảo cấp đơn vị tháng 3/2021 - Bài viết đăng kỷ yếu hội thảo cấp đơn vị tháng 7/2021
A22: 14 | B22: Lữ Xuân | C22: Trang | D22: 01025009 | F22: - Bài viết sáng kiến được công nhận phạm vi ảnh hưởng cấp ngành (QĐ số 1783/QĐ-SGDĐT ngày 20/8/2021) - Bài viết đăng Kỷ yếu hội thảo cấp trường COSS 2021 | G22: -Bài viết sáng kiến được công nhận phạm vi ảnh hưởng cấp trường trong năm học 2020-2021 (QĐ số 358/QĐ-LTT-HĐSK ngày 08/4/2021) - GV đạt giải khuyến khích trong Hội giảng Thiết kế dạy học trực tuyến trong GDNN cấp Trường trong năm học 2020-2021 (QĐ số 1075/QĐ-LTT-ĐT ngày 12/10/2021). - Bài viết đăng kỷ yếu hội thảo cấp đơn vị tháng 3/2021 - Bài viết đăng kỷ yếu hội thảo cấp đơn vị tháng 7/2021
A23: 15 | B23: Bùi Ánh | C23: Tuyết | D23: 01025003 | F23: - Bài viết đăng Kỷ yếu hội thảo cấp trường COSS 2021 | G23: - Bài viết đăng kỷ yếu hội thảo cấp đơn vị tháng 7/2021
A24: II. Hợp đồng trường
A25: 01 | B25: - | C25: - | D25: -
A28: Ghi chú: Gửi kèm minh chứng về phòng Tổ chức - Hành chính - Tổng hợp.
F29: TPHCM, ngày 12 tháng 01 năm 2022
F30: TRƯỞNG ĐƠN VỊ
F34: Nguyễn Trọng Nghĩa

Sheet Mau 2
A1: TRƯỜNG CAO ĐẲNG LÝ TỰ TRỌNG THÀNH PHỐ HỒ CHÍ MINH ĐƠN VỊ: KHOA KINH TẾ | F1: CỘNG HÒA XÃ HỘI CHỦ NGHĨA VIỆT NAM Độc lập - Tự do - Hạnh phúc
G2: Mẫu 2
A3: BẢNG TỔNG HỢP CÔNG VIỆC ĐỘT XUẤT ĐÃ THỰC HIỆN THÁNG 05/2022 (Gửi file mềm ngày 25 hàng tháng)
A6: TT | B6: Nội dung công việc | C6: Số lượng người tham gia thực hiện | D6: Tên người tham gia thực hiện | E6: Thời gian thực hiện | F6: Kết quả thực hiện | G6: Ghi chú
A7: I. | B7: Công việc chung của Trường
A8: Nhiệm vụ 1 | B8: Tham gia soạn kịch bản, chuẩn bị và thực hiện tư vấn tuyển sinh trực tuyến livestream các ngành đào tạo của khoa KT | C8: 3 | D8: Nghĩa, Bảo, Ngân | E8: 01/05/2022 đến 22/05/2022 | F8: Tốt
A9: Nhiệm vụ 2 | B9: Chuẩn bị và đón đoàn học sinh trường THPT Phú Thành A và Tam Nông, tỉnh Đồng Tháp tham quan phòng thực hành nghề bánh và nhà hàng-khách sạn tại khu D và I2 | C9: 3 | D9: Nghĩa, Bảo, Oanh | E9: 15/05/2022 đến 15/05/2022 | F9: Tốt
A10: Nhiệm vụ 3 | B10: Chuẩn bị, soạn thảo biên bản ghi nhớ, tham gia tổ chức buổi lễ ký kết hợp tác giữa Trường với Công ty Cổ phần Dịch vụ Nam Bộ Invest | C10: 2 | D10: Nghĩa, Thùy Tiên | E10: 20/04/2022 đến 06/05/2022 | F10: Tốt
A11: Nhiệm vụ 4 | B11: Hỗ trợ các lớp đào tạo giảng viên của Khoa Cơ khí và khoa Điện - Điện tử với trường CoCG | C11: 1 | D11: Thùy Tiên | E11: 01/05/2022 đến 22/05/2022 | F11: Tốt
A12: Nhiệm vụ 5 | B12: Tham gia hội thao cụm X cho trường ở môn tại chỗ ném rỗ đoạt giải nhì. | C12: 1 | D12: Oanh | E12: 07/05/2022 đến 07/05/2022 | F12: Tốt
A13: Nhiệm vụ 6 | B13: Hoàn thiện hồ sơ quyết toán quý 1 | C13: 1 | D13: Minh Thùy | E13: 01/05/2022 đến 31/05/2022 | F13: Tốt
A14: Nhiệm vụ 7
A15: Nhiệm vụ 8
A16: II. | B16: Công việc chung của đơn vị
A17: Nhiệm vụ 1 | B17: Chuẩn bị và hướng dẫn sinh viên ngành NH-KS đi kiến tập doanh nghiệp tại Phan Thiết 10-11/5. | C17: 3 | D17: Nghĩa, Bảo, Ngân | E17: 10/05/2022 đến 11/05/2022 | F17: Tốt
A18: Nhiệm vụ 2 | B18: Xây dựng và mua trang thiết bị dụng cụ dạy học cho sinh viên các ngành DL-KS | C18: 2 | D18: Nghĩa, Bảo | E18: 01/05/2022 đến 22/05/2022 | F18: Tốt
A19: Nhiệm vụ 3 | B19: Liên hệ ngân hàng SCB chi nhánh Thống Nhất và hướng dẫn cho SV đi tham quan vào các ngày 10, 12, 17, 19/5/2022 | C19: 6 | D19: Nghĩa, Oanh, Thư, Trang, Thảo, Thùy Tiên | E19: 01/05/2022 đến 19/05/2022 | F19: Tốt
A20: Nhiệm vụ 4 | B20: Thực hiện công tác kế toán thuế tại phòng Kế hoạch - Tài chính. | C20: 1 | D20: Minh Thùy | E20: 01/05/2022 đến 31/05/2022 | F20: Tốt
A21: Nhiệm vụ 5 | B21: Thực hiện công tác kế toán thanh toán tại phòng Kế hoạch - Tài chín | C21: 1 | D21: Minh Thùy | E21: 01/05/2022 đến 31/05/2022 | F21: Tốt
A22: Nhiệm vụ 6 | B22: Thiết lập hóa đơn điện tử theo Thông tư 80 trên phần mềm kê khai thuế. | C22: 1 | D22: Minh Thùy | E22: 01/05/2022 đến 31/05/2022 | F22: Tốt
A23: Nhiệm vụ 7 | B23: Tổ chức Talk Show cho sinh viên | C23: 1 | D23: Ngân | E23: 28/05/2022 đến 28/05/2022 | F23: Tốt
A24: Nhiệm vụ 8 | B24: Lập danh sách và thu hồ sơ sinh viên tham gia chương trình Quỹ Laptop Đợt 1/2022 | C24: 1 | D24: Thùy Tiên | E24: 01/05/2022 đến 22/05/2022 | F24: Tốt
A26: Lưu ý: - Nhóm công việc của đơn vị không tính nội dung công việc đã được quy định ở vị trí việc làm (đối với nhân viên); chế độ làm việc của giảng viên/ đã được tính chế độ, thù lao (đối với giảng viên). - Các đơn vị gửi file điện tử về phòng TC-HC-TH (Cô Trần Thị Ánh Phượng) qua hệ thống điện tử E-office nhà trường (không gửi văn bản giấy) ngày 25 hàng tháng./.
E27: Thành phố Hồ Chí Minh, ngày 20 tháng 05 năm 2022
E28: TRƯỞNG ĐƠN VỊ
E32: Nguyễn Trọng Nghĩa

Sheet Mau 3
A1: TRƯỜNG CAO ĐẲNG LÝ TỰ TRỌNG | N1: CỘNG HÒA XÃ HỘI CHỦ NGHĨA VIỆT NAM
A2: THÀNH PHỐ HỒ CHÍ MINH | N2: Độc lập - Tự do - Hạnh phúc
A3: ĐƠN VỊ: KHOA KINH TẾ
W4: Mẫu 3
A5: THỐNG KÊ CHI TIẾT KHỐI LƯỢNG CÔNG VIỆC THỰC HIỆN THÁNG 05/2022
A7: TT | C7: Tên nội dung công việc | N7: Công việc chung của đơn vị | W7: Ghi chú
B8: Họ và tên | D8: Mã E-office | E8: Nhiệm vụ 1 | F8: Nhiệm vụ 2 | G8: Nhiệm vụ 3 | H8: Nhiệm vụ 4 | I8: Nhiệm vụ 5 | J8: Nhiệm vụ 6 | K8: Nhiệm vụ 7 | L8: Nhiệm vụ 8 | M8: Tổng cộng | N8: Nhiệm vụ 1 | O8: Nhiệm vụ 2 | P8: Nhiệm vụ 3 | Q8: Nhiệm vụ 4 | R8: Nhiệm vụ 5 | S8: Nhiệm vụ 6 | T8: Nhiệm vụ 7 | U8: Nhiệm vụ 8 | V8: Tổng cộng
A9: I. Viên chức | V9: =COUNTIF(N9:Q9,"X") -> 0
A10: 01 | B10: Nguyễn Trọng | C10: Nghĩa | D10: 01025001 | E10: X | F10: X | G10: X | M10: =COUNTIF(E10:L10,"X") -> 3 | N10: X | O10: X | P10: X | V10: =COUNTIF(N10:T10,"X") -> 3
A11: 02 | B11: Hồ Gia | C11: Bảo | D11: 01025029 | E11: X | F11: X | M11: =COUNTIF(E11:L11,"X") -> 2 | N11: X | O11: X | V11: =COUNTIF(N11:T11,"X") -> 2
A12: 03 | B12: Trần Thị Ngọc | C12: Dung | D12: 01025016 | M12: =COUNTIF(E12:L12,"X") -> 0 | V12: =COUNTIF(N12:T12,"X") -> 0
A13: 04 | B13: Cao Xuân | C13: Giang | D13: 01025018 | M13: =COUNTIF(E13:L13,"X") -> 0 | V13: =COUNTIF(N13:T13,"X") -> 0
A14: 05 | B14: Nguyễn Hoàng Thanh | C14: Ngân | D14: 01025027 | E14: X | M14: =COUNTIF(E14:L14,"X") -> 1 | N14: X | T14: X | V14: =COUNTIF(N14:T14,"X") -> 2
A15: 06 | B15: Phạm Quỳnh | C15: Như | D15: 01025004 | M15: =COUNTIF(E15:L15,"X") -> 0 | V15: =COUNTIF(N15:T15,"X") -> 0
A16: 07 | B16: Lê Thị Thúy | C16: Oanh | D16: 01025020 | F16: X | I16: X | M16: =COUNTIF(E16:L16,"X") -> 2 | P16: X | V16: =COUNTIF(N16:T16,"X") -> 1
A17: 08 | B17: Lê Thị Thu | C17: Thảo | D17: 01025008 | M17: =COUNTIF(E17:L17,"X") -> 0 | P17: X | V17: =COUNTIF(N17:T17,"X") -> 1
A18: 09 | B18: Võ Thị Kim | C18: Thư | D18: 01025012 | M18: =COUNTIF(E18:L18,"X") -> 0 | P18: X | V18: =COUNTIF(N18:T18,"X") -> 1
A19: 10 | B19: Lưu Thị | C19: Thúy | D19: 01025002 | M19: =COUNTIF(E19:L19,"X") -> 0 | V19: =COUNTIF(N19:T19,"X") -> 0
A20: 11 | B20: Nguyễn Thị Minh | C20: Thùy | D20: 01003013 | J20: X | M20: =COUNTIF(E20:L20,"X") -> 1 | Q20: X | R20: X | S20: X | V20: =COUNTIF(N20:T20,"X") -> 3
A21: 12 | B21: Nguyễn Mỹ | C21: Tiên | D21: 01025015 | M21: =COUNTIF(E21:L21,"X") -> 0 | V21: =COUNTIF(N21:T21,"X") -> 0
A22: 13 | B22: Nguyễn Thị Thùy | C22: Tiên | D22: 01005010 | G22: X | H22: X | M22: =COUNTIF(E22:L22,"X") -> 2 | P22: X | U22: X | V22: =COUNTIF(N22:T22,"X") -> 1
A23: 14 | B23: Lữ Xuân | C23: Trang | D23: 01025009 | M23: =COUNTIF(E23:L23,"X") -> 0 | P23: X | V23: =COUNTIF(N23:T23,"X") -> 1
A24: 15 | B24: Bùi Ánh | C24: Tuyết | D24: 01025003 | M24: =COUNTIF(E24:L24,"X") -> 0 | V24: =COUNTIF(N24:T24,"X") -> 0
A25: II. Hợp đồng trường
A26: - | C26: - | D26: - | M26: =COUNTIF(E26:L26,"X") -> 0 | V26: =COUNTIF(N26:T26,"X") -> 0
A28: Lưu ý: Các đơn vị gửi file điện tử về phòng TC-HC-TH (Cô Trần Thị Ánh Phượng) qua hệ thống điện tử E-office nhà trường (không gửi văn bản giấy).
N29: TP. HCM, ngày 20 tháng 05 năm 2022
N30: TRƯỞNG ĐƠN VỊ
N34: Nguyễn Trọng Nghĩa

Sheet Mau 4 
A1: TRƯỜNG CAO ĐẲNG LÝ TỰ TRỌNG | H1: CỘNG HÒA XÃ HỘI CHỦ NGHĨA VIỆT NAM
A2: THÀNH PHỐ HỒ CHÍ MINH | H2: Độc lập - Tự do - Hạnh phúc
A3: ĐƠN VỊ: KHOA KINH TẾ
M4: Mẫu 4
A5: DANH SÁCH XẾP LOẠI THI ĐUA THÁNG 05/2022
A7: TT | B7: Họ tên | D7: Mã E-Office | E7: Tiêu chuẩn đạt mức xếp loại thi đua tối đa trong năm (Ẩn khi in) | F7: Xếp loại thi đua tháng theo quy định (Không vượt quá mức thi đua tối đa) | J7: Số ngày/giờ vượt so với ngày công kế hoạch (đối với CB-NV) | K7: Số ngày nghỉ/ tiết nghỉ (đối với GV) | L7: Đơn vị đề nghị mức xếp loại thi đua
F8: Xếp loại | G8: Lý do | H8: Số lượng công việc chung của trường | I8: Số lượng công việc chung của đơn vị | L8: Xếp loại | M8: Lý do đề nghị
A9: I. Viên chức
A10: 01 | B10: Nguyễn Trọng | C10: Nghĩa | D10: 01025001 | E10: A2 | F10: A2 | H10: =IFERROR(VLOOKUP($D10,'Mau 3'!$D$10:$V$26,10,1),0) -> 3 | I10: =IFERROR(VLOOKUP($D10,'Mau 3'!$D$10:$V$26,19,1),0) -> 3
A11: 02 | B11: Hồ Gia | C11: Bảo | D11: 01025029 | E11: A1 | F11: A2 | H11: =IFERROR(VLOOKUP($D11,'Mau 3'!$D$10:$V$26,10,0),0) -> 2 | I11: =IFERROR(VLOOKUP($D11,'Mau 3'!$D$10:$V$26,19,0),0) -> 2
A12: 03 | B12: Trần Thị Ngọc | C12: Dung | D12: 01025016 | E12: A4 | F12: A4 | H12: =IFERROR(VLOOKUP($D12,'Mau 3'!$D$10:$V$26,10,0),0) -> 0 | I12: =IFERROR(VLOOKUP($D12,'Mau 3'!$D$10:$V$26,19,0),0) -> 0
A13: 04 | B13: Cao Xuân | C13: Giang | D13: 01025018 | E13: A3 | F13: A4 | H13: =IFERROR(VLOOKUP($D13,'Mau 3'!$D$10:$V$26,10,0),0) -> 0 | I13: =IFERROR(VLOOKUP($D13,'Mau 3'!$D$10:$V$26,19,0),0) -> 0
A14: 05 | B14: Nguyễn Hoàng Thanh | C14: Ngân | D14: 01025027 | E14: A4 | F14: B2 | H14: =IFERROR(VLOOKUP($D14,'Mau 3'!$D$10:$V$26,10,0),0) -> 1 | I14: =IFERROR(VLOOKUP($D14,'Mau 3'!$D$10:$V$26,19,0),0) -> 2 | M14: Vào lớp trễ 22'. Để nghị HĐ xem xét A3 vì cô Ngân tích cực hoạt động trong 05/2022.
A15: 06 | B15: Phạm Quỳnh | C15: Như | D15: 01025004 | E15: A1 | F15: A4 | H15: =IFERROR(VLOOKUP($D15,'Mau 3'!$D$10:$V$26,10,0),0) -> 0 | I15: =IFERROR(VLOOKUP($D15,'Mau 3'!$D$10:$V$26,19,0),0) -> 0
A16: 07 | B16: Lê Thị Thúy | C16: Oanh | D16: 01025020 | E16: A3 | F16: A3 | H16: =IFERROR(VLOOKUP($D16,'Mau 3'!$D$10:$V$26,10,0),0) -> 2 | I16: =IFERROR(VLOOKUP($D16,'Mau 3'!$D$10:$V$26,19,0),0) -> 1
A17: 08 | B17: Lê Thị Thu | C17: Thảo | D17: 01025008 | E17: A3 | F17: A4 | H17: =IFERROR(VLOOKUP($D17,'Mau 3'!$D$10:$V$26,10,0),0) -> 0 | I17: =IFERROR(VLOOKUP($D17,'Mau 3'!$D$10:$V$26,19,0),0) -> 1
A18: 09 | B18: Võ Thị Kim | C18: Thư | D18: 01025012 | E18: A2 | F18: A4 | H18: =IFERROR(VLOOKUP($D18,'Mau 3'!$D$10:$V$26,10,0),0) -> 0 | I18: =IFERROR(VLOOKUP($D18,'Mau 3'!$D$10:$V$26,19,0),0) -> 1
A19: 10 | B19: Lưu Thị | C19: Thúy | D19: 01025002 | E19: A3 | F19: A4 | H19: =IFERROR(VLOOKUP($D19,'Mau 3'!$D$10:$V$26,10,0),0) -> 0 | I19: =IFERROR(VLOOKUP($D19,'Mau 3'!$D$10:$V$26,19,0),0) -> 0
A20: 11 | B20: Nguyễn Thị Minh | C20: Thùy | D20: 01003013 | E20: A2 | F20: A3 | H20: =IFERROR(VLOOKUP($D20,'Mau 3'!$D$10:$V$26,10,0),0) -> 1 | I20: =IFERROR(VLOOKUP($D20,'Mau 3'!$D$10:$V$26,19,0),0) -> 3
A21: 12 | B21: Nguyễn Mỹ | C21: Tiên | D21: 01025015 | E21: A2 | F21: A4 | H21: =IFERROR(VLOOKUP($D21,'Mau 3'!$D$10:$V$26,10,0),0) -> 0 | I21: =IFERROR(VLOOKUP($D21,'Mau 3'!$D$10:$V$26,19,0),0) -> 0
A22: 13 | B22: Nguyễn Thị Thùy | C22: Tiên | D22: 01005010 | E22: A2 | F22: A3 | H22: =IFERROR(VLOOKUP($D22,'Mau 3'!$D$10:$V$26,10,0),0) -> 2 | I22: =IFERROR(VLOOKUP($D22,'Mau 3'!$D$10:$V$26,19,0),0) -> 1
A23: 14 | B23: Lữ Xuân | C23: Trang | D23: 01025009 | E23: A2 | F23: A4 | H23: =IFERROR(VLOOKUP($D23,'Mau 3'!$D$10:$V$26,10,0),0) -> 0 | I23: =IFERROR(VLOOKUP($D23,'Mau 3'!$D$10:$V$26,19,0),0) -> 1
A24: 15 | B24: Bùi Ánh | C24: Tuyết | D24: 01025003 | E24: A2 | F24: A4 | H24: =IFERROR(VLOOKUP($D24,'Mau 3'!$D$10:$V$26,10,0),0) -> 0 | I24: =IFERROR(VLOOKUP($D24,'Mau 3'!$D$10:$V$26,19,0),0) -> 0
A25: II. Hợp đồng trường
B29: Kết quả xếp loại | H29: Viên chức | J29: Hợp đồng trường
B30: A1 | H30: =COUNTIF($F$10:$F$24,"A1") -> 0 | J30: =COUNTIF($F$26:$F$26,"A1") -> 0
B31: A2 | H31: =COUNTIF($F$10:$F$24,"A2") -> 2 | J31: =COUNTIF($F$26:$F$26,"A3") -> 0
B32: A3 | H32: =COUNTIF($F$10:$F$24,"A3") -> 3 | J32: =COUNTIF($F$26:$F$26,"A3") -> 0
B33: A4 | H33: =COUNTIF($F$10:$F$24,"A4") -> 9 | J33: =COUNTIF($F$26:$F$26,"A4") -> 0
B34: A DN | H34: =COUNTIF($F$10:$F$24,"A DN") -> 0 | J34: =COUNTIF($F$26:$F$26,"A DN") -> 0
B35: B1 | H35: =COUNTIF($F$10:$F$24,"B1") -> 0 | J35: =COUNTIF($F$26:$F$26,"B1") -> 0
B36: B2 | H36: =COUNTIF($F$10:$F$24,"B2") -> 1 | J36: =COUNTIF($F$26:$F$26,"B2") -> 0
B37: C1 | H37: =COUNTIF($F$10:$F$24,"C1") -> 0 | J37: =COUNTIF($F$26:$F$26,"C1") -> 0
B38: C2 | H38: =COUNTIF($F$10:$F$24,"C2") -> 0 | J38: =COUNTIF($F$26:$F$26,"C2") -> 0
B39: D | H39: =COUNTIF($F$10:$F$24,"D") -> 0 | J39: =COUNTIF($F$26:$F$26,"D") -> 0
B40: E | H40: =COUNTIF($F$10:$F$24,"E") -> 0 | J40: =COUNTIF($F$26:$F$26,"E") -> 0
B41: Tổng số nhân sự: | H41: =SUM(H30:H40) -> 15 | J41: =SUM(J30:J40) -> 0
A43: Lưu ý: Các đơn vị gửi file mềm qua hệ thống điện tử E-office nhà trường và văn bản giấy về phòng TC-HC-TH (Cô Trần Thị Ánh Phượng).
H44: TP. HCM, ngày 20 tháng 05 năm 2022
H45: TRƯỞNG ĐƠN VỊ
H49: Nguyễn Trọng Nghĩa

Sheet Sheet1
