Workbook

Sheet HK2 21-22
A1: ỦY BAN NHÂN DÂN THÀNH PHỐ HỒ CHÍ MINH
A2: TRƯỜNG CAO ĐẲNG LÝ TỰ TRỌNG
A3: THÀNH PHỐ HỒ CHÍ MINH
A6: KHỐI LƯỢNG COI THI, CHẤM THI HỌC KÌ 2 NĂM HỌC 2021 - 2022 KHOA ĐIỆN - ĐIỆN TỬ
E12: 2 | F12: 3 | G12: 4 | H12: 5 | I12: 6 | J12: 7 | K12: 8 | L12: 9 | M12: 10 | N12: 11 | O12: 12 | P12: 13 | Q12: 14 | R12: 15 | S12: 16 | T12: 17 | U12: 18 | V12: 19 | W12: 20 | X12: 21 | Y12: 22 | Z12: 23 | AA12: 24 | AB12: 25 | AC12: 26 | AD12: 27 | AE12: 28 | AF12: 29 | AG12: 30 | AH12: 31 | AI12: 32 | AJ12: 33 | AK12: 34 | AL12: 35 | AM12: 36 | AN12: 37 | AO12: 38 | AP12: 39 | AQ12: 40 | AR12: 41 | AS12: 42
E13: =SUBTOTAL(9,E17:E55) -> 14 | F13: =SUBTOTAL(9,F17:F55) -> 24 | G13: =SUBTOTAL(9,G17:G55) -> 33 | H13: =SUBTOTAL(9,H17:H55) -> 0 | I13: =SUBTOTAL(9,I17:I55) -> 0 | J13: =SUBTOTAL(9,J17:J55) -> 0 | K13: =SUBTOTAL(9,K17:K55) -> 0 | L13: =SUBTOTAL(9,L17:L55) -> 0 | ... AT13: =SUBTOTAL(9,AT17:AT55) -> 191.9
B14: Mã nhân sự | C14: Đơn vị | D14: HỌ VÀ TÊN GIẢNG VIÊN | E14: ĐỀ THI | N14: COI THI | S14: CHẤM THI KTHP | AI14: CHẤM THI TỐT NGHIỆP | AR14: DỰ PHÒNG KỲ THI | AS14: GIÁM SÁT | AT14: TỔNG KHỐI LƯỢNG | AU14: =SUBTOTAL(9,AT:AT) -> 191.9
S15: LÝ THUYẾT (TV+TN) | W15: VẤN ĐÁP | AA15: TIỂU LUẬN | AE15: THỰC HÀNH | AI15: LÝ THUYẾT (TV+TN) | AL15: VẤN ĐÁP | AO15: THỰC HÀNH
E16: SL ĐỀ LT KTHP | F16: SL ĐỀ TN KTHP | G16: SL ĐỀ VĐ KTHP | H16: SL ĐỀ TH KTHP | I16: SL ĐỀ LT ThiTN | J16: SL ĐỀ TN ThiTN | K16: SL ĐỀ VĐ ThiTN | L16: SL ĐỀ TH ThiTN | M16: KL SOẠN ĐỀ (tiết) | N16: COITHI 2 KTHP | O16: COITHI 1 KTHP | P16: COITHI 1 Thi TN | Q16: COITHI 2 Thi TN | R16: KL COITHI (tiết) | S16: SL CHẤM LT 1 | T16: SL CHẤM LT 2 | U16: SL CHẤM NV | V16: KL CHẤM LT (tiết) | W16: SL CHẤM TL 1 | X16: SL CHẤM TL 2 | Y16: SL CHẤM NV | Z16: KL CHẤM TL (tiết) | AA16: SL CHẤM TL 1 | AB16: SL CHẤM TL 2 | AC16: SL CHẤM NV | AD16: KL CHẤM TL (tiết) | AE16: SL CHẤM TL 1 | AF16: SL CHẤM TL 2 | AG16: SL CHẤM NV | AH16: KL CHẤM TL (tiết) | AI16: SL BÀI LT CHẤM 1 | AJ16: SL BÀI LT CHẤM 2 | AK16: KL CHẤM LT (tiết) | AL16: SL BÀI VĐ CHẤM 1 | AM16: SL BÀI VĐ CHẤM 2 | AN16: KL CHẤM VĐ (tiết) | AO16: SL BÀI TL CHẤM 1 | AP16: SL BÀI TL CHẤM 2 | AQ16: KL CHẤM TL (tiết)
A17: =IF(D17="","",SUBTOTAL(3,$D$17:D17)) -> 1 | B17: 01014044 | C17: Khoa CN Điện - Điện tử | D17: Cao Thị Xuân Thùy (TG) | E17: 0 | F17: 0 | G17: 0 | H17: 0 | I17: 0 | J17: 0 | K17: 0 | L17: 0 | M17: 0 | N17: 0 | O17: 0 | P17: 0 | Q17: 0 | R17: 0 | S17: 0 | T17: 0 | U17: 0 | V17: 0 | W17: 0 | X17: 0 | Y17: 0 | Z17: 0 | AA17: 0 | AB17: 0 | AC17: 0 | AD17: 0 | AE17: 0 | AF17: 0 | AG17: 0 | AH17: 0 | AI17: 0 | AJ17: 0 | AK17: 0 | AL17: 0 | AM17: 0 | AN17: 0 | AO17: 0 | AP17: 0 | AQ17: 0 | AR17: 0 | AS17: 0 | AT17: 0
A18: =IF(D18="","",SUBTOTAL(3,$D$17:D18)) -> 2 | B18: 01014045 | C18: Khoa CN Điện - Điện tử | D18: Cao Văn Tuấn | E18: 0 | F18: 0 | G18: 0 | H18: 0 | I18: 0 | J18: 0 | K18: 0 | L18: 0 | M18: 0 | N18: 2.4 | O18: 1.8 | P18: 0 | Q18: 0 | R18: 4.2 | S18: 0 | T18: 0 | U18: 0 | V18: 0 | W18: 0 | X18: 0 | Y18: 0 | Z18: 0 | AA18: 11 | AB18: 0 | AC18: 11 | AD18: 0 | AE18: 0 | AF18: 0 | AG18: 0 | AH18: 0 | AI18: 0 | AJ18: 0 | AK18: 0 | AL18: 0 | AM18: 0 | AN18: 0 | AO18: 0 | AP18: 0 | AQ18: 0 | AR18: 0 | AS18: 0.6 | AT18: 4.8
A19: =IF(D19="","",SUBTOTAL(3,$D$17:D19)) -> 3 | B19: 01014024 | C19: Khoa CN Điện - Điện tử | D19: Đặng Đức Minh | E19: 0 | F19: 0 | G19: 0 | H19: 0 | I19: 0 | J19: 0 | K19: 0 | L19: 0 | M19: 0 | N19: 2.1 | O19: 1.05 | P19: 0 | Q19: 0 | R19: 3.15 | S19: 0 | T19: 0 | U19: 0 | V19: 0 | W19: 0 | X19: 0 | Y19: 0 | Z19: 0 | AA19: 30 | AB19: 0 | AC19: 30 | AD19: 0 | AE19: 0 | AF19: 0 | AG19: 0 | AH19: 0 | AI19: 0 | AJ19: 0 | AK19: 0 | AL19: 0 | AM19: 0 | AN19: 0 | AO19: 0 | AP19: 0 | AQ19: 0 | AR19: 0 | AS19: 0 | AT19: 3.2
A20: =IF(D20="","",SUBTOTAL(3,$D$17:D20)) -> 4 | B20: 01014043 | C20: Khoa CN Điện - Điện tử | D20: Đinh Văn Chuyên (TG) | E20: 0 | F20: 0 | G20: 0 | H20: 0 | I20: 0 | J20: 0 | K20: 0 | L20: 0 | M20: 0 | N20: 0 | O20: 0 | P20: 0 | Q20: 0 | R20: 0 | S20: 0 | T20: 0 | U20: 0 | V20: 0 | W20: 0 | X20: 0 | Y20: 0 | Z20: 0 | AA20: 0 | AB20: 0 | AC20: 0 | AD20: 0 | AE20: 0 | AF20: 0 | AG20: 0 | AH20: 0 | AI20: 0 | AJ20: 0 | AK20: 0 | AL20: 0 | AM20: 0 | AN20: 0 | AO20: 0 | AP20: 0 | AQ20: 0 | AR20: 0 | AS20: 0 | AT20: 0
A21: =IF(D21="","",SUBTOTAL(3,$D$17:D21)) -> 5 | B21: 01014032 | C21: Khoa CN Điện - Điện tử | D21: Đỗ Huỳnh Thanh Phong | E21: 2 | F21: 0 | G21: 0 | H21: 0 | I21: 0 | J21: 0 | K21: 0 | L21: 0 | M21: 2 | N21: 1.2 | O21: 0.6 | P21: 0 | Q21: 0 | R21: 1.8 | S21: 46 | T21: 79 | U21: 91 | V21: 3.4 | W21: 0 | X21: 0 | Y21: 0 | Z21: 0 | AA21: 0 | AB21: 52 | AC21: 14 | AD21: 3.8 | AE21: 0 | AF21: 0 | AG21: 0 | AH21: 0 | AI21: 0 | AJ21: 0 | AK21: 0 | AL21: 0 | AM21: 0 | AN21: 0 | AO21: 0 | AP21: 0 | AQ21: 0 | AR21: 0 | AS21: 0 | AT21: 11
A22: =IF(D22="","",SUBTOTAL(3,$D$17:D22)) -> 6 | B22: 01014004 | C22: Khoa CN Điện - Điện tử | D22: Huỳnh Ngọc Mai | E22: 0 | F22: 0 | G22: 0 | H22: 0 | I22: 0 | J22: 0 | K22: 0 | L22: 0 | M22: 0 | N22: 0 | O22: 0.6 | P22: 0 | Q22: 0 | R22: 0.6 | S22: 0 | T22: 0 | U22: 0 | V22: 0 | W22: 0 | X22: 0 | Y22: 0 | Z22: 0 | AA22: 0 | AB22: 0 | AC22: 0 | AD22: 0 | AE22: 0 | AF22: 0 | AG22: 0 | AH22: 0 | AI22: 0 | AJ22: 0 | AK22: 0 | AL22: 0 | AM22: 0 | AN22: 0 | AO22: 0 | AP22: 0 | AQ22: 0 | AR22: 0 | AS22: 0 | AT22: 0.6
A23: =IF(D23="","",SUBTOTAL(3,$D$17:D23)) -> 7 | B23: 01010069 | C23: Khoa CN Điện - Điện tử | D23: Lê Hồng Vân (TG) | E23: 0 | F23: 0 | G23: 0 | H23: 0 | I23: 0 | J23: 0 | K23: 0 | L23: 0 | M23: 0 | N23: 0 | O23: 0 | P23: 0 | Q23: 0 | R23: 0 | S23: 0 | T23: 0 | U23: 0 | V23: 0 | W23: 0 | X23: 0 | Y23: 0 | Z23: 0 | AA23: 0 | AB23: 0 | AC23: 0 | AD23: 0 | AE23: 0 | AF23: 0 | AG23: 0 | AH23: 0 | AI23: 0 | AJ23: 0 | AK23: 0 | AL23: 0 | AM23: 0 | AN23: 0 | AO23: 0 | AP23: 0 | AQ23: 0 | AR23: 0 | AS23: 0 | AT23: 0
A24: =IF(D24="","",SUBTOTAL(3,$D$17:D24)) -> 8 | B24: 01014049 | C24: Khoa CN Điện - Điện tử | D24: Lê Quang Bình (TG) | E24: 0 | F24: 0 | G24: 0 | H24: 0 | I24: 0 | J24: 0 | K24: 0 | L24: 0 | M24: 0 | N24: 0 | O24: 0 | P24: 0 | Q24: 0 | R24: 0 | S24: 0 | T24: 0 | U24: 0 | V24: 0 | W24: 0 | X24: 0 | Y24: 0 | Z24: 0 | AA24: 0 | AB24: 0 | AC24: 0 | AD24: 0 | AE24: 0 | AF24: 0 | AG24: 0 | AH24: 0 | AI24: 0 | AJ24: 0 | AK24: 0 | AL24: 0 | AM24: 0 | AN24: 0 | AO24: 0 | AP24: 0 | AQ24: 0 | AR24: 0 | AS24: 0 | AT24: 0
A25: =IF(D25="","",SUBTOTAL(3,$D$17:D25)) -> 9 | B25: 01014019 | C25: Khoa CN Điện - Điện tử | D25: Lê Thế Huân | E25: 2 | F25: 0 | G25: 0 | H25: 0 | I25: 0 | J25: 0 | K25: 0 | L25: 0 | M25: 2 | N25: 1.2 | O25: 1.2 | P25: 0 | Q25: 0 | R25: 2.4 | S25: 13 | T25: 0 | U25: 13 | V25: 0 | W25: 0 | X25: 0 | Y25: 0 | Z25: 0 | AA25: 0 | AB25: 0 | AC25: 0 | AD25: 0 | AE25: 0 | AF25: 0 | AG25: 0 | AH25: 0 | AI25: 0 | AJ25: 0 | AK25: 0 | AL25: 0 | AM25: 0 | AN25: 0 | AO25: 0 | AP25: 0 | AQ25: 0 | AR25: 0 | AS25: 3 | AT25: 7.4
A26: =IF(D26="","",SUBTOTAL(3,$D$17:D26)) -> 10 | B26: 01014023 | C26: Khoa CN Điện - Điện tử | D26: Lê Tiến Đạt | E26: 0 | F26: 0 | G26: 0 | H26: 0 | I26: 0 | J26: 0 | K26: 0 | L26: 0 | M26: 0 | N26: 0 | O26: 1.2 | P26: 0 | Q26: 0 | R26: 1.2 | S26: 9 | T26: 0 | U26: 0 | V26: 0.9 | W26: 0 | X26: 0 | Y26: 0 | Z26: 0 | AA26: 0 | AB26: 0 | AC26: 0 | AD26: 0 | AE26: 0 | AF26: 0 | AG26: 0 | AH26: 0 | AI26: 0 | AJ26: 0 | AK26: 0 | AL26: 0 | AM26: 0 | AN26: 0 | AO26: 0 | AP26: 0 | AQ26: 0 | AR26: 0 | AS26: 1.5 | AT26: 3.6
A27: =IF(D27="","",SUBTOTAL(3,$D$17:D27)) -> 11 | B27: 01014018 | C27: Khoa CN Điện - Điện tử | D27: Mạnh Lê Hoàn | E27: 0 | F27: 0 | G27: 0 | H27: 0 | I27: 0 | J27: 0 | K27: 0 | L27: 0 | M27: 0 | N27: 1.8 | O27: 0.6 | P27: 0 | Q27: 0 | R27: 2.4 | S27: 0 | T27: 0 | U27: 0 | V27: 0 | W27: 0 | X27: 0 | Y27: 0 | Z27: 0 | AA27: 0 | AB27: 0 | AC27: 0 | AD27: 0 | AE27: 0 | AF27: 0 | AG27: 0 | AH27: 0 | AI27: 0 | AJ27: 0 | AK27: 0 | AL27: 0 | AM27: 0 | AN27: 0 | AO27: 0 | AP27: 0 | AQ27: 0 | AR27: 0 | AS27: 0 | AT27: 2.4
A28: =IF(D28="","",SUBTOTAL(3,$D$17:D28)) -> 12 | B28: 01014005 | C28: Khoa CN Điện - Điện tử | D28: Ngô Hoàng Anh | E28: 0 | F28: 4 | G28: 0 | H28: 0 | I28: 0 | J28: 0 | K28: 0 | L28: 0 | M28: 6 | N28: 1.2 | O28: 1.05 | P28: 0 | Q28: 0 | R28: 2.25 | S28: 0 | T28: 0 | U28: 0 | V28: 0 | W28: 0 | X28: 0 | Y28: 0 | Z28: 0 | AA28: 0 | AB28: 0 | AC28: 0 | AD28: 0 | AE28: 11 | AF28: 0 | AG28: 11 | AH28: 0 | AI28: 0 | AJ28: 0 | AK28: 0 | AL28: 0 | AM28: 0 | AN28: 0 | AO28: 0 | AP28: 0 | AQ28: 0 | AR28: 0 | AS28: 0 | AT28: 8.3
... A54: =IF(D54="","",SUBTOTAL(3,$D$17:D54)) -> 38 | B54: 01014026 | C54: Khoa CN Điện - Điện tử | D54: Vũ Hạnh Chiêu | E54: 0 | F54: 0 | G54: 0 | H54: 0 | I54: 0 | J54: 0 | K54: 0 | L54: 0 | M54: 0 | N54: 3.9 | O54: 0 | P54: 0 | Q54: 0 | R54: 3.9 | S54: 0 | T54: 0 | U54: 0 | V54: 0 | W54: 0 | X54: 0 | Y54: 0 | Z54: 0 | AA54: 0 | AB54: 0 | AC54: 0 | AD54: 0 | AE54: 0 | AF54: 0 | AG54: 0 | AH54: 0 | AI54: 0 | AJ54: 0 | AK54: 0 | AL54: 0 | AM54: 0 | AN54: 0 | AO54: 0 | AP54: 0 | AQ54: 0 | AR54: 0 | AS54: 0 | AT54: 3.9
A55: =IF(D55="","",SUBTOTAL(3,$D$17:D55)) -> 39 | C55: Khoa CN Điện - Điện tử | D55: Phan Thanh Hoàng | E55: 0 | F55: 0 | G55: 0 | H55: 0 | I55: 0 | J55: 0 | K55: 0 | L55: 0 | M55: 0 | N55: 1.2 | O55: 0 | P55: 0 | Q55: 0 | R55: 1.2 | S55: 0 | T55: 0 | U55: 0 | V55: 0 | W55: 0 | X55: 0 | Y55: 0 | Z55: 0 | AA55: 0 | AB55: 0 | AC55: 0 | AD55: 0 | AE55: 0 | AF55: 0 | AG55: 0 | AH55: 0 | AI55: 0 | AJ55: 0 | AK55: 0 | AL55: 0 | AM55: 0 | AN55: 0 | AO55: 0 | AP55: 0 | AQ55: 0 | AR55: 0 | AS55: 0 | AT55: 1.2
E68: =SUBTOTAL(9,E17:E54) -> 14 | F68: =SUBTOTAL(9,F15:F67) -> 24 | G68: =SUBTOTAL(9,G15:G67) -> 33 | H68: =SUBTOTAL(9,H15:H67) -> 0 | I68: =SUBTOTAL(9,I15:I67) -> 0 | J68: =SUBTOTAL(9,J15:J67) -> 0 | K68: =SUBTOTAL(9,K15:K67) -> 0 | L68: =SUBTOTAL(9,L15:L67) -> 0 | M68: =SUBTOTAL(9,M15:M67) -> 58.25 | ... T68: =SUBTOTAL(9,T15:T67) -> 209 | V68: =SUBTOTAL(9,V15:V67) -> 20.9 | W68: =SUBTOTAL(9,W15:W67) -> 48 | X68: =SUBTOTAL(9,X15:X67) -> 48 | Z68: =SUBTOTAL(9,Z15:Z67) -> 9.6 | AA68: =SUBTOTAL(9,AA15:AA67) -> 119 | AB68: =SUBTOTAL(9,AB15:AB67) -> 119 | AD68: =SUBTOTAL(9,AD15:AD67) -> 11.9 | AE68: =SUBTOTAL(9,AE15:AE67) -> 11 | AF68: =SUBTOTAL(9,AF15:AF67) -> 11 | AH68: =SUBTOTAL(9,AH15:AH67) -> 2.2 | AI68: =SUBTOTAL(9,AI15:AI67) -> 0 | AJ68: =SUBTOTAL(9,AJ15:AJ67) -> 0 | AK68: =SUBTOTAL(9,AK15:AK67) -> 0 | AL68: =SUBTOTAL(9,AL15:AL67) -> 0 | AM68: =SUBTOTAL(9,AM15:AM67) -> 0 | AN68: =SUBTOTAL(9,AN15:AN67) -> 0 | AO68: =SUBTOTAL(9,AO15:AO67) -> 0 | ... AT68: =SUBTOTAL(9,AT15:AT67) -> 191.9

Sheet HKI 21-22 
A1: ỦY BAN NHÂN DÂN THÀNH PHỐ HỒ CHÍ MINH
A2: TRƯỜNG CAO ĐẲNG LÝ TỰ TRỌNG
A3: THÀNH PHỐ HỒ CHÍ MINH
A6: KHỐI LƯỢNG COI THI, CHẤM THI HỌC KÌ 1 NĂM HỌC 2021 - 2022 KHOA ĐIỆN - ĐIỆN TỬ
E12: 2 | F12: 3 | G12: 4 | H12: 5 | I12: 6 | J12: 7 | K12: 8 | L12: 9 | M12: 10 | N12: 11 | O12: 12 | P12: 13 | Q12: 14 | R12: 15 | S12: 16 | T12: 17 | U12: 18 | V12: 19 | W12: 20 | X12: 21 | Y12: 22 | Z12: 23 | AA12: 24 | AB12: 25 | AC12: 26 | AD12: 27 | AE12: 28 | AF12: 29 | AG12: 30 | AH12: 31 | AI12: 32 | AJ12: 33 | AK12: 34 | AL12: 35 | AM12: 36 | AN12: 37 | AO12: 38 | AP12: 39 | AQ12: 40 | AR12: 41 | AS12: 42 | AT12: 43
E13: =SUBTOTAL(9,E17:E74) -> 0 | F13: =SUBTOTAL(9,F15:F74) -> 0 | G13: =SUBTOTAL(9,G15:G74) -> 43 | H13: =SUBTOTAL(9,H15:H74) -> 0 | I13: =SUBTOTAL(9,I15:I74) -> 0 | J13: =SUBTOTAL(9,J15:J74) -> 0 | K13: =SUBTOTAL(9,K15:K74) -> 0 | L13: =SUBTOTAL(9,L15:L74) -> 0 | M13: =SUBTOTAL(9,M15:M74) -> 10.75 | ... AT13: =SUBTOTAL(9,AT15:AT74) -> 360.7
A14: STT | B14: Mã nhân sự | C14: Đơn vị | D14: HỌ VÀ TÊN GIẢNG VIÊN | E14: ĐỀ THI | N14: COI THI | S14: CHẤM THI KTHP | AI14: CHẤM THI TỐT NGHIỆP | AR14: DỰ PHÒNG KỲ THI | AS14: GIÁM SÁT | AT14: TỔNG KHỐI LƯỢNG | AU14: =SUBTOTAL(9,AT:AT) -> 403.7
S15: LÝ THUYẾT (TV+TN) | W15: VẤN ĐÁP | AA15: TIỂU LUẬN | AE15: THỰC HÀNH | AI15: LÝ THUYẾT (TV+TN) | AL15: VẤN ĐÁP | AO15: THỰC HÀNH
E16: SL ĐỀ LT KTHP | F16: SL ĐỀ TN KTHP | G16: SL ĐỀ VĐ KTHP | H16: SL ĐỀ TH KTHP | I16: SL ĐỀ LT ThiTN | J16: SL ĐỀ TN ThiTN | K16: SL ĐỀ VĐ ThiTN | L16: SL ĐỀ TH ThiTN | M16: KL SOẠN ĐỀ (tiết) | N16: COITHI 2 KTHP | O16: COITHI 1 KTHP | P16: COITHI 1 Thi TN | Q16: COITHI 2 Thi TN | R16: KL COITHI (tiết) | S16: SL CHẤM LT 1 | T16: SL CHẤM LT 2 | U16: SL CHẤM NV | V16: KL CHẤM LT (tiết) | W16: SL CHẤM TL 1 | X16: SL CHẤM TL 2 | Y16: SL CHẤM NV | Z16: KL CHẤM TL (tiết) | AA16: SL CHẤM TL 1 | AB16: SL CHẤM TL 2 | AC16: SL CHẤM NV | AD16: KL CHẤM TL (tiết) | AE16: SL CHẤM TL 1 | AF16: SL CHẤM TL 2 | AG16: SL CHẤM NV | AH16: KL CHẤM TL (tiết) | AI16: SL BÀI LT CHẤM 1 | AJ16: SL BÀI LT CHẤM 2 | AK16: KL CHẤM LT (tiết) | AL16: SL BÀI VĐ CHẤM 1 | AM16: SL BÀI VĐ CHẤM 2 | AN16: KL CHẤM VĐ (tiết) | AO16: SL BÀI TL CHẤM 1 | AP16: SL BÀI TL CHẤM 2 | AQ16: KL CHẤM TL (tiết)
A17: =IF(D17="","",SUBTOTAL(3,$D$17:D17)) -> 1 | B17: 01014044 | C17: Khoa Điện - Điện tử | D17: Cao Thị Xuân Thùy (TG) | E17: 0 | F17: 0 | G17: 0 | H17: 0 | I17: 0 | J17: 0 | K17: 0 | L17: 0 | M17: 0 | N17: 0 | O17: 0 | P17: 0 | Q17: 0 | R17: 0 | S17: 0 | T17: 0 | U17: 0 | V17: 0 | W17: 0 | X17: 0 | Y17: 0 | Z17: 0 | AA17: 0 | AB17: 0 | AC17: 0 | AD17: 0 | AE17: 0 | AF17: 0 | AG17: 0 | AH17: 0 | AI17: 0 | AJ17: 0 | AK17: 0 | AL17: 0 | AM17: 0 | AN17: 0 | AO17: 0 | AP17: 0 | AQ17: 0 | AR17: 0 | AS17: 0 | AT17: 0
A18: =IF(D18="","",SUBTOTAL(3,$D$17:D18)) -> 2 | B18: 01014045 | C18: Khoa Điện - Điện tử | D18: Cao Văn Tuấn | E18: 0 | F18: 0 | G18: 10 | H18: 0 | I18: 0 | J18: 0 | K18: 0 | L18: 0 | M18: 2.5 | N18: 0 | O18: 0.75 | P18: 0 | Q18: 0 | R18: 0.75 | S18: 0 | T18: 0 | U18: 0 | V18: 0 | W18: 13 | X18: 16 | Y18: 0 | Z18: 5.8 | AA18: 94 | AB18: 138 | AC18: 94 | AD18: 13.8 | AE18: 0 | AF18: 0 | AG18: 0 | AH18: 0 | AI18: 0 | AJ18: 0 | AK18: 0 | AL18: 0 | AM18: 0 | AN18: 0 | AO18: 0 | AP18: 0 | AQ18: 0 | AR18: 0 | AS18: 0 | AT18: 22.9
A19: =IF(D19="","",SUBTOTAL(3,$D$17:D19)) -> 3 | B19: 01014024 | C19: Khoa Điện - Điện tử | D19: Đặng Đức Minh | E19: 0 | F19: 0 | G19: 0 | H19: 0 | I19: 0 | J19: 0 | K19: 0 | L19: 0 | M19: 0 | N19: 0.75 | O19: 0 | P19: 0 | Q19: 0 | R19: 0.75 | S19: 0 | T19: 0 | U19: 0 | V19: 0 | W19: 0 | X19: 0 | Y19: 0 | Z19: 0 | AA19: 103 | AB19: 95 | AC19: 103 | AD19: 9.5 | AE19: 0 | AF19: 0 | AG19: 0 | AH19: 0 | AI19: 0 | AJ19: 0 | AK19: 0 | AL19: 0 | AM19: 0 | AN19: 0 | AO19: 0 | AP19: 0 | AQ19: 0 | AR19: 0 | AS19: 0.5 | AT19: 10.8
A20: =IF(D20="","",SUBTOTAL(3,$D$17:D20)) -> 4 | B20: 01014043 | C20: Khoa Điện - Điện tử | D20: Đinh Văn Chuyên (TG) | E20: 0 | F20: 0 | G20: 0 | H20: 0 | I20: 0 | J20: 0 | K20: 0 | L20: 0 | M20: 0 | N20: 0 | O20: 0 | P20: 0 | Q20: 0 | R20: 0 | S20: 0 | T20: 0 | U20: 0 | V20: 0 | W20: 0 | X20: 0 | Y20: 0 | Z20: 0 | AA20: 0 | AB20: 0 | AC20: 0 | AD20: 0 | AE20: 0 | AF20: 0 | AG20: 0 | AH20: 0 | AI20: 0 | AJ20: 0 | AK20: 0 | AL20: 0 | AM20: 0 | AN20: 0 | AO20: 0 | AP20: 0 | AQ20: 0 | AR20: 0 | AS20: 0 | AT20: 0
A21: =IF(D21="","",SUBTOTAL(3,$D$17:D21)) -> 5 | B21: 01014032 | C21: Khoa Điện - Điện tử | D21: Đỗ Huỳnh Thanh Phong | E21: 0 | F21: 0 | G21: 0 | H21: 0 | I21: 0 | J21: 0 | K21: 0 | L21: 0 | M21: 0 | N21: 0 | O21: 0 | P21: 0 | Q21: 0 | R21: 0 | S21: 0 | T21: 0 | U21: 0 | V21: 0 | W21: 0 | X21: 0 | Y21: 0 | Z21: 0 | AA21: 144 | AB21: 136 | AC21: 144 | AD21: 13.6 | AE21: 0 | AF21: 0 | AG21: 0 | AH21: 0 | AI21: 0 | AJ21: 0 | AK21: 0 | AL21: 0 | AM21: 0 | AN21: 0 | AO21: 0 | AP21: 0 | AQ21: 0 | AR21: 0 | AS21: 0 | AT21: 13.6
A22: =IF(D22="","",SUBTOTAL(3,$D$17:D22)) -> 6 | B22: 01014004 | C22: Khoa Điện - Điện tử | D22: Huỳnh Ngọc Mai | E22: 0 | F22: 0 | G22: 0 | H22: 0 | I22: 0 | J22: 0 | K22: 0 | L22: 0 | M22: 0 | N22: 0 | O22: 0 | P22: 0 | Q22: 0 | R22: 0 | S22: 0 | T22: 0 | U22: 0 | V22: 0 | W22: 0 | X22: 0 | Y22: 0 | Z22: 0 | AA22: 62 | AB22: 61 | AC22: 62 | AD22: 6.1 | AE22: 0 | AF22: 0 | AG22: 0 | AH22: 0 | AI22: 0 | AJ22: 0 | AK22: 0 | AL22: 0 | AM22: 0 | AN22: 0 | AO22: 0 | AP22: 0 | AQ22: 0 | AR22: 0 | AS22: 0 | AT22: 6.1
A23: =IF(D23="","",SUBTOTAL(3,$D$17:D23)) -> 7 | B23: 01010069 | C23: Khoa Điện - Điện tử | D23: Lê Hồng Vân (TG) | E23: 0 | F23: 0 | G23: 0 | H23: 0 | I23: 0 | J23: 0 | K23: 0 | L23: 0 | M23: 0 | N23: 0 | O23: 0 | P23: 0 | Q23: 0 | R23: 0 | S23: 0 | T23: 0 | U23: 0 | V23: 0 | W23: 0 | X23: 0 | Y23: 0 | Z23: 0 | AA23: 0 | AB23: 0 | AC23: 0 | AD23: 0 | AE23: 0 | AF23: 0 | AG23: 0 | AH23: 0 | AI23: 0 | AJ23: 0 | AK23: 0 | AL23: 0 | AM23: 0 | AN23: 0 | AO23: 0 | AP23: 0 | AQ23: 0 | AR23: 0 | AS23: 0 | AT23: 0
A24: =IF(D24="","",SUBTOTAL(3,$D$17:D24)) -> 8 | B24: 01014049 | C24: Khoa Điện - Điện tử | D24: Lê Quang Bình (TG) | E24: 0 | F24: 0 | G24: 0 | H24: 0 | I24: 0 | J24: 0 | K24: 0 | L24: 0 | M24: 0 | N24: 0 | O24: 0 | P24: 0 | Q24: 0 | R24: 0 | S24: 0 | T24: 0 | U24: 0 | V24: 0 | W24: 0 | X24: 0 | Y24: 0 | Z24: 0 | AA24: 0 | AB24: 0 | AC24: 0 | AD24: 0 | AE24: 0 | AF24: 0 | AG24: 0 | AH24: 0 | AI24: 0 | AJ24: 0 | AK24: 0 | AL24: 0 | AM24: 0 | AN24: 0 | AO24: 0 | AP24: 0 | AQ24: 0 | AR24: 0 | AS24: 0 | AT24: 0
A25: =IF(D25="","",SUBTOTAL(3,$D$17:D25)) -> 9 | B25: 01014019 | C25: Khoa Điện - Điện tử | D25: Lê Thế Huân | E25: 0 | F25: 0 | G25: 0 | H25: 0 | I25: 0 | J25: 0 | K25: 0 | L25: 0 | M25: 0 | N25: 0 | O25: 0 | P25: 0 | Q25: 0 | R25: 0 | S25: 0 | T25: 0 | U25: 0 | V25: 0 | W25: 0 | X25: 0 | Y25: 0 | Z25: 0 | AA25: 102 | AB25: 40 | AC25: 78 | AD25: 6.4 | AE25: 0 | AF25: 0 | AG25: 0 | AH25: 0 | AI25: 0 | AJ25: 0 | AK25: 0 | AL25: 0 | AM25: 0 | AN25: 0 | AO25: 0 | AP25: 0 | AQ25: 0 | AR25: 0 | AS25: 0 | AT25: 6.4
A26: =IF(D26="","",SUBTOTAL(3,$D$17:D26)) -> 10 | B26: 01014023 | C26: Khoa Điện - Điện tử | D26: Lê Tiến Đạt | E26: 0 | F26: 0 | G26: 0 | H26: 0 | I26: 0 | J26: 0 | K26: 0 | L26: 0 | M26: 0 | N26: 0 | O26: 0 | P26: 0 | Q26: 0 | R26: 0 | S26: 0 | T26: 0 | U26: 0 | V26: 0 | W26: 0 | X26: 0 | Y26: 0 | Z26: 0 | AA26: 106 | AB26: 87 | AC26: 106 | AD26: 8.7 | AE26: 0 | AF26: 0 | AG26: 0 | AH26: 0 | AI26: 0 | AJ26: 0 | AK26: 0 | AL26: 0 | AM26: 0 | AN26: 0 | AO26: 0 | AP26: 0 | AQ26: 0 | AR26: 0 | AS26: 0.8 | AT26: 9.5
A27: =IF(D27="","",SUBTOTAL(3,$D$17:D27)) -> 11 | B27: 01014018 | C27: Khoa Điện - Điện tử | D27: Mạnh Lê Hoàn | E27: 0 | F27: 0 | G27: 0 | H27: 0 | I27: 0 | J27: 0 | K27: 0 | L27: 0 | M27: 0 | N27: 0 | O27: 0.45 | P27: 0 | Q27: 0 | R27: 0.45 | S27: 0 | T27: 0 | U27: 0 | V27: 0 | W27: 0 | X27: 0 | Y27: 0 | Z27: 0 | AA27: 0 | AB27: 0 | AC27: 0 | AD27: 0 | AE27: 0 | AF27: 0 | AG27: 0 | AH27: 0 | AI27: 0 | AJ27: 0 | AK27: 0 | AL27: 0 | AM27: 0 | AN27: 0 | AO27: 0 | AP27: 0 | AQ27: 0 | AR27: 0 | AS27: 0 | AT27: 0.5
A28: =IF(D28="","",SUBTOTAL(3,$D$17:D28)) -> 12 | B28: 01014005 | C28: Khoa Điện - Điện tử | D28: Ngô Hoàng Anh | E28: 0 | F28: 0 | G28: 0 | H28: 0 | I28: 0 | J28: 0 | K28: 0 | L28: 0 | M28: 0 | N28: 0 | O28: 0 | P28: 0 | Q28: 0 | R28: 0 | S28: 0 | T28: 0 | U28: 0 | V28: 0 | W28: 0 | X28: 0 | Y28: 0 | Z28: 0 | AA28: 37 | AB28: 21 | AC28: 37 | AD28: 2.1 | AE28: 0 | AF28: 0 | AG28: 0 | AH28: 0 | AI28: 0 | AJ28: 0 | AK28: 0 | AL28: 0 | AM28: 0 | AN28: 0 | AO28: 0 | AP28: 0 | AQ28: 0 | AR28: 0 | AS28: 0 | AT28: 2.1
... A54: =IF(D54="","",SUBTOTAL(3,$D$17:D54)) -> 38 | B54: 01014026 | C54: Khoa Điện - Điện tử | D54: Vũ Hạnh Chiêu | E54: 0 | F54: 0 | G54: 0 | H54: 0 | I54: 0 | J54: 0 | K54: 0 | L54: 0 | M54: 0 | N54: 0 | O54: 0 | P54: 0 | Q54: 0 | R54: 0 | S54: 0 | T54: 0 | U54: 0 | V54: 0 | W54: 0 | X54: 0 | Y54: 0 | Z54: 0 | AA54: 204 | AB54: 118 | AC54: 204 | AD54: 11.8 | AE54: 0 | AF54: 0 | AG54: 0 | AH54: 0 | AI54: 0 | AJ54: 0 | AK54: 0 | AL54: 0 | AM54: 0 | AN54: 0 | AO54: 0 | AP54: 0 | AQ54: 0 | AR54: 0 | AS54: 0 | AT54: 11.8
A55: =IF(D55="","",SUBTOTAL(3,$D$17:D55)) -> 39 | C55: Khoa Điện - Điện tử | D55: Phan Thanh Hoàng | E55: 0 | F55: 0 | G55: 0 | H55: 0 | I55: 0 | J55: 0 | K55: 0 | L55: 0 | M55: 0 | N55: 0 | O55: 0 | P55: 0 | Q55: 0 | R55: 0 | S55: 0 | T55: 0 | U55: 0 | V55: 0 | W55: 0 | X55: 0 | Y55: 0 | Z55: 0 | AA55: 97 | AB55: 40 | AC55: 97 | AD55: 4 | AE55: 0 | AF55: 0 | AG55: 0 | AH55: 0 | AI55: 0 | AJ55: 0 | AK55: 0 | AL55: 0 | AM55: 0 | AN55: 0 | AO55: 0 | AP55: 0 | AQ55: 0 | AR55: 0 | AS55: 0 | AT55: 4
A68: =IF(D68="","",SUBTOTAL(3,$D$17:D68))
A69: =IF(D69="","",SUBTOTAL(3,$D$17:D69))
A70: =IF(D70="","",SUBTOTAL(3,$D$17:D70))
A71: =IF(D71="","",SUBTOTAL(3,$D$17:D71))
A72: =IF(D72="","",SUBTOTAL(3,$D$17:D72))
A73: =IF(D73="","",SUBTOTAL(3,$D$17:D73))
A74: =IF(D74="","",SUBTOTAL(3,$D$17:D74))
E75: =SUBTOTAL(9,E15:E74) -> 0 | F75: =SUBTOTAL(9,F15:F74) -> 0 | G75: =SUBTOTAL(9,G15:G74) -> 43 | H75: =SUBTOTAL(9,H15:H74) -> 0 | I75: =SUBTOTAL(9,I15:I74) -> 0 | J75: =SUBTOTAL(9,J15:J74) -> 0 | K75: =SUBTOTAL(9,K15:K74) -> 0 | L75: =SUBTOTAL(9,L15:L74) -> 0 | ... X75: =SUBTOTAL(9,X15:X74) -> 64 | Z75: =SUBTOTAL(9,Z15:Z74) -> 25.6 | AA75: =SUBTOTAL(9,AA15:AA74) -> 3161 | AB75: =SUBTOTAL(9,AB15:AB74) -> 3074 | AD75: =SUBTOTAL(9,AD15:AD74) -> 307.4 | AE75: =SUBTOTAL(9,AE15:AE74) -> 0 | AF75: =SUBTOTAL(9,AF15:AF74) -> 0 | AH75: =SUBTOTAL(9,AH15:AH74) -> 0 | AI75: =SUBTOTAL(9,AI15:AI74) -> 0 | AJ75: =SUBTOTAL(9,AJ15:AJ74) -> 0 | AK75: =SUBTOTAL(9,AK15:AK74) -> 0 | AL75: =SUBTOTAL(9,AL15:AL74) -> 0 | AM75: =SUBTOTAL(9,AM15:AM74) -> 0 | AN75: =SUBTOTAL(9,AN15:AN74) -> 0 | AO75: =SUBTOTAL(9,AO15:AO74) -> 0 | ... AT75: =SUBTOTAL(9,AT15:AT74) -> 360.7

Sheet HKII 20 - 21
A1: ỦY BAN NHÂN DÂN THÀNH PHỐ HỒ CHÍ MINH
A2: TRƯỜNG CAO ĐẲNG LÝ TỰ TRỌNG
A3: THÀNH PHỐ HỒ CHÍ MINH
A6: KHỐI LƯỢNG COI THI, CHẤM THI HỌC KÌ 2 NĂM HỌC 2020 - 2021 KHOA ĐIỆN - ĐIỆN TỬ
E12: 2 | F12: 3 | G12: 4 | H12: 5 | I12: 6 | J12: 7 | K12: 8 | L12: 9 | M12: 10 | N12: 11 | O12: 12 | P12: 13 | Q12: 14 | R12: 15 | S12: 16 | T12: 17 | U12: 18 | V12: 19 | W12: 20 | X12: 21 | Y12: 22 | Z12: 23 | AA12: 24 | AB12: 25 | AC12: 26 | AD12: 27 | AE12: 28 | AF12: 29 | AG12: 30 | AH12: 31 | AI12: 32 | AJ12: 33 | AK12: 34 | AL12: 35 | AM12: 36 | AN12: 37 | AO12: 38 | AP12: 39 | AQ12: 40 | AR12: 41 | AS12: 42 | AT12: 43
E13: =SUBTOTAL(9,E17:E102) -> 0 | F13: =SUBTOTAL(9,F17:F102) -> 0 | G13: =SUBTOTAL(9,G17:G102) -> 0 | H13: =SUBTOTAL(9,H17:H102) -> 0 | I13: =SUBTOTAL(9,I17:I102) -> 0 | J13: =SUBTOTAL(9,J17:J102) -> 0 | K13: =SUBTOTAL(9,K17:K102) -> 0 | L13: =SUBTOTAL(9,L17:L102) -> 0 | ... AT13: =SUBTOTAL(9,AT17:AT102) -> 0
A14: STT | B14: Mã nhân sự | C14: Đơn vị | D14: HỌ VÀ TÊN GIẢNG VIÊN | E14: ĐỀ THI | N14: COI THI | S14: CHẤM THI KTHP | AI14: CHẤM THI TỐT NGHIỆP | AR14: DỰ PHÒNG KỲ THI | AS14: GIÁM SÁT | AT14: TỔNG KHỐI LƯỢNG | AU14: =SUBTOTAL(9,AT:AT) -> 43
S15: LÝ THUYẾT (TV+TN) | W15: VẤN ĐÁP | AA15: TIỂU LUẬN | AE15: THỰC HÀNH | AI15: LÝ THUYẾT (TV+TN) | AL15: VẤN ĐÁP | AO15: THỰC HÀNH
E16: SL ĐỀ LT KTHP | F16: SL ĐỀ TN KTHP | G16: SL ĐỀ VĐ KTHP | H16: SL ĐỀ TH KTHP | I16: SL ĐỀ LT ThiTN | J16: SL ĐỀ TN ThiTN | K16: SL ĐỀ VĐ ThiTN | L16: SL ĐỀ TH ThiTN | M16: KL SOẠN ĐỀ (tiết) | N16: COITHI 2 KTHP | O16: COITHI 1 KTHP | P16: COITHI 1 Thi TN | Q16: COITHI 2 Thi TN | R16: KL COITHI (tiết) | S16: SL CHẤM LT 1 | T16: SL CHẤM LT 2 | U16: SL CHẤM NV | V16: KL CHẤM LT (tiết) | W16: SL CHẤM TL 1 | X16: SL CHẤM TL 2 | Y16: SL CHẤM NV | Z16: KL CHẤM TL (tiết) | AA16: SL CHẤM TL 1 | AB16: SL CHẤM TL 2 | AC16: SL CHẤM NV | AD16: KL CHẤM TL (tiết) | AE16: SL CHẤM TL 1 | AF16: SL CHẤM TL 2 | AG16: SL CHẤM NV | AH16: KL CHẤM TL (tiết) | AI16: SL BÀI LT CHẤM 1 | AJ16: SL BÀI LT CHẤM 2 | AK16: KL CHẤM LT (tiết) | AL16: SL BÀI VĐ CHẤM 1 | AM16: SL BÀI VĐ CHẤM 2 | AN16: KL CHẤM VĐ (tiết) | AO16: SL BÀI TL CHẤM 1 | AP16: SL BÀI TL CHẤM 2 | AQ16: KL CHẤM TL (tiết)
A17: =IF(D17="","",SUBTOTAL(3,$D$17:D17)) -> 1 | B17: 01014044 | C17: Khoa Điện - Điện tử | D17: Cao Thị Xuân Thùy (TG) | E17: 0 | F17: 0 | G17: 0 | H17: 0 | I17: 0 | J17: 0 | K17: 0 | L17: 0 | M17: 0 | N17: 0 | O17: 0 | P17: 0 | Q17: 0 | R17: 0 | S17: 0 | T17: 0 | U17: 0 | V17: 0 | W17: 0 | X17: 0 | Y17: 0 | Z17: 0 | AA17: 0 | AB17: 0 | AC17: 0 | AD17: 0 | AE17: 0 | AF17: 0 | AG17: 0 | AH17: 0 | AI17: 0 | AJ17: 0 | AK17: 0 | AL17: 0 | AM17: 0 | AN17: 0 | AO17: 0 | AP17: 0 | AQ17: 0 | AR17: 0 | AS17: 0 | AT17: 0
A18: =IF(D18="","",SUBTOTAL(3,$D$17:D18)) -> 2 | B18: 01014045 | C18: Khoa Điện - Điện tử | D18: Cao Văn Tuấn | E18: 0 | F18: 0 | G18: 0 | H18: 0 | I18: 0 | J18: 0 | K18: 0 | L18: 0 | M18: 0 | N18: 0 | O18: 0 | P18: 0 | Q18: 0 | R18: 0 | S18: 0 | T18: 0 | U18: 0 | V18: 0 | W18: 0 | X18: 0 | Y18: 0 | Z18: 0 | AA18: 0 | AB18: 0 | AC18: 0 | AD18: 0 | AE18: 0 | AF18: 0 | AG18: 0 | AH18: 0 | AI18: 0 | AJ18: 0 | AK18: 0 | AL18: 0 | AM18: 0 | AN18: 0 | AO18: 0 | AP18: 0 | AQ18: 0 | AR18: 0 | AS18: 0 | AT18: 0
A19: =IF(D19="","",SUBTOTAL(3,$D$17:D19)) -> 3 | B19: 01014024 | C19: Khoa Điện - Điện tử | D19: Đặng Đức Minh | E19: 0 | F19: 0 | G19: 0 | H19: 0 | I19: 0 | J19: 0 | K19: 0 | L19: 0 | M19: 0 | N19: 0 | O19: 0 | P19: 0 | Q19: 0 | R19: 0 | S19: 0 | T19: 0 | U19: 0 | V19: 0 | W19: 0 | X19: 0 | Y19: 0 | Z19: 0 | AA19: 0 | AB19: 0 | AC19: 0 | AD19: 0 | AE19: 0 | AF19: 0 | AG19: 0 | AH19: 0 | AI19: 0 | AJ19: 0 | AK19: 0 | AL19: 0 | AM19: 0 | AN19: 0 | AO19: 0 | AP19: 0 | AQ19: 0 | AR19: 0 | AS19: 0 | AT19: 0
A20: =IF(D20="","",SUBTOTAL(3,$D$17:D20)) -> 4 | B20: 01014043 | C20: Khoa Điện - Điện tử | D20: Đinh Văn Chuyên (TG) | E20: 0 | F20: 0 | G20: 0 | H20: 0 | I20: 0 | J20: 0 | K20: 0 | L20: 0 | M20: 0 | N20: 0 | O20: 0 | P20: 0 | Q20: 0 | R20: 0 | S20: 0 | T20: 0 | U20: 0 | V20: 0 | W20: 0 | X20: 0 | Y20: 0 | Z20: 0 | AA20: 0 | AB20: 0 | AC20: 0 | AD20: 0 | AE20: 0 | AF20: 0 | AG20: 0 | AH20: 0 | AI20: 0 | AJ20: 0 | AK20: 0 | AL20: 0 | AM20: 0 | AN20: 0 | AO20: 0 | AP20: 0 | AQ20: 0 | AR20: 0 | AS20: 0 | AT20: 0
A21: =IF(D21="","",SUBTOTAL(3,$D$17:D21)) -> 5 | B21: 01014032 | C21: Khoa Điện - Điện tử | D21: Đỗ Huỳnh Thanh Phong | E21: 0 | F21: 0 | G21: 0 | H21: 0 | I21: 0 | J21: 0 | K21: 0 | L21: 0 | M21: 0 | N21: 0 | O21: 0 | P21: 0 | Q21: 0 | R21: 0 | S21: 0 | T21: 0 | U21: 0 | V21: 0 | W21: 0 | X21: 0 | Y21: 0 | Z21: 0 | AA21: 0 | AB21: 0 | AC21: 0 | AD21: 0 | AE21: 0 | AF21: 0 | AG21: 0 | AH21: 0 | AI21: 0 | AJ21: 0 | AK21: 0 | AL21: 0 | AM21: 0 | AN21: 0 | AO21: 0 | AP21: 0 | AQ21: 0 | AR21: 0 | AS21: 0 | AT21: 0
A22: =IF(D22="","",SUBTOTAL(3,$D$17:D22)) -> 6 | B22: 01014004 | C22: Khoa Điện - Điện tử | D22: Huỳnh Ngọc Mai | E22: 0 | F22: 0 | G22: 0 | H22: 0 | I22: 0 | J22: 0 | K22: 0 | L22: 0 | M22: 0 | N22: 0 | O22: 0 | P22: 0 | Q22: 0 | R22: 0 | S22: 0 | T22: 0 | U22: 0 | V22: 0 | W22: 0 | X22: 0 | Y22: 0 | Z22: 0 | AA22: 0 | AB22: 0 | AC22: 0 | AD22: 0 | AE22: 0 | AF22: 0 | AG22: 0 | AH22: 0 | AI22: 0 | AJ22: 0 | AK22: 0 | AL22: 0 | AM22: 0 | AN22: 0 | AO22: 0 | AP22: 0 | AQ22: 0 | AR22: 0 | AS22: 0 | AT22: 0
A23: =IF(D23="","",SUBTOTAL(3,$D$17:D23)) -> 7 | B23: 01010069 | C23: Khoa Điện - Điện tử | D23: Lê Hồng Vân (TG) | E23: 0 | F23: 0 | G23: 0 | H23: 0 | I23: 0 | J23: 0 | K23: 0 | L23: 0 | M23: 0 | N23: 0 | O23: 0 | P23: 0 | Q23: 0 | R23: 0 | S23: 0 | T23: 0 | U23: 0 | V23: 0 | W23: 0 | X23: 0 | Y23: 0 | Z23: 0 | AA23: 0 | AB23: 0 | AC23: 0 | AD23: 0 | AE23: 0 | AF23: 0 | AG23: 0 | AH23: 0 | AI23: 0 | AJ23: 0 | AK23: 0 | AL23: 0 | AM23: 0 | AN23: 0 | AO23: 0 | AP23: 0 | AQ23: 0 | AR23: 0 | AS23: 0 | AT23: 0
A24: =IF(D24="","",SUBTOTAL(3,$D$17:D24)) -> 8 | B24: 01014049 | C24: Khoa Điện - Điện tử | D24: Lê Quang Bình (TG) | E24: 0 | F24: 0 | G24: 0 | H24: 0 | I24: 0 | J24: 0 | K24: 0 | L24: 0 | M24: 0 | N24: 0 | O24: 0 | P24: 0 | Q24: 0 | R24: 0 | S24: 0 | T24: 0 | U24: 0 | V24: 0 | W24: 0 | X24: 0 | Y24: 0 | Z24: 0 | AA24: 0 | AB24: 0 | AC24: 0 | AD24: 0 | AE24: 0 | AF24: 0 | AG24: 0 | AH24: 0 | AI24: 0 | AJ24: 0 | AK24: 0 | AL24: 0 | AM24: 0 | AN24: 0 | AO24: 0 | AP24: 0 | AQ24: 0 | AR24: 0 | AS24: 0 | AT24: 0
A25: =IF(D25="","",SUBTOTAL(3,$D$17:D25)) -> 9 | B25: 01014019 | C25: Khoa Điện - Điện tử | D25: Lê Thế Huân | E25: 0 | F25: 0 | G25: 0 | H25: 0 | I25: 0 | J25: 0 | K25: 0 | L25: 0 | M25: 0 | N25: 0 | O25: 0 | P25: 0 | Q25: 0 | R25: 0 | S25: 0 | T25: 0 | U25: 0 | V25: 0 | W25: 0 | X25: 0 | Y25: 0 | Z25: 0 | AA25: 0 | AB25: 0 | AC25: 0 | AD25: 0 | AE25: 0 | AF25: 0 | AG25: 0 | AH25: 0 | AI25: 0 | AJ25: 0 | AK25: 0 | AL25: 0 | AM25: 0 | AN25: 0 | AO25: 0 | AP25: 0 | AQ25: 0 | AR25: 0 | AS25: 0 | AT25: 0
A26: =IF(D26="","",SUBTOTAL(3,$D$17:D26)) -> 10 | B26: 01014023 | C26: Khoa Điện - Điện tử | D26: Lê Tiến Đạt | E26: 0 | F26: 0 | G26: 0 | H26: 0 | I26: 0 | J26: 0 | K26: 0 | L26: 0 | M26: 0 | N26: 0 | O26: 0 | P26: 0 | Q26: 0 | R26: 0 | S26: 0 | T26: 0 | U26: 0 | V26: 0 | W26: 0 | X26: 0 | Y26: 0 | Z26: 0 | AA26: 0 | AB26: 0 | AC26: 0 | AD26: 0 | AE26: 0 | AF26: 0 | AG26: 0 | AH26: 0 | AI26: 0 | AJ26: 0 | AK26: 0 | AL26: 0 | AM26: 0 | AN26: 0 | AO26: 0 | AP26: 0 | AQ26: 0 | AR26: 0 | AS26: 0 | AT26: 0
A27: =IF(D27="","",SUBTOTAL(3,$D$17:D27)) -> 11 | B27: 01014018 | C27: Khoa Điện - Điện tử | D27: Mạnh Lê Hoàn | E27: 0 | F27: 0 | G27: 0 | H27: 0 | I27: 0 | J27: 0 | K27: 0 | L27: 0 | M27: 0 | N27: 0 | O27: 0 | P27: 0 | Q27: 0 | R27: 0 | S27: 0 | T27: 0 | U27: 0 | V27: 0 | W27: 0 | X27: 0 | Y27: 0 | Z27: 0 | AA27: 0 | AB27: 0 | AC27: 0 | AD27: 0 | AE27: 0 | AF27: 0 | AG27: 0 | AH27: 0 | AI27: 0 | AJ27: 0 | AK27: 0 | AL27: 0 | AM27: 0 | AN27: 0 | AO27: 0 | AP27: 0 | AQ27: 0 | AR27: 0 | AS27: 0 | AT27: 0
A28: =IF(D28="","",SUBTOTAL(3,$D$17:D28)) -> 12 | B28: 01014005 | C28: Khoa Điện - Điện tử | D28: Ngô Hoàng Anh | E28: 0 | F28: 0 | G28: 0 | H28: 0 | I28: 0 | J28: 0 | K28: 0 | L28: 0 | M28: 0 | N28: 0 | O28: 0 | P28: 0 | Q28: 0 | R28: 0 | S28: 0 | T28: 0 | U28: 0 | V28: 0 | W28: 0 | X28: 0 | Y28: 0 | Z28: 0 | AA28: 0 | AB28: 0 | AC28: 0 | AD28: 0 | AE28: 0 | AF28: 0 | AG28: 0 | AH28: 0 | AI28: 0 | AJ28: 0 | AK28: 0 | AL28: 0 | AM28: 0 | AN28: 0 | AO28: 0 | AP28: 0 | AQ28: 0 | AR28: 0 | AS28: 0 | AT28: 0
... A54: =IF(D54="","",SUBTOTAL(3,$D$17:D54)) -> 38 | B54: 01014026 | C54: Khoa Điện - Điện tử | D54: Vũ Hạnh Chiêu | E54: 0 | F54: 0 | G54: 0 | H54: 0 | I54: 0 | J54: 0 | K54: 0 | L54: 0 | M54: 0 | N54: 0 | O54: 0 | P54: 0 | Q54: 0 | R54: 0 | S54: 0 | T54: 0 | U54: 0 | V54: 0 | W54: 0 | X54: 0 | Y54: 0 | Z54: 0 | AA54: 0 | AB54: 0 | AC54: 0 | AD54: 0 | AE54: 0 | AF54: 0 | AG54: 0 | AH54: 0 | AI54: 0 | AJ54: 0 | AK54: 0 | AL54: 0 | AM54: 0 | AN54: 0 | AO54: 0 | AP54: 0 | AQ54: 0 | AR54: 0 | AS54: 0 | AT54: 0
A55: =IF(D55="","",SUBTOTAL(3,$D$17:D55)) -> 39 | C55: Khoa Điện - Điện tử | D55: Phan Thanh Hoàng | E55: 0 | F55: 0 | G55: 0 | H55: 0 | I55: 0 | J55: 0 | K55: 0 | L55: 0 | M55: 0 | N55: 0 | O55: 0 | P55: 0 | Q55: 0 | R55: 0 | S55: 0 | T55: 0 | U55: 0 | V55: 0 | W55: 0 | X55: 0 | Y55: 0 | Z55: 0 | AA55: 0 | AB55: 0 | AC55: 0 | AD55: 0 | AE55: 0 | AF55: 0 | AG55: 0 | AH55: 0 | AI55: 0 | AJ55: 0 | AK55: 0 | AL55: 0 | AM55: 0 | AN55: 0 | AO55: 0 | AP55: 0 | AQ55: 0 | AR55: 0 | AS55: 0 | AT55: 0
A95: =IF(D95="","",SUBTOTAL(3,$D$17:D95))
A96: =IF(D96="","",SUBTOTAL(3,$D$17:D96))
A97: =IF(D97="","",SUBTOTAL(3,$D$17:D97))
A98: =IF(D98="","",SUBTOTAL(3,$D$17:D98))
A99: =IF(D99="","",SUBTOTAL(3,$D$17:D99))
A100: =IF(D100="","",SUBTOTAL(3,$D$17:D100))
A101: =IF(D101="","",SUBTOTAL(3,$D$17:D101))
A102: =IF(D102="","",SUBTOTAL(3,$D$17:D102))
A103: =IF(D103="","",SUBTOTAL(3,$D$17:D103))
A104: =IF(D104="","",SUBTOTAL(3,$D$17:D104))
A105: =IF(D105="","",SUBTOTAL(3,$D$17:D105))
A106: =IF(D106="","",SUBTOTAL(3,$D$17:D106))
... A114: =IF(D114="","",SUBTOTAL(3,$D$17:D114))
AT118: =SUM(AT17:AT114) -> 0

Sheet CA NAM
A1: ỦY BAN NHÂN DÂN THÀNH PHỐ HỒ CHÍ MINH
A2: TRƯỜNG CAO ĐẲNG LÝ TỰ TRỌNG
A3: THÀNH PHỐ HỒ CHÍ MINH
A6: KHỐI LƯỢNG COI THI, CHẤM THI NĂM HỌC 2021 - 2022 KHOA ĐIỆN - ĐIỆN TỬ
E12: =SUBTOTAL(9,E16:E58) -> 14 | F12: =SUBTOTAL(9,F16:F58) -> 24 | G12: =SUBTOTAL(9,G16:G58) -> 76 | H12: =SUBTOTAL(9,H16:H58) -> 0 | I12: =SUBTOTAL(9,I16:I58) -> 0 | J12: =SUBTOTAL(9,J16:J58) -> 0 | K12: =SUBTOTAL(9,K16:K58) -> 0 | L12: =SUBTOTAL(9,L16:L58) -> 0 | ... AT12: =SUBTOTAL(9,AT16:AT58) -> 552.6
A13: STT | B13: Mã nhân sự | C13: Đơn vị | D13: HỌ VÀ TÊN GIẢNG VIÊN | E13: ĐỀ THI | N13: COI THI | S13: CHẤM THI KTHP | AI13: CHẤM THI TỐT NGHIỆP | AR13: DỰ PHÒNG KỲ THI | AS13: GIÁM SÁT | AT13: TỔNG KHỐI LƯỢNG | AU13: =SUBTOTAL(9,AT:AT) -> 552.6
S14: LÝ THUYẾT (TV+TN) | W14: VẤN ĐÁP | AA14: TIỂU LUẬN | AE14: THỰC HÀNH | AI14: LÝ THUYẾT (TV+TN) | AL14: VẤN ĐÁP | AO14: THỰC HÀNH
E15: SL ĐỀ LT KTHP | F15: SL ĐỀ TN KTHP | G15: SL ĐỀ VĐ KTHP | H15: SL ĐỀ TH KTHP | I15: SL ĐỀ LT ThiTN | J15: SL ĐỀ TN ThiTN | K15: SL ĐỀ VĐ ThiTN | L15: SL ĐỀ TH ThiTN | M15: KL SOẠN ĐỀ (tiết) | N15: COITHI 2KTHP | O15: COITHI 1 KTHP | P15: COITHI 1 Thi TN | Q15: COITHI 2 Thi TN | R15: KL COITHI (tiết) | S15: SL CHẤM LT 1 | T15: SL CHẤM LT 2 | U15: SL CHẤM NV | V15: KL CHẤM LT (tiết) | W15: SL CHẤM TL 1 | X15: SL CHẤM TL 2 | Y15: SL CHẤM NV | Z15: KL CHẤM TL (tiết) | AA15: SL CHẤM TL 1 | AB15: SL CHẤM TL 2 | AC15: SL CHẤM NV | AD15: KL CHẤM TL (tiết) | AE15: SL CHẤM TL 1 | AF15: SL CHẤM TL 2 | AG15: SL CHẤM NV | AH15: KL CHẤM TL (tiết) | AI15: SL BÀI LT CHẤM 1 | AJ15: SL BÀI LT CHẤM 2 | AK15: KL CHẤM LT (tiết) | AL15: SL BÀI VĐ CHẤM 1 | AM15: SL BÀI VĐ CHẤM 2 | AN15: KL CHẤM VĐ (tiết) | AO15: SL BÀI TL CHẤM 1 | AP15: SL BÀI TL CHẤM 2 | AQ15: KL CHẤM TL (tiết)
A16: =IF(D16="","",SUBTOTAL(3,$D$16:D16)) -> 1 | B16: 01014044 | C16: Khoa Điện - Điện tử | D16: Cao Thị Xuân Thùy (TG) | E16: =IF($D16="","",'HK2 21-22'!E17+'HKII 20 - 21'!E17+'HKI 21-22 '!E17) -> 0 | F16: =IF($D16="","",'HK2 21-22'!F17+'HKII 20 - 21'!F17+'HKI 21-22 '!F17) -> 0 | G16: =IF($D16="","",'HK2 21-22'!G17+'HKII 20 - 21'!G17+'HKI 21-22 '!G17) -> 0 | H16: =IF($D16="","",'HK2 21-22'!H17+'HKII 20 - 21'!H17+'HKI 21-22 '!H17) -> 0 | I16: =IF($D16="","",'HK2 21-22'!I17+'HKII 20 - 21'!I17+'HKI 21-22 '!I17) -> 0 | J16: =IF($D16="","",'HK2 21-22'!J17+'HKII 20 - 21'!J17+'HKI 21-22 '!J17) -> 0 | K16: =IF($D16="","",'HK2 21-22'!K17+'HKII 20 - 21'!K17+'HKI 21-22 '!K17) -> 0 | L16: =IF($D16="","",'HK2 21-22'!L17+'HKII 20 - 21'!L17+'HKI 21-22 '!L17) -> 0 | ... AT16: =IF($D16="","",'HK2 21-22'!AT17+'HKII 20 - 21'!AT17+'HKI 21-22 '!AT17) -> 0
A17: =IF(D17="","",SUBTOTAL(3,$D$16:D17)) -> 2 | B17: 01014045 | C17: Khoa Điện - Điện tử | D17: Cao Văn Tuấn | E17: =IF($D17="","",'HK2 21-22'!E18+'HKII 20 - 21'!E18+'HKI 21-22 '!E18) -> 0 | F17: =IF($D17="","",'HK2 21-22'!F18+'HKII 20 - 21'!F18+'HKI 21-22 '!F18) -> 0 | G17: =IF($D17="","",'HK2 21-22'!G18+'HKII 20 - 21'!G18+'HKI 21-22 '!G18) -> 10 | H17: =IF($D17="","",'HK2 21-22'!H18+'HKII 20 - 21'!H18+'HKI 21-22 '!H18) -> 0 | I17: =IF($D17="","",'HK2 21-22'!I18+'HKII 20 - 21'!I18+'HKI 21-22 '!I18) -> 0 | J17: =IF($D17="","",'HK2 21-22'!J18+'HKII 20 - 21'!J18+'HKI 21-22 '!J18) -> 0 | K17: =IF($D17="","",'HK2 21-22'!K18+'HKII 20 - 21'!K18+'HKI 21-22 '!K18) -> 0 | L17: =IF($D17="","",'HK2 21-22'!L18+'HKII 20 - 21'!L18+'HKI 21-22 '!L18) -> 0 | ... AT17: =IF($D17="","",'HK2 21-22'!AT18+'HKII 20 - 21'!AT18+'HKI 21-22 '!AT18) -> 27.7
A18: =IF(D18="","",SUBTOTAL(3,$D$16:D18)) -> 3 | B18: 01014024 | C18: Khoa Điện - Điện tử | D18: Đặng Đức Minh | E18: =IF($D18="","",'HK2 21-22'!E19+'HKII 20 - 21'!E19+'HKI 21-22 '!E19) -> 0 | F18: =IF($D18="","",'HK2 21-22'!F19+'HKII 20 - 21'!F19+'HKI 21-22 '!F19) -> 0 | G18: =IF($D18="","",'HK2 21-22'!G19+'HKII 20 - 21'!G19+'HKI 21-22 '!G19) -> 0 | H18: =IF($D18="","",'HK2 21-22'!H19+'HKII 20 - 21'!H19+'HKI 21-22 '!H19) -> 0 | I18: =IF($D18="","",'HK2 21-22'!I19+'HKII 20 - 21'!I19+'HKI 21-22 '!I19) -> 0 | J18: =IF($D18="","",'HK2 21-22'!J19+'HKII 20 - 21'!J19+'HKI 21-22 '!J19) -> 0 | K18: =IF($D18="","",'HK2 21-22'!K19+'HKII 20 - 21'!K19+'HKI 21-22 '!K19) -> 0 | L18: =IF($D18="","",'HK2 21-22'!L19+'HKII 20 - 21'!L19+'HKI 21-22 '!L19) -> 0 | ... AT18: =IF($D18="","",'HK2 21-22'!AT19+'HKII 20 - 21'!AT19+'HKI 21-22 '!AT19) -> 14
A19: =IF(D19="","",SUBTOTAL(3,$D$16:D19)) -> 4 | B19: 01014043 | C19: Khoa Điện - Điện tử | D19: Đinh Văn Chuyên (TG) | E19: =IF($D19="","",'HK2 21-22'!E20+'HKII 20 - 21'!E20+'HKI 21-22 '!E20) -> 0 | F19: =IF($D19="","",'HK2 21-22'!F20+'HKII 20 - 21'!F20+'HKI 21-22 '!F20) -> 0 | G19: =IF($D19="","",'HK2 21-22'!G20+'HKII 20 - 21'!G20+'HKI 21-22 '!G20) -> 0 | H19: =IF($D19="","",'HK2 21-22'!H20+'HKII 20 - 21'!H20+'HKI 21-22 '!H20) -> 0 | I19: =IF($D19="","",'HK2 21-22'!I20+'HKII 20 - 21'!I20+'HKI 21-22 '!I20) -> 0 | J19: =IF($D19="","",'HK2 21-22'!J20+'HKII 20 - 21'!J20+'HKI 21-22 '!J20) -> 0 | K19: =IF($D19="","",'HK2 21-22'!K20+'HKII 20 - 21'!K20+'HKI 21-22 '!K20) -> 0 | L19: =IF($D19="","",'HK2 21-22'!L20+'HKII 20 - 21'!L20+'HKI 21-22 '!L20) -> 0 | ... AT19: =IF($D19="","",'HK2 21-22'!AT20+'HKII 20 - 21'!AT20+'HKI 21-22 '!AT20) -> 0
A20: =IF(D20="","",SUBTOTAL(3,$D$16:D20)) -> 5 | B20: 01014032 | C20: Khoa Điện - Điện tử | D20: Đỗ Huỳnh Thanh Phong | E20: =IF($D20="","",'HK2 21-22'!E21+'HKII 20 - 21'!E21+'HKI 21-22 '!E21) -> 2 | F20: =IF($D20="","",'HK2 21-22'!F21+'HKII 20 - 21'!F21+'HKI 21-22 '!F21) -> 0 | G20: =IF($D20="","",'HK2 21-22'!G21+'HKII 20 - 21'!G21+'HKI 21-22 '!G21) -> 0 | H20: =IF($D20="","",'HK2 21-22'!H21+'HKII 20 - 21'!H21+'HKI 21-22 '!H21) -> 0 | I20: =IF($D20="","",'HK2 21-22'!I21+'HKII 20 - 21'!I21+'HKI 21-22 '!I21) -> 0 | J20: =IF($D20="","",'HK2 21-22'!J21+'HKII 20 - 21'!J21+'HKI 21-22 '!J21) -> 0 | K20: =IF($D20="","",'HK2 21-22'!K21+'HKII 20 - 21'!K21+'HKI 21-22 '!K21) -> 0 | L20: =IF($D20="","",'HK2 21-22'!L21+'HKII 20 - 21'!L21+'HKI 21-22 '!L21) -> 0 | ... AT20: =IF($D20="","",'HK2 21-22'!AT21+'HKII 20 - 21'!AT21+'HKI 21-22 '!AT21) -> 24.6
A21: =IF(D21="","",SUBTOTAL(3,$D$16:D21)) -> 6 | B21: 01014004 | C21: Khoa Điện - Điện tử | D21: Huỳnh Ngọc Mai | E21: =IF($D21="","",'HK2 21-22'!E22+'HKII 20 - 21'!E22+'HKI 21-22 '!E22) -> 0 | F21: =IF($D21="","",'HK2 21-22'!F22+'HKII 20 - 21'!F22+'HKI 21-22 '!F22) -> 0 | G21: =IF($D21="","",'HK2 21-22'!G22+'HKII 20 - 21'!G22+'HKI 21-22 '!G22) -> 0 | H21: =IF($D21="","",'HK2 21-22'!H22+'HKII 20 - 21'!H22+'HKI 21-22 '!H22) -> 0 | I21: =IF($D21="","",'HK2 21-22'!I22+'HKII 20 - 21'!I22+'HKI 21-22 '!I22) -> 0 | J21: =IF($D21="","",'HK2 21-22'!J22+'HKII 20 - 21'!J22+'HKI 21-22 '!J22) -> 0 | K21: =IF($D21="","",'HK2 21-22'!K22+'HKII 20 - 21'!K22+'HKI 21-22 '!K22) -> 0 | L21: =IF($D21="","",'HK2 21-22'!L22+'HKII 20 - 21'!L22+'HKI 21-22 '!L22) -> 0 | ... AT21: =IF($D21="","",'HK2 21-22'!AT22+'HKII 20 - 21'!AT22+'HKI 21-22 '!AT22) -> 6.7
A22: =IF(D22="","",SUBTOTAL(3,$D$16:D22)) -> 7 | B22: 01010069 | C22: Khoa Điện - Điện tử | D22: Lê Hồng Vân (TG) | E22: =IF($D22="","",'HK2 21-22'!E23+'HKII 20 - 21'!E23+'HKI 21-22 '!E23) -> 0 | F22: =IF($D22="","",'HK2 21-22'!F23+'HKII 20 - 21'!F23+'HKI 21-22 '!F23) -> 0 | G22: =IF($D22="","",'HK2 21-22'!G23+'HKII 20 - 21'!G23+'HKI 21-22 '!G23) -> 0 | H22: =IF($D22="","",'HK2 21-22'!H23+'HKII 20 - 21'!H23+'HKI 21-22 '!H23) -> 0 | I22: =IF($D22="","",'HK2 21-22'!I23+'HKII 20 - 21'!I23+'HKI 21-22 '!I23) -> 0 | J22: =IF($D22="","",'HK2 21-22'!J23+'HKII 20 - 21'!J23+'HKI 21-22 '!J23) -> 0 | K22: =IF($D22="","",'HK2 21-22'!K23+'HKII 20 - 21'!K23+'HKI 21-22 '!K23) -> 0 | L22: =IF($D22="","",'HK2 21-22'!L23+'HKII 20 - 21'!L23+'HKI 21-22 '!L23) -> 0 | ... AT22: =IF($D22="","",'HK2 21-22'!AT23+'HKII 20 - 21'!AT23+'HKI 21-22 '!AT23) -> 0
A23: =IF(D23="","",SUBTOTAL(3,$D$16:D23)) -> 8 | B23: 01014049 | C23: Khoa Điện - Điện tử | D23: Lê Quang Bình (TG) | E23: =IF($D23="","",'HK2 21-22'!E24+'HKII 20 - 21'!E24+'HKI 21-22 '!E24) -> 0 | F23: =IF($D23="","",'HK2 21-22'!F24+'HKII 20 - 21'!F24+'HKI 21-22 '!F24) -> 0 | G23: =IF($D23="","",'HK2 21-22'!G24+'HKII 20 - 21'!G24+'HKI 21-22 '!G24) -> 0 | H23: =IF($D23="","",'HK2 21-22'!H24+'HKII 20 - 21'!H24+'HKI 21-22 '!H24) -> 0 | I23: =IF($D23="","",'HK2 21-22'!I24+'HKII 20 - 21'!I24+'HKI 21-22 '!I24) -> 0 | J23: =IF($D23="","",'HK2 21-22'!J24+'HKII 20 - 21'!J24+'HKI 21-22 '!J24) -> 0 | K23: =IF($D23="","",'HK2 21-22'!K24+'HKII 20 - 21'!K24+'HKI 21-22 '!K24) -> 0 | L23: =IF($D23="","",'HK2 21-22'!L24+'HKII 20 - 21'!L24+'HKI 21-22 '!L24) -> 0 | ... AT23: =IF($D23="","",'HK2 21-22'!AT24+'HKII 20 - 21'!AT24+'HKI 21-22 '!AT24) -> 0
A24: =IF(D24="","",SUBTOTAL(3,$D$16:D24)) -> 9 | B24: 01014019 | C24: Khoa Điện - Điện tử | D24: Lê Thế Huân | E24: =IF($D24="","",'HK2 21-22'!E25+'HKII 20 - 21'!E25+'HKI 21-22 '!E25) -> 2 | F24: =IF($D24="","",'HK2 21-22'!F25+'HKII 20 - 21'!F25+'HKI 21-22 '!F25) -> 0 | G24: =IF($D24="","",'HK2 21-22'!G25+'HKII 20 - 21'!G25+'HKI 21-22 '!G25) -> 0 | H24: =IF($D24="","",'HK2 21-22'!H25+'HKII 20 - 21'!H25+'HKI 21-22 '!H25) -> 0 | I24: =IF($D24="","",'HK2 21-22'!I25+'HKII 20 - 21'!I25+'HKI 21-22 '!I25) -> 0 | J24: =IF($D24="","",'HK2 21-22'!J25+'HKII 20 - 21'!J25+'HKI 21-22 '!J25) -> 0 | K24: =IF($D24="","",'HK2 21-22'!K25+'HKII 20 - 21'!K25+'HKI 21-22 '!K25) -> 0 | L24: =IF($D24="","",'HK2 21-22'!L25+'HKII 20 - 21'!L25+'HKI 21-22 '!L25) -> 0 | ... AT24: =IF($D24="","",'HK2 21-22'!AT25+'HKII 20 - 21'!AT25+'HKI 21-22 '!AT25) -> 13.8
A25: =IF(D25="","",SUBTOTAL(3,$D$16:D25)) -> 10 | B25: 01014023 | C25: Khoa Điện - Điện tử | D25: Lê Tiến Đạt | E25: =IF($D25="","",'HK2 21-22'!E26+'HKII 20 - 21'!E26+'HKI 21-22 '!E26) -> 0 | F25: =IF($D25="","",'HK2 21-22'!F26+'HKII 20 - 21'!F26+'HKI 21-22 '!F26) -> 0 | G25: =IF($D25="","",'HK2 21-22'!G26+'HKII 20 - 21'!G26+'HKI 21-22 '!G26) -> 0 | H25: =IF($D25="","",'HK2 21-22'!H26+'HKII 20 - 21'!H26+'HKI 21-22 '!H26) -> 0 | I25: =IF($D25="","",'HK2 21-22'!I26+'HKII 20 - 21'!I26+'HKI 21-22 '!I26) -> 0 | J25: =IF($D25="","",'HK2 21-22'!J26+'HKII 20 - 21'!J26+'HKI 21-22 '!J26) -> 0 | K25: =IF($D25="","",'HK2 21-22'!K26+'HKII 20 - 21'!K26+'HKI 21-22 '!K26) -> 0 | L25: =IF($D25="","",'HK2 21-22'!L26+'HKII 20 - 21'!L26+'HKI 21-22 '!L26) -> 0 | ... AT25: =IF($D25="","",'HK2 21-22'!AT26+'HKII 20 - 21'!AT26+'HKI 21-22 '!AT26) -> 13.1
A26: =IF(D26="","",SUBTOTAL(3,$D$16:D26)) -> 11 | B26: 01014018 | C26: Khoa Điện - Điện tử | D26: Mạnh Lê Hoàn | E26: =IF($D26="","",'HK2 21-22'!E27+'HKII 20 - 21'!E27+'HKI 21-22 '!E27) -> 0 | F26: =IF($D26="","",'HK2 21-22'!F27+'HKII 20 - 21'!F27+'HKI 21-22 '!F27) -> 0 | G26: =IF($D26="","",'HK2 21-22'!G27+'HKII 20 - 21'!G27+'HKI 21-22 '!G27) -> 0 | H26: =IF($D26="","",'HK2 21-22'!H27+'HKII 20 - 21'!H27+'HKI 21-22 '!H27) -> 0 | I26: =IF($D26="","",'HK2 21-22'!I27+'HKII 20 - 21'!I27+'HKI 21-22 '!I27) -> 0 | J26: =IF($D26="","",'HK2 21-22'!J27+'HKII 20 - 21'!J27+'HKI 21-22 '!J27) -> 0 | K26: =IF($D26="","",'HK2 21-22'!K27+'HKII 20 - 21'!K27+'HKI 21-22 '!K27) -> 0 | L26: =IF($D26="","",'HK2 21-22'!L27+'HKII 20 - 21'!L27+'HKI 21-22 '!L27) -> 0 | ... AT26: =IF($D26="","",'HK2 21-22'!AT27+'HKII 20 - 21'!AT27+'HKI 21-22 '!AT27) -> 2.9
A27: =IF(D27="","",SUBTOTAL(3,$D$16:D27)) -> 12 | B27: 01014005 | C27: Khoa Điện - Điện tử | D27: Ngô Hoàng Anh | E27: =IF($D27="","",'HK2 21-22'!E28+'HKII 20 - 21'!E28+'HKI 21-22 '!E28) -> 0 | F27: =IF($D27="","",'HK2 21-22'!F28+'HKII 20 - 21'!F28+'HKI 21-22 '!F28) -> 4 | G27: =IF($D27="","",'HK2 21-22'!G28+'HKII 20 - 21'!G28+'HKI 21-22 '!G28) -> 0 | H27: =IF($D27="","",'HK2 21-22'!H28+'HKII 20 - 21'!H28+'HKI 21-22 '!H28) -> 0 | I27: =IF($D27="","",'HK2 21-22'!I28+'HKII 20 - 21'!I28+'HKI 21-22 '!I28) -> 0 | J27: =IF($D27="","",'HK2 21-22'!J28+'HKII 20 - 21'!J28+'HKI 21-22 '!J28) -> 0 | K27: =IF($D27="","",'HK2 21-22'!K28+'HKII 20 - 21'!K28+'HKI 21-22 '!K28) -> 0 | L27: =IF($D27="","",'HK2 21-22'!L28+'HKII 20 - 21'!L28+'HKI 21-22 '!L28) -> 0 | ... AT27: =IF($D27="","",'HK2 21-22'!AT28+'HKII 20 - 21'!AT28+'HKI 21-22 '!AT28) -> 10.4
... A53: =IF(D53="","",SUBTOTAL(3,$D$16:D53)) -> 38 | B53: 01014026 | C53: Khoa Điện - Điện tử | D53: Vũ Hạnh Chiêu | E53: =IF($D53="","",'HK2 21-22'!E54+'HKII 20 - 21'!E54+'HKI 21-22 '!E54) -> 0 | F53: =IF($D53="","",'HK2 21-22'!F54+'HKII 20 - 21'!F54+'HKI 21-22 '!F54) -> 0 | G53: =IF($D53="","",'HK2 21-22'!G54+'HKII 20 - 21'!G54+'HKI 21-22 '!G54) -> 0 | H53: =IF($D53="","",'HK2 21-22'!H54+'HKII 20 - 21'!H54+'HKI 21-22 '!H54) -> 0 | I53: =IF($D53="","",'HK2 21-22'!I54+'HKII 20 - 21'!I54+'HKI 21-22 '!I54) -> 0 | J53: =IF($D53="","",'HK2 21-22'!J54+'HKII 20 - 21'!J54+'HKI 21-22 '!J54) -> 0 | K53: =IF($D53="","",'HK2 21-22'!K54+'HKII 20 - 21'!K54+'HKI 21-22 '!K54) -> 0 | L53: =IF($D53="","",'HK2 21-22'!L54+'HKII 20 - 21'!L54+'HKI 21-22 '!L54) -> 0 | ... AT53: =IF($D53="","",'HK2 21-22'!AT54+'HKII 20 - 21'!AT54+'HKI 21-22 '!AT54) -> 15.7
A54: =IF(D54="","",SUBTOTAL(3,$D$16:D54)) -> 39 | C54: Khoa Điện - Điện tử | D54: Phan Thanh Hoàng | E54: =IF($D54="","",'HK2 21-22'!E55+'HKII 20 - 21'!E55+'HKI 21-22 '!E55) -> 0 | F54: =IF($D54="","",'HK2 21-22'!F55+'HKII 20 - 21'!F55+'HKI 21-22 '!F55) -> 0 | G54: =IF($D54="","",'HK2 21-22'!G55+'HKII 20 - 21'!G55+'HKI 21-22 '!G55) -> 0 | H54: =IF($D54="","",'HK2 21-22'!H55+'HKII 20 - 21'!H55+'HKI 21-22 '!H55) -> 0 | I54: =IF($D54="","",'HK2 21-22'!I55+'HKII 20 - 21'!I55+'HKI 21-22 '!I55) -> 0 | J54: =IF($D54="","",'HK2 21-22'!J55+'HKII 20 - 21'!J55+'HKI 21-22 '!J55) -> 0 | K54: =IF($D54="","",'HK2 21-22'!K55+'HKII 20 - 21'!K55+'HKI 21-22 '!K55) -> 0 | L54: =IF($D54="","",'HK2 21-22'!L55+'HKII 20 - 21'!L55+'HKI 21-22 '!L55) -> 0 | ... AT54: =IF($D54="","",'HK2 21-22'!AT55+'HKII 20 - 21'!AT55+'HKI 21-22 '!AT55) -> 5.2
A55: =IF(D55="","",SUBTOTAL(3,$D$16:D55)) | E55: =IF($D55="","",'HK2 21-22'!#REF!+'HKII 20 - 21'!E104+'HKI 21-22 '!E72) | F55: =IF($D55="","",'HK2 21-22'!#REF!+'HKII 20 - 21'!F104+'HKI 21-22 '!F72) | G55: =IF($D55="","",'HK2 21-22'!#REF!+'HKII 20 - 21'!G104+'HKI 21-22 '!G72) | H55: =IF($D55="","",'HK2 21-22'!#REF!+'HKII 20 - 21'!H104+'HKI 21-22 '!H72) | I55: =IF($D55="","",'HK2 21-22'!#REF!+'HKII 20 - 21'!I104+'HKI 21-22 '!I72) | J55: =IF($D55="","",'HK2 21-22'!#REF!+'HKII 20 - 21'!J104+'HKI 21-22 '!J72) | K55: =IF($D55="","",'HK2 21-22'!#REF!+'HKII 20 - 21'!K104+'HKI 21-22 '!K72) | L55: =IF($D55="","",'HK2 21-22'!#REF!+'HKII 20 - 21'!L104+'HKI 21-22 '!L72) | ... AT55: =IF($D55="","",'HK2 21-22'!#REF!+'HKII 20 - 21'!AT104+'HKI 21-22 '!AT72)
A56: =IF(D56="","",SUBTOTAL(3,$D$16:D56)) | E56: =IF($D56="","",'HK2 21-22'!#REF!+'HKII 20 - 21'!E105+'HKI 21-22 '!E73) | F56: =IF($D56="","",'HK2 21-22'!#REF!+'HKII 20 - 21'!F105+'HKI 21-22 '!F73) | G56: =IF($D56="","",'HK2 21-22'!#REF!+'HKII 20 - 21'!G105+'HKI 21-22 '!G73) | H56: =IF($D56="","",'HK2 21-22'!#REF!+'HKII 20 - 21'!H105+'HKI 21-22 '!H73) | I56: =IF($D56="","",'HK2 21-22'!#REF!+'HKII 20 - 21'!I105+'HKI 21-22 '!I73) | J56: =IF($D56="","",'HK2 21-22'!#REF!+'HKII 20 - 21'!J105+'HKI 21-22 '!J73) | K56: =IF($D56="","",'HK2 21-22'!#REF!+'HKII 20 - 21'!K105+'HKI 21-22 '!K73) | L56: =IF($D56="","",'HK2 21-22'!#REF!+'HKII 20 - 21'!L105+'HKI 21-22 '!L73) | ... AT56: =IF($D56="","",'HK2 21-22'!#REF!+'HKII 20 - 21'!AT105+'HKI 21-22 '!AT73)
A57: =IF(D57="","",SUBTOTAL(3,$D$16:D57)) | E57: =IF($D57="","",'HK2 21-22'!#REF!+'HKII 20 - 21'!E106+'HKI 21-22 '!E74) | F57: =IF($D57="","",'HK2 21-22'!#REF!+'HKII 20 - 21'!F106+'HKI 21-22 '!F74) | G57: =IF($D57="","",'HK2 21-22'!#REF!+'HKII 20 - 21'!G106+'HKI 21-22 '!G74) | H57: =IF($D57="","",'HK2 21-22'!#REF!+'HKII 20 - 21'!H106+'HKI 21-22 '!H74) | I57: =IF($D57="","",'HK2 21-22'!#REF!+'HKII 20 - 21'!I106+'HKI 21-22 '!I74) | J57: =IF($D57="","",'HK2 21-22'!#REF!+'HKII 20 - 21'!J106+'HKI 21-22 '!J74) | K57: =IF($D57="","",'HK2 21-22'!#REF!+'HKII 20 - 21'!K106+'HKI 21-22 '!K74) | L57: =IF($D57="","",'HK2 21-22'!#REF!+'HKII 20 - 21'!L106+'HKI 21-22 '!L74) | ... AT57: =IF($D57="","",'HK2 21-22'!#REF!+'HKII 20 - 21'!AT106+'HKI 21-22 '!AT74)
A58: =IF(D58="","",SUBTOTAL(3,$D$16:D58)) | E58: =IF($D58="","",'HK2 21-22'!#REF!+'HKII 20 - 21'!E107+'HKI 21-22 '!E75) | F58: =IF($D58="","",'HK2 21-22'!#REF!+'HKII 20 - 21'!F107+'HKI 21-22 '!F75) | G58: =IF($D58="","",'HK2 21-22'!#REF!+'HKII 20 - 21'!G107+'HKI 21-22 '!G75) | H58: =IF($D58="","",'HK2 21-22'!#REF!+'HKII 20 - 21'!H107+'HKI 21-22 '!H75) | I58: =IF($D58="","",'HK2 21-22'!#REF!+'HKII 20 - 21'!I107+'HKI 21-22 '!I75) | J58: =IF($D58="","",'HK2 21-22'!#REF!+'HKII 20 - 21'!J107+'HKI 21-22 '!J75) | K58: =IF($D58="","",'HK2 21-22'!#REF!+'HKII 20 - 21'!K107+'HKI 21-22 '!K75) | L58: =IF($D58="","",'HK2 21-22'!#REF!+'HKII 20 - 21'!L107+'HKI 21-22 '!L75) | ... AT58: =IF($D58="","",'HK2 21-22'!#REF!+'HKII 20 - 21'!AT107+'HKI 21-22 '!AT75)
E59: =SUBTOTAL(9,#REF!:#REF!) -> #REF! | F59: =SUBTOTAL(9,F14:F58) -> 24 | G59: =SUBTOTAL(9,G14:G58) -> 76 | H59: =SUBTOTAL(9,H14:H58) -> 0 | I59: =SUBTOTAL(9,I14:I58) -> 0 | J59: =SUBTOTAL(9,J14:J58) -> 0 | K59: =SUBTOTAL(9,K14:K58) -> 0 | L59: =SUBTOTAL(9,L14:L58) -> 0 | M59: =SUBTOTAL(9,M14:M58) -> 69 | ... T59: =SUBTOTAL(9,T14:T58) -> 209 | V59: =SUBTOTAL(9,V14:V58) -> 20.9 | W59: =SUBTOTAL(9,W14:W58) -> 112 | X59: =SUBTOTAL(9,X14:X58) -> 112 | Z59: =SUBTOTAL(9,Z14:Z58) -> 35.2 | AA59: =SUBTOTAL(9,AA14:AA58) -> 3280 | AB59: =SUBTOTAL(9,AB14:AB58) -> 3193 | AD59: =SUBTOTAL(9,AD14:AD58) -> 319.3 | AE59: =SUBTOTAL(9,AE14:AE58) -> 11 | AF59: =SUBTOTAL(9,AF14:AF58) -> 11 | AH59: =SUBTOTAL(9,AH14:AH58) -> 2.2 | AI59: =SUBTOTAL(9,AI14:AI58) -> 0 | AJ59: =SUBTOTAL(9,AJ14:AJ58) -> 0 | AK59: =SUBTOTAL(9,AK14:AK58) -> 0 | AL59: =SUBTOTAL(9,AL14:AL58) -> 0 | AM59: =SUBTOTAL(9,AM14:AM58) -> 0 | AN59: =SUBTOTAL(9,AN14:AN58) -> 0 | AO59: =SUBTOTAL(9,AO14:AO58) -> 0 | ... AT59: =SUBTOTAL(9,AT14:AT58) -> 552.6

Sheet XUẤT HKI
E1: =SUBTOTAL(9,E5:E473) -> #N/A | F1: =SUBTOTAL(9,F5:F473) -> #N/A | G1: =SUBTOTAL(9,G5:G473) -> #N/A | H1: =SUBTOTAL(9,H5:H473) -> #N/A | I1: =SUBTOTAL(9,I5:I473) -> #N/A | J1: =SUBTOTAL(9,J5:J473) -> #N/A | K1: =SUBTOTAL(9,K5:K473) -> #N/A | L1: =SUBTOTAL(9,L5:L473) -> #N/A | ... AT1: =SUBTOTAL(9,AT5:AT473) -> #N/A
A2: STT | B2: Mã nhân sự | C2: Đơn vị | D2: HỌ VÀ TÊN GIẢNG VIÊN | E2: ĐỀ THI | N2: COI THI | S2: CHẤM THI KTHP | AI2: CHẤM THI TỐT NGHIỆP | AR2: DỰ PHÒNG KỲ THI | AS2: GIÁM SÁT | AT2: TỔNG KHỐI LƯỢNG | AU2: =SUBTOTAL(9,AT:AT) -> #N/A
S3: LÝ THUYẾT (TV+TN) | W3: VẤN ĐÁP | AA3: TIỂU LUẬN | AE3: THỰC HÀNH | AI3: LÝ THUYẾT (TV+TN) | AL3: VẤN ĐÁP | AO3: THỰC HÀNH
E4: SL ĐỀ LT KTHP | F4: SL ĐỀ TN KTHP | G4: SL ĐỀ VĐ KTHP | H4: SL ĐỀ TH KTHP | I4: SL ĐỀ LT ThiTN | J4: SL ĐỀ TN ThiTN | K4: SL ĐỀ VĐ ThiTN | L4: SL ĐỀ TH ThiTN | M4: KL SOẠN ĐỀ (tiết) | N4: COITHI 2 KTHP | O4: COITHI 1 KTHP | P4: COITHI 1 Thi TN | Q4: COITHI 2 Thi TN | R4: KL COITHI (tiết) | S4: SL CHẤM LT 1 | T4: SL CHẤM LT 2 | U4: SL CHẤM NV | V4: KL CHẤM LT (tiết) | W4: SL CHẤM TL 1 | X4: SL CHẤM TL 2 | Y4: SL CHẤM NV | Z4: KL CHẤM TL (tiết) | AA4: SL CHẤM TL 1 | AB4: SL CHẤM TL 2 | AC4: SL CHẤM NV | AD4: KL CHẤM TL (tiết) | AE4: SL CHẤM TL 1 | AF4: SL CHẤM TL 2 | AG4: SL CHẤM NV | AH4: KL CHẤM TL (tiết) | AI4: SL BÀI LT CHẤM 1 | AJ4: SL BÀI LT CHẤM 2 | AK4: KL CHẤM LT (tiết) | AL4: SL BÀI VĐ CHẤM 1 | AM4: SL BÀI VĐ CHẤM 2 | AN4: KL CHẤM VĐ (tiết) | AO4: SL BÀI TL CHẤM 1 | AP4: SL BÀI TL CHẤM 2 | AQ4: KL CHẤM TL (tiết)
A5: =IF(D5="","",SUBTOTAL(3,$D$5:D5)) -> 1 | B5: 01001001 | C5: Ban Giám hiệu | D5: Đinh Hồng Minh | E5: =IF($B5="","",VLOOKUP($B5,'HK2 21-22'!$B$17:$AT$54,4,0)) -> #N/A | F5: =IF($B5="","",VLOOKUP($B5,'HK2 21-22'!$B$17:$AT$54,5,0)) -> #N/A | G5: =IF($B5="","",VLOOKUP($B5,'HK2 21-22'!$B$17:$AT$54,6,0)) -> #N/A | H5: =IF($B5="","",VLOOKUP($B5,'HK2 21-22'!$B$17:$AT$54,7,0)) -> #N/A | I5: =IF($B5="","",VLOOKUP($B5,'HK2 21-22'!$B$17:$AT$54,8,0)) -> #N/A | J5: =IF($B5="","",VLOOKUP($B5,'HK2 21-22'!$B$17:$AT$54,9,0)) -> #N/A | K5: =IF($B5="","",VLOOKUP($B5,'HK2 21-22'!$B$17:$AT$54,10,0)) -> #N/A | L5: =IF($B5="","",VLOOKUP($B5,'HK2 21-22'!$B$17:$AT$54,11,0)) -> #N/A | M5: =IF($D5="","",($E5+$F5*1.5+$G5*0.25+$H5*0.5+$I5*2+$J5*2.5+$K5*0.5+$L5*1.5)) -> #N/A | N5: =IF($B5="","",VLOOKUP($B5,'HK2 21-22'!$B$17:$AT$54,13,0)) -> #N/A | O5: =IF($B5="","",VLOOKUP($B5,'HK2 21-22'!$B$17:$AT$54,14,0)) -> #N/A | P5: =IF($B5="","",VLOOKUP($B5,'HK2 21-22'!$B$17:$AT$54,15,0)) -> #N/A | Q5: =IF($B5="","",VLOOKUP($B5,'HK2 21-22'!$B$17:$AT$54,16,0)) -> #N/A | R5: =IF($D5="","",SUM($N5:$Q5)) -> #N/A | S5: =IF($B5="","",VLOOKUP($B5,'HK2 21-22'!$B$17:$AT$54,18,0)) -> #N/A | T5: =IF($B5="","",VLOOKUP($B5,'HK2 21-22'!$B$17:$AT$54,19,0)) -> #N/A | U5: =IF($B5="","",VLOOKUP($B5,'HK2 21-22'!$B$17:$AT$54,20,0)) -> #N/A | V5: =IF($D5="","",((SUM($S5:$T5))-U5)*0.1) -> #N/A | W5: =IF($B5="","",VLOOKUP($B5,'HK2 21-22'!$B$17:$AT$54,22,0)) -> #N/A | X5: =IF($B5="","",VLOOKUP($B5,'HK2 21-22'!$B$17:$AT$54,23,0)) -> #N/A | Y5: =IF($B5="","",VLOOKUP($B5,'HK2 21-22'!$B$17:$AT$54,24,0)) -> #N/A | Z5: =IF($D5="","",((SUM($W5:$X5))-Y5)*0.2) -> #N/A | AA5: =IF($B5="","",VLOOKUP($B5,'HK2 21-22'!$B$17:$AT$54,26,0)) -> #N/A | AB5: =IF($B5="","",VLOOKUP($B5,'HK2 21-22'!$B$17:$AT$54,27,0)) -> #N/A | AC5: =IF($B5="","",VLOOKUP($B5,'HK2 21-22'!$B$17:$AT$54,28,0)) -> #N/A | AD5: =IF($D5="","",((SUM($AA5:$AB5))-AC5)*0.1) -> #N/A | AE5: =IF($B5="","",VLOOKUP($B5,'HK2 21-22'!$B$17:$AT$54,30,0)) -> #N/A | AF5: =IF($B5="","",VLOOKUP($B5,'HK2 21-22'!$B$17:$AT$54,31,0)) -> #N/A | AG5: =IF($B5="","",VLOOKUP($B5,'HK2 21-22'!$B$17:$AT$54,32,0)) -> #N/A | AH5: =IF($D5="","",((SUM($AE5:$AF5))-AG5)*0.2) -> #N/A | AI5: =IF($B5="","",VLOOKUP($B5,'HK2 21-22'!$B$17:$AT$54,34,0)) -> #N/A | AJ5: =IF($B5="","",VLOOKUP($B5,'HK2 21-22'!$B$17:$AT$54,35,0)) -> #N/A | AK5: =IF($D5="","",(SUM($AI5:$AJ5))*0.2) -> #N/A | AL5: =IF($B5="","",VLOOKUP($B5,'HK2 21-22'!$B$17:$AT$54,37,0)) -> #N/A | AM5: =IF($B5="","",VLOOKUP($B5,'HK2 21-22'!$B$17:$AT$54,38,0)) -> #N/A | AN5: =IF($D5="","",(SUM(AL5:AM5))*0.4) -> #N/A | AO5: =IF($B5="","",VLOOKUP($B5,'HK2 21-22'!$B$17:$AT$54,40,0)) -> #N/A | AP5: =IF($B5="","",VLOOKUP($B5,'HK2 21-22'!$B$17:$AT$54,41,0)) -> #N/A | AQ5: =IF(D5="","",SUM(AO5:AP5)*0.4) -> #N/A | AR5: =IF($B5="","",VLOOKUP($B5,'HK2 21-22'!$B$17:$AT$54,43,0)) -> #N/A | AS5: =IF($B5="","",VLOOKUP($B5,'HK2 21-22'!$B$17:$AT$54,44,0)) -> #N/A | AT5: =IF(D5="","",ROUND(M5+R5+V5+Z5+AD5+AH5+AK5+AN5+AQ5+SUM(AR5:AS5),1)) -> #N/A
A6: =IF(D6="","",SUBTOTAL(3,$D$5:D6)) -> 2 | B6: 01002001 | C6: Ban Giám hiệu | D6: Đinh Văn Đệ | E6: =IF($B6="","",VLOOKUP($B6,'HK2 21-22'!$B$17:$AT$54,4,0)) -> #N/A | F6: =IF($B6="","",VLOOKUP($B6,'HK2 21-22'!$B$17:$AT$54,5,0)) -> #N/A | G6: =IF($B6="","",VLOOKUP($B6,'HK2 21-22'!$B$17:$AT$54,6,0)) -> #N/A | H6: =IF($B6="","",VLOOKUP($B6,'HK2 21-22'!$B$17:$AT$54,7,0)) -> #N/A | I6: =IF($B6="","",VLOOKUP($B6,'HK2 21-22'!$B$17:$AT$54,8,0)) -> #N/A | J6: =IF($B6="","",VLOOKUP($B6,'HK2 21-22'!$B$17:$AT$54,9,0)) -> #N/A | K6: =IF($B6="","",VLOOKUP($B6,'HK2 21-22'!$B$17:$AT$54,10,0)) -> #N/A | L6: =IF($B6="","",VLOOKUP($B6,'HK2 21-22'!$B$17:$AT$54,11,0)) -> #N/A | M6: =IF($D6="","",($E6+$F6*1.5+$G6*0.25+$H6*0.5+$I6*2+$J6*2.5+$K6*0.5+$L6*1.5)) -> #N/A | N6: =IF($B6="","",VLOOKUP($B6,'HK2 21-22'!$B$17:$AT$54,13,0)) -> #N/A | O6: =IF($B6="","",VLOOKUP($B6,'HK2 21-22'!$B$17:$AT$54,14,0)) -> #N/A | P6: =IF($B6="","",VLOOKUP($B6,'HK2 21-22'!$B$17:$AT$54,15,0)) -> #N/A | Q6: =IF($B6="","",VLOOKUP($B6,'HK2 21-22'!$B$17:$AT$54,16,0)) -> #N/A | R6: =IF($D6="","",SUM($N6:$Q6)) -> #N/A | S6: =IF($B6="","",VLOOKUP($B6,'HK2 21-22'!$B$17:$AT$54,18,0)) -> #N/A | T6: =IF($B6="","",VLOOKUP($B6,'HK2 21-22'!$B$17:$AT$54,19,0)) -> #N/A | U6: =IF($B6="","",VLOOKUP($B6,'HK2 21-22'!$B$17:$AT$54,20,0)) -> #N/A | V6: =IF($D6="","",((SUM($S6:$T6))-U6)*0.1) -> #N/A | W6: =IF($B6="","",VLOOKUP($B6,'HK2 21-22'!$B$17:$AT$54,22,0)) -> #N/A | X6: =IF($B6="","",VLOOKUP($B6,'HK2 21-22'!$B$17:$AT$54,23,0)) -> #N/A | Y6: =IF($B6="","",VLOOKUP($B6,'HK2 21-22'!$B$17:$AT$54,24,0)) -> #N/A | Z6: =IF($D6="","",((SUM($W6:$X6))-Y6)*0.2) -> #N/A | AA6: =IF($B6="","",VLOOKUP($B6,'HK2 21-22'!$B$17:$AT$54,26,0)) -> #N/A | AB6: =IF($B6="","",VLOOKUP($B6,'HK2 21-22'!$B$17:$AT$54,27,0)) -> #N/A | AC6: =IF($B6="","",VLOOKUP($B6,'HK2 21-22'!$B$17:$AT$54,28,0)) -> #N/A | AD6: =IF($D6="","",((SUM($AA6:$AB6))-AC6)*0.1) -> #N/A | AE6: =IF($B6="","",VLOOKUP($B6,'HK2 21-22'!$B$17:$AT$54,30,0)) -> #N/A | AF6: =IF($B6="","",VLOOKUP($B6,'HK2 21-22'!$B$17:$AT$54,31,0)) -> #N/A | AG6: =IF($B6="","",VLOOKUP($B6,'HK2 21-22'!$B$17:$AT$54,32,0)) -> #N/A | AH6: =IF($D6="","",((SUM($AE6:$AF6))-AG6)*0.2) -> #N/A | AI6: =IF($B6="","",VLOOKUP($B6,'HK2 21-22'!$B$17:$AT$54,34,0)) -> #N/A | AJ6: =IF($B6="","",VLOOKUP($B6,'HK2 21-22'!$B$17:$AT$54,35,0)) -> #N/A | AK6: =IF($D6="","",(SUM($AI6:$AJ6))*0.2) -> #N/A | AL6: =IF($B6="","",VLOOKUP($B6,'HK2 21-22'!$B$17:$AT$54,37,0)) -> #N/A | AM6: =IF($B6="","",VLOOKUP($B6,'HK2 21-22'!$B$17:$AT$54,38,0)) -> #N/A | AN6: =IF($D6="","",(SUM(AL6:AM6))*0.4) -> #N/A | AO6: =IF($B6="","",VLOOKUP($B6,'HK2 21-22'!$B$17:$AT$54,40,0)) -> #N/A | AP6: =IF($B6="","",VLOOKUP($B6,'HK2 21-22'!$B$17:$AT$54,41,0)) -> #N/A | AQ6: =IF(D6="","",SUM(AO6:AP6)*0.4) -> #N/A | AR6: =IF($B6="","",VLOOKUP($B6,'HK2 21-22'!$B$17:$AT$54,43,0)) -> #N/A | AS6: =IF($B6="","",VLOOKUP($B6,'HK2 21-22'!$B$17:$AT$54,44,0)) -> #N/A | AT6: =IF(D6="","",ROUND(M6+R6+V6+Z6+AD6+AH6+AK6+AN6+AQ6+SUM(AR6:AS6),1)) -> #N/A
A7: =IF(D7="","",SUBTOTAL(3,$D$5:D7)) -> 3 | B7: 01001006 | C7: Ban Giám hiệu | D7: Nguyễn Văn Dũng | E7: =IF($B7="","",VLOOKUP($B7,'HK2 21-22'!$B$17:$AT$54,4,0)) -> #N/A | F7: =IF($B7="","",VLOOKUP($B7,'HK2 21-22'!$B$17:$AT$54,5,0)) -> #N/A | G7: =IF($B7="","",VLOOKUP($B7,'HK2 21-22'!$B$17:$AT$54,6,0)) -> #N/A | H7: =IF($B7="","",VLOOKUP($B7,'HK2 21-22'!$B$17:$AT$54,7,0)) -> #N/A | I7: =IF($B7="","",VLOOKUP($B7,'HK2 21-22'!$B$17:$AT$54,8,0)) -> #N/A | J7: =IF($B7="","",VLOOKUP($B7,'HK2 21-22'!$B$17:$AT$54,9,0)) -> #N/A | K7: =IF($B7="","",VLOOKUP($B7,'HK2 21-22'!$B$17:$AT$54,10,0)) -> #N/A | L7: =IF($B7="","",VLOOKUP($B7,'HK2 21-22'!$B$17:$AT$54,11,0)) -> #N/A | M7: =IF($D7="","",($E7+$F7*1.5+$G7*0.25+$H7*0.5+$I7*2+$J7*2.5+$K7*0.5+$L7*1.5)) -> #N/A | N7: =IF($B7="","",VLOOKUP($B7,'HK2 21-22'!$B$17:$AT$54,13,0)) -> #N/A | O7: =IF($B7="","",VLOOKUP($B7,'HK2 21-22'!$B$17:$AT$54,14,0)) -> #N/A | P7: =IF($B7="","",VLOOKUP($B7,'HK2 21-22'!$B$17:$AT$54,15,0)) -> #N/A | Q7: =IF($B7="","",VLOOKUP($B7,'HK2 21-22'!$B$17:$AT$54,16,0)) -> #N/A | R7: =IF($D7="","",SUM($N7:$Q7)) -> #N/A | S7: =IF($B7="","",VLOOKUP($B7,'HK2 21-22'!$B$17:$AT$54,18,0)) -> #N/A | T7: =IF($B7="","",VLOOKUP($B7,'HK2 21-22'!$B$17:$AT$54,19,0)) -> #N/A | U7: =IF($B7="","",VLOOKUP($B7,'HK2 21-22'!$B$17:$AT$54,20,0)) -> #N/A | V7: =IF($D7="","",((SUM($S7:$T7))-U7)*0.1) -> #N/A | W7: =IF($B7="","",VLOOKUP($B7,'HK2 21-22'!$B$17:$AT$54,22,0)) -> #N/A | X7: =IF($B7="","",VLOOKUP($B7,'HK2 21-22'!$B$17:$AT$54,23,0)) -> #N/A | Y7: =IF($B7="","",VLOOKUP($B7,'HK2 21-22'!$B$17:$AT$54,24,0)) -> #N/A | Z7: =IF($D7="","",((SUM($W7:$X7))-Y7)*0.2) -> #N/A | AA7: =IF($B7="","",VLOOKUP($B7,'HK2 21-22'!$B$17:$AT$54,26,0)) -> #N/A | AB7: =IF($B7="","",VLOOKUP($B7,'HK2 21-22'!$B$17:$AT$54,27,0)) -> #N/A | AC7: =IF($B7="","",VLOOKUP($B7,'HK2 21-22'!$B$17:$AT$54,28,0)) -> #N/A | AD7: =IF($D7="","",((SUM($AA7:$AB7))-AC7)*0.1) -> #N/A | AE7: =IF($B7="","",VLOOKUP($B7,'HK2 21-22'!$B$17:$AT$54,30,0)) -> #N/A | AF7: =IF($B7="","",VLOOKUP($B7,'HK2 21-22'!$B$17:$AT$54,31,0)) -> #N/A | AG7: =IF($B7="","",VLOOKUP($B7,'HK2 21-22'!$B$17:$AT$54,32,0)) -> #N/A | AH7: =IF($D7="","",((SUM($AE7:$AF7))-AG7)*0.2) -> #N/A | AI7: =IF($B7="","",VLOOKUP($B7,'HK2 21-22'!$B$17:$AT$54,34,0)) -> #N/A | AJ7: =IF($B7="","",VLOOKUP($B7,'HK2 21-22'!$B$17:$AT$54,35,0)) -> #N/A | AK7: =IF($D7="","",(SUM($AI7:$AJ7))*0.2) -> #N/A | AL7: =IF($B7="","",VLOOKUP($B7,'HK2 21-22'!$B$17:$AT$54,37,0)) -> #N/A | AM7: =IF($B7="","",VLOOKUP($B7,'HK2 21-22'!$B$17:$AT$54,38,0)) -> #N/A | AN7: =IF($D7="","",(SUM(AL7:AM7))*0.4) -> #N/A | AO7: =IF($B7="","",VLOOKUP($B7,'HK2 21-22'!$B$17:$AT$54,40,0)) -> #N/A | AP7: =IF($B7="","",VLOOKUP($B7,'HK2 21-22'!$B$17:$AT$54,41,0)) -> #N/A | AQ7: =IF(D7="","",SUM(AO7:AP7)*0.4) -> #N/A | AR7: =IF($B7="","",VLOOKUP($B7,'HK2 21-22'!$B$17:$AT$54,43,0)) -> #N/A | AS7: =IF($B7="","",VLOOKUP($B7,'HK2 21-22'!$B$17:$AT$54,44,0)) -> #N/A | AT7: =IF(D7="","",ROUND(M7+R7+V7+Z7+AD7+AH7+AK7+AN7+AQ7+SUM(AR7:AS7),1)) -> #N/A
