Workbook

Sheet HK2 21-22
A1: ỦY BAN NHÂN DÂN THÀNH PHỐ HỒ CHÍ MINH
A2: TRƯỜNG CAO ĐẲNG LÝ TỰ TRỌNG
A3: THÀNH PHỐ HỒ CHÍ MINH
A6: KHỐI LƯỢNG COI THI, CHẤM THI HỌC KÌ 2 NĂM HỌC 2021 - 2022 KHOA ĐIỆN - ĐIỆN TỬ
E12: 2 | F12: 3 | G12: 4 | H12: 5 | I12: 6 | J12: 7 | K12: 8 | L12: 9 | M12: 10 | N12: 11 | O12: 12 | P12: 13 | Q12: 14 | R12: 15 | S12: 16 | T12: 17 | U12: 18 | V12: 19 | W12: 20 | X12: 21 | Y12: 22 | Z12: 23 | AA12: 24 | AB12: 25 | AC12: 26 | AD12: 27 | AE12: 28 | AF12: 29 | AG12: 30 | AH12: 31 | AI12: 32 | AJ12: 33 | AK12: 34 | AL12: 35 | AM12: 36 | AN12: 37 | AO12: 38 | AP12: 39 | AQ12: 40 | AR12: 41 | AS12: 42
E13: =SUBTOTAL(9,E17:E55) -> 14 | F13: =SUBTOTAL(9,F17:F55) -> 24 | G13: =SUBTOTAL(9,G17:G55) -> 33 | H13: =SUBTOTAL(9,H17:H55) -> 0 | I13: =SUBTOTAL(9,I17:I55) -> 0 | J13: =SUBTOTAL(9,J17:J55) -> 0 | K13: =SUBTOTAL(9,K17:K55) -> 0 | L13: =SUBTOTAL(9,L17:L55) -> 0 | ... AT13: =SUBTOTAL(9,AT17:AT55) -> 191.9
B14: Mã nhân sự | C14: Đơn vị | D14: HỌ VÀ TÊN GIẢNG VIÊN | E14: ĐỀ THI | N14: COI THI | S14: CHẤM THI KTHP | AI14: CHẤM THI TỐT NGHIỆP | AR14: DỰ PHÒNG KỲ THI | AS14: GIÁM SÁT | AT14: TỔNG KHỐI LƯỢNG | AU14: =SUBTOTAL(9,AT:AT) -> 191.9
S15: LÝ THUYẾT (TV+TN) | W15: VẤN ĐÁP | AA15: TIỂU LUẬN | AE15: THỰC HÀNH | AI15: LÝ THUYẾT (TV+TN) | AL15: VẤN ĐÁP | AO15: THỰC HÀNH
E16: SL ĐỀ LT KTHP | F16: SL ĐỀ TN KTHP | G16: SL ĐỀ VĐ KTHP | H16: SL ĐỀ TH KTHP | I16: SL ĐỀ LT ThiTN | J16: SL ĐỀ TN ThiTN | K16: SL ĐỀ VĐ ThiTN | L16: SL ĐỀ TH ThiTN | M16: KL SOẠN ĐỀ (tiết) | N16: COITHI 2 KTHP | O16: COITHI 1 KTHP | P16: COITHI 1 Thi TN | Q16: COITHI 2 Thi TN | R16: KL COITHI (tiết) | S16: SL CHẤM LT 1 | T16: SL CHẤM LT 2 | U16: SL CHẤM NV | V16: KL CHẤM LT (tiết) | W16: SL CHẤM TL 1 | X16: SL CHẤM TL 2 | Y16: SL CHẤM NV | Z16: KL CHẤM TL (tiết) | AA16: SL CHẤM TL 1 | AB16: SL CHẤM TL 2 | AC16: SL CHẤM NV | AD16: KL CHẤM TL (tiết) | AE16: SL CHẤM TL 1 | AF16: SL CHẤM TL 2 | AG16: SL CHẤM NV | AH16: KL CHẤM TL (tiết) | AI16: SL BÀI LT CHẤM 1 | AJ16: SL BÀI LT CHẤM 2 | AK16: KL CHẤM LT (tiết) | AL16: SL BÀI VĐ CHẤM 1 | AM16: SL BÀI VĐ CHẤM 2 | AN16: KL CHẤM VĐ (tiết) | AO16: SL BÀI TL CHẤM 1 | AP16: SL BÀI TL CHẤM 2 | AQ16: KL CHẤM TL (tiết)
A17: =IF(D17="","",SUBTOTAL(3,$D$17:D17)) -> 1 | B17: 01014044 | C17: Khoa CN Điện - Điện tử | D17: Cao Thị Xuân Thùy (TG) | E17: 0 | F17: 0 | G17: 0 | H17: 0 | I17: 0 | J17: 0 | K17: 0 | L17: 0 | M17: 0 | N17: 0 | O17: 0 | P17: 0 | Q17: 0 | R17: 0 | S17: 0 | T17: 0 | U17: 0 | V17: 0 | W17: 0 | X17: 0 | Y17: 0 | Z17: 0 | AA17: 0 | AB17: 0 | AC17: 0 | AD17: 0 | AE17: 0 | AF17: 0 | AG17: 0 | AH17: 0 | AI17: 0 | AJ17: 0 | AK17: 0 | AL17: 0 | AM17: 0 | AN17: 0 | AO17: 0 | AP17: 0 | AQ17: 0 | AR17: 0 | AS17: 0 | AT17: 0
A18: =IF(D18="","",SUBTOTAL(3,$D$17:D18)) -> 2 | B18: 01014045 | C18: Khoa CN Điện - Điện tử | D18: Cao Văn Tuấn | E18: 0 | F18: 0 | G18: 0 | H18: 0 | I18: 0 | J18: 0 | K18: 0 | L18: 0 | M18: 0 | N18: 2.4 | O18: 1.8 | P18: 0 | Q18: 0 | R18: 4.2 | S18: 0 | T18: 0 | U18: 0 | V18: 0 | W18: 0 | X18: 0 | Y18: 0 | Z18: 0 | AA18: 11 | AB18: 0 | AC18: 11 | AD18: 0 | AE18: 0 | AF18: 0 | AG18: 0 | AH18: 0 | AI18: 0 | AJ18: 0 | AK18: 0 | AL18: 0 | AM18: 0 | AN18: 0 | AO18: 0 | AP18: 0 | AQ18: 0 | AR18: 0 | AS18: 0.6 | AT18: 4.8
A19: =IF(D19="","",SUBTOTAL(3,$D$17:D19)) -> 3 | B19: 01014024 | C19: Khoa CN Điện - Điện tử | D19: Đặng Đức Minh | E19: 0 | F19: 0 | G19: 0 | H19: 0 | I19: 0 | J19: 0 | K19: 0 | L19: 0 | M19: 0 | N19: 2.1 | O19: 1.05 | P19: 0 | Q19: 0 | R19: 3.15 | S19: 0 | T19: 0 | U19: 0 | V19: 0 | W19: 0 | X19: 0 | Y19: 0 | Z19: 0 | AA19: 30 | AB19: 0 | AC19: 30 | AD19: 0 | AE19: 0 | AF19: 0 | AG19: 0 | AH19: 0 | AI19: 0 | AJ19: 0 | AK19: 0 | AL19: 0 | AM19: 0 | AN19: 0 | AO19: 0 | AP19: 0 | AQ19: 0 | AR19: 0 | AS19: 0 | AT19: 3.2
A20: =IF(D20="","",SUBTOTAL(3,$D$17:D20)) -> 4 | B20: 01014043 | C20: Khoa CN Điện - Điện tử | D20: Đinh Văn Chuyên (TG) | E20: 0 | F20: 0 | G20: 0 | H20: 0 | I20: 0 | J20: 0 | K20: 0 | L20: 0 | M20: 0 | N20: 0 | O20: 0 | P20: 0 | Q20: 0 | R20: 0 | S20: 0 | T20: 0 | U20: 0 | V20: 0 | W20: 0 | X20: 0 | Y20: 0 | Z20: 0 | AA20: 0 | AB20: 0 | AC20: 0 | AD20: 0 | AE20: 0 | AF20: 0 | AG20: 0 | AH20: 0 | AI20: 0 | AJ20: 0 | AK20: 0 | AL20: 0 | AM20: 0 | AN20: 0 | AO20: 0 | AP20: 0 | AQ20: 0 | AR20: 0 | AS20: 0 | AT20: 0
A21: =IF(D21="","",SUBTOTAL(3,$D$17:D21)) -> 5 | B21: 01014032 | C21: Khoa CN Điện - Điện tử | D21: Đỗ Huỳnh Thanh Phong | E21: 2 | F21: 0 | G21: 0 | H21: 0 | I21: 0 | J21: 0 | K21: 0 | L21: 0 | M21: 2 | N21: 1.2 | O21: 0.6 | P21: 0 | Q21: 0 | R21: 1.8 | S21: 46 | T21: 79 | U21: 91 | V21: 3.4 | W21: 0 | X21: 0 | Y21: 0 | Z21: 0 | AA21: 0 | AB21: 52 | AC21: 14 | AD21: 3.8 | AE21: 0 | AF21: 0 | AG21: 0 | AH21: 0 | AI21: 0 | AJ21: 0 | AK21: 0 | AL21: 0 | AM21: 0 | AN21: 0 | AO21: 0 | AP21: 0 | AQ21: 0 | AR21: 0 | AS21: 0 | AT21: 11
A22: =IF(D22="","",SUBTOTAL(3,$D$17:D22)) -> 6 | B22: 01014004 | C22: Khoa CN Điện - Điện tử | D22: Huỳnh Ngọc Mai | E22: 0 | F22: 0 | G22: 0 | H22: 0 | I22: 0 | J22: 0 | K22: 0 | L22: 0 | M22: 0 | N22: 0 | O22: 0.6 | P22: 0 | Q22: 0 | R22: 0.6 | S22: 0 | T22: 0 | U22: 0 | V22: 0 | W22: 0 | X22: 0 | Y22: 0 | Z22: 0 | AA22: 0 | AB22: 0 | AC22: 0 | AD22: 0 | AE22: 0 | AF22: 0 | AG22: 0 | AH22: 0 | AI22: 0 | AJ22: 0 | AK22: 0 | AL22: 0 | AM22: 0 | AN22: 0 | AO22: 0 | AP22: 0 | AQ22: 0 | AR22: 0 | AS22: 0 | AT22: 0.6
A23: =IF(D23="","",SUBTOTAL(3,$D$17:D23)) -> 7 | B23: 01010069 | C23: Khoa CN Điện - Điện tử | D23: Lê Hồng Vân (TG) | E23: 0 | F23: 0 | G23: 0 | H23: 0 | I23: 0 | J23: 0 | K23: 0 | L23: 0 | M23: 0 | N23: 0 | O23: 0 | P23: 0 | Q23: 0 | R23: 0 | S23: 0 | T23: 0 | U23: 0 | V23: 0 | W23: 0 | X23: 0 | Y23: 0 | Z23: 0 | AA23: 0 | AB23: 0 | AC23: 0 | AD23: 0 | AE23: 0 | AF23: 0 | AG23: 0 | AH23: 0 | AI23: 0 | AJ23: 0 | AK23: 0 | AL23: 0 | AM23: 0 | AN23: 0 | AO23: 0 | AP23: 0 | AQ23: 0 | AR23: 0 | AS23: 0 | AT23: 0
A24: =IF(D24="","",SUBTOTAL(3,$D$17:D24)) -> 8 | B24: 01014049 | C24: Khoa CN Điện - Điện tử | D24: Lê Quang Bình (TG) | E24: 0 | F24: 0 | G24: 0 | H24: 0 | I24: 0 | J24: 0 | K24: 0 | L24: 0 | M24: 0 | N24: 0 | O24: 0 | P24: 0 | Q24: 0 | R24: 0 | S24: 0 | T24: 0 | U24: 0 | V24: 0 | W24: 0 | X24: 0 | Y24: 0 | Z24: 0 | AA24: 0 | AB24: 0 | AC24: 0 | AD24: 0 | AE24: 0 | AF24: 0 | AG24: 0 | AH24: 0 | AI24: 0 | AJ24: 0 | AK24: 0 | AL24: 0 | AM24: 0 | AN24: 0 | AO24: 0 | AP24: 0 | AQ24: 0 | AR24: 0 | AS24: 0 | AT24: 0
A25: =IF(D25="","",SUBTOTAL(3,$D$17:D25)) -> 9 | B25: 01014019 | C25: Khoa CN Điện - Điện tử | D25: Lê Thế Huân | E25: 2 | F25: 0 | G25: 0 | H25: 0 | I25: 0 | J25: 0 | K25: 0 | L25: 0 | M25: 2 | N25: 1.2 | O25: 1.2 | P25: 0 | Q25: 0 | R25: 2.4 | S25: 13 | T25: 0 | U25: 13 | V25: 0 | W25: 0 | X25: 0 | Y25: 0 | Z25: 0 | AA25: 0 | AB25: 0 | AC25: 0 | AD25: 0 | AE25: 0 | AF25: 0 | AG25: 0 | AH25: 0 | AI25: 0 | AJ25: 0 | AK25: 0 | AL25: 0 | AM25: 0 | AN25: 0 | AO25: 0 | AP25: 0 | AQ25: 0 | AR25: 0 | AS25: 3 | AT25: 7.4
A26: =IF(D26="","",SUBTOTAL(3,$D$17:D26)) -> 10 | B26: 01014023 | C26: Khoa CN Điện - Điện tử | D26: Lê Tiến Đạt | E26: 0 | F26: 0 | G26: 0 | H26: 0 | I26: 0 | J26: 0 | K26: 0 | L26: 0 | M26: 0 | N26: 0 | O26: 1.2 | P26: 0 | Q26: 0 | R26: 1.2 | S26: 9 | T26: 0 | U26: 0 | V26: 0.9 | W26: 0 | X26: 0 | Y26: 0 | Z26: 0 | AA26: 0 | AB26: 0 | AC26: 0 | AD26: 0 | AE26: 0 | AF26: 0 | AG26: 0 | AH26: 0 | AI26: 0 | AJ26: 0 | AK26: 0 | AL26: 0 | AM26: 0 | AN26: 0 | AO26: 0 | AP26: 0 | AQ26: 0 | AR26: 0 | AS26: 1.5 | AT26: 3.6
A27: =IF(D27="","",SUBTOTAL(3,$D$17:D27)) -> 11 | B27: 01014018 | C27: Khoa CN Điện - Điện tử | D27: Mạnh Lê Hoàn | E27: 0 | F27: 0 | G27: 0 | H27: 0 | I27: 0 | J27: 0 | K27: 0 | L27: 0 | M27: 0 | N27: 1.8 | O27: 0.6 | P27: 0 | Q27: 0 | R27: 2.4 | S27: 0 | T27: 0 | U27: 0 | V27: 0 | W27: 0 | X27: 0 | Y27: 0 | Z27: 0 | AA27: 0 | AB27: 0 | AC27: 0 | AD27: 0 | AE27: 0 | AF27: 0 | AG27: 0 | AH27: 0 | AI27: 0 | AJ27: 0 | AK27: 0 | AL27: 0 | AM27: 0 | AN27: 0 | AO27: 0 | AP27: 0 | AQ27: 0 | AR27: 0 | AS27: 0 | AT27: 2.4
A28: =IF(D28="","",SUBTOTAL(3,$D$17:D28)) -> 12 | B28: 01014005 | C28: Khoa CN Điện - Điện tử | D28: Ngô Hoàng Anh | E28: 0 | F28: 4 | G28: 0 | H28: 0 | I28: 0 | J28: 0 | K28: 0 | L28: 0 | M28: 6 | N28: 1.2 | O28: 1.05 | P28: 0 | Q28: 0 | R28: 2.25 | S28: 0 | T28: 0 | U28: 0 | V28: 0 | W28: 0 | X28: 0 | Y28: 0 | Z28: 0 | AA28: 0 | AB28: 0 | AC28: 0 | AD28: 0 | AE28: 11 | AF28: 0 | AG28: 11 | AH28: 0 | AI28: 0 | AJ28: 0 | AK28: 0 | AL28: 0 | AM28: 0 | AN28: 0 | AO28: 0 | AP28: 0 | AQ28: 0 | AR28: 0 | AS28: 0 | AT28: 8.3
... A54: =IF(D54="","",SUBTOTAL(3,$D$17:D54)) -> 38 | B54: 01014026 | C54: Khoa CN Điện - Điện tử | D54: Vũ Hạnh Chiêu | E54: 0 | F54: 0 | G54: 0 | H54: 0 | I54: 0 | J54: 0 | K54: 0 | L54: 0 | M54: 0 | N54: 3.9 | O54: 0 | P54: 0 | Q54: 0 | R54: 3.9 | S54: 0 | T54: 0 | U54: 0 | V54: 0 | W54: 0 | X54: 0 | Y54: 0 | Z54: 0 | AA54: 0 | AB54: 0 | AC54: 0 | AD54: 0 | AE54: 0 | AF54: 0 | AG54: 0 | AH54: 0 | AI54: 0 | AJ54: 0 | AK54: 0 | AL54: 0 | AM54: 0 | AN54: 0 | AO54: 0 | AP54: 0 | AQ54: 0 | AR54: 0 | AS54: 0 | AT54: 3.9
A55: =IF(D55="","",SUBTOTAL(3,$D$17:D55)) -> 39 | C55: Khoa CN Điện - Điện tử | D55: Phan Thanh Hoàng | E55: 0 | F55: 0 | G55: 0 | H55: 0 | I55: 0 | J55: 0 | K55: 0 | L55: 0 | M55: 0 | N55: 1.2 | O55: 0 | P55: 0 | Q55: 0 | R55: 1.2 | S55: 0 | T55: 0 | U55: 0 | V55: 0 | W55: 0 | X55: 0 | Y55: 0 | Z55: 0 | AA55: 0 | AB55: 0 | AC55: 0 | AD55: 0 | AE55: 0 | AF55: 0 | AG55: 0 | AH55: 0 | AI55: 0 | AJ55: 0 | AK55: 0 | AL55: 0 | AM55: 0 | AN55: 0 | AO55: 0 | AP55: 0 | AQ55: 0 | AR55: 0 | AS55: 0 | AT55: 1.2
E68: =SUBTOTAL(9,E17:E54) -> 14 | F68: =SUBTOTAL(9,F15:F67) -> 24 | G68: =SUBTOTAL(9,G15:G67) -> 33 | H68: =SUBTOTAL(9,H15:H67) -> 0 | I68: =SUBTOTAL(9,I15:I67) -> 0 | J68: =SUBTOTAL(9,J15:J67) -> 0 | K68: =SUBTOTAL(9,K15:K67) -> 0 | L68: =SUBTOTAL(9,L15:L67) -> 0 | M68: =SUBTOTAL(9,M15:M67) -> 58.25 | ... T68: =SUBTOTAL(9,T15:T67) -> 209 | V68: =SUBTOTAL(9,V15:V67) -> 20.9 | W68: =SUBTOTAL(9,W15:W67) -> 48 | X68: =SUBTOTAL(9,X15:X67) -> 48 | Z68: =SUBTOTAL(9,Z15:Z67) -> 9.6 | AA68: =SUBTOTAL(9,AA15:AA67) -> 119 | AB68: =SUBTOTAL(9,AB15:AB67) -> 119 | AD68: =SUBTOTAL(9,AD15:AD67) -> 11.9 | AE68: =SUBTOTAL(9,AE15:AE67) -> 11 | AF68: =SUBTOTAL(9,AF15:AF67) -> 11 | AH68: =SUBTOTAL(9,AH15:AH67) -> 2.2 | AI68: =SUBTOTAL(9,AI15:AI67) -> 0 | AJ68: =SUBTOTAL(9,AJ15:AJ67) -> 0 | AK68: =SUBTOTAL(9,AK15:AK67) -> 0 | AL68: =SUBTOTAL(9,AL15:AL67) -> 0 | AM68: =SUBTOTAL(9,AM15:AM67) -> 0 | AN68: =SUBTOTAL(9,AN15:AN67) -> 0 | AO68: =SUBTOTAL(9,AO15:AO67) -> 0 | ... AT68: =SUBTOTAL(9,AT15:AT67) -> 191.9

Sheet HKI 21-22 
A1: ỦY BAN NHÂN DÂN THÀNH PHỐ HỒ CHÍ MINH
A2: TRƯỜNG CAO ĐẲNG LÝ TỰ TRỌNG
A3: THÀNH PHỐ HỒ CHÍ MINH
A6: KHỐI LƯỢNG COI THI, CHẤM THI HỌC KÌ 1 NĂM HỌC 2021 - 2022 KHOA ĐIỆN - ĐIỆN TỬ
E12: 2 | F12: 3 | G12: 4 | H12: 5 | I12: 6 | J12: 7 | K12: 8 | L12: 9 | M12: 10 | N12: 11 | O12: 12 | P12: 13 | Q12: 14 | R12: 15 | S12: 16 | T12: 17 | U12: 18 | V12: 19 | W12: 20 | X12: 21 | Y12: 22 | Z12: 23 | AA12: 24 | AB12: 25 | AC12: 26 | AD12: 27 | AE12: 28 | AF12: 29 | AG12: 30 | AH12: 31 | AI12: 32 | AJ12: 33 | AK12: 34 | AL12: 35 | AM12: 36 | AN12: 37 | AO12: 38 | AP12: 39 | AQ12: 40 | AR12: 41 | AS12: 42 | AT12: 43
E13: =SUBTOTAL(9,E17:E74) -> 0 | F13: =SUBTOTAL(9,F15:F74) -> 0 | G13: =SUBTOTAL(9,G15:G74) -> 43 | H13: =SUBTOTAL(9,H15:H74) -> 0 | I13: =SUBTOTAL(9,I15:I74) -> 0 | J13: =SUBTOTAL(9,J15:J74) -> 0 | K13: =SUBTOTAL(9,K15:K74) -> 0 | L13: =SUBTOTAL(9,L15:L74) -> 0 | M13: =SUBTOTAL(9,M15:M74) -> 10.75 | ... AT13: =SUBTOTAL(9,AT15:AT74) -> 360.7
A14: STT | B14: Mã nhân sự | C14: Đơn vị | D14: HỌ VÀ TÊN GIẢNG VIÊN | E14: ĐỀ THI | N14: COI THI | S14: CHẤM THI KTHP | AI14: CHẤM THI TỐT NGHIỆP | AR14: DỰ PHÒNG KỲ THI | AS14: GIÁM SÁT | AT14: TỔNG KHỐI LƯỢNG | AU14: =SUBTOTAL(9,AT:AT) -> 403.7
S15: LÝ THUYẾT (TV+TN) | W15: VẤN ĐÁP | AA15: TIỂU LUẬN | AE15: THỰC HÀNH | AI15: LÝ THUYẾT (TV+TN) | AL15: VẤN ĐÁP | AO15: THỰC HÀNH
E16: SL ĐỀ LT KTHP | F16: SL ĐỀ TN KTHP | G16: SL ĐỀ VĐ KTHP | H16: SL ĐỀ TH KTHP | I16: SL ĐỀ LT ThiTN | J16: SL ĐỀ TN ThiTN | K16: SL ĐỀ VĐ ThiTN | L16: SL ĐỀ TH ThiTN | M16: KL SOẠN ĐỀ (tiết) | N16: COITHI 2 KTHP | O16: COITHI 1 KTHP | P16: COITHI 1 Thi TN | Q16: COITHI 2 Thi TN | R16: KL COITHI (tiết) | S16: SL CHẤM LT 1 | T16: SL CHẤM LT 2 | U16: SL CHẤM NV | V16: KL CHẤM LT (tiết) | W16: SL CHẤM TL 1 | X16: SL CHẤM TL 2 | Y16: SL CHẤM NV | Z16: KL CHẤM TL (tiết) | AA16: SL CHẤM TL 1 | AB16: SL CHẤM TL 2 | AC16: SL CHẤM NV | AD16: KL CHẤM TL (tiết) | AE16: SL CHẤM TL 1 | AF16: SL CHẤM TL 2 | AG16: SL CHẤM NV | AH16: KL CHẤM TL (tiết) | AI16: SL BÀI LT CHẤM 1 | AJ16: SL BÀI LT CHẤM 2 | AK16: KL CHẤM LT (tiết) | AL16: SL BÀI VĐ CHẤM 1 | AM16: SL BÀI VĐ CHẤM 2 | AN16: KL CHẤM VĐ (tiết) | AO16: SL BÀI TL CHẤM 1 | AP16: SL BÀI TL CHẤM 2 | AQ16: KL CHẤM TL (tiết)
A17: =IF(D17="","",SUBTOTAL(3,$D$17:D17)) -> 1 | B17: 01014044 | C17: Khoa Điện - Điện tử | D17: Cao Thị Xuân Thùy (TG) | E17: 0 | F17: 0 | G17: 0 | H17: 0 | I17: 0 | J17: 0 | K17: 0 | L17: 0 | M17: 0 | N17: 0 | O17: 0 | P17: 0 | Q17: 0 | R17: 0 | S17: 0 | T17: 0 | U17: 0 | V17: 0 | W17: 0 | X17: 0 | Y17: 0 | Z17: 0 | AA17: 0 | AB17: 0 | AC17: 0 | AD17: 0 | AE17: 0 | AF17: 0 | AG17: 0 | AH17: 0 | AI17: 0 | AJ17: 0 | AK17: 0 | AL17: 0 | AM17: 0 | AN17: 0 | AO17: 0 | AP17: 0 | AQ17: 0 | AR17: 0 | AS17: 0 | AT17: 0
A18: =IF(D18="","",SUBTOTAL(3,$D$17:D18)) -> 2 | B18: 01014045 | C18: Khoa Điện - Điện tử | D18: Cao Văn Tuấn | E18: 0 | F18: 0 | G18: 10 | H18: 0 | I18: 0 | J18: 0 | K18: 0 | L18: 0 | M18: 2.5 | N18: 0 | O18: 0.75 | P18: 0 | Q18: 0 | R18: 0.75 | S18: 0 | T18: 0 | U18: 0 | V18: 0 | W18: 13 | X18: 16 | Y18: 0 | Z18: 5.8 | AA18: 94 | AB18: 138 | AC18: 94 | AD18: 13.8 | AE18: 0 | AF18: 0 | AG18: 0 | AH18: 0 | AI18: 0 | AJ18: 0 | AK18: 0 | AL18: 0 | AM18: 0 | AN18: 0 | AO18: 0 | AP18: 0 | AQ18: 0 | AR18: 0 | AS18: 0 | AT18: 22.9
A19: =IF(D19="","",SUBTOTAL(3,$D$17:D19)) -> 3 | B19: 01014024 | C19: Khoa Điện - Điện tử | D19: Đặng Đức Minh | E19: 0 | F19: 0 | G19: 0 | H19: 0 | I19: 0 | J19: 0 | K19: 0 | L19: 0 | M19: 0 | N19: 0.75 | O19: 0 | P19: 0 | Q19: 0 | R19: 0.75 | S19: 0 | T19: 0 | U19: 0 | V19: 0 | W19: 0 | X19: 0 | Y19: 0 | Z19: 0 | AA19: 103 | AB19: 95 | AC19: 103 | AD19: 9.5 | AE19: 0 | AF19: 0 | AG19: 0 | AH19: 0 | AI19: 0 | AJ19: 0 | AK19: 0 | AL19: 0 | AM19: 0 | AN19: 0 | AO19: 0 | AP19: 0 | AQ19: 0 | AR19: 0 | AS19: 0.5 | AT19: 10.8
A20: =IF(D20="","",SUBTOTAL(3,$D$17:D20)) -> 4 | B20: 01014043 | C20: Khoa Điện - Điện tử | D20: Đinh Văn Chuyên (TG) | E20: 0 | F20: 0 | G20: 0 | H20: 0 | I20: 0 | J20: 0 | K20: 0 | L20: 0 | M20: 0 | N20: 0 | O20: 0 | P20: 0 | Q20: 0 | R20: 0 | S20: 0 | T20: 0 | U20: 0 | V20: 0 | W20: 0 | X20: 0 | Y20: 0 | Z20: 0 | AA20: 0 | AB20: 0 | AC20: 0 | AD20: 0 | AE20: 0 | AF20: 0 | AG20: 0 | AH20: 0 | AI20: 0 | AJ20: 0 | AK20: 0 | AL20: 0 | AM20: 0 | AN20: 0 | AO20: 0 | AP20: 0 | AQ20: 0 | AR20: 0 | AS20: 0 | AT20: 0
A21: =IF(D21="","",SUBTOTAL(3,$D$17:D21)) -> 5 | B21: 01014032 | C21: Khoa Điện - Điện tử | D21: Đỗ Huỳnh Thanh Phong | E21: 0 | F21: 0 | G21: 0 | H21: 0 | I21: 0 | J21: 0 | K21: 0 | L21: 0 | M21: 0 | N21: 0 | O21: 0 | P21: 0 | Q21: 0 | R21: 0 | S21: 0 | T21: 0 | U21: 0 | V21: 0 | W21: 0 | X21: 0 | Y21: 0 | Z21: 0 | AA21: 144 | AB21: 136 | AC21: 144 | AD21: 13.6 | AE21: 0 | AF21: 0 | AG21: 0 | AH21: 0 | AI21: 0 | AJ21: 0 | AK21: 0 | AL21: 0 | AM21: 0 | AN21: 0 | AO21: 0 | AP21: 0 | AQ21: 0 | AR21: 0 | AS21: 0 | AT21: 13.6
A22: =IF(D22="","",SUBTOTAL(3,$D$17:D22)) -> 6 | B22: 01014004 | C22: Khoa Điện - Điện tử | D22: Huỳnh Ngọc Mai | E22: 0 | F22: 0 | G22: 0 | H22: 0 | I22: 0 | J22: 0 | K22: 0 | L22: 0 | M22: 0 | N22: 0 | O22: 0 | P22: 0 | Q22: 0 | R22: 0 | S22: 0 | T22: 0 | U22: 0 | V22: 0 | W22: 0 | X22: 0 | Y22: 0 | Z22: 0 | AA22: 62 | AB22: 61 | AC22: 62 | AD22: 6.1 | AE22: 0 | AF22: 0 | AG22: 0 | AH22: 0 | AI22: 0 | AJ22: 0 | AK22: 0 | AL22: 0 | AM22: 0 | AN22: 0 | AO22: 0 | AP22: 0 | AQ22: 0 | AR22: 0 | AS22: 0 | AT22: 6.1
A23: =IF(D23="","",SUBTOTAL(3,$D$17:D23)) -> 7 | B23: 01010069 | C23: Khoa Điện - Điện tử | D23: Lê Hồng Vân (TG) | E23: 0 | F23: 0 | G23: 0 | H23: 0 | I23: 0 | J23: 0 | K23: 0 | L23: 0 | M23: 0 | N23: 0 | O23: 0 | P23: 0 | Q23: 0 | R23: 0 | S23: 0 | T23: 0 | U23: 0 | V23: 0 | W23: 0 | X23: 0 | Y23: 0 | Z23: 0 | AA23: 0 | AB23: 0 | AC23: 0 | AD23: 0 | AE23: 0 | AF23: 0 | AG23: 0 | AH23: 0 | AI23: 0 | AJ23: 0 | AK23: 0 | AL23: 0 | AM23: 0 | AN23: 0 | AO23: 0 | AP23: 0 | AQ23: 0 | AR23: 0 | AS23: 0 | AT23: 0
A24: =IF(D24="","",SUBTOTAL(3,$D$17:D24)) -> 8 | B24: 01014049 | C24: Khoa Điện - Điện tử | D24: Lê Quang Bình (TG) | E24: 0 | F24: 0 | G24: 0 | H24: 0 | I24: 0 | J24: 0 | K24: 0 | L24: 0 | M24: 0 | N24: 0 | O24: 0 | P24: 0 | Q24: 0 | R24: 0 | S24: 0 | T24: 0 | U24: 0 | V24: 0 | W24: 0 | X24: 0 | Y24: 0 | Z24: 0 | AA24: 0 | AB24: 0 | AC24: 0 | AD24: 0 | AE24: 0 | AF24: 0 | AG24: 0 | AH24: 0 | AI24: 0 | AJ24: 0 | AK24: 0 | AL24: 0 | AM24: 0 | AN24: 0 | AO24: 0 | AP24: 0 | AQ24: 0 | AR24: 0 | AS24: 0 | AT24: 0
A25: =IF(D25="","",SUBTOTAL(3,$D$17:D25)) -> 9 | B25: 01014019 | C25: Khoa Điện - Điện tử | D25: Lê Thế Huân | E25: 0 | F25: 0 | G25: 0 | H25: 0 | I25: 0 | J25: 0 | K25: 0 | L25: 0 | M25: 0 | N25: 0 | O25: 0 | P25: 0 | Q25: 0 | R25: 0 | S25: 0 | T25: 0 | U25: 0 | V25: 0 | W25: 0 | X25: 0 | Y25: 0 | Z25: 0 | AA25: 102 | AB25: 40 | AC25: 78 | AD25: 6.4 | AE25: 0 | AF25: 0 | AG25: 0 | AH25: 0 | AI25: 0 | AJ25: 0 | AK25: 0 | AL25: 0 | AM25: 0 | AN25: 0 | AO25: 0 | AP25: 0 | AQ25: 0 | AR25: 0 | AS25: 0 | AT25: 6.4
A26: =IF(D26="","",SUBTOTAL(3,$D$17:D26)) -> 10 | B26: 01014023 | C26: Khoa Điện - Điện tử | D26: Lê Tiến Đạt | E26: 0 | F26: 0 | G26: 0 | H26: 0 | I26: 0 | J26: 0 | K26: 0 | L26: 0 | M26: 0 | N26: 0 | O26: 0 | P26: 0 | Q26: 0 | R26: 0 | S26: 0 | T26: 0 | U26: 0 | V26: 0 | W26: 0 | X26: 0 | Y26: 0 | Z26: 0 | AA26: 106 | AB26: 87 | AC26: 106 | AD26: 8.7 | AE26: 0 | AF26: 0 | AG26: 0 | AH26: 0 | AI26: 0 | AJ26: 0 | AK26: 0 | AL26: 0 | AM26: 0 | AN26: 0 | AO26: 0 | AP26: 0 | AQ26: 0 | AR26: 0 | AS26: 0.8 | AT26: 9.5
A27: =IF(D27="","",SUBTOTAL(3,$D$17:D27)) -> 11 | B27: 01014018 | C27: Khoa Điện - Điện tử | D27: Mạnh Lê Hoàn | E27: 0 | F27: 0 | G27: 0 | H27: 0 | I27: 0 | J27: 0 | K27: 0 | L27: 0 | M27: 0 | N27: 0 | O27: 0.45 | P27: 0 | Q27: 0 | R27: 0.45 | S27: 0 | T27: 0 | U27: 0 | V27: 0 | W27: 0 | X27: 0 | Y27: 0 | Z27: 0 | AA27: 0 | AB27: 0 | AC27: 0 | AD27: 0 | AE27: 0 | AF27: 0 | AG27: 0 | AH27: 0 | AI27: 0 | AJ27: 0 | AK27: 0 | AL27: 0 | AM27: 0 | AN27: 0 | AO27: 0 | AP27: 0 | AQ27: 0 | AR27: 0 | AS27: 0 | AT27: 0.5
A28: =IF(D28="","",SUBTOTAL(3,$D$17:D28)) -> 12 | B28: 01014005 | C28: Khoa Điện - Điện tử | D28: Ngô Hoàng Anh | E28: 0 | F28: 0 | G28: 0 | H28: 0 | I28: 0 | J28: 0 | K28: 0 | L28: 0 | M28: 0 | N28: 0 | O28: 0 | P28: 0 | Q28: 0 | R28: 0 | S28: 0 | T28: 0 | U28: 0 | V28: 0 | W28: 0 | X28: 0 | Y28: 0 | Z28: 0 | AA28: 37 | AB28: 21 | AC28: 37 | AD28: 2.1 | AE28: 0 | AF28: 0 | AG28: 0 | AH28: 0 | AI28: 0 | AJ28: 0 | AK28: 0 | AL28: 0 | AM28: 0 | AN28: 0 | AO28: 0 | AP28: 0 | AQ28: 0 | AR28: 0 | AS28: 0 | AT28: 2.1
... A54: =IF(D54="","",SUBTOTAL(3,$D$17:D54)) -> 38 | B54: 01014026 | C54: Khoa Điện - Điện tử | D54: Vũ Hạnh Chiêu | E54: 0 | F54: 0 | G54: 0 | H54: 0 | I54: 0 | J54: 0 | K54: 0 | L54: 0 | M54: 0 | N54: 0 | O54: 0 | P54: 0 | Q54: 0 | R54: 0 | S54: 0 | T54: 0 | U54: 0 | V54: 0 | W54: 0 | X54: 0 | Y54: 0 | Z54: 0 | AA54: 204 | AB54: 118 | AC54: 204 | AD54: 11.8 | AE54: 0 | AF54: 0 | AG54: 0 | AH54: 0 | AI54: 0 | AJ54: 0 | AK54: 0 | AL54: 0 | AM54: 0 | AN54: 0 | AO54: 0 | AP54: 0 | AQ54: 0 | AR54: 0 | AS54: 0 | AT54: 11.8
A55: =IF(D55="","",SUBTOTAL(3,$D$17:D55)) -> 39 | C55: Khoa Điện - Điện tử | D55: Phan Thanh Hoàng | E55: 0 | F55: 0 | G55: 0 | H55: 0 | I55: 0 | J55: 0 | K55: 0 | L55: 0 | M55: 0 | N55: 0 | O55: 0 | P55: 0 | Q55: 0 | R55: 0 | S55: 0 | T55: 0 | U55: 0 | V55: 0 | W55: 0 | X55: 0 | Y55: 0 | Z55: 0 | AA55: 97 | AB55: 40 | AC55: 97 | AD55: 4 | AE55: 0 | AF55: 0 | AG55: 0 | AH55: 0 | AI55: 0 | AJ55: 0 | AK55: 0 | AL55: 0 | AM55: 0 | AN55: 0 | AO55: 0 | AP55: 0 | AQ55: 0 | AR55: 0 | AS55: 0 | AT55: 4
A68: =IF(D68="","",SUBTOTAL(3,$D$17:D68))
A69: =IF(D69="","",SUBTOTAL(3,$D$17:D69))
A70: =IF(D70="","",SUBTOTAL(3,$D$17:D70))
A71: =IF(D71="","",SUBTOTAL(3,$D$17:D71))
A72: =IF(D72="","",SUBTOTAL(3,$D$17:D72))
A73: =IF(D73="","",SUBTOTAL(3,$D$17:D73))
A74: =IF(D74="","",SUBTOTAL(3,$D$17:D74))
E75: =SUBTOTAL(9,E15:E74) -> 0 | F75: =SUBTOTAL(9,F15:F74) -> 0 | G75: =SUBTOTAL(9,G15:G74) -> 43 | H75: =SUBTOTAL(9,H15:H74) -> 0 | I75: =SUBTOTAL(9,I15:I74) -> 0 | J75: =SUBTOTAL(9,J15:J74) -> 0 | K75: =SUBTOTAL(9,K15:K74) -> 0 | L75: =SUBTOTAL(9,L15:L74) -> 0 | ... X75: =SUBTOTAL(9,X15:X74) -> 64 | Z75: =SUBTOTAL(9,Z15:Z74) -> 25.6 | AA75: =SUBTOTAL(9,AA15:AA74) -> 3161 | AB75: =SUBTOTAL(9,AB15:AB74) -> 3074 | AD75: =SUBTOTAL(9,AD15:AD74) -> 307.4 | AE75: =SUBTOTAL(9,AE15:AE74) -> 0 | AF75: =SUBTOTAL(9,AF15:AF74) -> 0 | AH75: =SUBTOTAL(9,AH15:AH74) -> 0 | AI75: =SUBTOTAL(9,AI15:AI74) -> 0 | AJ75: =SUBTOTAL(9,AJ15:AJ74) -> 0 | AK75: =SUBTOTAL(9,AK15:AK74) -> 0 | AL75: =SUBTOTAL(9,AL15:AL74) -> 0 | AM75: =SUBTOTAL(9,AM15:AM74) -> 0 | AN75: =SUBTOTAL(9,AN15:AN74) -> 0 | AO75: =SUBTOTAL(9,AO15:AO74) -> 0 | ... AT75: =SUBTOTAL(9,AT15:AT74) -> 360.7

Sheet HKII 20 - 21
A1: ỦY BAN NHÂN DÂN THÀNH PHỐ HỒ CHÍ MINH
A2: TRƯỜNG CAO ĐẲNG LÝ TỰ TRỌNG
A3: THÀNH PHỐ HỒ CHÍ MINH
A6: KHỐI LƯỢNG COI THI, CHẤM THI HỌC KÌ 2 NĂM HỌC 2020 - 2021 KHOA ĐIỆN - ĐIỆN TỬ
E12: 2 | F12: 3 | G12: 4 | H12: 5 | I12: 6 | J12: 7 | K12: 8 | L12: 9 | M12: 10 | N12: 11 | O12: 12 | P12: 13 | Q12: 14 | R12: 15 | S12: 16 | T12: 17 | U12: 18 | V12: 19 | W12: 20 | X12: 21 | Y12: 22 | Z12: 23 | AA12: 24 | AB12: 25 | AC12: 26 | AD12: 27 | AE12: 28 | AF12: 29 | AG12: 30 | AH12: 31 | AI12: 32 | AJ12: 33 | AK12: 34 | AL12: 35 | AM12: 36 | AN12: 37 | AO12: 38 | AP12: 39 | AQ12: 40 | AR12: 41 | AS12: 42 | AT12: 43
E13: =SUBTOTAL(9,E17:E102) -> 0 | F13: =SUBTOTAL(9,F17:F102) -> 0 | G13: =SUBTOTAL(9,G17:G102) -> 0 | H13: =SUBTOTAL(9,H17:H102) -> 0 | I13: =SUBTOTAL(9,I17:I102) -> 0 | J13: =SUBTOTAL(9,J17:J102) -> 0 | K13: =SUBTOTAL(9,K17:K102) -> 0 | L13: =SUBTOTAL(9,L17:L102) -> 0 | ... AT13: =SUBTOTAL(9,AT17:AT102) -> 0
A14: STT | B14: Mã nhân sự | C14: Đơn vị | D14: HỌ VÀ TÊN GIẢNG VIÊN | E14: ĐỀ THI | N14: COI THI | S14: CHẤM THI KTHP | AI14: CHẤM THI TỐT NGHIỆP | AR14: DỰ PHÒNG KỲ THI | AS14: GIÁM SÁT | AT14: TỔNG KHỐI LƯỢNG | AU14: =SUBTOTAL(9,AT:AT) -> 43
S15: LÝ THUYẾT (TV+TN) | W15: VẤN ĐÁP | AA15: TIỂU LUẬN | AE15: THỰC HÀNH | AI15: LÝ THUYẾT (TV+TN) | AL15: VẤN ĐÁP | AO15: THỰC HÀNH
E16: SL ĐỀ LT KTHP | F16: SL ĐỀ TN KTHP | G16: SL ĐỀ VĐ KTHP | H16: SL ĐỀ TH KTHP | I16: SL ĐỀ LT ThiTN | J16: SL ĐỀ TN ThiTN | K16: SL ĐỀ VĐ ThiTN | L16: SL ĐỀ TH ThiTN | M16: KL SOẠN ĐỀ (tiết) | N16: COITHI 2 KTHP | O16: COITHI 1 KTHP | P16: COITHI 1 Thi TN | Q16: COITHI 2 Thi TN | R16: KL COITHI (tiết) | S16: SL CHẤM LT 1 | T16: SL CHẤM LT 2 | U16: SL CHẤM NV | V16: KL CHẤM LT (tiết) | W16: SL CHẤM TL 1 | X16: SL CHẤM TL 2 | Y16: SL CHẤM NV | Z16: KL CHẤM TL (tiết) | AA16: SL CHẤM TL 1 | AB16: SL CHẤM TL 2 | AC16: SL CHẤM NV | AD16: KL CHẤM TL (tiết) | AE16: SL CHẤM TL 1 | AF16: SL CHẤM TL 2 | AG16: SL CHẤM NV | AH16: KL CHẤM TL (tiết) | AI16: SL BÀI LT CHẤM 1 | AJ16: SL BÀI LT CHẤM 2 | AK16: KL CHẤM LT (tiết) | AL16: SL BÀI VĐ CHẤM 1 | AM16: SL BÀI VĐ CHẤM 2 | AN16: KL CHẤM VĐ (tiết) | AO16: SL BÀI TL CHẤM 1 | AP16: SL BÀI TL CHẤM 2 | AQ16: KL CHẤM TL (tiết)
A17: =IF(D17="","",SUBTOTAL(3,$D$17:D17)) -> 1 | B17: 01014044 | C17: Khoa Điện - Điện tử | D17: Cao Thị Xuân Thùy (TG) | E17: 0 | F17: 0 | G17: 0 | H17: 0 | I17: 0 | J17: 0 | K17: 0 | L17: 0 | M17: 0 | N17: 0 | O17: 0 | P17: 0 | Q17: 0 | R17: 0 | S17: 0 | T17: 0 | U17: 0 | V17: 0 | W17: 0 | X17: 0 | Y17: 0 | Z17: 0 | AA17: 0 | AB17: 0 | AC17: 0 | AD17: 0 | AE17: 0 | AF17: 0 | AG17: 0 | AH17: 0 | AI17: 0 | AJ17: 0 | AK17: 0 | AL17: 0 | AM17: 0 | AN17: 0 | AO17: 0 | AP17: 0 | AQ17: 0 | AR17: 0 | AS17: 0 | AT17: 0
A18: =IF(D18="","",SUBTOTAL(3,$D$17:D18)) -> 2 | B18: 01014045 | C18: Khoa Điện - Điện tử | D18: Cao Văn Tuấn | E18: 0 | F18: 0 | G18: 0 | H18: 0 | I18: 0 | J18: 0 | K18: 0 | L18: 0 | M18: 0 | N18: 0 | O18: 0 | P18: 0 | Q18: 0 | R18: 0 | S18: 0 | T18: 0 | U18: 0 | V18: 0 | W18: 0 | X18: 0 | Y18: 0 | Z18: 0 | AA18: 0 | AB18: 0 | AC18: 0 | AD18: 0 | AE18: 0 | AF18: 0 | AG18: 0 | AH18: 0 | AI18: 0 | AJ18: 0 | AK18: 0 | AL18: 0 | AM18: 0 | AN18: 0 | AO18: 0 | AP18: 0 | AQ18: 0 | AR18: 0 | AS18: 0 | AT18: 0
A19: =IF(D19="","",SUBTOTAL(3,$D$17:D19)) -> 3 | B19: 01014024 | C19: Khoa Điện - Điện tử | D19: Đặng Đức Minh | E19: 0 | F19: 0 | G19: 0 | H19: 0 | I19: 0 | J19: 0 | K19: 0 | L19: 0 | M19: 0 | N19: 0 | O19: 0 | P19: 0 | Q19: 0 | R19: 0 | S19: 0 | T19: 0 | U19: 0 | V19: 0 | W19: 0 | X19: 0 | Y19: 0 | Z19: 0 | AA19: 0 | AB19: 0 | AC19: 0 | AD19: 0 | AE19: 0 | AF19: 0 | AG19: 0 | AH19: 0 | AI19: 0 | AJ19: 0 | AK19: 0 | AL19: 0 | AM19: 0 | AN19: 0 | AO19: 0 | AP19: 0 | AQ19: 0 | AR19: 0 | AS19: 0 | AT19: 0
A20: =IF(D20="","",SUBTOTAL(3,$D$17:D20)) -> 4 | B20: 01014043 | C20: Khoa Điện - Điện tử | D20: Đinh Văn Chuyên (TG) | E20: 0 | F20: 0 | G20: 0 | H20: 0 | I20: 0 | J20: 0 | K20: 0 | L20: 0 | M20: 0 | N20: 0 | O20: 0 | P20: 0 | Q20: 0 | R20: 0 | S20: 0 | T20: 0 | U20: 0 | V20: 0 | W20: 0 | X20: 0 | Y20: 0 | Z20: 0 | AA20: 0 | AB20: 0 | AC20: 0 | AD20: 0 | AE20: 0 | AF20: 0 | AG20: 0 | AH20: 0 | AI20: 0 | AJ20: 0 | AK20: 0 | AL20: 0 | AM20: 0 | AN20: 0 | AO20: 0 | AP20: 0 | AQ20: 0 | AR20: 0 | AS20: 0 | AT20: 0
A21: =IF(D21="","",SUBTOTAL(3,$D$17:D21)) -> 5 | B21: 01014032 | C21: Khoa Điện - Điện tử | D21: Đỗ Huỳnh Thanh Phong | E21: 0 | F21: 0 | G21: 0 | H21: 0 | I21: 0 | J21: 0 | K21: 0 | L21: 0 | M21: 0 | N21: 0 | O21: 0 | P21: 0 | Q21: 0 | R21: 0 | S21: 0 | T21: 0 | U21: 0 | V21: 0 | W21: 0 | X21: 0 | Y21: 0 | Z21: 0 | AA21: 0 | AB21: 0 | AC21: 0 | AD21: 0 | AE21: 0 | AF21: 0 | AG21: 0 | AH21: 0 | AI21: 0 | AJ21: 0 | AK21: 0 | AL21: 0 | AM21: 0 | AN21: 0 | AO21: 0 | AP21: 0 | AQ21: 0 | AR21: 0 | AS21: 0 | AT21: 0
A22: =IF(D22="","",SUBTOTAL(3,$D$17:D22)) -> 6 | B22: 01014004 | C22: Khoa Điện - Điện tử | D22: Huỳnh Ngọc Mai | E22: 0 | F22: 0 | G22: 0 | H22: 0 | I22: 0 | J22: 0 | K22: 0 | L22: 0 | M22: 0 | N22: 0 | O22: 0 | P22: 0 | Q22: 0 | R22: 0 | S22: 0 | T22: 0 | U22: 0 | V22: 0 | W22: 0 | X22: 0 | Y22: 0 | Z22: 0 | AA22: 0 | AB22: 0 | AC22: 0 | AD22: 0 | AE22: 0 | AF22: 0 | AG22: 0 | AH22: 0 | AI22: 0 | AJ22: 0 | AK22: 0 | AL22: 0 | AM22: 0 | AN22: 0 | AO22: 0 | AP22: 0 | AQ22: 0 | AR22: 0 | AS22: 0 | AT22: 0
A23: =IF(D23="","",SUBTOTAL(3,$D$17:D23)) -> 7 | B23: 01010069 | C23: Khoa Điện - Điện tử | D23: Lê Hồng Vân (TG) | E23: 0 | F23: 0 | G23: 0 | H23: 0 | I23: 0 | J23: 0 | K23: 0 | L23: 0 | M23: 0 | N23: 0 | O23: 0 | P23: 0 | Q23: 0 | R23: 0 | S23: 0 | T23: 0 | U23: 0 | V23: 0 | W23: 0 | X23: 0 | Y23: 0 | Z23: 0 | AA23: 0 | AB23: 0 | AC23: 0 | AD23: 0 | AE23: 0 | AF23: 0 | AG23: 0 | AH23: 0 | AI23: 0 | AJ23: 0 | AK23: 0 | AL23: 0 | AM23: 0 | AN23: 0 | AO23: 0 | AP23: 0 | AQ23: 0 | AR23: 0 | AS23: 0 | AT23: 0
A24: =IF(D24="","",SUBTOTAL(3,$D$17:D24)) -> 8 | B24: 01014049 | C24: Khoa Điện - Điện tử | D24: Lê Quang Bình (TG) | E24: 0 | F24: 0 | G24: 0 | H24: 0 | I24: 0 | J24: 0 | K24: 0 | L24: 0 | M24: 0 | N24: 0 | O24: 0 | P24: 0 | Q24: 0 | R24: 0 | S24: 0 | T24: 0 | U24: 0 | V24: 0 | W24: 0 | X24: 0 | Y24: 0 | Z24: 0 | AA24: 0 | AB24: 0 | AC24: 0 | AD24: 0 | AE24: 0 | AF24: 0 | AG24: 0 | AH24: 0 | AI24: 0 | AJ24: 0 | AK24: 0 | AL24: 0 | AM24: 0 | AN24: 0 | AO24: 0 | AP24: 0 | AQ24: 0 | AR24: 0 | AS24: 0 | AT24: 0
A25: =IF(D25="","",SUBTOTAL(3,$D$17:D25)) -> 9 | B25: 01014019 | C25: Khoa Điện - Điện tử | D25: Lê Thế Huân | E25: 0 | F25: 0 | G25: 0 | H25: 0 | I25: 0 | J25: 0 | K25: 0 | L25: 0 | M25: 0 | N25: 0 | O25: 0 | P25: 0 | Q25: 0 | R25: 0 | S25: 0 | T25: 0 | U25: 0 | V25: 0 | W25: 0 | X25: 0 | Y25: 0 | Z25: 0 | AA25: 0 | AB25: 0 | AC25: 0 | AD25: 0 | AE25: 0 | AF25: 0 | AG25: 0 | AH25: 0 | AI25: 0 | AJ25: 0 | AK25: 0 | AL25: 0 | AM25: 0 | AN25: 0 | AO25: 0 | AP25: 0 | AQ25: 0 | AR25: 0 | AS25: 0 | AT25: 0
A26: =IF(D26="","",SUBTOTAL(3,$D$17:D26)) -> 10 | B26: 01014023 | C26: Khoa Điện - Điện tử | D26: Lê Tiến Đạt | E26: 0 | F26: 0 | G26: 0 | H26: 0 | I26: 0 | J26: 0 | K26: 0 | L26: 0 | M26: 0 | N26: 0 | O26: 0 | P26: 0 | Q26: 0 | R26: 0 | S26: 0 | T26: 0 | U26: 0 | V26: 0 | W26: 0 | X26: 0 | Y26: 0 | Z26: 0 | AA26: 0 | AB26: 0 | AC26: 0 | AD26: 0 | AE26: 0 | AF26: 0 | AG26: 0 | AH26: 0 | AI26: 0 | AJ26: 0 | AK26: 0 | AL26: 0 | AM26: 0 | AN26: 0 | AO26: 0 | AP26: 0 | AQ26: 0 | AR26: 0 | AS26: 0 | AT26: 0
A27: =IF(D27="","",SUBTOTAL(3,$D$17:D27)) -> 11 | B27: 01014018 | C27: Khoa Điện - Điện tử | D27: Mạnh Lê Hoàn | E27: 0 | F27: 0 | G27: 0 | H27: 0 | I27: 0 | J27: 0 | K27: 0 | L27: 0 | M27: 0 | N27: 0 | O27: 0 | P27: 0 | Q27: 0 | R27: 0 | S27: 0 | T27: 0 | U27: 0 | V27: 0 | W27: 0 | X27: 0 | Y27: 0 | Z27: 0 | AA27: 0 | AB27: 0 | AC27: 0 | AD27: 0 | AE27: 0 | AF27: 0 | AG27: 0 | AH27: 0 | AI27: 0 | AJ27: 0 | AK27: 0 | AL27: 0 | AM27: 0 | AN27: 0 | AO27: 0 | AP27: 0 | AQ27: 0 | AR27: 0 | AS27: 0 | AT27: 0
A28: =IF(D28="","",SUBTOTAL(3,$D$17:D28)) -> 12 | B28: 01014005 | C28: Khoa Điện - Điện tử | D28: Ngô Hoàng Anh | E28: 0 | F28: 0 | G28: 0 | H28: 0 | I28: 0 | J28: 0 | K28: 0 | L28: 0 | M28: 0 | N28: 0 | O28: 0 | P28: 0 | Q28: 0 | R28: 0 | S28: 0 | T28: 0 | U28: 0 | V28: 0 | W28: 0 | X28: 0 | Y28: 0 | Z28: 0 | AA28: 0 | AB28: 0 | AC28: 0 | AD28: 0 | AE28: 0 | AF28: 0 | AG28: 0 | AH28: 0 | AI28: 0 | AJ28: 0 | AK28: 0 | AL28: 0 | AM28: 0 | AN28: 0 | AO28: 0 | AP28: 0 | AQ28: 0 | AR28: 0 | AS28: 0 | AT28: 0
... A54: =IF(D54="","",SUBTOTAL(3,$D$17:D54)) -> 38 | B54: 01014026 | C54: Khoa Điện - Điện tử | D54: Vũ Hạnh Chiêu | E54: 0 | F54: 0 | G54: 0 | H54: 0 | I54: 0 | J54: 0 | K54: 0 | L54: 0 | M54: 0 | N54: 0 | O54: 0 | P54: 0 | Q54: 0 | R54: 0 | S54: 0 | T54: 0 | U54: 0 | V54: 0 | W54: 0 | X54: 0 | Y54: 0 | Z54: 0 | AA54: 0 | AB54: 0 | AC54: 0 | AD54: 0 | AE54: 0 | AF54: 0 | AG54: 0 | AH54: 0 | AI54: 0 | AJ54: 0 | AK54: 0 | AL54: 0 | AM54: 0 | AN54: 0 | AO54: 0 | AP54: 0 | AQ54: 0 | AR54: 0 | AS54: 0 | AT54: 0
A55: =IF(D55="","",SUBTOTAL(3,$D$17:D55)) -> 39 | C55: Khoa Điện - Điện tử | D55: Phan Thanh Hoàng | E55: 0 | F55: 0 | G55: 0 | H55: 0 | I55: 0 | J55: 0 | K55: 0 | L55: 0 | M55: 0 | N55: 0 | O55: 0 | P55: 0 | Q55: 0 | R55: 0 | S55: 0 | T55: 0 | U55: 0 | V55: 0 | W55: 0 | X55: 0 | Y55: 0 | Z55: 0 | AA55: 0 | AB55: 0 | AC55: 0 | AD55: 0 | AE55: 0 | AF55: 0 | AG55: 0 | AH55: 0 | AI55: 0 | AJ55: 0 | AK55: 0 | AL55: 0 | AM55: 0 | AN55: 0 | AO55: 0 | AP55: 0 | AQ55: 0 | AR55: 0 | AS55: 0 | AT55: 0
A95: =IF(D95="","",SUBTOTAL(3,$D$17:D95))
A96: =IF(D96="","",SUBTOTAL(3,$D$17:D96))
A97: =IF(D97="","",SUBTOTAL(3,$D$17:D97))
A98: =IF(D98="","",SUBTOTAL(3,$D$17:D98))
A99: =IF(D99="","",SUBTOTAL(3,$D$17:D99))
A100: =IF(D100="","",SUBTOTAL(3,$D$17:D100))
A101: =IF(D101="","",SUBTOTAL(3,$D$17:D101))
A102: =IF(D102="","",SUBTOTAL(3,$D$17:D102))
A103: =IF(D103="","",SUBTOTAL(3,$D$17:D103))
A104: =IF(D104="","",SUBTOTAL(3,$D$17:D104))
A105: =IF(D105="","",SUBTOTAL(3,$D$17:D105))
A106: =IF(D106="","",SUBTOTAL(3,$D$17:D106))
... A114: =IF(D114="","",SUBTOTAL(3,$D$17:D114))
AT118: =SUM(AT17:AT114) -> 0

Sheet CA NAM
A1: ỦY BAN NHÂN DÂN THÀNH PHỐ HỒ CHÍ MINH
A2: TRƯỜNG CAO ĐẲNG LÝ TỰ TRỌNG
A3: THÀNH PHỐ HỒ CHÍ MINH
A6: KHỐI LƯỢNG COI THI, CHẤM THI NĂM HỌC 2021 - 2022 KHOA ĐIỆN - ĐIỆN TỬ
E12: =SUBTOTAL(9,E16:E58) -> 14 | F12: =SUBTOTAL(9,F16:F58) -> 24 | G12: =SUBTOTAL(9,G16:G58) -> 76 | H12: =SUBTOTAL(9,H16:H58) -> 0 | I12: =SUBTOTAL(9,I16:I58) -> 0 | J12: =SUBTOTAL(9,J16:J58) -> 0 | K12: =SUBTOTAL(9,K16:K58) -> 0 | L12: =SUBTOTAL(9,L16:L58) -> 0 | ... AT12: =SUBTOTAL(9,AT16:AT58) -> 552.6
A13: STT | B13: Mã nhân sự | C13: Đơn vị | D13: HỌ VÀ TÊN GIẢNG VIÊN | E13: ĐỀ THI | N13: COI THI | S13: CHẤM THI KTHP | AI13: CHẤM THI TỐT NGHIỆP | AR13: DỰ PHÒNG KỲ THI | AS13: GIÁM SÁT | AT13: TỔNG KHỐI LƯỢNG | AU13: =SUBTOTAL(9,AT:AT) -> 552.6
S14: LÝ THUYẾT (TV+TN) | W14: VẤN ĐÁP | AA14: TIỂU LUẬN | AE14: THỰC HÀNH | AI14: LÝ THUYẾT (TV+TN) | AL14: VẤN ĐÁP | AO14: THỰC HÀNH
E15: SL ĐỀ LT KTHP | F15: SL ĐỀ TN KTHP | G15: SL ĐỀ VĐ KTHP | H15: SL ĐỀ TH KTHP | I15: SL ĐỀ LT ThiTN | J15: SL ĐỀ TN ThiTN | K15: SL ĐỀ VĐ ThiTN | L15: SL ĐỀ TH ThiTN | M15: KL SOẠN ĐỀ (tiết) | N15: COITHI 2KTHP | O15: COITHI 1 KTHP | P15: COITHI 1 Thi TN | Q15: COITHI 2 Thi TN | R15: KL COITHI (tiết) | S15: SL CHẤM LT 1 | T15: SL CHẤM LT 2 | U15: SL CHẤM NV | V15: KL CHẤM LT (tiết) | W15: SL CHẤM TL 1 | X15: SL CHẤM TL 2 | Y15: SL CHẤM NV | Z15: KL CHẤM TL (tiết) | AA15: SL CHẤM TL 1 | AB15: SL CHẤM TL 2 | AC15: SL CHẤM NV | AD15: KL CHẤM TL (tiết) | AE15: SL CHẤM TL 1 | AF15: SL CHẤM TL 2 | AG15: SL CHẤM NV | AH15: KL CHẤM TL (tiết) | AI15: SL BÀI LT CHẤM 1 | AJ15: SL BÀI LT CHẤM 2 | AK15: KL CHẤM LT (tiết) | AL15: SL BÀI VĐ CHẤM 1 | AM15: SL BÀI VĐ CHẤM 2 | AN15: KL CHẤM VĐ (tiết) | AO15: SL BÀI TL CHẤM 1 | AP15: SL BÀI TL CHẤM 2 | AQ15: KL CHẤM TL (tiết)
A16: =IF(D16="","",SUBTOTAL(3,$D$16:D16)) -> 1 | B16: 01014044 | C16: Khoa Điện - Điện tử | D16: Cao Thị Xuân Thùy (TG) | E16: =IF($D16="","",'HK2 21-22'!E17+'HKII 20 - 21'!E17+'HKI 21-22 '!E17) -> 0 | F16: =IF($D16="","",'HK2 21-22'!F17+'HKII 20 - 21'!F17+'HKI 21-22 '!F17) -> 0 | G16: =IF($D16="","",'HK2 21-22'!G17+'HKII 20 - 21'!G17+'HKI 21-22 '!G17) -> 0 | H16: =IF($D16="","",'HK2 21-22'!H17+'HKII 20 - 21'!H17+'HKI 21-22 '!H17) -> 0 | I16: =IF($D16="","",'HK2 21-22'!I17+'HKII 20 - 21'!I17+'HKI 21-22 '!I17) -> 0 | J16: =IF($D16="","",'HK2 21-22'!J17+'HKII 20 - 21'!J17+'HKI 21-22 '!J17) -> 0 | K16: =IF($D16="","",'HK2 21-22'!K17+'HKII 20 - 21'!K17+'HKI 21-22 '!K17) -> 0 | L16: =IF($D16="","",'HK2 21-22'!L17+'HKII 20 - 21'!L17+'HKI 21-22 '!L17) -> 0 | ... AT16: =IF($D16="","",'HK2 21-22'!AT17+'HKII 20 - 21'!AT17+'HKI 21-22 '!AT17) -> 0
A17: =IF(D17="","",SUBTOTAL(3,$D$16:D17)) -> 2 | B17: 01014045 | C17: Khoa Điện - Điện tử | D17: Cao Văn Tuấn | E17: =IF($D17="","",'HK2 21-22'!E18+'HKII 20 - 21'!E18+'HKI 21-22 '!E18) -> 0 | F17: =IF($D17="","",'HK2 21-22'!F18+'HKII 20 - 21'!F18+'HKI 21-22 '!F18) -> 0 | G17: =IF($D17="","",'HK2 21-22'!G18+'HKII 20 - 21'!G18+'HKI 21-22 '!G18) -> 10 | H17: =IF($D17="","",'HK2 21-22'!H18+'HKII 20 - 21'!H18+'HKI 21-22 '!H18) -> 0 | I17: =IF($D17="","",'HK2 21-22'!I18+'HKII 20 - 21'!I18+'HKI 21-22 '!I18) -> 0 | J17: =IF($D17="","",'HK2 21-22'!J18+'HKII 20 - 21'!J18+'HKI 21-22 '!J18) -> 0 | K17: =IF($D17="","",'HK2 21-22'!K18+'HKII 20 - 21'!K18+'HKI 21-22 '!K18) -> 0 | L17: =IF($D17="","",'HK2 21-22'!L18+'HKII 20 - 21'!L18+'HKI 21-22 '!L18) -> 0 | ... AT17: =IF($D17="","",'HK2 21-22'!AT18+'HKII 20 - 21'!AT18+'HKI 21-22 '!AT18) -> 27.7
A18: =IF(D18="","",SUBTOTAL(3,$D$16:D18)) -> 3 | B18: 01014024 | C18: Khoa Điện - Điện tử | D18: Đặng Đức Minh | E18: =IF($D18="","",'HK2 21-22'!E19+'HKII 20 - 21'!E19+'HKI 21-22 '!E19) -> 0 | F18: =IF($D18="","",'HK2 21-22'!F19+'HKII 20 - 21'!F19+'HKI 21-22 '!F19) -> 0 | G18: =IF($D18="","",'HK2 21-22'!G19+'HKII 20 - 21'!G19+'HKI 21-22 '!G19) -> 0 | H18: =IF($D18="","",'HK2 21-22'!H19+'HKII 20 - 21'!H19+'HKI 21-22 '!H19) -> 0 | I18: =IF($D18="","",'HK2 21-22'!I19+'HKII 20 - 21'!I19+'HKI 21-22 '!I19) -> 0 | J18: =IF($D18="","",'HK2 21-22'!J19+'HKII 20 - 21'!J19+'HKI 21-22 '!J19) -> 0 | K18: =IF($D18="","",'HK2 21-22'!K19+'HKII 20 - 21'!K19+'HKI 21-22 '!K19) -> 0 | L18: =IF($D18="","",'HK2 21-22'!L19+'HKII 20 - 21'!L19+'HKI 21-22 '!L19) -> 0 | ... AT18: =IF($D18="","",'HK2 21-22'!AT19+'HKII 20 - 21'!AT19+'HKI 21-22 '!AT19) -> 14
A19: =IF(D19="","",SUBTOTAL(3,$D$16:D19)) -> 4 | B19: 01014043 | C19: Khoa Điện - Điện tử | D19: Đinh Văn Chuyên (TG) | E19: =IF($D19="","",'HK2 21-22'!E20+'HKII 20 - 21'!E20+'HKI 21-22 '!E20) -> 0 | F19: =IF($D19="","",'HK2 21-22'!F20+'HKII 20 - 21'!F20+'HKI 21-22 '!F20) -> 0 | G19: =IF($D19="","",'HK2 21-22'!G20+'HKII 20 - 21'!G20+'HKI 21-22 '!G20) -> 0 | H19: =IF($D19="","",'HK2 21-22'!H20+'HKII 20 - 21'!H20+'HKI 21-22 '!H20) -> 0 | I19: =IF($D19="","",'HK2 21-22'!I20+'HKII 20 - 21'!I20+'HKI 21-22 '!I20) -> 0 | J19: =IF($D19="","",'HK2 21-22'!J20+'HKII 20 - 21'!J20+'HKI 21-22 '!J20) -> 0 | K19: =IF($D19="","",'HK2 21-22'!K20+'HKII 20 - 21'!K20+'HKI 21-22 '!K20) -> 0 | L19: =IF($D19="","",'HK2 21-22'!L20+'HKII 20 - 21'!L20+'HKI 21-22 '!L20) -> 0 | ... AT19: =IF($D19="","",'HK2 21-22'!AT20+'HKII 20 - 21'!AT20+'HKI 21-22 '!AT20) -> 0
A20: =IF(D20="","",SUBTOTAL(3,$D$16:D20)) -> 5 | B20: 01014032 | C20: Khoa Điện - Điện tử | D20: Đỗ Huỳnh Thanh Phong | E20: =IF($D20="","",'HK2 21-22'!E21+'HKII 20 - 21'!E21+'HKI 21-22 '!E21) -> 2 | F20: =IF($D20="","",'HK2 21-22'!F21+'HKII 20 - 21'!F21+'HKI 21-22 '!F21) -> 0 | G20: =IF($D20="","",'HK2 21-22'!G21+'HKII 20 - 21'!G21+'HKI 21-22 '!G21) -> 0 | H20: =IF($D20="","",'HK2 21-22'!H21+'HKII 20 - 21'!H21+'HKI 21-22 '!H21) -> 0 | I20: =IF($D20="","",'HK2 21-22'!I21+'HKII 20 - 21'!I21+'HKI 21-22 '!I21) -> 0 | J20: =IF($D20="","",'HK2 21-22'!J21+'HKII 20 - 21'!J21+'HKI 21-22 '!J21) -> 0 | K20: =IF($D20="","",'HK2 21-22'!K21+'HKII 20 - 21'!K21+'HKI 21-22 '!K21) -> 0 | L20: =IF($D20="","",'HK2 21-22'!L21+'HKII 20 - 21'!L21+'HKI 21-22 '!L21) -> 0 | ... AT20: =IF($D20="","",'HK2 21-22'!AT21+'HKII 20 - 21'!AT21+'HKI 21-22 '!AT21) -> 24.6
A21: =IF(D21="","",SUBTOTAL(3,$D$16:D21)) -> 6 | B21: 01014004 | C21: Khoa Điện - Điện tử | D21: Huỳnh Ngọc Mai | E21: =IF($D21="","",'HK2 21-22'!E22+'HKII 20 - 21'!E22+'HKI 21-22 '!E22) -> 0 | F21: =IF($D21="","",'HK2 21-22'!F22+'HKII 20 - 21'!F22+'HKI 21-22 '!F22) -> 0 | G21: =IF($D21="","",'HK2 21-22'!G22+'HKII 20 - 21'!G22+'HKI 21-22 '!G22) -> 0 | H21: =IF($D21="","",'HK2 21-22'!H22+'HKII 20 - 21'!H22+'HKI 21-22 '!H22) -> 0 | I21: =IF($D21="","",'HK2 21-22'!I22+'HKII 20 - 21'!I22+'HKI 21-22 '!I22) -> 0 | J21: =IF($D21="","",'HK2 21-22'!J22+'HKII 20 - 21'!J22+'HKI 21-22 '!J22) -> 0 | K21: =IF($D21="","",'HK2 21-22'!K22+'HKII 20 - 21'!K22+'HKI 21-22 '!K22) -> 0 | L21: =IF($D21="","",'HK2 21-22'!L22+'HKII 20 - 21'!L22+'HKI 21-22 '!L22) -> 0 | ... AT21: =IF($D21="","",'HK2 21-22'!AT22+'HKII 20 - 21'!AT22+'HKI 21-22 '!AT22) -> 6.7
A22: =IF(D22="","",SUBTOTAL(3,$D$16:D22)) -> 7 | B22: 01010069 | C22: Khoa Điện - Điện tử | D22: Lê Hồng Vân (TG) | E22: =IF($D22="","",'HK2 21-22'!E23+'HKII 20 - 21'!E23+'HKI 21-22 '!E23) -> 0 | F22: =IF($D22="","",'HK2 21-22'!F23+'HKII 20 - 21'!F23+'HKI 21-22 '!F23) -> 0 | G22: =IF($D22="","",'HK2 21-22'!G23+'HKII 20 - 21'!G23+'HKI 21-22 '!G23) -> 0 | H22: =IF($D22="","",'HK2 21-22'!H23+'HKII 20 - 21'!H23+'HKI 21-22 '!H23) -> 0 | I22: =IF($D22="","",'HK2 21-22'!I23+'HKII 20 - 21'!I23+'HKI 21-22 '!I23) -> 0 | J22: =IF($D22="","",'HK2 21-22'!J23+'HKII 20 - 21'!J23+'HKI 21-22 '!J23) -> 0 | K22: =IF($D22="","",'HK2 21-22'!K23+'HKII 20 - 21'!K23+'HKI 21-22 '!K23) -> 0 | L22: =IF($D22="","",'HK2 21-22'!L23+'HKII 20 - 21'!L23+'HKI 21-22 '!L23) -> 0 | ... AT22: =IF($D22="","",'HK2 21-22'!AT23+'HKII 20 - 21'!AT23+'HKI 21-22 '!AT23) -> 0
A23: =IF(D23="","",SUBTOTAL(3,$D$16:D23)) -> 8 | B23: 01014049 | C23: Khoa Điện - Điện tử | D23: Lê Quang Bình (TG) | E23: =IF($D23="","",'HK2 21-22'!E24+'HKII 20 - 21'!E24+'HKI 21-22 '!E24) -> 0 | F23: =IF($D23="","",'HK2 21-22'!F24+'HKII 20 - 21'!F24+'HKI 21-22 '!F24) -> 0 | G23: =IF($D23="","",'HK2 21-22'!G24+'HKII 20 - 21'!G24+'HKI 21-22 '!G24) -> 0 | H23: =IF($D23="","",'HK2 21-22'!H24+'HKII 20 - 21'!H24+'HKI 21-22 '!H24) -> 0 | I23: =IF($D23="","",'HK2 21-22'!I24+'HKII 20 - 21'!I24+'HKI 21-22 '!I24) -> 0 | J23: =IF($D23="","",'HK2 21-22'!J24+'HKII 20 - 21'!J24+'HKI 21-22 '!J24) -> 0 | K23: =IF($D23="","",'HK2 21-22'!K24+'HKII 20 - 21'!K24+'HKI 21-22 '!K24) -> 0 | L23: =IF($D23="","",'HK2 21-22'!L24+'HKII 20 - 21'!L24+'HKI 21-22 '!L24) -> 0 | ... AT23: =IF($D23="","",'HK2 21-22'!AT24+'HKII 20 - 21'!AT24+'HKI 21-22 '!AT24) -> 0
A24: =IF(D24="","",SUBTOTAL(3,$D$16:D24)) -> 9 | B24: 01014019 | C24: Khoa Điện - Điện tử | D24: Lê Thế Huân | E24: =IF($D24="","",'HK2 21-22'!E25+'HKII 20 - 21'!E25+'HKI 21-22 '!E25) -> 2 | F24: =IF($D24="","",'HK2 21-22'!F25+'HKII 20 - 21'!F25+'HKI 21-22 '!F25) -> 0 | G24: =IF($D24="","",'HK2 21-22'!G25+'HKII 20 - 21'!G25+'HKI 21-22 '!G25) -> 0 | H24: =IF($D24="","",'HK2 21-22'!H25+'HKII 20 - 21'!H25+'HKI 21-22 '!H25) -> 0 | I24: =IF($D24="","",'HK2 21-22'!I25+'HKII 20 - 21'!I25+'HKI 21-22 '!I25) -> 0 | J24: =IF($D24="","",'HK2 21-22'!J25+'HKII 20 - 21'!J25+'HKI 21-22 '!J25) -> 0 | K24: =IF($D24="","",'HK2 21-22'!K25+'HKII 20 - 21'!K25+'HKI 21-22 '!K25) -> 0 | L24: =IF($D24="","",'HK2 21-22'!L25+'HKII 20 - 21'!L25+'HKI 21-22 '!L25) -> 0 | ... AT24: =IF($D24="","",'HK2 21-22'!AT25+'HKII 20 - 21'!AT25+'HKI 21-22 '!AT25) -> 13.8
A25: =IF(D25="","",SUBTOTAL(3,$D$16:D25)) -> 10 | B25: 01014023 | C25: Khoa Điện - Điện tử | D25: Lê Tiến Đạt | E25: =IF($D25="","",'HK2 21-22'!E26+'HKII 20 - 21'!E26+'HKI 21-22 '!E26) -> 0 | F25: =IF($D25="","",'HK2 21-22'!F26+'HKII 20 - 21'!F26+'HKI 21-22 '!F26) -> 0 | G25: =IF($D25="","",'HK2 21-22'!G26+'HKII 20 - 21'!G26+'HKI 21-22 '!G26) -> 0 | H25: =IF($D25="","",'HK2 21-22'!H26+'HKII 20 - 21'!H26+'HKI 21-22 '!H26) -> 0 | I25: =IF($D25="","",'HK2 21-22'!I26+'HKII 20 - 21'!I26+'HKI 21-22 '!I26) -> 0 | J25: =IF($D25="","",'HK2 21-22'!J26+'HKII 20 - 21'!J26+'HKI 21-22 '!J26) -> 0 | K25: =IF($D25="","",'HK2 21-22'!K26+'HKII 20 - 21'!K26+'HKI 21-22 '!K26) -> 0 | L25: =IF($D25="","",'HK2 21-22'!L26+'HKII 20 - 21'!L26+'HKI 21-22 '!L26) -> 0 | ... AT25: =IF($D25="","",'HK2 21-22'!AT26+'HKII 20 - 21'!AT26+'HKI 21-22 '!AT26) -> 13.1
A26: =IF(D26="","",SUBTOTAL(3,$D$16:D26)) -> 11 | B26: 01014018 | C26: Khoa Điện - Điện tử | D26: Mạnh Lê Hoàn | E26: =IF($D26="","",'HK2 21-22'!E27+'HKII 20 - 21'!E27+'HKI 21-22 '!E27) -> 0 | F26: =IF($D26="","",'HK2 21-22'!F27+'HKII 20 - 21'!F27+'HKI 21-22 '!F27) -> 0 | G26: =IF($D26="","",'HK2 21-22'!G27+'HKII 20 - 21'!G27+'HKI 21-22 '!G27) -> 0 | H26: =IF($D26="","",'HK2 21-22'!H27+'HKII 20 - 21'!H27+'HKI 21-22 '!H27) -> 0 | I26: =IF($D26="","",'HK2 21-22'!I27+'HKII 20 - 21'!I27+'HKI 21-22 '!I27) -> 0 | J26: =IF($D26="","",'HK2 21-22'!J27+'HKII 20 - 21'!J27+'HKI 21-22 '!J27) -> 0 | K26: =IF($D26="","",'HK2 21-22'!K27+'HKII 20 - 21'!K27+'HKI 21-22 '!K27) -> 0 | L26: =IF($D26="","",'HK2 21-22'!L27+'HKII 20 - 21'!L27+'HKI 21-22 '!L27) -> 0 | ... AT26: =IF($D26="","",'HK2 21-22'!AT27+'HKII 20 - 21'!AT27+'HKI 21-22 '!AT27) -> 2.9
A27: =IF(D27="","",SUBTOTAL(3,$D$16:D27)) -> 12 | B27: 01014005 | C27: Khoa Điện - Điện tử | D27: Ngô Hoàng Anh | E27: =IF($D27="","",'HK2 21-22'!E28+'HKII 20 - 21'!E28+'HKI 21-22 '!E28) -> 0 | F27: =IF($D27="","",'HK2 21-22'!F28+'HKII 20 - 21'!F28+'HKI 21-22 '!F28) -> 4 | G27: =IF($D27="","",'HK2 21-22'!G28+'HKII 20 - 21'!G28+'HKI 21-22 '!G28) -> 0 | H27: =IF($D27="","",'HK2 21-22'!H28+'HKII 20 - 21'!H28+'HKI 21-22 '!H28) -> 0 | I27: =IF($D27="","",'HK2 21-22'!I28+'HKII 20 - 21'!I28+'HKI 21-22 '!I28) -> 0 | J27: =IF($D27="","",'HK2 21-22'!J28+'HKII 20 - 21'!J28+'HKI 21-22 '!J28) -> 0 | K27: =IF($D27="","",'HK2 21-22'!K28+'HKII 20 - 21'!K28+'HKI 21-22 '!K28) -> 0 | L27: =IF($D27="","",'HK2 21-22'!L28+'HKII 20 - 21'!L28+'HKI 21-22 '!L28) -> 0 | ... AT27: =IF($D27="","",'HK2 21-22'!AT28+'HKII 20 - 21'!AT28+'HKI 21-22 '!AT28) -> 10.4
... A53: =IF(D53="","",SUBTOTAL(3,$D$16:D53)) -> 38 | B53: 01014026 | C53: Khoa Điện - Điện tử | D53: Vũ Hạnh Chiêu | E53: =IF($D53="","",'HK2 21-22'!E54+'HKII 20 - 21'!E54+'HKI 21-22 '!E54) -> 0 | F53: =IF($D53="","",'HK2 21-22'!F54+'HKII 20 - 21'!F54+'HKI 21-22 '!F54) -> 0 | G53: =IF($D53="","",'HK2 21-22'!G54+'HKII 20 - 21'!G54+'HKI 21-22 '!G54) -> 0 | H53: =IF($D53="","",'HK2 21-22'!H54+'HKII 20 - 21'!H54+'HKI 21-22 '!H54) -> 0 | I53: =IF($D53="","",'HK2 21-22'!I54+'HKII 20 - 21'!I54+'HKI 21-22 '!I54) -> 0 | J53: =IF($D53="","",'HK2 21-22'!J54+'HKII 20 - 21'!J54+'HKI 21-22 '!J54) -> 0 | K53: =IF($D53="","",'HK2 21-22'!K54+'HKII 20 - 21'!K54+'HKI 21-22 '!K54) -> 0 | L53: =IF($D53="","",'HK2 21-22'!L54+'HKII 20 - 21'!L54+'HKI 21-22 '!L54) -> 0 | ... AT53: =IF($D53="","",'HK2 21-22'!AT54+'HKII 20 - 21'!AT54+'HKI 21-22 '!AT54) -> 15.7
A54: =IF(D54="","",SUBTOTAL(3,$D$16:D54)) -> 39 | C54: Khoa Điện - Điện tử | D54: Phan Thanh Hoàng | E54: =IF($D54="","",'HK2 21-22'!E55+'HKII 20 - 21'!E55+'HKI 21-22 '!E55) -> 0 | F54: =IF($D54="","",'HK2 21-22'!F55+'HKII 20 - 21'!F55+'HKI 21-22 '!F55) -> 0 | G54: =IF($D54="","",'HK2 21-22'!G55+'HKII 20 - 21'!G55+'HKI 21-22 '!G55) -> 0 | H54: =IF($D54="","",'HK2 21-22'!H55+'HKII 20 - 21'!H55+'HKI 21-22 '!H55) -> 0 | I54: =IF($D54="","",'HK2 21-22'!I55+'HKII 20 - 21'!I55+'HKI 21-22 '!I55) -> 0 | J54: =IF($D54="","",'HK2 21-22'!J55+'HKII 20 - 21'!J55+'HKI 21-22 '!J55) -> 0 | K54: =IF($D54="","",'HK2 21-22'!K55+'HKII 20 - 21'!K55+'HKI 21-22 '!K55) -> 0 | L54: =IF($D54="","",'HK2 21-22'!L55+'HKII 20 - 21'!L55+'HKI 21-22 '!L55) -> 0 | ... AT54: =IF($D54="","",'HK2 21-22'!AT55+'HKII 20 - 21'!AT55+'HKI 21-22 '!AT55) -> 5.2
A55: =IF(D55="","",SUBTOTAL(3,$D$16:D55)) | E55: =IF($D55="","",'HK2 21-22'!#REF!+'HKII 20 - 21'!E104+'HKI 21-22 '!E72) | F55: =IF($D55="","",'HK2 21-22'!#REF!+'HKII 20 - 21'!F104+'HKI 21-22 '!F72) | G55: =IF($D55="","",'HK2 21-22'!#REF!+'HKII 20 - 21'!G104+'HKI 21-22 '!G72) | H55: =IF($D55="","",'HK2 21-22'!#REF!+'HKII 20 - 21'!H104+'HKI 21-22 '!H72) | I55: =IF($D55="","",'HK2 21-22'!#REF!+'HKII 20 - 21'!I104+'HKI 21-22 '!I72) | J55: =IF($D55="","",'HK2 21-22'!#REF!+'HKII 20 - 21'!J104+'HKI 21-22 '!J72) | K55: =IF($D55="","",'HK2 21-22'!#REF!+'HKII 20 - 21'!K104+'HKI 21-22 '!K72) | L55: =IF($D55="","",'HK2 21-22'!#REF!+'HKII 20 - 21'!L104+'HKI 21-22 '!L72) | ... AT55: =IF($D55="","",'HK2 21-22'!#REF!+'HKII 20 - 21'!AT104+'HKI 21-22 '!AT72)
A56: =IF(D56="","",SUBTOTAL(3,$D$16:D56)) | E56: =IF($D56="","",'HK2 21-22'!#REF!+'HKII 20 - 21'!E105+'HKI 21-22 '!E73) | F56: =IF($D56="","",'HK2 21-22'!#REF!+'HKII 20 - 21'!F105+'HKI 21-22 '!F73) | G56: =IF($D56="","",'HK2 21-22'!#REF!+'HKII 20 - 21'!G105+'HKI 21-22 '!G73) | H56: =IF($D56="","",'HK2 21-22'!#REF!+'HKII 20 - 21'!H105+'HKI 21-22 '!H73) | I56: =IF($D56="","",'HK2 21-22'!#REF!+'HKII 20 - 21'!I105+'HKI 21-22 '!I73) | J56: =IF($D56="","",'HK2 21-22'!#REF!+'HKII 20 - 21'!J105+'HKI 21-22 '!J73) | K56: =IF($D56="","",'HK2 21-22'!#REF!+'HKII 20 - 21'!K105+'HKI 21-22 '!K73) | L56: =IF($D56="","",'HK2 21-22'!#REF!+'HKII 20 - 21'!L105+'HKI 21-22 '!L73) | ... AT56: =IF($D56="","",'HK2 21-22'!#REF!+'HKII 20 - 21'!AT105+'HKI 21-22 '!AT73)
A57: =IF(D57="","",SUBTOTAL(3,$D$16:D57)) | E57: =IF($D57="","",'HK2 21-22'!#REF!+'HKII 20 - 21'!E106+'HKI 21-22 '!E74) | F57: =IF($D57="","",'HK2 21-22'!#REF!+'HKII 20 - 21'!F106+'HKI 21-22 '!F74) | G57: =IF($D57="","",'HK2 21-22'!#REF!+'HKII 20 - 21'!G106+'HKI 21-22 '!G74) | H57: =IF($D57="","",'HK2 21-22'!#REF!+'HKII 20 - 21'!H106+'HKI 21-22 '!H74) | I57: =IF($D57="","",'HK2 21-22'!#REF!+'HKII 20 - 21'!I106+'HKI 21-22 '!I74) | J57: =IF($D57="","",'HK2 21-22'!#REF!+'HKII 20 - 21'!J106+'HKI 21-22 '!J74) | K57: =IF($D57="","",'HK2 21-22'!#REF!+'HKII 20 - 21'!K106+'HKI 21-22 '!K74) | L57: =IF($D57="","",'HK2 21-22'!#REF!+'HKII 20 - 21'!L106+'HKI 21-22 '!L74) | ... AT57: =IF($D57="","",'HK2 21-22'!#REF!+'HKII 20 - 21'!AT106+'HKI 21-22 '!AT74)
A58: =IF(D58="","",SUBTOTAL(3,$D$16:D58)) | E58: =IF($D58="","",'HK2 21-22'!#REF!+'HKII 20 - 21'!E107+'HKI 21-22 '!E75) | F58: =IF($D58="","",'HK2 21-22'!#REF!+'HKII 20 - 21'!F107+'HKI 21-22 '!F75) | G58: =IF($D58="","",'HK2 21-22'!#REF!+'HKII 20 - 21'!G107+'HKI 21-22 '!G75) | H58: =IF($D58="","",'HK2 21-22'!#REF!+'HKII 20 - 21'!H107+'HKI 21-22 '!H75) | I58: =IF($D58="","",'HK2 21-22'!#REF!+'HKII 20 - 21'!I107+'HKI 21-22 '!I75) | J58: =IF($D58="","",'HK2 21-22'!#REF!+'HKII 20 - 21'!J107+'HKI 21-22 '!J75) | K58: =IF($D58="","",'HK2 21-22'!#REF!+'HKII 20 - 21'!K107+'HKI 21-22 '!K75) | L58: =IF($D58="","",'HK2 21-22'!#REF!+'HKII 20 - 21'!L107+'HKI 21-22 '!L75) | ... AT58: =IF($D58="","",'HK2 21-22'!#REF!+'HKII 20 - 21'!AT107+'HKI 21-22 '!AT75)
E59: =SUBTOTAL(9,#REF!:#REF!) -> #REF! | F59: =SUBTOTAL(9,F14:F58) -> 24 | G59: =SUBTOTAL(9,G14:G58) -> 76 | H59: =SUBTOTAL(9,H14:H58) -> 0 | I59: =SUBTOTAL(9,I14:I58) -> 0 | J59: =SUBTOTAL(9,J14:J58) -> 0 | K59: =SUBTOTAL(9,K14:K58) -> 0 | L59: =SUBTOTAL(9,L14:L58) -> 0 | M59: =SUBTOTAL(9,M14:M58) -> 69 | ... T59: =SUBTOTAL(9,T14:T58) -> 209 | V59: =SUBTOTAL(9,V14:V58) -> 20.9 | W59: =SUBTOTAL(9,W14:W58) -> 112 | X59: =SUBTOTAL(9,X14:X58) -> 112 | Z59: =SUBTOTAL(9,Z14:Z58) -> 35.2 | AA59: =SUBTOTAL(9,AA14:AA58) -> 3280 | AB59: =SUBTOTAL(9,AB14:AB58) -> 3193 | AD59: =SUBTOTAL(9,AD14:AD58) -> 319.3 | AE59: =SUBTOTAL(9,AE14:AE58) -> 11 | AF59: =SUBTOTAL(9,AF14:AF58) -> 11 | AH59: =SUBTOTAL(9,AH14:AH58) -> 2.2 | AI59: =SUBTOTAL(9,AI14:AI58) -> 0 | AJ59: =SUBTOTAL(9,AJ14:AJ58) -> 0 | AK59: =SUBTOTAL(9,AK14:AK58) -> 0 | AL59: =SUBTOTAL(9,AL14:AL58) -> 0 | AM59: =SUBTOTAL(9,AM14:AM58) -> 0 | AN59: =SUBTOTAL(9,AN14:AN58) -> 0 | AO59: =SUBTOTAL(9,AO14:AO58) -> 0 | ... AT59: =SUBTOTAL(9,AT14:AT58) -> 552.6

Sheet XUẤT HKI
E1: =SUBTOTAL(9,E5:E473) -> #N/A | F1: =SUBTOTAL(9,F5:F473) -> #N/A | G1: =SUBTOTAL(9,G5:G473) -> #N/A | H1: =SUBTOTAL(9,H5:H473) -> #N/A | I1: =SUBTOTAL(9,I5:I473) -> #N/A | J1: =SUBTOTAL(9,J5:J473) -> #N/A | K1: =SUBTOTAL(9,K5:K473) -> #N/A | L1: =SUBTOTAL(9,L5:L473) -> #N/A | ... AT1: =SUBTOTAL(9,AT5:AT473) -> #N/A
A2: STT | B2: Mã nhân sự | C2: Đơn vị | D2: HỌ VÀ TÊN GIẢNG VIÊN | E2: ĐỀ THI | N2: COI THI | S2: CHẤM THI KTHP | AI2: CHẤM THI TỐT NGHIỆP | AR2: DỰ PHÒNG KỲ THI | AS2: GIÁM SÁT | AT2: TỔNG KHỐI LƯỢNG | AU2: =SUBTOTAL(9,AT:AT) -> #N/A
S3: LÝ THUYẾT (TV+TN) | W3: VẤN ĐÁP | AA3: TIỂU LUẬN | AE3: THỰC HÀNH | AI3: LÝ THUYẾT (TV+TN) | AL3: VẤN ĐÁP | AO3: THỰC HÀNH
E4: SL ĐỀ LT KTHP | F4: SL ĐỀ TN KTHP | G4: SL ĐỀ VĐ KTHP | H4: SL ĐỀ TH KTHP | I4: SL ĐỀ LT ThiTN | J4: SL ĐỀ TN ThiTN | K4: SL ĐỀ VĐ ThiTN | L4: SL ĐỀ TH ThiTN | M4: KL SOẠN ĐỀ (tiết) | N4: COITHI 2 KTHP | O4: COITHI 1 KTHP | P4: COITHI 1 Thi TN | Q4: COITHI 2 Thi TN | R4: KL COITHI (tiết) | S4: SL CHẤM LT 1 | T4: SL CHẤM LT 2 | U4: SL CHẤM NV | V4: KL CHẤM LT (tiết) | W4: SL CHẤM TL 1 | X4: SL CHẤM TL 2 | Y4: SL CHẤM NV | Z4: KL CHẤM TL (tiết) | AA4: SL CHẤM TL 1 | AB4: SL CHẤM TL 2 | AC4: SL CHẤM NV | AD4: KL CHẤM TL (tiết) | AE4: SL CHẤM TL 1 | AF4: SL CHẤM TL 2 | AG4: SL CHẤM NV | AH4: KL CHẤM TL (tiết) | AI4: SL BÀI LT CHẤM 1 | AJ4: SL BÀI LT CHẤM 2 | AK4: KL CHẤM LT (tiết) | AL4: SL BÀI VĐ CHẤM 1 | AM4: SL BÀI VĐ CHẤM 2 | AN4: KL CHẤM VĐ (tiết) | AO4: SL BÀI TL CHẤM 1 | AP4: SL BÀI TL CHẤM 2 | AQ4: KL CHẤM TL (tiết)
A5: =IF(D5="","",SUBTOTAL(3,$D$5:D5)) -> 1 | B5: 01001001 | C5: Ban Giám hiệu | D5: Đinh Hồng Minh | E5: =IF($B5="","",VLOOKUP($B5,'HK2 21-22'!$B$17:$AT$54,4,0)) -> #N/A | F5: =IF($B5="","",VLOOKUP($B5,'HK2 21-22'!$B$17:$AT$54,5,0)) -> #N/A | G5: =IF($B5="","",VLOOKUP($B5,'HK2 21-22'!$B$17:$AT$54,6,0)) -> #N/A | H5: =IF($B5="","",VLOOKUP($B5,'HK2 21-22'!$B$17:$AT$54,7,0)) -> #N/A | I5: =IF($B5="","",VLOOKUP($B5,'HK2 21-22'!$B$17:$AT$54,8,0)) -> #N/A | J5: =IF($B5="","",VLOOKUP($B5,'HK2 21-22'!$B$17:$AT$54,9,0)) -> #N/A | K5: =IF($B5="","",VLOOKUP($B5,'HK2 21-22'!$B$17:$AT$54,10,0)) -> #N/A | L5: =IF($B5="","",VLOOKUP($B5,'HK2 21-22'!$B$17:$AT$54,11,0)) -> #N/A | M5: =IF($D5="","",($E5+$F5*1.5+$G5*0.25+$H5*0.5+$I5*2+$J5*2.5+$K5*0.5+$L5*1.5)) -> #N/A | N5: =IF($B5="","",VLOOKUP($B5,'HK2 21-22'!$B$17:$AT$54,13,0)) -> #N/A | O5: =IF($B5="","",VLOOKUP($B5,'HK2 21-22'!$B$17:$AT$54,14,0)) -> #N/A | P5: =IF($B5="","",VLOOKUP($B5,'HK2 21-22'!$B$17:$AT$54,15,0)) -> #N/A | Q5: =IF($B5="","",VLOOKUP($B5,'HK2 21-22'!$B$17:$AT$54,16,0)) -> #N/A | R5: =IF($D5="","",SUM($N5:$Q5)) -> #N/A | S5: =IF($B5="","",VLOOKUP($B5,'HK2 21-22'!$B$17:$AT$54,18,0)) -> #N/A | T5: =IF($B5="","",VLOOKUP($B5,'HK2 21-22'!$B$17:$AT$54,19,0)) -> #N/A | U5: =IF($B5="","",VLOOKUP($B5,'HK2 21-22'!$B$17:$AT$54,20,0)) -> #N/A | V5: =IF($D5="","",((SUM($S5:$T5))-U5)*0.1) -> #N/A | W5: =IF($B5="","",VLOOKUP($B5,'HK2 21-22'!$B$17:$AT$54,22,0)) -> #N/A | X5: =IF($B5="","",VLOOKUP($B5,'HK2 21-22'!$B$17:$AT$54,23,0)) -> #N/A | Y5: =IF($B5="","",VLOOKUP($B5,'HK2 21-22'!$B$17:$AT$54,24,0)) -> #N/A | Z5: =IF($D5="","",((SUM($W5:$X5))-Y5)*0.2) -> #N/A | AA5: =IF($B5="","",VLOOKUP($B5,'HK2 21-22'!$B$17:$AT$54,26,0)) -> #N/A | AB5: =IF($B5="","",VLOOKUP($B5,'HK2 21-22'!$B$17:$AT$54,27,0)) -> #N/A | AC5: =IF($B5="","",VLOOKUP($B5,'HK2 21-22'!$B$17:$AT$54,28,0)) -> #N/A | AD5: =IF($D5="","",((SUM($AA5:$AB5))-AC5)*0.1) -> #N/A | AE5: =IF($B5="","",VLOOKUP($B5,'HK2 21-22'!$B$17:$AT$54,30,0)) -> #N/A | AF5: =IF($B5="","",VLOOKUP($B5,'HK2 21-22'!$B$17:$AT$54,31,0)) -> #N/A | AG5: =IF($B5="","",VLOOKUP($B5,'HK2 21-22'!$B$17:$AT$54,32,0)) -> #N/A | AH5: =IF($D5="","",((SUM($AE5:$AF5))-AG5)*0.2) -> #N/A | AI5: =IF($B5="","",VLOOKUP($B5,'HK2 21-22'!$B$17:$AT$54,34,0)) -> #N/A | AJ5: =IF($B5="","",VLOOKUP($B5,'HK2 21-22'!$B$17:$AT$54,35,0)) -> #N/A | AK5: =IF($D5="","",(SUM($AI5:$AJ5))*0.2) -> #N/A | AL5: =IF($B5="","",VLOOKUP($B5,'HK2 21-22'!$B$17:$AT$54,37,0)) -> #N/A | AM5: =IF($B5="","",VLOOKUP($B5,'HK2 21-22'!$B$17:$AT$54,38,0)) -> #N/A | AN5: =IF($D5="","",(SUM(AL5:AM5))*0.4) -> #N/A | AO5: =IF($B5="","",VLOOKUP($B5,'HK2 21-22'!$B$17:$AT$54,40,0)) -> #N/A | AP5: =IF($B5="","",VLOOKUP($B5,'HK2 21-22'!$B$17:$AT$54,41,0)) -> #N/A | AQ5: =IF(D5="","",SUM(AO5:AP5)*0.4) -> #N/A | AR5: =IF($B5="","",VLOOKUP($B5,'HK2 21-22'!$B$17:$AT$54,43,0)) -> #N/A | AS5: =IF($B5="","",VLOOKUP($B5,'HK2 21-22'!$B$17:$AT$54,44,0)) -> #N/A | AT5: =IF(D5="","",ROUND(M5+R5+V5+Z5+AD5+AH5+AK5+AN5+AQ5+SUM(AR5:AS5),1)) -> #N/A
A6: =IF(D6="","",SUBTOTAL(3,$D$5:D6)) -> 2 | B6: 01002001 | C6: Ban Giám hiệu | D6: Đinh Văn Đệ | E6: =IF($B6="","",VLOOKUP($B6,'HK2 21-22'!$B$17:$AT$54,4,0)) -> #N/A | F6: =IF($B6="","",VLOOKUP($B6,'HK2 21-22'!$B$17:$AT$54,5,0)) -> #N/A | G6: =IF($B6="","",VLOOKUP($B6,'HK2 21-22'!$B$17:$AT$54,6,0)) -> #N/A | H6: =IF($B6="","",VLOOKUP($B6,'HK2 21-22'!$B$17:$AT$54,7,0)) -> #N/A | I6: =IF($B6="","",VLOOKUP($B6,'HK2 21-22'!$B$17:$AT$54,8,0)) -> #N/A | J6: =IF($B6="","",VLOOKUP($B6,'HK2 21-22'!$B$17:$AT$54,9,0)) -> #N/A | K6: =IF($B6="","",VLOOKUP($B6,'HK2 21-22'!$B$17:$AT$54,10,0)) -> #N/A | L6: =IF($B6="","",VLOOKUP($B6,'HK2 21-22'!$B$17:$AT$54,11,0)) -> #N/A | M6: =IF($D6="","",($E6+$F6*1.5+$G6*0.25+$H6*0.5+$I6*2+$J6*2.5+$K6*0.5+$L6*1.5)) -> #N/A | N6: =IF($B6="","",VLOOKUP($B6,'HK2 21-22'!$B$17:$AT$54,13,0)) -> #N/A | O6: =IF($B6="","",VLOOKUP($B6,'HK2 21-22'!$B$17:$AT$54,14,0)) -> #N/A | P6: =IF($B6="","",VLOOKUP($B6,'HK2 21-22'!$B$17:$AT$54,15,0)) -> #N/A | Q6: =IF($B6="","",VLOOKUP($B6,'HK2 21-22'!$B$17:$AT$54,16,0)) -> #N/A | R6: =IF($D6="","",SUM($N6:$Q6)) -> #N/A | S6: =IF($B6="","",VLOOKUP($B6,'HK2 21-22'!$B$17:$AT$54,18,0)) -> #N/A | T6: =IF($B6="","",VLOOKUP($B6,'HK2 21-22'!$B$17:$AT$54,19,0)) -> #N/A | U6: =IF($B6="","",VLOOKUP($B6,'HK2 21-22'!$B$17:$AT$54,20,0)) -> #N/A | V6: =IF($D6="","",((SUM($S6:$T6))-U6)*0.1) -> #N/A | W6: =IF($B6="","",VLOOKUP($B6,'HK2 21-22'!$B$17:$AT$54,22,0)) -> #N/A | X6: =IF($B6="","",VLOOKUP($B6,'HK2 21-22'!$B$17:$AT$54,23,0)) -> #N/A | Y6: =IF($B6="","",VLOOKUP($B6,'HK2 21-22'!$B$17:$AT$54,24,0)) -> #N/A | Z6: =IF($D6="","",((SUM($W6:$X6))-Y6)*0.2) -> #N/A | AA6: =IF($B6="","",VLOOKUP($B6,'HK2 21-22'!$B$17:$AT$54,26,0)) -> #N/A | AB6: =IF($B6="","",VLOOKUP($B6,'HK2 21-22'!$B$17:$AT$54,27,0)) -> #N/A | AC6: =IF($B6="","",VLOOKUP($B6,'HK2 21-22'!$B$17:$AT$54,28,0)) -> #N/A | AD6: =IF($D6="","",((SUM($AA6:$AB6))-AC6)*0.1) -> #N/A | AE6: =IF($B6="","",VLOOKUP($B6,'HK2 21-22'!$B$17:$AT$54,30,0)) -> #N/A | AF6: =IF($B6="","",VLOOKUP($B6,'HK2 21-22'!$B$17:$AT$54,31,0)) -> #N/A | AG6: =IF($B6="","",VLOOKUP($B6,'HK2 21-22'!$B$17:$AT$54,32,0)) -> #N/A | AH6: =IF($D6="","",((SUM($AE6:$AF6))-AG6)*0.2) -> #N/A | AI6: =IF($B6="","",VLOOKUP($B6,'HK2 21-22'!$B$17:$AT$54,34,0)) -> #N/A | AJ6: =IF($B6="","",VLOOKUP($B6,'HK2 21-22'!$B$17:$AT$54,35,0)) -> #N/A | AK6: =IF($D6="","",(SUM($AI6:$AJ6))*0.2) -> #N/A | AL6: =IF($B6="","",VLOOKUP($B6,'HK2 21-22'!$B$17:$AT$54,37,0)) -> #N/A | AM6: =IF($B6="","",VLOOKUP($B6,'HK2 21-22'!$B$17:$AT$54,38,0)) -> #N/A | AN6: =IF($D6="","",(SUM(AL6:AM6))*0.4) -> #N/A | AO6: =IF($B6="","",VLOOKUP($B6,'HK2 21-22'!$B$17:$AT$54,40,0)) -> #N/A | AP6: =IF($B6="","",VLOOKUP($B6,'HK2 21-22'!$B$17:$AT$54,41,0)) -> #N/A | AQ6: =IF(D6="","",SUM(AO6:AP6)*0.4) -> #N/A | AR6: =IF($B6="","",VLOOKUP($B6,'HK2 21-22'!$B$17:$AT$54,43,0)) -> #N/A | AS6: =IF($B6="","",VLOOKUP($B6,'HK2 21-22'!$B$17:$AT$54,44,0)) -> #N/A | AT6: =IF(D6="","",ROUND(M6+R6+V6+Z6+AD6+AH6+AK6+AN6+AQ6+SUM(AR6:AS6),1)) -> #N/A
A7: =IF(D7="","",SUBTOTAL(3,$D$5:D7)) -> 3 | B7: 01001006 | C7: Ban Giám hiệu | D7: Nguyễn Văn Dũng | E7: =IF($B7="","",VLOOKUP($B7,'HK2 21-22'!$B$17:$AT$54,4,0)) -> #N/A | F7: =IF($B7="","",VLOOKUP($B7,'HK2 21-22'!$B$17:$AT$54,5,0)) -> #N/A | G7: =IF($B7="","",VLOOKUP($B7,'HK2 21-22'!$B$17:$AT$54,6,0)) -> #N/A | H7: =IF($B7="","",VLOOKUP($B7,'HK2 21-22'!$B$17:$AT$54,7,0)) -> #N/A | I7: =IF($B7="","",VLOOKUP($B7,'HK2 21-22'!$B$17:$AT$54,8,0)) -> #N/A | J7: =IF($B7="","",VLOOKUP($B7,'HK2 21-22'!$B$17:$AT$54,9,0)) -> #N/A | K7: =IF($B7="","",VLOOKUP($B7,'HK2 21-22'!$B$17:$AT$54,10,0)) -> #N/A | L7: =IF($B7="","",VLOOKUP($B7,'HK2 21-22'!$B$17:$AT$54,11,0)) -> #N/A | M7: =IF($D7="","",($E7+$F7*1.5+$G7*0.25+$H7*0.5+$I7*2+$J7*2.5+$K7*0.5+$L7*1.5)) -> #N/A | N7: =IF($B7="","",VLOOKUP($B7,'HK2 21-22'!$B$17:$AT$54,13,0)) -> #N/A | O7: =IF($B7="","",VLOOKUP($B7,'HK2 21-22'!$B$17:$AT$54,14,0)) -> #N/A | P7: =IF($B7="","",VLOOKUP($B7,'HK2 21-22'!$B$17:$AT$54,15,0)) -> #N/A | Q7: =IF($B7="","",VLOOKUP($B7,'HK2 21-22'!$B$17:$AT$54,16,0)) -> #N/A | R7: =IF($D7="","",SUM($N7:$Q7)) -> #N/A | S7: =IF($B7="","",VLOOKUP($B7,'HK2 21-22'!$B$17:$AT$54,18,0)) -> #N/A | T7: =IF($B7="","",VLOOKUP($B7,'HK2 21-22'!$B$17:$AT$54,19,0)) -> #N/A | U7: =IF($B7="","",VLOOKUP($B7,'HK2 21-22'!$B$17:$AT$54,20,0)) -> #N/A | V7: =IF($D7="","",((SUM($S7:$T7))-U7)*0.1) -> #N/A | W7: =IF($B7="","",VLOOKUP($B7,'HK2 21-22'!$B$17:$AT$54,22,0)) -> #N/A | X7: =IF($B7="","",VLOOKUP($B7,'HK2 21-22'!$B$17:$AT$54,23,0)) -> #N/A | Y7: =IF($B7="","",VLOOKUP($B7,'HK2 21-22'!$B$17:$AT$54,24,0)) -> #N/A | Z7: =IF($D7="","",((SUM($W7:$X7))-Y7)*0.2) -> #N/A | AA7: =IF($B7="","",VLOOKUP($B7,'HK2 21-22'!$B$17:$AT$54,26,0)) -> #N/A | AB7: =IF($B7="","",VLOOKUP($B7,'HK2 21-22'!$B$17:$AT$54,27,0)) -> #N/A | AC7: =IF($B7="","",VLOOKUP($B7,'HK2 21-22'!$B$17:$AT$54,28,0)) -> #N/A | AD7: =IF($D7="","",((SUM($AA7:$AB7))-AC7)*0.1) -> #N/A | AE7: =IF($B7="","",VLOOKUP($B7,'HK2 21-22'!$B$17:$AT$54,30,0)) -> #N/A | AF7: =IF($B7="","",VLOOKUP($B7,'HK2 21-22'!$B$17:$AT$54,31,0)) -> #N/A | AG7: =IF($B7="","",VLOOKUP($B7,'HK2 21-22'!$B$17:$AT$54,32,0)) -> #N/A | AH7: =IF($D7="","",((SUM($AE7:$AF7))-AG7)*0.2) -> #N/A | AI7: =IF($B7="","",VLOOKUP($B7,'HK2 21-22'!$B$17:$AT$54,34,0)) -> #N/A | AJ7: =IF($B7="","",VLOOKUP($B7,'HK2 21-22'!$B$17:$AT$54,35,0)) -> #N/A | AK7: =IF($D7="","",(SUM($AI7:$AJ7))*0.2) -> #N/A | AL7: =IF($B7="","",VLOOKUP($B7,'HK2 21-22'!$B$17:$AT$54,37,0)) -> #N/A | AM7: =IF($B7="","",VLOOKUP($B7,'HK2 21-22'!$B$17:$AT$54,38,0)) -> #N/A | AN7: =IF($D7="","",(SUM(AL7:AM7))*0.4) -> #N/A | AO7: =IF($B7="","",VLOOKUP($B7,'HK2 21-22'!$B$17:$AT$54,40,0)) -> #N/A | AP7: =IF($B7="","",VLOOKUP($B7,'HK2 21-22'!$B$17:$AT$54,41,0)) -> #N/A | AQ7: =IF(D7="","",SUM(AO7:AP7)*0.4) -> #N/A | AR7: =IF($B7="","",VLOOKUP($B7,'HK2 21-22'!$B$17:$AT$54,43,0)) -> #N/A | AS7: =IF($B7="","",VLOOKUP($B7,'HK2 21-22'!$B$17:$AT$54,44,0)) -> #N/A | AT7: =IF(D7="","",ROUND(M7+R7+V7+Z7+AD7+AH7+AK7+AN7+AQ7+SUM(AR7:AS7),1)) -> #N/A
A8: =IF(D8="","",SUBTOTAL(3,$D$5:D8)) -> 4 | B8: 01001003 | C8: Ban Giám hiệu | D8: Phạm Hữu Lộc | E8: =IF($B8="","",VLOOKUP($B8,'HK2 21-22'!$B$17:$AT$54,4,0)) -> #N/A | F8: =IF($B8="","",VLOOKUP($B8,'HK2 21-22'!$B$17:$AT$54,5,0)) -> #N/A | G8: =IF($B8="","",VLOOKUP($B8,'HK2 21-22'!$B$17:$AT$54,6,0)) -> #N/A | H8: =IF($B8="","",VLOOKUP($B8,'HK2 21-22'!$B$17:$AT$54,7,0)) -> #N/A | I8: =IF($B8="","",VLOOKUP($B8,'HK2 21-22'!$B$17:$AT$54,8,0)) -> #N/A | J8: =IF($B8="","",VLOOKUP($B8,'HK2 21-22'!$B$17:$AT$54,9,0)) -> #N/A | K8: =IF($B8="","",VLOOKUP($B8,'HK2 21-22'!$B$17:$AT$54,10,0)) -> #N/A | L8: =IF($B8="","",VLOOKUP($B8,'HK2 21-22'!$B$17:$AT$54,11,0)) -> #N/A | M8: =IF($D8="","",($E8+$F8*1.5+$G8*0.25+$H8*0.5+$I8*2+$J8*2.5+$K8*0.5+$L8*1.5)) -> #N/A | N8: =IF($B8="","",VLOOKUP($B8,'HK2 21-22'!$B$17:$AT$54,13,0)) -> #N/A | O8: =IF($B8="","",VLOOKUP($B8,'HK2 21-22'!$B$17:$AT$54,14,0)) -> #N/A | P8: =IF($B8="","",VLOOKUP($B8,'HK2 21-22'!$B$17:$AT$54,15,0)) -> #N/A | Q8: =IF($B8="","",VLOOKUP($B8,'HK2 21-22'!$B$17:$AT$54,16,0)) -> #N/A | R8: =IF($D8="","",SUM($N8:$Q8)) -> #N/A | S8: =IF($B8="","",VLOOKUP($B8,'HK2 21-22'!$B$17:$AT$54,18,0)) -> #N/A | T8: =IF($B8="","",VLOOKUP($B8,'HK2 21-22'!$B$17:$AT$54,19,0)) -> #N/A | U8: =IF($B8="","",VLOOKUP($B8,'HK2 21-22'!$B$17:$AT$54,20,0)) -> #N/A | V8: =IF($D8="","",((SUM($S8:$T8))-U8)*0.1) -> #N/A | W8: =IF($B8="","",VLOOKUP($B8,'HK2 21-22'!$B$17:$AT$54,22,0)) -> #N/A | X8: =IF($B8="","",VLOOKUP($B8,'HK2 21-22'!$B$17:$AT$54,23,0)) -> #N/A | Y8: =IF($B8="","",VLOOKUP($B8,'HK2 21-22'!$B$17:$AT$54,24,0)) -> #N/A | Z8: =IF($D8="","",((SUM($W8:$X8))-Y8)*0.2) -> #N/A | AA8: =IF($B8="","",VLOOKUP($B8,'HK2 21-22'!$B$17:$AT$54,26,0)) -> #N/A | AB8: =IF($B8="","",VLOOKUP($B8,'HK2 21-22'!$B$17:$AT$54,27,0)) -> #N/A | AC8: =IF($B8="","",VLOOKUP($B8,'HK2 21-22'!$B$17:$AT$54,28,0)) -> #N/A | AD8: =IF($D8="","",((SUM($AA8:$AB8))-AC8)*0.1) -> #N/A | AE8: =IF($B8="","",VLOOKUP($B8,'HK2 21-22'!$B$17:$AT$54,30,0)) -> #N/A | AF8: =IF($B8="","",VLOOKUP($B8,'HK2 21-22'!$B$17:$AT$54,31,0)) -> #N/A | AG8: =IF($B8="","",VLOOKUP($B8,'HK2 21-22'!$B$17:$AT$54,32,0)) -> #N/A | AH8: =IF($D8="","",((SUM($AE8:$AF8))-AG8)*0.2) -> #N/A | AI8: =IF($B8="","",VLOOKUP($B8,'HK2 21-22'!$B$17:$AT$54,34,0)) -> #N/A | AJ8: =IF($B8="","",VLOOKUP($B8,'HK2 21-22'!$B$17:$AT$54,35,0)) -> #N/A | AK8: =IF($D8="","",(SUM($AI8:$AJ8))*0.2) -> #N/A | AL8: =IF($B8="","",VLOOKUP($B8,'HK2 21-22'!$B$17:$AT$54,37,0)) -> #N/A | AM8: =IF($B8="","",VLOOKUP($B8,'HK2 21-22'!$B$17:$AT$54,38,0)) -> #N/A | AN8: =IF($D8="","",(SUM(AL8:AM8))*0.4) -> #N/A | AO8: =IF($B8="","",VLOOKUP($B8,'HK2 21-22'!$B$17:$AT$54,40,0)) -> #N/A | AP8: =IF($B8="","",VLOOKUP($B8,'HK2 21-22'!$B$17:$AT$54,41,0)) -> #N/A | AQ8: =IF(D8="","",SUM(AO8:AP8)*0.4) -> #N/A | AR8: =IF($B8="","",VLOOKUP($B8,'HK2 21-22'!$B$17:$AT$54,43,0)) -> #N/A | AS8: =IF($B8="","",VLOOKUP($B8,'HK2 21-22'!$B$17:$AT$54,44,0)) -> #N/A | AT8: =IF(D8="","",ROUND(M8+R8+V8+Z8+AD8+AH8+AK8+AN8+AQ8+SUM(AR8:AS8),1)) -> #N/A
A9: =IF(D9="","",SUBTOTAL(3,$D$5:D9)) -> 5 | B9: 01012023 | C9: Khoa CN Cơ khí | D9: Bùi Anh Tuấn | E9: =IF($B9="","",VLOOKUP($B9,'HK2 21-22'!$B$17:$AT$54,4,0)) -> #N/A | F9: =IF($B9="","",VLOOKUP($B9,'HK2 21-22'!$B$17:$AT$54,5,0)) -> #N/A | G9: =IF($B9="","",VLOOKUP($B9,'HK2 21-22'!$B$17:$AT$54,6,0)) -> #N/A | H9: =IF($B9="","",VLOOKUP($B9,'HK2 21-22'!$B$17:$AT$54,7,0)) -> #N/A | I9: =IF($B9="","",VLOOKUP($B9,'HK2 21-22'!$B$17:$AT$54,8,0)) -> #N/A | J9: =IF($B9="","",VLOOKUP($B9,'HK2 21-22'!$B$17:$AT$54,9,0)) -> #N/A | K9: =IF($B9="","",VLOOKUP($B9,'HK2 21-22'!$B$17:$AT$54,10,0)) -> #N/A | L9: =IF($B9="","",VLOOKUP($B9,'HK2 21-22'!$B$17:$AT$54,11,0)) -> #N/A | M9: =IF($D9="","",($E9+$F9*1.5+$G9*0.25+$H9*0.5+$I9*2+$J9*2.5+$K9*0.5+$L9*1.5)) -> #N/A | N9: =IF($B9="","",VLOOKUP($B9,'HK2 21-22'!$B$17:$AT$54,13,0)) -> #N/A | O9: =IF($B9="","",VLOOKUP($B9,'HK2 21-22'!$B$17:$AT$54,14,0)) -> #N/A | P9: =IF($B9="","",VLOOKUP($B9,'HK2 21-22'!$B$17:$AT$54,15,0)) -> #N/A | Q9: =IF($B9="","",VLOOKUP($B9,'HK2 21-22'!$B$17:$AT$54,16,0)) -> #N/A | R9: =IF($D9="","",SUM($N9:$Q9)) -> #N/A | S9: =IF($B9="","",VLOOKUP($B9,'HK2 21-22'!$B$17:$AT$54,18,0)) -> #N/A | T9: =IF($B9="","",VLOOKUP($B9,'HK2 21-22'!$B$17:$AT$54,19,0)) -> #N/A | U9: =IF($B9="","",VLOOKUP($B9,'HK2 21-22'!$B$17:$AT$54,20,0)) -> #N/A | V9: =IF($D9="","",((SUM($S9:$T9))-U9)*0.1) -> #N/A | W9: =IF($B9="","",VLOOKUP($B9,'HK2 21-22'!$B$17:$AT$54,22,0)) -> #N/A | X9: =IF($B9="","",VLOOKUP($B9,'HK2 21-22'!$B$17:$AT$54,23,0)) -> #N/A | Y9: =IF($B9="","",VLOOKUP($B9,'HK2 21-22'!$B$17:$AT$54,24,0)) -> #N/A | Z9: =IF($D9="","",((SUM($W9:$X9))-Y9)*0.2) -> #N/A | AA9: =IF($B9="","",VLOOKUP($B9,'HK2 21-22'!$B$17:$AT$54,26,0)) -> #N/A | AB9: =IF($B9="","",VLOOKUP($B9,'HK2 21-22'!$B$17:$AT$54,27,0)) -> #N/A | AC9: =IF($B9="","",VLOOKUP($B9,'HK2 21-22'!$B$17:$AT$54,28,0)) -> #N/A | AD9: =IF($D9="","",((SUM($AA9:$AB9))-AC9)*0.1) -> #N/A | AE9: =IF($B9="","",VLOOKUP($B9,'HK2 21-22'!$B$17:$AT$54,30,0)) -> #N/A | AF9: =IF($B9="","",VLOOKUP($B9,'HK2 21-22'!$B$17:$AT$54,31,0)) -> #N/A | AG9: =IF($B9="","",VLOOKUP($B9,'HK2 21-22'!$B$17:$AT$54,32,0)) -> #N/A | AH9: =IF($D9="","",((SUM($AE9:$AF9))-AG9)*0.2) -> #N/A | AI9: =IF($B9="","",VLOOKUP($B9,'HK2 21-22'!$B$17:$AT$54,34,0)) -> #N/A | AJ9: =IF($B9="","",VLOOKUP($B9,'HK2 21-22'!$B$17:$AT$54,35,0)) -> #N/A | AK9: =IF($D9="","",(SUM($AI9:$AJ9))*0.2) -> #N/A | AL9: =IF($B9="","",VLOOKUP($B9,'HK2 21-22'!$B$17:$AT$54,37,0)) -> #N/A | AM9: =IF($B9="","",VLOOKUP($B9,'HK2 21-22'!$B$17:$AT$54,38,0)) -> #N/A | AN9: =IF($D9="","",(SUM(AL9:AM9))*0.4) -> #N/A | AO9: =IF($B9="","",VLOOKUP($B9,'HK2 21-22'!$B$17:$AT$54,40,0)) -> #N/A | AP9: =IF($B9="","",VLOOKUP($B9,'HK2 21-22'!$B$17:$AT$54,41,0)) -> #N/A | AQ9: =IF(D9="","",SUM(AO9:AP9)*0.4) -> #N/A | AR9: =IF($B9="","",VLOOKUP($B9,'HK2 21-22'!$B$17:$AT$54,43,0)) -> #N/A | AS9: =IF($B9="","",VLOOKUP($B9,'HK2 21-22'!$B$17:$AT$54,44,0)) -> #N/A | AT9: =IF(D9="","",ROUND(M9+R9+V9+Z9+AD9+AH9+AK9+AN9+AQ9+SUM(AR9:AS9),1)) -> #N/A
A10: =IF(D10="","",SUBTOTAL(3,$D$5:D10)) -> 6 | B10: 01012003 | C10: Khoa CN Cơ khí | D10: Chung Trần Thế Vinh | E10: =IF($B10="","",VLOOKUP($B10,'HK2 21-22'!$B$17:$AT$54,4,0)) -> #N/A | F10: =IF($B10="","",VLOOKUP($B10,'HK2 21-22'!$B$17:$AT$54,5,0)) -> #N/A | G10: =IF($B10="","",VLOOKUP($B10,'HK2 21-22'!$B$17:$AT$54,6,0)) -> #N/A | H10: =IF($B10="","",VLOOKUP($B10,'HK2 21-22'!$B$17:$AT$54,7,0)) -> #N/A | I10: =IF($B10="","",VLOOKUP($B10,'HK2 21-22'!$B$17:$AT$54,8,0)) -> #N/A | J10: =IF($B10="","",VLOOKUP($B10,'HK2 21-22'!$B$17:$AT$54,9,0)) -> #N/A | K10: =IF($B10="","",VLOOKUP($B10,'HK2 21-22'!$B$17:$AT$54,10,0)) -> #N/A | L10: =IF($B10="","",VLOOKUP($B10,'HK2 21-22'!$B$17:$AT$54,11,0)) -> #N/A | M10: =IF($D10="","",($E10+$F10*1.5+$G10*0.25+$H10*0.5+$I10*2+$J10*2.5+$K10*0.5+$L10*1.5)) -> #N/A | N10: =IF($B10="","",VLOOKUP($B10,'HK2 21-22'!$B$17:$AT$54,13,0)) -> #N/A | O10: =IF($B10="","",VLOOKUP($B10,'HK2 21-22'!$B$17:$AT$54,14,0)) -> #N/A | P10: =IF($B10="","",VLOOKUP($B10,'HK2 21-22'!$B$17:$AT$54,15,0)) -> #N/A | Q10: =IF($B10="","",VLOOKUP($B10,'HK2 21-22'!$B$17:$AT$54,16,0)) -> #N/A | R10: =IF($D10="","",SUM($N10:$Q10)) -> #N/A | S10: =IF($B10="","",VLOOKUP($B10,'HK2 21-22'!$B$17:$AT$54,18,0)) -> #N/A | T10: =IF($B10="","",VLOOKUP($B10,'HK2 21-22'!$B$17:$AT$54,19,0)) -> #N/A | U10: =IF($B10="","",VLOOKUP($B10,'HK2 21-22'!$B$17:$AT$54,20,0)) -> #N/A | V10: =IF($D10="","",((SUM($S10:$T10))-U10)*0.1) -> #N/A | W10: =IF($B10="","",VLOOKUP($B10,'HK2 21-22'!$B$17:$AT$54,22,0)) -> #N/A | X10: =IF($B10="","",VLOOKUP($B10,'HK2 21-22'!$B$17:$AT$54,23,0)) -> #N/A | Y10: =IF($B10="","",VLOOKUP($B10,'HK2 21-22'!$B$17:$AT$54,24,0)) -> #N/A | Z10: =IF($D10="","",((SUM($W10:$X10))-Y10)*0.2) -> #N/A | AA10: =IF($B10="","",VLOOKUP($B10,'HK2 21-22'!$B$17:$AT$54,26,0)) -> #N/A | AB10: =IF($B10="","",VLOOKUP($B10,'HK2 21-22'!$B$17:$AT$54,27,0)) -> #N/A | AC10: =IF($B10="","",VLOOKUP($B10,'HK2 21-22'!$B$17:$AT$54,28,0)) -> #N/A | AD10: =IF($D10="","",((SUM($AA10:$AB10))-AC10)*0.1) -> #N/A | AE10: =IF($B10="","",VLOOKUP($B10,'HK2 21-22'!$B$17:$AT$54,30,0)) -> #N/A | AF10: =IF($B10="","",VLOOKUP($B10,'HK2 21-22'!$B$17:$AT$54,31,0)) -> #N/A | AG10: =IF($B10="","",VLOOKUP($B10,'HK2 21-22'!$B$17:$AT$54,32,0)) -> #N/A | AH10: =IF($D10="","",((SUM($AE10:$AF10))-AG10)*0.2) -> #N/A | AI10: =IF($B10="","",VLOOKUP($B10,'HK2 21-22'!$B$17:$AT$54,34,0)) -> #N/A | AJ10: =IF($B10="","",VLOOKUP($B10,'HK2 21-22'!$B$17:$AT$54,35,0)) -> #N/A | AK10: =IF($D10="","",(SUM($AI10:$AJ10))*0.2) -> #N/A | AL10: =IF($B10="","",VLOOKUP($B10,'HK2 21-22'!$B$17:$AT$54,37,0)) -> #N/A | AM10: =IF($B10="","",VLOOKUP($B10,'HK2 21-22'!$B$17:$AT$54,38,0)) -> #N/A | AN10: =IF($D10="","",(SUM(AL10:AM10))*0.4) -> #N/A | AO10: =IF($B10="","",VLOOKUP($B10,'HK2 21-22'!$B$17:$AT$54,40,0)) -> #N/A | AP10: =IF($B10="","",VLOOKUP($B10,'HK2 21-22'!$B$17:$AT$54,41,0)) -> #N/A | AQ10: =IF(D10="","",SUM(AO10:AP10)*0.4) -> #N/A | AR10: =IF($B10="","",VLOOKUP($B10,'HK2 21-22'!$B$17:$AT$54,43,0)) -> #N/A | AS10: =IF($B10="","",VLOOKUP($B10,'HK2 21-22'!$B$17:$AT$54,44,0)) -> #N/A | AT10: =IF(D10="","",ROUND(M10+R10+V10+Z10+AD10+AH10+AK10+AN10+AQ10+SUM(AR10:AS10),1)) -> #N/A
A11: =IF(D11="","",SUBTOTAL(3,$D$5:D11)) -> 7 | B11: 01012005 | C11: Khoa CN Cơ khí | D11: Đỗ Thị Phương Khanh | E11: =IF($B11="","",VLOOKUP($B11,'HK2 21-22'!$B$17:$AT$54,4,0)) -> #N/A | F11: =IF($B11="","",VLOOKUP($B11,'HK2 21-22'!$B$17:$AT$54,5,0)) -> #N/A | G11: =IF($B11="","",VLOOKUP($B11,'HK2 21-22'!$B$17:$AT$54,6,0)) -> #N/A | H11: =IF($B11="","",VLOOKUP($B11,'HK2 21-22'!$B$17:$AT$54,7,0)) -> #N/A | I11: =IF($B11="","",VLOOKUP($B11,'HK2 21-22'!$B$17:$AT$54,8,0)) -> #N/A | J11: =IF($B11="","",VLOOKUP($B11,'HK2 21-22'!$B$17:$AT$54,9,0)) -> #N/A | K11: =IF($B11="","",VLOOKUP($B11,'HK2 21-22'!$B$17:$AT$54,10,0)) -> #N/A | L11: =IF($B11="","",VLOOKUP($B11,'HK2 21-22'!$B$17:$AT$54,11,0)) -> #N/A | M11: =IF($D11="","",($E11+$F11*1.5+$G11*0.25+$H11*0.5+$I11*2+$J11*2.5+$K11*0.5+$L11*1.5)) -> #N/A | N11: =IF($B11="","",VLOOKUP($B11,'HK2 21-22'!$B$17:$AT$54,13,0)) -> #N/A | O11: =IF($B11="","",VLOOKUP($B11,'HK2 21-22'!$B$17:$AT$54,14,0)) -> #N/A | P11: =IF($B11="","",VLOOKUP($B11,'HK2 21-22'!$B$17:$AT$54,15,0)) -> #N/A | Q11: =IF($B11="","",VLOOKUP($B11,'HK2 21-22'!$B$17:$AT$54,16,0)) -> #N/A | R11: =IF($D11="","",SUM($N11:$Q11)) -> #N/A | S11: =IF($B11="","",VLOOKUP($B11,'HK2 21-22'!$B$17:$AT$54,18,0)) -> #N/A | T11: =IF($B11="","",VLOOKUP($B11,'HK2 21-22'!$B$17:$AT$54,19,0)) -> #N/A | U11: =IF($B11="","",VLOOKUP($B11,'HK2 21-22'!$B$17:$AT$54,20,0)) -> #N/A | V11: =IF($D11="","",((SUM($S11:$T11))-U11)*0.1) -> #N/A | W11: =IF($B11="","",VLOOKUP($B11,'HK2 21-22'!$B$17:$AT$54,22,0)) -> #N/A | X11: =IF($B11="","",VLOOKUP($B11,'HK2 21-22'!$B$17:$AT$54,23,0)) -> #N/A | Y11: =IF($B11="","",VLOOKUP($B11,'HK2 21-22'!$B$17:$AT$54,24,0)) -> #N/A | Z11: =IF($D11="","",((SUM($W11:$X11))-Y11)*0.2) -> #N/A | AA11: =IF($B11="","",VLOOKUP($B11,'HK2 21-22'!$B$17:$AT$54,26,0)) -> #N/A | AB11: =IF($B11="","",VLOOKUP($B11,'HK2 21-22'!$B$17:$AT$54,27,0)) -> #N/A | AC11: =IF($B11="","",VLOOKUP($B11,'HK2 21-22'!$B$17:$AT$54,28,0)) -> #N/A | AD11: =IF($D11="","",((SUM($AA11:$AB11))-AC11)*0.1) -> #N/A | AE11: =IF($B11="","",VLOOKUP($B11,'HK2 21-22'!$B$17:$AT$54,30,0)) -> #N/A | AF11: =IF($B11="","",VLOOKUP($B11,'HK2 21-22'!$B$17:$AT$54,31,0)) -> #N/A | AG11: =IF($B11="","",VLOOKUP($B11,'HK2 21-22'!$B$17:$AT$54,32,0)) -> #N/A | AH11: =IF($D11="","",((SUM($AE11:$AF11))-AG11)*0.2) -> #N/A | AI11: =IF($B11="","",VLOOKUP($B11,'HK2 21-22'!$B$17:$AT$54,34,0)) -> #N/A | AJ11: =IF($B11="","",VLOOKUP($B11,'HK2 21-22'!$B$17:$AT$54,35,0)) -> #N/A | AK11: =IF($D11="","",(SUM($AI11:$AJ11))*0.2) -> #N/A | AL11: =IF($B11="","",VLOOKUP($B11,'HK2 21-22'!$B$17:$AT$54,37,0)) -> #N/A | AM11: =IF($B11="","",VLOOKUP($B11,'HK2 21-22'!$B$17:$AT$54,38,0)) -> #N/A | AN11: =IF($D11="","",(SUM(AL11:AM11))*0.4) -> #N/A | AO11: =IF($B11="","",VLOOKUP($B11,'HK2 21-22'!$B$17:$AT$54,40,0)) -> #N/A | AP11: =IF($B11="","",VLOOKUP($B11,'HK2 21-22'!$B$17:$AT$54,41,0)) -> #N/A | AQ11: =IF(D11="","",SUM(AO11:AP11)*0.4) -> #N/A | AR11: =IF($B11="","",VLOOKUP($B11,'HK2 21-22'!$B$17:$AT$54,43,0)) -> #N/A | AS11: =IF($B11="","",VLOOKUP($B11,'HK2 21-22'!$B$17:$AT$54,44,0)) -> #N/A | AT11: =IF(D11="","",ROUND(M11+R11+V11+Z11+AD11+AH11+AK11+AN11+AQ11+SUM(AR11:AS11),1)) -> #N/A
A12: =IF(D12="","",SUBTOTAL(3,$D$5:D12)) -> 8 | B12: 01012014 | C12: Khoa CN Cơ khí | D12: Dương Minh Chung | E12: =IF($B12="","",VLOOKUP($B12,'HK2 21-22'!$B$17:$AT$54,4,0)) -> #N/A | F12: =IF($B12="","",VLOOKUP($B12,'HK2 21-22'!$B$17:$AT$54,5,0)) -> #N/A | G12: =IF($B12="","",VLOOKUP($B12,'HK2 21-22'!$B$17:$AT$54,6,0)) -> #N/A | H12: =IF($B12="","",VLOOKUP($B12,'HK2 21-22'!$B$17:$AT$54,7,0)) -> #N/A | I12: =IF($B12="","",VLOOKUP($B12,'HK2 21-22'!$B$17:$AT$54,8,0)) -> #N/A | J12: =IF($B12="","",VLOOKUP($B12,'HK2 21-22'!$B$17:$AT$54,9,0)) -> #N/A | K12: =IF($B12="","",VLOOKUP($B12,'HK2 21-22'!$B$17:$AT$54,10,0)) -> #N/A | L12: =IF($B12="","",VLOOKUP($B12,'HK2 21-22'!$B$17:$AT$54,11,0)) -> #N/A | M12: =IF($D12="","",($E12+$F12*1.5+$G12*0.25+$H12*0.5+$I12*2+$J12*2.5+$K12*0.5+$L12*1.5)) -> #N/A | N12: =IF($B12="","",VLOOKUP($B12,'HK2 21-22'!$B$17:$AT$54,13,0)) -> #N/A | O12: =IF($B12="","",VLOOKUP($B12,'HK2 21-22'!$B$17:$AT$54,14,0)) -> #N/A | P12: =IF($B12="","",VLOOKUP($B12,'HK2 21-22'!$B$17:$AT$54,15,0)) -> #N/A | Q12: =IF($B12="","",VLOOKUP($B12,'HK2 21-22'!$B$17:$AT$54,16,0)) -> #N/A | R12: =IF($D12="","",SUM($N12:$Q12)) -> #N/A | S12: =IF($B12="","",VLOOKUP($B12,'HK2 21-22'!$B$17:$AT$54,18,0)) -> #N/A | T12: =IF($B12="","",VLOOKUP($B12,'HK2 21-22'!$B$17:$AT$54,19,0)) -> #N/A | U12: =IF($B12="","",VLOOKUP($B12,'HK2 21-22'!$B$17:$AT$54,20,0)) -> #N/A | V12: =IF($D12="","",((SUM($S12:$T12))-U12)*0.1) -> #N/A | W12: =IF($B12="","",VLOOKUP($B12,'HK2 21-22'!$B$17:$AT$54,22,0)) -> #N/A | X12: =IF($B12="","",VLOOKUP($B12,'HK2 21-22'!$B$17:$AT$54,23,0)) -> #N/A | Y12: =IF($B12="","",VLOOKUP($B12,'HK2 21-22'!$B$17:$AT$54,24,0)) -> #N/A | Z12: =IF($D12="","",((SUM($W12:$X12))-Y12)*0.2) -> #N/A | AA12: =IF($B12="","",VLOOKUP($B12,'HK2 21-22'!$B$17:$AT$54,26,0)) -> #N/A | AB12: =IF($B12="","",VLOOKUP($B12,'HK2 21-22'!$B$17:$AT$54,27,0)) -> #N/A | AC12: =IF($B12="","",VLOOKUP($B12,'HK2 21-22'!$B$17:$AT$54,28,0)) -> #N/A | AD12: =IF($D12="","",((SUM($AA12:$AB12))-AC12)*0.1) -> #N/A | AE12: =IF($B12="","",VLOOKUP($B12,'HK2 21-22'!$B$17:$AT$54,30,0)) -> #N/A | AF12: =IF($B12="","",VLOOKUP($B12,'HK2 21-22'!$B$17:$AT$54,31,0)) -> #N/A | AG12: =IF($B12="","",VLOOKUP($B12,'HK2 21-22'!$B$17:$AT$54,32,0)) -> #N/A | AH12: =IF($D12="","",((SUM($AE12:$AF12))-AG12)*0.2) -> #N/A | AI12: =IF($B12="","",VLOOKUP($B12,'HK2 21-22'!$B$17:$AT$54,34,0)) -> #N/A | AJ12: =IF($B12="","",VLOOKUP($B12,'HK2 21-22'!$B$17:$AT$54,35,0)) -> #N/A | AK12: =IF($D12="","",(SUM($AI12:$AJ12))*0.2) -> #N/A | AL12: =IF($B12="","",VLOOKUP($B12,'HK2 21-22'!$B$17:$AT$54,37,0)) -> #N/A | AM12: =IF($B12="","",VLOOKUP($B12,'HK2 21-22'!$B$17:$AT$54,38,0)) -> #N/A | AN12: =IF($D12="","",(SUM(AL12:AM12))*0.4) -> #N/A | AO12: =IF($B12="","",VLOOKUP($B12,'HK2 21-22'!$B$17:$AT$54,40,0)) -> #N/A | AP12: =IF($B12="","",VLOOKUP($B12,'HK2 21-22'!$B$17:$AT$54,41,0)) -> #N/A | AQ12: =IF(D12="","",SUM(AO12:AP12)*0.4) -> #N/A | AR12: =IF($B12="","",VLOOKUP($B12,'HK2 21-22'!$B$17:$AT$54,43,0)) -> #N/A | AS12: =IF($B12="","",VLOOKUP($B12,'HK2 21-22'!$B$17:$AT$54,44,0)) -> #N/A | AT12: =IF(D12="","",ROUND(M12+R12+V12+Z12+AD12+AH12+AK12+AN12+AQ12+SUM(AR12:AS12),1)) -> #N/A
A13: =IF(D13="","",SUBTOTAL(3,$D$5:D13)) -> 9 | B13: 01012029 | C13: Khoa CN Cơ khí | D13: Dương Ngọc Hưng | E13: =IF($B13="","",VLOOKUP($B13,'HK2 21-22'!$B$17:$AT$54,4,0)) -> #N/A | F13: =IF($B13="","",VLOOKUP($B13,'HK2 21-22'!$B$17:$AT$54,5,0)) -> #N/A | G13: =IF($B13="","",VLOOKUP($B13,'HK2 21-22'!$B$17:$AT$54,6,0)) -> #N/A | H13: =IF($B13="","",VLOOKUP($B13,'HK2 21-22'!$B$17:$AT$54,7,0)) -> #N/A | I13: =IF($B13="","",VLOOKUP($B13,'HK2 21-22'!$B$17:$AT$54,8,0)) -> #N/A | J13: =IF($B13="","",VLOOKUP($B13,'HK2 21-22'!$B$17:$AT$54,9,0)) -> #N/A | K13: =IF($B13="","",VLOOKUP($B13,'HK2 21-22'!$B$17:$AT$54,10,0)) -> #N/A | L13: =IF($B13="","",VLOOKUP($B13,'HK2 21-22'!$B$17:$AT$54,11,0)) -> #N/A | M13: =IF($D13="","",($E13+$F13*1.5+$G13*0.25+$H13*0.5+$I13*2+$J13*2.5+$K13*0.5+$L13*1.5)) -> #N/A | N13: =IF($B13="","",VLOOKUP($B13,'HK2 21-22'!$B$17:$AT$54,13,0)) -> #N/A | O13: =IF($B13="","",VLOOKUP($B13,'HK2 21-22'!$B$17:$AT$54,14,0)) -> #N/A | P13: =IF($B13="","",VLOOKUP($B13,'HK2 21-22'!$B$17:$AT$54,15,0)) -> #N/A | Q13: =IF($B13="","",VLOOKUP($B13,'HK2 21-22'!$B$17:$AT$54,16,0)) -> #N/A | R13: =IF($D13="","",SUM($N13:$Q13)) -> #N/A | S13: =IF($B13="","",VLOOKUP($B13,'HK2 21-22'!$B$17:$AT$54,18,0)) -> #N/A | T13: =IF($B13="","",VLOOKUP($B13,'HK2 21-22'!$B$17:$AT$54,19,0)) -> #N/A | U13: =IF($B13="","",VLOOKUP($B13,'HK2 21-22'!$B$17:$AT$54,20,0)) -> #N/A | V13: =IF($D13="","",((SUM($S13:$T13))-U13)*0.1) -> #N/A | W13: =IF($B13="","",VLOOKUP($B13,'HK2 21-22'!$B$17:$AT$54,22,0)) -> #N/A | X13: =IF($B13="","",VLOOKUP($B13,'HK2 21-22'!$B$17:$AT$54,23,0)) -> #N/A | Y13: =IF($B13="","",VLOOKUP($B13,'HK2 21-22'!$B$17:$AT$54,24,0)) -> #N/A | Z13: =IF($D13="","",((SUM($W13:$X13))-Y13)*0.2) -> #N/A | AA13: =IF($B13="","",VLOOKUP($B13,'HK2 21-22'!$B$17:$AT$54,26,0)) -> #N/A | AB13: =IF($B13="","",VLOOKUP($B13,'HK2 21-22'!$B$17:$AT$54,27,0)) -> #N/A | AC13: =IF($B13="","",VLOOKUP($B13,'HK2 21-22'!$B$17:$AT$54,28,0)) -> #N/A | AD13: =IF($D13="","",((SUM($AA13:$AB13))-AC13)*0.1) -> #N/A | AE13: =IF($B13="","",VLOOKUP($B13,'HK2 21-22'!$B$17:$AT$54,30,0)) -> #N/A | AF13: =IF($B13="","",VLOOKUP($B13,'HK2 21-22'!$B$17:$AT$54,31,0)) -> #N/A | AG13: =IF($B13="","",VLOOKUP($B13,'HK2 21-22'!$B$17:$AT$54,32,0)) -> #N/A | AH13: =IF($D13="","",((SUM($AE13:$AF13))-AG13)*0.2) -> #N/A | AI13: =IF($B13="","",VLOOKUP($B13,'HK2 21-22'!$B$17:$AT$54,34,0)) -> #N/A | AJ13: =IF($B13="","",VLOOKUP($B13,'HK2 21-22'!$B$17:$AT$54,35,0)) -> #N/A | AK13: =IF($D13="","",(SUM($AI13:$AJ13))*0.2) -> #N/A | AL13: =IF($B13="","",VLOOKUP($B13,'HK2 21-22'!$B$17:$AT$54,37,0)) -> #N/A | AM13: =IF($B13="","",VLOOKUP($B13,'HK2 21-22'!$B$17:$AT$54,38,0)) -> #N/A | AN13: =IF($D13="","",(SUM(AL13:AM13))*0.4) -> #N/A | AO13: =IF($B13="","",VLOOKUP($B13,'HK2 21-22'!$B$17:$AT$54,40,0)) -> #N/A | AP13: =IF($B13="","",VLOOKUP($B13,'HK2 21-22'!$B$17:$AT$54,41,0)) -> #N/A | AQ13: =IF(D13="","",SUM(AO13:AP13)*0.4) -> #N/A | AR13: =IF($B13="","",VLOOKUP($B13,'HK2 21-22'!$B$17:$AT$54,43,0)) -> #N/A | AS13: =IF($B13="","",VLOOKUP($B13,'HK2 21-22'!$B$17:$AT$54,44,0)) -> #N/A | AT13: =IF(D13="","",ROUND(M13+R13+V13+Z13+AD13+AH13+AK13+AN13+AQ13+SUM(AR13:AS13),1)) -> #N/A
A14: =IF(D14="","",SUBTOTAL(3,$D$5:D14)) -> 10 | B14: 01012028 | C14: Khoa CN Cơ khí | D14: Dương Thị Hồng | E14: =IF($B14="","",VLOOKUP($B14,'HK2 21-22'!$B$17:$AT$54,4,0)) -> #N/A | F14: =IF($B14="","",VLOOKUP($B14,'HK2 21-22'!$B$17:$AT$54,5,0)) -> #N/A | G14: =IF($B14="","",VLOOKUP($B14,'HK2 21-22'!$B$17:$AT$54,6,0)) -> #N/A | H14: =IF($B14="","",VLOOKUP($B14,'HK2 21-22'!$B$17:$AT$54,7,0)) -> #N/A | I14: =IF($B14="","",VLOOKUP($B14,'HK2 21-22'!$B$17:$AT$54,8,0)) -> #N/A | J14: =IF($B14="","",VLOOKUP($B14,'HK2 21-22'!$B$17:$AT$54,9,0)) -> #N/A | K14: =IF($B14="","",VLOOKUP($B14,'HK2 21-22'!$B$17:$AT$54,10,0)) -> #N/A | L14: =IF($B14="","",VLOOKUP($B14,'HK2 21-22'!$B$17:$AT$54,11,0)) -> #N/A | M14: =IF($D14="","",($E14+$F14*1.5+$G14*0.25+$H14*0.5+$I14*2+$J14*2.5+$K14*0.5+$L14*1.5)) -> #N/A | N14: =IF($B14="","",VLOOKUP($B14,'HK2 21-22'!$B$17:$AT$54,13,0)) -> #N/A | O14: =IF($B14="","",VLOOKUP($B14,'HK2 21-22'!$B$17:$AT$54,14,0)) -> #N/A | P14: =IF($B14="","",VLOOKUP($B14,'HK2 21-22'!$B$17:$AT$54,15,0)) -> #N/A | Q14: =IF($B14="","",VLOOKUP($B14,'HK2 21-22'!$B$17:$AT$54,16,0)) -> #N/A | R14: =IF($D14="","",SUM($N14:$Q14)) -> #N/A | S14: =IF($B14="","",VLOOKUP($B14,'HK2 21-22'!$B$17:$AT$54,18,0)) -> #N/A | T14: =IF($B14="","",VLOOKUP($B14,'HK2 21-22'!$B$17:$AT$54,19,0)) -> #N/A | U14: =IF($B14="","",VLOOKUP($B14,'HK2 21-22'!$B$17:$AT$54,20,0)) -> #N/A | V14: =IF($D14="","",((SUM($S14:$T14))-U14)*0.1) -> #N/A | W14: =IF($B14="","",VLOOKUP($B14,'HK2 21-22'!$B$17:$AT$54,22,0)) -> #N/A | X14: =IF($B14="","",VLOOKUP($B14,'HK2 21-22'!$B$17:$AT$54,23,0)) -> #N/A | Y14: =IF($B14="","",VLOOKUP($B14,'HK2 21-22'!$B$17:$AT$54,24,0)) -> #N/A | Z14: =IF($D14="","",((SUM($W14:$X14))-Y14)*0.2) -> #N/A | AA14: =IF($B14="","",VLOOKUP($B14,'HK2 21-22'!$B$17:$AT$54,26,0)) -> #N/A | AB14: =IF($B14="","",VLOOKUP($B14,'HK2 21-22'!$B$17:$AT$54,27,0)) -> #N/A | AC14: =IF($B14="","",VLOOKUP($B14,'HK2 21-22'!$B$17:$AT$54,28,0)) -> #N/A | AD14: =IF($D14="","",((SUM($AA14:$AB14))-AC14)*0.1) -> #N/A | AE14: =IF($B14="","",VLOOKUP($B14,'HK2 21-22'!$B$17:$AT$54,30,0)) -> #N/A | AF14: =IF($B14="","",VLOOKUP($B14,'HK2 21-22'!$B$17:$AT$54,31,0)) -> #N/A | AG14: =IF($B14="","",VLOOKUP($B14,'HK2 21-22'!$B$17:$AT$54,32,0)) -> #N/A | AH14: =IF($D14="","",((SUM($AE14:$AF14))-AG14)*0.2) -> #N/A | AI14: =IF($B14="","",VLOOKUP($B14,'HK2 21-22'!$B$17:$AT$54,34,0)) -> #N/A | AJ14: =IF($B14="","",VLOOKUP($B14,'HK2 21-22'!$B$17:$AT$54,35,0)) -> #N/A | AK14: =IF($D14="","",(SUM($AI14:$AJ14))*0.2) -> #N/A | AL14: =IF($B14="","",VLOOKUP($B14,'HK2 21-22'!$B$17:$AT$54,37,0)) -> #N/A | AM14: =IF($B14="","",VLOOKUP($B14,'HK2 21-22'!$B$17:$AT$54,38,0)) -> #N/A | AN14: =IF($D14="","",(SUM(AL14:AM14))*0.4) -> #N/A | AO14: =IF($B14="","",VLOOKUP($B14,'HK2 21-22'!$B$17:$AT$54,40,0)) -> #N/A | AP14: =IF($B14="","",VLOOKUP($B14,'HK2 21-22'!$B$17:$AT$54,41,0)) -> #N/A | AQ14: =IF(D14="","",SUM(AO14:AP14)*0.4) -> #N/A | AR14: =IF($B14="","",VLOOKUP($B14,'HK2 21-22'!$B$17:$AT$54,43,0)) -> #N/A | AS14: =IF($B14="","",VLOOKUP($B14,'HK2 21-22'!$B$17:$AT$54,44,0)) -> #N/A | AT14: =IF(D14="","",ROUND(M14+R14+V14+Z14+AD14+AH14+AK14+AN14+AQ14+SUM(AR14:AS14),1)) -> #N/A
A15: =IF(D15="","",SUBTOTAL(3,$D$5:D15)) -> 11 | B15: 01006001 | C15: Khoa CN Cơ khí | D15: Hà Phước Tuấn | E15: =IF($B15="","",VLOOKUP($B15,'HK2 21-22'!$B$17:$AT$54,4,0)) -> #N/A | F15: =IF($B15="","",VLOOKUP($B15,'HK2 21-22'!$B$17:$AT$54,5,0)) -> #N/A | G15: =IF($B15="","",VLOOKUP($B15,'HK2 21-22'!$B$17:$AT$54,6,0)) -> #N/A | H15: =IF($B15="","",VLOOKUP($B15,'HK2 21-22'!$B$17:$AT$54,7,0)) -> #N/A | I15: =IF($B15="","",VLOOKUP($B15,'HK2 21-22'!$B$17:$AT$54,8,0)) -> #N/A | J15: =IF($B15="","",VLOOKUP($B15,'HK2 21-22'!$B$17:$AT$54,9,0)) -> #N/A | K15: =IF($B15="","",VLOOKUP($B15,'HK2 21-22'!$B$17:$AT$54,10,0)) -> #N/A | L15: =IF($B15="","",VLOOKUP($B15,'HK2 21-22'!$B$17:$AT$54,11,0)) -> #N/A | M15: =IF($D15="","",($E15+$F15*1.5+$G15*0.25+$H15*0.5+$I15*2+$J15*2.5+$K15*0.5+$L15*1.5)) -> #N/A | N15: =IF($B15="","",VLOOKUP($B15,'HK2 21-22'!$B$17:$AT$54,13,0)) -> #N/A | O15: =IF($B15="","",VLOOKUP($B15,'HK2 21-22'!$B$17:$AT$54,14,0)) -> #N/A | P15: =IF($B15="","",VLOOKUP($B15,'HK2 21-22'!$B$17:$AT$54,15,0)) -> #N/A | Q15: =IF($B15="","",VLOOKUP($B15,'HK2 21-22'!$B$17:$AT$54,16,0)) -> #N/A | R15: =IF($D15="","",SUM($N15:$Q15)) -> #N/A | S15: =IF($B15="","",VLOOKUP($B15,'HK2 21-22'!$B$17:$AT$54,18,0)) -> #N/A | T15: =IF($B15="","",VLOOKUP($B15,'HK2 21-22'!$B$17:$AT$54,19,0)) -> #N/A | U15: =IF($B15="","",VLOOKUP($B15,'HK2 21-22'!$B$17:$AT$54,20,0)) -> #N/A | V15: =IF($D15="","",((SUM($S15:$T15))-U15)*0.1) -> #N/A | W15: =IF($B15="","",VLOOKUP($B15,'HK2 21-22'!$B$17:$AT$54,22,0)) -> #N/A | X15: =IF($B15="","",VLOOKUP($B15,'HK2 21-22'!$B$17:$AT$54,23,0)) -> #N/A | Y15: =IF($B15="","",VLOOKUP($B15,'HK2 21-22'!$B$17:$AT$54,24,0)) -> #N/A | Z15: =IF($D15="","",((SUM($W15:$X15))-Y15)*0.2) -> #N/A | AA15: =IF($B15="","",VLOOKUP($B15,'HK2 21-22'!$B$17:$AT$54,26,0)) -> #N/A | AB15: =IF($B15="","",VLOOKUP($B15,'HK2 21-22'!$B$17:$AT$54,27,0)) -> #N/A | AC15: =IF($B15="","",VLOOKUP($B15,'HK2 21-22'!$B$17:$AT$54,28,0)) -> #N/A | AD15: =IF($D15="","",((SUM($AA15:$AB15))-AC15)*0.1) -> #N/A | AE15: =IF($B15="","",VLOOKUP($B15,'HK2 21-22'!$B$17:$AT$54,30,0)) -> #N/A | AF15: =IF($B15="","",VLOOKUP($B15,'HK2 21-22'!$B$17:$AT$54,31,0)) -> #N/A | AG15: =IF($B15="","",VLOOKUP($B15,'HK2 21-22'!$B$17:$AT$54,32,0)) -> #N/A | AH15: =IF($D15="","",((SUM($AE15:$AF15))-AG15)*0.2) -> #N/A | AI15: =IF($B15="","",VLOOKUP($B15,'HK2 21-22'!$B$17:$AT$54,34,0)) -> #N/A | AJ15: =IF($B15="","",VLOOKUP($B15,'HK2 21-22'!$B$17:$AT$54,35,0)) -> #N/A | AK15: =IF($D15="","",(SUM($AI15:$AJ15))*0.2) -> #N/A | AL15: =IF($B15="","",VLOOKUP($B15,'HK2 21-22'!$B$17:$AT$54,37,0)) -> #N/A | AM15: =IF($B15="","",VLOOKUP($B15,'HK2 21-22'!$B$17:$AT$54,38,0)) -> #N/A | AN15: =IF($D15="","",(SUM(AL15:AM15))*0.4) -> #N/A | AO15: =IF($B15="","",VLOOKUP($B15,'HK2 21-22'!$B$17:$AT$54,40,0)) -> #N/A | AP15: =IF($B15="","",VLOOKUP($B15,'HK2 21-22'!$B$17:$AT$54,41,0)) -> #N/A | AQ15: =IF(D15="","",SUM(AO15:AP15)*0.4) -> #N/A | AR15: =IF($B15="","",VLOOKUP($B15,'HK2 21-22'!$B$17:$AT$54,43,0)) -> #N/A | AS15: =IF($B15="","",VLOOKUP($B15,'HK2 21-22'!$B$17:$AT$54,44,0)) -> #N/A | AT15: =IF(D15="","",ROUND(M15+R15+V15+Z15+AD15+AH15+AK15+AN15+AQ15+SUM(AR15:AS15),1)) -> #N/A
A16: =IF(D16="","",SUBTOTAL(3,$D$5:D16)) -> 12 | B16: 01012030 | C16: Khoa CN Cơ khí | D16: Hồ Nhật Linh (TG) | E16: =IF($B16="","",VLOOKUP($B16,'HK2 21-22'!$B$17:$AT$54,4,0)) -> #N/A | F16: =IF($B16="","",VLOOKUP($B16,'HK2 21-22'!$B$17:$AT$54,5,0)) -> #N/A | G16: =IF($B16="","",VLOOKUP($B16,'HK2 21-22'!$B$17:$AT$54,6,0)) -> #N/A | H16: =IF($B16="","",VLOOKUP($B16,'HK2 21-22'!$B$17:$AT$54,7,0)) -> #N/A | I16: =IF($B16="","",VLOOKUP($B16,'HK2 21-22'!$B$17:$AT$54,8,0)) -> #N/A | J16: =IF($B16="","",VLOOKUP($B16,'HK2 21-22'!$B$17:$AT$54,9,0)) -> #N/A | K16: =IF($B16="","",VLOOKUP($B16,'HK2 21-22'!$B$17:$AT$54,10,0)) -> #N/A | L16: =IF($B16="","",VLOOKUP($B16,'HK2 21-22'!$B$17:$AT$54,11,0)) -> #N/A | M16: =IF($D16="","",($E16+$F16*1.5+$G16*0.25+$H16*0.5+$I16*2+$J16*2.5+$K16*0.5+$L16*1.5)) -> #N/A | N16: =IF($B16="","",VLOOKUP($B16,'HK2 21-22'!$B$17:$AT$54,13,0)) -> #N/A | O16: =IF($B16="","",VLOOKUP($B16,'HK2 21-22'!$B$17:$AT$54,14,0)) -> #N/A | P16: =IF($B16="","",VLOOKUP($B16,'HK2 21-22'!$B$17:$AT$54,15,0)) -> #N/A | Q16: =IF($B16="","",VLOOKUP($B16,'HK2 21-22'!$B$17:$AT$54,16,0)) -> #N/A | R16: =IF($D16="","",SUM($N16:$Q16)) -> #N/A | S16: =IF($B16="","",VLOOKUP($B16,'HK2 21-22'!$B$17:$AT$54,18,0)) -> #N/A | T16: =IF($B16="","",VLOOKUP($B16,'HK2 21-22'!$B$17:$AT$54,19,0)) -> #N/A | U16: =IF($B16="","",VLOOKUP($B16,'HK2 21-22'!$B$17:$AT$54,20,0)) -> #N/A | V16: =IF($D16="","",((SUM($S16:$T16))-U16)*0.1) -> #N/A | W16: =IF($B16="","",VLOOKUP($B16,'HK2 21-22'!$B$17:$AT$54,22,0)) -> #N/A | X16: =IF($B16="","",VLOOKUP($B16,'HK2 21-22'!$B$17:$AT$54,23,0)) -> #N/A | Y16: =IF($B16="","",VLOOKUP($B16,'HK2 21-22'!$B$17:$AT$54,24,0)) -> #N/A | Z16: =IF($D16="","",((SUM($W16:$X16))-Y16)*0.2) -> #N/A | AA16: =IF($B16="","",VLOOKUP($B16,'HK2 21-22'!$B$17:$AT$54,26,0)) -> #N/A | AB16: =IF($B16="","",VLOOKUP($B16,'HK2 21-22'!$B$17:$AT$54,27,0)) -> #N/A | AC16: =IF($B16="","",VLOOKUP($B16,'HK2 21-22'!$B$17:$AT$54,28,0)) -> #N/A | AD16: =IF($D16="","",((SUM($AA16:$AB16))-AC16)*0.1) -> #N/A | AE16: =IF($B16="","",VLOOKUP($B16,'HK2 21-22'!$B$17:$AT$54,30,0)) -> #N/A | AF16: =IF($B16="","",VLOOKUP($B16,'HK2 21-22'!$B$17:$AT$54,31,0)) -> #N/A | AG16: =IF($B16="","",VLOOKUP($B16,'HK2 21-22'!$B$17:$AT$54,32,0)) -> #N/A | AH16: =IF($D16="","",((SUM($AE16:$AF16))-AG16)*0.2) -> #N/A | AI16: =IF($B16="","",VLOOKUP($B16,'HK2 21-22'!$B$17:$AT$54,34,0)) -> #N/A | AJ16: =IF($B16="","",VLOOKUP($B16,'HK2 21-22'!$B$17:$AT$54,35,0)) -> #N/A | AK16: =IF($D16="","",(SUM($AI16:$AJ16))*0.2) -> #N/A | AL16: =IF($B16="","",VLOOKUP($B16,'HK2 21-22'!$B$17:$AT$54,37,0)) -> #N/A | AM16: =IF($B16="","",VLOOKUP($B16,'HK2 21-22'!$B$17:$AT$54,38,0)) -> #N/A | AN16: =IF($D16="","",(SUM(AL16:AM16))*0.4) -> #N/A | AO16: =IF($B16="","",VLOOKUP($B16,'HK2 21-22'!$B$17:$AT$54,40,0)) -> #N/A | AP16: =IF($B16="","",VLOOKUP($B16,'HK2 21-22'!$B$17:$AT$54,41,0)) -> #N/A | AQ16: =IF(D16="","",SUM(AO16:AP16)*0.4) -> #N/A | AR16: =IF($B16="","",VLOOKUP($B16,'HK2 21-22'!$B$17:$AT$54,43,0)) -> #N/A | AS16: =IF($B16="","",VLOOKUP($B16,'HK2 21-22'!$B$17:$AT$54,44,0)) -> #N/A | AT16: =IF(D16="","",ROUND(M16+R16+V16+Z16+AD16+AH16+AK16+AN16+AQ16+SUM(AR16:AS16),1)) -> #N/A
... A473: =IF(D473="","",SUBTOTAL(3,$D$5:D473)) -> 469 | B473: 01021002 | C473: TT Y tế | D473: Vũ Thị Thanh Nhàn | E473: =IF($B473="","",VLOOKUP($B473,'HK2 21-22'!$B$17:$AT$54,4,0)) -> #N/A | F473: =IF($B473="","",VLOOKUP($B473,'HK2 21-22'!$B$17:$AT$54,5,0)) -> #N/A | G473: =IF($B473="","",VLOOKUP($B473,'HK2 21-22'!$B$17:$AT$54,6,0)) -> #N/A | H473: =IF($B473="","",VLOOKUP($B473,'HK2 21-22'!$B$17:$AT$54,7,0)) -> #N/A | I473: =IF($B473="","",VLOOKUP($B473,'HK2 21-22'!$B$17:$AT$54,8,0)) -> #N/A | J473: =IF($B473="","",VLOOKUP($B473,'HK2 21-22'!$B$17:$AT$54,9,0)) -> #N/A | K473: =IF($B473="","",VLOOKUP($B473,'HK2 21-22'!$B$17:$AT$54,10,0)) -> #N/A | L473: =IF($B473="","",VLOOKUP($B473,'HK2 21-22'!$B$17:$AT$54,11,0)) -> #N/A | M473: =IF($D473="","",($E473+$F473*1.5+$G473*0.25+$H473*0.5+$I473*2+$J473*2.5+$K473*0.5+$L473*1.5)) -> #N/A | N473: =IF($B473="","",VLOOKUP($B473,'HK2 21-22'!$B$17:$AT$54,13,0)) -> #N/A | O473: =IF($B473="","",VLOOKUP($B473,'HK2 21-22'!$B$17:$AT$54,14,0)) -> #N/A | P473: =IF($B473="","",VLOOKUP($B473,'HK2 21-22'!$B$17:$AT$54,15,0)) -> #N/A | Q473: =IF($B473="","",VLOOKUP($B473,'HK2 21-22'!$B$17:$AT$54,16,0)) -> #N/A | R473: =IF($D473="","",SUM($N473:$Q473)) -> #N/A | S473: =IF($B473="","",VLOOKUP($B473,'HK2 21-22'!$B$17:$AT$54,18,0)) -> #N/A | T473: =IF($B473="","",VLOOKUP($B473,'HK2 21-22'!$B$17:$AT$54,19,0)) -> #N/A | U473: =IF($B473="","",VLOOKUP($B473,'HK2 21-22'!$B$17:$AT$54,20,0)) -> #N/A | V473: =IF($D473="","",((SUM($S473:$T473))-U473)*0.1) -> #N/A | W473: =IF($B473="","",VLOOKUP($B473,'HK2 21-22'!$B$17:$AT$54,22,0)) -> #N/A | X473: =IF($B473="","",VLOOKUP($B473,'HK2 21-22'!$B$17:$AT$54,23,0)) -> #N/A | Y473: =IF($B473="","",VLOOKUP($B473,'HK2 21-22'!$B$17:$AT$54,24,0)) -> #N/A | Z473: =IF($D473="","",((SUM($W473:$X473))-Y473)*0.2) -> #N/A | AA473: =IF($B473="","",VLOOKUP($B473,'HK2 21-22'!$B$17:$AT$54,26,0)) -> #N/A | AB473: =IF($B473="","",VLOOKUP($B473,'HK2 21-22'!$B$17:$AT$54,27,0)) -> #N/A | AC473: =IF($B473="","",VLOOKUP($B473,'HK2 21-22'!$B$17:$AT$54,28,0)) -> #N/A | AD473: =IF($D473="","",((SUM($AA473:$AB473))-AC473)*0.1) -> #N/A | AE473: =IF($B473="","",VLOOKUP($B473,'HK2 21-22'!$B$17:$AT$54,30,0)) -> #N/A | AF473: =IF($B473="","",VLOOKUP($B473,'HK2 21-22'!$B$17:$AT$54,31,0)) -> #N/A | AG473: =IF($B473="","",VLOOKUP($B473,'HK2 21-22'!$B$17:$AT$54,32,0)) -> #N/A | AH473: =IF($D473="","",((SUM($AE473:$AF473))-AG473)*0.2) -> #N/A | AI473: =IF($B473="","",VLOOKUP($B473,'HK2 21-22'!$B$17:$AT$54,34,0)) -> #N/A | AJ473: =IF($B473="","",VLOOKUP($B473,'HK2 21-22'!$B$17:$AT$54,35,0)) -> #N/A | AK473: =IF($D473="","",(SUM($AI473:$AJ473))*0.2) -> #N/A | AL473: =IF($B473="","",VLOOKUP($B473,'HK2 21-22'!$B$17:$AT$54,37,0)) -> #N/A | AM473: =IF($B473="","",VLOOKUP($B473,'HK2 21-22'!$B$17:$AT$54,38,0)) -> #N/A | AN473: =IF($D473="","",(SUM(AL473:AM473))*0.4) -> #N/A | AO473: =IF($B473="","",VLOOKUP($B473,'HK2 21-22'!$B$17:$AT$54,40,0)) -> #N/A | AP473: =IF($B473="","",VLOOKUP($B473,'HK2 21-22'!$B$17:$AT$54,41,0)) -> #N/A | AQ473: =IF(D473="","",SUM(AO473:AP473)*0.4) -> #N/A | AR473: =IF($B473="","",VLOOKUP($B473,'HK2 21-22'!$B$17:$AT$54,43,0)) -> #N/A | AS473: =IF($B473="","",VLOOKUP($B473,'HK2 21-22'!$B$17:$AT$54,44,0)) -> #N/A | AT473: =IF(D473="","",ROUND(M473+R473+V473+Z473+AD473+AH473+AK473+AN473+AQ473+SUM(AR473:AS473),1)) -> #N/A
A474: =IF(D474="","",SUBTOTAL(3,$D$5:D474)) | E474: =IF($B474="","",VLOOKUP($B474,'HK2 21-22'!$B$17:$AT$54,4,0)) | F474: =IF($B474="","",VLOOKUP($B474,'HK2 21-22'!$B$17:$AT$54,5,0)) | G474: =IF($B474="","",VLOOKUP($B474,'HK2 21-22'!$B$17:$AT$54,6,0)) | H474: =IF($B474="","",VLOOKUP($B474,'HK2 21-22'!$B$17:$AT$54,7,0)) | I474: =IF($B474="","",VLOOKUP($B474,'HK2 21-22'!$B$17:$AT$54,8,0)) | J474: =IF($B474="","",VLOOKUP($B474,'HK2 21-22'!$B$17:$AT$54,9,0)) | K474: =IF($B474="","",VLOOKUP($B474,'HK2 21-22'!$B$17:$AT$54,10,0)) | L474: =IF($B474="","",VLOOKUP($B474,'HK2 21-22'!$B$17:$AT$54,11,0))
A475: =IF(D475="","",SUBTOTAL(3,$D$5:D475)) | E475: =IF($B475="","",VLOOKUP($B475,'HK2 21-22'!$B$17:$AT$54,4,0)) | F475: =IF($B475="","",VLOOKUP($B475,'HK2 21-22'!$B$17:$AT$54,5,0)) | G475: =IF($B475="","",VLOOKUP($B475,'HK2 21-22'!$B$17:$AT$54,6,0)) | H475: =IF($B475="","",VLOOKUP($B475,'HK2 21-22'!$B$17:$AT$54,7,0)) | I475: =IF($B475="","",VLOOKUP($B475,'HK2 21-22'!$B$17:$AT$54,8,0)) | J475: =IF($B475="","",VLOOKUP($B475,'HK2 21-22'!$B$17:$AT$54,9,0)) | K475: =IF($B475="","",VLOOKUP($B475,'HK2 21-22'!$B$17:$AT$54,10,0)) | L475: =IF($B475="","",VLOOKUP($B475,'HK2 21-22'!$B$17:$AT$54,11,0))
A476: =IF(D476="","",SUBTOTAL(3,$D$5:D476)) | E476: =IF($B476="","",VLOOKUP($B476,'HK2 21-22'!$B$17:$AT$54,4,0)) | F476: =IF($B476="","",VLOOKUP($B476,'HK2 21-22'!$B$17:$AT$54,5,0)) | G476: =IF($B476="","",VLOOKUP($B476,'HK2 21-22'!$B$17:$AT$54,6,0)) | H476: =IF($B476="","",VLOOKUP($B476,'HK2 21-22'!$B$17:$AT$54,7,0)) | I476: =IF($B476="","",VLOOKUP($B476,'HK2 21-22'!$B$17:$AT$54,8,0)) | J476: =IF($B476="","",VLOOKUP($B476,'HK2 21-22'!$B$17:$AT$54,9,0)) | K476: =IF($B476="","",VLOOKUP($B476,'HK2 21-22'!$B$17:$AT$54,10,0)) | L476: =IF($B476="","",VLOOKUP($B476,'HK2 21-22'!$B$17:$AT$54,11,0))
A477: =IF(D477="","",SUBTOTAL(3,$D$5:D477)) | E477: =IF($B477="","",VLOOKUP($B477,'HK2 21-22'!$B$17:$AT$54,4,0)) | F477: =IF($B477="","",VLOOKUP($B477,'HK2 21-22'!$B$17:$AT$54,5,0)) | G477: =IF($B477="","",VLOOKUP($B477,'HK2 21-22'!$B$17:$AT$54,6,0)) | H477: =IF($B477="","",VLOOKUP($B477,'HK2 21-22'!$B$17:$AT$54,7,0)) | I477: =IF($B477="","",VLOOKUP($B477,'HK2 21-22'!$B$17:$AT$54,8,0)) | J477: =IF($B477="","",VLOOKUP($B477,'HK2 21-22'!$B$17:$AT$54,9,0)) | K477: =IF($B477="","",VLOOKUP($B477,'HK2 21-22'!$B$17:$AT$54,10,0)) | L477: =IF($B477="","",VLOOKUP($B477,'HK2 21-22'!$B$17:$AT$54,11,0))
A478: =IF(D478="","",SUBTOTAL(3,$D$5:D478)) | E478: =IF($B478="","",VLOOKUP($B478,'HK2 21-22'!$B$17:$AT$54,4,0)) | F478: =IF($B478="","",VLOOKUP($B478,'HK2 21-22'!$B$17:$AT$54,5,0)) | G478: =IF($B478="","",VLOOKUP($B478,'HK2 21-22'!$B$17:$AT$54,6,0)) | H478: =IF($B478="","",VLOOKUP($B478,'HK2 21-22'!$B$17:$AT$54,7,0)) | I478: =IF($B478="","",VLOOKUP($B478,'HK2 21-22'!$B$17:$AT$54,8,0)) | J478: =IF($B478="","",VLOOKUP($B478,'HK2 21-22'!$B$17:$AT$54,9,0)) | K478: =IF($B478="","",VLOOKUP($B478,'HK2 21-22'!$B$17:$AT$54,10,0)) | L478: =IF($B478="","",VLOOKUP($B478,'HK2 21-22'!$B$17:$AT$54,11,0))
A479: =IF(D479="","",SUBTOTAL(3,$D$5:D479)) | E479: =IF($B479="","",VLOOKUP($B479,'HK2 21-22'!$B$17:$AT$54,4,0)) | F479: =IF($B479="","",VLOOKUP($B479,'HK2 21-22'!$B$17:$AT$54,5,0)) | G479: =IF($B479="","",VLOOKUP($B479,'HK2 21-22'!$B$17:$AT$54,6,0)) | H479: =IF($B479="","",VLOOKUP($B479,'HK2 21-22'!$B$17:$AT$54,7,0)) | I479: =IF($B479="","",VLOOKUP($B479,'HK2 21-22'!$B$17:$AT$54,8,0)) | J479: =IF($B479="","",VLOOKUP($B479,'HK2 21-22'!$B$17:$AT$54,9,0)) | K479: =IF($B479="","",VLOOKUP($B479,'HK2 21-22'!$B$17:$AT$54,10,0)) | L479: =IF($B479="","",VLOOKUP($B479,'HK2 21-22'!$B$17:$AT$54,11,0))
A480: =IF(D480="","",SUBTOTAL(3,$D$5:D480)) | E480: =IF($B480="","",VLOOKUP($B480,'HK2 21-22'!$B$17:$AT$54,4,0)) | F480: =IF($B480="","",VLOOKUP($B480,'HK2 21-22'!$B$17:$AT$54,5,0)) | G480: =IF($B480="","",VLOOKUP($B480,'HK2 21-22'!$B$17:$AT$54,6,0)) | H480: =IF($B480="","",VLOOKUP($B480,'HK2 21-22'!$B$17:$AT$54,7,0)) | I480: =IF($B480="","",VLOOKUP($B480,'HK2 21-22'!$B$17:$AT$54,8,0)) | J480: =IF($B480="","",VLOOKUP($B480,'HK2 21-22'!$B$17:$AT$54,9,0)) | K480: =IF($B480="","",VLOOKUP($B480,'HK2 21-22'!$B$17:$AT$54,10,0)) | L480: =IF($B480="","",VLOOKUP($B480,'HK2 21-22'!$B$17:$AT$54,11,0))
A481: =IF(D481="","",SUBTOTAL(3,$D$5:D481)) | E481: =IF($B481="","",VLOOKUP($B481,'HK2 21-22'!$B$17:$AT$54,4,0)) | F481: =IF($B481="","",VLOOKUP($B481,'HK2 21-22'!$B$17:$AT$54,5,0)) | G481: =IF($B481="","",VLOOKUP($B481,'HK2 21-22'!$B$17:$AT$54,6,0)) | H481: =IF($B481="","",VLOOKUP($B481,'HK2 21-22'!$B$17:$AT$54,7,0)) | I481: =IF($B481="","",VLOOKUP($B481,'HK2 21-22'!$B$17:$AT$54,8,0)) | J481: =IF($B481="","",VLOOKUP($B481,'HK2 21-22'!$B$17:$AT$54,9,0)) | K481: =IF($B481="","",VLOOKUP($B481,'HK2 21-22'!$B$17:$AT$54,10,0)) | L481: =IF($B481="","",VLOOKUP($B481,'HK2 21-22'!$B$17:$AT$54,11,0))
A482: =IF(D482="","",SUBTOTAL(3,$D$5:D482)) | E482: =IF($B482="","",VLOOKUP($B482,'HK2 21-22'!$B$17:$AT$54,4,0)) | F482: =IF($B482="","",VLOOKUP($B482,'HK2 21-22'!$B$17:$AT$54,5,0)) | G482: =IF($B482="","",VLOOKUP($B482,'HK2 21-22'!$B$17:$AT$54,6,0)) | H482: =IF($B482="","",VLOOKUP($B482,'HK2 21-22'!$B$17:$AT$54,7,0)) | I482: =IF($B482="","",VLOOKUP($B482,'HK2 21-22'!$B$17:$AT$54,8,0)) | J482: =IF($B482="","",VLOOKUP($B482,'HK2 21-22'!$B$17:$AT$54,9,0)) | K482: =IF($B482="","",VLOOKUP($B482,'HK2 21-22'!$B$17:$AT$54,10,0)) | L482: =IF($B482="","",VLOOKUP($B482,'HK2 21-22'!$B$17:$AT$54,11,0))
A483: =IF(D483="","",SUBTOTAL(3,$D$5:D483)) | E483: =IF($B483="","",VLOOKUP($B483,'HK2 21-22'!$B$17:$AT$54,4,0)) | F483: =IF($B483="","",VLOOKUP($B483,'HK2 21-22'!$B$17:$AT$54,5,0)) | G483: =IF($B483="","",VLOOKUP($B483,'HK2 21-22'!$B$17:$AT$54,6,0)) | H483: =IF($B483="","",VLOOKUP($B483,'HK2 21-22'!$B$17:$AT$54,7,0)) | I483: =IF($B483="","",VLOOKUP($B483,'HK2 21-22'!$B$17:$AT$54,8,0)) | J483: =IF($B483="","",VLOOKUP($B483,'HK2 21-22'!$B$17:$AT$54,9,0)) | K483: =IF($B483="","",VLOOKUP($B483,'HK2 21-22'!$B$17:$AT$54,10,0)) | L483: =IF($B483="","",VLOOKUP($B483,'HK2 21-22'!$B$17:$AT$54,11,0))
A484: =IF(D484="","",SUBTOTAL(3,$D$5:D484)) | E484: =IF($B484="","",VLOOKUP($B484,'HK2 21-22'!$B$17:$AT$54,4,0)) | F484: =IF($B484="","",VLOOKUP($B484,'HK2 21-22'!$B$17:$AT$54,5,0)) | G484: =IF($B484="","",VLOOKUP($B484,'HK2 21-22'!$B$17:$AT$54,6,0)) | H484: =IF($B484="","",VLOOKUP($B484,'HK2 21-22'!$B$17:$AT$54,7,0)) | I484: =IF($B484="","",VLOOKUP($B484,'HK2 21-22'!$B$17:$AT$54,8,0)) | J484: =IF($B484="","",VLOOKUP($B484,'HK2 21-22'!$B$17:$AT$54,9,0)) | K484: =IF($B484="","",VLOOKUP($B484,'HK2 21-22'!$B$17:$AT$54,10,0)) | L484: =IF($B484="","",VLOOKUP($B484,'HK2 21-22'!$B$17:$AT$54,11,0))
A485: =IF(D485="","",SUBTOTAL(3,$D$5:D485)) | E485: =IF($B485="","",VLOOKUP($B485,'HK2 21-22'!$B$17:$AT$54,4,0)) | F485: =IF($B485="","",VLOOKUP($B485,'HK2 21-22'!$B$17:$AT$54,5,0)) | G485: =IF($B485="","",VLOOKUP($B485,'HK2 21-22'!$B$17:$AT$54,6,0)) | H485: =IF($B485="","",VLOOKUP($B485,'HK2 21-22'!$B$17:$AT$54,7,0)) | I485: =IF($B485="","",VLOOKUP($B485,'HK2 21-22'!$B$17:$AT$54,8,0)) | J485: =IF($B485="","",VLOOKUP($B485,'HK2 21-22'!$B$17:$AT$54,9,0)) | K485: =IF($B485="","",VLOOKUP($B485,'HK2 21-22'!$B$17:$AT$54,10,0)) | L485: =IF($B485="","",VLOOKUP($B485,'HK2 21-22'!$B$17:$AT$54,11,0))
... A500: =IF(D500="","",SUBTOTAL(3,$D$5:D500)) | E500: =IF($B500="","",VLOOKUP($B500,'HK2 21-22'!$B$17:$AT$54,4,0)) | F500: =IF($B500="","",VLOOKUP($B500,'HK2 21-22'!$B$17:$AT$54,5,0)) | G500: =IF($B500="","",VLOOKUP($B500,'HK2 21-22'!$B$17:$AT$54,6,0)) | H500: =IF($B500="","",VLOOKUP($B500,'HK2 21-22'!$B$17:$AT$54,7,0)) | I500: =IF($B500="","",VLOOKUP($B500,'HK2 21-22'!$B$17:$AT$54,8,0)) | J500: =IF($B500="","",VLOOKUP($B500,'HK2 21-22'!$B$17:$AT$54,9,0)) | K500: =IF($B500="","",VLOOKUP($B500,'HK2 21-22'!$B$17:$AT$54,10,0)) | L500: =IF($B500="","",VLOOKUP($B500,'HK2 21-22'!$B$17:$AT$54,11,0))
E501: =SUBTOTAL(9,E3:E500) -> #N/A | F501: =SUBTOTAL(9,F3:F500) -> #N/A | G501: =SUBTOTAL(9,G3:G500) -> #N/A | H501: =SUBTOTAL(9,H3:H500) -> #N/A | I501: =SUBTOTAL(9,I3:I500) -> #N/A | J501: =SUBTOTAL(9,J3:J500) -> #N/A | K501: =SUBTOTAL(9,K3:K500) -> #N/A | L501: =SUBTOTAL(9,L3:L500) -> #N/A | ... T501: =SUBTOTAL(9,T3:T500) -> #N/A | V501: =SUBTOTAL(9,V3:V500) -> #N/A | W501: =SUBTOTAL(9,W3:W500) -> #N/A | X501: =SUBTOTAL(9,X3:X500) -> #N/A | Z501: =SUBTOTAL(9,Z3:Z500) -> #N/A | AA501: =SUBTOTAL(9,AA3:AA500) -> #N/A | AB501: =SUBTOTAL(9,AB3:AB500) -> #N/A | AD501: =SUBTOTAL(9,AD3:AD500) -> #N/A | AE501: =SUBTOTAL(9,AE3:AE500) -> #N/A | AF501: =SUBTOTAL(9,AF3:AF500) -> #N/A | AH501: =SUBTOTAL(9,AH3:AH500) -> #N/A | AI501: =SUBTOTAL(9,AI3:AI500) -> #N/A | AJ501: =SUBTOTAL(9,AJ3:AJ500) -> #N/A | AK501: =SUBTOTAL(9,AK3:AK500) -> #N/A | AL501: =SUBTOTAL(9,AL3:AL500) -> #N/A | AM501: =SUBTOTAL(9,AM3:AM500) -> #N/A | AN501: =SUBTOTAL(9,AN3:AN500) -> #N/A | AO501: =SUBTOTAL(9,AO3:AO500) -> #N/A | ... AT501: =SUBTOTAL(9,AT3:AT500) -> #N/A

Sheet XUẤT HKII
E1: =SUBTOTAL(9,E5:E473) -> #N/A | F1: =SUBTOTAL(9,F5:F473) -> #N/A | G1: =SUBTOTAL(9,G5:G473) -> #N/A | H1: =SUBTOTAL(9,H5:H473) -> #N/A | I1: =SUBTOTAL(9,I5:I473) -> #N/A | J1: =SUBTOTAL(9,J5:J473) -> #N/A | K1: =SUBTOTAL(9,K5:K473) -> #N/A | L1: =SUBTOTAL(9,L5:L473) -> #N/A | ... AT1: =SUBTOTAL(9,AT5:AT473) -> #N/A
A2: STT | B2: Mã nhân sự | C2: Đơn vị | D2: HỌ VÀ TÊN GIẢNG VIÊN | E2: ĐỀ THI | N2: COI THI | S2: CHẤM THI KTHP | AI2: CHẤM THI TỐT NGHIỆP | AR2: DỰ PHÒNG KỲ THI | AS2: GIÁM SÁT | AT2: TỔNG KHỐI LƯỢNG | AU2: =SUBTOTAL(9,AT:AT) -> #N/A
S3: LÝ THUYẾT (TV+TN) | W3: VẤN ĐÁP | AA3: TIỂU LUẬN | AE3: THỰC HÀNH | AI3: LÝ THUYẾT (TV+TN) | AL3: VẤN ĐÁP | AO3: THỰC HÀNH
E4: SL ĐỀ LT KTHP | F4: SL ĐỀ TN KTHP | G4: SL ĐỀ VĐ KTHP | H4: SL ĐỀ TH KTHP | I4: SL ĐỀ LT ThiTN | J4: SL ĐỀ TN ThiTN | K4: SL ĐỀ VĐ ThiTN | L4: SL ĐỀ TH ThiTN | M4: KL SOẠN ĐỀ (tiết) | N4: COITHI 2 KTHP | O4: COITHI 1 KTHP | P4: COITHI 1 Thi TN | Q4: COITHI 2 Thi TN | R4: KL COITHI (tiết) | S4: SL CHẤM LT 1 | T4: SL CHẤM LT 2 | U4: SL CHẤM NV | V4: KL CHẤM LT (tiết) | W4: SL CHẤM TL 1 | X4: SL CHẤM TL 2 | Y4: SL CHẤM NV | Z4: KL CHẤM TL (tiết) | AA4: SL CHẤM TL 1 | AB4: SL CHẤM TL 2 | AC4: SL CHẤM NV | AD4: KL CHẤM TL (tiết) | AE4: SL CHẤM TL 1 | AF4: SL CHẤM TL 2 | AG4: SL CHẤM NV | AH4: KL CHẤM TL (tiết) | AI4: SL BÀI LT CHẤM 1 | AJ4: SL BÀI LT CHẤM 2 | AK4: KL CHẤM LT (tiết) | AL4: SL BÀI VĐ CHẤM 1 | AM4: SL BÀI VĐ CHẤM 2 | AN4: KL CHẤM VĐ (tiết) | AO4: SL BÀI TL CHẤM 1 | AP4: SL BÀI TL CHẤM 2 | AQ4: KL CHẤM TL (tiết)
A5: =IF(D5="","",SUBTOTAL(3,$D$5:D5)) -> 1 | B5: 01001001 | C5: Ban Giám hiệu | D5: Đinh Hồng Minh | E5: =IF($B5="","",VLOOKUP($B5,'HKII 20 - 21'!$B$17:$AT$54,4,0)) -> #N/A | F5: =IF($B5="","",VLOOKUP($B5,'HKII 20 - 21'!$B$17:$AT$54,5,0)) -> #N/A | G5: =IF($B5="","",VLOOKUP($B5,'HKII 20 - 21'!$B$17:$AT$54,6,0)) -> #N/A | H5: =IF($B5="","",VLOOKUP($B5,'HKII 20 - 21'!$B$17:$AT$54,7,0)) -> #N/A | I5: =IF($B5="","",VLOOKUP($B5,'HKII 20 - 21'!$B$17:$AT$54,8,0)) -> #N/A | J5: =IF($B5="","",VLOOKUP($B5,'HKII 20 - 21'!$B$17:$AT$54,9,0)) -> #N/A | K5: =IF($B5="","",VLOOKUP($B5,'HKII 20 - 21'!$B$17:$AT$54,10,0)) -> #N/A | L5: =IF($B5="","",VLOOKUP($B5,'HKII 20 - 21'!$B$17:$AT$54,11,0)) -> #N/A | M5: =IF($D5="","",($E5+$F5*1.5+$G5*0.25+$H5*0.5+$I5*2+$J5*2.5+$K5*0.5+$L5*1.5)) -> #N/A | N5: =IF($B5="","",VLOOKUP($B5,'HKII 20 - 21'!$B$17:$AT$54,13,0)) -> #N/A | O5: =IF($B5="","",VLOOKUP($B5,'HKII 20 - 21'!$B$17:$AT$54,14,0)) -> #N/A | P5: =IF($B5="","",VLOOKUP($B5,'HKII 20 - 21'!$B$17:$AT$54,15,0)) -> #N/A | Q5: =IF($B5="","",VLOOKUP($B5,'HKII 20 - 21'!$B$17:$AT$54,16,0)) -> #N/A | R5: =IF($D5="","",SUM($N5:$Q5)) -> #N/A | S5: =IF($B5="","",VLOOKUP($B5,'HKII 20 - 21'!$B$17:$AT$54,18,0)) -> #N/A | T5: =IF($B5="","",VLOOKUP($B5,'HKII 20 - 21'!$B$17:$AT$54,19,0)) -> #N/A | U5: =IF($B5="","",VLOOKUP($B5,'HKII 20 - 21'!$B$17:$AT$54,20,0)) -> #N/A | V5: =IF($D5="","",((SUM($S5:$T5))-U5)*0.1) -> #N/A | W5: =IF($B5="","",VLOOKUP($B5,'HKII 20 - 21'!$B$17:$AT$54,22,0)) -> #N/A | X5: =IF($B5="","",VLOOKUP($B5,'HKII 20 - 21'!$B$17:$AT$54,23,0)) -> #N/A | Y5: =IF($B5="","",VLOOKUP($B5,'HKII 20 - 21'!$B$17:$AT$54,24,0)) -> #N/A | Z5: =IF($D5="","",((SUM($W5:$X5))-Y5)*0.2) -> #N/A | AA5: =IF($B5="","",VLOOKUP($B5,'HKII 20 - 21'!$B$17:$AT$54,26,0)) -> #N/A | AB5: =IF($B5="","",VLOOKUP($B5,'HKII 20 - 21'!$B$17:$AT$54,27,0)) -> #N/A | AC5: =IF($B5="","",VLOOKUP($B5,'HKII 20 - 21'!$B$17:$AT$54,28,0)) -> #N/A | AD5: =IF($D5="","",((SUM($AA5:$AB5))-AC5)*0.1) -> #N/A | AE5: =IF($B5="","",VLOOKUP($B5,'HKII 20 - 21'!$B$17:$AT$54,30,0)) -> #N/A | AF5: =IF($B5="","",VLOOKUP($B5,'HKII 20 - 21'!$B$17:$AT$54,31,0)) -> #N/A | AG5: =IF($B5="","",VLOOKUP($B5,'HKII 20 - 21'!$B$17:$AT$54,32,0)) -> #N/A | AH5: =IF($D5="","",((SUM($AE5:$AF5))-AG5)*0.2) -> #N/A | AI5: =IF($B5="","",VLOOKUP($B5,'HKII 20 - 21'!$B$17:$AT$54,34,0)) -> #N/A | AJ5: =IF($B5="","",VLOOKUP($B5,'HKII 20 - 21'!$B$17:$AT$54,35,0)) -> #N/A | AK5: =IF($D5="","",(SUM($AI5:$AJ5))*0.2) -> #N/A | AL5: =IF($B5="","",VLOOKUP($B5,'HKII 20 - 21'!$B$17:$AT$54,37,0)) -> #N/A | AM5: =IF($B5="","",VLOOKUP($B5,'HKII 20 - 21'!$B$17:$AT$54,38,0)) -> #N/A | AN5: =IF($D5="","",(SUM(AL5:AM5))*0.4) -> #N/A | AO5: =IF($B5="","",VLOOKUP($B5,'HKII 20 - 21'!$B$17:$AT$54,40,0)) -> #N/A | AP5: =IF($B5="","",VLOOKUP($B5,'HKII 20 - 21'!$B$17:$AT$54,41,0)) -> #N/A | AQ5: =IF(D5="","",SUM(AO5:AP5)*0.4) -> #N/A | AR5: =IF($B5="","",VLOOKUP($B5,'HKII 20 - 21'!$B$17:$AT$54,43,0)) -> #N/A | AS5: =IF($B5="","",VLOOKUP($B5,'HKII 20 - 21'!$B$17:$AT$54,44,0)) -> #N/A | AT5: =IF(D5="","",ROUND(M5+R5+V5+Z5+AD5+AH5+AK5+AN5+AQ5+SUM(AR5:AS5),1)) -> #N/A
A6: =IF(D6="","",SUBTOTAL(3,$D$5:D6)) -> 2 | B6: 01002001 | C6: Ban Giám hiệu | D6: Đinh Văn Đệ | E6: =IF($B6="","",VLOOKUP($B6,'HKII 20 - 21'!$B$17:$AT$54,4,0)) -> #N/A | F6: =IF($B6="","",VLOOKUP($B6,'HKII 20 - 21'!$B$17:$AT$54,5,0)) -> #N/A | G6: =IF($B6="","",VLOOKUP($B6,'HKII 20 - 21'!$B$17:$AT$54,6,0)) -> #N/A | H6: =IF($B6="","",VLOOKUP($B6,'HKII 20 - 21'!$B$17:$AT$54,7,0)) -> #N/A | I6: =IF($B6="","",VLOOKUP($B6,'HKII 20 - 21'!$B$17:$AT$54,8,0)) -> #N/A | J6: =IF($B6="","",VLOOKUP($B6,'HKII 20 - 21'!$B$17:$AT$54,9,0)) -> #N/A | K6: =IF($B6="","",VLOOKUP($B6,'HKII 20 - 21'!$B$17:$AT$54,10,0)) -> #N/A | L6: =IF($B6="","",VLOOKUP($B6,'HKII 20 - 21'!$B$17:$AT$54,11,0)) -> #N/A | M6: =IF($D6="","",($E6+$F6*1.5+$G6*0.25+$H6*0.5+$I6*2+$J6*2.5+$K6*0.5+$L6*1.5)) -> #N/A | N6: =IF($B6="","",VLOOKUP($B6,'HKII 20 - 21'!$B$17:$AT$54,13,0)) -> #N/A | O6: =IF($B6="","",VLOOKUP($B6,'HKII 20 - 21'!$B$17:$AT$54,14,0)) -> #N/A | P6: =IF($B6="","",VLOOKUP($B6,'HKII 20 - 21'!$B$17:$AT$54,15,0)) -> #N/A | Q6: =IF($B6="","",VLOOKUP($B6,'HKII 20 - 21'!$B$17:$AT$54,16,0)) -> #N/A | R6: =IF($D6="","",SUM($N6:$Q6)) -> #N/A | S6: =IF($B6="","",VLOOKUP($B6,'HKII 20 - 21'!$B$17:$AT$54,18,0)) -> #N/A | T6: =IF($B6="","",VLOOKUP($B6,'HKII 20 - 21'!$B$17:$AT$54,19,0)) -> #N/A | U6: =IF($B6="","",VLOOKUP($B6,'HKII 20 - 21'!$B$17:$AT$54,20,0)) -> #N/A | V6: =IF($D6="","",((SUM($S6:$T6))-U6)*0.1) -> #N/A | W6: =IF($B6="","",VLOOKUP($B6,'HKII 20 - 21'!$B$17:$AT$54,22,0)) -> #N/A | X6: =IF($B6="","",VLOOKUP($B6,'HKII 20 - 21'!$B$17:$AT$54,23,0)) -> #N/A | Y6: =IF($B6="","",VLOOKUP($B6,'HKII 20 - 21'!$B$17:$AT$54,24,0)) -> #N/A | Z6: =IF($D6="","",((SUM($W6:$X6))-Y6)*0.2) -> #N/A | AA6: =IF($B6="","",VLOOKUP($B6,'HKII 20 - 21'!$B$17:$AT$54,26,0)) -> #N/A | AB6: =IF($B6="","",VLOOKUP($B6,'HKII 20 - 21'!$B$17:$AT$54,27,0)) -> #N/A | AC6: =IF($B6="","",VLOOKUP($B6,'HKII 20 - 21'!$B$17:$AT$54,28,0)) -> #N/A | AD6: =IF($D6="","",((SUM($AA6:$AB6))-AC6)*0.1) -> #N/A | AE6: =IF($B6="","",VLOOKUP($B6,'HKII 20 - 21'!$B$17:$AT$54,30,0)) -> #N/A | AF6: =IF($B6="","",VLOOKUP($B6,'HKII 20 - 21'!$B$17:$AT$54,31,0)) -> #N/A | AG6: =IF($B6="","",VLOOKUP($B6,'HKII 20 - 21'!$B$17:$AT$54,32,0)) -> #N/A | AH6: =IF($D6="","",((SUM($AE6:$AF6))-AG6)*0.2) -> #N/A | AI6: =IF($B6="","",VLOOKUP($B6,'HKII 20 - 21'!$B$17:$AT$54,34,0)) -> #N/A | AJ6: =IF($B6="","",VLOOKUP($B6,'HKII 20 - 21'!$B$17:$AT$54,35,0)) -> #N/A | AK6: =IF($D6="","",(SUM($AI6:$AJ6))*0.2) -> #N/A | AL6: =IF($B6="","",VLOOKUP($B6,'HKII 20 - 21'!$B$17:$AT$54,37,0)) -> #N/A | AM6: =IF($B6="","",VLOOKUP($B6,'HKII 20 - 21'!$B$17:$AT$54,38,0)) -> #N/A | AN6: =IF($D6="","",(SUM(AL6:AM6))*0.4) -> #N/A | AO6: =IF($B6="","",VLOOKUP($B6,'HKII 20 - 21'!$B$17:$AT$54,40,0)) -> #N/A | AP6: =IF($B6="","",VLOOKUP($B6,'HKII 20 - 21'!$B$17:$AT$54,41,0)) -> #N/A | AQ6: =IF(D6="","",SUM(AO6:AP6)*0.4) -> #N/A | AR6: =IF($B6="","",VLOOKUP($B6,'HKII 20 - 21'!$B$17:$AT$54,43,0)) -> #N/A | AS6: =IF($B6="","",VLOOKUP($B6,'HKII 20 - 21'!$B$17:$AT$54,44,0)) -> #N/A | AT6: =IF(D6="","",ROUND(M6+R6+V6+Z6+AD6+AH6+AK6+AN6+AQ6+SUM(AR6:AS6),1)) -> #N/A
A7: =IF(D7="","",SUBTOTAL(3,$D$5:D7)) -> 3 | B7: 01001006 | C7: Ban Giám hiệu | D7: Nguyễn Văn Dũng | E7: =IF($B7="","",VLOOKUP($B7,'HKII 20 - 21'!$B$17:$AT$54,4,0)) -> #N/A | F7: =IF($B7="","",VLOOKUP($B7,'HKII 20 - 21'!$B$17:$AT$54,5,0)) -> #N/A | G7: =IF($B7="","",VLOOKUP($B7,'HKII 20 - 21'!$B$17:$AT$54,6,0)) -> #N/A | H7: =IF($B7="","",VLOOKUP($B7,'HKII 20 - 21'!$B$17:$AT$54,7,0)) -> #N/A | I7: =IF($B7="","",VLOOKUP($B7,'HKII 20 - 21'!$B$17:$AT$54,8,0)) -> #N/A | J7: =IF($B7="","",VLOOKUP($B7,'HKII 20 - 21'!$B$17:$AT$54,9,0)) -> #N/A | K7: =IF($B7="","",VLOOKUP($B7,'HKII 20 - 21'!$B$17:$AT$54,10,0)) -> #N/A | L7: =IF($B7="","",VLOOKUP($B7,'HKII 20 - 21'!$B$17:$AT$54,11,0)) -> #N/A | M7: =IF($D7="","",($E7+$F7*1.5+$G7*0.25+$H7*0.5+$I7*2+$J7*2.5+$K7*0.5+$L7*1.5)) -> #N/A | N7: =IF($B7="","",VLOOKUP($B7,'HKII 20 - 21'!$B$17:$AT$54,13,0)) -> #N/A | O7: =IF($B7="","",VLOOKUP($B7,'HKII 20 - 21'!$B$17:$AT$54,14,0)) -> #N/A | P7: =IF($B7="","",VLOOKUP($B7,'HKII 20 - 21'!$B$17:$AT$54,15,0)) -> #N/A | Q7: =IF($B7="","",VLOOKUP($B7,'HKII 20 - 21'!$B$17:$AT$54,16,0)) -> #N/A | R7: =IF($D7="","",SUM($N7:$Q7)) -> #N/A | S7: =IF($B7="","",VLOOKUP($B7,'HKII 20 - 21'!$B$17:$AT$54,18,0)) -> #N/A | T7: =IF($B7="","",VLOOKUP($B7,'HKII 20 - 21'!$B$17:$AT$54,19,0)) -> #N/A | U7: =IF($B7="","",VLOOKUP($B7,'HKII 20 - 21'!$B$17:$AT$54,20,0)) -> #N/A | V7: =IF($D7="","",((SUM($S7:$T7))-U7)*0.1) -> #N/A | W7: =IF($B7="","",VLOOKUP($B7,'HKII 20 - 21'!$B$17:$AT$54,22,0)) -> #N/A | X7: =IF($B7="","",VLOOKUP($B7,'HKII 20 - 21'!$B$17:$AT$54,23,0)) -> #N/A | Y7: =IF($B7="","",VLOOKUP($B7,'HKII 20 - 21'!$B$17:$AT$54,24,0)) -> #N/A | Z7: =IF($D7="","",((SUM($W7:$X7))-Y7)*0.2) -> #N/A | AA7: =IF($B7="","",VLOOKUP($B7,'HKII 20 - 21'!$B$17:$AT$54,26,0)) -> #N/A | AB7: =IF($B7="","",VLOOKUP($B7,'HKII 20 - 21'!$B$17:$AT$54,27,0)) -> #N/A | AC7: =IF($B7="","",VLOOKUP($B7,'HKII 20 - 21'!$B$17:$AT$54,28,0)) -> #N/A | AD7: =IF($D7="","",((SUM($AA7:$AB7))-AC7)*0.1) -> #N/A | AE7: =IF($B7="","",VLOOKUP($B7,'HKII 20 - 21'!$B$17:$AT$54,30,0)) -> #N/A | AF7: =IF($B7="","",VLOOKUP($B7,'HKII 20 - 21'!$B$17:$AT$54,31,0)) -> #N/A | AG7: =IF($B7="","",VLOOKUP($B7,'HKII 20 - 21'!$B$17:$AT$54,32,0)) -> #N/A | AH7: =IF($D7="","",((SUM($AE7:$AF7))-AG7)*0.2) -> #N/A | AI7: =IF($B7="","",VLOOKUP($B7,'HKII 20 - 21'!$B$17:$AT$54,34,0)) -> #N/A | AJ7: =IF($B7="","",VLOOKUP($B7,'HKII 20 - 21'!$B$17:$AT$54,35,0)) -> #N/A | AK7: =IF($D7="","",(SUM($AI7:$AJ7))*0.2) -> #N/A | AL7: =IF($B7="","",VLOOKUP($B7,'HKII 20 - 21'!$B$17:$AT$54,37,0)) -> #N/A | AM7: =IF($B7="","",VLOOKUP($B7,'HKII 20 - 21'!$B$17:$AT$54,38,0)) -> #N/A | AN7: =IF($D7="","",(SUM(AL7:AM7))*0.4) -> #N/A | AO7: =IF($B7="","",VLOOKUP($B7,'HKII 20 - 21'!$B$17:$AT$54,40,0)) -> #N/A | AP7: =IF($B7="","",VLOOKUP($B7,'HKII 20 - 21'!$B$17:$AT$54,41,0)) -> #N/A | AQ7: =IF(D7="","",SUM(AO7:AP7)*0.4) -> #N/A | AR7: =IF($B7="","",VLOOKUP($B7,'HKII 20 - 21'!$B$17:$AT$54,43,0)) -> #N/A | AS7: =IF($B7="","",VLOOKUP($B7,'HKII 20 - 21'!$B$17:$AT$54,44,0)) -> #N/A | AT7: =IF(D7="","",ROUND(M7+R7+V7+Z7+AD7+AH7+AK7+AN7+AQ7+SUM(AR7:AS7),1)) -> #N/A
A8: =IF(D8="","",SUBTOTAL(3,$D$5:D8)) -> 4 | B8: 01001003 | C8: Ban Giám hiệu | D8: Phạm Hữu Lộc | E8: =IF($B8="","",VLOOKUP($B8,'HKII 20 - 21'!$B$17:$AT$54,4,0)) -> #N/A | F8: =IF($B8="","",VLOOKUP($B8,'HKII 20 - 21'!$B$17:$AT$54,5,0)) -> #N/A | G8: =IF($B8="","",VLOOKUP($B8,'HKII 20 - 21'!$B$17:$AT$54,6,0)) -> #N/A | H8: =IF($B8="","",VLOOKUP($B8,'HKII 20 - 21'!$B$17:$AT$54,7,0)) -> #N/A | I8: =IF($B8="","",VLOOKUP($B8,'HKII 20 - 21'!$B$17:$AT$54,8,0)) -> #N/A | J8: =IF($B8="","",VLOOKUP($B8,'HKII 20 - 21'!$B$17:$AT$54,9,0)) -> #N/A | K8: =IF($B8="","",VLOOKUP($B8,'HKII 20 - 21'!$B$17:$AT$54,10,0)) -> #N/A | L8: =IF($B8="","",VLOOKUP($B8,'HKII 20 - 21'!$B$17:$AT$54,11,0)) -> #N/A | M8: =IF($D8="","",($E8+$F8*1.5+$G8*0.25+$H8*0.5+$I8*2+$J8*2.5+$K8*0.5+$L8*1.5)) -> #N/A | N8: =IF($B8="","",VLOOKUP($B8,'HKII 20 - 21'!$B$17:$AT$54,13,0)) -> #N/A | O8: =IF($B8="","",VLOOKUP($B8,'HKII 20 - 21'!$B$17:$AT$54,14,0)) -> #N/A | P8: =IF($B8="","",VLOOKUP($B8,'HKII 20 - 21'!$B$17:$AT$54,15,0)) -> #N/A | Q8: =IF($B8="","",VLOOKUP($B8,'HKII 20 - 21'!$B$17:$AT$54,16,0)) -> #N/A | R8: =IF($D8="","",SUM($N8:$Q8)) -> #N/A | S8: =IF($B8="","",VLOOKUP($B8,'HKII 20 - 21'!$B$17:$AT$54,18,0)) -> #N/A | T8: =IF($B8="","",VLOOKUP($B8,'HKII 20 - 21'!$B$17:$AT$54,19,0)) -> #N/A | U8: =IF($B8="","",VLOOKUP($B8,'HKII 20 - 21'!$B$17:$AT$54,20,0)) -> #N/A | V8: =IF($D8="","",((SUM($S8:$T8))-U8)*0.1) -> #N/A | W8: =IF($B8="","",VLOOKUP($B8,'HKII 20 - 21'!$B$17:$AT$54,22,0)) -> #N/A | X8: =IF($B8="","",VLOOKUP($B8,'HKII 20 - 21'!$B$17:$AT$54,23,0)) -> #N/A | Y8: =IF($B8="","",VLOOKUP($B8,'HKII 20 - 21'!$B$17:$AT$54,24,0)) -> #N/A | Z8: =IF($D8="","",((SUM($W8:$X8))-Y8)*0.2) -> #N/A | AA8: =IF($B8="","",VLOOKUP($B8,'HKII 20 - 21'!$B$17:$AT$54,26,0)) -> #N/A | AB8: =IF($B8="","",VLOOKUP($B8,'HKII 20 - 21'!$B$17:$AT$54,27,0)) -> #N/A | AC8: =IF($B8="","",VLOOKUP($B8,'HKII 20 - 21'!$B$17:$AT$54,28,0)) -> #N/A | AD8: =IF($D8="","",((SUM($AA8:$AB8))-AC8)*0.1) -> #N/A | AE8: =IF($B8="","",VLOOKUP($B8,'HKII 20 - 21'!$B$17:$AT$54,30,0)) -> #N/A | AF8: =IF($B8="","",VLOOKUP($B8,'HKII 20 - 21'!$B$17:$AT$54,31,0)) -> #N/A | AG8: =IF($B8="","",VLOOKUP($B8,'HKII 20 - 21'!$B$17:$AT$54,32,0)) -> #N/A | AH8: =IF($D8="","",((SUM($AE8:$AF8))-AG8)*0.2) -> #N/A | AI8: =IF($B8="","",VLOOKUP($B8,'HKII 20 - 21'!$B$17:$AT$54,34,0)) -> #N/A | AJ8: =IF($B8="","",VLOOKUP($B8,'HKII 20 - 21'!$B$17:$AT$54,35,0)) -> #N/A | AK8: =IF($D8="","",(SUM($AI8:$AJ8))*0.2) -> #N/A | AL8: =IF($B8="","",VLOOKUP($B8,'HKII 20 - 21'!$B$17:$AT$54,37,0)) -> #N/A | AM8: =IF($B8="","",VLOOKUP($B8,'HKII 20 - 21'!$B$17:$AT$54,38,0)) -> #N/A | AN8: =IF($D8="","",(SUM(AL8:AM8))*0.4) -> #N/A | AO8: =IF($B8="","",VLOOKUP($B8,'HKII 20 - 21'!$B$17:$AT$54,40,0)) -> #N/A | AP8: =IF($B8="","",VLOOKUP($B8,'HKII 20 - 21'!$B$17:$AT$54,41,0)) -> #N/A | AQ8: =IF(D8="","",SUM(AO8:AP8)*0.4) -> #N/A | AR8: =IF($B8="","",VLOOKUP($B8,'HKII 20 - 21'!$B$17:$AT$54,43,0)) -> #N/A | AS8: =IF($B8="","",VLOOKUP($B8,'HKII 20 - 21'!$B$17:$AT$54,44,0)) -> #N/A | AT8: =IF(D8="","",ROUND(M8+R8+V8+Z8+AD8+AH8+AK8+AN8+AQ8+SUM(AR8:AS8),1)) -> #N/A
A9: =IF(D9="","",SUBTOTAL(3,$D$5:D9)) -> 5 | B9: 01012023 | C9: Khoa CN Cơ khí | D9: Bùi Anh Tuấn | E9: =IF($B9="","",VLOOKUP($B9,'HKII 20 - 21'!$B$17:$AT$54,4,0)) -> #N/A | F9: =IF($B9="","",VLOOKUP($B9,'HKII 20 - 21'!$B$17:$AT$54,5,0)) -> #N/A | G9: =IF($B9="","",VLOOKUP($B9,'HKII 20 - 21'!$B$17:$AT$54,6,0)) -> #N/A | H9: =IF($B9="","",VLOOKUP($B9,'HKII 20 - 21'!$B$17:$AT$54,7,0)) -> #N/A | I9: =IF($B9="","",VLOOKUP($B9,'HKII 20 - 21'!$B$17:$AT$54,8,0)) -> #N/A | J9: =IF($B9="","",VLOOKUP($B9,'HKII 20 - 21'!$B$17:$AT$54,9,0)) -> #N/A | K9: =IF($B9="","",VLOOKUP($B9,'HKII 20 - 21'!$B$17:$AT$54,10,0)) -> #N/A | L9: =IF($B9="","",VLOOKUP($B9,'HKII 20 - 21'!$B$17:$AT$54,11,0)) -> #N/A | M9: =IF($D9="","",($E9+$F9*1.5+$G9*0.25+$H9*0.5+$I9*2+$J9*2.5+$K9*0.5+$L9*1.5)) -> #N/A | N9: =IF($B9="","",VLOOKUP($B9,'HKII 20 - 21'!$B$17:$AT$54,13,0)) -> #N/A | O9: =IF($B9="","",VLOOKUP($B9,'HKII 20 - 21'!$B$17:$AT$54,14,0)) -> #N/A | P9: =IF($B9="","",VLOOKUP($B9,'HKII 20 - 21'!$B$17:$AT$54,15,0)) -> #N/A | Q9: =IF($B9="","",VLOOKUP($B9,'HKII 20 - 21'!$B$17:$AT$54,16,0)) -> #N/A | R9: =IF($D9="","",SUM($N9:$Q9)) -> #N/A | S9: =IF($B9="","",VLOOKUP($B9,'HKII 20 - 21'!$B$17:$AT$54,18,0)) -> #N/A | T9: =IF($B9="","",VLOOKUP($B9,'HKII 20 - 21'!$B$17:$AT$54,19,0)) -> #N/A | U9: =IF($B9="","",VLOOKUP($B9,'HKII 20 - 21'!$B$17:$AT$54,20,0)) -> #N/A | V9: =IF($D9="","",((SUM($S9:$T9))-U9)*0.1) -> #N/A | W9: =IF($B9="","",VLOOKUP($B9,'HKII 20 - 21'!$B$17:$AT$54,22,0)) -> #N/A | X9: =IF($B9="","",VLOOKUP($B9,'HKII 20 - 21'!$B$17:$AT$54,23,0)) -> #N/A | Y9: =IF($B9="","",VLOOKUP($B9,'HKII 20 - 21'!$B$17:$AT$54,24,0)) -> #N/A | Z9: =IF($D9="","",((SUM($W9:$X9))-Y9)*0.2) -> #N/A | AA9: =IF($B9="","",VLOOKUP($B9,'HKII 20 - 21'!$B$17:$AT$54,26,0)) -> #N/A | AB9: =IF($B9="","",VLOOKUP($B9,'HKII 20 - 21'!$B$17:$AT$54,27,0)) -> #N/A | AC9: =IF($B9="","",VLOOKUP($B9,'HKII 20 - 21'!$B$17:$AT$54,28,0)) -> #N/A | AD9: =IF($D9="","",((SUM($AA9:$AB9))-AC9)*0.1) -> #N/A | AE9: =IF($B9="","",VLOOKUP($B9,'HKII 20 - 21'!$B$17:$AT$54,30,0)) -> #N/A | AF9: =IF($B9="","",VLOOKUP($B9,'HKII 20 - 21'!$B$17:$AT$54,31,0)) -> #N/A | AG9: =IF($B9="","",VLOOKUP($B9,'HKII 20 - 21'!$B$17:$AT$54,32,0)) -> #N/A | AH9: =IF($D9="","",((SUM($AE9:$AF9))-AG9)*0.2) -> #N/A | AI9: =IF($B9="","",VLOOKUP($B9,'HKII 20 - 21'!$B$17:$AT$54,34,0)) -> #N/A | AJ9: =IF($B9="","",VLOOKUP($B9,'HKII 20 - 21'!$B$17:$AT$54,35,0)) -> #N/A | AK9: =IF($D9="","",(SUM($AI9:$AJ9))*0.2) -> #N/A | AL9: =IF($B9="","",VLOOKUP($B9,'HKII 20 - 21'!$B$17:$AT$54,37,0)) -> #N/A | AM9: =IF($B9="","",VLOOKUP($B9,'HKII 20 - 21'!$B$17:$AT$54,38,0)) -> #N/A | AN9: =IF($D9="","",(SUM(AL9:AM9))*0.4) -> #N/A | AO9: =IF($B9="","",VLOOKUP($B9,'HKII 20 - 21'!$B$17:$AT$54,40,0)) -> #N/A | AP9: =IF($B9="","",VLOOKUP($B9,'HKII 20 - 21'!$B$17:$AT$54,41,0)) -> #N/A | AQ9: =IF(D9="","",SUM(AO9:AP9)*0.4) -> #N/A | AR9: =IF($B9="","",VLOOKUP($B9,'HKII 20 - 21'!$B$17:$AT$54,43,0)) -> #N/A | AS9: =IF($B9="","",VLOOKUP($B9,'HKII 20 - 21'!$B$17:$AT$54,44,0)) -> #N/A | AT9: =IF(D9="","",ROUND(M9+R9+V9+Z9+AD9+AH9+AK9+AN9+AQ9+SUM(AR9:AS9),1)) -> #N/A
A10: =IF(D10="","",SUBTOTAL(3,$D$5:D10)) -> 6 | B10: 01012003 | C10: Khoa CN Cơ khí | D10: Chung Trần Thế Vinh | E10: =IF($B10="","",VLOOKUP($B10,'HKII 20 - 21'!$B$17:$AT$54,4,0)) -> #N/A | F10: =IF($B10="","",VLOOKUP($B10,'HKII 20 - 21'!$B$17:$AT$54,5,0)) -> #N/A | G10: =IF($B10="","",VLOOKUP($B10,'HKII 20 - 21'!$B$17:$AT$54,6,0)) -> #N/A | H10: =IF($B10="","",VLOOKUP($B10,'HKII 20 - 21'!$B$17:$AT$54,7,0)) -> #N/A | I10: =IF($B10="","",VLOOKUP($B10,'HKII 20 - 21'!$B$17:$AT$54,8,0)) -> #N/A | J10: =IF($B10="","",VLOOKUP($B10,'HKII 20 - 21'!$B$17:$AT$54,9,0)) -> #N/A | K10: =IF($B10="","",VLOOKUP($B10,'HKII 20 - 21'!$B$17:$AT$54,10,0)) -> #N/A | L10: =IF($B10="","",VLOOKUP($B10,'HKII 20 - 21'!$B$17:$AT$54,11,0)) -> #N/A | M10: =IF($D10="","",($E10+$F10*1.5+$G10*0.25+$H10*0.5+$I10*2+$J10*2.5+$K10*0.5+$L10*1.5)) -> #N/A | N10: =IF($B10="","",VLOOKUP($B10,'HKII 20 - 21'!$B$17:$AT$54,13,0)) -> #N/A | O10: =IF($B10="","",VLOOKUP($B10,'HKII 20 - 21'!$B$17:$AT$54,14,0)) -> #N/A | P10: =IF($B10="","",VLOOKUP($B10,'HKII 20 - 21'!$B$17:$AT$54,15,0)) -> #N/A | Q10: =IF($B10="","",VLOOKUP($B10,'HKII 20 - 21'!$B$17:$AT$54,16,0)) -> #N/A | R10: =IF($D10="","",SUM($N10:$Q10)) -> #N/A | S10: =IF($B10="","",VLOOKUP($B10,'HKII 20 - 21'!$B$17:$AT$54,18,0)) -> #N/A | T10: =IF($B10="","",VLOOKUP($B10,'HKII 20 - 21'!$B$17:$AT$54,19,0)) -> #N/A | U10: =IF($B10="","",VLOOKUP($B10,'HKII 20 - 21'!$B$17:$AT$54,20,0)) -> #N/A | V10: =IF($D10="","",((SUM($S10:$T10))-U10)*0.1) -> #N/A | W10: =IF($B10="","",VLOOKUP($B10,'HKII 20 - 21'!$B$17:$AT$54,22,0)) -> #N/A | X10: =IF($B10="","",VLOOKUP($B10,'HKII 20 - 21'!$B$17:$AT$54,23,0)) -> #N/A | Y10: =IF($B10="","",VLOOKUP($B10,'HKII 20 - 21'!$B$17:$AT$54,24,0)) -> #N/A | Z10: =IF($D10="","",((SUM($W10:$X10))-Y10)*0.2) -> #N/A | AA10: =IF($B10="","",VLOOKUP($B10,'HKII 20 - 21'!$B$17:$AT$54,26,0)) -> #N/A | AB10: =IF($B10="","",VLOOKUP($B10,'HKII 20 - 21'!$B$17:$AT$54,27,0)) -> #N/A | AC10: =IF($B10="","",VLOOKUP($B10,'HKII 20 - 21'!$B$17:$AT$54,28,0)) -> #N/A | AD10: =IF($D10="","",((SUM($AA10:$AB10))-AC10)*0.1) -> #N/A | AE10: =IF($B10="","",VLOOKUP($B10,'HKII 20 - 21'!$B$17:$AT$54,30,0)) -> #N/A | AF10: =IF($B10="","",VLOOKUP($B10,'HKII 20 - 21'!$B$17:$AT$54,31,0)) -> #N/A | AG10: =IF($B10="","",VLOOKUP($B10,'HKII 20 - 21'!$B$17:$AT$54,32,0)) -> #N/A | AH10: =IF($D10="","",((SUM($AE10:$AF10))-AG10)*0.2) -> #N/A | AI10: =IF($B10="","",VLOOKUP($B10,'HKII 20 - 21'!$B$17:$AT$54,34,0)) -> #N/A | AJ10: =IF($B10="","",VLOOKUP($B10,'HKII 20 - 21'!$B$17:$AT$54,35,0)) -> #N/A | AK10: =IF($D10="","",(SUM($AI10:$AJ10))*0.2) -> #N/A | AL10: =IF($B10="","",VLOOKUP($B10,'HKII 20 - 21'!$B$17:$AT$54,37,0)) -> #N/A | AM10: =IF($B10="","",VLOOKUP($B10,'HKII 20 - 21'!$B$17:$AT$54,38,0)) -> #N/A | AN10: =IF($D10="","",(SUM(AL10:AM10))*0.4) -> #N/A | AO10: =IF($B10="","",VLOOKUP($B10,'HKII 20 - 21'!$B$17:$AT$54,40,0)) -> #N/A | AP10: =IF($B10="","",VLOOKUP($B10,'HKII 20 - 21'!$B$17:$AT$54,41,0)) -> #N/A | AQ10: =IF(D10="","",SUM(AO10:AP10)*0.4) -> #N/A | AR10: =IF($B10="","",VLOOKUP($B10,'HKII 20 - 21'!$B$17:$AT$54,43,0)) -> #N/A | AS10: =IF($B10="","",VLOOKUP($B10,'HKII 20 - 21'!$B$17:$AT$54,44,0)) -> #N/A | AT10: =IF(D10="","",ROUND(M10+R10+V10+Z10+AD10+AH10+AK10+AN10+AQ10+SUM(AR10:AS10),1)) -> #N/A
A11: =IF(D11="","",SUBTOTAL(3,$D$5:D11)) -> 7 | B11: 01012005 | C11: Khoa CN Cơ khí | D11: Đỗ Thị Phương Khanh | E11: =IF($B11="","",VLOOKUP($B11,'HKII 20 - 21'!$B$17:$AT$54,4,0)) -> #N/A | F11: =IF($B11="","",VLOOKUP($B11,'HKII 20 - 21'!$B$17:$AT$54,5,0)) -> #N/A | G11: =IF($B11="","",VLOOKUP($B11,'HKII 20 - 21'!$B$17:$AT$54,6,0)) -> #N/A | H11: =IF($B11="","",VLOOKUP($B11,'HKII 20 - 21'!$B$17:$AT$54,7,0)) -> #N/A | I11: =IF($B11="","",VLOOKUP($B11,'HKII 20 - 21'!$B$17:$AT$54,8,0)) -> #N/A | J11: =IF($B11="","",VLOOKUP($B11,'HKII 20 - 21'!$B$17:$AT$54,9,0)) -> #N/A | K11: =IF($B11="","",VLOOKUP($B11,'HKII 20 - 21'!$B$17:$AT$54,10,0)) -> #N/A | L11: =IF($B11="","",VLOOKUP($B11,'HKII 20 - 21'!$B$17:$AT$54,11,0)) -> #N/A | M11: =IF($D11="","",($E11+$F11*1.5+$G11*0.25+$H11*0.5+$I11*2+$J11*2.5+$K11*0.5+$L11*1.5)) -> #N/A | N11: =IF($B11="","",VLOOKUP($B11,'HKII 20 - 21'!$B$17:$AT$54,13,0)) -> #N/A | O11: =IF($B11="","",VLOOKUP($B11,'HKII 20 - 21'!$B$17:$AT$54,14,0)) -> #N/A | P11: =IF($B11="","",VLOOKUP($B11,'HKII 20 - 21'!$B$17:$AT$54,15,0)) -> #N/A | Q11: =IF($B11="","",VLOOKUP($B11,'HKII 20 - 21'!$B$17:$AT$54,16,0)) -> #N/A | R11: =IF($D11="","",SUM($N11:$Q11)) -> #N/A | S11: =IF($B11="","",VLOOKUP($B11,'HKII 20 - 21'!$B$17:$AT$54,18,0)) -> #N/A | T11: =IF($B11="","",VLOOKUP($B11,'HKII 20 - 21'!$B$17:$AT$54,19,0)) -> #N/A | U11: =IF($B11="","",VLOOKUP($B11,'HKII 20 - 21'!$B$17:$AT$54,20,0)) -> #N/A | V11: =IF($D11="","",((SUM($S11:$T11))-U11)*0.1) -> #N/A | W11: =IF($B11="","",VLOOKUP($B11,'HKII 20 - 21'!$B$17:$AT$54,22,0)) -> #N/A | X11: =IF($B11="","",VLOOKUP($B11,'HKII 20 - 21'!$B$17:$AT$54,23,0)) -> #N/A | Y11: =IF($B11="","",VLOOKUP($B11,'HKII 20 - 21'!$B$17:$AT$54,24,0)) -> #N/A | Z11: =IF($D11="","",((SUM($W11:$X11))-Y11)*0.2) -> #N/A | AA11: =IF($B11="","",VLOOKUP($B11,'HKII 20 - 21'!$B$17:$AT$54,26,0)) -> #N/A | AB11: =IF($B11="","",VLOOKUP($B11,'HKII 20 - 21'!$B$17:$AT$54,27,0)) -> #N/A | AC11: =IF($B11="","",VLOOKUP($B11,'HKII 20 - 21'!$B$17:$AT$54,28,0)) -> #N/A | AD11: =IF($D11="","",((SUM($AA11:$AB11))-AC11)*0.1) -> #N/A | AE11: =IF($B11="","",VLOOKUP($B11,'HKII 20 - 21'!$B$17:$AT$54,30,0)) -> #N/A | AF11: =IF($B11="","",VLOOKUP($B11,'HKII 20 - 21'!$B$17:$AT$54,31,0)) -> #N/A | AG11: =IF($B11="","",VLOOKUP($B11,'HKII 20 - 21'!$B$17:$AT$54,32,0)) -> #N/A | AH11: =IF($D11="","",((SUM($AE11:$AF11))-AG11)*0.2) -> #N/A | AI11: =IF($B11="","",VLOOKUP($B11,'HKII 20 - 21'!$B$17:$AT$54,34,0)) -> #N/A | AJ11: =IF($B11="","",VLOOKUP($B11,'HKII 20 - 21'!$B$17:$AT$54,35,0)) -> #N/A | AK11: =IF($D11="","",(SUM($AI11:$AJ11))*0.2) -> #N/A | AL11: =IF($B11="","",VLOOKUP($B11,'HKII 20 - 21'!$B$17:$AT$54,37,0)) -> #N/A | AM11: =IF($B11="","",VLOOKUP($B11,'HKII 20 - 21'!$B$17:$AT$54,38,0)) -> #N/A | AN11: =IF($D11="","",(SUM(AL11:AM11))*0.4) -> #N/A | AO11: =IF($B11="","",VLOOKUP($B11,'HKII 20 - 21'!$B$17:$AT$54,40,0)) -> #N/A | AP11: =IF($B11="","",VLOOKUP($B11,'HKII 20 - 21'!$B$17:$AT$54,41,0)) -> #N/A | AQ11: =IF(D11="","",SUM(AO11:AP11)*0.4) -> #N/A | AR11: =IF($B11="","",VLOOKUP($B11,'HKII 20 - 21'!$B$17:$AT$54,43,0)) -> #N/A | AS11: =IF($B11="","",VLOOKUP($B11,'HKII 20 - 21'!$B$17:$AT$54,44,0)) -> #N/A | AT11: =IF(D11="","",ROUND(M11+R11+V11+Z11+AD11+AH11+AK11+AN11+AQ11+SUM(AR11:AS11),1)) -> #N/A
A12: =IF(D12="","",SUBTOTAL(3,$D$5:D12)) -> 8 | B12: 01012014 | C12: Khoa CN Cơ khí | D12: Dương Minh Chung | E12: =IF($B12="","",VLOOKUP($B12,'HKII 20 - 21'!$B$17:$AT$54,4,0)) -> #N/A | F12: =IF($B12="","",VLOOKUP($B12,'HKII 20 - 21'!$B$17:$AT$54,5,0)) -> #N/A | G12: =IF($B12="","",VLOOKUP($B12,'HKII 20 - 21'!$B$17:$AT$54,6,0)) -> #N/A | H12: =IF($B12="","",VLOOKUP($B12,'HKII 20 - 21'!$B$17:$AT$54,7,0)) -> #N/A | I12: =IF($B12="","",VLOOKUP($B12,'HKII 20 - 21'!$B$17:$AT$54,8,0)) -> #N/A | J12: =IF($B12="","",VLOOKUP($B12,'HKII 20 - 21'!$B$17:$AT$54,9,0)) -> #N/A | K12: =IF($B12="","",VLOOKUP($B12,'HKII 20 - 21'!$B$17:$AT$54,10,0)) -> #N/A | L12: =IF($B12="","",VLOOKUP($B12,'HKII 20 - 21'!$B$17:$AT$54,11,0)) -> #N/A | M12: =IF($D12="","",($E12+$F12*1.5+$G12*0.25+$H12*0.5+$I12*2+$J12*2.5+$K12*0.5+$L12*1.5)) -> #N/A | N12: =IF($B12="","",VLOOKUP($B12,'HKII 20 - 21'!$B$17:$AT$54,13,0)) -> #N/A | O12: =IF($B12="","",VLOOKUP($B12,'HKII 20 - 21'!$B$17:$AT$54,14,0)) -> #N/A | P12: =IF($B12="","",VLOOKUP($B12,'HKII 20 - 21'!$B$17:$AT$54,15,0)) -> #N/A | Q12: =IF($B12="","",VLOOKUP($B12,'HKII 20 - 21'!$B$17:$AT$54,16,0)) -> #N/A | R12: =IF($D12="","",SUM($N12:$Q12)) -> #N/A | S12: =IF($B12="","",VLOOKUP($B12,'HKII 20 - 21'!$B$17:$AT$54,18,0)) -> #N/A | T12: =IF($B12="","",VLOOKUP($B12,'HKII 20 - 21'!$B$17:$AT$54,19,0)) -> #N/A | U12: =IF($B12="","",VLOOKUP($B12,'HKII 20 - 21'!$B$17:$AT$54,20,0)) -> #N/A | V12: =IF($D12="","",((SUM($S12:$T12))-U12)*0.1) -> #N/A | W12: =IF($B12="","",VLOOKUP($B12,'HKII 20 - 21'!$B$17:$AT$54,22,0)) -> #N/A | X12: =IF($B12="","",VLOOKUP($B12,'HKII 20 - 21'!$B$17:$AT$54,23,0)) -> #N/A | Y12: =IF($B12="","",VLOOKUP($B12,'HKII 20 - 21'!$B$17:$AT$54,24,0)) -> #N/A | Z12: =IF($D12="","",((SUM($W12:$X12))-Y12)*0.2) -> #N/A | AA12: =IF($B12="","",VLOOKUP($B12,'HKII 20 - 21'!$B$17:$AT$54,26,0)) -> #N/A | AB12: =IF($B12="","",VLOOKUP($B12,'HKII 20 - 21'!$B$17:$AT$54,27,0)) -> #N/A | AC12: =IF($B12="","",VLOOKUP($B12,'HKII 20 - 21'!$B$17:$AT$54,28,0)) -> #N/A | AD12: =IF($D12="","",((SUM($AA12:$AB12))-AC12)*0.1) -> #N/A | AE12: =IF($B12="","",VLOOKUP($B12,'HKII 20 - 21'!$B$17:$AT$54,30,0)) -> #N/A | AF12: =IF($B12="","",VLOOKUP($B12,'HKII 20 - 21'!$B$17:$AT$54,31,0)) -> #N/A | AG12: =IF($B12="","",VLOOKUP($B12,'HKII 20 - 21'!$B$17:$AT$54,32,0)) -> #N/A | AH12: =IF($D12="","",((SUM($AE12:$AF12))-AG12)*0.2) -> #N/A | AI12: =IF($B12="","",VLOOKUP($B12,'HKII 20 - 21'!$B$17:$AT$54,34,0)) -> #N/A | AJ12: =IF($B12="","",VLOOKUP($B12,'HKII 20 - 21'!$B$17:$AT$54,35,0)) -> #N/A | AK12: =IF($D12="","",(SUM($AI12:$AJ12))*0.2) -> #N/A | AL12: =IF($B12="","",VLOOKUP($B12,'HKII 20 - 21'!$B$17:$AT$54,37,0)) -> #N/A | AM12: =IF($B12="","",VLOOKUP($B12,'HKII 20 - 21'!$B$17:$AT$54,38,0)) -> #N/A | AN12: =IF($D12="","",(SUM(AL12:AM12))*0.4) -> #N/A | AO12: =IF($B12="","",VLOOKUP($B12,'HKII 20 - 21'!$B$17:$AT$54,40,0)) -> #N/A | AP12: =IF($B12="","",VLOOKUP($B12,'HKII 20 - 21'!$B$17:$AT$54,41,0)) -> #N/A | AQ12: =IF(D12="","",SUM(AO12:AP12)*0.4) -> #N/A | AR12: =IF($B12="","",VLOOKUP($B12,'HKII 20 - 21'!$B$17:$AT$54,43,0)) -> #N/A | AS12: =IF($B12="","",VLOOKUP($B12,'HKII 20 - 21'!$B$17:$AT$54,44,0)) -> #N/A | AT12: =IF(D12="","",ROUND(M12+R12+V12+Z12+AD12+AH12+AK12+AN12+AQ12+SUM(AR12:AS12),1)) -> #N/A
A13: =IF(D13="","",SUBTOTAL(3,$D$5:D13)) -> 9 | B13: 01012029 | C13: Khoa CN Cơ khí | D13: Dương Ngọc Hưng | E13: =IF($B13="","",VLOOKUP($B13,'HKII 20 - 21'!$B$17:$AT$54,4,0)) -> #N/A | F13: =IF($B13="","",VLOOKUP($B13,'HKII 20 - 21'!$B$17:$AT$54,5,0)) -> #N/A | G13: =IF($B13="","",VLOOKUP($B13,'HKII 20 - 21'!$B$17:$AT$54,6,0)) -> #N/A | H13: =IF($B13="","",VLOOKUP($B13,'HKII 20 - 21'!$B$17:$AT$54,7,0)) -> #N/A | I13: =IF($B13="","",VLOOKUP($B13,'HKII 20 - 21'!$B$17:$AT$54,8,0)) -> #N/A | J13: =IF($B13="","",VLOOKUP($B13,'HKII 20 - 21'!$B$17:$AT$54,9,0)) -> #N/A | K13: =IF($B13="","",VLOOKUP($B13,'HKII 20 - 21'!$B$17:$AT$54,10,0)) -> #N/A | L13: =IF($B13="","",VLOOKUP($B13,'HKII 20 - 21'!$B$17:$AT$54,11,0)) -> #N/A | M13: =IF($D13="","",($E13+$F13*1.5+$G13*0.25+$H13*0.5+$I13*2+$J13*2.5+$K13*0.5+$L13*1.5)) -> #N/A | N13: =IF($B13="","",VLOOKUP($B13,'HKII 20 - 21'!$B$17:$AT$54,13,0)) -> #N/A | O13: =IF($B13="","",VLOOKUP($B13,'HKII 20 - 21'!$B$17:$AT$54,14,0)) -> #N/A | P13: =IF($B13="","",VLOOKUP($B13,'HKII 20 - 21'!$B$17:$AT$54,15,0)) -> #N/A | Q13: =IF($B13="","",VLOOKUP($B13,'HKII 20 - 21'!$B$17:$AT$54,16,0)) -> #N/A | R13: =IF($D13="","",SUM($N13:$Q13)) -> #N/A | S13: =IF($B13="","",VLOOKUP($B13,'HKII 20 - 21'!$B$17:$AT$54,18,0)) -> #N/A | T13: =IF($B13="","",VLOOKUP($B13,'HKII 20 - 21'!$B$17:$AT$54,19,0)) -> #N/A | U13: =IF($B13="","",VLOOKUP($B13,'HKII 20 - 21'!$B$17:$AT$54,20,0)) -> #N/A | V13: =IF($D13="","",((SUM($S13:$T13))-U13)*0.1) -> #N/A | W13: =IF($B13="","",VLOOKUP($B13,'HKII 20 - 21'!$B$17:$AT$54,22,0)) -> #N/A | X13: =IF($B13="","",VLOOKUP($B13,'HKII 20 - 21'!$B$17:$AT$54,23,0)) -> #N/A | Y13: =IF($B13="","",VLOOKUP($B13,'HKII 20 - 21'!$B$17:$AT$54,24,0)) -> #N/A | Z13: =IF($D13="","",((SUM($W13:$X13))-Y13)*0.2) -> #N/A | AA13: =IF($B13="","",VLOOKUP($B13,'HKII 20 - 21'!$B$17:$AT$54,26,0)) -> #N/A | AB13: =IF($B13="","",VLOOKUP($B13,'HKII 20 - 21'!$B$17:$AT$54,27,0)) -> #N/A | AC13: =IF($B13="","",VLOOKUP($B13,'HKII 20 - 21'!$B$17:$AT$54,28,0)) -> #N/A | AD13: =IF($D13="","",((SUM($AA13:$AB13))-AC13)*0.1) -> #N/A | AE13: =IF($B13="","",VLOOKUP($B13,'HKII 20 - 21'!$B$17:$AT$54,30,0)) -> #N/A | AF13: =IF($B13="","",VLOOKUP($B13,'HKII 20 - 21'!$B$17:$AT$54,31,0)) -> #N/A | AG13: =IF($B13="","",VLOOKUP($B13,'HKII 20 - 21'!$B$17:$AT$54,32,0)) -> #N/A | AH13: =IF($D13="","",((SUM($AE13:$AF13))-AG13)*0.2) -> #N/A | AI13: =IF($B13="","",VLOOKUP($B13,'HKII 20 - 21'!$B$17:$AT$54,34,0)) -> #N/A | AJ13: =IF($B13="","",VLOOKUP($B13,'HKII 20 - 21'!$B$17:$AT$54,35,0)) -> #N/A | AK13: =IF($D13="","",(SUM($AI13:$AJ13))*0.2) -> #N/A | AL13: =IF($B13="","",VLOOKUP($B13,'HKII 20 - 21'!$B$17:$AT$54,37,0)) -> #N/A | AM13: =IF($B13="","",VLOOKUP($B13,'HKII 20 - 21'!$B$17:$AT$54,38,0)) -> #N/A | AN13: =IF($D13="","",(SUM(AL13:AM13))*0.4) -> #N/A | AO13: =IF($B13="","",VLOOKUP($B13,'HKII 20 - 21'!$B$17:$AT$54,40,0)) -> #N/A | AP13: =IF($B13="","",VLOOKUP($B13,'HKII 20 - 21'!$B$17:$AT$54,41,0)) -> #N/A | AQ13: =IF(D13="","",SUM(AO13:AP13)*0.4) -> #N/A | AR13: =IF($B13="","",VLOOKUP($B13,'HKII 20 - 21'!$B$17:$AT$54,43,0)) -> #N/A | AS13: =IF($B13="","",VLOOKUP($B13,'HKII 20 - 21'!$B$17:$AT$54,44,0)) -> #N/A | AT13: =IF(D13="","",ROUND(M13+R13+V13+Z13+AD13+AH13+AK13+AN13+AQ13+SUM(AR13:AS13),1)) -> #N/A
A14: =IF(D14="","",SUBTOTAL(3,$D$5:D14)) -> 10 | B14: 01012028 | C14: Khoa CN Cơ khí | D14: Dương Thị Hồng | E14: =IF($B14="","",VLOOKUP($B14,'HKII 20 - 21'!$B$17:$AT$54,4,0)) -> #N/A | F14: =IF($B14="","",VLOOKUP($B14,'HKII 20 - 21'!$B$17:$AT$54,5,0)) -> #N/A | G14: =IF($B14="","",VLOOKUP($B14,'HKII 20 - 21'!$B$17:$AT$54,6,0)) -> #N/A | H14: =IF($B14="","",VLOOKUP($B14,'HKII 20 - 21'!$B$17:$AT$54,7,0)) -> #N/A | I14: =IF($B14="","",VLOOKUP($B14,'HKII 20 - 21'!$B$17:$AT$54,8,0)) -> #N/A | J14: =IF($B14="","",VLOOKUP($B14,'HKII 20 - 21'!$B$17:$AT$54,9,0)) -> #N/A | K14: =IF($B14="","",VLOOKUP($B14,'HKII 20 - 21'!$B$17:$AT$54,10,0)) -> #N/A | L14: =IF($B14="","",VLOOKUP($B14,'HKII 20 - 21'!$B$17:$AT$54,11,0)) -> #N/A | M14: =IF($D14="","",($E14+$F14*1.5+$G14*0.25+$H14*0.5+$I14*2+$J14*2.5+$K14*0.5+$L14*1.5)) -> #N/A | N14: =IF($B14="","",VLOOKUP($B14,'HKII 20 - 21'!$B$17:$AT$54,13,0)) -> #N/A | O14: =IF($B14="","",VLOOKUP($B14,'HKII 20 - 21'!$B$17:$AT$54,14,0)) -> #N/A | P14: =IF($B14="","",VLOOKUP($B14,'HKII 20 - 21'!$B$17:$AT$54,15,0)) -> #N/A | Q14: =IF($B14="","",VLOOKUP($B14,'HKII 20 - 21'!$B$17:$AT$54,16,0)) -> #N/A | R14: =IF($D14="","",SUM($N14:$Q14)) -> #N/A | S14: =IF($B14="","",VLOOKUP($B14,'HKII 20 - 21'!$B$17:$AT$54,18,0)) -> #N/A | T14: =IF($B14="","",VLOOKUP($B14,'HKII 20 - 21'!$B$17:$AT$54,19,0)) -> #N/A | U14: =IF($B14="","",VLOOKUP($B14,'HKII 20 - 21'!$B$17:$AT$54,20,0)) -> #N/A | V14: =IF($D14="","",((SUM($S14:$T14))-U14)*0.1) -> #N/A | W14: =IF($B14="","",VLOOKUP($B14,'HKII 20 - 21'!$B$17:$AT$54,22,0)) -> #N/A | X14: =IF($B14="","",VLOOKUP($B14,'HKII 20 - 21'!$B$17:$AT$54,23,0)) -> #N/A | Y14: =IF($B14="","",VLOOKUP($B14,'HKII 20 - 21'!$B$17:$AT$54,24,0)) -> #N/A | Z14: =IF($D14="","",((SUM($W14:$X14))-Y14)*0.2) -> #N/A | AA14: =IF($B14="","",VLOOKUP($B14,'HKII 20 - 21'!$B$17:$AT$54,26,0)) -> #N/A | AB14: =IF($B14="","",VLOOKUP($B14,'HKII 20 - 21'!$B$17:$AT$54,27,0)) -> #N/A | AC14: =IF($B14="","",VLOOKUP($B14,'HKII 20 - 21'!$B$17:$AT$54,28,0)) -> #N/A | AD14: =IF($D14="","",((SUM($AA14:$AB14))-AC14)*0.1) -> #N/A | AE14: =IF($B14="","",VLOOKUP($B14,'HKII 20 - 21'!$B$17:$AT$54,30,0)) -> #N/A | AF14: =IF($B14="","",VLOOKUP($B14,'HKII 20 - 21'!$B$17:$AT$54,31,0)) -> #N/A | AG14: =IF($B14="","",VLOOKUP($B14,'HKII 20 - 21'!$B$17:$AT$54,32,0)) -> #N/A | AH14: =IF($D14="","",((SUM($AE14:$AF14))-AG14)*0.2) -> #N/A | AI14: =IF($B14="","",VLOOKUP($B14,'HKII 20 - 21'!$B$17:$AT$54,34,0)) -> #N/A | AJ14: =IF($B14="","",VLOOKUP($B14,'HKII 20 - 21'!$B$17:$AT$54,35,0)) -> #N/A | AK14: =IF($D14="","",(SUM($AI14:$AJ14))*0.2) -> #N/A | AL14: =IF($B14="","",VLOOKUP($B14,'HKII 20 - 21'!$B$17:$AT$54,37,0)) -> #N/A | AM14: =IF($B14="","",VLOOKUP($B14,'HKII 20 - 21'!$B$17:$AT$54,38,0)) -> #N/A | AN14: =IF($D14="","",(SUM(AL14:AM14))*0.4) -> #N/A | AO14: =IF($B14="","",VLOOKUP($B14,'HKII 20 - 21'!$B$17:$AT$54,40,0)) -> #N/A | AP14: =IF($B14="","",VLOOKUP($B14,'HKII 20 - 21'!$B$17:$AT$54,41,0)) -> #N/A | AQ14: =IF(D14="","",SUM(AO14:AP14)*0.4) -> #N/A | AR14: =IF($B14="","",VLOOKUP($B14,'HKII 20 - 21'!$B$17:$AT$54,43,0)) -> #N/A | AS14: =IF($B14="","",VLOOKUP($B14,'HKII 20 - 21'!$B$17:$AT$54,44,0)) -> #N/A | AT14: =IF(D14="","",ROUND(M14+R14+V14+Z14+AD14+AH14+AK14+AN14+AQ14+SUM(AR14:AS14),1)) -> #N/A
A15: =IF(D15="","",SUBTOTAL(3,$D$5:D15)) -> 11 | B15: 01006001 | C15: Khoa CN Cơ khí | D15: Hà Phước Tuấn | E15: =IF($B15="","",VLOOKUP($B15,'HKII 20 - 21'!$B$17:$AT$54,4,0)) -> #N/A | F15: =IF($B15="","",VLOOKUP($B15,'HKII 20 - 21'!$B$17:$AT$54,5,0)) -> #N/A | G15: =IF($B15="","",VLOOKUP($B15,'HKII 20 - 21'!$B$17:$AT$54,6,0)) -> #N/A | H15: =IF($B15="","",VLOOKUP($B15,'HKII 20 - 21'!$B$17:$AT$54,7,0)) -> #N/A | I15: =IF($B15="","",VLOOKUP($B15,'HKII 20 - 21'!$B$17:$AT$54,8,0)) -> #N/A | J15: =IF($B15="","",VLOOKUP($B15,'HKII 20 - 21'!$B$17:$AT$54,9,0)) -> #N/A | K15: =IF($B15="","",VLOOKUP($B15,'HKII 20 - 21'!$B$17:$AT$54,10,0)) -> #N/A | L15: =IF($B15="","",VLOOKUP($B15,'HKII 20 - 21'!$B$17:$AT$54,11,0)) -> #N/A | M15: =IF($D15="","",($E15+$F15*1.5+$G15*0.25+$H15*0.5+$I15*2+$J15*2.5+$K15*0.5+$L15*1.5)) -> #N/A | N15: =IF($B15="","",VLOOKUP($B15,'HKII 20 - 21'!$B$17:$AT$54,13,0)) -> #N/A | O15: =IF($B15="","",VLOOKUP($B15,'HKII 20 - 21'!$B$17:$AT$54,14,0)) -> #N/A | P15: =IF($B15="","",VLOOKUP($B15,'HKII 20 - 21'!$B$17:$AT$54,15,0)) -> #N/A | Q15: =IF($B15="","",VLOOKUP($B15,'HKII 20 - 21'!$B$17:$AT$54,16,0)) -> #N/A | R15: =IF($D15="","",SUM($N15:$Q15)) -> #N/A | S15: =IF($B15="","",VLOOKUP($B15,'HKII 20 - 21'!$B$17:$AT$54,18,0)) -> #N/A | T15: =IF($B15="","",VLOOKUP($B15,'HKII 20 - 21'!$B$17:$AT$54,19,0)) -> #N/A | U15: =IF($B15="","",VLOOKUP($B15,'HKII 20 - 21'!$B$17:$AT$54,20,0)) -> #N/A | V15: =IF($D15="","",((SUM($S15:$T15))-U15)*0.1) -> #N/A | W15: =IF($B15="","",VLOOKUP($B15,'HKII 20 - 21'!$B$17:$AT$54,22,0)) -> #N/A | X15: =IF($B15="","",VLOOKUP($B15,'HKII 20 - 21'!$B$17:$AT$54,23,0)) -> #N/A | Y15: =IF($B15="","",VLOOKUP($B15,'HKII 20 - 21'!$B$17:$AT$54,24,0)) -> #N/A | Z15: =IF($D15="","",((SUM($W15:$X15))-Y15)*0.2) -> #N/A | AA15: =IF($B15="","",VLOOKUP($B15,'HKII 20 - 21'!$B$17:$AT$54,26,0)) -> #N/A | AB15: =IF($B15="","",VLOOKUP($B15,'HKII 20 - 21'!$B$17:$AT$54,27,0)) -> #N/A | AC15: =IF($B15="","",VLOOKUP($B15,'HKII 20 - 21'!$B$17:$AT$54,28,0)) -> #N/A | AD15: =IF($D15="","",((SUM($AA15:$AB15))-AC15)*0.1) -> #N/A | AE15: =IF($B15="","",VLOOKUP($B15,'HKII 20 - 21'!$B$17:$AT$54,30,0)) -> #N/A | AF15: =IF($B15="","",VLOOKUP($B15,'HKII 20 - 21'!$B$17:$AT$54,31,0)) -> #N/A | AG15: =IF($B15="","",VLOOKUP($B15,'HKII 20 - 21'!$B$17:$AT$54,32,0)) -> #N/A | AH15: =IF($D15="","",((SUM($AE15:$AF15))-AG15)*0.2) -> #N/A | AI15: =IF($B15="","",VLOOKUP($B15,'HKII 20 - 21'!$B$17:$AT$54,34,0)) -> #N/A | AJ15: =IF($B15="","",VLOOKUP($B15,'HKII 20 - 21'!$B$17:$AT$54,35,0)) -> #N/A | AK15: =IF($D15="","",(SUM($AI15:$AJ15))*0.2) -> #N/A | AL15: =IF($B15="","",VLOOKUP($B15,'HKII 20 - 21'!$B$17:$AT$54,37,0)) -> #N/A | AM15: =IF($B15="","",VLOOKUP($B15,'HKII 20 - 21'!$B$17:$AT$54,38,0)) -> #N/A | AN15: =IF($D15="","",(SUM(AL15:AM15))*0.4) -> #N/A | AO15: =IF($B15="","",VLOOKUP($B15,'HKII 20 - 21'!$B$17:$AT$54,40,0)) -> #N/A | AP15: =IF($B15="","",VLOOKUP($B15,'HKII 20 - 21'!$B$17:$AT$54,41,0)) -> #N/A | AQ15: =IF(D15="","",SUM(AO15:AP15)*0.4) -> #N/A | AR15: =IF($B15="","",VLOOKUP($B15,'HKII 20 - 21'!$B$17:$AT$54,43,0)) -> #N/A | AS15: =IF($B15="","",VLOOKUP($B15,'HKII 20 - 21'!$B$17:$AT$54,44,0)) -> #N/A | AT15: =IF(D15="","",ROUND(M15+R15+V15+Z15+AD15+AH15+AK15+AN15+AQ15+SUM(AR15:AS15),1)) -> #N/A
A16: =IF(D16="","",SUBTOTAL(3,$D$5:D16)) -> 12 | B16: 01012030 | C16: Khoa CN Cơ khí | D16: Hồ Nhật Linh (TG) | E16: =IF($B16="","",VLOOKUP($B16,'HKII 20 - 21'!$B$17:$AT$54,4,0)) -> #N/A | F16: =IF($B16="","",VLOOKUP($B16,'HKII 20 - 21'!$B$17:$AT$54,5,0)) -> #N/A | G16: =IF($B16="","",VLOOKUP($B16,'HKII 20 - 21'!$B$17:$AT$54,6,0)) -> #N/A | H16: =IF($B16="","",VLOOKUP($B16,'HKII 20 - 21'!$B$17:$AT$54,7,0)) -> #N/A | I16: =IF($B16="","",VLOOKUP($B16,'HKII 20 - 21'!$B$17:$AT$54,8,0)) -> #N/A | J16: =IF($B16="","",VLOOKUP($B16,'HKII 20 - 21'!$B$17:$AT$54,9,0)) -> #N/A | K16: =IF($B16="","",VLOOKUP($B16,'HKII 20 - 21'!$B$17:$AT$54,10,0)) -> #N/A | L16: =IF($B16="","",VLOOKUP($B16,'HKII 20 - 21'!$B$17:$AT$54,11,0)) -> #N/A | M16: =IF($D16="","",($E16+$F16*1.5+$G16*0.25+$H16*0.5+$I16*2+$J16*2.5+$K16*0.5+$L16*1.5)) -> #N/A | N16: =IF($B16="","",VLOOKUP($B16,'HKII 20 - 21'!$B$17:$AT$54,13,0)) -> #N/A | O16: =IF($B16="","",VLOOKUP($B16,'HKII 20 - 21'!$B$17:$AT$54,14,0)) -> #N/A | P16: =IF($B16="","",VLOOKUP($B16,'HKII 20 - 21'!$B$17:$AT$54,15,0)) -> #N/A | Q16: =IF($B16="","",VLOOKUP($B16,'HKII 20 - 21'!$B$17:$AT$54,16,0)) -> #N/A | R16: =IF($D16="","",SUM($N16:$Q16)) -> #N/A | S16: =IF($B16="","",VLOOKUP($B16,'HKII 20 - 21'!$B$17:$AT$54,18,0)) -> #N/A | T16: =IF($B16="","",VLOOKUP($B16,'HKII 20 - 21'!$B$17:$AT$54,19,0)) -> #N/A | U16: =IF($B16="","",VLOOKUP($B16,'HKII 20 - 21'!$B$17:$AT$54,20,0)) -> #N/A | V16: =IF($D16="","",((SUM($S16:$T16))-U16)*0.1) -> #N/A | W16: =IF($B16="","",VLOOKUP($B16,'HKII 20 - 21'!$B$17:$AT$54,22,0)) -> #N/A | X16: =IF($B16="","",VLOOKUP($B16,'HKII 20 - 21'!$B$17:$AT$54,23,0)) -> #N/A | Y16: =IF($B16="","",VLOOKUP($B16,'HKII 20 - 21'!$B$17:$AT$54,24,0)) -> #N/A | Z16: =IF($D16="","",((SUM($W16:$X16))-Y16)*0.2) -> #N/A | AA16: =IF($B16="","",VLOOKUP($B16,'HKII 20 - 21'!$B$17:$AT$54,26,0)) -> #N/A | AB16: =IF($B16="","",VLOOKUP($B16,'HKII 20 - 21'!$B$17:$AT$54,27,0)) -> #N/A | AC16: =IF($B16="","",VLOOKUP($B16,'HKII 20 - 21'!$B$17:$AT$54,28,0)) -> #N/A | AD16: =IF($D16="","",((SUM($AA16:$AB16))-AC16)*0.1) -> #N/A | AE16: =IF($B16="","",VLOOKUP($B16,'HKII 20 - 21'!$B$17:$AT$54,30,0)) -> #N/A | AF16: =IF($B16="","",VLOOKUP($B16,'HKII 20 - 21'!$B$17:$AT$54,31,0)) -> #N/A | AG16: =IF($B16="","",VLOOKUP($B16,'HKII 20 - 21'!$B$17:$AT$54,32,0)) -> #N/A | AH16: =IF($D16="","",((SUM($AE16:$AF16))-AG16)*0.2) -> #N/A | AI16: =IF($B16="","",VLOOKUP($B16,'HKII 20 - 21'!$B$17:$AT$54,34,0)) -> #N/A | AJ16: =IF($B16="","",VLOOKUP($B16,'HKII 20 - 21'!$B$17:$AT$54,35,0)) -> #N/A | AK16: =IF($D16="","",(SUM($AI16:$AJ16))*0.2) -> #N/A | AL16: =IF($B16="","",VLOOKUP($B16,'HKII 20 - 21'!$B$17:$AT$54,37,0)) -> #N/A | AM16: =IF($B16="","",VLOOKUP($B16,'HKII 20 - 21'!$B$17:$AT$54,38,0)) -> #N/A | AN16: =IF($D16="","",(SUM(AL16:AM16))*0.4) -> #N/A | AO16: =IF($B16="","",VLOOKUP($B16,'HKII 20 - 21'!$B$17:$AT$54,40,0)) -> #N/A | AP16: =IF($B16="","",VLOOKUP($B16,'HKII 20 - 21'!$B$17:$AT$54,41,0)) -> #N/A | AQ16: =IF(D16="","",SUM(AO16:AP16)*0.4) -> #N/A | AR16: =IF($B16="","",VLOOKUP($B16,'HKII 20 - 21'!$B$17:$AT$54,43,0)) -> #N/A | AS16: =IF($B16="","",VLOOKUP($B16,'HKII 20 - 21'!$B$17:$AT$54,44,0)) -> #N/A | AT16: =IF(D16="","",ROUND(M16+R16+V16+Z16+AD16+AH16+AK16+AN16+AQ16+SUM(AR16:AS16),1)) -> #N/A
... A473: =IF(D473="","",SUBTOTAL(3,$D$5:D473)) -> 469 | B473: 01021002 | C473: TT Y tế | D473: Vũ Thị Thanh Nhàn | E473: =IF($B473="","",VLOOKUP($B473,'HKII 20 - 21'!$B$17:$AT$54,4,0)) -> #N/A | F473: =IF($B473="","",VLOOKUP($B473,'HKII 20 - 21'!$B$17:$AT$54,5,0)) -> #N/A | G473: =IF($B473="","",VLOOKUP($B473,'HKII 20 - 21'!$B$17:$AT$54,6,0)) -> #N/A | H473: =IF($B473="","",VLOOKUP($B473,'HKII 20 - 21'!$B$17:$AT$54,7,0)) -> #N/A | I473: =IF($B473="","",VLOOKUP($B473,'HKII 20 - 21'!$B$17:$AT$54,8,0)) -> #N/A | J473: =IF($B473="","",VLOOKUP($B473,'HKII 20 - 21'!$B$17:$AT$54,9,0)) -> #N/A | K473: =IF($B473="","",VLOOKUP($B473,'HKII 20 - 21'!$B$17:$AT$54,10,0)) -> #N/A | L473: =IF($B473="","",VLOOKUP($B473,'HKII 20 - 21'!$B$17:$AT$54,11,0)) -> #N/A | M473: =IF($D473="","",($E473+$F473*1.5+$G473*0.25+$H473*0.5+$I473*2+$J473*2.5+$K473*0.5+$L473*1.5)) -> #N/A | N473: =IF($B473="","",VLOOKUP($B473,'HKII 20 - 21'!$B$17:$AT$54,13,0)) -> #N/A | O473: =IF($B473="","",VLOOKUP($B473,'HKII 20 - 21'!$B$17:$AT$54,14,0)) -> #N/A | P473: =IF($B473="","",VLOOKUP($B473,'HKII 20 - 21'!$B$17:$AT$54,15,0)) -> #N/A | Q473: =IF($B473="","",VLOOKUP($B473,'HKII 20 - 21'!$B$17:$AT$54,16,0)) -> #N/A | R473: =IF($D473="","",SUM($N473:$Q473)) -> #N/A | S473: =IF($B473="","",VLOOKUP($B473,'HKII 20 - 21'!$B$17:$AT$54,18,0)) -> #N/A | T473: =IF($B473="","",VLOOKUP($B473,'HKII 20 - 21'!$B$17:$AT$54,19,0)) -> #N/A | U473: =IF($B473="","",VLOOKUP($B473,'HKII 20 - 21'!$B$17:$AT$54,20,0)) -> #N/A | V473: =IF($D473="","",((SUM($S473:$T473))-U473)*0.1) -> #N/A | W473: =IF($B473="","",VLOOKUP($B473,'HKII 20 - 21'!$B$17:$AT$54,22,0)) -> #N/A | X473: =IF($B473="","",VLOOKUP($B473,'HKII 20 - 21'!$B$17:$AT$54,23,0)) -> #N/A | Y473: =IF($B473="","",VLOOKUP($B473,'HKII 20 - 21'!$B$17:$AT$54,24,0)) -> #N/A | Z473: =IF($D473="","",((SUM($W473:$X473))-Y473)*0.2) -> #N/A | AA473: =IF($B473="","",VLOOKUP($B473,'HKII 20 - 21'!$B$17:$AT$54,26,0)) -> #N/A | AB473: =IF($B473="","",VLOOKUP($B473,'HKII 20 - 21'!$B$17:$AT$54,27,0)) -> #N/A | AC473: =IF($B473="","",VLOOKUP($B473,'HKII 20 - 21'!$B$17:$AT$54,28,0)) -> #N/A | AD473: =IF($D473="","",((SUM($AA473:$AB473))-AC473)*0.1) -> #N/A | AE473: =IF($B473="","",VLOOKUP($B473,'HKII 20 - 21'!$B$17:$AT$54,30,0)) -> #N/A | AF473: =IF($B473="","",VLOOKUP($B473,'HKII 20 - 21'!$B$17:$AT$54,31,0)) -> #N/A | AG473: =IF($B473="","",VLOOKUP($B473,'HKII 20 - 21'!$B$17:$AT$54,32,0)) -> #N/A | AH473: =IF($D473="","",((SUM($AE473:$AF473))-AG473)*0.2) -> #N/A | AI473: =IF($B473="","",VLOOKUP($B473,'HKII 20 - 21'!$B$17:$AT$54,34,0)) -> #N/A | AJ473: =IF($B473="","",VLOOKUP($B473,'HKII 20 - 21'!$B$17:$AT$54,35,0)) -> #N/A | AK473: =IF($D473="","",(SUM($AI473:$AJ473))*0.2) -> #N/A | AL473: =IF($B473="","",VLOOKUP($B473,'HKII 20 - 21'!$B$17:$AT$54,37,0)) -> #N/A | AM473: =IF($B473="","",VLOOKUP($B473,'HKII 20 - 21'!$B$17:$AT$54,38,0)) -> #N/A | AN473: =IF($D473="","",(SUM(AL473:AM473))*0.4) -> #N/A | AO473: =IF($B473="","",VLOOKUP($B473,'HKII 20 - 21'!$B$17:$AT$54,40,0)) -> #N/A | AP473: =IF($B473="","",VLOOKUP($B473,'HKII 20 - 21'!$B$17:$AT$54,41,0)) -> #N/A | AQ473: =IF(D473="","",SUM(AO473:AP473)*0.4) -> #N/A | AR473: =IF($B473="","",VLOOKUP($B473,'HKII 20 - 21'!$B$17:$AT$54,43,0)) -> #N/A | AS473: =IF($B473="","",VLOOKUP($B473,'HKII 20 - 21'!$B$17:$AT$54,44,0)) -> #N/A | AT473: =IF(D473="","",ROUND(M473+R473+V473+Z473+AD473+AH473+AK473+AN473+AQ473+SUM(AR473:AS473),1)) -> #N/A
A474: =IF(D474="","",SUBTOTAL(3,$D$5:D474)) | E474: =IF($B474="","",VLOOKUP($B474,'HKII 20 - 21'!$B$17:$AT$54,4,0)) | F474: =IF($B474="","",VLOOKUP($B474,'HKII 20 - 21'!$B$17:$AT$54,5,0)) | G474: =IF($B474="","",VLOOKUP($B474,'HKII 20 - 21'!$B$17:$AT$54,6,0)) | H474: =IF($B474="","",VLOOKUP($B474,'HKII 20 - 21'!$B$17:$AT$54,7,0)) | I474: =IF($B474="","",VLOOKUP($B474,'HKII 20 - 21'!$B$17:$AT$54,8,0)) | J474: =IF($B474="","",VLOOKUP($B474,'HKII 20 - 21'!$B$17:$AT$54,9,0)) | K474: =IF($B474="","",VLOOKUP($B474,'HKII 20 - 21'!$B$17:$AT$54,10,0)) | L474: =IF($B474="","",VLOOKUP($B474,'HKII 20 - 21'!$B$17:$AT$54,11,0))
A475: =IF(D475="","",SUBTOTAL(3,$D$5:D475)) | E475: =IF($B475="","",VLOOKUP($B475,'HKII 20 - 21'!$B$17:$AT$54,4,0)) | F475: =IF($B475="","",VLOOKUP($B475,'HKII 20 - 21'!$B$17:$AT$54,5,0)) | G475: =IF($B475="","",VLOOKUP($B475,'HKII 20 - 21'!$B$17:$AT$54,6,0)) | H475: =IF($B475="","",VLOOKUP($B475,'HKII 20 - 21'!$B$17:$AT$54,7,0)) | I475: =IF($B475="","",VLOOKUP($B475,'HKII 20 - 21'!$B$17:$AT$54,8,0)) | J475: =IF($B475="","",VLOOKUP($B475,'HKII 20 - 21'!$B$17:$AT$54,9,0)) | K475: =IF($B475="","",VLOOKUP($B475,'HKII 20 - 21'!$B$17:$AT$54,10,0)) | L475: =IF($B475="","",VLOOKUP($B475,'HKII 20 - 21'!$B$17:$AT$54,11,0))
A476: =IF(D476="","",SUBTOTAL(3,$D$5:D476)) | E476: =IF($B476="","",VLOOKUP($B476,'HKII 20 - 21'!$B$17:$AT$54,4,0)) | F476: =IF($B476="","",VLOOKUP($B476,'HKII 20 - 21'!$B$17:$AT$54,5,0)) | G476: =IF($B476="","",VLOOKUP($B476,'HKII 20 - 21'!$B$17:$AT$54,6,0)) | H476: =IF($B476="","",VLOOKUP($B476,'HKII 20 - 21'!$B$17:$AT$54,7,0)) | I476: =IF($B476="","",VLOOKUP($B476,'HKII 20 - 21'!$B$17:$AT$54,8,0)) | J476: =IF($B476="","",VLOOKUP($B476,'HKII 20 - 21'!$B$17:$AT$54,9,0)) | K476: =IF($B476="","",VLOOKUP($B476,'HKII 20 - 21'!$B$17:$AT$54,10,0)) | L476: =IF($B476="","",VLOOKUP($B476,'HKII 20 - 21'!$B$17:$AT$54,11,0))
A477: =IF(D477="","",SUBTOTAL(3,$D$5:D477)) | E477: =IF($B477="","",VLOOKUP($B477,'HKII 20 - 21'!$B$17:$AT$54,4,0)) | F477: =IF($B477="","",VLOOKUP($B477,'HKII 20 - 21'!$B$17:$AT$54,5,0)) | G477: =IF($B477="","",VLOOKUP($B477,'HKII 20 - 21'!$B$17:$AT$54,6,0)) | H477: =IF($B477="","",VLOOKUP($B477,'HKII 20 - 21'!$B$17:$AT$54,7,0)) | I477: =IF($B477="","",VLOOKUP($B477,'HKII 20 - 21'!$B$17:$AT$54,8,0)) | J477: =IF($B477="","",VLOOKUP($B477,'HKII 20 - 21'!$B$17:$AT$54,9,0)) | K477: =IF($B477="","",VLOOKUP($B477,'HKII 20 - 21'!$B$17:$AT$54,10,0)) | L477: =IF($B477="","",VLOOKUP($B477,'HKII 20 - 21'!$B$17:$AT$54,11,0))
A478: =IF(D478="","",SUBTOTAL(3,$D$5:D478)) | E478: =IF($B478="","",VLOOKUP($B478,'HKII 20 - 21'!$B$17:$AT$54,4,0)) | F478: =IF($B478="","",VLOOKUP($B478,'HKII 20 - 21'!$B$17:$AT$54,5,0)) | G478: =IF($B478="","",VLOOKUP($B478,'HKII 20 - 21'!$B$17:$AT$54,6,0)) | H478: =IF($B478="","",VLOOKUP($B478,'HKII 20 - 21'!$B$17:$AT$54,7,0)) | I478: =IF($B478="","",VLOOKUP($B478,'HKII 20 - 21'!$B$17:$AT$54,8,0)) | J478: =IF($B478="","",VLOOKUP($B478,'HKII 20 - 21'!$B$17:$AT$54,9,0)) | K478: =IF($B478="","",VLOOKUP($B478,'HKII 20 - 21'!$B$17:$AT$54,10,0)) | L478: =IF($B478="","",VLOOKUP($B478,'HKII 20 - 21'!$B$17:$AT$54,11,0))
A479: =IF(D479="","",SUBTOTAL(3,$D$5:D479)) | E479: =IF($B479="","",VLOOKUP($B479,'HKII 20 - 21'!$B$17:$AT$54,4,0)) | F479: =IF($B479="","",VLOOKUP($B479,'HKII 20 - 21'!$B$17:$AT$54,5,0)) | G479: =IF($B479="","",VLOOKUP($B479,'HKII 20 - 21'!$B$17:$AT$54,6,0)) | H479: =IF($B479="","",VLOOKUP($B479,'HKII 20 - 21'!$B$17:$AT$54,7,0)) | I479: =IF($B479="","",VLOOKUP($B479,'HKII 20 - 21'!$B$17:$AT$54,8,0)) | J479: =IF($B479="","",VLOOKUP($B479,'HKII 20 - 21'!$B$17:$AT$54,9,0)) | K479: =IF($B479="","",VLOOKUP($B479,'HKII 20 - 21'!$B$17:$AT$54,10,0)) | L479: =IF($B479="","",VLOOKUP($B479,'HKII 20 - 21'!$B$17:$AT$54,11,0))
A480: =IF(D480="","",SUBTOTAL(3,$D$5:D480)) | E480: =IF($B480="","",VLOOKUP($B480,'HKII 20 - 21'!$B$17:$AT$54,4,0)) | F480: =IF($B480="","",VLOOKUP($B480,'HKII 20 - 21'!$B$17:$AT$54,5,0)) | G480: =IF($B480="","",VLOOKUP($B480,'HKII 20 - 21'!$B$17:$AT$54,6,0)) | H480: =IF($B480="","",VLOOKUP($B480,'HKII 20 - 21'!$B$17:$AT$54,7,0)) | I480: =IF($B480="","",VLOOKUP($B480,'HKII 20 - 21'!$B$17:$AT$54,8,0)) | J480: =IF($B480="","",VLOOKUP($B480,'HKII 20 - 21'!$B$17:$AT$54,9,0)) | K480: =IF($B480="","",VLOOKUP($B480,'HKII 20 - 21'!$B$17:$AT$54,10,0)) | L480: =IF($B480="","",VLOOKUP($B480,'HKII 20 - 21'!$B$17:$AT$54,11,0))
A481: =IF(D481="","",SUBTOTAL(3,$D$5:D481)) | E481: =IF($B481="","",VLOOKUP($B481,'HKII 20 - 21'!$B$17:$AT$54,4,0)) | F481: =IF($B481="","",VLOOKUP($B481,'HKII 20 - 21'!$B$17:$AT$54,5,0)) | G481: =IF($B481="","",VLOOKUP($B481,'HKII 20 - 21'!$B$17:$AT$54,6,0)) | H481: =IF($B481="","",VLOOKUP($B481,'HKII 20 - 21'!$B$17:$AT$54,7,0)) | I481: =IF($B481="","",VLOOKUP($B481,'HKII 20 - 21'!$B$17:$AT$54,8,0)) | J481: =IF($B481="","",VLOOKUP($B481,'HKII 20 - 21'!$B$17:$AT$54,9,0)) | K481: =IF($B481="","",VLOOKUP($B481,'HKII 20 - 21'!$B$17:$AT$54,10,0)) | L481: =IF($B481="","",VLOOKUP($B481,'HKII 20 - 21'!$B$17:$AT$54,11,0))
A482: =IF(D482="","",SUBTOTAL(3,$D$5:D482)) | E482: =IF($B482="","",VLOOKUP($B482,'HKII 20 - 21'!$B$17:$AT$54,4,0)) | F482: =IF($B482="","",VLOOKUP($B482,'HKII 20 - 21'!$B$17:$AT$54,5,0)) | G482: =IF($B482="","",VLOOKUP($B482,'HKII 20 - 21'!$B$17:$AT$54,6,0)) | H482: =IF($B482="","",VLOOKUP($B482,'HKII 20 - 21'!$B$17:$AT$54,7,0)) | I482: =IF($B482="","",VLOOKUP($B482,'HKII 20 - 21'!$B$17:$AT$54,8,0)) | J482: =IF($B482="","",VLOOKUP($B482,'HKII 20 - 21'!$B$17:$AT$54,9,0)) | K482: =IF($B482="","",VLOOKUP($B482,'HKII 20 - 21'!$B$17:$AT$54,10,0)) | L482: =IF($B482="","",VLOOKUP($B482,'HKII 20 - 21'!$B$17:$AT$54,11,0))
A483: =IF(D483="","",SUBTOTAL(3,$D$5:D483)) | E483: =IF($B483="","",VLOOKUP($B483,'HKII 20 - 21'!$B$17:$AT$54,4,0)) | F483: =IF($B483="","",VLOOKUP($B483,'HKII 20 - 21'!$B$17:$AT$54,5,0)) | G483: =IF($B483="","",VLOOKUP($B483,'HKII 20 - 21'!$B$17:$AT$54,6,0)) | H483: =IF($B483="","",VLOOKUP($B483,'HKII 20 - 21'!$B$17:$AT$54,7,0)) | I483: =IF($B483="","",VLOOKUP($B483,'HKII 20 - 21'!$B$17:$AT$54,8,0)) | J483: =IF($B483="","",VLOOKUP($B483,'HKII 20 - 21'!$B$17:$AT$54,9,0)) | K483: =IF($B483="","",VLOOKUP($B483,'HKII 20 - 21'!$B$17:$AT$54,10,0)) | L483: =IF($B483="","",VLOOKUP($B483,'HKII 20 - 21'!$B$17:$AT$54,11,0))
A484: =IF(D484="","",SUBTOTAL(3,$D$5:D484)) | E484: =IF($B484="","",VLOOKUP($B484,'HKII 20 - 21'!$B$17:$AT$54,4,0)) | F484: =IF($B484="","",VLOOKUP($B484,'HKII 20 - 21'!$B$17:$AT$54,5,0)) | G484: =IF($B484="","",VLOOKUP($B484,'HKII 20 - 21'!$B$17:$AT$54,6,0)) | H484: =IF($B484="","",VLOOKUP($B484,'HKII 20 - 21'!$B$17:$AT$54,7,0)) | I484: =IF($B484="","",VLOOKUP($B484,'HKII 20 - 21'!$B$17:$AT$54,8,0)) | J484: =IF($B484="","",VLOOKUP($B484,'HKII 20 - 21'!$B$17:$AT$54,9,0)) | K484: =IF($B484="","",VLOOKUP($B484,'HKII 20 - 21'!$B$17:$AT$54,10,0)) | L484: =IF($B484="","",VLOOKUP($B484,'HKII 20 - 21'!$B$17:$AT$54,11,0))
A485: =IF(D485="","",SUBTOTAL(3,$D$5:D485)) | E485: =IF($B485="","",VLOOKUP($B485,'HKII 20 - 21'!$B$17:$AT$54,4,0)) | F485: =IF($B485="","",VLOOKUP($B485,'HKII 20 - 21'!$B$17:$AT$54,5,0)) | G485: =IF($B485="","",VLOOKUP($B485,'HKII 20 - 21'!$B$17:$AT$54,6,0)) | H485: =IF($B485="","",VLOOKUP($B485,'HKII 20 - 21'!$B$17:$AT$54,7,0)) | I485: =IF($B485="","",VLOOKUP($B485,'HKII 20 - 21'!$B$17:$AT$54,8,0)) | J485: =IF($B485="","",VLOOKUP($B485,'HKII 20 - 21'!$B$17:$AT$54,9,0)) | K485: =IF($B485="","",VLOOKUP($B485,'HKII 20 - 21'!$B$17:$AT$54,10,0)) | L485: =IF($B485="","",VLOOKUP($B485,'HKII 20 - 21'!$B$17:$AT$54,11,0))
... A500: =IF(D500="","",SUBTOTAL(3,$D$5:D500)) | E500: =IF($B500="","",VLOOKUP($B500,'HKII 20 - 21'!$B$17:$AT$54,4,0)) | F500: =IF($B500="","",VLOOKUP($B500,'HKII 20 - 21'!$B$17:$AT$54,5,0)) | G500: =IF($B500="","",VLOOKUP($B500,'HKII 20 - 21'!$B$17:$AT$54,6,0)) | H500: =IF($B500="","",VLOOKUP($B500,'HKII 20 - 21'!$B$17:$AT$54,7,0)) | I500: =IF($B500="","",VLOOKUP($B500,'HKII 20 - 21'!$B$17:$AT$54,8,0)) | J500: =IF($B500="","",VLOOKUP($B500,'HKII 20 - 21'!$B$17:$AT$54,9,0)) | K500: =IF($B500="","",VLOOKUP($B500,'HKII 20 - 21'!$B$17:$AT$54,10,0)) | L500: =IF($B500="","",VLOOKUP($B500,'HKII 20 - 21'!$B$17:$AT$54,11,0))
E501: =SUBTOTAL(9,E3:E500) -> #N/A | F501: =SUBTOTAL(9,F3:F500) -> #N/A | G501: =SUBTOTAL(9,G3:G500) -> #N/A | H501: =SUBTOTAL(9,H3:H500) -> #N/A | I501: =SUBTOTAL(9,I3:I500) -> #N/A | J501: =SUBTOTAL(9,J3:J500) -> #N/A | K501: =SUBTOTAL(9,K3:K500) -> #N/A | L501: =SUBTOTAL(9,L3:L500) -> #N/A | ... T501: =SUBTOTAL(9,T3:T500) -> #N/A | V501: =SUBTOTAL(9,V3:V500) -> #N/A | W501: =SUBTOTAL(9,W3:W500) -> #N/A | X501: =SUBTOTAL(9,X3:X500) -> #N/A | Z501: =SUBTOTAL(9,Z3:Z500) -> #N/A | AA501: =SUBTOTAL(9,AA3:AA500) -> #N/A | AB501: =SUBTOTAL(9,AB3:AB500) -> #N/A | AD501: =SUBTOTAL(9,AD3:AD500) -> #N/A | AE501: =SUBTOTAL(9,AE3:AE500) -> #N/A | AF501: =SUBTOTAL(9,AF3:AF500) -> #N/A | AH501: =SUBTOTAL(9,AH3:AH500) -> #N/A | AI501: =SUBTOTAL(9,AI3:AI500) -> #N/A | AJ501: =SUBTOTAL(9,AJ3:AJ500) -> #N/A | AK501: =SUBTOTAL(9,AK3:AK500) -> #N/A | AL501: =SUBTOTAL(9,AL3:AL500) -> #N/A | AM501: =SUBTOTAL(9,AM3:AM500) -> #N/A | AN501: =SUBTOTAL(9,AN3:AN500) -> #N/A | AO501: =SUBTOTAL(9,AO3:AO500) -> #N/A | ... AT501: =SUBTOTAL(9,AT3:AT500) -> #N/A
