Workbook

Sheet Mau 1
A1: TRƯỜNG CAO ĐẲNG LÝ TỰ TRỌNG | F1: CỘNG HÒA XÃ HỘI CHỦ NGHĨA VIỆT NAM
A2: THÀNH PHỐ HỒ CHÍ MINH | F2: Độc lập - Tự do - Hạnh phúc
A3: ĐƠN VỊ: KHOA KINH TẾ
H4: Mẫu 1
A5: Danh sách CB-GV-NV tham gia thực hiện bài viết sáng kiến, bài viết Hội thảo cấp trường, cấp đơn vị, giảng viên dạy giỏi, bài báo được đăng trên các tạp chí theo quy định, tham gia đề tài NCKH đã được nghiệm thu,... (Quy định số 1375/QyĐ-LTT-TĐ ngày 29/11/2021 của Trường)
A7: TT | B7: Họ tên | D7: Mã E-Office | E7: Điều kiện xếp loại thi đua A1 (Ghi rõ nội dung tiêu chuẩn: số Quyết định, thời gian, cơ quan ban hành,…) | F7: Điều kiện xếp loại thi đua A2 (Ghi rõ nội dung tiêu chuẩn: số Quyết định, thời gian, cơ quan ban hành,…) | G7: Điều kiện xếp loại thi đua A3 (Ghi rõ nội dung tiêu chuẩn: số Quyết định, thời gian, cơ quan ban hành,…) | H7: Ghi chú
A8: I. Viên chức
A9: 01 | B9: Nguyễn Trọng | C9: Nghĩa | D9: 01025001 | F9: - Bài viết đăng Kỷ yếu hội thảo cấp trường COSS 2021 - Bài viết sáng kiến được công nhận phạm vi ảnh hưởng cấp ngành (QĐ số 1783/QĐ-SGDĐT ngày 20/8/2021) | G9: -Bài viết sáng kiến được công nhận phạm vi ảnh hưởng cấp trường trong năm học 2020-2021 (QĐ số 358/QĐ-LTT-HĐSK ngày 08/4/2021) - Bài viết đăng kỷ yếu hội thảo cấp đơn vị tháng 3/2021 - Bài viết đăng kỷ yếu hội thảo cấp đơn vị tháng 7/2021
A10: 02 | B10: Hồ Gia | C10: Bảo | D10: 01025029 | E10: - Bài báo được duyệt đăng trên tạp chí Kinh tế và Dự báo số 27(781) Bài viết: “Các yếu tố ảnh hưởng đến quyết định lựa chọn dịch vụ vận chuyển hàng không trong du lịch: Nghiên cứu trường hợp nhân viên văn phòng tại TP. HCM” | F10: - Bài viết đăng Kỷ yếu hội thảo cấp trường COSS 2021 | G10: - Bài viết đăng kỷ yếu hội thảo cấp đơn vị tháng 7/2021
A11: 03 | B11: Trần Thị Ngọc | C11: Dung | D11: 01025016
A12: 04 | B12: Cao Xuân | C12: Giang | D12: 01025018 | G12: - Bài viết đăng kỷ yếu hội thảo cấp đơn vị tháng 3/2021 - Bài viết đăng kỷ yếu hội thảo cấp đơn vị tháng 7/2021
A13: 05 | B13: Nguyễn Hoàng Thanh | C13: Ngân | D13: 01025027
A14: 06 | B14: Phạm Quỳnh | C14: Như | D14: 01025004 | E14: - GV đạt giải Nhì trong Hội giảng Nhà giáo GDNN toàn quốc năm 2021 (bằng khen của Bộ LĐTBXH 2021) (QĐ số 1281/QĐ-LĐTBXH ngày 17/11/2021). | F14: - GV đạt giải Nhì trong Hội giảng cấp Thành phố - Bài viết đăng Kỷ yếu hội thảo cấp trường COSS 2021 | G14: - Bài viết đăng kỷ yếu hội thảo cấp đơn vị tháng 3/2021 - Bài viết đăng kỷ yếu hội thảo cấp đơn vị tháng 7/2021
A15: 07 | B15: Lê Thị Thúy | C15: Oanh | D15: 01025020 | G15: -Bài viết sáng kiến được công nhận phạm vi ảnh hưởng cấp trường trong năm học 2020-2021 (QĐ số 358/QĐ-LTT-HĐSK ngày 08/4/2021) - Bài viết đăng kỷ yếu hội thảo cấp đơn vị tháng 3/2021
A16: 08 | B16: Lê Thị Thu | C16: Thảo | D16: 01025008 | G16: - Bài viết đăng kỷ yếu hội thảo cấp đơn vị tháng 3/2021 - Bài viết đăng kỷ yếu hội thảo cấp đơn vị tháng 7/2021
A17: 09 | B17: Võ Thị Kim | C17: Thư | D17: 01025012 | F17: z | G17: -Bài viết sáng kiến được công nhận phạm vi ảnh hưởng cấp trường trong năm học 2020-2021 (QĐ số 358/QĐ-LTT-HĐSK ngày 08/4/2021) - GV đạt giải Nhất trong Hội thảo Nâng cao giảng dạy trực tuyến cấp Trường trong năm học 2020-2021 (QĐ số 1074/QĐ-LTT-ĐT ngày 12/10/2021). - GV đạt giải khuyến khích trong Hội giảng Thiết kế dạy học trực tuyến trong GDNN cấp Trường trong năm học 2020-2021 (QĐ số 1075/QĐ-LTT-ĐT ngày 12/10/2021). - Bài viết đăng kỷ yếu hội thảo cấp đơn vị tháng 3/2021 - Bài viết đăng kỷ yếu hội thảo cấp đơn vị tháng 7/2021
A18: 10 | B18: Lưu Thị | C18: Thúy | D18: 01025002 | G18: -Bài viết sáng kiến được công nhận phạm vi ảnh hưởng cấp trường trong năm học 2020-2021 (QĐ số 358/QĐ-LTT-HĐSK ngày 08/4/2021) - Bài viết đăng kỷ yếu hội thảo cấp đơn vị tháng 3/2021 - Bài viết đăng kỷ yếu hội thảo cấp đơn vị tháng 7/2021
A19: 11 | B19: Nguyễn Thị Minh | C19: Thùy | D19: 01003013 | F19: Bài viết sáng kiến được công nhận phạm vi ảnh hưởng cấp ngành (QĐ số 1783/QĐ-SGDĐT ngày 20/8/2021) | G19: -Bài viết sáng kiến được công nhận phạm vi ảnh hưởng cấp trường trong năm học 2020-2021 (QĐ số 358/QĐ-LTT-HĐSK ngày 08/4/2021) - Bài viết đăng kỷ yếu hội thảo cấp đơn vị tháng 7/2021
A20: 12 | B20: Nguyễn Mỹ | C20: Tiên | D20: 01025015 | F20: - Bài viết đăng Kỷ yếu hội thảo cấp trường COSS 2021 | G20: -Bài viết sáng kiến được công nhận phạm vi ảnh hưởng cấp trường trong năm học 2020-2021 (QĐ số 358/QĐ-LTT-HĐSK ngày 08/4/2021) - Bài viết đăng kỷ yếu hội thảo cấp đơn vị tháng 3/2021 - Bài viết đăng kỷ yếu hội thảo cấp đơn vị tháng 7/2021
A21: 13 | B21: Nguyễn Thị Thùy | C21: Tiên | D21: 01005010 | F21: - Bài viết đăng Kỷ yếu hội thảo cấp trường COSS 2021 | G21: - Bài viết đăng kỷ yếu hội thảo cấp đơn vị tháng 3/2021 - Bài viết đăng kỷ yếu hội thảo cấp đơn vị tháng 7/2021
A22: 14 | B22: Lữ Xuân | C22: Trang | D22: 01025009 | F22: - Bài viết sáng kiến được công nhận phạm vi ảnh hưởng cấp ngành (QĐ số 1783/QĐ-SGDĐT ngày 20/8/2021) - Bài viết đăng Kỷ yếu hội thảo cấp trường COSS 2021 | G22: -Bài viết sáng kiến được công nhận phạm vi ảnh hưởng cấp trường trong năm học 2020-2021 (QĐ số 358/QĐ-LTT-HĐSK ngày 08/4/2021) - GV đạt giải khuyến khích trong Hội giảng Thiết kế dạy học trực tuyến trong GDNN cấp Trường trong năm học 2020-2021 (QĐ số 1075/QĐ-LTT-ĐT ngày 12/10/2021). - Bài viết đăng kỷ yếu hội thảo cấp đơn vị tháng 3/2021 - Bài viết đăng kỷ yếu hội thảo cấp đơn vị tháng 7/2021
A23: 15 | B23: Bùi Ánh | C23: Tuyết | D23: 01025003 | F23: - Bài viết đăng Kỷ yếu hội thảo cấp trường COSS 2021 | G23: - Bài viết đăng kỷ yếu hội thảo cấp đơn vị tháng 7/2021
A24: II. Hợp đồng trường
A25: 01 | B25: - | C25: - | D25: -
A28: Ghi chú: Gửi kèm minh chứng về phòng Tổ chức - Hành chính - Tổng hợp.
F29: TPHCM, ngày 12 tháng 01 năm 2022
F30: TRƯỞNG ĐƠN VỊ
F34: Nguyễn Trọng Nghĩa

Sheet Mau 2
A1: TRƯỜNG CAO ĐẲNG LÝ TỰ TRỌNG THÀNH PHỐ HỒ CHÍ MINH ĐƠN VỊ: KHOA KINH TẾ | F1: CỘNG HÒA XÃ HỘI CHỦ NGHĨA VIỆT NAM Độc lập - Tự do - Hạnh phúc
G2: Mẫu 2
A3: BẢNG TỔNG HỢP CÔNG VIỆC ĐỘT XUẤT ĐÃ THỰC HIỆN THÁNG 09/2022 (Gửi file mềm ngày 25 hàng tháng)
A6: TT | B6: Nội dung công việc | C6: Số lượng người tham gia thực hiện | D6: Tên người tham gia thực hiện | E6: Thời gian thực hiện | F6: Kết quả thực hiện | G6: Ghi chú
A7: I. | B7: Công việc chung của Trường
A8: Nhiệm vụ 1 | B8: Ban giám khảo vòng bán kết Startup Kite cho Tiểu ban Kinh tế - Xã hội | C8: 3 | D8: Nghĩa, Thùy Tiên, Trang | E8: 21/9/2022 đến 24/9/20227 | F8: Tốt
A9: Nhiệm vụ 2 | B9: Làm bánh Trung thu đợt 2 và kết nối doanh nghiệp | C9: 4 | D9: Nghĩa, Bảo, Ngân, Trâm | E9: 04/9/2022 đến 09/9/2022 | F9: Tốt
A10: Nhiệm vụ 3 | B10: Tham gia thư ký của Tiểu ban Kỹ thuật -Truyền thông và Triển lãm, Hội thảo quốc tế ICSS2022 | C10: 1 | D10: Hòa | E10: 05/9/2022 đến 30/9/2022 | F10: Tốt
A11: Nhiệm vụ 4 | B11: Tham gia tập huấn với các đội dự thi của tiểu ban Động lực - Cơ khí - Xây dựng | C11: 1 | D11: Thùy Tiên | E11: 27/8/2022 đến 30/9/20227 | F11: Tốt
A12: Nhiệm vụ 5 | B12: Đại diện Đoàn trường phối hợp cùng Hội mô tô TP. HCM đi trao quà tại Cần Giờ ngày 9/9/2022 | C12: 2 | D12: Ngân, Bảo | E12: 08/9/2022 đến 09/9/2022 | F12: Tốt
A13: Nhiệm vụ 6 | B13: Thực hiện báo cáo khảo sát cung cấp số liệu phục vụ Đề án về chính sách để tạo động lực và giữ chân CB-VC-NLĐ trong bộ máy chính quyền đô thị tại TP.HCM theo Công văn số: 3117/SGDDT-TCCB ngày 31/08/2022 | C13: 1 | D13: M Thùy | E13: 04/09/2022 đến 12/09/2022 | F13: Tốt
A14: Nhiệm vụ 7 | B14: Ban sát hạch kiểm tra tuyển dụng viên chức 2022-2023 | C14: 2 | D14: Nghĩa, Như | E14: 31/08/2022 đến 05/09/2022 | F14: Tốt
A15: Nhiệm vụ 8
A16: II. | B16: Công việc chung của đơn vị
A17: Nhiệm vụ 1 | B17: Đề xuất cải tạo, sửa chữa thiết bị cho phòng thực hành môn Chế biến món ăn Việt Nam và Nghiệp vụ lễ tân (quầy Bar) | C17: 2 | D17: Nghĩa, Bảo | E17: 01/9/2022 đến 20/9/2022 | F17: Tốt
A18: Nhiệm vụ 2 | B18: Thống kê ghi nhận LIKE & SHARE FANPAGE Trường của CB -GV-NV từ ngày 16/6/2022 đến ngày 15/9/2022 | C18: 1 | D18: Hòa | E18: 01/9/2022 đến 15/9/2022 | F18: Tốt
A19: Nhiệm vụ 3 | B19: Giới thiệu ngành nghề, phổ biến quy định về học hành, thi cử, vị trí việc làm cho sinh viên khóa 22T4 tại giảng đường F1 | C19: 4 | D19: Nghĩa, Như, Bảo, Oanh | E19: 16/9/2022 đến 16/9/2022 | F19: Tốt
A20: Nhiệm vụ 4 | B20: Thực hiện công tác kế toán thuế tại phòng Kế hoạch - Tài chính. | C20: 1 | D20: Minh Thùy | E20: 01/9/2022 đến 30/9/2022 | F20: Tốt
A21: Nhiệm vụ 5 | B21: Thực hiện công tác kế toán thanh toán tại phòng Kế hoạch - Tài chính. | C21: 1 | D21: Minh Thùy | E21: 01/9/2022 đến 30/9/2022 | F21: Tốt
A22: Nhiệm vụ 6 | B22: Triển khai hệ thống phần mềm hóa đơn điện tử Vinvoice thay thế cho phần mềm Sinvoice | C22: 1 | D22: Minh Thùy | E22: 01/9/2022 đến 30/9/2022 | F22: Tốt
A23: Nhiệm vụ 7 | B23: Tổ chức SV đi kiến tập tại Vũng Tàu ngày 27/9 | C23: 1 | D23: Ngân | E23: 27/9/2022 đến 27/9/2022 | F23: Tốt
A24: Nhiệm vụ 8
A26: Lưu ý: - Nhóm công việc của đơn vị không tính nội dung công việc đã được quy định ở vị trí việc làm (đối với nhân viên); chế độ làm việc của giảng viên/ đã được tính chế độ, thù lao (đối với giảng viên). - Các đơn vị gửi file điện tử về phòng TC-HC-TH (Cô Trần Thị Ánh Phượng) qua hệ thống điện tử E-office nhà trường (không gửi văn bản giấy) ngày 25 hàng tháng./.
E27: Thành phố Hồ Chí Minh, ngày 23 tháng 09 năm 2022
E28: TRƯỞNG ĐƠN VỊ
E32: Nguyễn Trọng Nghĩa

Sheet Mau 3
A1: TRƯỜNG CAO ĐẲNG LÝ TỰ TRỌNG | N1: CỘNG HÒA XÃ HỘI CHỦ NGHĨA VIỆT NAM
A2: THÀNH PHỐ HỒ CHÍ MINH | N2: Độc lập - Tự do - Hạnh phúc
A3: ĐƠN VỊ: KHOA KINH TẾ
W4: Mẫu 3
A5: THỐNG KÊ CHI TIẾT KHỐI LƯỢNG CÔNG VIỆC THỰC HIỆN THÁNG 09/2022
A7: TT | C7: Tên nội dung công việc | N7: Công việc chung của đơn vị | W7: Ghi chú
B8: Họ và tên | D8: Mã E-office | E8: Nhiệm vụ 1 | F8: Nhiệm vụ 2 | G8: Nhiệm vụ 3 | H8: Nhiệm vụ 4 | I8: Nhiệm vụ 5 | J8: Nhiệm vụ 6 | K8: Nhiệm vụ 7 | L8: Nhiệm vụ 8 | M8: Tổng cộng | N8: Nhiệm vụ 1 | O8: Nhiệm vụ 2 | P8: Nhiệm vụ 3 | Q8: Nhiệm vụ 4 | R8: Nhiệm vụ 5 | S8: Nhiệm vụ 6 | T8: Nhiệm vụ 7 | U8: Nhiệm vụ 8 | V8: Tổng cộng
A9: I. Viên chức
A10: 01 | B10: Nguyễn Trọng | C10: Nghĩa | D10: 01025001 | E10: X | F10: X | I10: X | K10: X | M10: =COUNTIF(E10:L10,"X") -> 4 | N10: X | O10: X | V10: =COUNTIF($N10:$U10,"X") -> 2
A11: 02 | B11: Hồ Gia | C11: Bảo | D11: 01025029 | F11: X | M11: =COUNTIF(E11:L11,"X") -> 1 | N11: X | O11: X | V11: =COUNTIF($N11:$U11,"X") -> 2
A12: 03 | B12: Trần Thị Ngọc | C12: Dung | D12: 01025016 | M12: =COUNTIF(E12:L12,"X") -> 0 | V12: =COUNTIF($N12:$U12,"X") -> 0
A13: 04 | B13: Cao Xuân | C13: Giang | D13: 01025018 | M13: =COUNTIF(E13:L13,"X") -> 0 | V13: =COUNTIF($N13:$U13,"X") -> 0
A14: 05 | B14: Nguyễn Hoàng Thanh | C14: Ngân | D14: 01025027 | F14: X | I14: X | M14: =COUNTIF(E14:L14,"X") -> 2 | T14: X | V14: =COUNTIF($N14:$U14,"X") -> 1
A15: 06 | B15: Phạm Quỳnh | C15: Như | D15: 01025004 | K15: X | M15: =COUNTIF(E15:L15,"X") -> 1 | O15: X | V15: =COUNTIF($N15:$U15,"X") -> 1
A16: 07 | B16: Lê Thị Thúy | C16: Oanh | D16: 01025020 | M16: =COUNTIF(E16:L16,"X") -> 0 | O16: X | V16: =COUNTIF($N16:$U16,"X") -> 1
A17: 08 | B17: Lê Thị Thu | C17: Thảo | D17: 01025008 | M17: =COUNTIF(E17:L17,"X") -> 0 | V17: =COUNTIF($N17:$U17,"X") -> 0
A18: 09 | B18: Võ Thị Kim | C18: Thư | D18: 01025012 | M18: =COUNTIF(E18:L18,"X") -> 0 | V18: =COUNTIF($N18:$U18,"X") -> 0
A19: 10 | B19: Lưu Thị | C19: Thúy | D19: 01025002 | M19: =COUNTIF(E19:L19,"X") -> 0 | V19: =COUNTIF($N19:$U19,"X") -> 0
A20: 11 | B20: Nguyễn Thị Minh | C20: Thùy | D20: 01003013 | J20: X | M20: =COUNTIF(E20:L20,"X") -> 1 | Q20: X | R20: X | S20: X | V20: =COUNTIF($N20:$U20,"X") -> 3
A21: 12 | B21: Nguyễn Mỹ | C21: Tiên | D21: 01025015 | M21: =COUNTIF(E21:L21,"X") -> 0 | V21: =COUNTIF($N21:$U21,"X") -> 0
A22: 13 | B22: Nguyễn Thị Thùy | C22: Tiên | D22: 01005010 | E22: X | H22: X | M22: =COUNTIF(E22:L22,"X") -> 2 | V22: =COUNTIF($N22:$U22,"X") -> 0
A23: 14 | B23: Lữ Xuân | C23: Trang | D23: 01025009 | E23: X | M23: =COUNTIF(E23:L23,"X") -> 1 | V23: =COUNTIF($N23:$U23,"X") -> 0
A24: 15 | B24: Bùi Ánh | C24: Tuyết | D24: 01025003 | M24: =COUNTIF(E24:L24,"X") -> 0 | V24: =COUNTIF($N24:$U24,"X") -> 0
A25: 16 | B25: Nguyễn Thị Thanh | C25: Hòa | D25: 01009027 | G25: X | M25: =COUNTIF(E25:L25,"X") -> 1 | O25: X | V25: =COUNTIF($N25:$U25,"X") -> 1
A26: 17 | B26: Đinh Thị | C26: Trâm | D26: 01025033 | F26: X | M26: =COUNTIF(E26:L26,"X") -> 1 | V26: =COUNTIF($N26:$U26,"X") -> 0
A27: II. Hợp đồng trường
A28: - | C28: - | D28: - | M28: =COUNTIF(E28:L28,"X") -> 0 | V28: =COUNTIF(N28:T28,"X") -> 0
A30: Lưu ý: Các đơn vị gửi file điện tử về phòng TC-HC-TH (Cô Trần Thị Ánh Phượng) qua hệ thống điện tử E-office nhà trường (không gửi văn bản giấy).
N31: TP. HCM, ngày 23 tháng 09 năm 2022
N32: TRƯỞNG ĐƠN VỊ
N36: Nguyễn Trọng Nghĩa

Sheet Mau 4 
A1: TRƯỜNG CAO ĐẲNG LÝ TỰ TRỌNG | H1: CỘNG HÒA XÃ HỘI CHỦ NGHĨA VIỆT NAM
A2: THÀNH PHỐ HỒ CHÍ MINH | H2: Độc lập - Tự do - Hạnh phúc
A3: ĐƠN VỊ: KHOA KINH TẾ
M4: Mẫu 4
A5: DANH SÁCH XẾP LOẠI THI ĐUA THÁNG 09/2022
A7: TT | B7: Họ tên | D7: Mã E-Office | E7: Tiêu chuẩn đạt mức xếp loại thi đua tối đa trong năm (Ẩn khi in) | F7: Xếp loại thi đua tháng theo quy định (Không vượt quá mức thi đua tối đa) | J7: Số ngày/giờ vượt so với ngày công kế hoạch (đối với CB-NV) | K7: Số ngày nghỉ/ tiết nghỉ (đối với GV) | L7: Đơn vị đề nghị mức xếp loại thi đua
F8: Xếp loại | G8: Lý do | H8: Số lượng công việc chung của trường | I8: Số lượng công việc chung của đơn vị | L8: Xếp loại | M8: Lý do đề nghị
A9: I. Viên chức
A10: 01 | B10: Nguyễn Trọng | C10: Nghĩa | D10: 01025001 | E10: A2 | F10: A2 | H10: =IFERROR(VLOOKUP($D10,'Mau 3'!$D$10:$V$28,10,1),0) -> 4 | I10: =IFERROR(VLOOKUP($D10,'Mau 3'!$D$10:$V$28,19,1),0) -> 2
A11: 02 | B11: Hồ Gia | C11: Bảo | D11: 01025029 | E11: A1 | F11: A3 | H11: =IFERROR(VLOOKUP($D11,'Mau 3'!$D$10:$V$28,10,0),0) -> 1 | I11: =IFERROR(VLOOKUP($D11,'Mau 3'!$D$10:$V$28,19,0),0) -> 2
A12: 03 | B12: Trần Thị Ngọc | C12: Dung | D12: 01025016 | E12: A4 | F12: A4 | H12: =IFERROR(VLOOKUP($D12,'Mau 3'!$D$10:$V$28,10,0),0) -> 0 | I12: =IFERROR(VLOOKUP($D12,'Mau 3'!$D$10:$V$28,19,0),0) -> 0
A13: 04 | B13: Cao Xuân | C13: Giang | D13: 01025018 | E13: A3 | F13: A4 | H13: =IFERROR(VLOOKUP($D13,'Mau 3'!$D$10:$V$28,10,0),0) -> 0 | I13: =IFERROR(VLOOKUP($D13,'Mau 3'!$D$10:$V$28,19,0),0) -> 0
A14: 05 | B14: Nguyễn Hoàng Thanh | C14: Ngân | D14: 01025027 | E14: A4 | F14: A4 | H14: =IFERROR(VLOOKUP($D14,'Mau 3'!$D$10:$V$28,10,0),0) -> 2 | I14: =IFERROR(VLOOKUP($D14,'Mau 3'!$D$10:$V$28,19,0),0) -> 1 | M14: Đề nghị HĐ TĐ-KT xem xét xếp loại A3 vì cô Ngân hoạt động tích cực trong 09/2022.
A15: 06 | B15: Phạm Quỳnh | C15: Như | D15: 01025004 | E15: A1 | F15: A3 | H15: =IFERROR(VLOOKUP($D15,'Mau 3'!$D$10:$V$28,10,0),0) -> 1 | I15: =IFERROR(VLOOKUP($D15,'Mau 3'!$D$10:$V$28,19,0),0) -> 1
A16: 07 | B16: Lê Thị Thúy | C16: Oanh | D16: 01025020 | E16: A3 | F16: A4 | H16: =IFERROR(VLOOKUP($D16,'Mau 3'!$D$10:$V$28,10,0),0) -> 0 | I16: =IFERROR(VLOOKUP($D16,'Mau 3'!$D$10:$V$28,19,0),0) -> 1 | M16: Nhắc nhở vì để SV chơi bài Mèo Nổ trong lớp 09/9.
A17: 08 | B17: Lê Thị Thu | C17: Thảo | D17: 01025008 | E17: A3 | F17: A4 | H17: =IFERROR(VLOOKUP($D17,'Mau 3'!$D$10:$V$28,10,0),0) -> 0 | I17: =IFERROR(VLOOKUP($D17,'Mau 3'!$D$10:$V$28,19,0),0) -> 0
A18: 09 | B18: Võ Thị Kim | C18: Thư | D18: 01025012 | E18: A2 | F18: A4 | H18: =IFERROR(VLOOKUP($D18,'Mau 3'!$D$10:$V$28,10,0),0) -> 0 | I18: =IFERROR(VLOOKUP($D18,'Mau 3'!$D$10:$V$28,19,0),0) -> 0
A19: 10 | B19: Lưu Thị | C19: Thúy | D19: 01025002 | E19: A3 | F19: A4 | H19: =IFERROR(VLOOKUP($D19,'Mau 3'!$D$10:$V$28,10,0),0) -> 0 | I19: =IFERROR(VLOOKUP($D19,'Mau 3'!$D$10:$V$28,19,0),0) -> 0
A20: 11 | B20: Nguyễn Thị Minh | C20: Thùy | D20: 01003013 | E20: A2 | F20: A3 | H20: =IFERROR(VLOOKUP($D20,'Mau 3'!$D$10:$V$28,10,0),0) -> 1 | I20: =IFERROR(VLOOKUP($D20,'Mau 3'!$D$10:$V$28,19,0),0) -> 3
A21: 12 | B21: Nguyễn Mỹ | C21: Tiên | D21: 01025015 | E21: A2 | F21: A4 | H21: =IFERROR(VLOOKUP($D21,'Mau 3'!$D$10:$V$28,10,0),0) -> 0 | I21: =IFERROR(VLOOKUP($D21,'Mau 3'!$D$10:$V$28,19,0),0) -> 0
A22: 13 | B22: Nguyễn Thị Thùy | C22: Tiên | D22: 01005010 | E22: A2 | F22: A3 | H22: =IFERROR(VLOOKUP($D22,'Mau 3'!$D$10:$V$28,10,0),0) -> 2 | I22: =IFERROR(VLOOKUP($D22,'Mau 3'!$D$10:$V$28,19,0),0) -> 0
A23: 14 | B23: Lữ Xuân | C23: Trang | D23: 01025009 | E23: A2 | F23: A3 | H23: =IFERROR(VLOOKUP($D23,'Mau 3'!$D$10:$V$28,10,0),0) -> 1 | I23: =IFERROR(VLOOKUP($D23,'Mau 3'!$D$10:$V$28,19,0),0) -> 0
A24: 15 | B24: Bùi Ánh | C24: Tuyết | D24: 01025003 | E24: A2 | F24: A4 | H24: =IFERROR(VLOOKUP($D24,'Mau 3'!$D$10:$V$28,10,0),0) -> 0 | I24: =IFERROR(VLOOKUP($D24,'Mau 3'!$D$10:$V$28,19,0),0) -> 0
A25: 16 | B25: Nguyễn Thị Thanh | C25: Hòa | D25: 01009027 | E25: A4 | F25: A3 | H25: =IFERROR(VLOOKUP($D25,'Mau 3'!$D$10:$V$28,10,0),0) -> 1 | I25: =IFERROR(VLOOKUP($D25,'Mau 3'!$D$10:$V$28,19,0),0) -> 1
A26: 17 | B26: Đinh Thị | C26: Trâm | D26: 01025033 | E26: A4 | F26: A4 | H26: =IFERROR(VLOOKUP($D26,'Mau 3'!$D$10:$V$28,10,0),0) -> 1 | I26: =IFERROR(VLOOKUP($D26,'Mau 3'!$D$10:$V$28,19,0),0) -> 0 | M26: Đề nghị HĐ TĐ-KT xem xét xếp loại A3 vì cô Trâm hoạt động tích cực trong 09/2022.
A27: II. Hợp đồng trường
B31: Kết quả xếp loại | H31: Viên chức | J31: Hợp đồng trường
B32: A1 | H32: =COUNTIF($F$10:$F$24,"A1") -> 0 | J32: =COUNTIF($F$28:$F$28,"A1") -> 0
B33: A2 | H33: =COUNTIF($F$10:$F$24,"A2") -> 1 | J33: =COUNTIF($F$28:$F$28,"A3") -> 0
B34: A3 | H34: =COUNTIF($F$10:$F$24,"A3") -> 5 | J34: =COUNTIF($F$28:$F$28,"A3") -> 0
B35: A4 | H35: =COUNTIF($F$10:$F$24,"A4") -> 9 | J35: =COUNTIF($F$28:$F$28,"A4") -> 0
B36: A DN | H36: =COUNTIF($F$10:$F$24,"A DN") -> 0 | J36: =COUNTIF($F$28:$F$28,"A DN") -> 0
B37: B1 | H37: =COUNTIF($F$10:$F$24,"B1") -> 0 | J37: =COUNTIF($F$28:$F$28,"B1") -> 0
B38: B2 | H38: =COUNTIF($F$10:$F$24,"B2") -> 0 | J38: =COUNTIF($F$28:$F$28,"B2") -> 0
B39: C1 | H39: =COUNTIF($F$10:$F$24,"C1") -> 0 | J39: =COUNTIF($F$28:$F$28,"C1") -> 0
B40: C2 | H40: =COUNTIF($F$10:$F$24,"C2") -> 0 | J40: =COUNTIF($F$28:$F$28,"C2") -> 0
B41: D | H41: =COUNTIF($F$10:$F$24,"D") -> 0 | J41: =COUNTIF($F$28:$F$28,"D") -> 0
B42: E | H42: =COUNTIF($F$10:$F$24,"E") -> 0 | J42: =COUNTIF($F$28:$F$28,"E") -> 0
B43: Tổng số nhân sự: | H43: =SUM(H32:H42) -> 15 | J43: =SUM(J32:J42) -> 0
A45: Lưu ý: Các đơn vị gửi file mềm qua hệ thống điện tử E-office nhà trường và văn bản giấy về phòng TC-HC-TH (Cô Trần Thị Ánh Phượng).
...

Sheet Fanpage
A1: TRƯỜNG CAO ĐẲNG LÝ TỰ TRỌNG | D1: CỘNG HÒA XÃ HỘI CHỦ NGHĨA VIỆT NAM
A2: THÀNH PHỐ HỒ CHÍ MINH | D2: Độc lập – Tự do – Hạnh phúc
A3: TRUNG TÂM ĐIỀU HÀNH
A4: VÀ QUẢN LÝ DỮ LIỆU
A7: Kính gửi: Trưởng khoa Kinh Tế
A8: THỐNG KÊ GHI NHẬN LIKE & SHARE FANPAGE TRƯỜNG CỦA CB -GV-NV TỪ NGÀY 16/6/2022 ĐẾN NGÀY 15/9/2022
A10: STT | B10: Họ và tên | C10: MSNS | D10: Đơn vị | E10: Số lượt like & Share | F10: Nhiệm vụ đột xuất cấp Đơn vị | G10: Nhiệm vụ đột xuất cấp Trường | H10: Điểm thưởng cộng Quý III.2022
A11: 1 | B11: Nguyễn Thị Thanh Hòa | C11: 01009027 | D11: KHOA KINH TẾ | E11: 50 | F11: X | H11: 0

Sheet CV 09.2022
B3: Trâm: | C3: Làm bánh trung thu đợt 1 ngày 26/8 và đợt 2 ngày 5/9
C4: Hướng dẫn nhóm thi startup kite chủ đề tiệm bánh "Love cake" được vào bán bán kết.
B11: Ngân | C11: Làm bánh trung thu và kết nối doanh nghiệp ngày 26/8
C12: Đại diện Đoàn trường Phối hợp cùng hội mô tô TP.HCM đi trao quà tại Cần Giờ ngày 9/9
C13: Tổ chức SV đi kiến tập ngày 27/9
B16: Oanh
B18: Bảo: | C18: Thiết kế và hỗ trợ thi công, giám sát phòng thực hành quầy Lễ tân và quầy Bar khu vực I1 và I2 cho sinh viên thực hành. Hoàn thành ngày 20/09
C21: Làm bánh trung thu tặng doanh nghiệp 26/8
C22: Phối hợp cùng hội mô tô TP.HCM đi trao quà tại Cần Giờ 9/9
C23: Lên kế hoạch tổ chức SV khối 20T4-QDL và 20T4-QLH đi kiến tập Vũng Tàu ngày 27/9.
B29: Hòa | C29: Tham gia thư ký của Tiểu ban Kỹ thuật -Truyền thông và Triển lãmshare tư vấn tuyển sinh năm 2022
C30: -Hội thảo quốc tế ICSS2022, tham gia chia sẻ Like
