Workbook
Name _1: #REF!
Name _1: #REF!
Name _2: #REF!
Name _2: #REF!
Name A: #REF!
Name A: #REF!
Name a277Print_Titles: #REF!
Name a277Print_Titles: #REF!
Name Bang_cly: #REF!
Name Bang_cly: #REF!
Name Bang_CVC: #REF!
Name Bang_CVC: #REF!
Name Bang_travl: #REF!
Name Bang_travl: #REF!
Name BOQ: #REF!
Name BOQ: #REF!
Name BT_125: #REF!
Name BT_125: #REF!
Name BT200_50: #REF!
Name BT200_50: #REF!
Name BVCISUMMARY: #REF!
Name BVCISUMMARY: #REF!
Name Co: #REF!
Name Co: #REF!
Name COMMON: #REF!
Name COMMON: #REF!
Name CON_EQP_COS: #REF!
Name CON_EQP_COS: #REF!
Name COVER: #REF!
Name COVER: #REF!
Name CRITINST: #REF!
Name CRITINST: #REF!
Name CRITPURC: #REF!
Name CRITPURC: #REF!
Name CS_10: #REF!
Name CS_10: #REF!
Name CS_100: #REF!
Name CS_100: #REF!
Name CS_10S: #REF!
Name CS_10S: #REF!
Name CS_120: #REF!
Name CS_120: #REF!
Name CS_140: #REF!
Name CS_140: #REF!
Name CS_160: #REF!
Name CS_160: #REF!
Name CS_20: #REF!
Name CS_20: #REF!
Name CS_30: #REF!
Name CS_30: #REF!
Name CS_40: #REF!
Name CS_40: #REF!
Name CS_40S: #REF!
Name CS_40S: #REF!
Name CS_5S: #REF!
Name CS_5S: #REF!
Name CS_60: #REF!
Name CS_60: #REF!
Name CS_80: #REF!
Name CS_80: #REF!

Sheet DMTK
A1: Tên công ty | B1: Công ty TNHH THÀNH LONG
A2: Địa chỉ | B2: 289 Điện Biên Phủ, phường 6, Quận 3, Tp.HCM
A3: DANH MỤC TÀI KHOẢN
A5: Số tài khoản | B5: Tên tài khoản | D5: Nhóm tài khoản | E5: Tính chất
A6: 111 | B6: Tiền mặt | D6: 111 | E6: Dư Nợ
A7: 1111 | B7: Tiền Việt Nam | D7: 111 | E7: Dư Nợ
A8: 1112 | B8: Ngoại tệ | D8: 111 | E8: Dư Nợ
A9: 112 | B9: Tiền gửi Ngân hàng | D9: 112 | E9: Dư Nợ
A10: 1121 | B10: Tiền Việt Nam | D10: 112 | E10: Dư Nợ
A11: 1122 | B11: Ngoại tệ | D11: 112 | E11: Dư Nợ
A12: 121 | B12: Chứng khoán kinh doanh | D12: 121 | E12: Dư Nợ
A13: 1211 | B13: Cổ phiếu | D13: 121 | E13: Dư Nợ
A14: 1212 | B14: Trái phiếu | D14: 121 | E14: Dư Nợ
A15: 1218 | B15: Chứng khoán và công cụ tài chính khác | D15: 121 | E15: Dư Nợ
A16: 128 | B16: Đầu tư nắm giữ đến ngày đáo hạn | D16: 128 | E16: Dư Nợ
A17: 1281 | B17: Tiền gửi có kỳ hạn | D17: 128 | E17: Dư Nợ
... A190: 911 | B190: Xác định kết quả kinh doanh | D190: 911 | E190: Không có số dư

Sheet NKC
A1: Tên công ty | B1: Công ty TNHH THÀNH LONG
A2: Địa chỉ | B2: 289 Điện Biên Phủ, phường 6, Quận 3, Tp.HCM
A3: NHẬT KÝ CHUNG
A4: Năm 2020
A5: Ngày tháng ghi sổ | B5: Chứng từ | E5: Diễn giải | F5: TK nợ | G5: TK Có | H5: Số phát sinh | J5: HÀNG TỒN KHO | N5: KHÁCH HÀNG, NHÀ CUNG CẤP
B6: Ctu ghi Nợ | C6: CT ghi Có | D6: Ngày tháng | H6: Nợ | I6: Có | J6: Số lượng | K6: Đơn giá | L6: Mã HH | M6: Tên HH | N6: Giá bán | O6: Mã đối tượng TK Nợ | P6: Mã đối tượng TK Có | Q6: Tên đối tượng
A7: A | B7: B | C7: C | D7: D | E7: E | F7: F | G7: G | H7: 1 | I7: 2
E8: Số trang trước chuyển sang | P8: ư .
A9: 05/01/2018 | B9: HĐ0000278 | C9: HĐ0000278 | D9: 05/01/2018 | E9: Nhập kho Tủ lạnh Hitachi 395L | F9: 156 | G9: 331 | H9: =J9*K9 -> 60000000 | I9: =H9 -> 60000000 | J9: 5 | K9: 12000000 | L9: TLHITA395 | M9: =IF(L9<>"",VLOOKUP(L9,MaHH,2,0),"") -> Tủ lạnh Hitachi 395L | P9: 331ANDUONG | Q9: =IF(AND(P9<>"",O9=""),VLOOKUP(P9,'[1]HH&KH,NCC'!$H$6:$I$15,2,0),IF(AND(O9<>"",P9=""),VLOOKUP(O9,'[1]HH&KH,NCC'!$H$6:$I$15,2,0),"")) -> Công ty CP đầu tư phát triển An Dương
A10: 05/01/2018 | B10: HĐ0000278 | C10: HĐ0000278 | D10: 05/01/2018 | E10: Nhập kho Tủ lạnh Hitachi 600L | F10: 156 | G10: 331 | H10: =J10*K10 -> 240000000 | I10: =H10 -> 240000000 | J10: 6 | K10: 40000000 | L10: TLHITA600 | M10: =IF(L10<>"",VLOOKUP(L10,MaHH,2,0),"") -> Tủ lạnh Hitachi 600L | P10: 331ANDUONG | Q10: =IF(AND(P10<>"",O10=""),VLOOKUP(P10,'[1]HH&KH,NCC'!$H$6:$I$15,2,0),IF(AND(O10<>"",P10=""),VLOOKUP(O10,'[1]HH&KH,NCC'!$H$6:$I$15,2,0),"")) -> Công ty CP đầu tư phát triển An Dương
A11: 05/01/2018 | B11: HĐ0000278 | C11: HĐ0000278 | D11: 05/01/2018 | E11: Nhập kho Tủ lạnh Panasonic Inverter | F11: 156 | G11: 331 | H11: =J11*K11 -> 20000000 | I11: =H11 -> 20000000 | J11: 4 | K11: 5000000 | L11: TLPANAINV | M11: =IF(L11<>"",VLOOKUP(L11,MaHH,2,0),"") -> Tủ lạnh Panasonic Inverter | P11: 331ANDUONG | Q11: =IF(AND(P11<>"",O11=""),VLOOKUP(P11,'[1]HH&KH,NCC'!$H$6:$I$15,2,0),IF(AND(O11<>"",P11=""),VLOOKUP(O11,'[1]HH&KH,NCC'!$H$6:$I$15,2,0),"")) -> Công ty CP đầu tư phát triển An Dương
A12: 05/01/2018 | B12: HĐ0000278 | C12: HĐ0000278 | D12: 05/01/2018 | E12: Thuế GTGT của HĐ0000278 | F12: 133 | G12: 331 | H12: =SUM(H9:H11)*0.1 -> 32000000 | I12: =H12 -> 32000000 | M12: =IF(L12<>"",VLOOKUP(L12,MaHH,2,0),"") | P12: 331ANDUONG | Q12: =IF(AND(P12<>"",O12=""),VLOOKUP(P12,'[1]HH&KH,NCC'!$H$6:$I$15,2,0),IF(AND(O12<>"",P12=""),VLOOKUP(O12,'[1]HH&KH,NCC'!$H$6:$I$15,2,0),"")) -> Công ty CP đầu tư phát triển An Dương
A13: 08/01/2018 | B13: HĐ1002341 | C13: HĐ1002341 | D13: 08/01/2018 | E13: Xuất kho Tủ lạnh Sharp 428L | F13: 112 | G13: 511 | H13: =J13*N13 -> 24000000 | I13: =H13 -> 24000000 | J13: 2 | L13: TLSHAP428 | M13: =IF(L13<>"",VLOOKUP(L13,MaHH,2,0),"") -> Tủ lạnh Sharp 428L | N13: 12000000 | Q13: =IF(AND(P13<>"",O13=""),VLOOKUP(P13,'[1]HH&KH,NCC'!$H$6:$I$15,2,0),IF(AND(O13<>"",P13=""),VLOOKUP(O13,'[1]HH&KH,NCC'!$H$6:$I$15,2,0),""))
A14: 08/01/2019 | B14: HĐ1002341 | C14: HĐ1002341 | D14: 08/01/2019 | E14: Xuất kho Tủ lạnh Sharp 538L | F14: 112 | G14: 511 | H14: =J14*N14 -> 30000000 | I14: =H14 -> 30000000 | J14: 1 | L14: TLSHAP538 | M14: =IF(L14<>"",VLOOKUP(L14,MaHH,2,0),"") -> Tủ lạnh Sharp 538L | N14: 30000000 | Q14: =IF(AND(P14<>"",O14=""),VLOOKUP(P14,'[1]HH&KH,NCC'!$H$6:$I$15,2,0),IF(AND(O14<>"",P14=""),VLOOKUP(O14,'[1]HH&KH,NCC'!$H$6:$I$15,2,0),""))
A15: 08/01/2019 | B15: HĐ1002341 | C15: HĐ1002341 | D15: 08/01/2019 | E15: Thuế GTGT của HĐ1002341 | F15: 112 | G15: 3331 | H15: =SUM(H13:H14)*0.1 -> 5400000 | I15: =H15 -> 5400000 | Q15: =IF(AND(P15<>"",O15=""),VLOOKUP(P15,'[1]HH&KH,NCC'!$H$6:$I$15,2,0),IF(AND(O15<>"",P15=""),VLOOKUP(O15,'[1]HH&KH,NCC'!$H$6:$I$15,2,0),""))
A16: 08/01/2019 | B16: HĐ1002341 | C16: PXK001 | D16: 08/01/2019 | E16: Giá vốn xuất kho Tủ lạnh Sharp 428L | F16: 632 | G16: 156 | J16: 2 | L16: TLSHAP428 | M16: =IF(L16<>"",VLOOKUP(L16,MaHH,2,0),"") -> Tủ lạnh Sharp 428L
A17: 08/01/2019 | B17: HĐ1002341 | C17: PXK001 | D17: 08/01/2019 | E17: Giá vốn xuất kho Tủ lạnh Sharp 538L | F17: 632 | G17: 156 | J17: 1 | L17: TLSHAP538 | M17: =IF(L17<>"",VLOOKUP(L17,MaHH,2,0),"") -> Tủ lạnh Sharp 538L
A18: 15/01/2019 | B18: HĐ1002342 | C18: HĐ1002342 | D18: 15/01/2019 | E18: Xuất bán tủ lạnh Hitachi 395L | F18: 131 | G18: 511 | H18: =J18*N18 -> 80000000 | I18: =H18 -> 80000000 | J18: 5 | L18: TLHITA395 | M18: =IF(L18<>"",VLOOKUP(L18,MaHH,2,0),"") -> Tủ lạnh Hitachi 395L | N18: 16000000 | O18: 131GHOUSE | Q18: =IF(AND(P18<>"",O18=""),VLOOKUP(P18,'[1]HH&KH,NCC'!$H$6:$I$15,2,0),IF(AND(O18<>"",P18=""),VLOOKUP(O18,'[1]HH&KH,NCC'!$H$6:$I$15,2,0),"")) -> Công ty TNHH GreenHouse
A19: 15/01/2019 | B19: HĐ1002342 | C19: HĐ1002342 | D19: 15/01/2019 | E19: Xuất bán tủ lạnh Hitachi 600L | F19: 131 | G19: 511 | H19: =J19*N19 -> 200000000 | I19: =H19 -> 200000000 | J19: 4 | L19: TLHITA600 | M19: =IF(L19<>"",VLOOKUP(L19,MaHH,2,0),"") -> Tủ lạnh Hitachi 600L | N19: 50000000 | O19: 131GHOUSE | Q19: =IF(AND(P19<>"",O19=""),VLOOKUP(P19,'[1]HH&KH,NCC'!$H$6:$I$15,2,0),IF(AND(O19<>"",P19=""),VLOOKUP(O19,'[1]HH&KH,NCC'!$H$6:$I$15,2,0),"")) -> Công ty TNHH GreenHouse
A20: 15/01/2019 | B20: HĐ1002342 | C20: HĐ1002342 | D20: 15/01/2019 | E20: Thuế GTGT của HĐ1002342 | F20: 131 | G20: 3331 | H20: =SUM(H18:H19)*0.1 -> 28000000 | I20: =H20 -> 28000000 | O20: 131GHOUSE | Q20: =IF(AND(P20<>"",O20=""),VLOOKUP(P20,'[1]HH&KH,NCC'!$H$6:$I$15,2,0),IF(AND(O20<>"",P20=""),VLOOKUP(O20,'[1]HH&KH,NCC'!$H$6:$I$15,2,0),"")) -> Công ty TNHH GreenHouse
A21: 15/01/2019 | B21: HĐ1002342 | C21: PXK002 | D21: 15/01/2019 | E21: Giá vốn xuất kho Tủ lạnh Sharp 428L | F21: 632 | G21: 156 | J21: 5 | L21: TLHITA395 | M21: =IF(L21<>"",VLOOKUP(L21,MaHH,2,0),"") -> Tủ lạnh Hitachi 395L
A22: 15/01/2019 | B22: HĐ1002342 | C22: PXK002 | D22: 15/01/2019 | E22: Giá vốn xuất kho Tủ lạnh Sharp 538L | F22: 632 | G22: 156 | J22: 4 | L22: TLHITA600 | M22: =IF(L22<>"",VLOOKUP(L22,MaHH,2,0),"") -> Tủ lạnh Hitachi 600L
A23: 31/01/2019 | B23: BPBCPTT | C23: BPBCPTT | D23: 31/01/2019 | E23: Phân bổ chi phí trả trước của BPBH | F23: 641 | G23: 242 | H23: 8762000 | I23: =H23 -> 8762000 | M23: =IF(L23<>"",VLOOKUP(L23,MaHH,2,0),"") | Q23: =IF(AND(P23<>"",O23=""),VLOOKUP(P23,'[1]HH&KH,NCC'!$H$6:$I$15,2,0),IF(AND(O23<>"",P23=""),VLOOKUP(O23,'[1]HH&KH,NCC'!$H$6:$I$15,2,0),""))
A24: 31/01/2019 | B24: BPBCPTT | C24: BPBCPTT | D24: 31/01/2019 | E24: Phân bổ chi phí trả trước của BPQL | F24: 642 | G24: 242 | H24: 10560000 | I24: =H24 -> 10560000 | M24: =IF(L24<>"",VLOOKUP(L24,MaHH,2,0),"") | Q24: =IF(AND(P24<>"",O24=""),VLOOKUP(P24,'[1]HH&KH,NCC'!$H$6:$I$15,2,0),IF(AND(O24<>"",P24=""),VLOOKUP(O24,'[1]HH&KH,NCC'!$H$6:$I$15,2,0),""))
A25: 31/01/2019 | B25: BPBCPKH | C25: BPBCPKH | D25: 31/01/2019 | E25: Phân bổ chi phí khấu hao TSCĐ | F25: 641 | G25: 214 | H25: 6234000 | I25: =H25 -> 6234000 | M25: =IF(L25<>"",VLOOKUP(L25,MaHH,2,0),"") | Q25: =IF(AND(P25<>"",O25=""),VLOOKUP(P25,'[1]HH&KH,NCC'!$H$6:$I$15,2,0),IF(AND(O25<>"",P25=""),VLOOKUP(O25,'[1]HH&KH,NCC'!$H$6:$I$15,2,0),""))
A26: 31/01/2019 | B26: BPBCPKH | C26: BPBCPKH | D26: 31/01/2019 | E26: Phân bổ chi phí khấu hao TSCĐ | F26: 642 | G26: 214 | H26: 12840000 | I26: =H26 -> 12840000 | M26: =IF(L26<>"",VLOOKUP(L26,MaHH,2,0),"") | Q26: =IF(AND(P26<>"",O26=""),VLOOKUP(P26,'[1]HH&KH,NCC'!$H$6:$I$15,2,0),IF(AND(O26<>"",P26=""),VLOOKUP(O26,'[1]HH&KH,NCC'!$H$6:$I$15,2,0),""))
A27: 31/01/2019 | B27: BTTL | C27: BTTL | D27: 31/01/2019 | E27: Chi phí tiền lương của BPBH | F27: 641 | G27: 334 | H27: =[1]Lương!I8 -> 16136154 | I27: =H27 -> 16136154 | M27: =IF(L27<>"",VLOOKUP(L27,MaHH,2,0),"") | Q27: =IF(AND(P27<>"",O27=""),VLOOKUP(P27,'[1]HH&KH,NCC'!$H$6:$I$15,2,0),IF(AND(O27<>"",P27=""),VLOOKUP(O27,'[1]HH&KH,NCC'!$H$6:$I$15,2,0),""))
A28: 31/01/2019 | B28: BTTL | C28: BTTL | D28: 31/01/2019 | E28: Chi phí tiền lương của BPQL | F28: 642 | G28: 334 | H28: =[1]Lương!I5 -> 16571538 | I28: =H28 -> 16571538 | M28: =IF(L28<>"",VLOOKUP(L28,MaHH,2,0),"") | Q28: =IF(AND(P28<>"",O28=""),VLOOKUP(P28,'[1]HH&KH,NCC'!$H$6:$I$15,2,0),IF(AND(O28<>"",P28=""),VLOOKUP(O28,'[1]HH&KH,NCC'!$H$6:$I$15,2,0),""))
A29: 31/01/2019 | B29: BTTL | C29: BTTL | D29: 31/01/2019 | E29: Chi phí BHXH trừ lương nhân viên | F29: 334 | G29: 3383 | H29: =[1]Lương!D12*0.015 -> 345000 | I29: =H29 -> 345000 | M29: =IF(L29<>"",VLOOKUP(L29,MaHH,2,0),"") | Q29: =IF(AND(P29<>"",O29=""),VLOOKUP(P29,'[1]HH&KH,NCC'!$H$6:$I$15,2,0),IF(AND(O29<>"",P29=""),VLOOKUP(O29,'[1]HH&KH,NCC'!$H$6:$I$15,2,0),""))
A30: 31/01/2019 | B30: BTTL | C30: BTTL | D30: 31/01/2019 | E30: Chi phí BHYT trừ lương nhân viên | F30: 334 | G30: 3384 | H30: =[1]Lương!D12*0.08 -> 1840000 | I30: =H30 -> 1840000 | M30: =IF(L30<>"",VLOOKUP(L30,MaHH,2,0),"") | Q30: =IF(AND(P30<>"",O30=""),VLOOKUP(P30,'[1]HH&KH,NCC'!$H$6:$I$15,2,0),IF(AND(O30<>"",P30=""),VLOOKUP(O30,'[1]HH&KH,NCC'!$H$6:$I$15,2,0),""))
A31: 31/01/2020 | B31: BTTL | C31: BTTL | D31: 31/01/2020 | E31: Chi phí BHTN trừ lương nhân viên | F31: 334 | G31: 3386 | H31: =[1]Lương!D12*0.01 -> 230000 | I31: =H31 -> 230000 | M31: =IF(L31<>"",VLOOKUP(L31,MaHH,2,0),"") | Q31: =IF(AND(P31<>"",O31=""),VLOOKUP(P31,'[1]HH&KH,NCC'!$H$6:$I$15,2,0),IF(AND(O31<>"",P31=""),VLOOKUP(O31,'[1]HH&KH,NCC'!$H$6:$I$15,2,0),""))
A32: 31/01/2020 | B32: BPBTL | C32: BPBTL | D32: 31/01/2020 | E32: Chi phí KPCĐ tính vào chi phí bán hàng | F32: 641 | G32: 3382 | H32: =[1]BPBTL!F8 -> 240000 | I32: =H32 -> 240000 | M32: =IF(L32<>"",VLOOKUP(L32,MaHH,2,0),"") | Q32: =IF(AND(P32<>"",O32=""),VLOOKUP(P32,'[1]HH&KH,NCC'!$H$6:$I$15,2,0),IF(AND(O32<>"",P32=""),VLOOKUP(O32,'[1]HH&KH,NCC'!$H$6:$I$15,2,0),""))
A33: 31/01/2020 | B33: BPBTL | C33: BPBTL | D33: 31/01/2020 | E33: Chi phí BHXH tính vào chi phí bán hàng | F33: 641 | G33: 3383 | H33: =BPBTL!G8 -> 2100000 | I33: =H33 -> 2100000 | M33: =IF(L33<>"",VLOOKUP(L33,MaHH,2,0),"") | Q33: =IF(AND(P33<>"",O33=""),VLOOKUP(P33,'[1]HH&KH,NCC'!$H$6:$I$15,2,0),IF(AND(O33<>"",P33=""),VLOOKUP(O33,'[1]HH&KH,NCC'!$H$6:$I$15,2,0),""))
A34: 31/01/2020 | B34: BPBTL | C34: BPBTL | D34: 31/01/2020 | E34: Chi phí BHYT tính vào chi phí bán hàng | F34: 641 | G34: 3384 | H34: =[1]BPBTL!H8 -> 360000 | I34: =H34 -> 360000 | M34: =IF(L34<>"",VLOOKUP(L34,MaHH,2,0),"") | Q34: =IF(AND(P34<>"",O34=""),VLOOKUP(P34,'[1]HH&KH,NCC'!$H$6:$I$15,2,0),IF(AND(O34<>"",P34=""),VLOOKUP(O34,'[1]HH&KH,NCC'!$H$6:$I$15,2,0),""))
A35: 31/01/2020 | B35: BPBTL | C35: BPBTL | D35: 31/01/2020 | E35: Chi phí BHTN tính vào chi phí bán hàng | F35: 641 | G35: 3386 | H35: =[1]BPBTL!I8 -> 120000 | I35: =H35 -> 120000 | M35: =IF(L35<>"",VLOOKUP(L35,MaHH,2,0),"") | Q35: =IF(AND(P35<>"",O35=""),VLOOKUP(P35,'[1]HH&KH,NCC'!$H$6:$I$15,2,0),IF(AND(O35<>"",P35=""),VLOOKUP(O35,'[1]HH&KH,NCC'!$H$6:$I$15,2,0),""))
A36: 31/01/2020 | B36: BPBTL | C36: BPBTL | D36: 31/01/2020 | E36: Chi phí KPCĐ tính vào chi phí quản lý | F36: 642 | G36: 3382 | H36: =[1]BPBTL!F9 -> 220000 | I36: =H36 -> 220000 | M36: =IF(L36<>"",VLOOKUP(L36,MaHH,2,0),"") | Q36: =IF(AND(P36<>"",O36=""),VLOOKUP(P36,'[1]HH&KH,NCC'!$H$6:$I$15,2,0),IF(AND(O36<>"",P36=""),VLOOKUP(O36,'[1]HH&KH,NCC'!$H$6:$I$15,2,0),""))
A37: 31/01/2020 | B37: BPBTL | C37: BPBTL | D37: 31/01/2020 | E37: Chi phí BHXH tính vào chi phí quản lý | F37: 642 | G37: 3383 | H37: =BPBTL!G9 -> 1925000 | I37: =H37 -> 1925000 | M37: =IF(L37<>"",VLOOKUP(L37,MaHH,2,0),"") | Q37: =IF(AND(P37<>"",O37=""),VLOOKUP(P37,'[1]HH&KH,NCC'!$H$6:$I$15,2,0),IF(AND(O37<>"",P37=""),VLOOKUP(O37,'[1]HH&KH,NCC'!$H$6:$I$15,2,0),""))
A38: 31/01/2020 | B38: BPBTL | C38: BPBTL | D38: 31/01/2020 | E38: Chi phí BHYT tính vào chi phí quản lý | F38: 642 | G38: 3384 | H38: =[1]BPBTL!H9 -> 330000 | I38: =H38 -> 330000 | M38: =IF(L38<>"",VLOOKUP(L38,MaHH,2,0),"") | Q38: =IF(AND(P38<>"",O38=""),VLOOKUP(P38,'[1]HH&KH,NCC'!$H$6:$I$15,2,0),IF(AND(O38<>"",P38=""),VLOOKUP(O38,'[1]HH&KH,NCC'!$H$6:$I$15,2,0),""))
A39: 31/01/2020 | B39: BPBTL | C39: BPBTL | D39: 31/01/2020 | E39: Chi phí BHTN tính vào chi phí quản lý | F39: 642 | G39: 3386 | H39: =[1]BPBTL!I9 -> 110000 | I39: =H39 -> 110000 | M39: =IF(L39<>"",VLOOKUP(L39,MaHH,2,0),"") | Q39: =IF(AND(P39<>"",O39=""),VLOOKUP(P39,'[1]HH&KH,NCC'!$H$6:$I$15,2,0),IF(AND(O39<>"",P39=""),VLOOKUP(O39,'[1]HH&KH,NCC'!$H$6:$I$15,2,0),""))
A40: 31/01/2020 | B40: PKT | C40: PKT | D40: 31/01/2020 | E40: Thuế GTGT được khấu trừ | F40: 3331 | G40: 131 | H40: =MIN(SUMIF(F9:F39,"133",H9:H39),SUMIF(G9:G39,"3331",I9:I39)) -> 32000000 | I40: =H40 -> 32000000 | M40: =IF(L40<>"",VLOOKUP(L40,MaHH,2,0),"") | Q40: =IF(AND(P40<>"",O40=""),VLOOKUP(P40,'[1]HH&KH,NCC'!$H$6:$I$15,2,0),IF(AND(O40<>"",P40=""),VLOOKUP(O40,'[1]HH&KH,NCC'!$H$6:$I$15,2,0),""))
A41: 31/01/2020 | B41: PKT | C41: PKT | D41: 31/01/2020 | E41: Tổng trị giá vốn xuất kho trong kỳ | F41: 632 | G41: 156 | H41: =NXT!J14 -> 260600000 | I41: =H41 -> 260600000
A42: 31/01/2020 | B42: PKT | C42: PKT | D42: 31/01/2020 | E42: Kết chuyển doanh thu bán hàng | F42: 511 | G42: 911 | H42: =SUMIF(G9:G39,"511",I9:I40) -> 334000000 | I42: =H42 -> 334000000 | M42: =IF(L42<>"",VLOOKUP(L42,MaHH,2,0),"") | Q42: =IF(AND(P42<>"",O42=""),VLOOKUP(P42,'[1]HH&KH,NCC'!$H$6:$I$15,2,0),IF(AND(O42<>"",P42=""),VLOOKUP(O42,'[1]HH&KH,NCC'!$H$6:$I$15,2,0),""))
A43: 31/01/2020 | B43: PKT | C43: PKT | D43: 31/01/2020 | E43: Kết chuyển chi phí bán hàng | F43: 911 | G43: 641 | H43: =SUMIF(F9:F40,"641",H9:H39) -> 33952154 | I43: =H43 -> 33952154 | M43: =IF(L43<>"",VLOOKUP(L43,MaHH,2,0),"") | Q43: =IF(AND(P43<>"",O43=""),VLOOKUP(P43,'[1]HH&KH,NCC'!$H$6:$I$15,2,0),IF(AND(O43<>"",P43=""),VLOOKUP(O43,'[1]HH&KH,NCC'!$H$6:$I$15,2,0),""))
A44: 31/01/2020 | B44: PKT | C44: PKT | D44: 31/01/2020 | E44: Kết chuyển chi phí quản lý | F44: 911 | G44: 642 | H44: =SUMIF(F9:F40,"642",H9:H40) -> 42556538 | I44: =H44 -> 42556538 | M44: =IF(L44<>"",VLOOKUP(L44,MaHH,2,0),"") | Q44: =IF(AND(P44<>"",O44=""),VLOOKUP(P44,'[1]HH&KH,NCC'!$H$6:$I$15,2,0),IF(AND(O44<>"",P44=""),VLOOKUP(O44,'[1]HH&KH,NCC'!$H$6:$I$15,2,0),""))
A45: 31/01/2020 | B45: PKT | C45: PKT | D45: 31/01/2020 | E45: Kết chuyển chi phí giá vốn | F45: 911 | G45: 632 | H45: =NXT!J14 -> 260600000 | I45: =H45 -> 260600000 | M45: =IF(L45<>"",VLOOKUP(L45,MaHH,2,0),"") | Q45: =IF(AND(P45<>"",O45=""),VLOOKUP(P45,'[1]HH&KH,NCC'!$H$6:$I$15,2,0),IF(AND(O45<>"",P45=""),VLOOKUP(O45,'[1]HH&KH,NCC'!$H$6:$I$15,2,0),""))
A46: 31/01/2020 | B46: PKT | C46: PKT | D46: 31/01/2020 | E46: Kết chuyển lãi/ lỗ | F46: 421 | G46: 911 | H46: =SUM(H43:H45)-H42 -> 3108692.3 | I46: =H46 -> 3108692.3 | M46: =IF(L46<>"",VLOOKUP(L46,MaHH,2,0),"") | Q46: =IF(AND(P46<>"",O46=""),VLOOKUP(P46,'[1]HH&KH,NCC'!$H$6:$I$15,2,0),IF(AND(O46<>"",P46=""),VLOOKUP(O46,'[1]HH&KH,NCC'!$H$6:$I$15,2,0),""))
A47: Tổng cộng | H47: =SUM(H9:H46) -> 1.7651411e+09 | I47: =H47 -> 1.7651411e+09
A48: Số dư cuối kỳ
G50: Ngày 31 tháng 01 năm 2020
A51: Người lập | E51: Kế toán trưởng | G51: Giám đốc
A52: (Ký, họ tên) | E52: (Ký, họ tên) | G52: (Ký, họ tên)
XEC837960: HỆ THỐNG TÀI KHOẢN | XFB837960: DANH MỤC KHÁCH HÀNG, NHÀ CUNG CẤP
XFB837962: Mã khách hàng | XFC837962: Tên khách hàng
XFB837963: 131TUANTU | XFC837963: Doanh nghiệp tư nhân Tuấn Tú
XFB837964: 131ANHMINH | XFC837964: Công ty CP Hoàng gia Anh Minh
XFB837965: 331NGANHA | XFC837965: Công ty TNHH Kinh doanh Ngân Hà
XFB837966: 331SAOBAC | XFC837966: Công ty TNHH Đầu tư Sao Bắc
XFB837967: 331YAMAHA | XFC837967: Công ty Yamaha Motor Việt Nam
XFB837968: 331ANHTHU | XFC837968: Công ty Cổ phần Anh Thư
XFB837969: 331SUZUKI | XFC837969: Công ty TNHH Việt Nam Suzuki

Sheet Lương
A1: BẢNG THANH TOÁN LƯƠNG
A3: STT | B3: Họ và tên | C3: CV | D3: Lương chính | F3: Ngày công | G3: Lương theo ngày công | H3: Phụ cấp | I3: Tổng mức lương | J3: Các khoản giảm trừ | K3: Bảo hiểm người lao động đóng | L3: Cac khoan giam tru | M3: Thu nhap chiu thue | N3: TN tính thuế | O3: Giam tru thuế TNCN | P3: Tổng thực lĩnh | Q3: Ký nhận
D4: Lương CB | E4: ML tháng | K4: 0.105
A5: I | B5: Bộ phận QLDN | D5: =SUBTOTAL(9,D6:D7) -> 11000000 | E5: =SUBTOTAL(9,E6:E7) -> 15500000 | F5: =SUBTOTAL(9,F6:F7) -> 51 | G5: =SUBTOTAL(9,G6:G7) -> 15211538 | H5: =SUBTOTAL(9,H6:H7) -> 1360000 | I5: =SUBTOTAL(9,I6:I7) -> 16571538 | J5: =SUBTOTAL(9,J6:J7) -> 18000000 | K5: =SUBTOTAL(9,K6:K7) -> 1155000 | ... Q5: =SUBTOTAL(9,Q6:Q7) -> 0
A6: 1 | B6: Trần Duy Dương | D6: 6000000 | E6: 8000000 | F6: 26 | G6: =+E6/26*F6 -> 8000000 | H6: 680000 | I6: =SUM(G6:H6) -> 8680000 | J6: 9000000 | K6: =+D6*10.5% -> 630000 | L6: =SUM(J6:K6) -> 9630000 | M6: =I6-H6 -> 8000000 | N6: =MAX(M6-L6,0) -> 0 | O6: =+IF(N6<=5000000,N6*0.05,IF(N6<=10000000,250000+(N6-5000000)*0.1,IF(N6<=18000000,750000+(N6-10000000)*0.15))) -> 0 | P6: =+I6-K6-O6 -> 8050000
A7: =+A6+1 -> 2 | B7: Bùi Thị Khánh Hòa | D7: 5000000 | E7: 7500000 | F7: 25 | G7: =+E7/26*F7 -> 7211538.5 | H7: 680000 | I7: =SUM(G7:H7) -> 7891538.5 | J7: 9000000 | K7: =+D7*10.5% -> 525000 | L7: =SUM(J7:K7) -> 9525000 | M7: =I7-H7 -> 7211538.5 | N7: =MAX(M7-L7,0) -> 0 | O7: =+IF(N7<=5000000,N7*0.05,IF(N7<=10000000,250000+(N7-5000000)*0.1,IF(N7<=18000000,750000+(N7-10000000)*0.15))) -> 0 | P7: =+I7-K7-O7 -> 7366538.5
A8: II | B8: Bộ phận bán hàng | D8: =SUBTOTAL(9,D9:D11) -> 12000000 | E8: =SUBTOTAL(9,E9:E11) -> 14500000 | F8: =SUBTOTAL(9,F9:F11) -> 76 | G8: =SUBTOTAL(9,G9:G11) -> 14096154 | H8: =SUBTOTAL(9,H9:H11) -> 2040000 | I8: =SUBTOTAL(9,I9:I11) -> 16136154 | J8: =SUBTOTAL(9,J9:J11) -> 27000000 | K8: =SUBTOTAL(9,K9:K11) -> 1260000 | ... Q8: =SUBTOTAL(9,Q9:Q11) -> 0
A9: 3 | B9: Nguyễn Thị Quyên | D9: 4000000 | E9: 4500000 | F9: 25 | G9: =+E9/26*F9 -> 4326923.1 | H9: 680000 | I9: =SUM(G9:H9) -> 5006923.1 | J9: 9000000 | K9: =+D9*10.5% -> 420000 | L9: =SUM(J9:K9) -> 9420000 | M9: =I9-H9 -> 4326923.1 | N9: =MAX(M9-L9,0) -> 0 | O9: =+IF(N9<=5000000,N9*0.05,IF(N9<=10000000,250000+(N9-5000000)*0.1,IF(N9<=18000000,750000+(N9-10000000)*0.15))) -> 0 | P9: =+I9-K9-O9 -> 4586923.1
A10: 4 | B10: Dương Lan Phương | D10: 4000000 | E10: 4000000 | F10: 26 | G10: =+E10/26*F10 -> 4000000 | H10: 680000 | I10: =SUM(G10:H10) -> 4680000 | J10: 9000000 | K10: =+D10*10.5% -> 420000 | L10: =SUM(J10:K10) -> 9420000 | M10: =I10-H10 -> 4000000 | N10: =MAX(M10-L10,0) -> 0 | O10: =+IF(N10<=5000000,N10*0.05,IF(N10<=10000000,250000+(N10-5000000)*0.1,IF(N10<=18000000,750000+(N10-10000000)*0.15))) -> 0 | P10: =+I10-K10-O10 -> 4260000
A11: 5 | B11: Mai Thị Thùy | D11: 4000000 | E11: 6000000 | F11: 25 | G11: =+E11/26*F11 -> 5769230.8 | H11: 680000 | I11: =SUM(G11:H11) -> 6449230.8 | J11: 9000000 | K11: =+D11*10.5% -> 420000 | L11: =SUM(J11:K11) -> 9420000 | M11: =I11-H11 -> 5769230.8 | N11: =MAX(M11-L11,0) -> 0 | O11: =+IF(N11<=5000000,N11*0.05,IF(N11<=10000000,250000+(N11-5000000)*0.1,IF(N11<=18000000,750000+(N11-10000000)*0.15))) -> 0 | P11: =+I11-K11-O11 -> 6029230.8
B12: Tổng cộng | D12: =SUBTOTAL(9,D5:D11) -> 23000000 | E12: =SUBTOTAL(9,E5:E11) -> 30000000 | F12: =SUBTOTAL(9,F5:F11) -> 127 | G12: =SUBTOTAL(9,G5:G11) -> 29307692 | H12: =SUBTOTAL(9,H5:H11) -> 3400000 | I12: =SUBTOTAL(9,I5:I11) -> 32707692 | J12: =SUBTOTAL(9,J5:J11) -> 45000000 | K12: =SUBTOTAL(9,K5:K11) -> 2415000 | ... Q12: =SUBTOTAL(9,Q5:Q11) -> 0 | S12: 334
N13: =K13/9.5% -> 0

Sheet BPBTL
A1: Tên công ty | B1: Công ty TNHH THÀNH LONG
A2: Địa chỉ | B2: 289 Điện Biên Phủ, phường 6, Quận 3, Tp.HCM
A3: BẢNG PHÂN BỔ TIỀN LƯƠNG VÀ BẢO HIỂM XÃ HỘI
A5: STT | B5: Ghi có các TK | C5: TK 334 - Phải trả người lao động | F5: TK 338 - Phải trả, phải nộp khác | J5: Tổng Có TK 338 | K5: Tổng cộng
B6: Đối tượng sử dụng (Ghi Nợ các TK) | C6: Lương | D6: Khác | E6: Tổng Có TK 334 | F6: KPCĐ (2%) - 3382 | G6: BHXH (17,5%) - 3383 | H6: BHYT (3%) - 3384 | I6: BHTN (1%) - 3386
A7: A | B7: B | C7: 1 | D7: 2 | E7: 4 | F7: 5 | G7: 6 | H7: 7 | I7: 8 | J7: 9 | K7: 10
A8: 1 | B8: TK 641 - Chi phí bán hàng | C8: =Lương!I8 -> 16136154 | E8: =C8+D8 -> 16136154 | F8: =Lương!D8*2% -> 240000 | G8: =Lương!D8*17.5% -> 2100000 | H8: =Lương!D8*3% -> 360000 | I8: =Lương!D8*1% -> 120000 | J8: =SUM(F8:I8) -> 2820000 | K8: =J8+E8 -> 18956154
A9: 2 | B9: TK 642 - Chi phí quản lý doanh nghiệp | C9: =Lương!I5 -> 16571538 | E9: =C9+D9 -> 16571538 | F9: =Lương!D5*2% -> 220000 | G9: =Lương!D5*17.5% -> 1925000 | H9: =Lương!D5*3% -> 330000 | I9: =Lương!D5*1% -> 110000 | J9: =SUM(F9:I9) -> 2585000 | K9: =J9+E9 -> 19156538
A10: 3 | B10: TK 338 - Phải trả, phải nộp khác | E10: =C10+D10 -> 0 | F10: =C10*2% -> 0 | G10: =C10*18% -> 0 | H10: =C10*3% -> 0 | I10: =C10*1% -> 0 | J10: =SUM(F10:I10) -> 0 | K10: =J10+E10 -> 0
A11: 4 | B11: TK 353 - Quỹ khen thưởng, phúc lợi | E11: =C11+D11 -> 0 | F11: =C11*2% -> 0 | G11: =C11*18% -> 0 | H11: =C11*3% -> 0 | I11: =C11*1% -> 0 | J11: =SUM(F11:I11) -> 0 | K11: =J11+E11 -> 0
A12: 5 | B12: TK 334 - Phải trả người lao động | E12: =C12+D12 -> 0 | G12: =Lương!D15*8% -> 0 | H12: =Lương!D15*1.5% -> 0 | I12: =Lương!D15*1% -> 0 | J12: =SUM(F12:I12) -> 0 | K12: =J12+E12 -> 0
A13: Tổng cộng | C13: =SUBTOTAL(9,C8:C12) -> 32707692 | D13: =SUBTOTAL(9,D8:D12) -> 0 | E13: =SUBTOTAL(9,E8:E12) -> 32707692 | F13: =SUBTOTAL(9,F8:F12) -> 460000 | G13: =SUBTOTAL(9,G8:G12) -> 4025000 | H13: =SUBTOTAL(9,H8:H12) -> 690000 | I13: =SUBTOTAL(9,I8:I12) -> 230000 | J13: =SUBTOTAL(9,J8:J12) -> 5405000 | K13: =SUBTOTAL(9,K8:K12) -> 38112692

Sheet HH&KH,NCC
A1: Tên công ty | B1: Công ty TNHH THÀNH LONG
A2: Địa chỉ | B2: 289 Điện Biên Phủ, phường 6, Quận 3, Tp.HCM
A3: DANH MỤC VẬT TƯ HÀNG HÓA | H3: DANH MỤC KHÁCH HÀNG, NHÀ CUNG CẤP
A5: Mã hàng hóa | B5: Tên hàng hóa | C5: Đơn vị tính | H5: Mã KH, NCC | I5: Tên khách hàng, nhà cung cấp | J5: Địa chỉ | K5: Mã số thuế
A6: TLHITA395 | B6: Tủ lạnh Hitachi 395L | C6: Chiếc | H6: 131ANPHAT | I6: Công ty TNHH An Phát | J6: 613 Tây Sơn, Đống Đa, Hà Nội | K6: 0700780517
A7: TLHITA600 | B7: Tủ lạnh Hitachi 600L | C7: Chiếc | H7: 131GHOUSE | I7: Công ty TNHH GreenHouse | J7: 89/20 Nguyễn An Ninh, Hoàng Mai, HN | K7: 5500546237
A8: TLPANAINV | B8: Tủ lạnh Panasonic Inverter | C8: Chiếc | H8: 331ANDUONG | I8: Công ty CP đầu tư phát triển An Dương | J8: 45 Cầu Giấy, Cầu Giấy, HN | K8: 0105217190
A9: TLSHAP428 | B9: Tủ lạnh Sharp 428L | C9: Chiếc
A10: TLSHAP538 | B10: Tủ lạnh Sharp 538L | C10: Chiếc

Sheet PNK
A1: Tên công ty | B1: Công ty TNHH THÀNH LONG
A2: Địa chỉ | B2: 289 Điện Biên Phủ, phường 6, Quận 3, Tp.HCM
A3: BẢNG KÊ PHIẾU NHẬP KHO HÀNG HÓA
A4: Tháng 01 năm 2020
A5: Ngày tháng ghi sổ | B5: Chứng từ | D5: Diễn giải | E5: Mã hàng hóa | F5: Tên hàng hóa | G5: ĐVT | H5: Số lượng | I5: Thành tiền | J5: ĐIỂM
B6: Số PNK | C6: Số HĐ
A7: A | B7: B | C7: C | D7: D | E7: E | F7: F | G7: G | H7: 1 | I7: 3
A8: =IF(E8<>"",NKC!A9,"") -> 05/01/2018 | B8: PNK001 | C8: =IF(E8<>"",NKC!C9,"") -> HĐ0000278 | D8: =IF(E8<>"",NKC!E9,"") -> Nhập kho Tủ lạnh Hitachi 395L | E8: =IF(LEFT(NKC!F9,3)="156",NKC!L9,"") -> TLHITA395 | F8: =IF(E8<>"",VLOOKUP(E8,MaHH,2,0),"") -> Tủ lạnh Hitachi 395L | G8: =IF(E8<>"",VLOOKUP(E8,MaHH,3,0),"") -> Chiếc | H8: =IF(E8<>"",NKC!J9,0) -> 5 | I8: =IF(E8<>"",NKC!H9,0) -> 60000000 | J8: 1.5
A9: =IF(E9<>"",NKC!A10,"") -> 05/01/2018 | B9: PNK001 | C9: =IF(E9<>"",NKC!C10,"") -> HĐ0000278 | D9: =IF(E9<>"",NKC!E10,"") -> Nhập kho Tủ lạnh Hitachi 600L | E9: =IF(LEFT(NKC!F10,3)="156",NKC!L10,"") -> TLHITA600 | F9: =IF(E9<>"",VLOOKUP(E9,MaHH,2,0),"") -> Tủ lạnh Hitachi 600L | G9: =IF(E9<>"",VLOOKUP(E9,MaHH,3,0),"") -> Chiếc | H9: =IF(E9<>"",NKC!J10,0) -> 6 | I9: =IF(E9<>"",NKC!H10,0) -> 240000000
A10: =IF(E10<>"",NKC!A11,"") -> 05/01/2018 | B10: PNK001 | C10: =IF(E10<>"",NKC!C11,"") -> HĐ0000278 | D10: =IF(E10<>"",NKC!E11,"") -> Nhập kho Tủ lạnh Panasonic Inverter | E10: =IF(LEFT(NKC!F11,3)="156",NKC!L11,"") -> TLPANAINV | F10: =IF(E10<>"",VLOOKUP(E10,MaHH,2,0),"") -> Tủ lạnh Panasonic Inverter | G10: =IF(E10<>"",VLOOKUP(E10,MaHH,3,0),"") -> Chiếc | H10: =IF(E10<>"",NKC!J11,0) -> 4 | I10: =IF(E10<>"",NKC!H11,0) -> 20000000
A11: =IF(E11<>"",NKC!A12,"") | B11: =IF(LEFT(NKC!B12,3)="PNK",NKC!B12,"") | C11: =IF(E11<>"",NKC!C12,"") | D11: =IF(E11<>"",NKC!E12,"") | E11: =IF(LEFT(NKC!F12,3)="156",NKC!L12,"") | F11: =IF(E11<>"",VLOOKUP(E11,MaHH,2,0),"") | G11: =IF(E11<>"",VLOOKUP(E11,MaHH,3,0),"") | H11: =IF(E11<>"",NKC!J12,0) -> 0 | I11: =IF(E11<>"",NKC!H12,0) -> 0
A12: =IF(E12<>"",NKC!A13,"") | B12: =IF(LEFT(NKC!B13,3)="PNK",NKC!B13,"") | C12: =IF(E12<>"",NKC!C13,"") | D12: =IF(E12<>"",NKC!E13,"") | E12: =IF(LEFT(NKC!F13,3)="156",NKC!L13,"") | F12: =IF(E12<>"",VLOOKUP(E12,MaHH,2,0),"") | G12: =IF(E12<>"",VLOOKUP(E12,MaHH,3,0),"") | H12: =IF(E12<>"",NKC!J13,0) -> 0 | I12: =IF(E12<>"",NKC!H13,0) -> 0
A13: =IF(E13<>"",NKC!A14,"") | B13: =IF(LEFT(NKC!B14,3)="PNK",NKC!B14,"") | C13: =IF(E13<>"",NKC!C14,"") | D13: =IF(E13<>"",NKC!E14,"") | E13: =IF(LEFT(NKC!F14,3)="156",NKC!L14,"") | F13: =IF(E13<>"",VLOOKUP(E13,MaHH,2,0),"") | G13: =IF(E13<>"",VLOOKUP(E13,MaHH,3,0),"") | H13: =IF(E13<>"",NKC!J14,0) -> 0 | I13: =IF(E13<>"",NKC!H14,0) -> 0
A14: =IF(E14<>"",NKC!A15,"") | B14: =IF(LEFT(NKC!B15,3)="PNK",NKC!B15,"") | C14: =IF(E14<>"",NKC!C15,"") | D14: =IF(E14<>"",NKC!E15,"") | E14: =IF(LEFT(NKC!F15,3)="156",NKC!L15,"") | F14: =IF(E14<>"",VLOOKUP(E14,MaHH,2,0),"") | G14: =IF(E14<>"",VLOOKUP(E14,MaHH,3,0),"") | H14: =IF(E14<>"",NKC!J15,0) -> 0 | I14: =IF(E14<>"",NKC!H15,0) -> 0
A15: =IF(E15<>"",NKC!A18,"") | B15: =IF(LEFT(NKC!B18,3)="PNK",NKC!B18,"") | C15: =IF(E15<>"",NKC!C18,"") | D15: =IF(E15<>"",NKC!E18,"") | E15: =IF(LEFT(NKC!F18,3)="156",NKC!L18,"") | F15: =IF(E15<>"",VLOOKUP(E15,MaHH,2,0),"") | G15: =IF(E15<>"",VLOOKUP(E15,MaHH,3,0),"") | H15: =IF(E15<>"",NKC!J18,0) -> 0 | I15: =IF(E15<>"",NKC!H18,0) -> 0
A16: =IF(E16<>"",NKC!A19,"") | B16: =IF(LEFT(NKC!B19,3)="PNK",NKC!B19,"") | C16: =IF(E16<>"",NKC!C19,"") | D16: =IF(E16<>"",NKC!E19,"") | E16: =IF(LEFT(NKC!F19,3)="156",NKC!L19,"") | F16: =IF(E16<>"",VLOOKUP(E16,MaHH,2,0),"") | G16: =IF(E16<>"",VLOOKUP(E16,MaHH,3,0),"") | H16: =IF(E16<>"",NKC!J19,0) -> 0 | I16: =IF(E16<>"",NKC!H19,0) -> 0
A17: =IF(E17<>"",NKC!A20,"") | B17: =IF(LEFT(NKC!B20,3)="PNK",NKC!B20,"") | C17: =IF(E17<>"",NKC!C20,"") | D17: =IF(E17<>"",NKC!E20,"") | E17: =IF(LEFT(NKC!F20,3)="156",NKC!L20,"") | F17: =IF(E17<>"",VLOOKUP(E17,MaHH,2,0),"") | G17: =IF(E17<>"",VLOOKUP(E17,MaHH,3,0),"") | H17: =IF(E17<>"",NKC!J20,0) -> 0 | I17: =IF(E17<>"",NKC!H20,0) -> 0
A18: =IF(E18<>"",NKC!A23,"") | B18: =IF(LEFT(NKC!B23,3)="PNK",NKC!B23,"") | C18: =IF(E18<>"",NKC!C23,"") | D18: =IF(E18<>"",NKC!E23,"") | E18: =IF(LEFT(NKC!F23,3)="156",NKC!L23,"") | F18: =IF(E18<>"",VLOOKUP(E18,MaHH,2,0),"") | G18: =IF(E18<>"",VLOOKUP(E18,MaHH,3,0),"") | H18: =IF(E18<>"",NKC!J23,0) -> 0 | I18: =IF(E18<>"",NKC!H23,0) -> 0
A19: =IF(E19<>"",NKC!A24,"") | B19: =IF(LEFT(NKC!B24,3)="PNK",NKC!B24,"") | C19: =IF(E19<>"",NKC!C24,"") | D19: =IF(E19<>"",NKC!E24,"") | E19: =IF(LEFT(NKC!F24,3)="156",NKC!L24,"") | F19: =IF(E19<>"",VLOOKUP(E19,MaHH,2,0),"") | G19: =IF(E19<>"",VLOOKUP(E19,MaHH,3,0),"") | H19: =IF(E19<>"",NKC!J24,0) -> 0 | I19: =IF(E19<>"",NKC!H24,0) -> 0
A20: =IF(E20<>"",NKC!A25,"") | B20: =IF(LEFT(NKC!B25,3)="PNK",NKC!B25,"") | C20: =IF(E20<>"",NKC!C25,"") | D20: =IF(E20<>"",NKC!E25,"") | E20: =IF(LEFT(NKC!F25,3)="156",NKC!L25,"") | F20: =IF(E20<>"",VLOOKUP(E20,MaHH,2,0),"") | G20: =IF(E20<>"",VLOOKUP(E20,MaHH,3,0),"") | H20: =IF(E20<>"",NKC!J25,0) -> 0 | I20: =IF(E20<>"",NKC!H25,0) -> 0
A21: =IF(E21<>"",NKC!A26,"") | B21: =IF(LEFT(NKC!B26,3)="PNK",NKC!B26,"") | C21: =IF(E21<>"",NKC!C26,"") | D21: =IF(E21<>"",NKC!E26,"") | E21: =IF(LEFT(NKC!F26,3)="156",NKC!L26,"") | F21: =IF(E21<>"",VLOOKUP(E21,MaHH,2,0),"") | G21: =IF(E21<>"",VLOOKUP(E21,MaHH,3,0),"") | H21: =IF(E21<>"",NKC!J26,0) -> 0 | I21: =IF(E21<>"",NKC!H26,0) -> 0
A22: =IF(E22<>"",NKC!A27,"") | B22: =IF(LEFT(NKC!B27,3)="PNK",NKC!B27,"") | C22: =IF(E22<>"",NKC!C27,"") | D22: =IF(E22<>"",NKC!E27,"") | E22: =IF(LEFT(NKC!F27,3)="156",NKC!L27,"") | F22: =IF(E22<>"",VLOOKUP(E22,MaHH,2,0),"") | G22: =IF(E22<>"",VLOOKUP(E22,MaHH,3,0),"") | H22: =IF(E22<>"",NKC!J27,0) -> 0 | I22: =IF(E22<>"",NKC!H27,0) -> 0
A23: =IF(E23<>"",NKC!A28,"") | B23: =IF(LEFT(NKC!B28,3)="PNK",NKC!B28,"") | C23: =IF(E23<>"",NKC!C28,"") | D23: =IF(E23<>"",NKC!E28,"") | E23: =IF(LEFT(NKC!F28,3)="156",NKC!L28,"") | F23: =IF(E23<>"",VLOOKUP(E23,MaHH,2,0),"") | G23: =IF(E23<>"",VLOOKUP(E23,MaHH,3,0),"") | H23: =IF(E23<>"",NKC!J28,0) -> 0 | I23: =IF(E23<>"",NKC!H28,0) -> 0
A24: =IF(E24<>"",NKC!A29,"") | B24: =IF(LEFT(NKC!B29,3)="PNK",NKC!B29,"") | C24: =IF(E24<>"",NKC!C29,"") | D24: =IF(E24<>"",NKC!E29,"") | E24: =IF(LEFT(NKC!F29,3)="156",NKC!L29,"") | F24: =IF(E24<>"",VLOOKUP(E24,MaHH,2,0),"") | G24: =IF(E24<>"",VLOOKUP(E24,MaHH,3,0),"") | H24: =IF(E24<>"",NKC!J29,0) -> 0 | I24: =IF(E24<>"",NKC!H29,0) -> 0
A25: =IF(E25<>"",NKC!A30,"") | B25: =IF(LEFT(NKC!B30,3)="PNK",NKC!B30,"") | C25: =IF(E25<>"",NKC!C30,"") | D25: =IF(E25<>"",NKC!E30,"") | E25: =IF(LEFT(NKC!F30,3)="156",NKC!L30,"") | F25: =IF(E25<>"",VLOOKUP(E25,MaHH,2,0),"") | G25: =IF(E25<>"",VLOOKUP(E25,MaHH,3,0),"") | H25: =IF(E25<>"",NKC!J30,0) -> 0 | I25: =IF(E25<>"",NKC!H30,0) -> 0
A26: =IF(E26<>"",NKC!A31,"") | B26: =IF(LEFT(NKC!B31,3)="PNK",NKC!B31,"") | C26: =IF(E26<>"",NKC!C31,"") | D26: =IF(E26<>"",NKC!E31,"") | E26: =IF(LEFT(NKC!F31,3)="156",NKC!L31,"") | F26: =IF(E26<>"",VLOOKUP(E26,MaHH,2,0),"") | G26: =IF(E26<>"",VLOOKUP(E26,MaHH,3,0),"") | H26: =IF(E26<>"",NKC!J31,0) -> 0 | I26: =IF(E26<>"",NKC!H31,0) -> 0
A27: =IF(E27<>"",NKC!A32,"") | B27: =IF(LEFT(NKC!B32,3)="PNK",NKC!B32,"") | C27: =IF(E27<>"",NKC!C32,"") | D27: =IF(E27<>"",NKC!E32,"") | E27: =IF(LEFT(NKC!F32,3)="156",NKC!L32,"") | F27: =IF(E27<>"",VLOOKUP(E27,MaHH,2,0),"") | G27: =IF(E27<>"",VLOOKUP(E27,MaHH,3,0),"") | H27: =IF(E27<>"",NKC!J32,0) -> 0 | I27: =IF(E27<>"",NKC!H32,0) -> 0
A28: =IF(E28<>"",NKC!A33,"") | B28: =IF(LEFT(NKC!B33,3)="PNK",NKC!B33,"") | C28: =IF(E28<>"",NKC!C33,"") | D28: =IF(E28<>"",NKC!E33,"") | E28: =IF(LEFT(NKC!F33,3)="156",NKC!L33,"") | F28: =IF(E28<>"",VLOOKUP(E28,MaHH,2,0),"") | G28: =IF(E28<>"",VLOOKUP(E28,MaHH,3,0),"") | H28: =IF(E28<>"",NKC!J33,0) -> 0 | I28: =IF(E28<>"",NKC!H33,0) -> 0
A29: =IF(E29<>"",NKC!A34,"") | B29: =IF(LEFT(NKC!B34,3)="PNK",NKC!B34,"") | C29: =IF(E29<>"",NKC!C34,"") | D29: =IF(E29<>"",NKC!E34,"") | E29: =IF(LEFT(NKC!F34,3)="156",NKC!L34,"") | F29: =IF(E29<>"",VLOOKUP(E29,MaHH,2,0),"") | G29: =IF(E29<>"",VLOOKUP(E29,MaHH,3,0),"") | H29: =IF(E29<>"",NKC!J34,0) -> 0 | I29: =IF(E29<>"",NKC!H34,0) -> 0
... A32: =IF(E32<>"",NKC!A37,"") | B32: =IF(LEFT(NKC!B37,3)="PNK",NKC!B37,"") | C32: =IF(E32<>"",NKC!C37,"") | D32: =IF(E32<>"",NKC!E37,"") | E32: =IF(LEFT(NKC!F37,3)="156",NKC!L37,"") | F32: =IF(E32<>"",VLOOKUP(E32,MaHH,2,0),"") | G32: =IF(E32<>"",VLOOKUP(E32,MaHH,3,0),"") | H32: =IF(E32<>"",NKC!J37,0) -> 0 | I32: =IF(E32<>"",NKC!H37,0) -> 0
A33: Tổng cộng | H33: =SUM(H8:H32) -> 15 | I33: =SUM(I8:I32) -> 320000000
G35: Ngày 31 tháng 01 năm 2020
A36: Người lập | G36: Kế toán trưởng
A37: (Ký, họ tên) | G37: (Ký, họ tên)

Sheet PXK
A1: Tên công ty | B1: Công ty TNHH THÀNH LONG
A2: Địa chỉ | B2: 289 Điện Biên Phủ, phường 6, Quận 3, Tp.HCM
A4: BẢNG KÊ PHIẾU XUẤT KHO HÀNG HÓA
A5: Tháng 01 năm 2020
A6: Ngày tháng ghi sổ | B6: Chứng từ | D6: Diễn giải | E6: Mã hàng hóa | F6: Tên hàng hoá | G6: ĐVT | H6: SL | I6: Giá vốn | K6: ĐIỂM
B7: Số PXK | C7: Số HĐ | I7: Đơn giá | J7: Thành tiền
A8: A | B8: B | C8: C | D8: D | E8: E | F8: F | G8: G | H8: 1 | I8: 2 | J8: 3
A9: =IF(B9<>" ",NKC!B9," ") | B9: =IF(C9<>" ",NKC!C9," ") | C9: =IF(D9<>" ",NKC!D9," ") | D9: =IF(E9<>" ",NKC!E9," ") | E9: =IF(LEFT(NKC!G9,3)="156",NKC!L9," ") | F9: =IF(E9<>" ",NKC!M9," ") | G9: =IF(E9<>" ","Chiếc"," ") | H9: =IF(E9<>" ",NKC!J9,0) -> 0 | I9: =IF(E9<>" ",VLOOKUP(E9,NXT,8,0),0) -> 0 | J9: =H9*I9 -> 0
A10: =IF(B10<>" ",NKC!B10," ") | B10: =IF(C10<>" ",NKC!C10," ") | C10: =IF(D10<>" ",NKC!D10," ") | D10: =IF(E10<>" ",NKC!E10," ") | E10: =IF(LEFT(NKC!G10,3)="156",NKC!L10," ") | F10: =IF(E10<>" ",NKC!M10," ") | G10: =IF(E10<>" ","Chiếc"," ") | H10: =IF(E10<>" ",NKC!J10,0) -> 0 | I10: =IF(E10<>" ",VLOOKUP(E10,NXT,8,0),0) -> 0 | J10: =H10*I10 -> 0
A11: =IF(B11<>" ",NKC!B11," ") | B11: =IF(C11<>" ",NKC!C11," ") | C11: =IF(D11<>" ",NKC!D11," ") | D11: =IF(E11<>" ",NKC!E11," ") | E11: =IF(LEFT(NKC!G11,3)="156",NKC!L11," ") | F11: =IF(E11<>" ",NKC!M11," ") | G11: =IF(E11<>" ","Chiếc"," ") | H11: =IF(E11<>" ",NKC!J11,0) -> 0 | I11: =IF(E11<>" ",VLOOKUP(E11,NXT,8,0),0) -> 0 | J11: =H11*I11 -> 0
A12: =IF(B12<>" ",NKC!B12," ") | B12: =IF(C12<>" ",NKC!C12," ") | C12: =IF(D12<>" ",NKC!D12," ") | D12: =IF(E12<>" ",NKC!E12," ") | E12: =IF(LEFT(NKC!G12,3)="156",NKC!L12," ") | F12: =IF(E12<>" ",NKC!M12," ") | G12: =IF(E12<>" ","Chiếc"," ") | H12: =IF(E12<>" ",NKC!J12,0) -> 0 | I12: =IF(E12<>" ",VLOOKUP(E12,NXT,8,0),0) -> 0 | J12: =H12*I12 -> 0
A13: =IF(B13<>" ",NKC!B13," ") | B13: =IF(C13<>" ",NKC!C13," ") | C13: =IF(D13<>" ",NKC!D13," ") | D13: =IF(E13<>" ",NKC!E13," ") | E13: =IF(LEFT(NKC!G13,3)="156",NKC!L13," ") | F13: =IF(E13<>" ",NKC!M13," ") | G13: =IF(E13<>" ","Chiếc"," ") | H13: =IF(E13<>" ",NKC!J13,0) -> 0 | I13: =IF(E13<>" ",VLOOKUP(E13,NXT,8,0),0) -> 0 | J13: =H13*I13 -> 0
A14: =IF(B14<>" ",NKC!B14," ") | B14: =IF(C14<>" ",NKC!C14," ") | C14: =IF(D14<>" ",NKC!D14," ") | D14: =IF(E14<>" ",NKC!E14," ") | E14: =IF(LEFT(NKC!G14,3)="156",NKC!L14," ") | F14: =IF(E14<>" ",NKC!M14," ") | G14: =IF(E14<>" ","Chiếc"," ") | H14: =IF(E14<>" ",NKC!J14,0) -> 0 | I14: =IF(E14<>" ",VLOOKUP(E14,NXT,8,0),0) -> 0 | J14: =H14*I14 -> 0
A15: =IF(B15<>" ",NKC!B15," ") | B15: =IF(C15<>" ",NKC!C15," ") | C15: =IF(D15<>" ",NKC!D15," ") | D15: =IF(E15<>" ",NKC!E15," ") | E15: =IF(LEFT(NKC!G15,3)="156",NKC!L15," ") | F15: =IF(E15<>" ",NKC!M15," ") | G15: =IF(E15<>" ","Chiếc"," ") | H15: =IF(E15<>" ",NKC!J15,0) -> 0 | I15: =IF(E15<>" ",VLOOKUP(E15,NXT,8,0),0) -> 0 | J15: =H15*I15 -> 0
A16: =IF(B16<>" ",NKC!B16," ") -> HĐ1002341 | B16: =IF(C16<>" ",NKC!C16," ") -> PXK001 | C16: =IF(D16<>" ",NKC!D16," ") -> 08/01/2019 | D16: =IF(E16<>" ",NKC!E16," ") -> Giá vốn xuất kho Tủ lạnh Sharp 428L | E16: =IF(LEFT(NKC!G16,3)="156",NKC!L16," ") -> TLSHAP428 | F16: =IF(E16<>" ",NKC!M16," ") -> Tủ lạnh Sharp 428L | G16: =IF(E16<>" ","Chiếc"," ") -> Chiếc | H16: =IF(E16<>" ",NKC!J16,0) -> 2 | I16: =IF(E16<>" ",VLOOKUP(E16,NXT,8,0),0) -> 8300000 | J16: =H16*I16 -> 16600000 | K16: 1.5
A17: =IF(B17<>" ",NKC!B17," ") -> HĐ1002341 | B17: =IF(C17<>" ",NKC!C17," ") -> PXK001 | C17: =IF(D17<>" ",NKC!D17," ") -> 08/01/2019 | D17: =IF(E17<>" ",NKC!E17," ") -> Giá vốn xuất kho Tủ lạnh Sharp 538L | E17: =IF(LEFT(NKC!G17,3)="156",NKC!L17," ") -> TLSHAP538 | F17: =IF(E17<>" ",NKC!M17," ") -> Tủ lạnh Sharp 538L | G17: =IF(E17<>" ","Chiếc"," ") -> Chiếc | H17: =IF(E17<>" ",NKC!J17,0) -> 1 | I17: =IF(E17<>" ",VLOOKUP(E17,NXT,8,0),0) -> 24000000 | J17: =H17*I17 -> 24000000
A18: =IF(B18<>" ",NKC!B18," ") | B18: =IF(C18<>" ",NKC!C18," ") | C18: =IF(D18<>" ",NKC!D18," ") | D18: =IF(E18<>" ",NKC!E18," ") | E18: =IF(LEFT(NKC!G18,3)="156",NKC!L18," ") | F18: =IF(E18<>" ",NKC!M18," ") | G18: =IF(E18<>" ","Chiếc"," ") | H18: =IF(E18<>" ",NKC!J18,0) -> 0 | I18: =IF(E18<>" ",VLOOKUP(E18,NXT,8,0),0) -> 0 | J18: =H18*I18 -> 0
A19: =IF(B19<>" ",NKC!B19," ") | B19: =IF(C19<>" ",NKC!C19," ") | C19: =IF(D19<>" ",NKC!D19," ") | D19: =IF(E19<>" ",NKC!E19," ") | E19: =IF(LEFT(NKC!G19,3)="156",NKC!L19," ") | F19: =IF(E19<>" ",NKC!M19," ") | G19: =IF(E19<>" ","Chiếc"," ") | H19: =IF(E19<>" ",NKC!J19,0) -> 0 | I19: =IF(E19<>" ",VLOOKUP(E19,NXT,8,0),0) -> 0 | J19: =H19*I19 -> 0
A20: =IF(B20<>" ",NKC!B20," ") | B20: =IF(C20<>" ",NKC!C20," ") | C20: =IF(D20<>" ",NKC!D20," ") | D20: =IF(E20<>" ",NKC!E20," ") | E20: =IF(LEFT(NKC!G20,3)="156",NKC!L20," ") | F20: =IF(E20<>" ",NKC!M20," ") | G20: =IF(E20<>" ","Chiếc"," ") | H20: =IF(E20<>" ",NKC!J20,0) -> 0 | I20: =IF(E20<>" ",VLOOKUP(E20,NXT,8,0),0) -> 0 | J20: =H20*I20 -> 0
A21: =IF(B21<>" ",NKC!B21," ") -> HĐ1002342 | B21: =IF(C21<>" ",NKC!C21," ") -> PXK002 | C21: =IF(D21<>" ",NKC!D21," ") -> 15/01/2019 | D21: =IF(E21<>" ",NKC!E23," ") -> Phân bổ chi phí trả trước của BPBH | E21: =IF(LEFT(NKC!G21,3)="156",NKC!L21," ") -> TLHITA395 | F21: =IF(E21<>" ",NKC!M21," ") -> Tủ lạnh Hitachi 395L | G21: =IF(E21<>" ","Chiếc"," ") -> Chiếc | H21: =IF(E21<>" ",NKC!J21,0) -> 5 | I21: =IF(E21<>" ",VLOOKUP(E21,NXT,8,0),0) -> 12000000 | J21: =H21*I21 -> 60000000
A22: =IF(B22<>" ",NKC!B22," ") -> HĐ1002342 | B22: =IF(C22<>" ",NKC!C22," ") -> PXK002 | C22: =IF(D22<>" ",NKC!D22," ") -> 15/01/2019 | D22: =IF(E22<>" ",NKC!E24," ") -> Phân bổ chi phí trả trước của BPQL | E22: =IF(LEFT(NKC!G22,3)="156",NKC!L22," ") -> TLHITA600 | F22: =IF(E22<>" ",NKC!M22," ") -> Tủ lạnh Hitachi 600L | G22: =IF(E22<>" ","Chiếc"," ") -> Chiếc | H22: =IF(E22<>" ",NKC!J22,0) -> 4 | I22: =IF(E22<>" ",VLOOKUP(E22,NXT,8,0),0) -> 40000000 | J22: =H22*I22 -> 160000000
A23: =IF(B23<>" ",NKC!B23," ") | B23: =IF(C23<>" ",NKC!C23," ") | C23: =IF(D23<>" ",NKC!D23," ") | D23: =IF(E23<>" ",NKC!E25," ") | E23: =IF(LEFT(NKC!G23,3)="156",NKC!L23," ") | F23: =IF(E23<>" ",NKC!M23," ") | G23: =IF(E23<>" ","Chiếc"," ") | H23: =IF(E23<>" ",NKC!J23,0) -> 0 | I23: =IF(E23<>" ",VLOOKUP(E23,NXT,8,0),0) -> 0 | J23: =H23*I23 -> 0
A24: =IF(B24<>" ",NKC!B24," ") | B24: =IF(C24<>" ",NKC!C24," ") | C24: =IF(D24<>" ",NKC!D24," ") | D24: =IF(E24<>" ",NKC!E26," ") | E24: =IF(LEFT(NKC!G24,3)="156",NKC!L24," ") | F24: =IF(E24<>" ",NKC!M24," ") | G24: =IF(E24<>" ","Chiếc"," ") | H24: =IF(E24<>" ",NKC!J24,0) -> 0 | I24: =IF(E24<>" ",VLOOKUP(E24,NXT,8,0),0) -> 0 | J24: =H24*I24 -> 0
A25: =IF(B25<>" ",NKC!B25," ") | B25: =IF(C25<>" ",NKC!C25," ") | C25: =IF(D25<>" ",NKC!D25," ") | D25: =IF(E25<>" ",NKC!E27," ") | E25: =IF(LEFT(NKC!G25,3)="156",NKC!L25," ") | F25: =IF(E25<>" ",NKC!M25," ") | G25: =IF(E25<>" ","Chiếc"," ") | H25: =IF(E25<>" ",NKC!J25,0) -> 0 | I25: =IF(E25<>" ",VLOOKUP(E25,NXT,8,0),0) -> 0 | J25: =H25*I25 -> 0
A26: =IF(B26<>" ",NKC!B26," ") | B26: =IF(C26<>" ",NKC!C26," ") | C26: =IF(D26<>" ",NKC!D26," ") | D26: =IF(E26<>" ",NKC!E28," ") | E26: =IF(LEFT(NKC!G26,3)="156",NKC!L26," ") | F26: =IF(E26<>" ",NKC!M26," ") | G26: =IF(E26<>" ","Chiếc"," ") | H26: =IF(E26<>" ",NKC!J26,0) -> 0 | I26: =IF(E26<>" ",VLOOKUP(E26,NXT,8,0),0) -> 0 | J26: =H26*I26 -> 0
A27: =IF(B27<>" ",NKC!B27," ") | B27: =IF(C27<>" ",NKC!C27," ") | C27: =IF(D27<>" ",NKC!D27," ") | D27: =IF(E27<>" ",NKC!E29," ") | E27: =IF(LEFT(NKC!G27,3)="156",NKC!L27," ") | F27: =IF(E27<>" ",NKC!M27," ") | G27: =IF(E27<>" ","Chiếc"," ") | H27: =IF(E27<>" ",NKC!J27,0) -> 0 | I27: =IF(E27<>" ",VLOOKUP(E27,NXT,8,0),0) -> 0 | J27: =H27*I27 -> 0
A28: =IF(B28<>" ",NKC!B28," ") | B28: =IF(C28<>" ",NKC!C28," ") | C28: =IF(D28<>" ",NKC!D28," ") | D28: =IF(E28<>" ",NKC!E30," ") | E28: =IF(LEFT(NKC!G28,3)="156",NKC!L28," ") | F28: =IF(E28<>" ",NKC!M28," ") | G28: =IF(E28<>" ","Chiếc"," ") | H28: =IF(E28<>" ",NKC!J28,0) -> 0 | I28: =IF(E28<>" ",VLOOKUP(E28,NXT,8,0),0) -> 0 | J28: =H28*I28 -> 0
A29: =IF(B29<>" ",NKC!B29," ") | B29: =IF(C29<>" ",NKC!C29," ") | C29: =IF(D29<>" ",NKC!D29," ") | D29: =IF(E29<>" ",NKC!E31," ") | E29: =IF(LEFT(NKC!G29,3)="156",NKC!L29," ") | F29: =IF(E29<>" ",NKC!M29," ") | G29: =IF(E29<>" ","Chiếc"," ") | H29: =IF(E29<>" ",NKC!J29,0) -> 0 | I29: =IF(E29<>" ",VLOOKUP(E29,NXT,8,0),0) -> 0 | J29: =H29*I29 -> 0
A30: =IF(B30<>" ",NKC!B30," ") | B30: =IF(C30<>" ",NKC!C30," ") | C30: =IF(D30<>" ",NKC!D30," ") | D30: =IF(E30<>" ",NKC!E32," ") | E30: =IF(LEFT(NKC!G30,3)="156",NKC!L30," ") | F30: =IF(E30<>" ",NKC!M30," ") | G30: =IF(E30<>" ","Chiếc"," ") | H30: =IF(E30<>" ",NKC!J30,0) -> 0 | I30: =IF(E30<>" ",VLOOKUP(E30,NXT,8,0),0) -> 0 | J30: =H30*I30 -> 0
A31: =IF(B31<>" ",NKC!B31," ") | B31: =IF(C31<>" ",NKC!C31," ") | C31: =IF(D31<>" ",NKC!D31," ") | D31: =IF(E31<>" ",NKC!E33," ") | E31: =IF(LEFT(NKC!G31,3)="156",NKC!L31," ") | F31: =IF(E31<>" ",NKC!M31," ") | G31: =IF(E31<>" ","Chiếc"," ") | H31: =IF(E31<>" ",NKC!J31,0) -> 0 | I31: =IF(E31<>" ",VLOOKUP(E31,NXT,8,0),0) -> 0 | J31: =H31*I31 -> 0
A32: =IF(B32<>" ",NKC!B32," ") | B32: =IF(C32<>" ",NKC!C32," ") | C32: =IF(D32<>" ",NKC!D32," ") | D32: =IF(E32<>" ",NKC!E34," ") | E32: =IF(LEFT(NKC!G32,3)="156",NKC!L32," ") | F32: =IF(E32<>" ",NKC!M32," ") | G32: =IF(E32<>" ","Chiếc"," ") | H32: =IF(E32<>" ",NKC!J32,0) -> 0 | I32: =IF(E32<>" ",VLOOKUP(E32,NXT,8,0),0) -> 0 | J32: =H32*I32 -> 0
... A38: =IF(B38<>" ",NKC!B38," ") | B38: =IF(C38<>" ",NKC!C38," ") | C38: =IF(D38<>" ",NKC!D38," ") | D38: =IF(E38<>" ",NKC!E40," ") | E38: =IF(LEFT(NKC!G38,3)="156",NKC!L38," ") | F38: =IF(E38<>" ",NKC!M38," ") | G38: =IF(E38<>" ","Chiếc"," ") | H38: =IF(E38<>" ",NKC!J38,0) -> 0 | I38: =IF(E38<>" ",VLOOKUP(E38,NXT,8,0),0) -> 0 | J38: =H38*I38 -> 0
A39: =IF(B39<>" ",NKC!B39," ") | B39: =IF(C39<>" ",NKC!C39," ") | C39: =IF(D39<>" ",NKC!D39," ") | D39: =IF(E39<>" ",NKC!E42," ") | E39: =IF(LEFT(NKC!G39,3)="156",NKC!L39," ") | F39: =IF(E39<>" ",NKC!M39," ") | G39: =IF(E39<>" ","Chiếc"," ") | H39: =IF(E39<>" ",NKC!J39,0) -> 0 | I39: =IF(E39<>" ",VLOOKUP(E39,NXT,8,0),0) -> 0 | J39: =H39*I39 -> 0
A40: =IF(B40<>" ",NKC!B40," ") | B40: =IF(C40<>" ",NKC!C40," ") | C40: =IF(D40<>" ",NKC!D40," ") | D40: =IF(E40<>" ",NKC!E43," ") | E40: =IF(LEFT(NKC!G40,3)="156",NKC!L40," ") | F40: =IF(E40<>" ",NKC!M40," ") | G40: =IF(E40<>" ","Chiếc"," ") | H40: =IF(E40<>" ",NKC!J40,0) -> 0 | I40: =IF(E40<>" ",VLOOKUP(E40,NXT,8,0),0) -> 0 | J40: =H40*I40 -> 0
A41: =IF(B41<>" ",NKC!B42," ") | B41: =IF(C41<>" ",NKC!C42," ") | C41: =IF(D41<>" ",NKC!D42," ") | D41: =IF(E41<>" ",NKC!E44," ") | E41: =IF(LEFT(NKC!G42,3)="156",NKC!L42," ") | F41: =IF(E41<>" ",NKC!M42," ") | G41: =IF(E41<>" ","Chiếc"," ") | H41: =IF(E41<>" ",NKC!J42,0) -> 0 | I41: =IF(E41<>" ",VLOOKUP(E41,NXT,8,0),0) -> 0 | J41: =H41*I41 -> 0
A42: Tổng cộng | H42: =SUBTOTAL(9,H9:H41) -> 12 | J42: =SUM(J9:J41) -> 260600000
J44: Ngày 31 tháng 01 năm 2018
D45: Người lập | J45: Kế toán trưởng
D46: (Ký, họ tên) | J46: (Ký, họ tên)

Sheet NXT
A1: Tên công ty | B1: Công ty TNHH THÀNH LONG
A2: Địa chỉ | B2: 289 Điện Biên Phủ, phường 6, Quận 3, Tp.HCM
A4: BÁO CÁO NHẬP, XUẤT, TỒN KHO
A5: Tháng 01 năm 2020
A6: Mã hàng hóa | B6: Tên hàng hóa | C6: ĐVT | D6: Tồn kho đầu kỳ | F6: Nhập trong kỳ | H6: Xuất trong kỳ | K6: Tồn kho cuối kỳ | M6: ĐIỂM
D7: SL | E7: Thành tiền | F7: SL | G7: Thành tiền | H7: Đơn giá xuất kho | I7: SL | J7: Thành tiền | K7: SL | L7: Thành tiền
A8: A | B8: B | C8: C | D8: 1 | E8: 2 | F8: 3 | G8: 4 | H8: 5 | I8: 6 | J8: 7 | K8: 8 | L8: 9
A9: TLHITA395 | B9: =VLOOKUP(A9,danhmuchh,2,0) -> Tủ lạnh Hitachi 395L | C9: =VLOOKUP(A9,danhmuchh,3,0) -> Chiếc | D9: 2 | E9: 24000000 | F9: =SUMIF(PNK!$E$8:$E$32,NXT!A9,PNK!$H$8:$H$32) -> 5 | G9: =SUMIF(PNK!$E$8:$E$32,NXT!A9,PNK!$I$8:$I$32) -> 60000000 | H9: =IF((D9+F9)<>0,(E9+G9)/(D9+F9),0) -> 12000000 | I9: =SUMIF(PXK!$E$9:$E$41,NXT!A9,PXK!$H$9:$H$41) -> 5 | J9: =H9*I9 -> 60000000 | K9: =D9+F9-I9 -> 2 | L9: =E9+G9-J9 -> 24000000 | M9: 1.5
A10: TLHITA600 | B10: =VLOOKUP(A10,danhmuchh,2,0) -> Tủ lạnh Hitachi 600L | C10: =VLOOKUP(A10,danhmuchh,3,0) -> Chiếc | D10: 5 | E10: 200000000 | F10: =SUMIF(PNK!$E$8:$E$32,NXT!A10,PNK!$H$8:$H$32) -> 6 | G10: =SUMIF(PNK!$E$8:$E$32,NXT!A10,PNK!$I$8:$I$32) -> 240000000 | H10: =IF((D10+F10)<>0,(E10+G10)/(D10+F10),0) -> 40000000 | I10: =SUMIF(PXK!$E$9:$E$41,NXT!A10,PXK!$H$9:$H$41) -> 4 | J10: =H10*I10 -> 160000000 | K10: =D10+F10-I10 -> 7 | L10: =E10+G10-J10 -> 280000000
A11: TLPANAINV | B11: =VLOOKUP(A11,danhmuchh,2,0) -> Tủ lạnh Panasonic Inverter | C11: =VLOOKUP(A11,danhmuchh,3,0) -> Chiếc | D11: 5 | E11: 26000000 | F11: =SUMIF(PNK!$E$8:$E$32,NXT!A11,PNK!$H$8:$H$32) -> 4 | G11: =SUMIF(PNK!$E$8:$E$32,NXT!A11,PNK!$I$8:$I$32) -> 20000000 | H11: =IF((D11+F11)<>0,(E11+G11)/(D11+F11),0) -> 5111111.1 | I11: =SUMIF(PXK!$E$9:$E$41,NXT!A11,PXK!$H$9:$H$41) -> 0 | J11: =H11*I11 -> 0 | K11: =D11+F11-I11 -> 9 | L11: =E11+G11-J11 -> 46000000
A12: TLSHAP428 | B12: =VLOOKUP(A12,danhmuchh,2,0) -> Tủ lạnh Sharp 428L | C12: =VLOOKUP(A12,danhmuchh,3,0) -> Chiếc | D12: 4 | E12: 33200000 | F12: =SUMIF(PNK!$E$8:$E$32,NXT!A12,PNK!$H$8:$H$32) -> 0 | G12: =SUMIF(PNK!$E$8:$E$32,NXT!A12,PNK!$I$8:$I$32) -> 0 | H12: =IF((D12+F12)<>0,(E12+G12)/(D12+F12),0) -> 8300000 | I12: =SUMIF(PXK!$E$9:$E$41,NXT!A12,PXK!$H$9:$H$41) -> 2 | J12: =H12*I12 -> 16600000 | K12: =D12+F12-I12 -> 2 | L12: =E12+G12-J12 -> 16600000
A13: TLSHAP538 | B13: =VLOOKUP(A13,danhmuchh,2,0) -> Tủ lạnh Sharp 538L | C13: =VLOOKUP(A13,danhmuchh,3,0) -> Chiếc | D13: 5 | E13: 120000000 | F13: =SUMIF(PNK!$E$8:$E$32,NXT!A13,PNK!$H$8:$H$32) -> 0 | G13: =SUMIF(PNK!$E$8:$E$32,NXT!A13,PNK!$I$8:$I$32) -> 0 | H13: =IF((D13+F13)<>0,(E13+G13)/(D13+F13),0) -> 24000000 | I13: =SUMIF(PXK!$E$9:$E$41,NXT!A13,PXK!$H$9:$H$41) -> 1 | J13: =H13*I13 -> 24000000 | K13: =D13+F13-I13 -> 4 | L13: =E13+G13-J13 -> 96000000
A14: Tổng cộng | D14: =SUM(D9:D13) -> 21 | E14: =SUM(E9:E13) -> 403200000 | F14: =SUM(F9:F13) -> 15 | G14: =SUM(G9:G13) -> 320000000 | I14: =SUM(I9:I13) -> 12 | J14: =SUM(J9:J13) -> 260600000 | K14: =SUM(K9:K13) -> 24 | L14: =SUM(L9:L13) -> 462600000
I16: Ngày 31 tháng 01 năm 2020
A17: Người lập | I17: Kế toán trưởng
A18: (Ký, họ tên) | I18: (Ký, họ tên)
