Workbook

Sheet Mau 1
A1: TRƯỜNG CAO ĐẲNG LÝ TỰ TRỌNG | E1: CỘNG HÒA XÃ HỘI CHỦ NGHĨA VIỆT NAM
A2: THÀNH PHỐ HỒ CHÍ MINH | E2: Độc lập - Tự do - Hạnh phúc
A3: KHOA LÝ LUẬN CHÍNH TRỊ
G4: Mẫu 1
A5: Danh sách CB-GV-NV tham gia thực hiện bài viết sáng kiến, bài viết Hội thảo cấp trường, cấp đơn vị, giảng viên dạy giỏi, bài báo được đăng trên các tạp chí theo quy định, tham gia đề tài NCKH đã được nghiệm thu,... (Quy định số 1375/QyĐ-LTT-TĐ ngày 29/11/2021 của Trường)
A7: TT | B7: Họ tên | C7: Mã E-Office | D7: Điều kiện xếp loại thi đua A1 (Ghi rõ nội dung tiêu chuẩn: số Quyết định, thời gian, cơ quan ban hành,…) | E7: Điều kiện xếp loại thi đua A2 (Ghi rõ nội dung tiêu chuẩn: số Quyết định, thời gian, cơ quan ban hành,…) | F7: Điều kiện xếp loại thi đua A3 (Ghi rõ nội dung tiêu chuẩn: số Quyết định, thời gian, cơ quan ban hành,…) | G7: Ghi chú
A8: I. Viên chức
A9: 1 | B9: Nguyễn Thị Dinh | C9: 1011005 | D9: - 01 bài đăng trên tạp chí Giáo dục lý luận (Kì 1 - 7/2021) 0,25 điểm | E9: Có Bài viết đăng Kỷ yếu hội thảo cấp trường COSS 2021 chuyên đề “Nâng cao chất lượng đội ngũ giảng viên, cán bộ, nhân viên trong quá trình chuyển đổi mô hình đào tạo ở Nhà trường thông minh dưới tác động của cuộc cách mạng công nghiệp 4.0” | F9: - Bài viết đăng kỷ yếu hội thảo khoa tháng 8/2021 chuyên đề “ “Nâng cao chất lượng đội ngũ giảng viên khoa Lý luận chính trị trong quá trình chuyển đổi mô hình đào tạo ở Nhà trường thông minh dưới tác động của cuộc Cách mạng công nghiệp 4.0 tại trường CĐ Lý Tự Trọng TP Hồ Chí Minh” - Có bài tham gia hội thảo "GIẢI PHÁP NÂNG CAO CHẤT LƯỢNG DẠY VÀ HỌC TRỰC TUYẾN khoa Lý luận chính trị
A10: 2 | B10: Bùi Thành Dũng | C10: 1011011 | E10: Có Bài viết đăng Kỷ yếu hội thảo cấp trường COSS 2021 chuyên đề “Nâng cao chất lượng đội ngũ giảng viên, cán bộ, nhân viên trong quá trình chuyển đổi mô hình đào tạo ở Nhà trường thông minh dưới tác động của cuộc cách mạng công nghiệp 4.0” | F10: - Bài viết đăng kỷ yếu hội thảo khoa tháng 8/2021 chuyên đề “ “Nâng cao chất lượng đội ngũ giảng viên khoa Lý luận chính trị trong quá trình chuyển đổi mô hình đào tạo ở Nhà trường thông minh dưới tác động của cuộc Cách mạng công nghiệp 4.0 tại trường CĐ Lý Tự Trọng TP Hồ Chí Minh” - Có bài tham gia hội thảo "GIẢI PHÁP NÂNG CAO CHẤT LƯỢNG DẠY VÀ HỌC TRỰC TUYẾN khoa Lý luận chính trị
A11: 3 | B11: Lê Thị Mai Hường | C11: 1011013 | D11: - 01 bài đăng trên tạp chí Giáo dục Lý luận số 324 T6/2021 (ISSN 0608-3492) 0.5 điểm | F11: - Bài viết đăng kỷ yếu hội thảo khoa tháng 8/2021 chuyên đề “ “Nâng cao chất lượng đội ngũ giảng viên khoa Lý luận chính trị trong quá trình chuyển đổi mô hình đào tạo ở Nhà trường thông minh dưới tác động của cuộc Cách mạng công nghiệp 4.0 tại trường CĐ Lý Tự Trọng TP Hồ Chí Minh” - Có bài tham gia hội thảo "GIẢI PHÁP NÂNG CAO CHẤT LƯỢNG DẠY VÀ HỌC TRỰC TUYẾN khoa Lý luận chính trị
A12: 4 | B12: Đinh Thị Huyên | C12: 1011009 | D12: - 01 bài đăng trên tạp chí Thiết Bị Dạy học T12/2020 (0.5 điểm) - 1 bài đăng trên tạp chí Thiết Bị Dạy học T1/2021(0.5 điểm) -1 bài đăng trên tạp chí Thiết Bị Dạy học T 2/2021(0.5 điểm) -1 bài đăng trên tạp chí Thiết Bị Giáo dục T5/2021 (2 tác giả) (0.5 điểm) - 01 bài đăng trên tạp chí Công thương T1/2021 (0.5 điểm) | E12: Có Bài viết đăng Kỷ yếu hội thảo cấp trường COSS 2021 chuyên đề “Nâng cao chất lượng đội ngũ giảng viên, cán bộ, nhân viên trong quá trình chuyển đổi mô hình đào tạo ở Nhà trường thông minh dưới tác động của cuộc cách mạng công nghiệp 4.0” | F12: - Bài viết đăng kỷ yếu hội thảo khoa tháng 8/2021 chuyên đề “ “Nâng cao chất lượng đội ngũ giảng viên khoa Lý luận chính trị trong quá trình chuyển đổi mô hình đào tạo ở Nhà trường thông minh dưới tác động của cuộc Cách mạng công nghiệp 4.0 tại trường CĐ Lý Tự Trọng TP Hồ Chí Minh” - Có bài tham gia hội thảo "GIẢI PHÁP NÂNG CAO CHẤT LƯỢNG DẠY VÀ HỌC TRỰC TUYẾN khoa Lý luận chính trị
A13: 5 | B13: Nguyễn Anh Kiệt | C13: 1011001 | D13: - 01 bài đăng trên tạp chí Dạy và Học (Kì 1 - 03/2021) 0,25 điểm - 01 bài đăng trên tạp chí Dạy và Học (Kì 2 - 04/2021) 0,25 điểm - 01 bài đăng trên tạp chí Dạy và Học (Kì 1 - 05/2021) 0,25 điểm | F13: - Bài viết đăng kỷ yếu hội thảo khoa tháng 8/2021 chuyên đề “ “Nâng cao chất lượng đội ngũ giảng viên khoa Lý luận chính trị trong quá trình chuyển đổi mô hình đào tạo ở Nhà trường thông minh dưới tác động của cuộc Cách mạng công nghiệp 4.0 tại trường CĐ Lý Tự Trọng TP Hồ Chí Minh”
A14: 6 | B14: Trần Văn Lượng | C14: 1011014 | E14: Có Bài viết đăng Kỷ yếu hội thảo cấp trường COSS 2021 chuyên đề “Nâng cao chất lượng đội ngũ giảng viên, cán bộ, nhân viên trong quá trình chuyển đổi mô hình đào tạo ở Nhà trường thông minh dưới tác động của cuộc cách mạng công nghiệp 4.0” | F14: - Bài viết đăng kỷ yếu hội thảo khoa tháng 8/2021 chuyên đề “ “Nâng cao chất lượng đội ngũ giảng viên khoa Lý luận chính trị trong quá trình chuyển đổi mô hình đào tạo ở Nhà trường thông minh dưới tác động của cuộc Cách mạng công nghiệp 4.0 tại trường CĐ Lý Tự Trọng TP Hồ Chí Minh” - Có bài tham gia hội thảo "GIẢI PHÁP NÂNG CAO CHẤT LƯỢNG DẠY VÀ HỌC TRỰC TUYẾN khoa Lý luận chính trị -Có bài viết sáng kiến được công nhận phạm vi ảnh hưởng cấp trường trong năm học 2020-2021 (QĐ số 358/QĐ-LTT-HĐSK ngày 08/4/2021)
A15: 7 | B15: Đặng Thị Nhật Minh | C15: 1010005 | D15: - 01 bài đăng trên tạp chí Dạy và Học (Kì 2 - 04/2021) 0,25 điểm (150 giờ) | E15: Có Bài viết đăng Kỷ yếu hội thảo cấp trường COSS 2021 chuyên đề “Nâng cao chất lượng đội ngũ giảng viên, cán bộ, nhân viên trong quá trình chuyển đổi mô hình đào tạo ở Nhà trường thông minh dưới tác động của cuộc cách mạng công nghiệp 4.0” | F15: - Bài viết đăng kỷ yếu hội thảo khoa tháng 8/2021 chuyên đề “ “Nâng cao chất lượng đội ngũ giảng viên khoa Lý luận chính trị trong quá trình chuyển đổi mô hình đào tạo ở Nhà trường thông minh dưới tác động của cuộc Cách mạng công nghiệp 4.0 tại trường CĐ Lý Tự Trọng TP Hồ Chí Minh” - Có bài tham gia hội thảo "GIẢI PHÁP NÂNG CAO CHẤT LƯỢNG DẠY VÀ HỌC TRỰC TUYẾN khoa Lý luận chính trị
A16: 8 | B16: Đỗ Thị Ngát | C16: 1011016 | D16: - 01 bài đăng trên tạp chí Dạy và Học (Kì 2 - 05/2021) 0,25 điểm | F16: - Bài viết đăng kỷ yếu hội thảo khoa tháng 8/2021 chuyên đề “ “Nâng cao chất lượng đội ngũ giảng viên khoa Lý luận chính trị trong quá trình chuyển đổi mô hình đào tạo ở Nhà trường thông minh dưới tác động của cuộc Cách mạng công nghiệp 4.0 tại trường CĐ Lý Tự Trọng TP Hồ Chí Minh” - Có bài tham gia hội thảo "GIẢI PHÁP NÂNG CAO CHẤT LƯỢNG DẠY VÀ HỌC TRỰC TUYẾN khoa Lý luận chính trị
A17: 9 | B17: Nguyễn Ngọc Quỳnh | C17: 1011012 | D17: - 01 bài đăng trên tạp chí Giáo dục lý luận (Kì 1 - 3/2021) 0,25 điểm (2 tác giả) | E17: Có Bài viết đăng Kỷ yếu hội thảo cấp trường COSS 2021 chuyên đề “Nâng cao chất lượng đội ngũ giảng viên, cán bộ, nhân viên trong quá trình chuyển đổi mô hình đào tạo ở Nhà trường thông minh dưới tác động của cuộc cách mạng công nghiệp 4.0” | F17: - Bài viết đăng kỷ yếu hội thảo khoa tháng 8/2021 chuyên đề “ “Nâng cao chất lượng đội ngũ giảng viên khoa Lý luận chính trị trong quá trình chuyển đổi mô hình đào tạo ở Nhà trường thông minh dưới tác động của cuộc Cách mạng công nghiệp 4.0 tại trường CĐ Lý Tự Trọng TP Hồ Chí Minh” - Có bài tham gia hội thảo "GIẢI PHÁP NÂNG CAO CHẤT LƯỢNG DẠY VÀ HỌC TRỰC TUYẾN khoa Lý luận chính trị -Có bài viết sáng kiến được công nhận phạm vi ảnh hưởng cấp trường trong năm học 2020-2021 (QĐ số 358/QĐ-LTT-HĐSK ngày 08/4/2021)
A18: 10 | B18: Cao Thị Hồng Thắm | C18: 1011007 | D18: - 01 bài đăng trên tạp chí European Journal of Socical Sciences Studies (Học kỳ 2 - 3/2021) | F18: - Bài viết đăng kỷ yếu hội thảo khoa tháng 8/2021 chuyên đề “ “Nâng cao chất lượng đội ngũ giảng viên khoa Lý luận chính trị trong quá trình chuyển đổi mô hình đào tạo ở Nhà trường thông minh dưới tác động của cuộc Cách mạng công nghiệp 4.0 tại trường CĐ Lý Tự Trọng TP Hồ Chí Minh” - Có bài tham gia hội thảo "GIẢI PHÁP NÂNG CAO CHẤT LƯỢNG DẠY VÀ HỌC TRỰC TUYẾN khoa Lý luận chính trị
A19: 11 | B19: Đỗ Thị Thơm | C19: 1011008 | D19: - 01 bài đăng trên tạp chí Dạy và Học (Kì 1-4/2021) 0,25 điểm (150 giờ) - 01 bài đăng trên tạp chí Dạy và Học (Kì 2-5/2021) 0,25 điểm (150 giờ) | E19: Có Bài viết đăng Kỷ yếu hội thảo cấp trường COSS 2021 chuyên đề “Nâng cao chất lượng đội ngũ giảng viên, cán bộ, nhân viên trong quá trình chuyển đổi mô hình đào tạo ở Nhà trường thông minh dưới tác động của cuộc cách mạng công nghiệp 4.0” | F19: - Bài viết đăng kỷ yếu hội thảo khoa tháng 8/2021 chuyên đề “ “Nâng cao chất lượng đội ngũ giảng viên khoa Lý luận chính trị trong quá trình chuyển đổi mô hình đào tạo ở Nhà trường thông minh dưới tác động của cuộc Cách mạng công nghiệp 4.0 tại trường CĐ Lý Tự Trọng TP Hồ Chí Minh” - Có bài tham gia hội thảo "GIẢI PHÁP NÂNG CAO CHẤT LƯỢNG DẠY VÀ HỌC TRỰC TUYẾN khoa Lý luận chính trị. -Có bài viết sáng kiến được công nhận phạm vi ảnh hưởng cấp trường trong năm học 2020-2021 (QĐ số 358/QĐ-LTT-HĐSK ngày 08/4/2021)
A20: 12 | B20: Trần Thị HồngThu | C20: 1011015 | D20: - 01 bài đăng trên tạp chí Dạy và Học (Kì 2-3/2021) 0,25 điểm (150 giờ) - 01 bài đăng trên tạp chí Dạy và Học (Kì 1-4/2021) 0,25 điểm (150 giờ) - 01 bài đăng trên tạp chí Dạy và Học (Kì 2-5/2021) 0,25 điểm (150 giờ) | E20: Có Bài viết đăng Kỷ yếu hội thảo cấp trường COSS 2021 chuyên đề “Nâng cao chất lượng đội ngũ giảng viên, cán bộ, nhân viên trong quá trình chuyển đổi mô hình đào tạo ở Nhà trường thông minh dưới tác động của cuộc cách mạng công nghiệp 4.0” | F20: - Bài viết đăng kỷ yếu hội thảo khoa tháng 8/2021 chuyên đề “ “Nâng cao chất lượng đội ngũ giảng viên khoa Lý luận chính trị trong quá trình chuyển đổi mô hình đào tạo ở Nhà trường thông minh dưới tác động của cuộc Cách mạng công nghiệp 4.0 tại trường CĐ Lý Tự Trọng TP Hồ Chí Minh”
A21: 13 | B21: Phan Thị Thùy Trang | C21: 1011010 | D21: - 01 bài đăng trên Tạp chí Giáo dục Lý luận, số 323, tháng 5/2021, 0.25 điểm (150 giờ) -1 bài đăng trên tạp chí Thiết Bị Giáo dục T5/2021 (2 tác giả) (0.5 điểm) 200/2= 100 giờ | E21: Có Bài viết đăng Kỷ yếu hội thảo cấp trường COSS 2021 chuyên đề “Nâng cao chất lượng đội ngũ giảng viên, cán bộ, nhân viên trong quá trình chuyển đổi mô hình đào tạo ở Nhà trường thông minh dưới tác động của cuộc cách mạng công nghiệp 4.0” | F21: - Bài viết đăng kỷ yếu hội thảo khoa tháng 8/2021 chuyên đề “ “Nâng cao chất lượng đội ngũ giảng viên khoa Lý luận chính trị trong quá trình chuyển đổi mô hình đào tạo ở Nhà trường thông minh dưới tác động của cuộc Cách mạng công nghiệp 4.0 tại trường CĐ Lý Tự Trọng TP Hồ Chí Minh” - Có bài tham gia hội thảo "GIẢI PHÁP NÂNG CAO CHẤT LƯỢNG DẠY VÀ HỌC TRỰC TUYẾN khoa Lý luận chính trị. -Có bài viết sáng kiến được công nhận phạm vi ảnh hưởng cấp trường trong năm học 2020-2021 (QĐ số 358/QĐ-LTT-HĐSK ngày 08/4/2021)
A22: 14 | B22: Hoàng Thị Trang | C22: 1011018 | D22: - 01 bài đăng Tạp chí Dạy và học Ngày nay tháng 4/2021 | E22: Có Bài viết đăng Kỷ yếu hội thảo cấp trường COSS 2021 chuyên đề “Nâng cao chất lượng đội ngũ giảng viên, cán bộ, nhân viên trong quá trình chuyển đổi mô hình đào tạo ở Nhà trường thông minh dưới tác động của cuộc cách mạng công nghiệp 4.0” | F22: - Bài viết đăng kỷ yếu hội thảo khoa tháng 8/2021 chuyên đề “ “Nâng cao chất lượng đội ngũ giảng viên khoa Lý luận chính trị trong quá trình chuyển đổi mô hình đào tạo ở Nhà trường thông minh dưới tác động của cuộc Cách mạng công nghiệp 4.0 tại trường CĐ Lý Tự Trọng TP Hồ Chí Minh” - Có bài tham gia hội thảo "GIẢI PHÁP NÂNG CAO CHẤT LƯỢNG DẠY VÀ HỌC TRỰC TUYẾN khoa Lý luận chính trị -Có bài viết sáng kiến được công nhận phạm vi ảnh hưởng cấp trường trong năm học 2020-2021 (QĐ số 358/QĐ-LTT-HĐSK ngày 08/4/2021)
A23: 15 | B23: Lê Thị Hồng Vân | C23: 1011002 | D23: - 01 bài đăng tạp chí quốc tế International Journal of Multidisciplinary Research and Growth Evaluation (Tạp chí Quốc tế về Nghiên cứu Đa ngành và Đánh giá Tăng trưởng ISSN: 2582-7138) ( kì 2- 4/2021) (1 tác giả) 480 giờ | E23: Có Bài viết đăng Kỷ yếu hội thảo cấp trường COSS 2021 chuyên đề “Nâng cao chất lượng đội ngũ giảng viên, cán bộ, nhân viên trong quá trình chuyển đổi mô hình đào tạo ở Nhà trường thông minh dưới tác động của cuộc cách mạng công nghiệp 4.0” | F23: - Bài viết đăng kỷ yếu hội thảo khoa tháng 8/2021 chuyên đề “ “Nâng cao chất lượng đội ngũ giảng viên khoa Lý luận chính trị trong quá trình chuyển đổi mô hình đào tạo ở Nhà trường thông minh dưới tác động của cuộc Cách mạng công nghiệp 4.0 tại trường CĐ Lý Tự Trọng TP Hồ Chí Minh” - Có bài tham gia hội thảo "GIẢI PHÁP NÂNG CAO CHẤT LƯỢNG DẠY VÀ HỌC TRỰC TUYẾN khoa Lý luận chính trị -Có bài viết sáng kiến được công nhận phạm vi ảnh hưởng cấp trường trong năm học 2020-2021 (QĐ số 358/QĐ-LTT-HĐSK ngày 08/4/2021)
A24: 16 | B24: Phạm Thị Vinh | C24: 1011006 | D24: - 01 bài đăng trên tạp chí Giáo dục lý luận (Kì 1 - 3/2021) 0,25 điểm (2 tác giả) | E24: Có Bài viết đăng Kỷ yếu hội thảo cấp trường COSS 2021 chuyên đề “Nâng cao chất lượng đội ngũ giảng viên, cán bộ, nhân viên trong quá trình chuyển đổi mô hình đào tạo ở Nhà trường thông minh dưới tác động của cuộc cách mạng công nghiệp 4.0” | F24: - Bài viết đăng kỷ yếu hội thảo khoa tháng 8/2021 chuyên đề “ “Nâng cao chất lượng đội ngũ giảng viên khoa Lý luận chính trị trong quá trình chuyển đổi mô hình đào tạo ở Nhà trường thông minh dưới tác động của cuộc Cách mạng công nghiệp 4.0 tại trường CĐ Lý Tự Trọng TP Hồ Chí Minh” - Có bài tham gia hội thảo "GIẢI PHÁP NÂNG CAO CHẤT LƯỢNG DẠY VÀ HỌC TRỰC TUYẾN khoa Lý luận chính trị
A25: II. Hợp đồng trường
A26: 01 | B26: Nguyễn Thị C
A27: 02
A28: 03
A29: 04
A30: 05
A32: Ghi chú: Gửi kèm minh chứng về phòng Tổ chức - Hành chính - Tổng hợp.
E33: TPHCM, ngày …... tháng …… năm 2022
E34: TRƯỞNG ĐƠN VỊ
F38: LÊ THỊ HỒNG VÂN

Sheet Mau 2
A1: TRƯỜNG CAO ĐẲNG LÝ TỰ TRỌNG THÀNH PHỐ HỒ CHÍ MINH KHOA LÝ LUẬN CHÍNH TRỊ | F1: CỘNG HÒA XÃ HỘI CHỦ NGHĨA VIỆT NAM Độc lập - Tự do - Hạnh phúc
G2: Mẫu 2
A3: BẢNG TỔNG HỢP CÔNG VIỆC ĐỘT XUẤT ĐÃ THỰC HIỆN THÁNG 12/2022 (Gửi file mềm ngày 25 hàng tháng)
A6: TT | B6: Nội dung công việc | C6: Số lượng người tham gia thực hiện | D6: Tên người tham gia thực hiện | E6: Thời gian thực hiện | F6: Kết quả thực hiện | G6: Ghi chú
A7: I. | B7: Công việc chung của Trường
A8: Nhiệm vụ 1 | B8: Tổ chức cuộc thi "Cuộc thi Olympic các môn Giáo dục chính trị- Pháp luật năm 2022" | C8: 5 | D8: Cô Mai Hường; cô Vinh; Dinh; Thùy Trang; Ngọc Quỳnh | E8: 7/12//2022 | F8: tốt | G8: Đoàn trường ghi nhận và đã gửi thông tin Ban tổ chức cuộc thi theo Kế hoạch số 128-KHPH/ĐTN-LTT
A9: Nhiệm vụ 2 | B9: Làm MC chương trình khởi nghiệp tại trường | C9: 1 | D9: Cô Thu; | E9: Tháng 12/2022 | F9: GK thực hiện tốt công việc
A10: Nhiệm vụ 3
A11: Nhiệm vụ 4
A12: Nhiệm vụ 5
A13: Nhiệm vụ 6
A14: Nhiệm vụ 7
A15: II. | B15: Công việc chung của đơn vị
A16: Nhiệm vụ 1 | B16: Cập nhật rà soát ngân hàng câu hỏi trắc nghiệm môn GDCT | C16: 14 | D16: Cô Vân; Thầy Quỳnh; Cô Huyên; Cô Thu; Cô Thơm; Cô Thùy Trang; Cô Mai Hường; Cô Hoàng Trang; Thầy kiệt; Cô Ngát; Cô Thắm | E16: 12/01/2022 | F16: Tốt
A17: Nhiệm vụ 2 | B17: Cập nhật rà soát ngân hàng câu hỏi trắc nghiệm môn Pháp luật | C17: 3 | D17: Cô Minh; Thầy Dũng; Thầy Lượng | E17: 12/2022 | F17: Tốt
A18: Nhiệm vụ 3
A19: Nhiệm vụ 4
A20: Nhiệm vụ 5
A22: Lưu ý: - Nhóm công việc của đơn vị không tính nội dung công việc đã được quy định ở vị trí việc làm (đối với nhân viên); chế độ làm việc của giảng viên/ đã được tính chế độ, thù lao (đối với giảng viên). - Các đơn vị gửi file điện tử về phòng TC-HC-TH (Cô Trần Thị Ánh Phượng) qua hệ thống điện tử E-office nhà trường (không gửi văn bản giấy) ngày 25 hàng tháng./.
E23: Thành phố Hồ Chí Minh, ngày 25 tháng 12 năm 2022
E24: TRƯỞNG ĐƠN VỊ
F28: Lê Thị Hồng Vân

Sheet Mau 3
A1: TRƯỜNG CAO ĐẲNG LÝ TỰ TRỌNG | K1: CỘNG HÒA XÃ HỘI CHỦ NGHĨA VIỆT NAM
A2: THÀNH PHỐ HỒ CHÍ MINH | K2: Độc lập - Tự do - Hạnh phúc
A3: KHOA LÝ LUẬN CHÍNH TRỊ
Q4: Mẫu 3
A5: THỐNG KÊ CHI TIẾT KHỐI LƯỢNG CÔNG VIỆC THỰC HIỆN THÁNG 12/2022
A7: TT | B7: Tên nội dung công việc | D7: Công việc chung của trường | K7: Công việc chung của đơn vị | Q7: Ghi chú
B8: Họ và tên | C8: Mã E-office | D8: Nhiệm vụ 1 | E8: Nhiệm vụ 2 | F8: Nhiệm vụ 3 | G8: Nhiệm vụ 4 | H8: Nhiệm vụ 5 | I8: Nhiệm vụ 6 | J8: Tổng cộng | K8: Nhiệm vụ 1 | L8: Nhiệm vụ 2 | M8: Nhiệm vụ 3 | N8: Nhiệm vụ 4 | O8: Nhiệm vụ 5 | P8: Tổng cộng
A9: I. Viên chức
A10: 1 | B10: Nguyễn Ngọc Quỳnh | C10: 1011012 | D10: X | J10: =COUNTIF(D10:I10,"X") -> 1 | K10: X | P10: =COUNTIF(K10:O10,"X") -> 1
A11: 2 | B11: Lê Thị Hồng Vân | C11: 1011002 | J11: =COUNTIF(D11:I11,"X") -> 0 | K11: X | P11: =COUNTIF(K11:O11,"X") -> 1
A12: 3 | B12: Nguyễn Thị Dinh | C12: 1011005 | D12: X | J12: =COUNTIF(D12:I12,"X") -> 1 | P12: =COUNTIF(K12:O12,"X") -> 0
A13: 4 | B13: Bùi Thành Dũng | C13: 1011011 | J13: 1 | K13: X | P13: =COUNTIF(K13:O13,"X") -> 1
A14: 5 | B14: Lê Thị Mai Hường | C14: 1011013 | D14: X | J14: 3 | K14: X | P14: =COUNTIF(K14:O14,"X") -> 1
A15: 6 | B15: Đinh Thị Huyên | C15: 1011009 | J15: =COUNTIF(D15:I15,"X") -> 0 | K15: X | P15: =COUNTIF(K15:O15,"X") -> 1
A16: 7 | B16: Nguyễn Anh Kiệt | C16: 1011001 | J16: =COUNTIF(D16:I16,"X") -> 0 | K16: X | P16: =COUNTIF(K16:O16,"X") -> 1
A17: 8 | B17: Trần Văn Lượng | C17: 1011014 | J17: =COUNTIF(D17:I17,"X") -> 0 | K17: X | P17: =COUNTIF(K17:O17,"X") -> 1
A18: 9 | B18: Đặng Thị Nhật Minh | C18: 1010005 | J18: =COUNTIF(D18:I18,"X") -> 0 | K18: X | P18: =COUNTIF(K18:O18,"X") -> 1
A19: 10 | B19: Đỗ Thị Ngát | C19: 1011016 | J19: =COUNTIF(D19:I19,"X") -> 0 | K19: X | P19: =COUNTIF(K19:O19,"X") -> 1
A20: 11 | B20: Cao Thị Hồng Thắm | C20: 1011007 | J20: =COUNTIF(D20:I20,"X") -> 0 | K20: X | P20: =COUNTIF(K20:O20,"X") -> 1
A21: 12 | B21: Đỗ Thị Thơm | C21: 1011008 | J21: =COUNTIF(D21:I21,"X") -> 0 | K21: X | P21: =COUNTIF(K21:O21,"X") -> 1
A22: 13 | B22: Trần Thị Hồng Thu | C22: 1011015 | J22: =COUNTIF(D22:I22,"X") -> 0 | K22: X | P22: =COUNTIF(K22:O22,"X") -> 1
A23: 14 | B23: Phan Thị Thùy Trang | C23: 1011010 | D23: X | J23: =COUNTIF(D23:I23,"X") -> 1 | K23: X | P23: =COUNTIF(K23:O23,"X") -> 1
A24: 15 | B24: Hoàng Thị Trang | C24: 1011018 | J24: =COUNTIF(D24:I24,"X") -> 0 | K24: X | P24: =COUNTIF(K24:O24,"X") -> 1
A25: 16 | B25: Phạm Thị Vinh | C25: 1011006 | D25: X | J25: =COUNTIF(D25:I25,"X") -> 1 | P25: =COUNTIF(K25:O25,"X") -> 0
A26: II. Hợp đồng trường
A27: 01
A29: Lưu ý: Các đơn vị gửi file điện tử về phòng TC-HC-TH (Cô Trần Thị Ánh Phượng) qua hệ thống điện tử E-office nhà trường (không gửi văn bản giấy).
K30: TP. HCM, ngày 24 tháng 12 năm 2022
K31: TRƯỞNG ĐƠN VỊ
M36: Lê Thị Hồng Vân

Sheet Mau 4 
A1: TRƯỜNG CAO ĐẲNG LÝ TỰ TRỌNG | G1: CỘNG HÒA XÃ HỘI CHỦ NGHĨA VIỆT NAM
A2: THÀNH PHỐ HỒ CHÍ MINH | G2: Độc lập - Tự do - Hạnh phúc
A3: KHOA LÝ LUẬN CHÍNH TRỊ
L4: Mẫu 4
A5: DANH SÁCH XẾP LOẠI THI ĐUA THÁNG 12/2022
A7: TT | B7: Họ tên | C7: Mã E-Office | D7: Tiêu chuẩn đạt mức xếp loại thi đua tối đa trong năm (Ẩn khi in) | E7: Xếp loại thi đua tháng theo quy định (Không vượt quá mức thi đua tối đa) | I7: Số ngày/giờ vượt so với ngày công kế hoạch (đối với CB-NV) | J7: Số ngày nghỉ/ tiết nghỉ (đối với GV) | K7: Đơn vị đề nghị mức xếp loại thi đua
E8: Xếp loại | F8: Lý do | G8: Số lượng công việc chung của trường | H8: Số lượng công việc chung của đơn vị | K8: Xếp loại | L8: Lý do đề nghị
A9: I. Viên chức
A10: 1 | B10: Nguyễn Ngọc Quỳnh | C10: 1011012 | D10: A1 | E10: A3 | G10: ='Mau 3'!J10 -> 1 | H10: 1 | J10: 0
A11: 2 | B11: Lê Thị Hồng Vân | C11: 1011002 | D11: A1 | E11: A4 | G11: ='Mau 3'!J11 -> 0 | H11: 1 | J11: 0
A12: 3 | B12: Nguyễn Thị Dinh | C12: 1011005 | D12: A1 | E12: A3 | G12: ='Mau 3'!J12 -> 1 | H12: ='Mau 3'!P12 -> 0 | J12: Nghỉ họp khoa 23/12/22 (có phép qua tin nhắn) | K12: A4 | L12: GV trễ 9p ngày 3/12/22 Thầy Thắng phòng thanh tra ghi nhận
A13: 4 | B13: Bùi Thành Dũng | C13: 1011011 | D13: A2 | E13: A4 | G13: ='Mau 3'!J13 -> 1 | H13: 1 | J13: 0
A14: 5 | B14: Lê Thị Mai Hường | C14: 1011013 | D14: A1 | E14: A4 | G14: 1 | H14: 1 | J14: 2t Thầy Quỳnh dạy thay | L14: Nghỉ hộ sản từ ngày 16/12/22
A15: 6 | B15: Đinh Thị Huyên | C15: 1011009 | D15: A1 | E15: A4 | G15: ='Mau 3'!J15 -> 0 | H15: 1 | J15: 0
A16: 7 | B16: Nguyễn Anh Kiệt | C16: 1011001 | D16: A1 | E16: A4 | G16: 0 | H16: 1 | J16: 0
A17: 8 | B17: Trần Văn Lượng | C17: 1011014 | D17: A2 | E17: A4 | G17: ='Mau 3'!J17 -> 0 | H17: 1 | J17: 0
A18: 9 | B18: Đặng Thị Nhật Minh | C18: 1010005 | D18: A1 | E18: A4 | G18: ='Mau 3'!J18 -> 0 | H18: 1 | J18: 0
A19: 10 | B19: Đỗ Thị Ngát | C19: 1011016 | D19: A1 | E19: A4 | G19: ='Mau 3'!J19 -> 0 | H19: 1 | J19: 0
A20: 11 | B20: Cao Thị Hồng Thắm | C20: 1011007 | D20: A1 | E20: A4 | G20: ='Mau 3'!J20 -> 0 | H20: 1 | J20: 0
A21: 12 | B21: Đỗ Thị Thơm | C21: 1011008 | D21: A1 | E21: A4 | G21: 0 | H21: 1 | J21: 0
A22: 13 | B22: Trần Thị Hồng Thu | C22: 1011015 | D22: A1 | E22: A3 | G22: 1 | H22: 1 | J22: 0 | L22: GV tích cực trong hoạt động của Nhà trường và đơn vị
A23: 14 | B23: Phan Thị Thùy Trang | C23: 1011010 | D23: A1 | E23: A3 | G23: ='Mau 3'!J23 -> 1 | H23: 1 | J23: 3t Cô Huyên dạy thay 3t
A24: 15 | B24: Hoàng Thị Trang | C24: 1011018 | D24: A1 | E24: A4 | G24: ='Mau 3'!J24 -> 0 | H24: ='Mau 3'!P24 -> 1 | J24: 0
A25: 16 | B25: Phạm Thị Vinh | C25: 1011006 | D25: A1 | E25: A3 | G25: ='Mau 3'!J25 -> 1 | H25: ='Mau 3'!P25 -> 0 | J25: Nghỉ họp khoa ngày 23/12/22 (có phép qua tin nhắn)
A26: II. Hợp đồng trường
B30: Kết quả xếp loại | G30: Viên chức | I30: Hợp đồng trường
B31: A1 | G31: =COUNTIF($E$10:$E$25,"A1") -> 0 | I31: =COUNTIF($E$27:$E$27,"A1") -> 0
B32: A2 | G32: =COUNTIF($E$10:$E$25,"A2") -> 0 | I32: =COUNTIF($E$27:$E$27,"A3") -> 0
B33: A3 | G33: =COUNTIF($E$10:$E$25,"A3") -> 5 | I33: =COUNTIF($E$27:$E$27,"A3") -> 0
B34: A4 | G34: =COUNTIF($E$10:$E$25,"A4") -> 11 | I34: =COUNTIF($E$27:$E$27,"A4") -> 0
B35: A DN | G35: 0 | I35: =COUNTIF($E$27:$E$27,"A DN") -> 0
B36: B1 | G36: =COUNTIF($E$10:$E$25,"B1") -> 0 | I36: =COUNTIF($E$27:$E$27,"B1") -> 0
B37: B2 | G37: =COUNTIF($E$10:$E$25,"B2") -> 0 | I37: =COUNTIF($E$27:$E$27,"B2") -> 0
B38: C1 | G38: =COUNTIF($E$10:$E$25,"C1") -> 0 | I38: =COUNTIF($E$27:$E$27,"C1") -> 0
B39: C2 | G39: =COUNTIF($E$10:$E$25,"C2") -> 0 | I39: =COUNTIF($E$27:$E$27,"C2") -> 0
B40: D | G40: =COUNTIF($E$10:$E$25,"D") -> 0 | I40: =COUNTIF($E$27:$E$27,"D") -> 0
B41: E | G41: =COUNTIF($E$10:$E$25,"E") -> 0 | I41: =COUNTIF($E$27:$E$27,"E") -> 0
B42: Tổng số nhân sự: | G42: =SUM(G31:G41) -> 16 | I42: =SUM(I31:I41) -> 0
A44: Lưu ý: Các đơn vị gửi file mềm qua hệ thống điện tử E-office nhà trường và văn bản giấy về phòng TC-HC-TH (Cô Trần Thị Ánh Phượng).
G45: TPHCM, ngày 25 tháng 12 năm 2022
G46: TRƯỞNG ĐƠN VỊ
J49: Lê Thị Hồng Vân
