Workbook

Sheet T09.2022
A1: UBND THÀNH PHỐ HỒ CHÍ MINH | G1: CỘNG HÒA XÃ HỘI CHỦ NGHĨA VIỆT NAM
A2: TRƯỜNG CAO ĐẲNG LÝ TỰ TRỌNG | G2: Độc lập - Tự do - Hạnh phúc
A3: THÀNH PHỐ HỒ CHÍ MINH
B5: 40000
A6: TT | B6: Họ và tên | D6: Số tài khoản thẻ ATM AGR | E6: Số tài khoản thẻ ATM OCB | F6: Đơn vị | G6: Nghỉ phép | H6: Nghỉ chế độ | K6: Ghi chú | L6: * Ghi chú: CÁC KHOA
A7: 1 | B7: Phạm Hữu | C7: LỘC | D7: Hiệu Trưởng | E7: 0016100006544007 | F7: Hiệu Trưởng | I7: =C7 -> LỘC | J7: =A7 -> 1 | L7: 1/ Nguyễn Thị Cẩm Thạch_KHCB_nghỉ BHXH từ 19/09 đến 23/09/2022
A8: =A7+1 -> 2 | B8: Đinh Hồng | C8: MINH | D8: Phó Hiệu trưởng | E8: 0016100006699008 | F8: Phó Hiệu trưởng | I8: =C8 -> MINH | J8: =A8 -> 2 | L8: 2/ Lâm Thị Phương Thảo_KHCB_nghỉ ốm từ 21/09 đến 01/10/2022
A9: =A8+1 -> 3 | B9: Đinh Văn | C9: ĐỆ | D9: Phó Hiệu trưởng | E9: 0016100006543008 | F9: Phó Hiệu trưởng | I9: =C9 -> ĐỆ | J9: =A9 -> 3
A10: =A9+1 -> 4 | B10: Châu Văn | C10: BẢO | D10: Phó Hiệu trưởng | F10: Phó Hiệu trưởng | I10: =C10 -> BẢO | J10: =A10 -> 4
A11: =A10+1 -> 5 | B11: Lâm Viết | C11: DŨNG | D11: P. TC-HC-TH | E11: 0016100006550007 | F11: P. TC-HC-TH | I11: =C11 -> DŨNG | J11: =A11 -> 5
A12: =A11+1 -> 6 | B12: Lưu Hoàng Hải | C12: YẾN | E12: 0016100006799005 | I12: =C12 -> YẾN | J12: =A12 -> 6
A13: =A12+1 -> 7 | B13: Huỳnh Thị Minh | C13: LY | E13: 0016100006518006 | I13: =C13 -> LY | J13: =A13 -> 7
A14: =A13+1 -> 8 | B14: Nguyễn Văn | C14: CHÌ | E14: 0016100006765003 | G14: 1 | I14: =C14 -> CHÌ | J14: =A14 -> 8 | K14: P: 20/9
A15: =A14+1 -> 9 | B15: Nguyễn Thị Bích | C15: LIỄU | E15: 0016100006663006 | I15: =C15 -> LIỄU | J15: =A15 -> 9
A16: =A15+1 -> 10 | B16: Phan Thị Ngọc | C16: PHƯỢNG | E16: 0016100006635002 | I16: =C16 -> PHƯỢNG | J16: =A16 -> 10
A17: =A16+1 -> 11 | B17: Trần Thị Ánh | C17: PHƯỢNG | E17: 0016100006767006 | I17: =C17 -> PHƯỢNG | J17: =A17 -> 11
A18: =A17+1 -> 12 | B18: Vũ Như | C18: QUỲNH | E18: 0016100006771003 | I18: =C18 -> QUỲNH | J18: =A18 -> 12
A19: =A18+1 -> 13 | B19: Nguyễn Thị | C19: VÂN | E19: 0016100006864001 | I19: =C19 -> VÂN | J19: =A19 -> 13
A20: =A19+1 -> 14 | B20: Huỳnh Thị Xuân | C20: MAI | E20: 0016100006575007 | G20: 1 | I20: =C20 -> MAI | J20: =A20 -> 14 | K20: P: 23/09
A21: =A20+1 -> 15 | B21: Trần Thị Phương | C21: OANH | E21: 0016100006576006 | G21: 2 | I21: =C21 -> OANH | J21: =A21 -> 15 | K21: P: 12, 14/09
A22: =A21+1 -> 16 | B22: Thân Thị | C22: NHUNG | E22: 0016100006832002 | I22: =C22 -> NHUNG | J22: =A22 -> 16
A23: =A22+1 -> 17 | B23: Trần Việt | C23: ANH | E23: 2 | G23: 3 | I23: =C23 -> ANH | J23: =A23 -> 17 | K23: P: 10, 17, 24/09 | L23: 01/10 (1 ĐXP)
A24: =A23+1 -> 18 | B24: Dương Văn | C24: TÂM | I24: =C24 -> TÂM | J24: =A24 -> 18
A25: =A24+1 -> 19 | B25: Huỳnh Ngọc | C25: LIÊN | I25: =C25 -> LIÊN | J25: =A25 -> 19
A26: =A25+1 -> 20 | B26: Phạm Hữu | C26: TẤN | D26: Tổ Bảo vệ | F26: Tổ Bảo vệ | I26: =C26 -> TẤN | J26: =A26 -> 20
A27: =A26+1 -> 21 | B27: Trần Văn | C27: ANH | I27: =C27 -> ANH | J27: =A27 -> 21
A28: =A27+1 -> 22 | B28: Nguyễn Thanh | C28: HIỀN | I28: =C28 -> HIỀN | J28: =A28 -> 22
A29: =A28+1 -> 23 | B29: Phạm Quang | C29: TÙNG | I29: =C29 -> TÙNG | J29: =A29 -> 23
A30: =A29+1 -> 24 | B30: Huỳnh Thanh | C30: NHÀN | I30: =C30 -> NHÀN | J30: =A30 -> 24
A31: =A30+1 -> 25 | B31: Phạm Hữu Thành | C31: PHÚ | I31: =C31 -> PHÚ | J31: =A31 -> 25
A32: =A31+1 -> 26 | B32: Lê Hồng | C32: PHÚC | I32: =C32 -> PHÚC | J32: =A32 -> 26
A33: =A32+1 -> 27 | B33: Lê Hồng | C33: SƠN | I33: =C33 -> SƠN | J33: =A33 -> 27
A34: =A33+1 -> 28 | B34: Đồng Anh | C34: TUẤN | E34: 1 | G34: 1 | I34: =C34 -> TUẤN | J34: =A34 -> 28 | K34: P: 24/09
A35: =A34+1 -> 29 | B35: Nguyễn Hữu Xuân | C35: VŨ | I35: =C35 -> VŨ | J35: =A35 -> 29
A36: =A35+1 -> 30 | B36: Trần Thanh | C36: PHƯƠNG | I36: =C36 -> PHƯƠNG | J36: =A36 -> 30
A37: =A36+1 -> 31 | B37: Lê Quang | C37: LIÊM | D37: P. Quản trị - Dịch vụ | E37: 0016100006806001 | F37: P. Quản trị - Dịch vụ | I37: =C37 -> LIÊM | J37: =A37 -> 31 | K37: Nghỉ 21/09 bù 17/09
A38: =A37+1 -> 32 | B38: Nguyễn Văn | C38: THÀNH | E38: 0016100006495006 | I38: =C38 -> THÀNH | J38: =A38 -> 32
A39: =A38+1 -> 33 | B39: Bùi Thị | C39: DƯƠNG | E39: 0016100006505001 | G39: 2 | I39: =C39 -> DƯƠNG | J39: =A39 -> 33 | K39: P: 01, 03/09 | L39: Ký túc xá trực
A40: =A39+1 -> 34 | B40: Dương Thị | C40: THỦY | E40: 0016100006807008 | G40: 1 | I40: =C40 -> THỦY | J40: =A40 -> 34 | K40: P: 05/09
A41: =A40+1 -> 35 | B41: Nguyễn Trọng | C41: PHÚ | D41: Tổ trưởng tổ Sửa chữa | E41: 0016100006599006 | F41: Tổ trưởng tổ Sửa chữa | I41: =C41 -> PHÚ | J41: =A41 -> 35
A42: =A41+1 -> 36 | B42: Nguyễn Tiến Việt | C42: DŨNG | E42: 0016100006493003 | I42: =C42 -> DŨNG | J42: =A42 -> 36
A43: =A42+1 -> 37 | B43: Ninh Đỗ | C43: HIỆP | E43: 0016100006690003 | I43: =C43 -> HIỆP | J43: =A43 -> 37
A44: =A43+1 -> 38 | B44: Võ Tấn | C44: KIỆT | I44: =C44 -> KIỆT | J44: =A44 -> 38
A45: =A44+1 -> 39 | B45: Nguyễn Xuân | C45: LỢI | E45: 0016100006692006 | I45: =C45 -> LỢI | J45: =A45 -> 39
A46: =A45+1 -> 40 | B46: Giáp Đức | C46: NHẬN | E46: 0016100006677007 | I46: =C46 -> NHẬN | J46: =A46 -> 40
A47: =A46+1 -> 41 | B47: Vũ Ngọc | C47: QUANG | E47: 0016100006676008 | I47: =C47 -> QUANG | J47: =A47 -> 41
A48: =A47+1 -> 42 | B48: Tạ Quốc | C48: TẤN | E48: 0016100006680008 | I48: =C48 -> TẤN | J48: =A48 -> 42
A49: =A48+1 -> 43 | B49: Nguyễn Cao | C49: THẮNG | E49: 0016100006678003 | I49: =C49 -> THẮNG | J49: =A49 -> 43
A50: =A49+1 -> 44 | B50: Giáp Văn | C50: THỊNH | E50: 0016100006675004 | I50: =C50 -> THỊNH | J50: =A50 -> 44
A51: =A50+1 -> 45 | B51: Huỳnh Bá | C51: TRIẾT | E51: 0016100006770007 | I51: =C51 -> TRIẾT | J51: =A51 -> 45
A52: =A51+1 -> 46 | B52: Lê Hồng Anh | C52: TUẤN | I52: =C52 -> TUẤN | J52: =A52 -> 46
A53: =A52+1 -> 47 | B53: Bùi Đặng Hoàng | C53: TUẤN | I53: =C53 -> TUẤN | J53: =A53 -> 47
A54: =A53+1 -> 48 | B54: Trần Thị | C54: THU | D54: Tổ trưởng tổ Môi trường | F54: Tổ trưởng tổ Môi trường | I54: =C54 -> THU | J54: =A54 -> 48
A55: =A54+1 -> 49 | B55: Đỗ Thị Bích | C55: THỦY | I55: =C55 -> THỦY | J55: =A55 -> 49
A56: =A55+1 -> 50 | B56: Nguyễn Thị Thu | C56: TRANG | I56: =C56 -> TRANG | J56: =A56 -> 50
A57: =A56+1 -> 51 | B57: Trần Kim | C57: TƯƠI | E57: 0016100006713003 | I57: =C57 -> TƯƠI | J57: =A57 -> 51
A58: =A57+1 -> 52 | B58: Trương Thị | C58: BẮC | E58: 0016100006598007 | I58: =C58 -> BẮC | J58: =A58 -> 52
A59: =A58+1 -> 53 | B59: Trương Thị | C59: ĐỊNH | E59: 0016100006499001 | I59: =C59 -> ĐỊNH | J59: =A59 -> 53
A60: =A59+1 -> 54 | B60: Trương Phú | C60: CƯỜNG | E60: 0016100006691007 | G60: 1 | I60: =C60 -> CƯỜNG | J60: =A60 -> 54 | K60: P: 10/9
A61: =A60+1 -> 55 | B61: Võ Tấn | C61: ĐỨC | E61: 0016100006785004 | I61: =C61 -> ĐỨC | J61: =A61 -> 55
A62: =A61+1 -> 56 | B62: Ngô Ngọc | C62: CỦA | E62: 0016100006600004 | I62: =C62 -> CỦA | J62: =A62 -> 56
A63: =A62+1 -> 57 | B63: Phan Đức | C63: LONG | D63: Tổ trưởng tổ QLKTX | E63: 0016100006745002 | F63: Tổ trưởng tổ QLKTX | I63: =C63 -> LONG | J63: =A63 -> 57
A64: =A63+1 -> 58 | B64: Trần Văn | C64: LÝ | E64: 0016100006746009 | G64: 1 | I64: =C64 -> LÝ | J64: =A64 -> 58 | K64: P: 17/09
A65: =A64+1 -> 59 | B65: Võ Thị | C65: TUYẾT | E65: 0016100006511001 | G65: 1 | I65: =C65 -> TUYẾT | J65: =A65 -> 59 | K65: P: 10/9
A66: =A65+1 -> 60 | B66: Trịnh Tuấn | C66: VŨ | E66: 0016100006494007 | I66: =C66 -> VŨ | J66: =A66 -> 60
A67: =A66+1 -> 61 | B67: Phạm Thị Hoàng | C67: DIỄM | I67: =C67 -> DIỄM | J67: =A67 -> 61
A68: =A67+1 -> 62 | B68: Nguyễn | C68: KÍNH | D68: P. KH - TC | E68: 0016100006567007 | F68: P. KH - TC | I68: =C68 -> KÍNH | J68: =A68 -> 62
A69: =A68+1 -> 63 | B69: Hồng Mộng Tuyết | C69: DUNG | E69: 0016100006725001 | I69: =C69 -> DUNG | J69: =A69 -> 63
A70: =A69+1 -> 64 | B70: Võ Thị Lệ | C70: TRÂN | E70: 0016100006566008 | I70: =C70 -> TRÂN | J70: =A70 -> 64
A71: =A70+1 -> 65 | B71: Nguyễn Thị Hồng | C71: THẮM | E71: 0016100006705008 | I71: =C71 -> THẮM | J71: =A71 -> 65
A72: =A71+1 -> 66 | B72: Trần Thị Minh | C72: THOA | E72: 0016100006512008 | I72: =C72 -> THOA | J72: =A72 -> 66
A73: =A72+1 -> 67 | B73: Trần Thị Thảo | C73: VÂN | E73: 0016100006515007 | I73: =C73 -> VÂN | J73: =A73 -> 67
A74: =A73+1 -> 68 | B74: Nguyễn Thụy | C74: NGHIÊM | E74: 0016100006681004 | I74: =C74 -> NGHIÊM | J74: =A74 -> 68
A75: =A74+1 -> 69 | B75: Huỳnh Như | C75: Ý | E75: 0016100006513004 | I75: =C75 -> Ý | J75: =A75 -> 69
A76: =A75+1 -> 70 | B76: Nguyễn Chiến | C76: THẮNG | E76: 0016100006506008 | I76: =C76 -> THẮNG | J76: =A76 -> 70
A77: =A76+1 -> 71 | B77: Nguyễn Trọng | C77: NGHĨA | D77: P. QLKH - HTQT | E77: 0016100006516003 | F77: P. QLKH - HTQT | I77: =C77 -> NGHĨA | J77: =A77 -> 71
A78: =A77+1 -> 72 | B78: Lê Tiến | C78: DŨNG | G78: 2 | I78: =C78 -> DŨNG | J78: =A78 -> 72 | K78: P: 26, 27/09
A79: =A78+1 -> 73 | B79: Lê Trần Thanh | C79: NGA | E79: 0016100006766007 | G79: 3 | I79: =C79 -> NGA | J79: =A79 -> 73 | K79: P: 17, 24, 26/09
A80: =A79+1 -> 74 | B80: Trần Khánh | C80: HUY | D80: P. TS - ĐT | E80: 0016100006719001 | G80: 1 | I80: =C80 -> HUY | J80: =A80 -> 74 | K80: P: 13/09
A81: =A80+1 -> 75 | B81: Nguyễn Văn | C81: TẤN | E81: 0016100006783001 | F81: P. TS - ĐT | G81: 3 | I81: =C81 -> TẤN | J81: =A81 -> 75 | K81: P: 07, 08, 13/09
A82: =A81+1 -> 76 | B82: Nguyễn Thành | C82: NAM
A83: =A82+1 -> 77 | B83: Huỳnh Thị | C83: MAI | E83: 0016100006709006 | I83: =C83 -> MAI | J83: =A83 -> 77
A84: =A83+1 -> 78 | B84: Quách Minh | C84: Thử | I84: =C84 -> Thử
A85: =A84+1 -> 79 | B85: Sỹ Thị | C85: CHUNG | E85: 0016100006711008 | I85: =C85 -> CHUNG | J85: =A85 -> 79
A86: =A85+1 -> 80 | B86: Nguyễn Thị Hải | C86: HÀ | E86: 0016100006715006 | G86: 1 | I86: =C86 -> HÀ | J86: =A86 -> 80 | K86: P: 30/09
A87: =A86+1 -> 81 | B87: Thái Thị My | C87: SA | I87: =C87 -> SA | J87: =A87 -> 81
A88: =A87+1 -> 82 | B88: Nguyễn Thị | C88: TẤT | I88: =C88 -> TẤT | J88: =A88 -> 82
A89: =A88+1 -> 83 | B89: Nguyễn Thị Thanh | C89: THẢO | I89: =C89 -> THẢO | J89: =A89 -> 83
A90: =A89+1 -> 84 | B90: Võ Thị Xuân | C90: THƠ | E90: 0016100006710004 | I90: =C90 -> THƠ | J90: =A90 -> 84
A91: =A90+1 -> 85 | B91: Nguyễn Thị | C91: THÙY | I91: =C91 -> THÙY | J91: =A91 -> 85
A92: =A91+1 -> 86 | B92: Nguyễn Việt | C92: TIẾN | I92: =C92 -> TIẾN | J92: =A92 -> 86
A93: =A92+1 -> 87 | B93: Giáp Thị | C93: VƯỢNG | I93: =C93 -> VƯỢNG | J93: =A93 -> 87
A94: =A93+1 -> 88 | B94: Mai Nguyễn Hoàng | C94: YẾN | I94: =C94 -> YẾN | J94: =A94 -> 88 | K94: Nghỉ 21/09 bù 24/09
A95: =A94+1 -> 89 | B95: Nguyễn Thị | C95: NHUNG | I95: =C95 -> NHUNG | J95: =A95 -> 89
A96: =A95+1 -> 90 | B96: Huỳnh Thị Cẩm | C96: HOA | D96: P. KT và ĐBCL | E96: 0016100006546007 | I96: =C96 -> HOA | J96: =A96 -> 90
A97: =A96+1 -> 91 | B97: Nguyễn Chí | C97: NHÂN | F97: P. KT và ĐBCL | I97: =C97 -> NHÂN | J97: =A97 -> 91
A98: =A97+1 -> 92 | B98: Nguyễn Thị Kim | C98: DUNG | I98: =C98 -> DUNG | J98: =A98 -> 92
A99: =A98+1 -> 93 | B99: Nguyễn Thanh | C99: SƠN | I99: =C99 -> SƠN | J99: =A99 -> 93
A100: =A99+1 -> 94 | B100: Vũ Thị Thu | C100: THỦY | E100: 0016100006537008 | I100: =C100 -> THỦY | J100: =A100 -> 94
A101: =A100+1 -> 95 | B101: Nguyễn Yến | C101: NHI | E101: 0016100006776005 | I101: =C101 -> NHI | J101: =A101 -> 95
...

Sheet T10.2022
A1: UBND THÀNH PHỐ HỒ CHÍ MINH | G1: CỘNG HÒA XÃ HỘI CHỦ NGHĨA VIỆT NAM
A2: TRƯỜNG CAO ĐẲNG LÝ TỰ TRỌNG | G2: Độc lập - Tự do - Hạnh phúc
A3: THÀNH PHỐ HỒ CHÍ MINH
B5: 40000
A6: TT | B6: Họ và tên | D6: Số tài khoản thẻ ATM AGR | E6: Số tài khoản thẻ ATM OCB | F6: Đơn vị | G6: Nghỉ phép | H6: Nghỉ chế độ | K6: Ghi chú | L6: * Ghi chú: CÁC KHOA
A7: 1 | B7: Phạm Hữu | C7: LỘC | D7: Hiệu Trưởng | E7: 0016100006544007 | F7: Hiệu Trưởng | I7: =C7 -> LỘC | J7: =A7 -> 1 | L7: 1/ Nguyễn Thị Cẩm Thạch_KHCB_nghỉ BHXH từ 19/09 đến 23/09/2022
A8: =A7+1 -> 2 | B8: Đinh Hồng | C8: MINH | D8: Phó Hiệu trưởng | E8: 0016100006699008 | F8: Phó Hiệu trưởng | I8: =C8 -> MINH | J8: =A8 -> 2
A9: =A8+1 -> 3 | B9: Đinh Văn | C9: ĐỆ | D9: Phó Hiệu trưởng | E9: 0016100006543008 | F9: Phó Hiệu trưởng | I9: =C9 -> ĐỆ | J9: =A9 -> 3
A10: =A9+1 -> 4 | B10: Châu Văn | C10: BẢO | D10: Phó Hiệu trưởng | F10: Phó Hiệu trưởng | I10: =C10 -> BẢO | J10: =A10 -> 4
A11: =A10+1 -> 5 | B11: Lâm Viết | C11: DŨNG | D11: P. TC-HC-TH | E11: 0016100006550007 | F11: P. TC-HC-TH | I11: =C11 -> DŨNG | J11: =A11 -> 5
A12: =A11+1 -> 6 | B12: Lưu Hoàng Hải | C12: YẾN | E12: 0016100006799005 | I12: =C12 -> YẾN | J12: =A12 -> 6
A13: =A12+1 -> 7 | B13: Huỳnh Thị Minh | C13: LY | E13: 0016100006518006 | I13: =C13 -> LY | J13: =A13 -> 7
A14: =A13+1 -> 8 | B14: Nguyễn Văn | C14: CHÌ | E14: 0016100006765003 | I14: =C14 -> CHÌ | J14: =A14 -> 8
A15: =A14+1 -> 9 | B15: Nguyễn Thị Bích | C15: LIỄU | E15: 0016100006663006 | I15: =C15 -> LIỄU | J15: =A15 -> 9
A16: =A15+1 -> 10 | B16: Phan Thị Ngọc | C16: PHƯỢNG | E16: 0016100006635002 | I16: =C16 -> PHƯỢNG | J16: =A16 -> 10
A17: =A16+1 -> 11 | B17: Trần Thị Ánh | C17: PHƯỢNG | E17: 0016100006767006 | I17: =C17 -> PHƯỢNG | J17: =A17 -> 11
A18: =A17+1 -> 12 | B18: Vũ Như | C18: QUỲNH | E18: 0016100006771003 | I18: =C18 -> QUỲNH | J18: =A18 -> 12
A19: =A18+1 -> 13 | B19: Nguyễn Thị | C19: VÂN | E19: 0016100006864001 | I19: =C19 -> VÂN | J19: =A19 -> 13
A20: =A19+1 -> 14 | B20: Huỳnh Thị Xuân | C20: MAI | E20: 0016100006575007 | I20: =C20 -> MAI | J20: =A20 -> 14
A21: =A20+1 -> 15 | B21: Trần Thị Phương | C21: OANH | E21: 0016100006576006 | I21: =C21 -> OANH | J21: =A21 -> 15
A22: =A21+1 -> 16 | B22: Thân Thị | C22: NHUNG | E22: 0016100006832002 | I22: =C22 -> NHUNG | J22: =A22 -> 16
A23: =A22+1 -> 17 | B23: Trần Việt | C23: ANH | E23: 2 | G23: 5 | I23: =C23 -> ANH | J23: =A23 -> 17 | K23: P: 01, 08, 15, 22, 29/10 | L23: 05, 26/11
A24: =A23+1 -> 18 | B24: Dương Văn | C24: TÂM | I24: =C24 -> TÂM | J24: =A24 -> 18
A25: =A24+1 -> 19 | B25: Huỳnh Ngọc | C25: LIÊN | I25: =C25 -> LIÊN | J25: =A25 -> 19
A26: =A25+1 -> 20 | B26: Phạm Hữu | C26: TẤN | D26: Tổ Bảo vệ | F26: Tổ Bảo vệ | I26: =C26 -> TẤN | J26: =A26 -> 20
A27: =A26+1 -> 21 | B27: Trần Văn | C27: ANH | G27: 2 | I27: =C27 -> ANH | J27: =A27 -> 21 | K27: P: 27, 28/10
A28: =A27+1 -> 22 | B28: Nguyễn Thanh | C28: HIỀN | I28: =C28 -> HIỀN | J28: =A28 -> 22
A29: =A28+1 -> 23 | B29: Phạm Quang | C29: TÙNG | I29: =C29 -> TÙNG | J29: =A29 -> 23
A30: =A29+1 -> 24 | B30: Huỳnh Thanh | C30: NHÀN | I30: =C30 -> NHÀN | J30: =A30 -> 24
A31: =A30+1 -> 25 | B31: Phạm Hữu Thành | C31: PHÚ | I31: =C31 -> PHÚ | J31: =A31 -> 25
A32: =A31+1 -> 26 | B32: Lê Hồng | C32: PHÚC | I32: =C32 -> PHÚC | J32: =A32 -> 26
A33: =A32+1 -> 27 | B33: Lê Hồng | C33: SƠN | I33: =C33 -> SƠN | J33: =A33 -> 27
A34: =A33+1 -> 28 | B34: Đồng Anh | C34: TUẤN | E34: 1 | I34: =C34 -> TUẤN | J34: =A34 -> 28
A35: =A34+1 -> 29 | B35: Nguyễn Hữu Xuân | C35: VŨ | I35: =C35 -> VŨ | J35: =A35 -> 29
A36: =A35+1 -> 30 | B36: Trần Thanh | C36: PHƯƠNG | I36: =C36 -> PHƯƠNG | J36: =A36 -> 30
A37: =A36+1 -> 31 | B37: Lê Quang | C37: LIÊM | D37: P. Quản trị - Dịch vụ | E37: 0016100006806001 | F37: P. Quản trị - Dịch vụ | I37: =C37 -> LIÊM | J37: =A37 -> 31
A38: =A37+1 -> 32 | B38: Nguyễn Văn | C38: THÀNH | E38: 0016100006495006 | I38: =C38 -> THÀNH | J38: =A38 -> 32
A39: =A38+1 -> 33 | B39: Bùi Thị | C39: DƯƠNG | E39: 0016100006505001 | I39: =C39 -> DƯƠNG | J39: =A39 -> 33
A40: =A39+1 -> 34 | B40: Dương Thị | C40: THỦY | E40: 0016100006807008 | I40: =C40 -> THỦY | J40: =A40 -> 34
A41: =A40+1 -> 35 | B41: Nguyễn Trọng | C41: PHÚ | D41: Tổ trưởng tổ Sửa chữa | E41: 0016100006599006 | F41: Tổ trưởng tổ Sửa chữa | I41: =C41 -> PHÚ | J41: =A41 -> 35
A42: =A41+1 -> 36 | B42: Nguyễn Tiến Việt | C42: DŨNG | E42: 0016100006493003 | I42: =C42 -> DŨNG | J42: =A42 -> 36
A43: =A42+1 -> 37 | B43: Ninh Đỗ | C43: HIỆP | E43: 0016100006690003 | I43: =C43 -> HIỆP | J43: =A43 -> 37
A44: =A43+1 -> 38 | B44: Võ Tấn | C44: KIỆT | I44: =C44 -> KIỆT | J44: =A44 -> 38
A45: =A44+1 -> 39 | B45: Nguyễn Xuân | C45: LỢI | E45: 0016100006692006 | I45: =C45 -> LỢI | J45: =A45 -> 39
A46: =A45+1 -> 40 | B46: Giáp Đức | C46: NHẬN | E46: 0016100006677007 | I46: =C46 -> NHẬN | J46: =A46 -> 40
A47: =A46+1 -> 41 | B47: Vũ Ngọc | C47: QUANG | E47: 0016100006676008 | I47: =C47 -> QUANG | J47: =A47 -> 41
A48: =A47+1 -> 42 | B48: Tạ Quốc | C48: TẤN | E48: 0016100006680008 | I48: =C48 -> TẤN | J48: =A48 -> 42
A49: =A48+1 -> 43 | B49: Nguyễn Cao | C49: THẮNG | E49: 0016100006678003 | I49: =C49 -> THẮNG | J49: =A49 -> 43
A50: =A49+1 -> 44 | B50: Giáp Văn | C50: THỊNH | E50: 0016100006675004 | I50: =C50 -> THỊNH | J50: =A50 -> 44
A51: =A50+1 -> 45 | B51: Huỳnh Bá | C51: TRIẾT | E51: 0016100006770007 | I51: =C51 -> TRIẾT | J51: =A51 -> 45
A52: =A51+1 -> 46 | B52: Lê Hồng Anh | C52: TUẤN | I52: =C52 -> TUẤN | J52: =A52 -> 46
A53: =A52+1 -> 47 | B53: Bùi Đặng Hoàng | C53: TUẤN | I53: =C53 -> TUẤN | J53: =A53 -> 47
A54: =A53+1 -> 48 | B54: Trần Thị | C54: THU | D54: Tổ trưởng tổ Môi trường | F54: Tổ trưởng tổ Môi trường | I54: =C54 -> THU | J54: =A54 -> 48
A55: =A54+1 -> 49 | B55: Đỗ Thị Bích | C55: THỦY | I55: =C55 -> THỦY | J55: =A55 -> 49
A56: =A55+1 -> 50 | B56: Nguyễn Thị Thu | C56: TRANG | I56: =C56 -> TRANG | J56: =A56 -> 50
A57: =A56+1 -> 51 | B57: Trần Kim | C57: TƯƠI | E57: 0016100006713003 | I57: =C57 -> TƯƠI | J57: =A57 -> 51
A58: =A57+1 -> 52 | B58: Trương Thị | C58: BẮC | E58: 0016100006598007 | G58: 1 | I58: =C58 -> BẮC | J58: =A58 -> 52 | K58: P: 22/10
A59: =A58+1 -> 53 | B59: Trương Thị | C59: ĐỊNH | E59: 0016100006499001 | G59: 1 | I59: =C59 -> ĐỊNH | J59: =A59 -> 53 | K59: P: 22/10
A60: =A59+1 -> 54 | B60: Trương Phú | C60: CƯỜNG | E60: 0016100006691007 | I60: =C60 -> CƯỜNG | J60: =A60 -> 54
A61: =A60+1 -> 55 | B61: Võ Tấn | C61: ĐỨC | E61: 0016100006785004 | I61: =C61 -> ĐỨC | J61: =A61 -> 55
A62: =A61+1 -> 56 | B62: Ngô Ngọc | C62: CỦA | E62: 0016100006600004 | I62: =C62 -> CỦA | J62: =A62 -> 56
A63: =A62+1 -> 57 | B63: Phan Đức | C63: LONG | D63: Tổ trưởng tổ QLKTX | E63: 0016100006745002 | F63: Tổ trưởng tổ QLKTX | I63: =C63 -> LONG | J63: =A63 -> 57
A64: =A63+1 -> 58 | B64: Trần Văn | C64: LÝ | E64: 0016100006746009 | I64: =C64 -> LÝ | J64: =A64 -> 58
A65: =A64+1 -> 59 | B65: Võ Thị | C65: TUYẾT | E65: 0016100006511001 | I65: =C65 -> TUYẾT | J65: =A65 -> 59
A66: =A65+1 -> 60 | B66: Trịnh Tuấn | C66: VŨ | E66: 0016100006494007 | I66: =C66 -> VŨ | J66: =A66 -> 60
A67: =A66+1 -> 61 | B67: Phạm Thị Hoàng | C67: DIỄM | G67: 1 | I67: =C67 -> DIỄM | J67: =A67 -> 61 | K67: P: 30/10
A68: =A67+1 -> 62 | B68: Nguyễn | C68: KÍNH | D68: P. KH - TC | E68: 0016100006567007 | F68: P. KH - TC | I68: =C68 -> KÍNH | J68: =A68 -> 62
A69: =A68+1 -> 63 | B69: Hồng Mộng Tuyết | C69: DUNG | E69: 0016100006725001 | I69: =C69 -> DUNG | J69: =A69 -> 63
A70: =A69+1 -> 64 | B70: Võ Thị Lệ | C70: TRÂN | E70: 0016100006566008 | I70: =C70 -> TRÂN | J70: =A70 -> 64
A71: =A70+1 -> 65 | B71: Nguyễn Thị Hồng | C71: THẮM | E71: 0016100006705008 | I71: =C71 -> THẮM | J71: =A71 -> 65
A72: =A71+1 -> 66 | B72: Trần Thị Minh | C72: THOA | E72: 0016100006512008 | I72: =C72 -> THOA | J72: =A72 -> 66
A73: =A72+1 -> 67 | B73: Trần Thị Thảo | C73: VÂN | E73: 0016100006515007 | I73: =C73 -> VÂN | J73: =A73 -> 67
A74: =A73+1 -> 68 | B74: Nguyễn Thụy | C74: NGHIÊM | E74: 0016100006681004 | I74: =C74 -> NGHIÊM | J74: =A74 -> 68
A75: =A74+1 -> 69 | B75: Huỳnh Như | C75: Ý | E75: 0016100006513004 | I75: =C75 -> Ý | J75: =A75 -> 69
A76: =A75+1 -> 70 | B76: Nguyễn Chiến | C76: THẮNG | E76: 0016100006506008 | I76: =C76 -> THẮNG | J76: =A76 -> 70
A77: =A76+1 -> 71 | B77: Nguyễn Trọng | C77: NGHĨA | D77: P. QLKH - HTQT | E77: 0016100006516003 | F77: P. QLKH - HTQT | I77: =C77 -> NGHĨA | J77: =A77 -> 71
A78: =A77+1 -> 72 | B78: Lê Tiến | C78: DŨNG | G78: 1 | I78: =C78 -> DŨNG | J78: =A78 -> 72 | K78: P: 25/10
A79: =A78+1 -> 73 | B79: Lê Trần Thanh | C79: NGA | E79: 0016100006766007 | G79: 2 | I79: =C79 -> NGA | J79: =A79 -> 73 | K79: P: 14, 15/10
A80: =A79+1 -> 74 | B80: Trần Khánh | C80: HUY | D80: P. TS - ĐT | E80: 0016100006719001 | G80: 2 | H80: 3 | I80: =C80 -> HUY | J80: =A80 -> 74 | K80: P: 15, 21/10 + CĐ: 18, 19, 20/10
A81: =A80+1 -> 75 | B81: Nguyễn Văn | C81: TẤN | E81: 0016100006783001 | F81: P. TS - ĐT | I81: =C81 -> TẤN | J81: =A81 -> 75
A82: =A81+1 -> 76 | B82: Nguyễn Thành | C82: NAM | G82: 2 | K82: P: 11, 12/10
A83: =A82+1 -> 77 | B83: Huỳnh Thị | C83: MAI | E83: 0016100006709006 | I83: =C83 -> MAI | J83: =A83 -> 77 | L83: Xin phép ra ngoài trước 1g làm việc hàng ngày từ 24/10 đến 02/12/2022 và cam kết bù giờ
A84: =A83+1 -> 78 | B84: Quách Minh | C84: THỬ | I84: =C84 -> THỬ
A85: =A84+1 -> 79 | B85: Sỹ Thị | C85: CHUNG | E85: 0016100006711008 | I85: =C85 -> CHUNG | J85: =A85 -> 79
A86: =A85+1 -> 80 | B86: Nguyễn Thị Hải | C86: HÀ | E86: 0016100006715006 | G86: 1 | I86: =C86 -> HÀ | J86: =A86 -> 80 | K86: P: 03/10 | L86: Chung đơn Tháng 9
A87: =A86+1 -> 81 | B87: Thái Thị My | C87: SA | I87: =C87 -> SA | J87: =A87 -> 81
A88: =A87+1 -> 82 | B88: Nguyễn Thị | C88: TẤT | I88: =C88 -> TẤT | J88: =A88 -> 82
A89: =A88+1 -> 83 | B89: Nguyễn Thị Thanh | C89: THẢO | I89: =C89 -> THẢO | J89: =A89 -> 83
A90: =A89+1 -> 84 | B90: Võ Thị Xuân | C90: THƠ | E90: 0016100006710004 | I90: =C90 -> THƠ | J90: =A90 -> 84
A91: =A90+1 -> 85 | B91: Nguyễn Thị | C91: THÙY | I91: =C91 -> THÙY | J91: =A91 -> 85
A92: =A91+1 -> 86 | B92: Nguyễn Việt | C92: TIẾN | I92: =C92 -> TIẾN | J92: =A92 -> 86
A93: =A92+1 -> 87 | B93: Giáp Thị | C93: VƯỢNG | G93: 1 | I93: =C93 -> VƯỢNG | J93: =A93 -> 87 | K93: P: 06/10
A94: =A93+1 -> 88 | B94: Mai Nguyễn Hoàng | C94: YẾN | I94: =C94 -> YẾN | J94: =A94 -> 88
A95: =A94+1 -> 89 | B95: Nguyễn Thị | C95: NHUNG | I95: =C95 -> NHUNG | J95: =A95 -> 89
A96: =A95+1 -> 90 | B96: Huỳnh Thị Cẩm | C96: HOA | D96: P. KT và ĐBCL | E96: 0016100006546007 | I96: =C96 -> HOA | J96: =A96 -> 90
A97: =A96+1 -> 91 | B97: Nguyễn Chí | C97: NHÂN | F97: P. KT và ĐBCL | I97: =C97 -> NHÂN | J97: =A97 -> 91
A98: =A97+1 -> 92 | B98: Nguyễn Thị Kim | C98: DUNG | I98: =C98 -> DUNG | J98: =A98 -> 92
A99: =A98+1 -> 93 | B99: Nguyễn Thanh | C99: SƠN | H99: 5 | I99: =C99 -> SƠN | J99: =A99 -> 93 | K99: CĐ: 08/10 đến 16/10 (5 ngày) | L99: Bị tai nạn giao thông
A100: =A99+1 -> 94 | B100: Vũ Thị Thu | C100: THỦY | E100: 0016100006537008 | I100: =C100 -> THỦY | J100: =A100 -> 94
A101: =A100+1 -> 95 | B101: Nguyễn Yến | C101: NHI | E101: 0016100006776005 | I101: =C101 -> NHI | J101: =A101 -> 95
...

Sheet T11.2022
A1: UBND THÀNH PHỐ HỒ CHÍ MINH | G1: CỘNG HÒA XÃ HỘI CHỦ NGHĨA VIỆT NAM
A2: TRƯỜNG CAO ĐẲNG LÝ TỰ TRỌNG | G2: Độc lập - Tự do - Hạnh phúc
A3: THÀNH PHỐ HỒ CHÍ MINH
B5: 40000
A6: TT | B6: Họ và tên | D6: Số tài khoản thẻ ATM AGR | E6: Số tài khoản thẻ ATM OCB | F6: Đơn vị | G6: Nghỉ phép | H6: Nghỉ chế độ | K6: Ghi chú | L6: * Ghi chú: CÁC KHOA
A7: 1 | B7: Phạm Hữu | C7: LỘC | D7: Hiệu Trưởng | E7: 0016100006544007 | F7: Hiệu Trưởng | I7: =C7 -> LỘC | J7: =A7 -> 1 | L7: 1/ Nguyễn Thị Cẩm Thạch_KHCB_nghỉ BHXH từ 19/09 đến 23/09/2022
A8: =A7+1 -> 2 | B8: Đinh Hồng | C8: MINH | D8: Phó Hiệu trưởng | E8: 0016100006699008 | F8: Phó Hiệu trưởng | I8: =C8 -> MINH | J8: =A8 -> 2 | L8: 2/ Lâm Thị Phương Thảo_KHCB_nghỉ BHXH từ 21/09 đến 01/10/2022
A9: =A8+1 -> 3 | B9: Đinh Văn | C9: ĐỆ | D9: Phó Hiệu trưởng | E9: 0016100006543008 | F9: Phó Hiệu trưởng | I9: =C9 -> ĐỆ | J9: =A9 -> 3
A10: =A9+1 -> 4 | B10: Châu Văn | C10: BẢO | D10: Phó Hiệu trưởng | F10: Phó Hiệu trưởng | I10: =C10 -> BẢO | J10: =A10 -> 4
A11: =A10+1 -> 5 | B11: Lâm Viết | C11: DŨNG | D11: P. TC-HC-TH | E11: 0016100006550007 | F11: P. TC-HC-TH | I11: =C11 -> DŨNG | J11: =A11 -> 5
A12: =A11+1 -> 6 | B12: Lưu Hoàng Hải | C12: YẾN | E12: 0016100006799005 | I12: =C12 -> YẾN | J12: =A12 -> 6
A13: =A12+1 -> 7 | B13: Huỳnh Thị Minh | C13: LY | E13: 0016100006518006 | I13: =C13 -> LY | J13: =A13 -> 7
A14: =A13+1 -> 8 | B14: Nguyễn Văn | C14: CHÌ | E14: 0016100006765003 | I14: =C14 -> CHÌ | J14: =A14 -> 8
A15: =A14+1 -> 9 | B15: Nguyễn Thị Bích | C15: LIỄU | E15: 0016100006663006 | I15: =C15 -> LIỄU | J15: =A15 -> 9
A16: =A15+1 -> 10 | B16: Phan Thị Ngọc | C16: PHƯỢNG | E16: 0016100006635002 | I16: =C16 -> PHƯỢNG | J16: =A16 -> 10
A17: =A16+1 -> 11 | B17: Trần Thị Ánh | C17: PHƯỢNG | E17: 0016100006767006 | I17: =C17 -> PHƯỢNG | J17: =A17 -> 11
A18: =A17+1 -> 12 | B18: Vũ Như | C18: QUỲNH | E18: 0016100006771003 | I18: =C18 -> QUỲNH | J18: =A18 -> 12
A19: =A18+1 -> 13 | B19: Nguyễn Thị | C19: VÂN | E19: 0016100006864001 | I19: =C19 -> VÂN | J19: =A19 -> 13
A20: =A19+1 -> 14 | B20: Huỳnh Thị Xuân | C20: MAI | E20: 0016100006575007 | G20: 1.5 | H20: 1 | I20: =C20 -> MAI | J20: =A20 -> 14 | K20: S: 02/11; 25/11; CĐ: 26/11 | L20: Con kết hôn
A21: =A20+1 -> 15 | B21: Trần Thị Phương | C21: OANH | E21: 0016100006576006 | I21: =C21 -> OANH | J21: =A21 -> 15
A22: =A21+1 -> 16 | B22: Thân Thị | C22: NHUNG | E22: 0016100006832002 | I22: =C22 -> NHUNG | J22: =A22 -> 16
A23: =A22+1 -> 17 | B23: Trần Việt | C23: ANH | E23: 2 | G23: 3 | I23: =C23 -> ANH | J23: =A23 -> 17 | K23: P: 05, 19, 26/11
A24: =A23+1 -> 18 | B24: Dương Văn | C24: TÂM | I24: =C24 -> TÂM | J24: =A24 -> 18
A25: =A24+1 -> 19 | B25: Huỳnh Ngọc | C25: LIÊN | I25: =C25 -> LIÊN | J25: =A25 -> 19
A26: =A25+1 -> 20 | B26: Phạm Hữu | C26: TẤN | D26: Tổ Bảo vệ | F26: Tổ Bảo vệ | I26: =C26 -> TẤN | J26: =A26 -> 20
A27: =A26+1 -> 21 | B27: Trần Văn | C27: ANH | I27: =C27 -> ANH | J27: =A27 -> 21
A28: =A27+1 -> 22 | B28: Nguyễn Thanh | C28: HIỀN | I28: =C28 -> HIỀN | J28: =A28 -> 22
A29: =A28+1 -> 23 | B29: Phạm Quang | C29: TÙNG | G29: 2 | I29: =C29 -> TÙNG | J29: =A29 -> 23 | K29: P: 21, 22/11
A30: =A29+1 -> 24 | B30: Huỳnh Thanh | C30: NHÀN | I30: =C30 -> NHÀN | J30: =A30 -> 24
A31: =A30+1 -> 25 | B31: Phạm Hữu Thành | C31: PHÚ | I31: =C31 -> PHÚ | J31: =A31 -> 25
A32: =A31+1 -> 26 | B32: Lê Hồng | C32: PHÚC | I32: =C32 -> PHÚC | J32: =A32 -> 26
A33: =A32+1 -> 27 | B33: Lê Hồng | C33: SƠN | I33: =C33 -> SƠN | J33: =A33 -> 27
A34: =A33+1 -> 28 | B34: Đồng Anh | C34: TUẤN | E34: 1 | I34: =C34 -> TUẤN | J34: =A34 -> 28
A35: =A34+1 -> 29 | B35: Nguyễn Hữu Xuân | C35: VŨ | I35: =C35 -> VŨ | J35: =A35 -> 29
A36: =A35+1 -> 30 | B36: Trần Thanh | C36: PHƯƠNG | I36: =C36 -> PHƯƠNG | J36: =A36 -> 30
A37: =A36+1 -> 31 | B37: Lê Quang | C37: LIÊM | D37: P. Quản trị - Dịch vụ | E37: 0016100006806001 | F37: P. Quản trị - Dịch vụ | I37: =C37 -> LIÊM | J37: =A37 -> 31
A38: =A37+1 -> 32 | B38: Nguyễn Văn | C38: THÀNH | E38: 0016100006495006 | I38: =C38 -> THÀNH | J38: =A38 -> 32
A39: =A38+1 -> 33 | B39: Bùi Thị | C39: DƯƠNG | E39: 0016100006505001 | I39: =C39 -> DƯƠNG | J39: =A39 -> 33
A40: =A39+1 -> 34 | B40: Dương Thị | C40: THỦY | E40: 0016100006807008 | I40: =C40 -> THỦY | J40: =A40 -> 34
A41: =A40+1 -> 35 | B41: Nguyễn Trọng | C41: PHÚ | D41: Tổ trưởng tổ Sửa chữa | E41: 0016100006599006 | F41: Tổ trưởng tổ Sửa chữa | I41: =C41 -> PHÚ | J41: =A41 -> 35
A42: =A41+1 -> 36 | B42: Nguyễn Tiến Việt | C42: DŨNG | E42: 0016100006493003 | I42: =C42 -> DŨNG | J42: =A42 -> 36
A43: =A42+1 -> 37 | B43: Ninh Đỗ | C43: HIỆP | E43: 0016100006690003 | I43: =C43 -> HIỆP | J43: =A43 -> 37
A44: =A43+1 -> 38 | B44: Võ Tấn | C44: KIỆT | I44: =C44 -> KIỆT | J44: =A44 -> 38
A45: =A44+1 -> 39 | B45: Nguyễn Xuân | C45: LỢI | E45: 0016100006692006 | I45: =C45 -> LỢI | J45: =A45 -> 39
A46: =A45+1 -> 40 | B46: Giáp Đức | C46: NHẬN | E46: 0016100006677007 | I46: =C46 -> NHẬN | J46: =A46 -> 40
A47: =A46+1 -> 41 | B47: Vũ Ngọc | C47: QUANG | E47: 0016100006676008 | I47: =C47 -> QUANG | J47: =A47 -> 41
A48: =A47+1 -> 42 | B48: Tạ Quốc | C48: TẤN | E48: 0016100006680008 | I48: =C48 -> TẤN | J48: =A48 -> 42
A49: =A48+1 -> 43 | B49: Nguyễn Cao | C49: THẮNG | E49: 0016100006678003 | I49: =C49 -> THẮNG | J49: =A49 -> 43
A50: =A49+1 -> 44 | B50: Giáp Văn | C50: THỊNH | E50: 0016100006675004 | I50: =C50 -> THỊNH | J50: =A50 -> 44
A51: =A50+1 -> 45 | B51: Huỳnh Bá | C51: TRIẾT | E51: 0016100006770007 | I51: =C51 -> TRIẾT | J51: =A51 -> 45
A52: =A51+1 -> 46 | B52: Lê Hồng Anh | C52: TUẤN | I52: =C52 -> TUẤN | J52: =A52 -> 46
A53: =A52+1 -> 47 | B53: Bùi Đặng Hoàng | C53: TUẤN | I53: =C53 -> TUẤN | J53: =A53 -> 47
A54: =A53+1 -> 48 | B54: Trần Thị | C54: THU | D54: Tổ trưởng tổ Môi trường | F54: Tổ trưởng tổ Môi trường | I54: =C54 -> THU | J54: =A54 -> 48
A55: =A54+1 -> 49 | B55: Đỗ Thị Bích | C55: THỦY | I55: =C55 -> THỦY | J55: =A55 -> 49
A56: =A55+1 -> 50 | B56: Nguyễn Thị Thu | C56: TRANG | I56: =C56 -> TRANG | J56: =A56 -> 50
A57: =A56+1 -> 51 | B57: Trần Kim | C57: TƯƠI | E57: 0016100006713003 | I57: =C57 -> TƯƠI | J57: =A57 -> 51
A58: =A57+1 -> 52 | B58: Trương Thị | C58: BẮC | E58: 0016100006598007 | I58: =C58 -> BẮC | J58: =A58 -> 52
A59: =A58+1 -> 53 | B59: Trương Thị | C59: ĐỊNH | E59: 0016100006499001 | I59: =C59 -> ĐỊNH | J59: =A59 -> 53
A60: =A59+1 -> 54 | B60: Trương Phú | C60: CƯỜNG | E60: 0016100006691007 | I60: =C60 -> CƯỜNG | J60: =A60 -> 54
A61: =A60+1 -> 55 | B61: Võ Tấn | C61: ĐỨC | E61: 0016100006785004 | I61: =C61 -> ĐỨC | J61: =A61 -> 55
A62: =A61+1 -> 56 | B62: Ngô Ngọc | C62: CỦA | E62: 0016100006600004 | I62: =C62 -> CỦA | J62: =A62 -> 56
A63: =A62+1 -> 57 | B63: Phan Đức | C63: LONG | D63: Tổ trưởng tổ QLKTX | E63: 0016100006745002 | F63: Tổ trưởng tổ QLKTX | I63: =C63 -> LONG | J63: =A63 -> 57
A64: =A63+1 -> 58 | B64: Trần Văn | C64: LÝ | E64: 0016100006746009 | I64: =C64 -> LÝ | J64: =A64 -> 58
A65: =A64+1 -> 59 | B65: Võ Thị | C65: TUYẾT | E65: 0016100006511001 | I65: =C65 -> TUYẾT | J65: =A65 -> 59
A66: =A65+1 -> 60 | B66: Trịnh Tuấn | C66: VŨ | E66: 0016100006494007 | I66: =C66 -> VŨ | J66: =A66 -> 60
A67: =A66+1 -> 61 | B67: Phạm Thị Hoàng | C67: DIỄM | I67: =C67 -> DIỄM | J67: =A67 -> 61
A68: =A67+1 -> 62 | B68: Nguyễn | C68: KÍNH | D68: P. KH - TC | E68: 0016100006567007 | F68: P. KH - TC | I68: =C68 -> KÍNH | J68: =A68 -> 62
A69: =A68+1 -> 63 | B69: Hồng Mộng Tuyết | C69: DUNG | E69: 0016100006725001 | I69: =C69 -> DUNG | J69: =A69 -> 63
A70: =A69+1 -> 64 | B70: Võ Thị Lệ | C70: TRÂN | E70: 0016100006566008 | I70: =C70 -> TRÂN | J70: =A70 -> 64
A71: =A70+1 -> 65 | B71: Nguyễn Thị Hồng | C71: THẮM | E71: 0016100006705008 | I71: =C71 -> THẮM | J71: =A71 -> 65
A72: =A71+1 -> 66 | B72: Trần Thị Minh | C72: THOA | E72: 0016100006512008 | I72: =C72 -> THOA | J72: =A72 -> 66
A73: =A72+1 -> 67 | B73: Trần Thị Thảo | C73: VÂN | E73: 0016100006515007 | I73: =C73 -> VÂN | J73: =A73 -> 67
A74: =A73+1 -> 68 | B74: Nguyễn Thụy | C74: NGHIÊM | E74: 0016100006681004 | I74: =C74 -> NGHIÊM | J74: =A74 -> 68
A75: =A74+1 -> 69 | B75: Huỳnh Như | C75: Ý | E75: 0016100006513004 | I75: =C75 -> Ý | J75: =A75 -> 69
A76: =A75+1 -> 70 | B76: Nguyễn Chiến | C76: THẮNG | E76: 0016100006506008 | I76: =C76 -> THẮNG | J76: =A76 -> 70
A77: =A76+1 -> 71 | B77: Nguyễn Trọng | C77: NGHĨA | D77: P. QLKH - HTQT | E77: 0016100006516003 | F77: P. QLKH - HTQT | I77: =C77 -> NGHĨA | J77: =A77 -> 71
A78: =A77+1 -> 72 | B78: Lê Tiến | C78: DŨNG | G78: 1 | I78: =C78 -> DŨNG | J78: =A78 -> 72 | K78: P: 04/11
A79: =A78+1 -> 73 | B79: Lê Trần Thanh | C79: NGA | E79: 0016100006766007 | I79: =C79 -> NGA | J79: =A79 -> 73
A80: =A79+1 -> 74 | B80: Trần Khánh | C80: HUY | D80: P. TS - ĐT | E80: 0016100006719001 | G80: 1 | I80: =C80 -> HUY | J80: =A80 -> 74 | K80: P: 23/11
A81: =A80+1 -> 75 | B81: Nguyễn Văn | C81: TẤN | E81: 0016100006783001 | F81: P. TS - ĐT | I81: =C81 -> TẤN | J81: =A81 -> 75
A82: =A81+1 -> 76 | B82: Nguyễn Thành | C82: NAM | J82: =A82 -> 76
A83: =A82+1 -> 77 | B83: Huỳnh Thị | C83: MAI | E83: 0016100006709006 | I83: =C83 -> MAI | J83: =A83 -> 77
A84: =A83+1 -> 78 | B84: Quách Minh | C84: THỬ | I84: =C84 -> THỬ | J84: =A84 -> 78
A85: =A84+1 -> 79 | B85: Sỹ Thị | C85: CHUNG | E85: 0016100006711008 | I85: =C85 -> CHUNG | J85: =A85 -> 79
A86: =A85+1 -> 80 | B86: Nguyễn Thị Hải | C86: HÀ | E86: 0016100006715006 | I86: =C86 -> HÀ | J86: =A86 -> 80
A87: =A86+1 -> 81 | B87: Thái Thị My | C87: SA | I87: =C87 -> SA | J87: =A87 -> 81
A88: =A87+1 -> 82 | B88: Nguyễn Thị | C88: TẤT | I88: =C88 -> TẤT | J88: =A88 -> 82
A89: =A88+1 -> 83 | B89: Nguyễn Thị Thanh | C89: THẢO | G89: 2 | I89: =C89 -> THẢO | J89: =A89 -> 83 | K89: P: 22, 23/11
A90: =A89+1 -> 84 | B90: Võ Thị Xuân | C90: THƠ | E90: 0016100006710004 | I90: =C90 -> THƠ | J90: =A90 -> 84
A91: =A90+1 -> 85 | B91: Nguyễn Thị | C91: THÙY | I91: =C91 -> THÙY | J91: =A91 -> 85
A92: =A91+1 -> 86 | B92: Nguyễn Việt | C92: TIẾN | I92: =C92 -> TIẾN | J92: =A92 -> 86
A93: =A92+1 -> 87 | B93: Giáp Thị | C93: VƯỢNG | G93: 1 | I93: =C93 -> VƯỢNG | J93: =A93 -> 87 | K93: P: 11/11
A94: =A93+1 -> 88 | B94: Mai Nguyễn Hoàng | C94: YẾN | I94: =C94 -> YẾN | J94: =A94 -> 88
A95: =A94+1 -> 89 | B95: Nguyễn Thị | C95: NHUNG | I95: =C95 -> NHUNG | J95: =A95 -> 89
A96: =A95+1 -> 90 | B96: Huỳnh Thị Cẩm | C96: HOA | D96: P. KT và ĐBCL | E96: 0016100006546007 | I96: =C96 -> HOA | J96: =A96 -> 90
A97: =A96+1 -> 91 | B97: Nguyễn Chí | C97: NHÂN | F97: P. KT và ĐBCL | I97: =C97 -> NHÂN | J97: =A97 -> 91
A98: =A97+1 -> 92 | B98: Nguyễn Thị Kim | C98: DUNG | I98: =C98 -> DUNG | J98: =A98 -> 92
A99: =A98+1 -> 93 | B99: Nguyễn Thanh | C99: SƠN | I99: =C99 -> SƠN | J99: =A99 -> 93
A100: =A99+1 -> 94 | B100: Vũ Thị Thu | C100: THỦY | E100: 0016100006537008 | I100: =C100 -> THỦY | J100: =A100 -> 94
A101: =A100+1 -> 95 | B101: Nguyễn Yến | C101: NHI | E101: 0016100006776005 | I101: =C101 -> NHI | J101: =A101 -> 95
...

Sheet T12.2022
A1: UBND THÀNH PHỐ HỒ CHÍ MINH | G1: CỘNG HÒA XÃ HỘI CHỦ NGHĨA VIỆT NAM
A2: TRƯỜNG CAO ĐẲNG LÝ TỰ TRỌNG | G2: Độc lập - Tự do - Hạnh phúc
A3: THÀNH PHỐ HỒ CHÍ MINH
B5: 40000
A6: TT | B6: Họ và tên | D6: Số tài khoản thẻ ATM AGR | E6: Số tài khoản thẻ ATM OCB | F6: Đơn vị | G6: Nghỉ phép | H6: Nghỉ chế độ | K6: Ghi chú | L6: * Ghi chú: CÁC KHOA
A7: 1 | B7: Phạm Hữu | C7: LỘC | D7: Hiệu Trưởng | E7: 0016100006544007 | F7: Hiệu Trưởng | I7: =C7 -> LỘC | J7: =A7 -> 1 | L7: 1/ Nguyễn Thị Cẩm Thạch_KHCB_nghỉ BHXH từ 19/09 đến 23/09/2022
A8: =A7+1 -> 2 | B8: Đinh Hồng | C8: MINH | D8: Phó Hiệu trưởng | E8: 0016100006699008 | F8: Phó Hiệu trưởng | I8: =C8 -> MINH | J8: =A8 -> 2 | L8: 2/ Lâm Thị Phương Thảo_KHCB_nghỉ BHXH từ 21/09 đến 01/10/2022
A9: =A8+1 -> 3 | B9: Đinh Văn | C9: ĐỆ | D9: Phó Hiệu trưởng | E9: 0016100006543008 | F9: Phó Hiệu trưởng | I9: =C9 -> ĐỆ | J9: =A9 -> 3
A10: =A9+1 -> 4 | B10: Châu Văn | C10: BẢO | D10: Phó Hiệu trưởng | F10: Phó Hiệu trưởng | I10: =C10 -> BẢO | J10: =A10 -> 4
A11: =A10+1 -> 5 | B11: Lâm Viết | C11: DŨNG | D11: P. TC-HC-TH | E11: 0016100006550007 | F11: P. TC-HC-TH | I11: =C11 -> DŨNG | J11: =A11 -> 5
A12: =A11+1 -> 6 | B12: Lưu Hoàng Hải | C12: YẾN | E12: 0016100006799005 | I12: =C12 -> YẾN | J12: =A12 -> 6
A13: =A12+1 -> 7 | B13: Huỳnh Thị Minh | C13: LY | E13: 0016100006518006 | I13: =C13 -> LY | J13: =A13 -> 7
A14: =A13+1 -> 8 | B14: Nguyễn Văn | C14: CHÌ | E14: 0016100006765003 | I14: =C14 -> CHÌ | J14: =A14 -> 8
A15: =A14+1 -> 9 | B15: Nguyễn Thị Bích | C15: LIỄU | E15: 0016100006663006 | I15: =C15 -> LIỄU | J15: =A15 -> 9
A16: =A15+1 -> 10 | B16: Phan Thị Ngọc | C16: PHƯỢNG | E16: 0016100006635002 | I16: =C16 -> PHƯỢNG | J16: =A16 -> 10
A17: =A16+1 -> 11 | B17: Trần Thị Ánh | C17: PHƯỢNG | E17: 0016100006767006 | I17: =C17 -> PHƯỢNG | J17: =A17 -> 11
A18: =A17+1 -> 12 | B18: Vũ Như | C18: QUỲNH | E18: 0016100006771003 | I18: =C18 -> QUỲNH | J18: =A18 -> 12
A19: =A18+1 -> 13 | B19: Nguyễn Thị | C19: VÂN | E19: 0016100006864001 | I19: =C19 -> VÂN | J19: =A19 -> 13
A20: =A19+1 -> 14 | B20: Huỳnh Thị Xuân | C20: MAI | E20: 0016100006575007 | G20: 4 | I20: =C20 -> MAI | J20: =A20 -> 14 | K20: P: 03, 08, 09, 10/12
A21: =A20+1 -> 15 | B21: Trần Thị Phương | C21: OANH | E21: 0016100006576006 | I21: =C21 -> OANH | J21: =A21 -> 15
A22: =A21+1 -> 16 | B22: Thân Thị | C22: NHUNG | E22: 0016100006832002 | I22: =C22 -> NHUNG | J22: =A22 -> 16
A23: =A22+1 -> 17 | B23: Trần Việt | C23: ANH | E23: 2 | I23: =C23 -> ANH | J23: =A23 -> 17
A24: =A23+1 -> 18 | B24: Dương Văn | C24: TÂM | I24: =C24 -> TÂM | J24: =A24 -> 18
A25: =A24+1 -> 19 | B25: Huỳnh Ngọc | C25: LIÊN | I25: =C25 -> LIÊN | J25: =A25 -> 19
A26: =A25+1 -> 20 | B26: Phạm Hữu | C26: TẤN | D26: Tổ Bảo vệ | F26: Tổ Bảo vệ | I26: =C26 -> TẤN | J26: =A26 -> 20
A27: =A26+1 -> 21 | B27: Trần Văn | C27: ANH | I27: =C27 -> ANH | J27: =A27 -> 21
A28: =A27+1 -> 22 | B28: Nguyễn Thanh | C28: HIỀN | I28: =C28 -> HIỀN | J28: =A28 -> 22
A29: =A28+1 -> 23 | B29: Phạm Quang | C29: TÙNG | I29: =C29 -> TÙNG | J29: =A29 -> 23
A30: =A29+1 -> 24 | B30: Huỳnh Thanh | C30: NHÀN | I30: =C30 -> NHÀN | J30: =A30 -> 24
A31: =A30+1 -> 25 | B31: Phạm Hữu Thành | C31: PHÚ | I31: =C31 -> PHÚ | J31: =A31 -> 25
A32: =A31+1 -> 26 | B32: Lê Hồng | C32: PHÚC | I32: =C32 -> PHÚC | J32: =A32 -> 26
A33: =A32+1 -> 27 | B33: Lê Hồng | C33: SƠN | I33: =C33 -> SƠN | J33: =A33 -> 27
A34: =A33+1 -> 28 | B34: Đồng Anh | C34: TUẤN | E34: 1 | I34: =C34 -> TUẤN | J34: =A34 -> 28
A35: =A34+1 -> 29 | B35: Nguyễn Hữu Xuân | C35: VŨ | I35: =C35 -> VŨ | J35: =A35 -> 29
A36: =A35+1 -> 30 | B36: Trần Thanh | C36: PHƯƠNG | I36: =C36 -> PHƯƠNG | J36: =A36 -> 30
A37: =A36+1 -> 31 | B37: Lê Quang | C37: LIÊM | D37: P. Quản trị - Dịch vụ | E37: 0016100006806001 | F37: P. Quản trị - Dịch vụ | I37: =C37 -> LIÊM | J37: =A37 -> 31
A38: =A37+1 -> 32 | B38: Nguyễn Văn | C38: THÀNH | E38: 0016100006495006 | I38: =C38 -> THÀNH | J38: =A38 -> 32
A39: =A38+1 -> 33 | B39: Bùi Thị | C39: DƯƠNG | E39: 0016100006505001 | I39: =C39 -> DƯƠNG | J39: =A39 -> 33
A40: =A39+1 -> 34 | B40: Dương Thị | C40: THỦY | E40: 0016100006807008 | I40: =C40 -> THỦY | J40: =A40 -> 34
A41: =A40+1 -> 35 | B41: Nguyễn Trọng | C41: PHÚ | D41: Tổ trưởng tổ Sửa chữa | E41: 0016100006599006 | F41: Tổ trưởng tổ Sửa chữa | I41: =C41 -> PHÚ | J41: =A41 -> 35
A42: =A41+1 -> 36 | B42: Nguyễn Tiến Việt | C42: DŨNG | E42: 0016100006493003 | I42: =C42 -> DŨNG | J42: =A42 -> 36
A43: =A42+1 -> 37 | B43: Ninh Đỗ | C43: HIỆP | E43: 0016100006690003 | I43: =C43 -> HIỆP | J43: =A43 -> 37
A44: =A43+1 -> 38 | B44: Võ Tấn | C44: KIỆT | I44: =C44 -> KIỆT | J44: =A44 -> 38
A45: =A44+1 -> 39 | B45: Nguyễn Xuân | C45: LỢI | E45: 0016100006692006 | I45: =C45 -> LỢI | J45: =A45 -> 39
A46: =A45+1 -> 40 | B46: Giáp Đức | C46: NHẬN | E46: 0016100006677007 | I46: =C46 -> NHẬN | J46: =A46 -> 40
A47: =A46+1 -> 41 | B47: Vũ Ngọc | C47: QUANG | E47: 0016100006676008 | I47: =C47 -> QUANG | J47: =A47 -> 41
A48: =A47+1 -> 42 | B48: Tạ Quốc | C48: TẤN | E48: 0016100006680008 | I48: =C48 -> TẤN | J48: =A48 -> 42
A49: =A48+1 -> 43 | B49: Nguyễn Cao | C49: THẮNG | E49: 0016100006678003 | I49: =C49 -> THẮNG | J49: =A49 -> 43
A50: =A49+1 -> 44 | B50: Giáp Văn | C50: THỊNH | E50: 0016100006675004 | I50: =C50 -> THỊNH | J50: =A50 -> 44
A51: =A50+1 -> 45 | B51: Huỳnh Bá | C51: TRIẾT | E51: 0016100006770007 | I51: =C51 -> TRIẾT | J51: =A51 -> 45
A52: =A51+1 -> 46 | B52: Lê Hồng Anh | C52: TUẤN | I52: =C52 -> TUẤN | J52: =A52 -> 46
A53: =A52+1 -> 47 | B53: Bùi Đặng Hoàng | C53: TUẤN | I53: =C53 -> TUẤN | J53: =A53 -> 47
A54: =A53+1 -> 48 | B54: Trần Thị | C54: THU | D54: Tổ trưởng tổ Môi trường | F54: Tổ trưởng tổ Môi trường | I54: =C54 -> THU | J54: =A54 -> 48
A55: =A54+1 -> 49 | B55: Đỗ Thị Bích | C55: THỦY | I55: =C55 -> THỦY | J55: =A55 -> 49
A56: =A55+1 -> 50 | B56: Nguyễn Thị Thu | C56: TRANG | I56: =C56 -> TRANG | J56: =A56 -> 50
A57: =A56+1 -> 51 | B57: Trần Kim | C57: TƯƠI | E57: 0016100006713003 | I57: =C57 -> TƯƠI | J57: =A57 -> 51
A58: =A57+1 -> 52 | B58: Trương Thị | C58: BẮC | E58: 0016100006598007 | I58: =C58 -> BẮC | J58: =A58 -> 52
A59: =A58+1 -> 53 | B59: Trương Thị | C59: ĐỊNH | E59: 0016100006499001 | I59: =C59 -> ĐỊNH | J59: =A59 -> 53
A60: =A59+1 -> 54 | B60: Trương Phú | C60: CƯỜNG | E60: 0016100006691007 | I60: =C60 -> CƯỜNG | J60: =A60 -> 54
A61: =A60+1 -> 55 | B61: Võ Tấn | C61: ĐỨC | E61: 0016100006785004 | I61: =C61 -> ĐỨC | J61: =A61 -> 55
A62: =A61+1 -> 56 | B62: Ngô Ngọc | C62: CỦA | E62: 0016100006600004 | I62: =C62 -> CỦA | J62: =A62 -> 56
A63: =A62+1 -> 57 | B63: Phan Đức | C63: LONG | D63: Tổ trưởng tổ QLKTX | E63: 0016100006745002 | F63: Tổ trưởng tổ QLKTX | I63: =C63 -> LONG | J63: =A63 -> 57
A64: =A63+1 -> 58 | B64: Trần Văn | C64: LÝ | E64: 0016100006746009 | I64: =C64 -> LÝ | J64: =A64 -> 58
A65: =A64+1 -> 59 | B65: Võ Thị | C65: TUYẾT | E65: 0016100006511001 | I65: =C65 -> TUYẾT | J65: =A65 -> 59
A66: =A65+1 -> 60 | B66: Trịnh Tuấn | C66: VŨ | E66: 0016100006494007 | I66: =C66 -> VŨ | J66: =A66 -> 60
A67: =A66+1 -> 61 | B67: Phạm Thị Hoàng | C67: DIỄM | I67: =C67 -> DIỄM | J67: =A67 -> 61
A68: =A67+1 -> 62 | B68: Nguyễn | C68: KÍNH | D68: P. KH - TC | E68: 0016100006567007 | F68: P. KH - TC | I68: =C68 -> KÍNH | J68: =A68 -> 62
A69: =A68+1 -> 63 | B69: Hồng Mộng Tuyết | C69: DUNG | E69: 0016100006725001 | I69: =C69 -> DUNG | J69: =A69 -> 63
A70: =A69+1 -> 64 | B70: Võ Thị Lệ | C70: TRÂN | E70: 0016100006566008 | I70: =C70 -> TRÂN | J70: =A70 -> 64
A71: =A70+1 -> 65 | B71: Nguyễn Thị Hồng | C71: THẮM | E71: 0016100006705008 | I71: =C71 -> THẮM | J71: =A71 -> 65
A72: =A71+1 -> 66 | B72: Trần Thị Minh | C72: THOA | E72: 0016100006512008 | I72: =C72 -> THOA | J72: =A72 -> 66
A73: =A72+1 -> 67 | B73: Trần Thị Thảo | C73: VÂN | E73: 0016100006515007 | I73: =C73 -> VÂN | J73: =A73 -> 67
A74: =A73+1 -> 68 | B74: Nguyễn Thụy | C74: NGHIÊM | E74: 0016100006681004 | I74: =C74 -> NGHIÊM | J74: =A74 -> 68
A75: =A74+1 -> 69 | B75: Huỳnh Như | C75: Ý | E75: 0016100006513004 | I75: =C75 -> Ý | J75: =A75 -> 69
A76: =A75+1 -> 70 | B76: Nguyễn Chiến | C76: THẮNG | E76: 0016100006506008 | I76: =C76 -> THẮNG | J76: =A76 -> 70
A77: =A76+1 -> 71 | B77: Nguyễn Trọng | C77: NGHĨA | D77: P. QLKH - HTQT | E77: 0016100006516003 | F77: P. QLKH - HTQT | I77: =C77 -> NGHĨA | J77: =A77 -> 71
A78: =A77+1 -> 72 | B78: Lê Tiến | C78: DŨNG | I78: =C78 -> DŨNG | J78: =A78 -> 72
A79: =A78+1 -> 73 | B79: Lê Trần Thanh | C79: NGA | E79: 0016100006766007 | I79: =C79 -> NGA | J79: =A79 -> 73
A80: =A79+1 -> 74 | B80: Trần Khánh | C80: HUY | D80: P. TS - ĐT | E80: 0016100006719001 | I80: =C80 -> HUY | J80: =A80 -> 74
A81: =A80+1 -> 75 | B81: Nguyễn Văn | C81: TẤN | E81: 0016100006783001 | F81: P. TS - ĐT | I81: =C81 -> TẤN | J81: =A81 -> 75
A82: =A81+1 -> 76 | B82: Nguyễn Thành | C82: NAM | J82: =A82 -> 76
A83: =A82+1 -> 77 | B83: Huỳnh Thị | C83: MAI | E83: 0016100006709006 | I83: =C83 -> MAI | J83: =A83 -> 77
A84: =A83+1 -> 78 | B84: Quách Minh | C84: THỬ | I84: =C84 -> THỬ | J84: =A84 -> 78
A85: =A84+1 -> 79 | B85: Sỹ Thị | C85: CHUNG | E85: 0016100006711008 | I85: =C85 -> CHUNG | J85: =A85 -> 79
A86: =A85+1 -> 80 | B86: Nguyễn Thị Hải | C86: HÀ | E86: 0016100006715006 | I86: =C86 -> HÀ | J86: =A86 -> 80
A87: =A86+1 -> 81 | B87: Thái Thị My | C87: SA | G87: 2 | I87: =C87 -> SA | J87: =A87 -> 81 | K87: P: 19, 20/12
A88: =A87+1 -> 82 | B88: Nguyễn Thị | C88: TẤT | I88: =C88 -> TẤT | J88: =A88 -> 82
A89: =A88+1 -> 83 | B89: Nguyễn Thị Thanh | C89: THẢO | I89: =C89 -> THẢO | J89: =A89 -> 83
A90: =A89+1 -> 84 | B90: Võ Thị Xuân | C90: THƠ | E90: 0016100006710004 | I90: =C90 -> THƠ | J90: =A90 -> 84
A91: =A90+1 -> 85 | B91: Nguyễn Thị | C91: THÙY | I91: =C91 -> THÙY | J91: =A91 -> 85
A92: =A91+1 -> 86 | B92: Nguyễn Việt | C92: TIẾN | I92: =C92 -> TIẾN | J92: =A92 -> 86
A93: =A92+1 -> 87 | B93: Giáp Thị | C93: VƯỢNG | I93: =C93 -> VƯỢNG | J93: =A93 -> 87
A94: =A93+1 -> 88 | B94: Mai Nguyễn Hoàng | C94: YẾN | I94: =C94 -> YẾN | J94: =A94 -> 88
A95: =A94+1 -> 89 | B95: Nguyễn Thị | C95: NHUNG | I95: =C95 -> NHUNG | J95: =A95 -> 89
A96: =A95+1 -> 90 | B96: Huỳnh Thị Cẩm | C96: HOA | D96: P. KT và ĐBCL | E96: 0016100006546007 | I96: =C96 -> HOA | J96: =A96 -> 90
A97: =A96+1 -> 91 | B97: Nguyễn Chí | C97: NHÂN | F97: P. KT và ĐBCL | I97: =C97 -> NHÂN | J97: =A97 -> 91
A98: =A97+1 -> 92 | B98: Nguyễn Thị Kim | C98: DUNG | I98: =C98 -> DUNG | J98: =A98 -> 92
A99: =A98+1 -> 93 | B99: Nguyễn Thanh | C99: SƠN | I99: =C99 -> SƠN | J99: =A99 -> 93
A100: =A99+1 -> 94 | B100: Vũ Thị Thu | C100: THỦY | E100: 0016100006537008 | I100: =C100 -> THỦY | J100: =A100 -> 94
A101: =A100+1 -> 95 | B101: Nguyễn Yến | C101: NHI | E101: 0016100006776005 | I101: =C101 -> NHI | J101: =A101 -> 95
...
