Workbook

Sheet T09.2022
A1: UBND THÀNH PHỐ HỒ CHÍ MINH | G1: CỘNG HÒA XÃ HỘI CHỦ NGHĨA VIỆT NAM
A2: TRƯỜNG CAO ĐẲNG LÝ TỰ TRỌNG | G2: Độc lập - Tự do - Hạnh phúc
A3: THÀNH PHỐ HỒ CHÍ MINH
B5: 40000
A6: TT | B6: Họ và tên | D6: Số tài khoản thẻ ATM AGR | E6: Số tài khoản thẻ ATM OCB | F6: Đơn vị | G6: Nghỉ phép | H6: Nghỉ chế độ | K6: Ghi chú | L6: * Ghi chú: CÁC KHOA
A7: 1 | B7: Phạm Hữu | C7: LỘC | D7: Hiệu Trưởng | E7: 0016100006544007 | F7: Hiệu Trưởng | I7: =C7 -> LỘC | J7: =A7 -> 1 | L7: 1/ Nguyễn Thị Cẩm Thạch_KHCB_nghỉ BHXH từ 19/09 đến 23/09/2022
A8: =A7+1 -> 2 | B8: Đinh Hồng | C8: MINH | D8: Phó Hiệu trưởng | E8: 0016100006699008 | F8: Phó Hiệu trưởng | I8: =C8 -> MINH | J8: =A8 -> 2 | L8: 2/ Lâm Thị Phương Thảo_KHCB_nghỉ ốm từ 21/09 đến 01/10/2022
A9: =A8+1 -> 3 | B9: Đinh Văn | C9: ĐỆ | D9: Phó Hiệu trưởng | E9: 0016100006543008 | F9: Phó Hiệu trưởng | I9: =C9 -> ĐỆ | J9: =A9 -> 3
A10: =A9+1 -> 4 | B10: Châu Văn | C10: BẢO | D10: Phó Hiệu trưởng | F10: Phó Hiệu trưởng | I10: =C10 -> BẢO | J10: =A10 -> 4
A11: =A10+1 -> 5 | B11: Lâm Viết | C11: DŨNG | D11: P. TC-HC-TH | E11: 0016100006550007 | F11: P. TC-HC-TH | I11: =C11 -> DŨNG | J11: =A11 -> 5
A12: =A11+1 -> 6 | B12: Lưu Hoàng Hải | C12: YẾN | E12: 0016100006799005 | I12: =C12 -> YẾN | J12: =A12 -> 6
A13: =A12+1 -> 7 | B13: Huỳnh Thị Minh | C13: LY | E13: 0016100006518006 | I13: =C13 -> LY | J13: =A13 -> 7
A14: =A13+1 -> 8 | B14: Nguyễn Văn | C14: CHÌ | E14: 0016100006765003 | G14: 1 | I14: =C14 -> CHÌ | J14: =A14 -> 8 | K14: P: 20/9
A15: =A14+1 -> 9 | B15: Nguyễn Thị Bích | C15: LIỄU | E15: 0016100006663006 | I15: =C15 -> LIỄU | J15: =A15 -> 9
A16: =A15+1 -> 10 | B16: Phan Thị Ngọc | C16: PHƯỢNG | E16: 0016100006635002 | I16: =C16 -> PHƯỢNG | J16: =A16 -> 10
A17: =A16+1 -> 11 | B17: Trần Thị Ánh | C17: PHƯỢNG | E17: 0016100006767006 | I17: =C17 -> PHƯỢNG | J17: =A17 -> 11
A18: =A17+1 -> 12 | B18: Vũ Như | C18: QUỲNH | E18: 0016100006771003 | I18: =C18 -> QUỲNH | J18: =A18 -> 12
A19: =A18+1 -> 13 | B19: Nguyễn Thị | C19: VÂN | E19: 0016100006864001 | I19: =C19 -> VÂN | J19: =A19 -> 13
A20: =A19+1 -> 14 | B20: Huỳnh Thị Xuân | C20: MAI | E20: 0016100006575007 | G20: 1 | I20: =C20 -> MAI | J20: =A20 -> 14 | K20: P: 23/09
A21: =A20+1 -> 15 | B21: Trần Thị Phương | C21: OANH | E21: 0016100006576006 | G21: 2 | I21: =C21 -> OANH | J21: =A21 -> 15 | K21: P: 12, 14/09
A22: =A21+1 -> 16 | B22: Thân Thị | C22: NHUNG | E22: 0016100006832002 | I22: =C22 -> NHUNG | J22: =A22 -> 16
A23: =A22+1 -> 17 | B23: Trần Việt | C23: ANH | E23: 2 | G23: 3 | I23: =C23 -> ANH | J23: =A23 -> 17 | K23: P: 10, 17, 24/09 | L23: 01/10 (1 ĐXP)
A24: =A23+1 -> 18 | B24: Dương Văn | C24: TÂM | I24: =C24 -> TÂM | J24: =A24 -> 18
A25: =A24+1 -> 19 | B25: Huỳnh Ngọc | C25: LIÊN | I25: =C25 -> LIÊN | J25: =A25 -> 19
A26: =A25+1 -> 20 | B26: Phạm Hữu | C26: TẤN | D26: Tổ Bảo vệ | F26: Tổ Bảo vệ | I26: =C26 -> TẤN | J26: =A26 -> 20
A27: =A26+1 -> 21 | B27: Trần Văn | C27: ANH | I27: =C27 -> ANH | J27: =A27 -> 21
A28: =A27+1 -> 22 | B28: Nguyễn Thanh | C28: HIỀN | I28: =C28 -> HIỀN | J28: =A28 -> 22
A29: =A28+1 -> 23 | B29: Phạm Quang | C29: TÙNG | I29: =C29 -> TÙNG | J29: =A29 -> 23
A30: =A29+1 -> 24 | B30: Huỳnh Thanh | C30: NHÀN | I30: =C30 -> NHÀN | J30: =A30 -> 24
A31: =A30+1 -> 25 | B31: Phạm Hữu Thành | C31: PHÚ | I31: =C31 -> PHÚ | J31: =A31 -> 25
A32: =A31+1 -> 26 | B32: Lê Hồng | C32: PHÚC | I32: =C32 -> PHÚC | J32: =A32 -> 26
A33: =A32+1 -> 27 | B33: Lê Hồng | C33: SƠN | I33: =C33 -> SƠN | J33: =A33 -> 27
A34: =A33+1 -> 28 | B34: Đồng Anh | C34: TUẤN | E34: 1 | G34: 1 | I34: =C34 -> TUẤN | J34: =A34 -> 28 | K34: P: 24/09
A35: =A34+1 -> 29 | B35: Nguyễn Hữu Xuân | C35: VŨ | I35: =C35 -> VŨ | J35: =A35 -> 29
A36: =A35+1 -> 30 | B36: Trần Thanh | C36: PHƯƠNG | I36: =C36 -> PHƯƠNG | J36: =A36 -> 30
A37: =A36+1 -> 31 | B37: Lê Quang | C37: LIÊM | D37: P. Quản trị - Dịch vụ | E37: 0016100006806001 | F37: P. Quản trị - Dịch vụ | I37: =C37 -> LIÊM | J37: =A37 -> 31 | K37: Nghỉ 21/09 bù 17/09
A38: =A37+1 -> 32 | B38: Nguyễn Văn | C38: THÀNH | E38: 0016100006495006 | I38: =C38 -> THÀNH | J38: =A38 -> 32
A39: =A38+1 -> 33 | B39: Bùi Thị | C39: DƯƠNG | E39: 0016100006505001 | G39: 2 | I39: =C39 -> DƯƠNG | J39: =A39 -> 33 | K39: P: 01, 03/09 | L39: Ký túc xá trực
A40: =A39+1 -> 34 | B40: Dương Thị | C40: THỦY | E40: 0016100006807008 | G40: 1 | I40: =C40 -> THỦY | J40: =A40 -> 34 | K40: P: 05/09
A41: =A40+1 -> 35 | B41: Nguyễn Trọng | C41: PHÚ | D41: Tổ trưởng tổ Sửa chữa | E41: 0016100006599006 | F41: Tổ trưởng tổ Sửa chữa | I41: =C41 -> PHÚ | J41: =A41 -> 35
...

Sheet T10.2022
A1: UBND THÀNH PHỐ HỒ CHÍ MINH | G1: CỘNG HÒA XÃ HỘI CHỦ NGHĨA VIỆT NAM
A2: TRƯỜNG CAO ĐẲNG LÝ TỰ TRỌNG | G2: Độc lập - Tự do - Hạnh phúc
A3: THÀNH PHỐ HỒ CHÍ MINH
B5: 40000
A6: TT | B6: Họ và tên | D6: Số tài khoản thẻ ATM AGR | E6: Số tài khoản thẻ ATM OCB | F6: Đơn vị | G6: Nghỉ phép | H6: Nghỉ chế độ | K6: Ghi chú | L6: * Ghi chú: CÁC KHOA
A7: 1 | B7: Phạm Hữu | C7: LỘC | D7: Hiệu Trưởng | E7: 0016100006544007 | F7: Hiệu Trưởng | I7: =C7 -> LỘC | J7: =A7 -> 1 | L7: 1/ Nguyễn Thị Cẩm Thạch_KHCB_nghỉ BHXH từ 19/09 đến 23/09/2022
A8: =A7+1 -> 2 | B8: Đinh Hồng | C8: MINH | D8: Phó Hiệu trưởng | E8: 0016100006699008 | F8: Phó Hiệu trưởng | I8: =C8 -> MINH | J8: =A8 -> 2
A9: =A8+1 -> 3 | B9: Đinh Văn | C9: ĐỆ | D9: Phó Hiệu trưởng | E9: 0016100006543008 | F9: Phó Hiệu trưởng | I9: =C9 -> ĐỆ | J9: =A9 -> 3
A10: =A9+1 -> 4 | B10: Châu Văn | C10: BẢO | D10: Phó Hiệu trưởng | F10: Phó Hiệu trưởng | I10: =C10 -> BẢO | J10: =A10 -> 4
A11: =A10+1 -> 5 | B11: Lâm Viết | C11: DŨNG | D11: P. TC-HC-TH | E11: 0016100006550007 | F11: P. TC-HC-TH | I11: =C11 -> DŨNG | J11: =A11 -> 5
A12: =A11+1 -> 6 | B12: Lưu Hoàng Hải | C12: YẾN | E12: 0016100006799005 | I12: =C12 -> YẾN | J12: =A12 -> 6
A13: =A12+1 -> 7 | B13: Huỳnh Thị Minh | C13: LY | E13: 0016100006518006 | I13: =C13 -> LY | J13: =A13 -> 7
A14: =A13+1 -> 8 | B14: Nguyễn Văn | C14: CHÌ | E14: 0016100006765003 | I14: =C14 -> CHÌ | J14: =A14 -> 8
A15: =A14+1 -> 9 | B15: Nguyễn Thị Bích | C15: LIỄU | E15: 0016100006663006 | I15: =C15 -> LIỄU | J15: =A15 -> 9
A16: =A15+1 -> 10 | B16: Phan Thị Ngọc | C16: PHƯỢNG | E16: 0016100006635002 | I16: =C16 -> PHƯỢNG | J16: =A16 -> 10
A17: =A16+1 -> 11 | B17: Trần Thị Ánh | C17: PHƯỢNG | E17: 0016100006767006 | I17: =C17 -> PHƯỢNG | J17: =A17 -> 11
A18: =A17+1 -> 12 | B18: Vũ Như | C18: QUỲNH | E18: 0016100006771003 | I18: =C18 -> QUỲNH | J18: =A18 -> 12
A19: =A18+1 -> 13 | B19: Nguyễn Thị | C19: VÂN | E19: 0016100006864001 | I19: =C19 -> VÂN | J19: =A19 -> 13
A20: =A19+1 -> 14 | B20: Huỳnh Thị Xuân | C20: MAI | E20: 0016100006575007 | I20: =C20 -> MAI | J20: =A20 -> 14
A21: =A20+1 -> 15 | B21: Trần Thị Phương | C21: OANH | E21: 0016100006576006 | I21: =C21 -> OANH | J21: =A21 -> 15
A22: =A21+1 -> 16 | B22: Thân Thị | C22: NHUNG | E22: 0016100006832002 | I22: =C22 -> NHUNG | J22: =A22 -> 16
A23: =A22+1 -> 17 | B23: Trần Việt | C23: ANH | E23: 2 | G23: 5 | I23: =C23 -> ANH | J23: =A23 -> 17 | K23: P: 01, 08, 15, 22, 29/10 | L23: 05, 26/11
A24: =A23+1 -> 18 | B24: Dương Văn | C24: TÂM | I24: =C24 -> TÂM | J24: =A24 -> 18
A25: =A24+1 -> 19 | B25: Huỳnh Ngọc | C25: LIÊN | I25: =C25 -> LIÊN | J25: =A25 -> 19
A26: =A25+1 -> 20 | B26: Phạm Hữu | C26: TẤN | D26: Tổ Bảo vệ | F26: Tổ Bảo vệ | I26: =C26 -> TẤN | J26: =A26 -> 20
A27: =A26+1 -> 21 | B27: Trần Văn | C27: ANH | G27: 2 | I27: =C27 -> ANH | J27: =A27 -> 21 | K27: P: 27, 28/10
A28: =A27+1 -> 22 | B28: Nguyễn Thanh | C28: HIỀN | I28: =C28 -> HIỀN | J28: =A28 -> 22
A29: =A28+1 -> 23 | B29: Phạm Quang | C29: TÙNG | I29: =C29 -> TÙNG | J29: =A29 -> 23
A30: =A29+1 -> 24 | B30: Huỳnh Thanh | C30: NHÀN | I30: =C30 -> NHÀN | J30: =A30 -> 24
A31: =A30+1 -> 25 | B31: Phạm Hữu Thành | C31: PHÚ | I31: =C31 -> PHÚ | J31: =A31 -> 25
A32: =A31+1 -> 26 | B32: Lê Hồng | C32: PHÚC | I32: =C32 -> PHÚC | J32: =A32 -> 26
A33: =A32+1 -> 27 | B33: Lê Hồng | C33: SƠN | I33: =C33 -> SƠN | J33: =A33 -> 27
A34: =A33+1 -> 28 | B34: Đồng Anh | C34: TUẤN | E34: 1 | I34: =C34 -> TUẤN | J34: =A34 -> 28
A35: =A34+1 -> 29 | B35: Nguyễn Hữu Xuân | C35: VŨ | I35: =C35 -> VŨ | J35: =A35 -> 29
A36: =A35+1 -> 30 | B36: Trần Thanh | C36: PHƯƠNG | I36: =C36 -> PHƯƠNG | J36: =A36 -> 30
A37: =A36+1 -> 31 | B37: Lê Quang | C37: LIÊM | D37: P. Quản trị - Dịch vụ | E37: 0016100006806001 | F37: P. Quản trị - Dịch vụ | I37: =C37 -> LIÊM | J37: =A37 -> 31
A38: =A37+1 -> 32 | B38: Nguyễn Văn | C38: THÀNH | E38: 0016100006495006 | I38: =C38 -> THÀNH | J38: =A38 -> 32
A39: =A38+1 -> 33 | B39: Bùi Thị | C39: DƯƠNG | E39: 0016100006505001 | I39: =C39 -> DƯƠNG | J39: =A39 -> 33
A40: =A39+1 -> 34 | B40: Dương Thị | C40: THỦY | E40: 0016100006807008 | I40: =C40 -> THỦY | J40: =A40 -> 34
A41: =A40+1 -> 35 | B41: Nguyễn Trọng | C41: PHÚ | D41: Tổ trưởng tổ Sửa chữa | E41: 0016100006599006 | F41: Tổ trưởng tổ Sửa chữa | I41: =C41 -> PHÚ | J41: =A41 -> 35
...

Sheet T11.2022
A1: UBND THÀNH PHỐ HỒ CHÍ MINH | G1: CỘNG HÒA XÃ HỘI CHỦ NGHĨA VIỆT NAM
A2: TRƯỜNG CAO ĐẲNG LÝ TỰ TRỌNG | G2: Độc lập - Tự do - Hạnh phúc
A3: THÀNH PHỐ HỒ CHÍ MINH
B5: 40000
A6: TT | B6: Họ và tên | D6: Số tài khoản thẻ ATM AGR | E6: Số tài khoản thẻ ATM OCB | F6: Đơn vị | G6: Nghỉ phép | H6: Nghỉ chế độ | K6: Ghi chú | L6: * Ghi chú: CÁC KHOA
A7: 1 | B7: Phạm Hữu | C7: LỘC | D7: Hiệu Trưởng | E7: 0016100006544007 | F7: Hiệu Trưởng | I7: =C7 -> LỘC | J7: =A7 -> 1 | L7: 1/ Nguyễn Thị Cẩm Thạch_KHCB_nghỉ BHXH từ 19/09 đến 23/09/2022
A8: =A7+1 -> 2 | B8: Đinh Hồng | C8: MINH | D8: Phó Hiệu trưởng | E8: 0016100006699008 | F8: Phó Hiệu trưởng | I8: =C8 -> MINH | J8: =A8 -> 2 | L8: 2/ Lâm Thị Phương Thảo_KHCB_nghỉ BHXH từ 21/09 đến 01/10/2022
A9: =A8+1 -> 3 | B9: Đinh Văn | C9: ĐỆ | D9: Phó Hiệu trưởng | E9: 0016100006543008 | F9: Phó Hiệu trưởng | I9: =C9 -> ĐỆ | J9: =A9 -> 3
A10: =A9+1 -> 4 | B10: Châu Văn | C10: BẢO | D10: Phó Hiệu trưởng | F10: Phó Hiệu trưởng | I10: =C10 -> BẢO | J10: =A10 -> 4
A11: =A10+1 -> 5 | B11: Lâm Viết | C11: DŨNG | D11: P. TC-HC-TH | E11: 0016100006550007 | F11: P. TC-HC-TH | I11: =C11 -> DŨNG | J11: =A11 -> 5
A12: =A11+1 -> 6 | B12: Lưu Hoàng Hải | C12: YẾN | E12: 0016100006799005 | I12: =C12 -> YẾN | J12: =A12 -> 6
A13: =A12+1 -> 7 | B13: Huỳnh Thị Minh | C13: LY | E13: 0016100006518006 | I13: =C13 -> LY | J13: =A13 -> 7
A14: =A13+1 -> 8 | B14: Nguyễn Văn | C14: CHÌ | E14: 0016100006765003 | I14: =C14 -> CHÌ | J14: =A14 -> 8
A15: =A14+1 -> 9 | B15: Nguyễn Thị Bích | C15: LIỄU | E15: 0016100006663006 | I15: =C15 -> LIỄU | J15: =A15 -> 9
A16: =A15+1 -> 10 | B16: Phan Thị Ngọc | C16: PHƯỢNG | E16: 0016100006635002 | I16: =C16 -> PHƯỢNG | J16: =A16 -> 10
A17: =A16+1 -> 11 | B17: Trần Thị Ánh | C17: PHƯỢNG | E17: 0016100006767006 | I17: =C17 -> PHƯỢNG | J17: =A17 -> 11
A18: =A17+1 -> 12 | B18: Vũ Như | C18: QUỲNH | E18: 0016100006771003 | I18: =C18 -> QUỲNH | J18: =A18 -> 12
A19: =A18+1 -> 13 | B19: Nguyễn Thị | C19: VÂN | E19: 0016100006864001 | I19: =C19 -> VÂN | J19: =A19 -> 13
A20: =A19+1 -> 14 | B20: Huỳnh Thị Xuân | C20: MAI | E20: 0016100006575007 | G20: 1.5 | H20: 1 | I20: =C20 -> MAI | J20: =A20 -> 14 | K20: S: 02/11; 25/11; CĐ: 26/11 | L20: Con kết hôn
A21: =A20+1 -> 15 | B21: Trần Thị Phương | C21: OANH | E21: 0016100006576006 | I21: =C21 -> OANH | J21: =A21 -> 15
A22: =A21+1 -> 16 | B22: Thân Thị | C22: NHUNG | E22: 0016100006832002 | I22: =C22 -> NHUNG | J22: =A22 -> 16
A23: =A22+1 -> 17 | B23: Trần Việt | C23: ANH | E23: 2 | G23: 3 | I23: =C23 -> ANH | J23: =A23 -> 17 | K23: P: 05, 19, 26/11
A24: =A23+1 -> 18 | B24: Dương Văn | C24: TÂM | I24: =C24 -> TÂM | J24: =A24 -> 18
A25: =A24+1 -> 19 | B25: Huỳnh Ngọc | C25: LIÊN | I25: =C25 -> LIÊN | J25: =A25 -> 19
A26: =A25+1 -> 20 | B26: Phạm Hữu | C26: TẤN | D26: Tổ Bảo vệ | F26: Tổ Bảo vệ | I26: =C26 -> TẤN | J26: =A26 -> 20
A27: =A26+1 -> 21 | B27: Trần Văn | C27: ANH | I27: =C27 -> ANH | J27: =A27 -> 21
A28: =A27+1 -> 22 | B28: Nguyễn Thanh | C28: HIỀN | I28: =C28 -> HIỀN | J28: =A28 -> 22
A29: =A28+1 -> 23 | B29: Phạm Quang | C29: TÙNG | G29: 2 | I29: =C29 -> TÙNG | J29: =A29 -> 23 | K29: P: 21, 22/11
A30: =A29+1 -> 24 | B30: Huỳnh Thanh | C30: NHÀN | I30: =C30 -> NHÀN | J30: =A30 -> 24
A31: =A30+1 -> 25 | B31: Phạm Hữu Thành | C31: PHÚ | I31: =C31 -> PHÚ | J31: =A31 -> 25
A32: =A31+1 -> 26 | B32: Lê Hồng | C32: PHÚC | I32: =C32 -> PHÚC | J32: =A32 -> 26
A33: =A32+1 -> 27 | B33: Lê Hồng | C33: SƠN | I33: =C33 -> SƠN | J33: =A33 -> 27
A34: =A33+1 -> 28 | B34: Đồng Anh | C34: TUẤN | E34: 1 | I34: =C34 -> TUẤN | J34: =A34 -> 28
A35: =A34+1 -> 29 | B35: Nguyễn Hữu Xuân | C35: VŨ | I35: =C35 -> VŨ | J35: =A35 -> 29
A36: =A35+1 -> 30 | B36: Trần Thanh | C36: PHƯƠNG | I36: =C36 -> PHƯƠNG | J36: =A36 -> 30
A37: =A36+1 -> 31 | B37: Lê Quang | C37: LIÊM | D37: P. Quản trị - Dịch vụ | E37: 0016100006806001 | F37: P. Quản trị - Dịch vụ | I37: =C37 -> LIÊM | J37: =A37 -> 31
A38: =A37+1 -> 32 | B38: Nguyễn Văn | C38: THÀNH | E38: 0016100006495006 | I38: =C38 -> THÀNH | J38: =A38 -> 32
A39: =A38+1 -> 33 | B39: Bùi Thị | C39: DƯƠNG | E39: 0016100006505001 | I39: =C39 -> DƯƠNG | J39: =A39 -> 33
A40: =A39+1 -> 34 | B40: Dương Thị | C40: THỦY | E40: 0016100006807008 | I40: =C40 -> THỦY | J40: =A40 -> 34
A41: =A40+1 -> 35 | B41: Nguyễn Trọng | C41: PHÚ | D41: Tổ trưởng tổ Sửa chữa | E41: 0016100006599006 | F41: Tổ trưởng tổ Sửa chữa | I41: =C41 -> PHÚ | J41: =A41 -> 35
...

Sheet T12.2022
A1: UBND THÀNH PHỐ HỒ CHÍ MINH | G1: CỘNG HÒA XÃ HỘI CHỦ NGHĨA VIỆT NAM
A2: TRƯỜNG CAO ĐẲNG LÝ TỰ TRỌNG | G2: Độc lập - Tự do - Hạnh phúc
A3: THÀNH PHỐ HỒ CHÍ MINH
B5: 40000
A6: TT | B6: Họ và tên | D6: Số tài khoản thẻ ATM AGR | E6: Số tài khoản thẻ ATM OCB | F6: Đơn vị | G6: Nghỉ phép | H6: Nghỉ chế độ | K6: Ghi chú | L6: * Ghi chú: CÁC KHOA
A7: 1 | B7: Phạm Hữu | C7: LỘC | D7: Hiệu Trưởng | E7: 0016100006544007 | F7: Hiệu Trưởng | I7: =C7 -> LỘC | J7: =A7 -> 1 | L7: 1/ Nguyễn Thị Cẩm Thạch_KHCB_nghỉ BHXH từ 19/09 đến 23/09/2022
A8: =A7+1 -> 2 | B8: Đinh Hồng | C8: MINH | D8: Phó Hiệu trưởng | E8: 0016100006699008 | F8: Phó Hiệu trưởng | I8: =C8 -> MINH | J8: =A8 -> 2 | L8: 2/ Lâm Thị Phương Thảo_KHCB_nghỉ BHXH từ 21/09 đến 01/10/2022
A9: =A8+1 -> 3 | B9: Đinh Văn | C9: ĐỆ | D9: Phó Hiệu trưởng | E9: 0016100006543008 | F9: Phó Hiệu trưởng | I9: =C9 -> ĐỆ | J9: =A9 -> 3
A10: =A9+1 -> 4 | B10: Châu Văn | C10: BẢO | D10: Phó Hiệu trưởng | F10: Phó Hiệu trưởng | I10: =C10 -> BẢO | J10: =A10 -> 4
A11: =A10+1 -> 5 | B11: Lâm Viết | C11: DŨNG | D11: P. TC-HC-TH | E11: 0016100006550007 | F11: P. TC-HC-TH | I11: =C11 -> DŨNG | J11: =A11 -> 5
A12: =A11+1 -> 6 | B12: Lưu Hoàng Hải | C12: YẾN | E12: 0016100006799005 | I12: =C12 -> YẾN | J12: =A12 -> 6
A13: =A12+1 -> 7 | B13: Huỳnh Thị Minh | C13: LY | E13: 0016100006518006 | I13: =C13 -> LY | J13: =A13 -> 7
A14: =A13+1 -> 8 | B14: Nguyễn Văn | C14: CHÌ | E14: 0016100006765003 | I14: =C14 -> CHÌ | J14: =A14 -> 8
A15: =A14+1 -> 9 | B15: Nguyễn Thị Bích | C15: LIỄU | E15: 0016100006663006 | I15: =C15 -> LIỄU | J15: =A15 -> 9
A16: =A15+1 -> 10 | B16: Phan Thị Ngọc | C16: PHƯỢNG | E16: 0016100006635002 | I16: =C16 -> PHƯỢNG | J16: =A16 -> 10
A17: =A16+1 -> 11 | B17: Trần Thị Ánh | C17: PHƯỢNG | E17: 0016100006767006 | I17: =C17 -> PHƯỢNG | J17: =A17 -> 11
A18: =A17+1 -> 12 | B18: Vũ Như | C18: QUỲNH | E18: 0016100006771003 | I18: =C18 -> QUỲNH | J18: =A18 -> 12
A19: =A18+1 -> 13 | B19: Nguyễn Thị | C19: VÂN | E19: 0016100006864001 | I19: =C19 -> VÂN | J19: =A19 -> 13
A20: =A19+1 -> 14 | B20: Huỳnh Thị Xuân | C20: MAI | E20: 0016100006575007 | G20: 4 | I20: =C20 -> MAI | J20: =A20 -> 14 | K20: P: 03, 08, 09, 10/12
A21: =A20+1 -> 15 | B21: Trần Thị Phương | C21: OANH | E21: 0016100006576006 | I21: =C21 -> OANH | J21: =A21 -> 15
A22: =A21+1 -> 16 | B22: Thân Thị | C22: NHUNG | E22: 0016100006832002 | I22: =C22 -> NHUNG | J22: =A22 -> 16
A23: =A22+1 -> 17 | B23: Trần Việt | C23: ANH | E23: 2 | I23: =C23 -> ANH | J23: =A23 -> 17
A24: =A23+1 -> 18 | B24: Dương Văn | C24: TÂM | I24: =C24 -> TÂM | J24: =A24 -> 18
A25: =A24+1 -> 19 | B25: Huỳnh Ngọc | C25: LIÊN | I25: =C25 -> LIÊN | J25: =A25 -> 19
A26: =A25+1 -> 20 | B26: Phạm Hữu | C26: TẤN | D26: Tổ Bảo vệ | F26: Tổ Bảo vệ | I26: =C26 -> TẤN | J26: =A26 -> 20
A27: =A26+1 -> 21 | B27: Trần Văn | C27: ANH | I27: =C27 -> ANH | J27: =A27 -> 21
A28: =A27+1 -> 22 | B28: Nguyễn Thanh | C28: HIỀN | I28: =C28 -> HIỀN | J28: =A28 -> 22
A29: =A28+1 -> 23 | B29: Phạm Quang | C29: TÙNG | I29: =C29 -> TÙNG | J29: =A29 -> 23
A30: =A29+1 -> 24 | B30: Huỳnh Thanh | C30: NHÀN | I30: =C30 -> NHÀN | J30: =A30 -> 24
A31: =A30+1 -> 25 | B31: Phạm Hữu Thành | C31: PHÚ | I31: =C31 -> PHÚ | J31: =A31 -> 25
A32: =A31+1 -> 26 | B32: Lê Hồng | C32: PHÚC | I32: =C32 -> PHÚC | J32: =A32 -> 26
A33: =A32+1 -> 27 | B33: Lê Hồng | C33: SƠN | I33: =C33 -> SƠN | J33: =A33 -> 27
A34: =A33+1 -> 28 | B34: Đồng Anh | C34: TUẤN | E34: 1 | I34: =C34 -> TUẤN | J34: =A34 -> 28
A35: =A34+1 -> 29 | B35: Nguyễn Hữu Xuân | C35: VŨ | I35: =C35 -> VŨ | J35: =A35 -> 29
A36: =A35+1 -> 30 | B36: Trần Thanh | C36: PHƯƠNG | I36: =C36 -> PHƯƠNG | J36: =A36 -> 30
A37: =A36+1 -> 31 | B37: Lê Quang | C37: LIÊM | D37: P. Quản trị - Dịch vụ | E37: 0016100006806001 | F37: P. Quản trị - Dịch vụ | I37: =C37 -> LIÊM | J37: =A37 -> 31
A38: =A37+1 -> 32 | B38: Nguyễn Văn | C38: THÀNH | E38: 0016100006495006 | I38: =C38 -> THÀNH | J38: =A38 -> 32
A39: =A38+1 -> 33 | B39: Bùi Thị | C39: DƯƠNG | E39: 0016100006505001 | I39: =C39 -> DƯƠNG | J39: =A39 -> 33
A40: =A39+1 -> 34 | B40: Dương Thị | C40: THỦY | E40: 0016100006807008 | I40: =C40 -> THỦY | J40: =A40 -> 34
A41: =A40+1 -> 35 | B41: Nguyễn Trọng | C41: PHÚ | D41: Tổ trưởng tổ Sửa chữa | E41: 0016100006599006 | F41: Tổ trưởng tổ Sửa chữa | I41: =C41 -> PHÚ | J41: =A41 -> 35
...
