Workbook

Sheet Kangatang

Sheet Mau 1
A1: TRƯỜNG CAO ĐẲNG LÝ TỰ TRỌNG | E1: CỘNG HÒA XÃ HỘI CHỦ NGHĨA VIỆT NAM
A2: THÀNH PHỐ HỒ CHÍ MINH | E2: Độc lập - Tự do - Hạnh phúc
A3: PHÒNG THANH TRA GIÁO DỤC - CÔNG TÁC SINH VIÊN
G4: Mẫu 1
A5: Danh sách CB-GV-NV tham gia thực hiện bài viết sáng kiến, bài viết Hội thảo cấp trường, cấp đơn vị, giảng viên dạy giỏi, bài báo được đăng trên các tạp chí theo quy định, tham gia đề tài NCKH đã được nghiệm thu,... (Quy định số 738/QyĐ-LTT-TĐ ngày 02/11/2022 của Trường)
A7: TT | B7: Họ tên | C7: Mã E-Office | D7: Điều kiện xếp loại thi đua A1 (Ghi rõ nội dung tiêu chuẩn: số Quyết định, thời gian, cơ quan ban hành,…) | E7: Điều kiện xếp loại thi đua A2 (Ghi rõ nội dung tiêu chuẩn: số Quyết định, thời gian, cơ quan ban hành,…) | F7: Điều kiện xếp loại thi đua A3 (Ghi rõ nội dung tiêu chuẩn: số Quyết định, thời gian, cơ quan ban hành,…) | G7: Ghi chú
A8: I. Viên chức
A9: 01 | B9: Lê Xuân Thiện | C9: 01002002 | E9: Bài viết đăng kỷ yếu Hội thảo KH cấp trường năm 2022 (Trang 615) | F9: Bài viết đăng kỷ yếu Hội thảo KH cấp trường năm 2022 (Trang 615)
A10: 02 | B10: Nguyễn Ngọc Hiệp | C10: 01009006 | E10: - Sáng kiến có phạm vi ảnh hưởng cấp Ngành NH 2021-2022 (QĐ số 1969/QĐ-SGDĐT ngày 03/08/2022 của Sở GDĐT TPHCM). - Chiến sĩ thi đua cơ sở (QĐ số 1970/QĐ-SGDĐT ngày 03/08/2022 của Sở GDĐT TPHCM). - Bài viết đăng kỷ yếu Hội thảo KH cấp trường năm 2022 (Trang 631). | F10: - Sáng kiến có phạm vi ảnh hưởng cấp Ngành NH 2021-2022 (QĐ số 1969/QĐ-SGDĐT ngày 03/08/2022 của Sở GDĐT TPHCM). - Chiến sĩ thi đua cơ sở (QĐ số 1970/QĐ-SGDĐT ngày 03/08/2022 của Sở GDĐT TPHCM). - Bài viết đăng kỷ yếu Hội thảo KH cấp trường năm 2022 (Trang 631).
A11: 03 | B11: Nguyễn Thị Kim Anh | C11: 01009018 | E11: - Bài viết đăng kỷ yếu Hội thảo KH cấp trường năm 2022 (Trang 640). - Sáng kiến có phạm vi ảnh hưởng cấp Ngành NH 2021-2022 (QĐ số 1969/QĐ-SGDĐT ngày 03/08/2022 của Sở GDĐT TPHCM) | F11: - Bài viết đăng kỷ yếu Hội thảo KH cấp trường năm 2022 (Trang 640). - Sáng kiến có phạm vi ảnh hưởng cấp Ngành NH 2021-2022 (QĐ số 1969/QĐ-SGDĐT ngày 03/08/2022 của Sở GDĐT TPHCM)
A12: 04 | B12: Phạm Thị Lê Chi | C12: 01009010 | F12: Công nhận sáng kiến năm học 2021-2022 (QĐ số 189/QĐ-LTT-HĐSK ngày 15/4/2022)
A13: 05 | B13: Trần Thị Thu Hà | C13: 01002004 | E13: - Sáng kiến có phạm vi ảnh hưởng cấp Ngành NH 2021-2022 (QĐ số 1969/QĐ-SGDĐT ngày 03/08/2022 của Sở GDĐT TPHCM). - Chiến sĩ thi đua cơ sở (QĐ số 1970/QĐ-SGDĐT ngày 03/08/2022 của Sở GDĐT TPHCM). - 02 bài viết đăng kỷ yếu Hội thảo KH cấp trường năm 2022 (Trang 615 + 646) | F13: - Sáng kiến có phạm vi ảnh hưởng cấp Ngành NH 2021-2022 (QĐ số 1969/QĐ-SGDĐT ngày 03/08/2022 của Sở GDĐT TPHCM). - Chiến sĩ thi đua cơ sở (QĐ số 1970/QĐ-SGDĐT ngày 03/08/2022 của Sở GDĐT TPHCM). - 02 bài viết đăng kỷ yếu Hội thảo KH cấp trường năm 2022 (Trang 615 + 646)
A14: 06 | B14: Nguyễn Tất Thắng | C14: 01009008 | E14: Bài viết đăng kỷ yếu Hội thảo KH cấp trường năm 2022 (Trang 623) | F14: - Bài viết đăng kỷ yếu Hội thảo KH cấp trường năm 2022 (Trang 623). - Công nhận sáng kiến năm học 2021-2022 (QĐ số 189/QĐ-LTT-HĐSK ngày 15/4/2022)
A15: 07 | B15: Nguyễn Thị Ngọc Anh | C15: 01022058 | E15: Sáng kiến có phạm vi ảnh hưởng cấp Ngành NH 2021-2022 (QĐ số 1969/QĐ-SGDĐT ngày 03/08/2022 của Sở GDĐT TPHCM) | F15: Sáng kiến có phạm vi ảnh hưởng cấp Ngành NH 2021-2022 (QĐ số 1969/QĐ-SGDĐT ngày 03/08/2022 của Sở GDĐT TPHCM)
A16: 08 | B16: Mai Thu Hương | C16: 01007004 | F16: Công nhận sáng kiến năm học 2021-2022 (QĐ số 189/QĐ-LTT-HĐSK ngày 15/4/2022)
A17: II. Hợp đồng trường
A18: 01 | B18: Lê Thị Nữ | C18: 01009012 | E18: Bài viết đăng kỷ yếu Hội thảo KH cấp trường năm 2022 (Trang 646) | F18: Bài viết đăng kỷ yếu Hội thảo KH cấp trường năm 2022 (Trang 646)
A19: 02 | B19: Nguyễn Trung Dũng | C19: 01002008 | E19: Bài viết đăng kỷ yếu Hội thảo KH cấp trường năm 2022 (Trang 631). | F19: - Bài viết đăng kỷ yếu Hội thảo KH cấp trường năm 2022 (Trang 631). - Công nhận sáng kiến năm học 2021-2022 (QĐ số 189/QĐ-LTT-HĐSK ngày 15/4/2022).
A20: 03 | B20: Phạm Huy Hoàng | C20: 01009011 | F20: Công nhận sáng kiến năm học 2021-2022 (QĐ số 189/QĐ-LTT-HĐSK ngày 15/4/2022)
A21: 04 | B21: Huỳnh Văn Hiếu | C21: 01009019 | E21: Sáng kiến có phạm vi ảnh hưởng cấp Ngành NH 2021-2022 (QĐ số 1969/QĐ-SGDĐT ngày 03/08/2022 của Sở GDĐT TPHCM) | F21: Sáng kiến có phạm vi ảnh hưởng cấp Ngành NH 2021-2022 (QĐ số 1969/QĐ-SGDĐT ngày 03/08/2022 của Sở GDĐT TPHCM)
A22: 05 | B22: Trần Anh Mỹ | C22: 01009028 | F22: Công nhận sáng kiến năm học 2021-2022 (QĐ số 189/QĐ-LTT-HĐSK ngày 15/4/2022)
A23: 06 | B23: Bùi Đức Phước | C23: 01009026 | E23: Sáng kiến có phạm vi ảnh hưởng cấp Ngành NH 2021-2022 (QĐ số 1969/QĐ-SGDĐT ngày 03/08/2022 của Sở GDĐT TPHCM) | F23: Sáng kiến có phạm vi ảnh hưởng cấp Ngành NH 2021-2022 (QĐ số 1969/QĐ-SGDĐT ngày 03/08/2022 của Sở GDĐT TPHCM)
A24: 07 | B24: Nguyễn Thị Thảo | C24: 01007003
A25: 08 | B25: Lưu Hoàng Bảo Châu | C25: 01009029
A27: Ghi chú: Gửi kèm minh chứng về phòng Tổ chức - Hành chính - Tổng hợp.
E28: TPHCM, ngày 06 tháng 01 năm 2023
E29: TRƯỞNG ĐƠN VỊ
E35: Lê Xuân Thiện

Sheet Mau 2
A1: TRƯỜNG CAO ĐẲNG LÝ TỰ TRỌNG THÀNH PHỐ HỒ CHÍ MINH PHÒNG THANH TRA GIÁO DỤC - CÔNG TÁC SINH VIÊN | E1: CỘNG HÒA XÃ HỘI CHỦ NGHĨA VIỆT NAM Độc lập - Tự do - Hạnh phúc
G2: Mẫu 2
A3: BẢNG TỔNG HỢP CÔNG VIỆC ĐỘT XUẤT ĐÃ THỰC HIỆN THÁNG 03/2023 (Gửi file mềm ngày 25 hàng tháng)
A5: TT | B5: Nội dung công việc | C5: Số lượng người tham gia thực hiện | D5: Tên người tham gia thực hiện | E5: Thời gian thực hiện | F5: Kết quả thực hiện | G5: Ghi chú
A6: I. | B6: Công việc chung của Trường
A7: Nhiệm vụ 1 | B7: Tham gia công tác tuyển sinh năm 2023 | C7: 2 | D7: Hoàng, Phước | E7: 25/02/2023-20/03/2023 | F7: Tốt
A8: Nhiệm vụ 2 | B8: Tổ chức giải bóng đá truyền thống "Cúp Lý Tự Trọng 2023"; Đưa đội bóng tham gia giải bóng đá giao lưu với phường 4, quận Tân Bình đạt giải. | C8: 1 | D8: Phước | E8: Tháng 3/2023 | F8: Tốt
A9: Nhiệm vụ 3 | B9: Hỗ trợ/ tham gia giải bóng đá liên kết giữa Nhà trường và doanh nghiệp năm 2023 | C9: 2 | D9: Hiệp, Phước | E9: 04-11/03/2023 | F9: Tốt
A10: Nhiệm vụ 4 | B10: Phối hợp tổ chức cuộc thi HSSV giỏi nghề năm 2023; Tổ chức các hoạt động tháng Thanh niên năm 2023; Hỗ trợ đón các trường THPT, THCS tham quan tại trường | C10: 1 | D10: Phước | E10: Tháng 3/2023 | F10: Tốt
A11: Nhiệm vụ 5 | B11: Đảng viên hướng dẫn quần chúng được công nhận cảm tình Đảng (theo NQ tháng 3/2023 của BCH Đảng bộ Trường) | C11: 1 | D11: Hà | E11: Tháng 4/2022 - Tháng 3/2023 | F11: Tốt | G11: Quần chúng Hoàng Thắng Lợi, lớp 20C1-CNÔ3, được công nhận cảm tình Đảng
A12: Nhiệm vụ 6 | B12: Phối hợp tổ chức thực hiện đối thoại giữa Lãnh đạo trường với SV | C12: 14 | D12: Hiệp, Kim Anh, Chi, Hà, Ngọc Anh, Hương, Hiếu, Hoàng, Mỹ, Phước, Châu, Nữ, Dũng, Thắng | E12: 24/03/2023 | F12: Tốt
A13: Nhiệm vụ 7 | B13: Trực hỗ trợ SV thi chuẩn đầu ra tin học và Anh văn (các ngày chủ nhật) | C13: 3 | D13: Thiện, Hoàng, Châu | E13: CN 26/02 và CN 12/03/2023 | F13: Tốt
A14: Nhiệm vụ 8 | B14: Hỗ trợ CA P4 lập DS SV có năm sinh từ 2004 đến 2009; DS SV vi phạm từ tháng 9/2022 đến tháng 3/2023. | C14: 3 | D14: Thiện, Hiếu, Nữ | E14: Tháng 3/2023 | F14: Tốt
A15: Nhiệm vụ 9
A16: Nhiệm vụ 10
A17: II. | B17: Công việc chung của đơn vị
A18: Nhiệm vụ 1 | B18: Trực tăng cường ca 3, Chủ Nhật | C18: 2 | D18: Thiện, Hiệp | E18: Tháng 3/2023 | F18: Tốt
A19: Nhiệm vụ 2 | B19: Hỗ trợ công tác do đồng nghiệp đi tuyển sinh, nghỉ phép | C19: 8 | D19: Hà, Ngọc Anh, Hương, Hiếu, Hoàng, Mỹ, Phước, Châu | E19: 27/02/2023, 01 - 08/3, 14/3 | F19: Tốt
A20: Nhiệm vụ 3 | B20: Phối hợp xác minh SV nhờ thi hộ | C20: 2 | D20: Thiện, Hiếu | E20: Tháng 3/2023 | F20: Tốt
A21: Nhiệm vụ 4 | B21: Lập KH triển khai công tác tuyên truyền, giáo dục ATGT năm 2023 | C21: 3 | D21: Hà, Nữ, Châu | E21: 28/02/2023 - 13/03/2023 | F21: Tốt
A22: Nhiệm vụ 5 | B22: Hỗ trợ SV thi ngoài giờ | C22: 5 | D22: Hiệp, Hà, Nữ, Dũng, Hiếu | E22: Tháng 3/2023 | F22: Tốt
A23: Nhiệm vụ 6
A24: Nhiệm vụ 7
A25: Nhiệm vụ 6 | F25: Tốt
A26: Nhiệm vụ 7 | F26: Tốt
A28: Lưu ý: - Nhóm công việc của đơn vị không tính nội dung công việc đã được quy định ở vị trí việc làm (đối với nhân viên); chế độ làm việc của giảng viên/ đã được tính chế độ, thù lao (đối với giảng viên). - Các đơn vị gửi file điện tử về phòng TC-HC-TH (Cô Trần Thị Ánh Phượng) qua hệ thống điện tử E-office nhà trường (không gửi văn bản giấy) ngày 25 hàng tháng./.
E29: Thành phố Hồ Chí Minh, ngày 20 tháng 3 năm 2023
E30: TRƯỞNG ĐƠN VỊ
E35: Lê Xuân Thiện

Sheet Mau 3
A1: TRƯỜNG CAO ĐẲNG LÝ TỰ TRỌNG | Q1: CỘNG HÒA XÃ HỘI CHỦ NGHĨA VIỆT NAM
A2: THÀNH PHỐ HỒ CHÍ MINH | Q2: Độc lập - Tự do - Hạnh phúc
A3: PHÒNG THANH TRA GIÁO DỤC - CÔNG TÁC SINH VIÊN
Z4: Mẫu 3
A5: THỐNG KÊ CHI TIẾT KHỐI LƯỢNG CÔNG VIỆC THỰC HIỆN THÁNG 03/2023
A7: TT | B7: Tên nội dung công việc | D7: Công việc chung của trường | Q7: Công việc chung của đơn vị | Z7: Ghi chú
B8: Họ và tên | C8: Mã E-office | D8: Nhiệm vụ 1 | E8: Nhiệm vụ 2 | F8: Nhiệm vụ 3 | G8: Nhiệm vụ 4 | H8: Nhiệm vụ 5 | I8: Nhiệm vụ 6 | J8: Nhiệm vụ 7 | K8: Nhiệm vụ 8 | L8: Nhiệm vụ 9 | M8: Nhiệm vụ 10 | N8: Nhiệm vụ 11 | O8: Nhiệm vụ 12 | P8: Tổng cộng | Q8: Nhiệm vụ 1 | R8: Nhiệm vụ 2 | S8: Nhiệm vụ 3 | T8: Nhiệm vụ 4 | U8: Nhiệm vụ 5 | V8: Nhiệm vụ 6 | W8: Nhiệm vụ 7 | X8: Nhiệm vụ 8 | Y8: Tổng cộng
A9: I. Viên chức
A10: 01 | B10: Lê Xuân Thiện | C10: 01002002 | J10: X | K10: X | P10: =COUNTIF(D10:N10,"X")+COUNTIF(D10:N10,"XX") -> 2 | Q10: X | S10: X | Y10: =COUNTIF(Q10:W10,"X") -> 2
A11: 02 | B11: Nguyễn Ngọc Hiệp | C11: 01009006 | F11: X | I11: X | P11: =COUNTIF(D11:N11,"X")+COUNTIF(D11:N11,"XX") -> 2 | Q11: X | U11: X | Y11: =COUNTIF(Q11:W11,"X") -> 2
A12: 03 | B12: Nguyễn Thị Kim Anh | C12: 01009018 | I12: X | P12: =COUNTIF(D12:N12,"X")+COUNTIF(D12:N12,"XX") -> 1 | Y12: =COUNTIF(Q12:W12,"X") -> 0
A13: 04 | B13: Phạm Thị Lê Chi | C13: 01009010 | I13: X | P13: =COUNTIF(D13:N13,"X")+COUNTIF(D13:N13,"XX") -> 1 | Y13: =COUNTIF(Q13:W13,"X") -> 0
A14: 05 | B14: Trần Thị Thu Hà | C14: 01002004 | H14: X | I14: X | P14: =COUNTIF(D14:N14,"X")+COUNTIF(D14:N14,"XX") -> 2 | R14: X | T14: X | U14: X | Y14: =COUNTIF(Q14:W14,"X") -> 3
A15: 06 | B15: Nguyễn Tất Thắng | C15: 01009008 | I15: X | P15: =COUNTIF(D15:N15,"X")+COUNTIF(D15:N15,"XX") -> 1 | Y15: =COUNTIF(Q15:W15,"X") -> 0
A16: 07 | B16: Nguyễn Thị Ngọc Anh | C16: 01022058 | I16: X | P16: =COUNTIF(D16:N16,"X")+COUNTIF(D16:N16,"XX") -> 1 | R16: X | Y16: =COUNTIF(Q16:W16,"X") -> 1
A17: 08 | B17: Mai Thu Hương | C17: 01007004 | I17: X | P17: =COUNTIF(D17:N17,"X")+COUNTIF(D17:N17,"XX") -> 1 | R17: X | Y17: =COUNTIF(Q17:W17,"X") -> 1
A18: II. Hợp đồng trường
A19: 01 | B19: Lê Thị Nữ | C19: 01009012 | I19: X | K19: X | P19: =COUNTIF(D19:N19,"X")+COUNTIF(D19:N19,"XX") -> 2 | T19: X | U19: X | Y19: =COUNTIF(Q19:X19,"X") -> 2
A20: 02 | B20: Nguyễn Trung Dũng | C20: 01002008 | I20: X | P20: =COUNTIF(D20:N20,"X")+COUNTIF(D20:N20,"XX") -> 1 | U20: X | Y20: =COUNTIF(Q20:X20,"X") -> 1
A21: 03 | B21: Phạm Huy Hoàng | C21: 01009011 | D21: X | I21: X | J21: X | P21: =COUNTIF(D21:N21,"X")+COUNTIF(D21:N21,"XX") -> 3 | R21: X | Y21: =COUNTIF(Q21:X21,"X") -> 1
A22: 04 | B22: Huỳnh Văn Hiếu | C22: 01009019 | I22: X | K22: X | P22: =COUNTIF(D22:N22,"X")+COUNTIF(D22:N22,"XX") -> 2 | R22: X | S22: X | U22: X | Y22: =COUNTIF(Q22:X22,"X") -> 3
A23: 05 | B23: Trần Anh Mỹ | C23: 01009028 | I23: X | P23: =COUNTIF(D23:N23,"X")+COUNTIF(D23:N23,"XX") -> 1 | R23: X | Y23: =COUNTIF(Q23:X23,"X") -> 1
A24: 06 | B24: Bùi Đức Phước | C24: 01009026 | D24: X | E24: X | F24: X | G24: X | I24: X | P24: =COUNTIF(D24:N24,"X")+COUNTIF(D24:N24,"XX") -> 5 | R24: X | Y24: =COUNTIF(Q24:X24,"X") -> 1
A25: 07 | B25: Nguyễn Thị Thảo | C25: 01007003 | P25: =COUNTIF(D25:N25,"X")+COUNTIF(D25:N25,"XX") -> 0 | Y25: =COUNTIF(Q25:X25,"X") -> 0
A26: 08 | B26: Lưu Hoàng Bảo Châu | C26: 01009029 | I26: X | J26: X | P26: =COUNTIF(D26:N26,"X")+COUNTIF(D26:N26,"XX") -> 2 | R26: X | T26: X | Y26: =COUNTIF(Q26:X26,"X") -> 2
A28: Lưu ý: Các đơn vị gửi file điện tử về phòng TC-HC-TH (Cô Trần Thị Ánh Phượng) qua hệ thống điện tử E-Office nhà trường (không gửi văn bản giấy).
J29: Thành phố Hồ Chí Minh, ngày 20 tháng 3 năm 2023
J30: TRƯỞNG ĐƠN VỊ
J36: Lê Xuân Thiện

Sheet Mau 4 
A1: TRƯỜNG CAO ĐẲNG LÝ TỰ TRỌNG | G1: CỘNG HÒA XÃ HỘI CHỦ NGHĨA VIỆT NAM
A2: THÀNH PHỐ HỒ CHÍ MINH | G2: Độc lập - Tự do - Hạnh phúc
A3: PHÒNG THANH TRA GIÁO DỤC - CÔNG TÁC SINH VIÊN
L4: Mẫu 4
A5: DANH SÁCH XẾP LOẠI THI ĐUA THÁNG 03/2023
A7: TT | B7: Họ tên | C7: Mã E-Office | D7: Tiêu chuẩn đạt mức xếp loại thi đua tối đa trong năm (Ẩn khi in) | E7: Xếp loại thi đua tháng theo quy định (Không vượt quá mức thi đua tối đa) | I7: Số ngày/giờ vượt so với ngày công kế hoạch (đối với CB-NV) | J7: Số ngày nghỉ/ tiết nghỉ (đối với GV) | K7: Đơn vị đề nghị mức xếp loại thi đua
E8: Xếp loại | F8: Lý do | G8: Số lượng công việc chung của trường | H8: Số lượng công việc chung của đơn vị | K8: Xếp loại | L8: Lý do đề nghị
A9: I. Viên chức
A10: 01 | B10: Lê Xuân Thiện | C10: 01002002 | D10: A2 | E10: =IF(AND(G10>=2,H10>=3,I10>=1,'Mau 1'!D9<>0),"A1",IF(AND(G10>=2,H10>=2,I10>=1,'Mau 1'!E9<>0),"A2",IF(AND(OR(G10>=1,H10>=2),'Mau 1'!F9<>0,I10>=0),"A3","A4"))) -> A2 | G10: ='Mau 3'!$P10 -> 2 | H10: ='Mau 3'!Y10 -> 2 | I10: 4
A11: 02 | B11: Nguyễn Ngọc Hiệp | C11: 01009006 | D11: A2 | E11: =IF(AND(G11>=2,H11>=3,I11>=1,'Mau 1'!D10<>0),"A1",IF(AND(G11>=2,H11>=2,I11>=1,'Mau 1'!E10<>0),"A2",IF(AND(OR(G11>=1,H11>=2),'Mau 1'!F10<>0,I11>=0),"A3","A4"))) -> A2 | G11: ='Mau 3'!$P11 -> 2 | H11: ='Mau 3'!Y11 -> 2 | I11: 4
A12: 03 | B12: Nguyễn Thị Kim Anh | C12: 01009018 | D12: A2 | E12: =IF(AND(G12>=2,H12>=3,I12>=1,'Mau 1'!D11<>0),"A1",IF(AND(G12>=2,H12>=2,I12>=1,'Mau 1'!E11<>0),"A2",IF(AND(OR(G12>=1,H12>=2),'Mau 1'!F11<>0,I12>=0),"A3","A4"))) -> A3 | G12: ='Mau 3'!$P12 -> 1 | H12: ='Mau 3'!Y12 -> 0 | I12: 2
A13: 04 | B13: Phạm Thị Lê Chi | C13: 01009010 | D13: A3 | E13: =IF(AND(G13>=2,H13>=3,I13>=1,'Mau 1'!D12<>0),"A1",IF(AND(G13>=2,H13>=2,I13>=1,'Mau 1'!E12<>0),"A2",IF(AND(OR(G13>=1,H13>=2),'Mau 1'!F12<>0,I13>=0),"A3","A4"))) -> A3 | G13: ='Mau 3'!$P13 -> 1 | H13: ='Mau 3'!Y13 -> 0 | I13: 2
A14: 05 | B14: Trần Thị Thu Hà | C14: 01002004 | D14: A2 | E14: =IF(AND(G14>=2,H14>=3,I14>=1,'Mau 1'!D13<>0),"A1",IF(AND(G14>=2,H14>=2,I14>=1,'Mau 1'!E13<>0),"A2",IF(AND(OR(G14>=1,H14>=2),'Mau 1'!F13<>0,I14>=0),"A3","A4"))) -> A2 | G14: ='Mau 3'!$P14 -> 2 | H14: ='Mau 3'!Y14 -> 3 | I14: 3
A15: 06 | B15: Nguyễn Tất Thắng | C15: 01009008 | D15: A2 | E15: =IF(AND(G15>=2,H15>=3,I15>=1,'Mau 1'!D14<>0),"A1",IF(AND(G15>=2,H15>=2,I15>=1,'Mau 1'!E14<>0),"A2",IF(AND(OR(G15>=1,H15>=2),'Mau 1'!F14<>0,I15>=0),"A3","A4"))) -> A3 | G15: ='Mau 3'!$P15 -> 1 | H15: ='Mau 3'!Y15 -> 0 | I15: 2
A16: 07 | B16: Nguyễn Thị Ngọc Anh | C16: 01022058 | D16: A2 | E16: =IF(AND(G16>=2,H16>=3,I16>=1,'Mau 1'!D15<>0),"A1",IF(AND(G16>=2,H16>=2,I16>=1,'Mau 1'!E15<>0),"A2",IF(AND(OR(G16>=1,H16>=2),'Mau 1'!F15<>0,I16>=0),"A3","A4"))) -> A3 | G16: ='Mau 3'!$P16 -> 1 | H16: ='Mau 3'!Y16 -> 1 | I16: 1 | L16: Nghỉ 01 ngày phép
A17: 08 | B17: Mai Thu Hương | C17: 01007004 | D17: A3 | E17: =IF(AND(G17>=2,H17>=3,I17>=1,'Mau 1'!D16<>0),"A1",IF(AND(G17>=2,H17>=2,I17>=1,'Mau 1'!E16<>0),"A2",IF(AND(OR(G17>=1,H17>=2),'Mau 1'!F16<>0,I17>=0),"A3","A4"))) -> A3 | G17: ='Mau 3'!$P17 -> 1 | H17: ='Mau 3'!Y17 -> 1 | I17: 2
A18: II. Hợp đồng trường
A19: 01 | B19: Lê Thị Nữ | C19: 01009012 | D19: A2 | E19: A3 | G19: ='Mau 3'!$P19 -> 2 | H19: ='Mau 3'!Y19 -> 2 | K19: A2 | L19: Nghỉ 01 ngày phép, tuy nhiên cá nhân tích cực trong công tác của trường và của đơn vị
A20: 02 | B20: Nguyễn Trung Dũng | C20: 01002008 | D20: A2 | E20: =IF(AND(G20>=2,H20>=3,I20>=1,'Mau 1'!D19<>0),"A1",IF(AND(G20>=2,H20>=2,'Mau 1'!E19<>0),"A2",IF(AND(OR(G20>=1,H20>=2),'Mau 1'!F19<>0,I20>=0),"A3","A4"))) -> A3 | G20: ='Mau 3'!$P20 -> 1 | H20: ='Mau 3'!Y20 -> 1 | L20: Nghỉ 02 ngày phép
A21: 03 | B21: Phạm Huy Hoàng | C21: 01009011 | D21: A3 | E21: =IF(AND(G21>=2,H21>=3,I21>=1,'Mau 1'!D20<>0),"A1",IF(AND(G21>=2,H21>=2,'Mau 1'!E20<>0),"A2",IF(AND(OR(G21>=1,H21>=2),'Mau 1'!F20<>0,I21>=0),"A3","A4"))) -> A3 | G21: ='Mau 3'!$P21 -> 3 | H21: ='Mau 3'!Y21 -> 1 | K21: A2 | L21: Cá nhân tích cực trong công tác của trường và của đơn vị
A22: 04 | B22: Huỳnh Văn Hiếu | C22: 01009019 | D22: A2 | E22: =IF(AND(G22>=2,H22>=3,I22>=1,'Mau 1'!D21<>0),"A1",IF(AND(G22>=2,H22>=2,'Mau 1'!E21<>0),"A2",IF(AND(OR(G22>=1,H22>=2),'Mau 1'!F21<>0,I22>=0),"A3","A4"))) -> A2 | G22: ='Mau 3'!$P22 -> 2 | H22: ='Mau 3'!Y22 -> 3
A23: 05 | B23: Trần Anh Mỹ | C23: 01009028 | D23: A3 | E23: =IF(AND(G23>=2,H23>=3,I23>=1,'Mau 1'!D22<>0),"A1",IF(AND(G23>=2,H23>=2,'Mau 1'!E22<>0),"A2",IF(AND(OR(G23>=1,H23>=2),'Mau 1'!F22<>0,I23>=0),"A3","A4"))) -> A3 | G23: ='Mau 3'!$P23 -> 1 | H23: ='Mau 3'!Y23 -> 1
A24: 06 | B24: Bùi Đức Phước | C24: 01009026 | D24: A2 | E24: =IF(AND(G24>=2,H24>=3,I24>=1,'Mau 1'!D23<>0),"A1",IF(AND(G24>=2,H24>=2,'Mau 1'!E23<>0),"A2",IF(AND(OR(G24>=1,H24>=2),'Mau 1'!F23<>0,I24>=0),"A3","A4"))) -> A3 | G24: ='Mau 3'!$P24 -> 5 | H24: ='Mau 3'!Y24 -> 1 | K24: A1 | L24: Cá nhân tích cực trong công tác của trường và của đơn vị
A25: 07 | B25: Nguyễn Thị Thảo | C25: 01007003 | D25: A4 | E25: A DN | G25: ='Mau 3'!$P25 -> 0 | H25: ='Mau 3'!Y25 -> 0 | L25: Nghỉ hộ sản từ 12/10/2022
A26: 08 | B26: Lưu Hoàng Bảo Châu | C26: 01009029 | D26: A4 | E26: =IF(AND(G26>=2,H26>=3,I26>=1,'Mau 1'!D25<>0),"A1",IF(AND(G26>=2,H26>=2,I26>=1,'Mau 1'!E25<>0),"A2",IF(AND(OR(G26>=1,H26>=2),'Mau 1'!F25<>0,I26>=0),"A3","A4"))) -> A4 | G26: ='Mau 3'!$P26 -> 2 | H26: ='Mau 3'!Y26 -> 2 | K26: A3 | L26: Cá nhân tích cực trong công tác của trường và của đơn vị
B28: Kết quả xếp loại | G28: Viên chức | I28: Hợp đồng trường
B29: A1 | G29: =COUNTIF($E$10:$E$17,"A1") -> 0 | I29: =COUNTIF($E$19:$E$26,"A1") -> 0
B30: A2 | G30: =COUNTIF($E$10:$E$17,"A2") -> 3 | I30: =COUNTIF($E$19:$E$26,"A2") -> 1
B31: A3 | G31: =COUNTIF($E$10:$E$17,"A3") -> 5 | I31: =COUNTIF($E$19:$E$26,"A3") -> 5
B32: A4 | G32: =COUNTIF($E$10:$E$17,"A4") -> 0 | I32: =COUNTIF($E$19:$E$26,"A4") -> 1
B33: A DN | G33: =COUNTIF($E$10:$E$17,"A DN") -> 0 | I33: =COUNTIF($E$19:$E$26,"A DN") -> 1
B34: B1 | G34: =COUNTIF($E$10:$E$17,"B1") -> 0 | I34: =COUNTIF($E$19:$E$26,"B1") -> 0
B35: B2 | G35: =COUNTIF($E$10:$E$17,"B2") -> 0 | I35: =COUNTIF($E$19:$E$26,"B2") -> 0
B36: C1 | G36: =COUNTIF($E$10:$E$17,"C1") -> 0 | I36: =COUNTIF($E$19:$E$26,"C1") -> 0
B37: C2 | G37: =COUNTIF($E$10:$E$17,"C2") -> 0 | I37: =COUNTIF($E$19:$E$26,"C2") -> 0
B38: D | G38: =COUNTIF($E$10:$E$17,"D") -> 0 | I38: =COUNTIF($E$19:$E$26,"D") -> 0
B39: E | G39: =COUNTIF($E$10:$E$17,"E") -> 0 | I39: =COUNTIF($E$19:$E$26,"E") -> 0
B40: Tổng số nhân sự: | G40: =SUM(G29:G39) -> 8 | I40: =SUM(I29:I39) -> 8
A42: Lưu ý: Các đơn vị gửi file mềm qua hệ thống điện tử E-office nhà trường và văn bản giấy về phòng TC-HC-TH (Cô Trần Thị Ánh Phượng).
G43: Thành phố Hồ Chí Minh, ngày 20 tháng 3 năm 2023
G44: TRƯỞNG ĐƠN VỊ
G50: Lê Xuân Thiện
