Workbook

Sheet Diem
A2: A1 | B2: 10
A3: A2 | B3: 9
A4: A3 | B4: 8
A5: A4 | B5: 7
A7: B1 | B7: 6
A8: B2 | B8: 5
A9: C1 | B9: 4
A10: C2 | B10: 3
A11: D | B11: 1
A12: E | B12: 0

Sheet HK1
A1: TRƯỜNG CAO ĐẲNG LÝ TỰ TRỌNG | I1: CỘNG HÒA XÃ HỘI CHỦ NGHĨA VIỆT NAM
A2: THÀNH PHỐ HỒ CHÍ MINH | I2: Độc lập - Tự do - Hạnh phúc
A3: ĐƠN VỊ: KHOA LÝ LUẬN CHÍNH TRỊ
A5: DANH SÁCH XÉT THI ĐUA HỌC KÌ I NĂM HỌC 2021 - 2022
A7: TT | B7: Họ và tên | C7: Mã số E-office | D7: Tháng 09/2022 | F7: Tháng 10/2022 | H7: Tháng 11/2022 | J7: Tháng 12/2022 | L7: Tháng 01/2023 | N7: Điểm K | O7: Hệ số trừ bậc (C, D, E) | P7: Xếp loại HK1 | Q7: Ghi chú
D8: Xếp loại | E8: Điểm | F8: Xếp loại | G8: Điểm | H8: Xếp loại | I8: Điểm | J8: Xếp loại | K8: Điểm | L8: Xếp loại | M8: Điểm
B9: Viên chức
A10: 1 | B10: Lê Thị Hồng Vân | C10: 01011002 | D10: A2 | E10: =VLOOKUP(D10,Diem!$A$2:$B$12,2,0) -> 9 | F10: A4 | G10: =VLOOKUP(F10,Diem!$A$2:$B$12,2,0) -> 7 | H10: A2 | I10: =VLOOKUP(H10,Diem!$A$2:$B$12,2,0) -> 9 | J10: A3 | K10: =VLOOKUP(J10,Diem!$A$2:$B$12,2,0) -> 8 | L10: A2 | M10: =VLOOKUP(L10,Diem!$A$2:$B$12,2,0) -> 9 | N10: =ROUND(AVERAGE(E10,G10,I10,K10,M10),2) -> 8.4 | O10: =COUNTIF(D10:K10,"C*")*1+COUNTIF(D10:K10,"D")*2+COUNTIF(D10:K10,"E")*3 -> 0 | P10: =IF(O10>=3,"Không hoàn thành nhiệm vụ",IF(AND($N10>=8,$N10<=10,O10=0),"Hoàn thành xuất sắc nhiệm vụ",IF(AND($N10>=8,$N10<=10,O10=1),"Hoàn thành tốt nhiệm vụ",IF(AND($N10>=8,$N10<=10,O10=2),"Hoàn thành nhiệm vụ",IF(AND($N10>6,$N10<8,O10<=1),"Hoàn thành tốt nhiệm vụ",IF(AND($N10>6,$N10<8,O10=2),"Hoàn thành nhiệm vụ",IF(AND($N10>=5,$N10<=6,O10<=2),"Hoàn thành nhiệm vụ",IF(AND($N10<5,O10>3),"Không hoàn thành nhiệm vụ","")))))))) -> Hoàn thành xuất sắc nhiệm vụ
A11: 2 | B11: Nguyễn Ngọc Quỳnh | C11: 01011012 | D11: A3 | E11: =VLOOKUP(D11,Diem!$A$2:$B$12,2,0) -> 8 | F11: A3 | G11: =VLOOKUP(F11,Diem!$A$2:$B$12,2,0) -> 8 | H11: A2 | I11: =VLOOKUP(H11,Diem!$A$2:$B$12,2,0) -> 9 | J11: A3 | K11: =VLOOKUP(J11,Diem!$A$2:$B$12,2,0) -> 8 | L11: A3 | M11: =VLOOKUP(L11,Diem!$A$2:$B$12,2,0) -> 8 | N11: =ROUND(AVERAGE(E11,G11,I11,K11,M11),2) -> 8.2 | O11: =COUNTIF(D11:K11,"C*")*1+COUNTIF(D11:K11,"D")*2+COUNTIF(D11:K11,"E")*3 -> 0 | P11: =IF(O11>=3,"Không hoàn thành nhiệm vụ",IF(AND($N11>=8,$N11<=10,O11=0),"Hoàn thành xuất sắc nhiệm vụ",IF(AND($N11>=8,$N11<=10,O11=1),"Hoàn thành tốt nhiệm vụ",IF(AND($N11>=8,$N11<=10,O11=2),"Hoàn thành nhiệm vụ",IF(AND($N11>6,$N11<8,O11<=1),"Hoàn thành tốt nhiệm vụ",IF(AND($N11>6,$N11<8,O11=2),"Hoàn thành nhiệm vụ",IF(AND($N11>=5,$N11<=6,O11<=2),"Hoàn thành nhiệm vụ",IF(AND($N11<5,O11>3),"Không hoàn thành nhiệm vụ","")))))))) -> Hoàn thành xuất sắc nhiệm vụ
A12: 3 | B12: Nguyễn Thị Dinh | C12: 01011005 | D12: A4 | E12: =VLOOKUP(D12,Diem!$A$2:$B$12,2,0) -> 7 | F12: A4 | G12: =VLOOKUP(F12,Diem!$A$2:$B$12,2,0) -> 7 | H12: A3 | I12: =VLOOKUP(H12,Diem!$A$2:$B$12,2,0) -> 8 | J12: A3 | K12: =VLOOKUP(J12,Diem!$A$2:$B$12,2,0) -> 8 | L12: A3 | M12: =VLOOKUP(L12,Diem!$A$2:$B$12,2,0) -> 8 | N12: =ROUND(AVERAGE(E12,G12,I12,K12,M12),2) -> 7.6 | P12: =IF(O12>=3,"Không hoàn thành nhiệm vụ",IF(AND($N12>=8,$N12<=10,O12=0),"Hoàn thành xuất sắc nhiệm vụ",IF(AND($N12>=8,$N12<=10,O12=1),"Hoàn thành tốt nhiệm vụ",IF(AND($N12>=8,$N12<=10,O12=2),"Hoàn thành nhiệm vụ",IF(AND($N12>6,$N12<8,O12<=1),"Hoàn thành tốt nhiệm vụ",IF(AND($N12>6,$N12<8,O12=2),"Hoàn thành nhiệm vụ",IF(AND($N12>=5,$N12<=6,O12<=2),"Hoàn thành nhiệm vụ",IF(AND($N12<5,O12>3),"Không hoàn thành nhiệm vụ","")))))))) -> Hoàn thành tốt nhiệm vụ
A13: 4 | B13: Bùi Thành Dũng | C13: 01011011 | D13: A2 | E13: =VLOOKUP(D13,Diem!$A$2:$B$12,2,0) -> 9 | F13: A4 | G13: =VLOOKUP(F13,Diem!$A$2:$B$12,2,0) -> 7 | H13: A3 | I13: =VLOOKUP(H13,Diem!$A$2:$B$12,2,0) -> 8 | J13: A4 | K13: =VLOOKUP(J13,Diem!$A$2:$B$12,2,0) -> 7 | L13: A4 | M13: =VLOOKUP(L13,Diem!$A$2:$B$12,2,0) -> 7 | N13: =ROUND(AVERAGE(E13,G13,I13,K13,M13),2) -> 7.6 | P13: =IF(O13>=3,"Không hoàn thành nhiệm vụ",IF(AND($N13>=8,$N13<=10,O13=0),"Hoàn thành xuất sắc nhiệm vụ",IF(AND($N13>=8,$N13<=10,O13=1),"Hoàn thành tốt nhiệm vụ",IF(AND($N13>=8,$N13<=10,O13=2),"Hoàn thành nhiệm vụ",IF(AND($N13>6,$N13<8,O13<=1),"Hoàn thành tốt nhiệm vụ",IF(AND($N13>6,$N13<8,O13=2),"Hoàn thành nhiệm vụ",IF(AND($N13>=5,$N13<=6,O13<=2),"Hoàn thành nhiệm vụ",IF(AND($N13<5,O13>3),"Không hoàn thành nhiệm vụ","")))))))) -> Hoàn thành tốt nhiệm vụ
A14: 5 | B14: Lê Thị Mai Hường | C14: 01011013 | D14: A3 | E14: =VLOOKUP(D14,Diem!$A$2:$B$12,2,0) -> 8 | F14: A3 | G14: =VLOOKUP(F14,Diem!$A$2:$B$12,2,0) -> 8 | H14: A2 | I14: =VLOOKUP(H14,Diem!$A$2:$B$12,2,0) -> 9 | J14: A4 | K14: =VLOOKUP(J14,Diem!$A$2:$B$12,2,0) -> 7 | L14: AND | N14: =ROUND(AVERAGE(E14,G14,I14,K14,M14),2) -> 8 | P14: =IF(O14>=3,"Không hoàn thành nhiệm vụ",IF(AND($N14>=8,$N14<=10,O14=0),"Hoàn thành xuất sắc nhiệm vụ",IF(AND($N14>=8,$N14<=10,O14=1),"Hoàn thành tốt nhiệm vụ",IF(AND($N14>=8,$N14<=10,O14=2),"Hoàn thành nhiệm vụ",IF(AND($N14>6,$N14<8,O14<=1),"Hoàn thành tốt nhiệm vụ",IF(AND($N14>6,$N14<8,O14=2),"Hoàn thành nhiệm vụ",IF(AND($N14>=5,$N14<=6,O14<=2),"Hoàn thành nhiệm vụ",IF(AND($N14<5,O14>3),"Không hoàn thành nhiệm vụ","")))))))) -> Hoàn thành xuất sắc nhiệm vụ
A15: 6 | B15: Đinh Thị Huyên | C15: 01011009 | D15: A3 | E15: =VLOOKUP(D15,Diem!$A$2:$B$12,2,0) -> 8 | F15: A3 | G15: =VLOOKUP(F15,Diem!$A$2:$B$12,2,0) -> 8 | H15: A3 | I15: =VLOOKUP(H15,Diem!$A$2:$B$12,2,0) -> 8 | J15: A3 | K15: =VLOOKUP(J15,Diem!$A$2:$B$12,2,0) -> 8 | L15: A3 | M15: =VLOOKUP(L15,Diem!$A$2:$B$12,2,0) -> 8 | N15: =ROUND(AVERAGE(E15,G15,I15,K15,M15),2) -> 8 | P15: =IF(O15>=3,"Không hoàn thành nhiệm vụ",IF(AND($N15>=8,$N15<=10,O15=0),"Hoàn thành xuất sắc nhiệm vụ",IF(AND($N15>=8,$N15<=10,O15=1),"Hoàn thành tốt nhiệm vụ",IF(AND($N15>=8,$N15<=10,O15=2),"Hoàn thành nhiệm vụ",IF(AND($N15>6,$N15<8,O15<=1),"Hoàn thành tốt nhiệm vụ",IF(AND($N15>6,$N15<8,O15=2),"Hoàn thành nhiệm vụ",IF(AND($N15>=5,$N15<=6,O15<=2),"Hoàn thành nhiệm vụ",IF(AND($N15<5,O15>3),"Không hoàn thành nhiệm vụ","")))))))) -> Hoàn thành xuất sắc nhiệm vụ
A16: 7 | B16: Nguyễn Anh Kiệt | C16: 01011001 | D16: A4 | E16: =VLOOKUP(D16,Diem!$A$2:$B$12,2,0) -> 7 | F16: A4 | G16: =VLOOKUP(F16,Diem!$A$2:$B$12,2,0) -> 7 | H16: A4 | I16: =VLOOKUP(H16,Diem!$A$2:$B$12,2,0) -> 7 | J16: A4 | K16: =VLOOKUP(J16,Diem!$A$2:$B$12,2,0) -> 7 | L16: A4 | M16: =VLOOKUP(L16,Diem!$A$2:$B$12,2,0) -> 7 | N16: =ROUND(AVERAGE(E16,G16,I16,K16,M16),2) -> 7 | P16: =IF(O16>=3,"Không hoàn thành nhiệm vụ",IF(AND($N16>=8,$N16<=10,O16=0),"Hoàn thành xuất sắc nhiệm vụ",IF(AND($N16>=8,$N16<=10,O16=1),"Hoàn thành tốt nhiệm vụ",IF(AND($N16>=8,$N16<=10,O16=2),"Hoàn thành nhiệm vụ",IF(AND($N16>6,$N16<8,O16<=1),"Hoàn thành tốt nhiệm vụ",IF(AND($N16>6,$N16<8,O16=2),"Hoàn thành nhiệm vụ",IF(AND($N16>=5,$N16<=6,O16<=2),"Hoàn thành nhiệm vụ",IF(AND($N16<5,O16>3),"Không hoàn thành nhiệm vụ","")))))))) -> Hoàn thành tốt nhiệm vụ
A17: 8 | B17: Trần Văn Lượng | C17: 01011014 | D17: A4 | E17: =VLOOKUP(D17,Diem!$A$2:$B$12,2,0) -> 7 | F17: A4 | G17: =VLOOKUP(F17,Diem!$A$2:$B$12,2,0) -> 7 | H17: A3 | I17: =VLOOKUP(H17,Diem!$A$2:$B$12,2,0) -> 8 | J17: A4 | K17: =VLOOKUP(J17,Diem!$A$2:$B$12,2,0) -> 7 | L17: A3 | M17: =VLOOKUP(L17,Diem!$A$2:$B$12,2,0) -> 8 | N17: =ROUND(AVERAGE(E17,G17,I17,K17,M17),2) -> 7.4 | P17: =IF(O17>=3,"Không hoàn thành nhiệm vụ",IF(AND($N17>=8,$N17<=10,O17=0),"Hoàn thành xuất sắc nhiệm vụ",IF(AND($N17>=8,$N17<=10,O17=1),"Hoàn thành tốt nhiệm vụ",IF(AND($N17>=8,$N17<=10,O17=2),"Hoàn thành nhiệm vụ",IF(AND($N17>6,$N17<8,O17<=1),"Hoàn thành tốt nhiệm vụ",IF(AND($N17>6,$N17<8,O17=2),"Hoàn thành nhiệm vụ",IF(AND($N17>=5,$N17<=6,O17<=2),"Hoàn thành nhiệm vụ",IF(AND($N17<5,O17>3),"Không hoàn thành nhiệm vụ","")))))))) -> Hoàn thành tốt nhiệm vụ
A18: 9 | B18: Đặng Thị Nhật Minh | C18: 01010005 | D18: A3 | E18: =VLOOKUP(D18,Diem!$A$2:$B$12,2,0) -> 8 | F18: A3 | G18: =VLOOKUP(F18,Diem!$A$2:$B$12,2,0) -> 8 | H18: A1 | I18: =VLOOKUP(H18,Diem!$A$2:$B$12,2,0) -> 10 | J18: A4 | K18: =VLOOKUP(J18,Diem!$A$2:$B$12,2,0) -> 7 | L18: A3 | M18: =VLOOKUP(L18,Diem!$A$2:$B$12,2,0) -> 8 | N18: =ROUND(AVERAGE(E18,G18,I18,K18,M18),2) -> 8.2 | P18: =IF(O18>=3,"Không hoàn thành nhiệm vụ",IF(AND($N18>=8,$N18<=10,O18=0),"Hoàn thành xuất sắc nhiệm vụ",IF(AND($N18>=8,$N18<=10,O18=1),"Hoàn thành tốt nhiệm vụ",IF(AND($N18>=8,$N18<=10,O18=2),"Hoàn thành nhiệm vụ",IF(AND($N18>6,$N18<8,O18<=1),"Hoàn thành tốt nhiệm vụ",IF(AND($N18>6,$N18<8,O18=2),"Hoàn thành nhiệm vụ",IF(AND($N18>=5,$N18<=6,O18<=2),"Hoàn thành nhiệm vụ",IF(AND($N18<5,O18>3),"Không hoàn thành nhiệm vụ","")))))))) -> Hoàn thành xuất sắc nhiệm vụ
A19: 10 | B19: Đỗ Thị Ngát | C19: 01011016 | D19: A3 | E19: =VLOOKUP(D19,Diem!$A$2:$B$12,2,0) -> 8 | F19: A4 | G19: =VLOOKUP(F19,Diem!$A$2:$B$12,2,0) -> 7 | H19: A4 | I19: =VLOOKUP(H19,Diem!$A$2:$B$12,2,0) -> 7 | J19: A4 | K19: =VLOOKUP(J19,Diem!$A$2:$B$12,2,0) -> 7 | L19: A4 | M19: =VLOOKUP(L19,Diem!$A$2:$B$12,2,0) -> 7 | N19: =ROUND(AVERAGE(E19,G19,I19,K19,M19),2) -> 7.2 | P19: =IF(O19>=3,"Không hoàn thành nhiệm vụ",IF(AND($N19>=8,$N19<=10,O19=0),"Hoàn thành xuất sắc nhiệm vụ",IF(AND($N19>=8,$N19<=10,O19=1),"Hoàn thành tốt nhiệm vụ",IF(AND($N19>=8,$N19<=10,O19=2),"Hoàn thành nhiệm vụ",IF(AND($N19>6,$N19<8,O19<=1),"Hoàn thành tốt nhiệm vụ",IF(AND($N19>6,$N19<8,O19=2),"Hoàn thành nhiệm vụ",IF(AND($N19>=5,$N19<=6,O19<=2),"Hoàn thành nhiệm vụ",IF(AND($N19<5,O19>3),"Không hoàn thành nhiệm vụ","")))))))) -> Hoàn thành tốt nhiệm vụ
A20: 11 | B20: Cao Thị Hồng Thắm | C20: 01011007 | D20: A3 | E20: =VLOOKUP(D20,Diem!$A$2:$B$12,2,0) -> 8 | F20: A3 | G20: =VLOOKUP(F20,Diem!$A$2:$B$12,2,0) -> 8 | H20: A2 | I20: =VLOOKUP(H20,Diem!$A$2:$B$12,2,0) -> 9 | J20: A3 | K20: =VLOOKUP(J20,Diem!$A$2:$B$12,2,0) -> 8 | L20: A4 | M20: =VLOOKUP(L20,Diem!$A$2:$B$12,2,0) -> 7 | N20: =ROUND(AVERAGE(E20,G20,I20,K20,M20),2) -> 8 | P20: =IF(O20>=3,"Không hoàn thành nhiệm vụ",IF(AND($N20>=8,$N20<=10,O20=0),"Hoàn thành xuất sắc nhiệm vụ",IF(AND($N20>=8,$N20<=10,O20=1),"Hoàn thành tốt nhiệm vụ",IF(AND($N20>=8,$N20<=10,O20=2),"Hoàn thành nhiệm vụ",IF(AND($N20>6,$N20<8,O20<=1),"Hoàn thành tốt nhiệm vụ",IF(AND($N20>6,$N20<8,O20=2),"Hoàn thành nhiệm vụ",IF(AND($N20>=5,$N20<=6,O20<=2),"Hoàn thành nhiệm vụ",IF(AND($N20<5,O20>3),"Không hoàn thành nhiệm vụ","")))))))) -> Hoàn thành xuất sắc nhiệm vụ
A21: 12 | B21: Đỗ Thị Thơm | C21: 01011008 | D21: A3 | E21: =VLOOKUP(D21,Diem!$A$2:$B$12,2,0) -> 8 | F21: A4 | G21: =VLOOKUP(F21,Diem!$A$2:$B$12,2,0) -> 7 | H21: A3 | I21: =VLOOKUP(H21,Diem!$A$2:$B$12,2,0) -> 8 | J21: A3 | K21: =VLOOKUP(J21,Diem!$A$2:$B$12,2,0) -> 8 | L21: A3 | M21: =VLOOKUP(L21,Diem!$A$2:$B$12,2,0) -> 8 | N21: =ROUND(AVERAGE(E21,G21,I21,K21,M21),2) -> 7.8 | P21: =IF(O21>=3,"Không hoàn thành nhiệm vụ",IF(AND($N21>=8,$N21<=10,O21=0),"Hoàn thành xuất sắc nhiệm vụ",IF(AND($N21>=8,$N21<=10,O21=1),"Hoàn thành tốt nhiệm vụ",IF(AND($N21>=8,$N21<=10,O21=2),"Hoàn thành nhiệm vụ",IF(AND($N21>6,$N21<8,O21<=1),"Hoàn thành tốt nhiệm vụ",IF(AND($N21>6,$N21<8,O21=2),"Hoàn thành nhiệm vụ",IF(AND($N21>=5,$N21<=6,O21<=2),"Hoàn thành nhiệm vụ",IF(AND($N21<5,O21>3),"Không hoàn thành nhiệm vụ","")))))))) -> Hoàn thành tốt nhiệm vụ
A22: 13 | B22: Trần Thị Hồng Thu | C22: 01011015 | D22: A1 | E22: =VLOOKUP(D22,Diem!$A$2:$B$12,2,0) -> 10 | F22: A4 | G22: =VLOOKUP(F22,Diem!$A$2:$B$12,2,0) -> 7 | H22: A3 | I22: =VLOOKUP(H22,Diem!$A$2:$B$12,2,0) -> 8 | J22: A2 | K22: =VLOOKUP(J22,Diem!$A$2:$B$12,2,0) -> 9 | L22: A4 | M22: =VLOOKUP(L22,Diem!$A$2:$B$12,2,0) -> 7 | N22: =ROUND(AVERAGE(E22,G22,I22,K22,M22),2) -> 8.2 | P22: =IF(O22>=3,"Không hoàn thành nhiệm vụ",IF(AND($N22>=8,$N22<=10,O22=0),"Hoàn thành xuất sắc nhiệm vụ",IF(AND($N22>=8,$N22<=10,O22=1),"Hoàn thành tốt nhiệm vụ",IF(AND($N22>=8,$N22<=10,O22=2),"Hoàn thành nhiệm vụ",IF(AND($N22>6,$N22<8,O22<=1),"Hoàn thành tốt nhiệm vụ",IF(AND($N22>6,$N22<8,O22=2),"Hoàn thành nhiệm vụ",IF(AND($N22>=5,$N22<=6,O22<=2),"Hoàn thành nhiệm vụ",IF(AND($N22<5,O22>3),"Không hoàn thành nhiệm vụ","")))))))) -> Hoàn thành xuất sắc nhiệm vụ
A23: 14 | B23: Phan Thị Thùy Trang | C23: 01011010 | D23: A3 | E23: =VLOOKUP(D23,Diem!$A$2:$B$12,2,0) -> 8 | F23: A4 | G23: =VLOOKUP(F23,Diem!$A$2:$B$12,2,0) -> 7 | H23: A3 | I23: =VLOOKUP(H23,Diem!$A$2:$B$12,2,0) -> 8 | J23: A3 | K23: =VLOOKUP(J23,Diem!$A$2:$B$12,2,0) -> 8 | L23: A3 | M23: =VLOOKUP(L23,Diem!$A$2:$B$12,2,0) -> 8 | N23: =ROUND(AVERAGE(E23,G23,I23,K23,M23),2) -> 7.8 | P23: =IF(O23>=3,"Không hoàn thành nhiệm vụ",IF(AND($N23>=8,$N23<=10,O23=0),"Hoàn thành xuất sắc nhiệm vụ",IF(AND($N23>=8,$N23<=10,O23=1),"Hoàn thành tốt nhiệm vụ",IF(AND($N23>=8,$N23<=10,O23=2),"Hoàn thành nhiệm vụ",IF(AND($N23>6,$N23<8,O23<=1),"Hoàn thành tốt nhiệm vụ",IF(AND($N23>6,$N23<8,O23=2),"Hoàn thành nhiệm vụ",IF(AND($N23>=5,$N23<=6,O23<=2),"Hoàn thành nhiệm vụ",IF(AND($N23<5,O23>3),"Không hoàn thành nhiệm vụ","")))))))) -> Hoàn thành tốt nhiệm vụ
A24: 15 | B24: Hoàng Thị Trang | C24: 01011018 | D24: A1 | E24: =VLOOKUP(D24,Diem!$A$2:$B$12,2,0) -> 10 | F24: A3 | G24: =VLOOKUP(F24,Diem!$A$2:$B$12,2,0) -> 8 | H24: A3 | I24: =VLOOKUP(H24,Diem!$A$2:$B$12,2,0) -> 8 | J24: A3 | K24: =VLOOKUP(J24,Diem!$A$2:$B$12,2,0) -> 8 | L24: A3 | M24: =VLOOKUP(L24,Diem!$A$2:$B$12,2,0) -> 8 | N24: =ROUND(AVERAGE(E24,G24,I24,K24,M24),2) -> 8.4 | P24: =IF(O24>=3,"Không hoàn thành nhiệm vụ",IF(AND($N24>=8,$N24<=10,O24=0),"Hoàn thành xuất sắc nhiệm vụ",IF(AND($N24>=8,$N24<=10,O24=1),"Hoàn thành tốt nhiệm vụ",IF(AND($N24>=8,$N24<=10,O24=2),"Hoàn thành nhiệm vụ",IF(AND($N24>6,$N24<8,O24<=1),"Hoàn thành tốt nhiệm vụ",IF(AND($N24>6,$N24<8,O24=2),"Hoàn thành nhiệm vụ",IF(AND($N24>=5,$N24<=6,O24<=2),"Hoàn thành nhiệm vụ",IF(AND($N24<5,O24>3),"Không hoàn thành nhiệm vụ","")))))))) -> Hoàn thành xuất sắc nhiệm vụ
A25: 16 | B25: Phạm Thị Vinh | C25: 01011006 | D25: A4 | E25: =VLOOKUP(D25,Diem!$A$2:$B$12,2,0) -> 7 | F25: A4 | G25: =VLOOKUP(F25,Diem!$A$2:$B$12,2,0) -> 7 | H25: A3 | I25: =VLOOKUP(H25,Diem!$A$2:$B$12,2,0) -> 8 | J25: A3 | K25: =VLOOKUP(J25,Diem!$A$2:$B$12,2,0) -> 8 | L25: A3 | M25: =VLOOKUP(L25,Diem!$A$2:$B$12,2,0) -> 8 | N25: =ROUND(AVERAGE(E25,G25,I25,K25,M25),2) -> 7.6 | P25: =IF(O25>=3,"Không hoàn thành nhiệm vụ",IF(AND($N25>=8,$N25<=10,O25=0),"Hoàn thành xuất sắc nhiệm vụ",IF(AND($N25>=8,$N25<=10,O25=1),"Hoàn thành tốt nhiệm vụ",IF(AND($N25>=8,$N25<=10,O25=2),"Hoàn thành nhiệm vụ",IF(AND($N25>6,$N25<8,O25<=1),"Hoàn thành tốt nhiệm vụ",IF(AND($N25>6,$N25<8,O25=2),"Hoàn thành nhiệm vụ",IF(AND($N25>=5,$N25<=6,O25<=2),"Hoàn thành nhiệm vụ",IF(AND($N25<5,O25>3),"Không hoàn thành nhiệm vụ","")))))))) -> Hoàn thành tốt nhiệm vụ
I27: Thành phố Hồ Chí Minh, ngày tháng năm 2022
I28: TRƯỞNG ĐƠN VỊ

Sheet HK2
A1: TRƯỜNG CAO ĐẲNG LÝ TỰ TRỌNG | I1: CỘNG HÒA XÃ HỘI CHỦ NGHĨA VIỆT NAM
A2: THÀNH PHỐ HỒ CHÍ MINH | I2: Độc lập - Tự do - Hạnh phúc
A3: ĐƠN VỊ:
A5: DANH SÁCH TẠM XÉT THI ĐUA HỌC KÌ II NĂM HỌC 2021 - 2022
A7: TT | B7: Họ và tên | C7: Mã số E-office | D7: Tháng 02/2022 | F7: Tháng 03/2022 | H7: Tháng 04/2022 | J7: Tháng 05/2022 | L7: Điểm K | M7: Hệ số trừ bậc (C, D, E) | N7: Xếp loại HK2 | O7: Ghi chú
D8: Xếp loại | E8: Điểm | F8: Xếp loại | G8: Điểm | H8: Xếp loại | I8: Điểm | J8: Xếp loại | K8: Điểm
B9: Viên chức
A10: 1 | B10: Nguyễn Văn A | C10: 01007009 | D10: D | E10: =VLOOKUP(D10,Diem!$A$2:$B$12,2,0) -> 1 | F10: A4 | G10: =VLOOKUP(F10,Diem!$A$2:$B$12,2,0) -> 7 | H10: A3 | I10: =VLOOKUP(H10,Diem!$A$2:$B$12,2,0) -> 8 | J10: B1 | K10: =VLOOKUP(J10,Diem!$A$2:$B$12,2,0) -> 6 | L10: =ROUND(AVERAGE(E10,G10,I10,K10),2) -> 5.5 | M10: =COUNTIF(D10:K10,"C*")*1+COUNTIF(D10:K10,"D")*2+COUNTIF(D10:K10,"E")*3 -> 2 | N10: =IF(M10>=3,"Không hoàn thành nhiệm vụ",IF(AND($L10>=8,$L10<=10,M10=0),"Hoàn thành xuất sắc nhiệm vụ",IF(AND($L10>=8,$L10<=10,M10=1),"Hoàn thành tốt nhiệm vụ",IF(AND($L10>=8,$L10<=10,M10=2),"Hoàn thành nhiệm vụ",IF(AND($L10>6,$L10<8,M10<=1),"Hoàn thành tốt nhiệm vụ",IF(AND($L10>6,$L10<8,M10=2),"Hoàn thành nhiệm vụ",IF(AND($L10>=5,$L10<=6,M10<=2),"Hoàn thành nhiệm vụ",IF(AND($L10<5,M10>3),"Không hoàn thành nhiệm vụ","")))))))) -> Hoàn thành nhiệm vụ
A11: 2 | B11: Nguyễn Thị B | C11: 01002019 | D11: A3 | E11: =VLOOKUP(D11,Diem!$A$2:$B$12,2,0) -> 8 | F11: A3 | G11: =VLOOKUP(F11,Diem!$A$2:$B$12,2,0) -> 8 | H11: A3 | I11: =VLOOKUP(H11,Diem!$A$2:$B$12,2,0) -> 8 | J11: A3 | K11: =VLOOKUP(J11,Diem!$A$2:$B$12,2,0) -> 8 | L11: =ROUND(AVERAGE(E11,G11,I11,K11),2) -> 8 | M11: =COUNTIF(D11:K11,"C*")*1+COUNTIF(D11:K11,"D")*2+COUNTIF(D11:K11,"E")*3 -> 0 | N11: =IF(M11>=3,"Không hoàn thành nhiệm vụ",IF(AND($L11>=8,$L11<=10,M11=0),"Hoàn thành xuất sắc nhiệm vụ",IF(AND($L11>=8,$L11<=10,M11=1),"Hoàn thành tốt nhiệm vụ",IF(AND($L11>=8,$L11<=10,M11=2),"Hoàn thành nhiệm vụ",IF(AND($L11>6,$L11<8,M11<=1),"Hoàn thành tốt nhiệm vụ",IF(AND($L11>6,$L11<8,M11=2),"Hoàn thành nhiệm vụ",IF(AND($L11>=5,$L11<=6,M11<=2),"Hoàn thành nhiệm vụ",IF(AND($L11<5,M11>3),"Không hoàn thành nhiệm vụ","")))))))) -> Hoàn thành xuất sắc nhiệm vụ
A12: 3
A13: 4
A14: 5
B15: Hợp đồng trường
A16: 1 | B16: Hoàng Thị C | C16: 01007006 | D16: A2 | E16: =VLOOKUP(D16,Diem!$A$2:$B$12,2,0) -> 9 | F16: A4 | G16: =VLOOKUP(F16,Diem!$A$2:$B$12,2,0) -> 7 | H16: A4 | I16: =VLOOKUP(H16,Diem!$A$2:$B$12,2,0) -> 7 | J16: A4 | K16: =VLOOKUP(J16,Diem!$A$2:$B$12,2,0) -> 7 | L16: =ROUND(AVERAGE(E16,G16,I16,K16),2) -> 7.5 | M16: =COUNTIF(D16:K16,"C*")*1+COUNTIF(D16:K16,"D")*2+COUNTIF(D16:K16,"E")*3 -> 0 | N16: =IF(M16>=3,"Không hoàn thành nhiệm vụ",IF(AND($L16>=8,$L16<=10,M16=0),"Hoàn thành xuất sắc nhiệm vụ",IF(AND($L16>=8,$L16<=10,M16=1),"Hoàn thành tốt nhiệm vụ",IF(AND($L16>=8,$L16<=10,M16=2),"Hoàn thành nhiệm vụ",IF(AND($L16>6,$L16<8,M16<=1),"Hoàn thành tốt nhiệm vụ",IF(AND($L16>6,$L16<8,M16=2),"Hoàn thành nhiệm vụ",IF(AND($L16>=5,$L16<=6,M16<=2),"Hoàn thành nhiệm vụ",IF(AND($L16<5,M16>3),"Không hoàn thành nhiệm vụ","")))))))) -> Hoàn thành tốt nhiệm vụ
A17: 2 | B17: Trần Văn H | C17: 01002038 | D17: A3 | E17: =VLOOKUP(D17,Diem!$A$2:$B$12,2,0) -> 8 | F17: A4 | G17: =VLOOKUP(F17,Diem!$A$2:$B$12,2,0) -> 7 | H17: A4 | I17: =VLOOKUP(H17,Diem!$A$2:$B$12,2,0) -> 7 | J17: A4 | K17: =VLOOKUP(J17,Diem!$A$2:$B$12,2,0) -> 7 | L17: =ROUND(AVERAGE(E17,G17,I17,K17),2) -> 7.25 | M17: =COUNTIF(D17:K17,"C*")*1+COUNTIF(D17:K17,"D")*2+COUNTIF(D17:K17,"E")*3 -> 0 | N17: =IF(M17>=3,"Không hoàn thành nhiệm vụ",IF(AND($L17>=8,$L17<=10,M17=0),"Hoàn thành xuất sắc nhiệm vụ",IF(AND($L17>=8,$L17<=10,M17=1),"Hoàn thành tốt nhiệm vụ",IF(AND($L17>=8,$L17<=10,M17=2),"Hoàn thành nhiệm vụ",IF(AND($L17>6,$L17<8,M17<=1),"Hoàn thành tốt nhiệm vụ",IF(AND($L17>6,$L17<8,M17=2),"Hoàn thành nhiệm vụ",IF(AND($L17>=5,$L17<=6,M17<=2),"Hoàn thành nhiệm vụ",IF(AND($L17<5,M17>3),"Không hoàn thành nhiệm vụ","")))))))) -> Hoàn thành tốt nhiệm vụ
I19: Thành phố Hồ Chí Minh, ngày tháng năm 2022
I20: TRƯỞNG ĐƠN VỊ

Sheet NH
A1: TRƯỜNG CAO ĐẲNG LÝ TỰ TRỌNG | G1: CỘNG HÒA XÃ HỘI CHỦ NGHĨA VIỆT NAM
A2: THÀNH PHỐ HỒ CHÍ MINH | G2: Độc lập - Tự do - Hạnh phúc
A3: ĐƠN VỊ:
A5: DANH SÁCH XÉT THI ĐUA NĂM HỌC 2021 - 2022
A7: TT | B7: Họ tên | C7: Mã số E-office | D7: Học kỳ 1 | F7: Học kỳ 2 | H7: Cả năm | J7: Danh hiệu | K7: GHI CHÚ
D8: Điểm K | E8: Xếp loại | F8: Điểm K | G8: Xếp loại | H8: Điểm X | I8: Xếp loại
B9: Viên chức
A10: 1 | B10: Nguyễn Văn A | C10: 01007009 | D10: ='HK1'!$N10 -> 8.4 | E10: ='HK1'!$P10 -> Hoàn thành xuất sắc nhiệm vụ | F10: ='HK2'!L10 -> 5.5 | G10: ='HK2'!N10 -> Hoàn thành nhiệm vụ | H10: =ROUND(AVERAGE(D10,F10),2) -> 6.95 | I10: =IF(AND(8<=$H10,$H10<=10),"Hoàn thành xuất sắc nhiệm vụ",IF(AND(6<$H10,$H10<8),"Hoàn thành tốt nhiệm vụ",IF(AND(5<$H10,$H10<6),"Hoàn thành nhiệm vụ","Không hoàn thành nhiệm vụ"))) -> Hoàn thành tốt nhiệm vụ | J10: =IF(G10="Hoàn thành nhiệm vụ","Không đạt LĐTT",IF(OR(I10="Hoàn thành xuất sắc nhiệm vụ",I10="Hoàn thành tốt nhiệm vụ"),"Đạt LĐTT","Không đạt LĐTT")) -> Không đạt LĐTT
A11: 2 | B11: Nguyễn Thị B | C11: 01002019 | D11: ='HK1'!$N11 -> 8.2 | E11: ='HK1'!$P11 -> Hoàn thành xuất sắc nhiệm vụ | F11: ='HK2'!L11 -> 8 | G11: ='HK2'!N11 -> Hoàn thành xuất sắc nhiệm vụ | H11: =ROUND(AVERAGE(D11,F11),2) -> 8.1 | I11: =IF(AND(8<=$H11,$H11<=10),"Hoàn thành xuất sắc nhiệm vụ",IF(AND(6<$H11,$H11<8),"Hoàn thành tốt nhiệm vụ",IF(AND(5<$H11,$H11<6),"Hoàn thành nhiệm vụ","Không hoàn thành nhiệm vụ"))) -> Hoàn thành xuất sắc nhiệm vụ | J11: =IF(G11="Hoàn thành NV","Không đạt LĐTT",IF(OR(I11="Hoàn thành xuất sắc nhiệm vụ",I11="Hoàn thành tốt nhiệm vụ"),"Đạt LĐTT","Không đạt LĐTT")) -> Đạt LĐTT
B15: Hợp đồng trường
A16: 1 | B16: Hoàng Thị C | C16: 01007006 | D16: ='HK1'!#REF! -> #REF! | E16: ='HK1'!#REF! -> #REF! | F16: ='HK2'!L16 -> 7.5 | G16: ='HK2'!N16 -> Hoàn thành tốt nhiệm vụ | H16: =ROUND(AVERAGE(D16,F16),2) -> #REF! | I16: =IF(AND(8<=$H16,$H16<=10),"Hoàn thành xuất sắc nhiệm vụ",IF(AND(6<$H16,$H16<8),"Hoàn thành tốt nhiệm vụ",IF(AND(5<$H16,$H16<6),"Hoàn thành nhiệm vụ","Không hoàn thành nhiệm vụ"))) -> #REF! | J16: =IF(G16="Hoàn thành NV","Không đạt LĐTT",IF(OR(I16="Hoàn thành xuất sắc nhiệm vụ",I16="Hoàn thành tốt nhiệm vụ"),"Đạt LĐTT","Không đạt LĐTT")) -> #REF!
A17: 2 | B17: Trần Văn H | C17: 01002038 | D17: ='HK1'!#REF! -> #REF! | E17: ='HK1'!#REF! -> #REF! | F17: ='HK2'!L17 -> 7.25 | G17: ='HK2'!N17 -> Hoàn thành tốt nhiệm vụ | H17: =ROUND(AVERAGE(D17,F17),2) -> #REF! | I17: =IF(AND(8<=$H17,$H17<=10),"Hoàn thành xuất sắc nhiệm vụ",IF(AND(6<$H17,$H17<8),"Hoàn thành tốt nhiệm vụ",IF(AND(5<$H17,$H17<6),"Hoàn thành nhiệm vụ","Không hoàn thành nhiệm vụ"))) -> #REF! | J17: =IF(G17="Hoàn thành NV","Không đạt LĐTT",IF(OR(I17="Hoàn thành xuất sắc nhiệm vụ",I17="Hoàn thành tốt nhiệm vụ"),"Đạt LĐTT","Không đạt LĐTT")) -> #REF!
B19: Đạt LĐTT: | C19: =COUNTIF($J$10:$J$17,"Đạt LĐTT") -> 1
B20: Không đạt LĐTT: | C20: =COUNTIF($J$10:$J$17,"Không đạt LĐTT") -> 1
B21: Không xét LĐTT (Tuyển dụng dưới 10 tháng) | C21: =COUNTIF($J$10:$J$17,"Không xét LĐTT") -> 0
H23: Thành phố Hồ Chí Minh, ngày tháng năm 2022
H24: TRƯỞNG ĐƠN VỊ
