Workbook

Sheet Mau 1
A1: TRƯỜNG CAO ĐẲNG LÝ TỰ TRỌNG | E1: CỘNG HÒA XÃ HỘI CHỦ NGHĨA VIỆT NAM
A2: THÀNH PHỐ HỒ CHÍ MINH | E2: Độc lập - Tự do - Hạnh phúc
A3: PHÒNG KẾ HOẠCH - TÀI CHÍNH
G4: Mẫu 1
A5: Danh sách CB-GV-NV tham gia thực hiện bài viết sáng kiến, bài viết Hội thảo cấp trường, cấp đơn vị, giảng viên dạy giỏi, bài báo được đăng trên các tạp chí theo quy định, tham gia đề tài NCKH đã được nghiệm thu,... (Quy định về tiêu chuẩn thi đua số 738/QyĐ-LTT-TĐ ngày 02/11/2022 của Trường)
A7: TT | B7: Họ tên | C7: Mã E-Office | D7: Điều kiện xếp loại thi đua A1 (Ghi rõ nội dung tiêu chuẩn: số Quyết định, thời gian, cơ quan ban hành,…) | E7: Điều kiện xếp loại thi đua A2 (Ghi rõ nội dung tiêu chuẩn: số Quyết định, thời gian, cơ quan ban hành,…) | F7: Điều kiện xếp loại thi đua A3 (Ghi rõ nội dung tiêu chuẩn: số Quyết định, thời gian, cơ quan ban hành,…) | G7: Ghi chú
A8: I. Viên chức
A9: 01 | B9: Nguyễn Kính | C9: 01002024 | D9: - Có bài sáng kiến kinh nghiệm NH 2021-2022, đạt loại xuất sắc (được công nhận có phạm vi ảnh cấp ngành năm học 2021-2022 theo QĐ số 1969/QĐ/SGDĐT-VP ngày 03/8/2022); - Có bài viết được đăng trên sách Hội thảo Khoa học Quốc tế năm 2022 - ICSS 4,0 (Một tác giả); - Năm 2022 có tham gia nhiều dự án cấp trường và cấp Sở (BTC Dự án ODA; Dự toán tài chính DA lên trường ĐH Lý Tự Trọng...); - Trong năm 2022 thực hiện hoàn thiện bổ sung hồ sơ dự toán tài chính trung hạn của nhà trường (2021-2025); - Tham gia phối hợp hoàn thiện hồ sơ thực hiện dự án "Trung tâm Đào tạo Xuất sắc" dự kiến đưa vào hoạt động năm 2023; - Thực hiện nhiều Báo cáo; giải trình theo yêu cầu trong năm 2022 của Sở Giáo dục, Sở Tài chính và Cục thuế TP;
A10: 03 | B10: Hồng Mộng Tuyết Dung | C10: 01003009 | E10: - Bài viết sáng kiến được công nhận phạm vi ảnh hưởng cấp ngành năm học 2021-2022 (QĐ số 1969/QĐ-SGDĐT ngày 03/8/2022)
A11: 04 | B11: Trần Thị Minh Thoa | C11: 01003005 | E11: - Bài viết sáng kiến được công nhận phạm vi ảnh hưởng cấp ngành năm học 2021-2022 (QĐ số 1969/QĐ-SGDĐT ngày 03/8/2022)
A12: 05 | B12: Võ Thị Lệ Trân | C12: 01023004 | E12: - Bài viết sáng kiến được công nhận phạm vi ảnh hưởng cấp ngành năm học 2021-2022 (QĐ số 1969/QĐ-SGDĐT ngày 03/8/2022)
A13: 06 | B13: Nguyễn Thị Hồng Thắm | C13: 01003007 | E13: '- Bài viết sáng kiến được công nhận phạm vi ảnh hưởng cấp ngành năm học 2021-2022 (QĐ số 1969/QĐ-SGDĐT ngày 03/8/2022)
A14: II. Hợp đồng trường
A15: 01 | B15: Trần Thị Thảo Vân | C15: 01003008 | E15: - Bài viết sáng kiến được công nhận phạm vi ảnh hưởng cấp ngành năm học 2021-2022 (QĐ số 1969/QĐ-SGDĐT ngày 03/8/2022)
A16: 02 | B16: Nguyễn Thị Nghiêm | C16: 01003014 | E16: - Có bài báo được đăng trên tạp chí - Cơ quan thông tin Lý luận của Bộ Công Thương Số 21-tháng 09/2022. '- Bài viết sáng kiến được công nhận phạm vi ảnh hưởng cấp ngành năm học 2021-2022 (QĐ số 1969/QĐ-SGDĐT ngày 03/8/2022)
A17: 03 | B17: Huỳnh Như Ý | C17: 01003015 | E17: - Bài viết sáng kiến được công nhận phạm vi ảnh hưởng cấp ngành năm học 2021-2022 (QĐ số 1969/QĐ-SGDĐT ngày 03/8/2022)
A18: 04 | B18: Nguyễn Chiến Thắng | C18: 01003016 | G18: A4
A19: Ghi chú: Gửi kèm minh chứng về phòng Tổ chức - Hành chính - Tổng hợp.
E20: TPHCM, ngày 11 tháng 01 năm 2023
E21: TRƯỞNG ĐƠN VỊ
E26: Nguyễn Kính

Sheet Mau 2
A1: TRƯỜNG CAO ĐẲNG LÝ TỰ TRỌNG THÀNH PHỐ HỒ CHÍ MINH PHÒNG KẾ HOẠCH - TÀI CHÍNH | D1: CỘNG HÒA XÃ HỘI CHỦ NGHĨA VIỆT NAM Độc lập - Tự do - Hạnh phúc
F2: Mẫu 2
A3: BẢNG TỔNG HỢP CÔNG VIỆC ĐỘT XUẤT ĐÃ THỰC HIỆN THÁNG 03/2023 (Gửi file mềm ngày 25 hàng tháng)
A5: TT | B5: Nội dung công việc | C5: Số lượng người tham gia thực hiện | D5: Tên người tham gia thực hiện | E5: Thời gian thực hiện | F5: Kết quả thực hiện | G5: Ghi chú
A6: I. | B6: Công việc chung của Trường
A7: Nhiệm vụ 1 | B7: -Tiếp tục thực hiện cung cấp hồ sơ minh chứng, sổ sách, chứng từ kế toán và giải trình với Thanh tra TP theo công văn số 17/QĐ- TTTP-P3 ngày 10/02/2023 của Thanh tra Thành phố và theo thông báo khẩn của phòng Kế hoạch Tài chính thuộc Sở Giáo dục và Đào tạo TP.HCM ngày 21/02/2023 về công tác lập dự toán, quyết toán NSNN, số thu sự nghiệp – thu dịch vụ và thực hiện các nghĩa vụ đối với NSNN (nộp Thuế TNDN, GTGT, TNCN trong năm 2021 và năm 2022 để về làm việc với Thanh tra Thành phố (Đợt 2) tại Sở Giáo dục và đào tạo. | C7: 09 | D7: Kính, Tuyết Dung, Thoa, Trân, Thắm, Vân, Nghiêm, Ý, Thắng. | E7: Tháng 03/2023 | F7: Còn đang thực hiện (Thời gian thanh tra là 45 ngày - đến ngày 28/3/2023 kết thúc) | G7: Xin được tính bằng 2 công việc trường
A8: Nhiệm vụ 2 | B8: Thực hiện theo công văn số 777/SGDĐT-KHTC ngày 24/02/2023 của Sở Giáo dục và Đào tạo TP.HCM về báo cáo đánh giá tình hình thực hiện tự chủ năm 2022 theo Nghị định số 43/2006/NĐ-CP của các đơn vị trực thuộc sở. | C8: 07 | D8: Kính, Tuyết Dung, Thoa, Trân, Nghiêm, Thắng, Ý. | E8: Tháng 03/2023 | F8: Đang thực hiện
A9: Nhiệm vụ 3 | B9: - Thực hiện công văn số 1092/SGDĐT-KHTC ngày 14/3/2023 về thực hiện kiến nghị của Kiểm toán nhà nước khu vực IV năm 2022 (niên độ ngân sách nhà nước năm 2021). | C9: 06 | D9: Kính, Tuyết Dung, Thoa, Thắm, Vân, Nghiêm. | E9: Tháng 03/2023 | F9: Đang thực hiện
A10: Nhiệm vụ 4 | B10: - Soạn thảo các quy trình, quy định từ khâu lập kế hoạch mua sắm - sửa chữa (MS-SC), phê duyệt kế hoạch MS-SC, tạm ứng tiền MS-SC đến khâu hoàn thiện hồ sơ thanh quyết toán và một số quy định liên quan tài chính theo yêu cầu của CQ Thanh tra, Kiểm toán trình Hiệu trưởng phê duyệt để chính thức áp dụng từ năn 2023. | C10: 07 | D10: Kính, Thoa, Tuyết Dung, Thắm, Vân, Ý. | E10: Tháng 03/2023 | F10: Đang thực hiện
A11: II. | B11: Công việc chung của đơn vị
A12: Nhiệm vụ 1 | B12: Thực hiện công văn số 1076/SGDĐT-KHTC ngày 13/3/2023 về báo cáo kết quả thực hiện vận động, tiếp nhận, quản lý, sử dụng tài trợ. | C12: 07 | D12: Kính, Tuyết Dung, Thoa, Trân, Thắm, Ý, Thắng. | E12: Tháng 03/2023 | F12: Đang thực hiện
A13: Nhiệm vụ 2 | B13: Thực hiện báo cáo công tác công khai tài chính, tài sản năm 2022 | C13: 07 | D13: Kính, Tuyết Dung, Thoa, Thắm, Nghiêm, Vân, Thắng. | E13: Tháng 03/2023 | F13: Đang thực hiện
A14: Nhiệm vụ 3 | B14: Thực hiện công tác báo cáo đầu thầu qua mạng quý 1/2023. | C14: 07 | D14: Kính, Thoa, Trân, Vân, Nghiêm, Thắng, Ý. | E14: Tháng 03/2023 | F14: Đang thực hiện
A15: Nhiệm vụ 4 | B15: Phối hợp với các đơn vị đối chiếu, thanh quyết toán các nguồn kinh phí cuối năm 2022. | C15: 08 | D15: Kính, Tuyết Dung, Thoa, Trân, Thắm, Vân, Nghiêm,Ý. | E15: Tháng 03/2023 | F15: Đang thực hiện
A17: Lưu ý: - Nhóm công việc của đơn vị không tính nội dung công việc đã được quy định ở vị trí việc làm (đối với nhân viên); chế độ làm việc của giảng viên/ đã được tính chế độ, thù lao (đối với giảng viên). - Các đơn vị gửi file điện tử về phòng TC-HC-TH (Cô Trần Thị Ánh Phượng) qua hệ thống điện tử E-office nhà trường (không gửi văn bản giấy) ngày 25 hàng tháng./.
C18: Thành phố Hồ Chí Minh, ngày 21 tháng 03 năm 2023
D19: TRƯỞNG ĐƠN VỊ
D23: Nguyễn Kính

Sheet Mau 3
A1: TRƯỜNG CAO ĐẲNG LÝ TỰ TRỌNG | I1: CỘNG HÒA XÃ HỘI CHỦ NGHĨA VIỆT NAM
A2: THÀNH PHỐ HỒ CHÍ MINH | I2: Độc lập - Tự do - Hạnh phúc
A3: PHÒNG KẾ HOẠCH - TÀI CHÍNH
N4: Mẫu 3
A5: THỐNG KÊ CHI TIẾT KHỐI LƯỢNG CÔNG VIỆC THỰC HIỆN THÁNG 02/2023
A7: TT | B7: Tên nội dung công việc | D7: Công việc chung của trường | I7: Công việc chung của đơn vị | N7: Ghi chú
B8: Họ và tên | C8: Mã E-office | D8: Nhiệm vụ 1 | E8: Nhiệm vụ 2 | F8: Nhiệm vụ 3 | G8: Nhiệm vụ 4 | H8: Tổng cộng | I8: Nhiệm vụ 1 | J8: Nhiệm vụ 2 | K8: Nhiệm vụ 3 | L8: Nhiệm vụ 4 | M8: Tổng cộng
A9: I. Viên chức
A10: 01 | B10: Nguyễn Kính | C10: 01002024 | D10: x | E10: x | F10: x | G10: x | H10: =COUNTIF(D10:G10,"X") -> 4 | I10: x | J10: x | K10: x | L10: x | M10: =COUNTIF(I10:L10,"X") -> 4 | N10: Riêng nhiệm vụ 1 công việc của Trường xin được tính bằng 2 công việc
A11: 02 | B11: Hồng Mộng Tuyết Dung | C11: 01003009 | D11: x | E11: x | F11: x | G11: x | H11: =COUNTIF(D11:G11,"X") -> 4 | I11: x | J11: x | L11: x | M11: =COUNTIF(I11:L11,"X") -> 3
A12: 03 | B12: Trần Thị Minh Thoa | C12: 01003005 | D12: x | E12: x | F12: x | G12: x | H12: =COUNTIF(D12:G12,"X") -> 4 | I12: x | J12: x | K12: x | L12: x | M12: =COUNTIF(I12:L12,"X") -> 4
A13: 04 | B13: Võ Thị Lệ Trân | C13: 01023004 | D13: x | E13: x | H13: =COUNTIF(D13:G13,"X") -> 2 | I13: x | K13: x | L13: x | M13: =COUNTIF(I13:L13,"X") -> 3
A14: 05 | B14: Nguyễn Thị Hồng Thắm | C14: 01003007 | D14: x | F14: x | G14: x | H14: =COUNTIF(D14:G14,"X") -> 3 | I14: x | J14: x | L14: x | M14: =COUNTIF(I14:L14,"X") -> 3
A15: II. Hợp đồng trường
A16: 01 | B16: Trần Thị Thảo Vân | C16: 01003008 | D16: x | G16: x | H16: =COUNTIF(D16:G16,"X") -> 2 | J16: x | K16: x | L16: x | M16: =COUNTIF(I16:L16,"X") -> 3
A17: 02 | B17: Nguyễn Thụy Nghiêm | C17: 01003014 | D17: x | E17: x | F17: x | H17: =COUNTIF(D17:G17,"X") -> 3 | J17: x | K17: x | L17: x | M17: =COUNTIF(I17:L17,"X") -> 3
A18: 03 | B18: Huỳnh Như Ý | C18: 01003015 | D18: x | E18: x | G18: x | H18: =COUNTIF(D18:G18,"X") -> 3 | I18: x | K18: x | L18: x | M18: =COUNTIF(I18:L18,"X") -> 3
A19: 04 | B19: Nguyễn Chiến Thắng | C19: 01003016 | D19: x | E19: x | H19: =COUNTIF(D19:G19,"X") -> 2 | I19: x | J19: x | K19: x | M19: =COUNTIF(I19:L19,"X") -> 3
A21: Lưu ý: Các đơn vị gửi file điện tử về phòng TC-HC-TH (Cô Trần Thị Ánh Phượng) qua hệ thống điện tử E-office nhà trường (không gửi văn bản giấy).
I22: TP.HCM, ngày 21 tháng 03 năm 2023
I23: TRƯỞNG ĐƠN VỊ
J29: Nguyễn Kính

Sheet Mau 4 
A1: TRƯỜNG CAO ĐẲNG LÝ TỰ TRỌNG | G1: CỘNG HÒA XÃ HỘI CHỦ NGHĨA VIỆT NAM
A2: THÀNH PHỐ HỒ CHÍ MINH | G2: Độc lập - Tự do - Hạnh phúc
A3: PHÒNG KẾ HOẠCH - TÀI CHÍNH
L4: Mẫu 4
A5: DANH SÁCH XẾP LOẠI THI ĐUA THÁNG 03/2023
A7: TT | B7: Họ tên | C7: Mã E-Office | D7: Tiêu chuẩn đạt mức xếp loại thi đua tối đa trong năm 2023 | E7: Xếp loại thi đua tháng theo quy định (Không vượt quá mức thi đua tối đa) | I7: Số ngày/giờ vượt so với ngày công kế hoạch (đối với CB-NV) | J7: Số ngày nghỉ/ tiết nghỉ (đối với GV) | K7: Đơn vị đề nghị mức xếp loại thi đua
E8: Xếp loại | F8: Lý do | G8: Số lượng công việc chung của trường | H8: Số lượng công việc chung của đơn vị | K8: Xếp loại | L8: Lý do đề nghị
A9: I. Viên chức
A10: 01 | B10: Nguyễn Kính | C10: 01002024 | D10: A1 | E10: A1 | G10: ='Mau 3'!H10 -> 4 | H10: ='Mau 3'!M10 -> 4 | I10: 4 | K10: A1
A11: 02 | B11: Hồng Mộng Tuyết Dung | C11: 01003009 | D11: A2 | E11: A2 | G11: ='Mau 3'!H11 -> 4 | H11: ='Mau 3'!M11 -> 3 | I11: 4 | K11: A1 | L11: - Chuẩn A2, tuy nhiên trong tháng qua thường xuyên làm việc ngoài giờ chuẩn bị chứng từ, hồ sơ sổ sách để phục vụ cho công tác thanh tra, thu học phí sinh viên , do có nhiều tích cực trong công việc của phòng và của trường, Phòng KH-TC kính đề nghị hội đồng thi đua xem xét nâng 1 bậc xếp loại : A1
A12: 03 | B12: Trần Thị Minh Thoa | C12: 01003005 | D12: A2 | E12: A2 | G12: ='Mau 3'!H12 -> 4 | H12: ='Mau 3'!M12 -> 4 | I12: 4 | K12: A1 | L12: - Chuẩn A2, tuy nhiên trong tháng qua thường xuyên làm việc ngoài giờ chuẩn bị chứng từ, hồ sơ sổ sách để phục vụ cho công tác thanh tra, thu học phí sinh viên , do có nhiều tích cực trong công việc của phòng và của trường, Phòng KH-TC kính đề nghị hội đồng thi đua xem xét nâng 1 bậc xếp loại : A1
A13: 04 | B13: Võ Thị Lệ Trân | C13: 01023004 | D13: A2 | E13: A2 | G13: ='Mau 3'!H13 -> 2 | H13: ='Mau 3'!M13 -> 3 | I13: 4 | K13: A1 | L13: - Chuẩn A2, tuy nhiên trong tháng qua thường xuyên làm việc ngoài giờ chuẩn bị chứng từ, hồ sơ sổ sách để phục vụ cho công tác thanh tra, thu học phí sinh viên , do có nhiều tích cực trong công việc của phòng và của trường, Phòng KH-TC kính đề nghị hội đồng thi đua xem xét nâng 1 bậc xếp loại : A1
A14: 05 | B14: Nguyễn Thị Hồng Thắm | C14: 01003007 | D14: A2 | E14: A2 | G14: ='Mau 3'!H14 -> 3 | H14: ='Mau 3'!M14 -> 3 | I14: 2 | K14: A2 | L14: Trong tháng qua thường xuyên làm việc ngoài giờ chuẩn bị chứng từ, hồ sơ sổ sách để phục vụ cho công tác thanh tra, thu học phí sinh viên , do có nhiều tích cực trong công việccủa phòng và của trường, Phòng KH-TC kính đề nghị hội đồng thi đua xem xét A2
A15: II. Hợp đồng trường
A16: 01 | B16: Trần Thị Thảo Vân | C16: 01003008 | D16: A2 | E16: A2 | G16: ='Mau 3'!H16 -> 2 | H16: ='Mau 3'!M16 -> 3 | K16: A2 | L16: Trong tháng qua thường xuyên làm việc ngoài giờ chuẩn bị chứng từ, hồ sơ sổ sách để phục vụ cho công tác thanh tra, thu học phí sinh viên , do có nhiều tích cực trong công việccủa phòng và của trường, Phòng KH-TC kính đề nghị hội đồng thi đua xem xét A2
A17: 02 | B17: Nguyễn Thụy Nghiêm | C17: 01003014 | D17: A2 | E17: A2 | G17: ='Mau 3'!H17 -> 3 | H17: ='Mau 3'!M17 -> 3 | K17: A2 | L17: Trong tháng qua thường xuyên làm việc ngoài giờ chuẩn bị chứng từ, hồ sơ sổ sách để phục vụ cho công tác thanh tra, thu học phí sinh viên , do có nhiều tích cực trong công việccủa phòng và của trường, Phòng KH-TC kính đề nghị hội đồng thi đua xem xét A2
A18: 03 | B18: Huỳnh Như Ý | C18: 01003015 | D18: A2 | E18: A2 | G18: ='Mau 3'!H18 -> 3 | H18: ='Mau 3'!M18 -> 3 | K18: A2 | L18: Trong tháng qua thường xuyên làm việc ngoài giờ chuẩn bị chứng từ, hồ sơ sổ sách để phục vụ cho công tác thanh tra, thu học phí sinh viên , do có nhiều tích cực trong công việccủa phòng và của trường, Phòng KH-TC kính đề nghị hội đồng thi đua xem xét A2
A19: 04 | B19: Nguyễn Chiến Thắng | C19: 01003016 | D19: A4 | E19: A4 | G19: ='Mau 3'!H19 -> 2 | H19: ='Mau 3'!M19 -> 3 | K19: A3 | L19: - Chuẩn A4, tuy nhiên trong tháng qua thường xuyên làm việc ngoài giờ chuẩn bị chứng từ, hồ sơ sổ sách để phục vụ cho công tác thanh tra, thu học phí sinh viên , do có nhiều tích cực trong công việc của phòng và của trường, Phòng KH-TC kính đề nghị hội đồng thi đua xem xét nâng 1 bậc xếp loại : A3
B21: Kết quả xếp loại | G21: Viên chức | I21: Hợp đồng trường
B22: A1 | G22: =COUNTIF($E$10:$E$14,"A1") -> 1 | I22: =COUNTIF($E$16:$E$19,"A1") -> 0
B23: A2 | G23: =COUNTIF($E$10:$E$14,"A2") -> 4 | I23: =COUNTIF($E$16:$E$19,"A2") -> 3
B24: A3 | G24: =COUNTIF($E$10:$E$14,"A3") -> 0 | I24: =COUNTIF($E$16:$E$19,"A3") -> 0
B25: A4 | G25: =COUNTIF($E$10:$E$14,"A4") -> 0 | I25: =COUNTIF($E$16:$E$19,"A4") -> 1
B26: A DN | G26: =COUNTIF($E$10:$E$14,"A DN") -> 0 | I26: =COUNTIF($E$16:$E$19,"A DN") -> 0
B27: B1 | G27: =COUNTIF($E$10:$E$14,"B1") -> 0 | I27: =COUNTIF($E$16:$E$19,"B1") -> 0
B28: B2 | G28: =COUNTIF($E$10:$E$14,"B2") -> 0 | I28: =COUNTIF($E$16:$E$19,"B2") -> 0
B29: C1 | G29: =COUNTIF($E$10:$E$14,"C1") -> 0 | I29: =COUNTIF($E$16:$E$19,"C1") -> 0
B30: C2 | G30: =COUNTIF($E$10:$E$14,"C2") -> 0 | I30: =COUNTIF($E$16:$E$19,"C2") -> 0
B31: D | G31: =COUNTIF($E$10:$E$14,"D") -> 0 | I31: =COUNTIF($E$16:$E$19,"D") -> 0
B32: E | G32: =COUNTIF($E$10:$E$14,"E") -> 0 | I32: =COUNTIF($E$16:$E$19,"E") -> 0
B33: Tổng số nhân sự: | G33: =SUM(G22:G32) -> 5 | I33: =SUM(I22:I32) -> 4
A35: Lưu ý: Các đơn vị gửi file mềm qua hệ thống điện tử E-office nhà trường và văn bản giấy về phòng TC-HC-TH (Cô Trần Thị Ánh Phượng).
G36: Tp.HCM, ngày 21 Tháng 03 năm 2023
G37: TRƯỞNG ĐƠN VỊ
H42: Nguyễn Kính
