Workbook

Sheet Diem
A2: A1 | B2: 10
A3: A2 | B3: 9
A4: A3 | B4: 8
A5: A4 | B5: 7
A7: B1 | B7: 6
A8: B2 | B8: 5
A9: C1 | B9: 4
A10: C2 | B10: 3
A11: D | B11: 1
A12: E | B12: 0

Sheet HK1
A1: TRƯỜNG CAO ĐẲNG LÝ TỰ TRỌNG | I1: CỘNG HÒA XÃ HỘI CHỦ NGHĨA VIỆT NAM
A2: THÀNH PHỐ HỒ CHÍ MINH | I2: Độc lập - Tự do - Hạnh phúc
A3: PHÒNG THANH TRA GIÁO DỤC - CÔNG TÁC SINH VIÊN
A5: DANH SÁCH XÉT THI ĐUA HỌC KỲ 1 NĂM HỌC 2022 - 2023
A7: TT | B7: Họ và tên | C7: Mã số E-office | D7: Tháng 09/2022 | F7: Tháng 10/2022 | H7: Tháng 11/2022 | J7: Tháng 12/2022 | L7: Tháng 01/2023 | N7: Điểm K | O7: Hệ số trừ bậc (C, D, E) | P7: Xếp loại HK1 | Q7: Ghi chú
D8: Xếp loại | E8: Điểm | F8: Xếp loại | G8: Điểm | H8: Xếp loại | I8: Điểm | J8: Xếp loại | K8: Điểm | L8: Xếp loại | M8: Điểm
B9: Viên chức
A10: 1 | B10: Lê Xuân Thiện | C10: 01002002 | D10: A1 | E10: =VLOOKUP(D10,Diem!$A$2:$B$12,2,0) -> 10 | F10: A1 | G10: =VLOOKUP(F10,Diem!$A$2:$B$12,2,0) -> 10 | H10: A1 | I10: =VLOOKUP(H10,Diem!$A$2:$B$12,2,0) -> 10 | J10: A1 | K10: =VLOOKUP(J10,Diem!$A$2:$B$12,2,0) -> 10 | L10: A1 | M10: =VLOOKUP(L10,Diem!$A$2:$B$12,2,0) -> 10 | N10: =ROUND(AVERAGE(E10,G10,I10,K10,M10),2) -> 10 | O10: =COUNTIF(D10:M10,"C*")*1+COUNTIF(D10:M10,"D")*2+COUNTIF(D10:M10,"E")*3 -> 0 | P10: =IF(O10>=3,"Không hoàn thành nhiệm vụ",IF(AND($N10>=8,$N10<=10,O10=0),"Hoàn thành xuất sắc nhiệm vụ",IF(AND($N10>=8,$N10<=10,O10=1),"Hoàn thành tốt nhiệm vụ",IF(AND($N10>=8,$N10<=10,O10=2),"Hoàn thành nhiệm vụ",IF(AND($N10>6,$N10<8,O10<=1),"Hoàn thành tốt nhiệm vụ",IF(AND($N10>6,$N10<8,O10=2),"Hoàn thành nhiệm vụ",IF(AND($N10>=5,$N10<=6,O10<=2),"Hoàn thành nhiệm vụ",IF(AND($N10<5,O10>3),"Không hoàn thành nhiệm vụ","")))))))) -> Hoàn thành xuất sắc nhiệm vụ
A11: 2 | B11: Nguyễn Ngọc Hiệp | C11: 01009006 | D11: A1 | E11: =VLOOKUP(D11,Diem!$A$2:$B$12,2,0) -> 10 | F11: A4 | G11: =VLOOKUP(F11,Diem!$A$2:$B$12,2,0) -> 7 | H11: A1 | I11: =VLOOKUP(H11,Diem!$A$2:$B$12,2,0) -> 10 | J11: A1 | K11: =VLOOKUP(J11,Diem!$A$2:$B$12,2,0) -> 10 | L11: A2 | M11: =VLOOKUP(L11,Diem!$A$2:$B$12,2,0) -> 9 | N11: =ROUND(AVERAGE(E11,G11,I11,K11,M11),2) -> 9.2 | P11: =IF(O11>=3,"Không hoàn thành nhiệm vụ",IF(AND($N11>=8,$N11<=10,O11=0),"Hoàn thành xuất sắc nhiệm vụ",IF(AND($N11>=8,$N11<=10,O11=1),"Hoàn thành tốt nhiệm vụ",IF(AND($N11>=8,$N11<=10,O11=2),"Hoàn thành nhiệm vụ",IF(AND($N11>6,$N11<8,O11<=1),"Hoàn thành tốt nhiệm vụ",IF(AND($N11>6,$N11<8,O11=2),"Hoàn thành nhiệm vụ",IF(AND($N11>=5,$N11<=6,O11<=2),"Hoàn thành nhiệm vụ",IF(AND($N11<5,O11>3),"Không hoàn thành nhiệm vụ","")))))))) -> Hoàn thành xuất sắc nhiệm vụ
A12: 3 | B12: Nguyễn Thị Kim Anh | C12: 01009018 | D12: A2 | E12: =VLOOKUP(D12,Diem!$A$2:$B$12,2,0) -> 9 | F12: A3 | G12: =VLOOKUP(F12,Diem!$A$2:$B$12,2,0) -> 8 | H12: A1 | I12: =VLOOKUP(H12,Diem!$A$2:$B$12,2,0) -> 10 | J12: A4 | K12: =VLOOKUP(J12,Diem!$A$2:$B$12,2,0) -> 7 | L12: A3 | M12: =VLOOKUP(L12,Diem!$A$2:$B$12,2,0) -> 8 | N12: =ROUND(AVERAGE(E12,G12,I12,K12,M12),2) -> 8.4 | P12: =IF(O12>=3,"Không hoàn thành nhiệm vụ",IF(AND($N12>=8,$N12<=10,O12=0),"Hoàn thành xuất sắc nhiệm vụ",IF(AND($N12>=8,$N12<=10,O12=1),"Hoàn thành tốt nhiệm vụ",IF(AND($N12>=8,$N12<=10,O12=2),"Hoàn thành nhiệm vụ",IF(AND($N12>6,$N12<8,O12<=1),"Hoàn thành tốt nhiệm vụ",IF(AND($N12>6,$N12<8,O12=2),"Hoàn thành nhiệm vụ",IF(AND($N12>=5,$N12<=6,O12<=2),"Hoàn thành nhiệm vụ",IF(AND($N12<5,O12>3),"Không hoàn thành nhiệm vụ","")))))))) -> Hoàn thành xuất sắc nhiệm vụ
A13: 4 | B13: Phạm Thị Lê Chi | C13: 01009010 | D13: A3 | E13: =VLOOKUP(D13,Diem!$A$2:$B$12,2,0) -> 8 | F13: A4 | G13: =VLOOKUP(F13,Diem!$A$2:$B$12,2,0) -> 7 | H13: A3 | I13: =VLOOKUP(H13,Diem!$A$2:$B$12,2,0) -> 8 | J13: A3 | K13: =VLOOKUP(J13,Diem!$A$2:$B$12,2,0) -> 8 | L13: A3 | M13: =VLOOKUP(L13,Diem!$A$2:$B$12,2,0) -> 8 | N13: =ROUND(AVERAGE(E13,G13,I13,K13,M13),2) -> 7.8 | P13: =IF(O13>=3,"Không hoàn thành nhiệm vụ",IF(AND($N13>=8,$N13<=10,O13=0),"Hoàn thành xuất sắc nhiệm vụ",IF(AND($N13>=8,$N13<=10,O13=1),"Hoàn thành tốt nhiệm vụ",IF(AND($N13>=8,$N13<=10,O13=2),"Hoàn thành nhiệm vụ",IF(AND($N13>6,$N13<8,O13<=1),"Hoàn thành tốt nhiệm vụ",IF(AND($N13>6,$N13<8,O13=2),"Hoàn thành nhiệm vụ",IF(AND($N13>=5,$N13<=6,O13<=2),"Hoàn thành nhiệm vụ",IF(AND($N13<5,O13>3),"Không hoàn thành nhiệm vụ","")))))))) -> Hoàn thành tốt nhiệm vụ
A14: 5 | B14: Trần Thị Thu Hà | C14: 01002004 | D14: A1 | E14: =VLOOKUP(D14,Diem!$A$2:$B$12,2,0) -> 10 | F14: A2 | G14: =VLOOKUP(F14,Diem!$A$2:$B$12,2,0) -> 9 | H14: A1 | I14: =VLOOKUP(H14,Diem!$A$2:$B$12,2,0) -> 10 | J14: A1 | K14: =VLOOKUP(J14,Diem!$A$2:$B$12,2,0) -> 10 | L14: A2 | M14: =VLOOKUP(L14,Diem!$A$2:$B$12,2,0) -> 9 | N14: =ROUND(AVERAGE(E14,G14,I14,K14,M14),2) -> 9.6 | P14: =IF(O14>=3,"Không hoàn thành nhiệm vụ",IF(AND($N14>=8,$N14<=10,O14=0),"Hoàn thành xuất sắc nhiệm vụ",IF(AND($N14>=8,$N14<=10,O14=1),"Hoàn thành tốt nhiệm vụ",IF(AND($N14>=8,$N14<=10,O14=2),"Hoàn thành nhiệm vụ",IF(AND($N14>6,$N14<8,O14<=1),"Hoàn thành tốt nhiệm vụ",IF(AND($N14>6,$N14<8,O14=2),"Hoàn thành nhiệm vụ",IF(AND($N14>=5,$N14<=6,O14<=2),"Hoàn thành nhiệm vụ",IF(AND($N14<5,O14>3),"Không hoàn thành nhiệm vụ","")))))))) -> Hoàn thành xuất sắc nhiệm vụ
A15: 6 | B15: Nguyễn Tất Thắng | C15: 01009008 | D15: A4 | E15: =VLOOKUP(D15,Diem!$A$2:$B$12,2,0) -> 7 | F15: A3 | G15: =VLOOKUP(F15,Diem!$A$2:$B$12,2,0) -> 8 | H15: A3 | I15: =VLOOKUP(H15,Diem!$A$2:$B$12,2,0) -> 8 | J15: A3 | K15: =VLOOKUP(J15,Diem!$A$2:$B$12,2,0) -> 8 | L15: A3 | M15: =VLOOKUP(L15,Diem!$A$2:$B$12,2,0) -> 8 | N15: =ROUND(AVERAGE(E15,G15,I15,K15,M15),2) -> 7.8 | P15: =IF(O15>=3,"Không hoàn thành nhiệm vụ",IF(AND($N15>=8,$N15<=10,O15=0),"Hoàn thành xuất sắc nhiệm vụ",IF(AND($N15>=8,$N15<=10,O15=1),"Hoàn thành tốt nhiệm vụ",IF(AND($N15>=8,$N15<=10,O15=2),"Hoàn thành nhiệm vụ",IF(AND($N15>6,$N15<8,O15<=1),"Hoàn thành tốt nhiệm vụ",IF(AND($N15>6,$N15<8,O15=2),"Hoàn thành nhiệm vụ",IF(AND($N15>=5,$N15<=6,O15<=2),"Hoàn thành nhiệm vụ",IF(AND($N15<5,O15>3),"Không hoàn thành nhiệm vụ","")))))))) -> Hoàn thành tốt nhiệm vụ
A16: 7 | B16: Nguyễn Thị Ngọc Anh | C16: 01022058 | D16: A3 | E16: =VLOOKUP(D16,Diem!$A$2:$B$12,2,0) -> 8 | F16: A4 | G16: =VLOOKUP(F16,Diem!$A$2:$B$12,2,0) -> 7 | H16: A3 | I16: =VLOOKUP(H16,Diem!$A$2:$B$12,2,0) -> 8 | J16: A3 | K16: =VLOOKUP(J16,Diem!$A$2:$B$12,2,0) -> 8 | L16: A3 | M16: =VLOOKUP(L16,Diem!$A$2:$B$12,2,0) -> 8 | N16: =ROUND(AVERAGE(E16,G16,I16,K16,M16),2) -> 7.8 | P16: =IF(O16>=3,"Không hoàn thành nhiệm vụ",IF(AND($N16>=8,$N16<=10,O16=0),"Hoàn thành xuất sắc nhiệm vụ",IF(AND($N16>=8,$N16<=10,O16=1),"Hoàn thành tốt nhiệm vụ",IF(AND($N16>=8,$N16<=10,O16=2),"Hoàn thành nhiệm vụ",IF(AND($N16>6,$N16<8,O16<=1),"Hoàn thành tốt nhiệm vụ",IF(AND($N16>6,$N16<8,O16=2),"Hoàn thành nhiệm vụ",IF(AND($N16>=5,$N16<=6,O16<=2),"Hoàn thành nhiệm vụ",IF(AND($N16<5,O16>3),"Không hoàn thành nhiệm vụ","")))))))) -> Hoàn thành tốt nhiệm vụ
A17: 8 | B17: Mai Thu Hương | C17: 01007004 | D17: A3 | E17: =VLOOKUP(D17,Diem!$A$2:$B$12,2,0) -> 8 | F17: A3 | G17: =VLOOKUP(F17,Diem!$A$2:$B$12,2,0) -> 8 | H17: A3 | I17: =VLOOKUP(H17,Diem!$A$2:$B$12,2,0) -> 8 | J17: A3 | K17: =VLOOKUP(J17,Diem!$A$2:$B$12,2,0) -> 8 | L17: A4 | M17: =VLOOKUP(L17,Diem!$A$2:$B$12,2,0) -> 7 | N17: =ROUND(AVERAGE(E17,G17,I17,K17,M17),2) -> 7.8 | P17: =IF(O17>=3,"Không hoàn thành nhiệm vụ",IF(AND($N17>=8,$N17<=10,O17=0),"Hoàn thành xuất sắc nhiệm vụ",IF(AND($N17>=8,$N17<=10,O17=1),"Hoàn thành tốt nhiệm vụ",IF(AND($N17>=8,$N17<=10,O17=2),"Hoàn thành nhiệm vụ",IF(AND($N17>6,$N17<8,O17<=1),"Hoàn thành tốt nhiệm vụ",IF(AND($N17>6,$N17<8,O17=2),"Hoàn thành nhiệm vụ",IF(AND($N17>=5,$N17<=6,O17<=2),"Hoàn thành nhiệm vụ",IF(AND($N17<5,O17>3),"Không hoàn thành nhiệm vụ","")))))))) -> Hoàn thành tốt nhiệm vụ
B18: Hợp đồng trường
A19: 09 | B19: Lê Thị Nữ | C19: 01009012 | D19: A2 | E19: =VLOOKUP(D19,Diem!$A$2:$B$12,2,0) -> 9 | F19: A3 | G19: =VLOOKUP(F19,Diem!$A$2:$B$12,2,0) -> 8 | H19: A2 | I19: =VLOOKUP(H19,Diem!$A$2:$B$12,2,0) -> 9 | J19: A1 | K19: =VLOOKUP(J19,Diem!$A$2:$B$12,2,0) -> 10 | L19: A3 | M19: =VLOOKUP(L19,Diem!$A$2:$B$12,2,0) -> 8 | N19: =ROUND(AVERAGE(E19,G19,I19,K19,M19),2) -> 8.8 | O19: =COUNTIF(D19:M19,"C*")*1+COUNTIF(D19:M19,"D")*2+COUNTIF(D19:M19,"E")*3 -> 0 | P19: =IF(O19>=3,"Không hoàn thành nhiệm vụ",IF(AND($N19>=8,$N19<=10,O19=0),"Hoàn thành xuất sắc nhiệm vụ",IF(AND($N19>=8,$N19<=10,O19=1),"Hoàn thành tốt nhiệm vụ",IF(AND($N19>=8,$N19<=10,O19=2),"Hoàn thành nhiệm vụ",IF(AND($N19>6,$N19<8,O19<=1),"Hoàn thành tốt nhiệm vụ",IF(AND($N19>6,$N19<8,O19=2),"Hoàn thành nhiệm vụ",IF(AND($N19>=5,$N19<=6,O19<=2),"Hoàn thành nhiệm vụ",IF(AND($N19<5,O19>3),"Không hoàn thành nhiệm vụ","")))))))) -> Hoàn thành xuất sắc nhiệm vụ
A20: 10 | B20: Nguyễn Trung Dũng | C20: 01002008 | D20: A1 | E20: =VLOOKUP(D20,Diem!$A$2:$B$12,2,0) -> 10 | F20: A2 | G20: =VLOOKUP(F20,Diem!$A$2:$B$12,2,0) -> 9 | H20: A3 | I20: =VLOOKUP(H20,Diem!$A$2:$B$12,2,0) -> 8 | J20: A3 | K20: =VLOOKUP(J20,Diem!$A$2:$B$12,2,0) -> 8 | L20: A3 | M20: =VLOOKUP(L20,Diem!$A$2:$B$12,2,0) -> 8 | N20: =ROUND(AVERAGE(E20,G20,I20,K20,M20),2) -> 8.6 | O20: =COUNTIF(D20:M20,"C*")*1+COUNTIF(D20:M20,"D")*2+COUNTIF(D20:M20,"E")*3 -> 0 | P20: =IF(O20>=3,"Không hoàn thành nhiệm vụ",IF(AND($N20>=8,$N20<=10,O20=0),"Hoàn thành xuất sắc nhiệm vụ",IF(AND($N20>=8,$N20<=10,O20=1),"Hoàn thành tốt nhiệm vụ",IF(AND($N20>=8,$N20<=10,O20=2),"Hoàn thành nhiệm vụ",IF(AND($N20>6,$N20<8,O20<=1),"Hoàn thành tốt nhiệm vụ",IF(AND($N20>6,$N20<8,O20=2),"Hoàn thành nhiệm vụ",IF(AND($N20>=5,$N20<=6,O20<=2),"Hoàn thành nhiệm vụ",IF(AND($N20<5,O20>3),"Không hoàn thành nhiệm vụ","")))))))) -> Hoàn thành xuất sắc nhiệm vụ
A21: 11 | B21: Phạm Huy Hoàng | C21: 01009011 | D21: A3 | E21: =VLOOKUP(D21,Diem!$A$2:$B$12,2,0) -> 8 | F21: A4 | G21: =VLOOKUP(F21,Diem!$A$2:$B$12,2,0) -> 7 | H21: A3 | I21: =VLOOKUP(H21,Diem!$A$2:$B$12,2,0) -> 8 | J21: A3 | K21: =VLOOKUP(J21,Diem!$A$2:$B$12,2,0) -> 8 | L21: A4 | M21: =VLOOKUP(L21,Diem!$A$2:$B$12,2,0) -> 7 | N21: =ROUND(AVERAGE(E21,G21,I21,K21,M21),2) -> 7.6 | O21: =COUNTIF(D21:M21,"C*")*1+COUNTIF(D21:M21,"D")*2+COUNTIF(D21:M21,"E")*3 -> 0 | P21: =IF(O21>=3,"Không hoàn thành nhiệm vụ",IF(AND($N21>=8,$N21<=10,O21=0),"Hoàn thành xuất sắc nhiệm vụ",IF(AND($N21>=8,$N21<=10,O21=1),"Hoàn thành tốt nhiệm vụ",IF(AND($N21>=8,$N21<=10,O21=2),"Hoàn thành nhiệm vụ",IF(AND($N21>6,$N21<8,O21<=1),"Hoàn thành tốt nhiệm vụ",IF(AND($N21>6,$N21<8,O21=2),"Hoàn thành nhiệm vụ",IF(AND($N21>=5,$N21<=6,O21<=2),"Hoàn thành nhiệm vụ",IF(AND($N21<5,O21>3),"Không hoàn thành nhiệm vụ","")))))))) -> Hoàn thành tốt nhiệm vụ
A22: 12 | B22: Huỳnh Văn Hiếu | C22: 01009019 | D22: A3 | E22: =VLOOKUP(D22,Diem!$A$2:$B$12,2,0) -> 8 | F22: A2 | G22: =VLOOKUP(F22,Diem!$A$2:$B$12,2,0) -> 9 | H22: A2 | I22: =VLOOKUP(H22,Diem!$A$2:$B$12,2,0) -> 9 | J22: A2 | K22: =VLOOKUP(J22,Diem!$A$2:$B$12,2,0) -> 9 | L22: A2 | M22: =VLOOKUP(L22,Diem!$A$2:$B$12,2,0) -> 9 | N22: =ROUND(AVERAGE(E22,G22,I22,K22,M22),2) -> 8.8 | O22: =COUNTIF(D22:M22,"C*")*1+COUNTIF(D22:M22,"D")*2+COUNTIF(D22:M22,"E")*3 -> 0 | P22: =IF(O22>=3,"Không hoàn thành nhiệm vụ",IF(AND($N22>=8,$N22<=10,O22=0),"Hoàn thành xuất sắc nhiệm vụ",IF(AND($N22>=8,$N22<=10,O22=1),"Hoàn thành tốt nhiệm vụ",IF(AND($N22>=8,$N22<=10,O22=2),"Hoàn thành nhiệm vụ",IF(AND($N22>6,$N22<8,O22<=1),"Hoàn thành tốt nhiệm vụ",IF(AND($N22>6,$N22<8,O22=2),"Hoàn thành nhiệm vụ",IF(AND($N22>=5,$N22<=6,O22<=2),"Hoàn thành nhiệm vụ",IF(AND($N22<5,O22>3),"Không hoàn thành nhiệm vụ","")))))))) -> Hoàn thành xuất sắc nhiệm vụ
A23: 13 | B23: Trần Anh Mỹ | C23: 01009028 | D23: A4 | E23: =VLOOKUP(D23,Diem!$A$2:$B$12,2,0) -> 7 | F23: A4 | G23: =VLOOKUP(F23,Diem!$A$2:$B$12,2,0) -> 7 | H23: A4 | I23: =VLOOKUP(H23,Diem!$A$2:$B$12,2,0) -> 7 | J23: B2 | K23: =VLOOKUP(J23,Diem!$A$2:$B$12,2,0) -> 5 | L23: A4 | M23: =VLOOKUP(L23,Diem!$A$2:$B$12,2,0) -> 7 | N23: =ROUND(AVERAGE(E23,G23,I23,K23,M23),2) -> 6.6 | O23: =COUNTIF(D23:M23,"C*")*1+COUNTIF(D23:M23,"D")*2+COUNTIF(D23:M23,"E")*3 -> 0 | P23: =IF(O23>=3,"Không hoàn thành nhiệm vụ",IF(AND($N23>=8,$N23<=10,O23=0),"Hoàn thành xuất sắc nhiệm vụ",IF(AND($N23>=8,$N23<=10,O23=1),"Hoàn thành tốt nhiệm vụ",IF(AND($N23>=8,$N23<=10,O23=2),"Hoàn thành nhiệm vụ",IF(AND($N23>6,$N23<8,O23<=1),"Hoàn thành tốt nhiệm vụ",IF(AND($N23>6,$N23<8,O23=2),"Hoàn thành nhiệm vụ",IF(AND($N23>=5,$N23<=6,O23<=2),"Hoàn thành nhiệm vụ",IF(AND($N23<5,O23>3),"Không hoàn thành nhiệm vụ","")))))))) -> Hoàn thành tốt nhiệm vụ
A24: 14 | B24: Bùi Đức Phước | C24: 01009026 | D24: A2 | E24: =VLOOKUP(D24,Diem!$A$2:$B$12,2,0) -> 9 | F24: A3 | G24: =VLOOKUP(F24,Diem!$A$2:$B$12,2,0) -> 8 | H24: A3 | I24: =VLOOKUP(H24,Diem!$A$2:$B$12,2,0) -> 8 | J24: A3 | K24: =VLOOKUP(J24,Diem!$A$2:$B$12,2,0) -> 8 | L24: A1 | M24: =VLOOKUP(L24,Diem!$A$2:$B$12,2,0) -> 10 | N24: =ROUND(AVERAGE(E24,G24,I24,K24,M24),2) -> 8.6 | O24: =COUNTIF(D24:M24,"C*")*1+COUNTIF(D24:M24,"D")*2+COUNTIF(D24:M24,"E")*3 -> 0 | P24: =IF(O24>=3,"Không hoàn thành nhiệm vụ",IF(AND($N24>=8,$N24<=10,O24=0),"Hoàn thành xuất sắc nhiệm vụ",IF(AND($N24>=8,$N24<=10,O24=1),"Hoàn thành tốt nhiệm vụ",IF(AND($N24>=8,$N24<=10,O24=2),"Hoàn thành nhiệm vụ",IF(AND($N24>6,$N24<8,O24<=1),"Hoàn thành tốt nhiệm vụ",IF(AND($N24>6,$N24<8,O24=2),"Hoàn thành nhiệm vụ",IF(AND($N24>=5,$N24<=6,O24<=2),"Hoàn thành nhiệm vụ",IF(AND($N24<5,O24>3),"Không hoàn thành nhiệm vụ","")))))))) -> Hoàn thành xuất sắc nhiệm vụ
A25: 15 | B25: Nguyễn Thị Thảo | C25: 01007003 | D25: A3 | E25: =VLOOKUP(D25,Diem!$A$2:$B$12,2,0) -> 8 | F25: A4 | G25: =VLOOKUP(F25,Diem!$A$2:$B$12,2,0) -> 7 | H25: A DN | J25: A DN | L25: A DN | N25: =ROUND(AVERAGE(E25,G25,I25,K25,M25),2) -> 7.5 | O25: =COUNTIF(D25:M25,"C*")*1+COUNTIF(D25:M25,"D")*2+COUNTIF(D25:M25,"E")*3 -> 0 | P25: =IF(O25>=3,"Không hoàn thành nhiệm vụ",IF(AND($N25>=8,$N25<=10,O25=0),"Hoàn thành xuất sắc nhiệm vụ",IF(AND($N25>=8,$N25<=10,O25=1),"Hoàn thành tốt nhiệm vụ",IF(AND($N25>=8,$N25<=10,O25=2),"Hoàn thành nhiệm vụ",IF(AND($N25>6,$N25<8,O25<=1),"Hoàn thành tốt nhiệm vụ",IF(AND($N25>6,$N25<8,O25=2),"Hoàn thành nhiệm vụ",IF(AND($N25>=5,$N25<=6,O25<=2),"Hoàn thành nhiệm vụ",IF(AND($N25<5,O25>3),"Không hoàn thành nhiệm vụ","")))))))) -> Hoàn thành tốt nhiệm vụ
A26: 16 | B26: Lưu Hoàng Bảo Châu | C26: 01009029 | D26: A4 | E26: =VLOOKUP(D26,Diem!$A$2:$B$12,2,0) -> 7 | F26: A4 | G26: =VLOOKUP(F26,Diem!$A$2:$B$12,2,0) -> 7 | H26: A3 | I26: =VLOOKUP(H26,Diem!$A$2:$B$12,2,0) -> 8 | J26: A3 | K26: =VLOOKUP(J26,Diem!$A$2:$B$12,2,0) -> 8 | L26: A4 | M26: =VLOOKUP(L26,Diem!$A$2:$B$12,2,0) -> 7 | N26: =ROUND(AVERAGE(E26,G26,I26,K26,M26),2) -> 7.4 | O26: =COUNTIF(D26:M26,"C*")*1+COUNTIF(D26:M26,"D")*2+COUNTIF(D26:M26,"E")*3 -> 0 | P26: =IF(O26>=3,"Không hoàn thành nhiệm vụ",IF(AND($N26>=8,$N26<=10,O26=0),"Hoàn thành xuất sắc nhiệm vụ",IF(AND($N26>=8,$N26<=10,O26=1),"Hoàn thành tốt nhiệm vụ",IF(AND($N26>=8,$N26<=10,O26=2),"Hoàn thành nhiệm vụ",IF(AND($N26>6,$N26<8,O26<=1),"Hoàn thành tốt nhiệm vụ",IF(AND($N26>6,$N26<8,O26=2),"Hoàn thành nhiệm vụ",IF(AND($N26>=5,$N26<=6,O26<=2),"Hoàn thành nhiệm vụ",IF(AND($N26<5,O26>3),"Không hoàn thành nhiệm vụ","")))))))) -> Hoàn thành tốt nhiệm vụ
I28: Thành phố Hồ Chí Minh, ngày 24 tháng 02 năm 2023
I29: TRƯỞNG ĐƠN VỊ
I36: Lê Xuân Thiện

Sheet HK2
A1: TRƯỜNG CAO ĐẲNG LÝ TỰ TRỌNG | I1: CỘNG HÒA XÃ HỘI CHỦ NGHĨA VIỆT NAM
A2: THÀNH PHỐ HỒ CHÍ MINH | I2: Độc lập - Tự do - Hạnh phúc
A3: PHÒNG THANH TRA GIÁO DỤC - CÔNG TÁC SINH VIÊN
A5: DANH SÁCH XÉT THI ĐUA HỌC KỲ 2 NĂM HỌC 2022 - 2023
A7: TT | B7: Họ và tên | C7: Mã số E-office | D7: Tháng 02/2023 | F7: Tháng 3/2023 | H7: Tháng 4/2023 | J7: Tháng 5/2023 | L7: Tháng 6/2023 | N7: Điểm K | O7: Hệ số trừ bậc (C, D, E) | P7: Xếp loại HK2 | Q7: Ghi chú
D8: Xếp loại | E8: Điểm | F8: Xếp loại | G8: Điểm | H8: Xếp loại | I8: Điểm | J8: Xếp loại | K8: Điểm | L8: Xếp loại | M8: Điểm
B9: Viên chức
A10: 1 | B10: Lê Xuân Thiện | C10: 01002002 | D10: A2 | E10: =VLOOKUP(D10,Diem!$A$2:$B$12,2,0) -> 9 | F10: A1 | G10: =VLOOKUP(F10,Diem!$A$2:$B$12,2,0) -> 10 | H10: A1 | I10: =VLOOKUP(H10,Diem!$A$2:$B$12,2,0) -> 10 | J10: A2 | K10: =VLOOKUP(J10,Diem!$A$2:$B$12,2,0) -> 9 | M10: =VLOOKUP(L10,Diem!$A$2:$B$12,2,0) -> #N/A | N10: =ROUND(AVERAGE(E10,G10,I10,K10),1) -> 9.5 | O10: =COUNTIF(D10:M10,"C*")*1+COUNTIF(D10:M10,"D")*2+COUNTIF(D10:M10,"E")*3 -> 0 | P10: =IF(O10>=3,"Không hoàn thành nhiệm vụ",IF(AND($N10>=8,$N10<=10,O10=0),"Hoàn thành xuất sắc nhiệm vụ",IF(AND($N10>=8,$N10<=10,O10=1),"Hoàn thành tốt nhiệm vụ",IF(AND($N10>=8,$N10<=10,O10=2),"Hoàn thành nhiệm vụ",IF(AND($N10>6,$N10<8,O10<=1),"Hoàn thành tốt nhiệm vụ",IF(AND($N10>6,$N10<8,O10=2),"Hoàn thành nhiệm vụ",IF(AND($N10>=5,$N10<=6,O10<=2),"Hoàn thành nhiệm vụ",IF(AND($N10<5,O10>3),"Không hoàn thành nhiệm vụ","")))))))) -> Hoàn thành xuất sắc nhiệm vụ
A11: 2 | B11: Nguyễn Ngọc Hiệp | C11: 01009006 | D11: A2 | E11: =VLOOKUP(D11,Diem!$A$2:$B$12,2,0) -> 9 | F11: A2 | G11: =VLOOKUP(F11,Diem!$A$2:$B$12,2,0) -> 9 | H11: A2 | I11: =VLOOKUP(H11,Diem!$A$2:$B$12,2,0) -> 9 | J11: A2 | K11: =VLOOKUP(J11,Diem!$A$2:$B$12,2,0) -> 9 | M11: =VLOOKUP(L11,Diem!$A$2:$B$12,2,0) -> #N/A | N11: =ROUND(AVERAGE(E11,G11,I11,K11),1) -> 9 | P11: =IF(O11>=3,"Không hoàn thành nhiệm vụ",IF(AND($N11>=8,$N11<=10,O11=0),"Hoàn thành xuất sắc nhiệm vụ",IF(AND($N11>=8,$N11<=10,O11=1),"Hoàn thành tốt nhiệm vụ",IF(AND($N11>=8,$N11<=10,O11=2),"Hoàn thành nhiệm vụ",IF(AND($N11>6,$N11<8,O11<=1),"Hoàn thành tốt nhiệm vụ",IF(AND($N11>6,$N11<8,O11=2),"Hoàn thành nhiệm vụ",IF(AND($N11>=5,$N11<=6,O11<=2),"Hoàn thành nhiệm vụ",IF(AND($N11<5,O11>3),"Không hoàn thành nhiệm vụ","")))))))) -> Hoàn thành xuất sắc nhiệm vụ
A12: 3 | B12: Nguyễn Thị Kim Anh | C12: 01009018 | D12: A1 | E12: =VLOOKUP(D12,Diem!$A$2:$B$12,2,0) -> 10 | F12: A3 | G12: =VLOOKUP(F12,Diem!$A$2:$B$12,2,0) -> 8 | H12: B1 | I12: =VLOOKUP(H12,Diem!$A$2:$B$12,2,0) -> 6 | J12: A3 | K12: =VLOOKUP(J12,Diem!$A$2:$B$12,2,0) -> 8 | M12: =VLOOKUP(L12,Diem!$A$2:$B$12,2,0) -> #N/A | N12: =ROUND(AVERAGE(E12,G12,I12,K12),1) -> 8 | P12: =IF(O12>=3,"Không hoàn thành nhiệm vụ",IF(AND($N12>=8,$N12<=10,O12=0),"Hoàn thành xuất sắc nhiệm vụ",IF(AND($N12>=8,$N12<=10,O12=1),"Hoàn thành tốt nhiệm vụ",IF(AND($N12>=8,$N12<=10,O12=2),"Hoàn thành nhiệm vụ",IF(AND($N12>6,$N12<8,O12<=1),"Hoàn thành tốt nhiệm vụ",IF(AND($N12>6,$N12<8,O12=2),"Hoàn thành nhiệm vụ",IF(AND($N12>=5,$N12<=6,O12<=2),"Hoàn thành nhiệm vụ",IF(AND($N12<5,O12>3),"Không hoàn thành nhiệm vụ","")))))))) -> Hoàn thành xuất sắc nhiệm vụ
A13: 4 | B13: Phạm Thị Lê Chi | C13: 01009010 | D13: A3 | E13: =VLOOKUP(D13,Diem!$A$2:$B$12,2,0) -> 8 | F13: A3 | G13: =VLOOKUP(F13,Diem!$A$2:$B$12,2,0) -> 8 | H13: A3 | I13: =VLOOKUP(H13,Diem!$A$2:$B$12,2,0) -> 8 | J13: A3 | K13: =VLOOKUP(J13,Diem!$A$2:$B$12,2,0) -> 8 | M13: =VLOOKUP(L13,Diem!$A$2:$B$12,2,0) -> #N/A | N13: =ROUND(AVERAGE(E13,G13,I13,K13),1) -> 8 | P13: =IF(O13>=3,"Không hoàn thành nhiệm vụ",IF(AND($N13>=8,$N13<=10,O13=0),"Hoàn thành xuất sắc nhiệm vụ",IF(AND($N13>=8,$N13<=10,O13=1),"Hoàn thành tốt nhiệm vụ",IF(AND($N13>=8,$N13<=10,O13=2),"Hoàn thành nhiệm vụ",IF(AND($N13>6,$N13<8,O13<=1),"Hoàn thành tốt nhiệm vụ",IF(AND($N13>6,$N13<8,O13=2),"Hoàn thành nhiệm vụ",IF(AND($N13>=5,$N13<=6,O13<=2),"Hoàn thành nhiệm vụ",IF(AND($N13<5,O13>3),"Không hoàn thành nhiệm vụ","")))))))) -> Hoàn thành xuất sắc nhiệm vụ
A14: 5 | B14: Trần Thị Thu Hà | C14: 01002004 | D14: A1 | E14: =VLOOKUP(D14,Diem!$A$2:$B$12,2,0) -> 10 | F14: A2 | G14: =VLOOKUP(F14,Diem!$A$2:$B$12,2,0) -> 9 | H14: A2 | I14: =VLOOKUP(H14,Diem!$A$2:$B$12,2,0) -> 9 | J14: A2 | K14: =VLOOKUP(J14,Diem!$A$2:$B$12,2,0) -> 9 | M14: =VLOOKUP(L14,Diem!$A$2:$B$12,2,0) -> #N/A | N14: =ROUND(AVERAGE(E14,G14,I14,K14),1) -> 9.3 | P14: =IF(O14>=3,"Không hoàn thành nhiệm vụ",IF(AND($N14>=8,$N14<=10,O14=0),"Hoàn thành xuất sắc nhiệm vụ",IF(AND($N14>=8,$N14<=10,O14=1),"Hoàn thành tốt nhiệm vụ",IF(AND($N14>=8,$N14<=10,O14=2),"Hoàn thành nhiệm vụ",IF(AND($N14>6,$N14<8,O14<=1),"Hoàn thành tốt nhiệm vụ",IF(AND($N14>6,$N14<8,O14=2),"Hoàn thành nhiệm vụ",IF(AND($N14>=5,$N14<=6,O14<=2),"Hoàn thành nhiệm vụ",IF(AND($N14<5,O14>3),"Không hoàn thành nhiệm vụ","")))))))) -> Hoàn thành xuất sắc nhiệm vụ
A15: 6 | B15: Nguyễn Tất Thắng | C15: 01009008 | D15: A3 | E15: =VLOOKUP(D15,Diem!$A$2:$B$12,2,0) -> 8 | F15: A3 | G15: =VLOOKUP(F15,Diem!$A$2:$B$12,2,0) -> 8 | H15: A2 | I15: =VLOOKUP(H15,Diem!$A$2:$B$12,2,0) -> 9 | J15: A3 | K15: =VLOOKUP(J15,Diem!$A$2:$B$12,2,0) -> 8 | M15: =VLOOKUP(L15,Diem!$A$2:$B$12,2,0) -> #N/A | N15: =ROUND(AVERAGE(E15,G15,I15,K15),1) -> 8.3 | P15: =IF(O15>=3,"Không hoàn thành nhiệm vụ",IF(AND($N15>=8,$N15<=10,O15=0),"Hoàn thành xuất sắc nhiệm vụ",IF(AND($N15>=8,$N15<=10,O15=1),"Hoàn thành tốt nhiệm vụ",IF(AND($N15>=8,$N15<=10,O15=2),"Hoàn thành nhiệm vụ",IF(AND($N15>6,$N15<8,O15<=1),"Hoàn thành tốt nhiệm vụ",IF(AND($N15>6,$N15<8,O15=2),"Hoàn thành nhiệm vụ",IF(AND($N15>=5,$N15<=6,O15<=2),"Hoàn thành nhiệm vụ",IF(AND($N15<5,O15>3),"Không hoàn thành nhiệm vụ","")))))))) -> Hoàn thành xuất sắc nhiệm vụ
A16: 7 | B16: Nguyễn Thị Ngọc Anh | C16: 01022058 | D16: A2 | E16: =VLOOKUP(D16,Diem!$A$2:$B$12,2,0) -> 9 | F16: A3 | G16: =VLOOKUP(F16,Diem!$A$2:$B$12,2,0) -> 8 | H16: A2 | I16: =VLOOKUP(H16,Diem!$A$2:$B$12,2,0) -> 9 | J16: A4 | K16: =VLOOKUP(J16,Diem!$A$2:$B$12,2,0) -> 7 | M16: =VLOOKUP(L16,Diem!$A$2:$B$12,2,0) -> #N/A | N16: =ROUND(AVERAGE(E16,G16,I16,K16),1) -> 8.3 | P16: =IF(O16>=3,"Không hoàn thành nhiệm vụ",IF(AND($N16>=8,$N16<=10,O16=0),"Hoàn thành xuất sắc nhiệm vụ",IF(AND($N16>=8,$N16<=10,O16=1),"Hoàn thành tốt nhiệm vụ",IF(AND($N16>=8,$N16<=10,O16=2),"Hoàn thành nhiệm vụ",IF(AND($N16>6,$N16<8,O16<=1),"Hoàn thành tốt nhiệm vụ",IF(AND($N16>6,$N16<8,O16=2),"Hoàn thành nhiệm vụ",IF(AND($N16>=5,$N16<=6,O16<=2),"Hoàn thành nhiệm vụ",IF(AND($N16<5,O16>3),"Không hoàn thành nhiệm vụ","")))))))) -> Hoàn thành xuất sắc nhiệm vụ
A17: 8 | B17: Mai Thu Hương | C17: 01007004 | D17: A3 | E17: =VLOOKUP(D17,Diem!$A$2:$B$12,2,0) -> 8 | F17: A3 | G17: =VLOOKUP(F17,Diem!$A$2:$B$12,2,0) -> 8 | H17: A3 | I17: =VLOOKUP(H17,Diem!$A$2:$B$12,2,0) -> 8 | J17: A3 | K17: =VLOOKUP(J17,Diem!$A$2:$B$12,2,0) -> 8 | M17: =VLOOKUP(L17,Diem!$A$2:$B$12,2,0) -> #N/A | N17: =ROUND(AVERAGE(E17,G17,I17,K17),1) -> 8 | P17: =IF(O17>=3,"Không hoàn thành nhiệm vụ",IF(AND($N17>=8,$N17<=10,O17=0),"Hoàn thành xuất sắc nhiệm vụ",IF(AND($N17>=8,$N17<=10,O17=1),"Hoàn thành tốt nhiệm vụ",IF(AND($N17>=8,$N17<=10,O17=2),"Hoàn thành nhiệm vụ",IF(AND($N17>6,$N17<8,O17<=1),"Hoàn thành tốt nhiệm vụ",IF(AND($N17>6,$N17<8,O17=2),"Hoàn thành nhiệm vụ",IF(AND($N17>=5,$N17<=6,O17<=2),"Hoàn thành nhiệm vụ",IF(AND($N17<5,O17>3),"Không hoàn thành nhiệm vụ","")))))))) -> Hoàn thành xuất sắc nhiệm vụ
B18: Hợp đồng trường
A19: 09 | B19: Lê Thị Nữ | C19: 01009012 | D19: A2 | E19: =VLOOKUP(D19,Diem!$A$2:$B$12,2,0) -> 9 | F19: A2 | G19: =VLOOKUP(F19,Diem!$A$2:$B$12,2,0) -> 9 | H19: A3 | I19: =VLOOKUP(H19,Diem!$A$2:$B$12,2,0) -> 8 | J19: A3 | K19: =VLOOKUP(J19,Diem!$A$2:$B$12,2,0) -> 8 | M19: =VLOOKUP(L19,Diem!$A$2:$B$12,2,0) -> #N/A | N19: =ROUND(AVERAGE(E19,G19,I19,K19),1) -> 8.5 | O19: =COUNTIF(D19:M19,"C*")*1+COUNTIF(D19:M19,"D")*2+COUNTIF(D19:M19,"E")*3 -> 0 | P19: =IF(O19>=3,"Không hoàn thành nhiệm vụ",IF(AND($N19>=8,$N19<=10,O19=0),"Hoàn thành xuất sắc nhiệm vụ",IF(AND($N19>=8,$N19<=10,O19=1),"Hoàn thành tốt nhiệm vụ",IF(AND($N19>=8,$N19<=10,O19=2),"Hoàn thành nhiệm vụ",IF(AND($N19>6,$N19<8,O19<=1),"Hoàn thành tốt nhiệm vụ",IF(AND($N19>6,$N19<8,O19=2),"Hoàn thành nhiệm vụ",IF(AND($N19>=5,$N19<=6,O19<=2),"Hoàn thành nhiệm vụ",IF(AND($N19<5,O19>3),"Không hoàn thành nhiệm vụ","")))))))) -> Hoàn thành xuất sắc nhiệm vụ
A20: 10 | B20: Nguyễn Trung Dũng | C20: 01002008 | D20: A3 | E20: =VLOOKUP(D20,Diem!$A$2:$B$12,2,0) -> 8 | F20: A3 | G20: =VLOOKUP(F20,Diem!$A$2:$B$12,2,0) -> 8 | H20: A2 | I20: =VLOOKUP(H20,Diem!$A$2:$B$12,2,0) -> 9 | J20: A3 | K20: =VLOOKUP(J20,Diem!$A$2:$B$12,2,0) -> 8 | M20: =VLOOKUP(L20,Diem!$A$2:$B$12,2,0) -> #N/A | N20: =ROUND(AVERAGE(E20,G20,I20,K20),1) -> 8.3 | O20: =COUNTIF(D20:M20,"C*")*1+COUNTIF(D20:M20,"D")*2+COUNTIF(D20:M20,"E")*3 -> 0 | P20: =IF(O20>=3,"Không hoàn thành nhiệm vụ",IF(AND($N20>=8,$N20<=10,O20=0),"Hoàn thành xuất sắc nhiệm vụ",IF(AND($N20>=8,$N20<=10,O20=1),"Hoàn thành tốt nhiệm vụ",IF(AND($N20>=8,$N20<=10,O20=2),"Hoàn thành nhiệm vụ",IF(AND($N20>6,$N20<8,O20<=1),"Hoàn thành tốt nhiệm vụ",IF(AND($N20>6,$N20<8,O20=2),"Hoàn thành nhiệm vụ",IF(AND($N20>=5,$N20<=6,O20<=2),"Hoàn thành nhiệm vụ",IF(AND($N20<5,O20>3),"Không hoàn thành nhiệm vụ","")))))))) -> Hoàn thành xuất sắc nhiệm vụ
A21: 11 | B21: Phạm Huy Hoàng | C21: 01009011 | D21: A2 | E21: =VLOOKUP(D21,Diem!$A$2:$B$12,2,0) -> 9 | F21: A2 | G21: =VLOOKUP(F21,Diem!$A$2:$B$12,2,0) -> 9 | H21: A3 | I21: =VLOOKUP(H21,Diem!$A$2:$B$12,2,0) -> 8 | J21: A3 | K21: =VLOOKUP(J21,Diem!$A$2:$B$12,2,0) -> 8 | M21: =VLOOKUP(L21,Diem!$A$2:$B$12,2,0) -> #N/A | N21: =ROUND(AVERAGE(E21,G21,I21,K21),1) -> 8.5 | O21: =COUNTIF(D21:M21,"C*")*1+COUNTIF(D21:M21,"D")*2+COUNTIF(D21:M21,"E")*3 -> 0 | P21: =IF(O21>=3,"Không hoàn thành nhiệm vụ",IF(AND($N21>=8,$N21<=10,O21=0),"Hoàn thành xuất sắc nhiệm vụ",IF(AND($N21>=8,$N21<=10,O21=1),"Hoàn thành tốt nhiệm vụ",IF(AND($N21>=8,$N21<=10,O21=2),"Hoàn thành nhiệm vụ",IF(AND($N21>6,$N21<8,O21<=1),"Hoàn thành tốt nhiệm vụ",IF(AND($N21>6,$N21<8,O21=2),"Hoàn thành nhiệm vụ",IF(AND($N21>=5,$N21<=6,O21<=2),"Hoàn thành nhiệm vụ",IF(AND($N21<5,O21>3),"Không hoàn thành nhiệm vụ","")))))))) -> Hoàn thành xuất sắc nhiệm vụ
A22: 12 | B22: Huỳnh Văn Hiếu | C22: 01009019 | D22: A2 | E22: =VLOOKUP(D22,Diem!$A$2:$B$12,2,0) -> 9 | F22: A2 | G22: =VLOOKUP(F22,Diem!$A$2:$B$12,2,0) -> 9 | H22: A2 | I22: =VLOOKUP(H22,Diem!$A$2:$B$12,2,0) -> 9 | J22: A3 | K22: =VLOOKUP(J22,Diem!$A$2:$B$12,2,0) -> 8 | M22: =VLOOKUP(L22,Diem!$A$2:$B$12,2,0) -> #N/A | N22: =ROUND(AVERAGE(E22,G22,I22,K22),1) -> 8.8 | O22: =COUNTIF(D22:M22,"C*")*1+COUNTIF(D22:M22,"D")*2+COUNTIF(D22:M22,"E")*3 -> 0 | P22: =IF(O22>=3,"Không hoàn thành nhiệm vụ",IF(AND($N22>=8,$N22<=10,O22=0),"Hoàn thành xuất sắc nhiệm vụ",IF(AND($N22>=8,$N22<=10,O22=1),"Hoàn thành tốt nhiệm vụ",IF(AND($N22>=8,$N22<=10,O22=2),"Hoàn thành nhiệm vụ",IF(AND($N22>6,$N22<8,O22<=1),"Hoàn thành tốt nhiệm vụ",IF(AND($N22>6,$N22<8,O22=2),"Hoàn thành nhiệm vụ",IF(AND($N22>=5,$N22<=6,O22<=2),"Hoàn thành nhiệm vụ",IF(AND($N22<5,O22>3),"Không hoàn thành nhiệm vụ","")))))))) -> Hoàn thành xuất sắc nhiệm vụ
A23: 13 | B23: Trần Anh Mỹ | C23: 01009028 | D23: A3 | E23: =VLOOKUP(D23,Diem!$A$2:$B$12,2,0) -> 8 | F23: A3 | G23: =VLOOKUP(F23,Diem!$A$2:$B$12,2,0) -> 8 | H23: B2 | I23: =VLOOKUP(H23,Diem!$A$2:$B$12,2,0) -> 5 | J23: A4 | K23: =VLOOKUP(J23,Diem!$A$2:$B$12,2,0) -> 7 | M23: =VLOOKUP(L23,Diem!$A$2:$B$12,2,0) -> #N/A | N23: =ROUND(AVERAGE(E23,G23,I23,K23),1) -> 7 | O23: =COUNTIF(D23:M23,"C*")*1+COUNTIF(D23:M23,"D")*2+COUNTIF(D23:M23,"E")*3 -> 0 | P23: =IF(O23>=3,"Không hoàn thành nhiệm vụ",IF(AND($N23>=8,$N23<=10,O23=0),"Hoàn thành xuất sắc nhiệm vụ",IF(AND($N23>=8,$N23<=10,O23=1),"Hoàn thành tốt nhiệm vụ",IF(AND($N23>=8,$N23<=10,O23=2),"Hoàn thành nhiệm vụ",IF(AND($N23>6,$N23<8,O23<=1),"Hoàn thành tốt nhiệm vụ",IF(AND($N23>6,$N23<8,O23=2),"Hoàn thành nhiệm vụ",IF(AND($N23>=5,$N23<=6,O23<=2),"Hoàn thành nhiệm vụ",IF(AND($N23<5,O23>3),"Không hoàn thành nhiệm vụ","")))))))) -> Hoàn thành tốt nhiệm vụ
A24: 14 | B24: Bùi Đức Phước | C24: 01009026 | D24: A1 | E24: =VLOOKUP(D24,Diem!$A$2:$B$12,2,0) -> 10 | F24: A1 | G24: =VLOOKUP(F24,Diem!$A$2:$B$12,2,0) -> 10 | H24: A2 | I24: =VLOOKUP(H24,Diem!$A$2:$B$12,2,0) -> 9 | J24: A2 | K24: =VLOOKUP(J24,Diem!$A$2:$B$12,2,0) -> 9 | M24: =VLOOKUP(L24,Diem!$A$2:$B$12,2,0) -> #N/A | N24: =ROUND(AVERAGE(E24,G24,I24,K24),1) -> 9.5 | O24: =COUNTIF(D24:M24,"C*")*1+COUNTIF(D24:M24,"D")*2+COUNTIF(D24:M24,"E")*3 -> 0 | P24: =IF(O24>=3,"Không hoàn thành nhiệm vụ",IF(AND($N24>=8,$N24<=10,O24=0),"Hoàn thành xuất sắc nhiệm vụ",IF(AND($N24>=8,$N24<=10,O24=1),"Hoàn thành tốt nhiệm vụ",IF(AND($N24>=8,$N24<=10,O24=2),"Hoàn thành nhiệm vụ",IF(AND($N24>6,$N24<8,O24<=1),"Hoàn thành tốt nhiệm vụ",IF(AND($N24>6,$N24<8,O24=2),"Hoàn thành nhiệm vụ",IF(AND($N24>=5,$N24<=6,O24<=2),"Hoàn thành nhiệm vụ",IF(AND($N24<5,O24>3),"Không hoàn thành nhiệm vụ","")))))))) -> Hoàn thành xuất sắc nhiệm vụ
A25: 15 | B25: Nguyễn Thị Thảo | C25: 01007003 | D25: A DN | F25: A DN | H25: A4 | I25: =VLOOKUP(H25,Diem!$A$2:$B$12,2,0) -> 7 | J25: A4 | K25: =VLOOKUP(J25,Diem!$A$2:$B$12,2,0) -> 7 | M25: =VLOOKUP(L25,Diem!$A$2:$B$12,2,0) -> #N/A | N25: =ROUND(AVERAGE(K25),1) -> 7 | O25: =COUNTIF(D25:M25,"C*")*1+COUNTIF(D25:M25,"D")*2+COUNTIF(D25:M25,"E")*3 -> 0 | P25: =IF(O25>=3,"Không hoàn thành nhiệm vụ",IF(AND($N25>=8,$N25<=10,O25=0),"Hoàn thành xuất sắc nhiệm vụ",IF(AND($N25>=8,$N25<=10,O25=1),"Hoàn thành tốt nhiệm vụ",IF(AND($N25>=8,$N25<=10,O25=2),"Hoàn thành nhiệm vụ",IF(AND($N25>6,$N25<8,O25<=1),"Hoàn thành tốt nhiệm vụ",IF(AND($N25>6,$N25<8,O25=2),"Hoàn thành nhiệm vụ",IF(AND($N25>=5,$N25<=6,O25<=2),"Hoàn thành nhiệm vụ",IF(AND($N25<5,O25>3),"Không hoàn thành nhiệm vụ","")))))))) -> Hoàn thành tốt nhiệm vụ | Q25: Nghỉ thai sản từ ngày 12/10/2022 đến hết ngày 11/04/2023. HK1 đã tính tháng 10/2022 nên trừ 6 tháng nghỉ hộ sản thì HK2 chỉ tính tháng 5/2023
A26: 16 | B26: Lưu Hoàng Bảo Châu | C26: 01009029 | D26: A3 | E26: =VLOOKUP(D26,Diem!$A$2:$B$12,2,0) -> 8 | F26: A3 | G26: =VLOOKUP(F26,Diem!$A$2:$B$12,2,0) -> 8 | H26: A4 | I26: =VLOOKUP(H26,Diem!$A$2:$B$12,2,0) -> 7 | J26: A4 | K26: =VLOOKUP(J26,Diem!$A$2:$B$12,2,0) -> 7 | M26: =VLOOKUP(L26,Diem!$A$2:$B$12,2,0) -> #N/A | N26: =ROUND(AVERAGE(E26,G26,I26,K26),1) -> 7.5 | O26: =COUNTIF(D26:M26,"C*")*1+COUNTIF(D26:M26,"D")*2+COUNTIF(D26:M26,"E")*3 -> 0 | P26: =IF(O26>=3,"Không hoàn thành nhiệm vụ",IF(AND($N26>=8,$N26<=10,O26=0),"Hoàn thành xuất sắc nhiệm vụ",IF(AND($N26>=8,$N26<=10,O26=1),"Hoàn thành tốt nhiệm vụ",IF(AND($N26>=8,$N26<=10,O26=2),"Hoàn thành nhiệm vụ",IF(AND($N26>6,$N26<8,O26<=1),"Hoàn thành tốt nhiệm vụ",IF(AND($N26>6,$N26<8,O26=2),"Hoàn thành nhiệm vụ",IF(AND($N26>=5,$N26<=6,O26<=2),"Hoàn thành nhiệm vụ",IF(AND($N26<5,O26>3),"Không hoàn thành nhiệm vụ","")))))))) -> Hoàn thành tốt nhiệm vụ
A27: 17 | B27: Trần Việt Anh | C27: 01002038 | D27: B1 | E27: =VLOOKUP(D27,Diem!$A$2:$B$12,2,0) -> 6 | F27: A4 | G27: =VLOOKUP(F27,Diem!$A$2:$B$12,2,0) -> 7 | H27: A4 | I27: =VLOOKUP(H27,Diem!$A$2:$B$12,2,0) -> 7 | J27: A4 | K27: =VLOOKUP(J27,Diem!$A$2:$B$12,2,0) -> 7 | M27: =VLOOKUP(L27,Diem!$A$2:$B$12,2,0) -> #N/A | N27: =ROUND(AVERAGE(E27,G27,I27,K27),1) -> 6.8 | O27: =COUNTIF(D27:M27,"C*")*1+COUNTIF(D27:M27,"D")*2+COUNTIF(D27:M27,"E")*3 -> 0 | P27: =IF(O27>=3,"Không hoàn thành nhiệm vụ",IF(AND($N27>=8,$N27<=10,O27=0),"Hoàn thành xuất sắc nhiệm vụ",IF(AND($N27>=8,$N27<=10,O27=1),"Hoàn thành tốt nhiệm vụ",IF(AND($N27>=8,$N27<=10,O27=2),"Hoàn thành nhiệm vụ",IF(AND($N27>6,$N27<8,O27<=1),"Hoàn thành tốt nhiệm vụ",IF(AND($N27>6,$N27<8,O27=2),"Hoàn thành nhiệm vụ",IF(AND($N27>=5,$N27<=6,O27<=2),"Hoàn thành nhiệm vụ",IF(AND($N27<5,O27>3),"Không hoàn thành nhiệm vụ","")))))))) -> Hoàn thành tốt nhiệm vụ
I29: Thành phố Hồ Chí Minh, ngày 22 tháng 5 năm 2023
I30: TRƯỞNG ĐƠN VỊ
I37: Lê Xuân Thiện

Sheet NH
A1: TRƯỜNG CAO ĐẲNG LÝ TỰ TRỌNG | H1: CỘNG HÒA XÃ HỘI CHỦ NGHĨA VIỆT NAM
A2: THÀNH PHỐ HỒ CHÍ MINH | H2: Độc lập - Tự do - Hạnh phúc
A3: PHÒNG THANH TRA GIÁO DỤC - CÔNG TÁC SINH VIÊN
A5: DANH SÁCH XÉT THI ĐUA NĂM HỌC 2022 - 2023
A7: TT | B7: Họ tên | C7: Mã số E-office | D7: Học kỳ 1 | F7: Học kỳ 2 | H7: Cả năm | J7: Danh hiệu | K7: GHI CHÚ
D8: Điểm K | E8: Xếp loại | F8: Điểm K | G8: Xếp loại | H8: Điểm X | I8: Xếp loại
B9: Viên chức
A10: 1 | B10: Lê Xuân Thiện | C10: 01002002 | D10: ='HK1'!N10 -> 10 | E10: =IF(AND(8<=D10,D10<=10),"Hoàn thành xuất sắc nhiệm vụ",IF(AND(6<D10,D10<8),"Hoàn thành tốt nhiệm vụ",IF(AND(5<D10,D10<6),"Hoàn thành nhiệm vụ","Không hoàn thành nhiệm vụ"))) -> Hoàn thành xuất sắc nhiệm vụ | F10: ='HK2'!N10 -> 9.5 | G10: =IF(AND(8<=F10,F10<=10),"Hoàn thành xuất sắc nhiệm vụ",IF(AND(6<F10,F10<8),"Hoàn thành tốt nhiệm vụ",IF(AND(5<F10,F10<6),"Hoàn thành nhiệm vụ","Không hoàn thành nhiệm vụ"))) -> Hoàn thành xuất sắc nhiệm vụ | H10: =ROUND(AVERAGE(D10,F10),1) -> 9.8 | I10: =IF(AND(8<=$H10,$H10<=10),"Hoàn thành xuất sắc nhiệm vụ",IF(AND(6<$H10,$H10<8),"Hoàn thành tốt nhiệm vụ",IF(AND(5<$H10,$H10<6),"Hoàn thành nhiệm vụ","Không hoàn thành nhiệm vụ"))) -> Hoàn thành xuất sắc nhiệm vụ | J10: =IF(G10="Hoàn thành nhiệm vụ","Không đạt LĐTT",IF(OR(I10="Hoàn thành xuất sắc nhiệm vụ",I10="Hoàn thành tốt nhiệm vụ"),"Đạt LĐTT","Không đạt LĐTT")) -> Đạt LĐTT
A11: 2 | B11: Nguyễn Ngọc Hiệp | C11: 01009006 | D11: ='HK1'!N11 -> 9.2 | E11: =IF(AND(8<=D11,D11<=10),"Hoàn thành xuất sắc nhiệm vụ",IF(AND(6<D11,D11<8),"Hoàn thành tốt nhiệm vụ",IF(AND(5<D11,D11<6),"Hoàn thành nhiệm vụ","Không hoàn thành nhiệm vụ"))) -> Hoàn thành xuất sắc nhiệm vụ | F11: ='HK2'!N11 -> 9 | G11: =IF(AND(8<=F11,F11<=10),"Hoàn thành xuất sắc nhiệm vụ",IF(AND(6<F11,F11<8),"Hoàn thành tốt nhiệm vụ",IF(AND(5<F11,F11<6),"Hoàn thành nhiệm vụ","Không hoàn thành nhiệm vụ"))) -> Hoàn thành xuất sắc nhiệm vụ | H11: =ROUND(AVERAGE(D11,F11),1) -> 9.1 | I11: =IF(AND(8<=$H11,$H11<=10),"Hoàn thành xuất sắc nhiệm vụ",IF(AND(6<$H11,$H11<8),"Hoàn thành tốt nhiệm vụ",IF(AND(5<$H11,$H11<6),"Hoàn thành nhiệm vụ","Không hoàn thành nhiệm vụ"))) -> Hoàn thành xuất sắc nhiệm vụ | J11: =IF(G11="Hoàn thành nhiệm vụ","Không đạt LĐTT",IF(OR(I11="Hoàn thành xuất sắc nhiệm vụ",I11="Hoàn thành tốt nhiệm vụ"),"Đạt LĐTT","Không đạt LĐTT")) -> Đạt LĐTT
A12: 3 | B12: Nguyễn Thị Kim Anh | C12: 01009018 | D12: ='HK1'!N12 -> 8.4 | E12: =IF(AND(8<=D12,D12<=10),"Hoàn thành xuất sắc nhiệm vụ",IF(AND(6<D12,D12<8),"Hoàn thành tốt nhiệm vụ",IF(AND(5<D12,D12<6),"Hoàn thành nhiệm vụ","Không hoàn thành nhiệm vụ"))) -> Hoàn thành xuất sắc nhiệm vụ | F12: ='HK2'!N12 -> 8 | G12: =IF(AND(8<=F12,F12<=10),"Hoàn thành xuất sắc nhiệm vụ",IF(AND(6<F12,F12<8),"Hoàn thành tốt nhiệm vụ",IF(AND(5<F12,F12<6),"Hoàn thành nhiệm vụ","Không hoàn thành nhiệm vụ"))) -> Hoàn thành xuất sắc nhiệm vụ | H12: =ROUND(AVERAGE(D12,F12),1) -> 8.2 | I12: =IF(AND(8<=$H12,$H12<=10),"Hoàn thành xuất sắc nhiệm vụ",IF(AND(6<$H12,$H12<8),"Hoàn thành tốt nhiệm vụ",IF(AND(5<$H12,$H12<6),"Hoàn thành nhiệm vụ","Không hoàn thành nhiệm vụ"))) -> Hoàn thành xuất sắc nhiệm vụ | J12: =IF(G12="Hoàn thành nhiệm vụ","Không đạt LĐTT",IF(OR(I12="Hoàn thành xuất sắc nhiệm vụ",I12="Hoàn thành tốt nhiệm vụ"),"Đạt LĐTT","Không đạt LĐTT")) -> Đạt LĐTT
A13: 4 | B13: Phạm Thị Lê Chi | C13: 01009010 | D13: ='HK1'!N13 -> 7.8 | E13: =IF(AND(8<=D13,D13<=10),"Hoàn thành xuất sắc nhiệm vụ",IF(AND(6<D13,D13<8),"Hoàn thành tốt nhiệm vụ",IF(AND(5<D13,D13<6),"Hoàn thành nhiệm vụ","Không hoàn thành nhiệm vụ"))) -> Hoàn thành tốt nhiệm vụ | F13: ='HK2'!N13 -> 8 | G13: =IF(AND(8<=F13,F13<=10),"Hoàn thành xuất sắc nhiệm vụ",IF(AND(6<F13,F13<8),"Hoàn thành tốt nhiệm vụ",IF(AND(5<F13,F13<6),"Hoàn thành nhiệm vụ","Không hoàn thành nhiệm vụ"))) -> Hoàn thành xuất sắc nhiệm vụ | H13: =ROUND(AVERAGE(D13,F13),1) -> 7.9 | I13: =IF(AND(8<=$H13,$H13<=10),"Hoàn thành xuất sắc nhiệm vụ",IF(AND(6<$H13,$H13<8),"Hoàn thành tốt nhiệm vụ",IF(AND(5<$H13,$H13<6),"Hoàn thành nhiệm vụ","Không hoàn thành nhiệm vụ"))) -> Hoàn thành tốt nhiệm vụ | J13: =IF(G13="Hoàn thành nhiệm vụ","Không đạt LĐTT",IF(OR(I13="Hoàn thành xuất sắc nhiệm vụ",I13="Hoàn thành tốt nhiệm vụ"),"Đạt LĐTT","Không đạt LĐTT")) -> Đạt LĐTT
A14: 5 | B14: Trần Thị Thu Hà | C14: 01002004 | D14: ='HK1'!N14 -> 9.6 | E14: =IF(AND(8<=D14,D14<=10),"Hoàn thành xuất sắc nhiệm vụ",IF(AND(6<D14,D14<8),"Hoàn thành tốt nhiệm vụ",IF(AND(5<D14,D14<6),"Hoàn thành nhiệm vụ","Không hoàn thành nhiệm vụ"))) -> Hoàn thành xuất sắc nhiệm vụ | F14: ='HK2'!N14 -> 9.3 | G14: =IF(AND(8<=F14,F14<=10),"Hoàn thành xuất sắc nhiệm vụ",IF(AND(6<F14,F14<8),"Hoàn thành tốt nhiệm vụ",IF(AND(5<F14,F14<6),"Hoàn thành nhiệm vụ","Không hoàn thành nhiệm vụ"))) -> Hoàn thành xuất sắc nhiệm vụ | H14: =ROUND(AVERAGE(D14,F14),1) -> 9.5 | I14: =IF(AND(8<=$H14,$H14<=10),"Hoàn thành xuất sắc nhiệm vụ",IF(AND(6<$H14,$H14<8),"Hoàn thành tốt nhiệm vụ",IF(AND(5<$H14,$H14<6),"Hoàn thành nhiệm vụ","Không hoàn thành nhiệm vụ"))) -> Hoàn thành xuất sắc nhiệm vụ | J14: =IF(G14="Hoàn thành nhiệm vụ","Không đạt LĐTT",IF(OR(I14="Hoàn thành xuất sắc nhiệm vụ",I14="Hoàn thành tốt nhiệm vụ"),"Đạt LĐTT","Không đạt LĐTT")) -> Đạt LĐTT
A15: 6 | B15: Nguyễn Tất Thắng | C15: 01009008 | D15: ='HK1'!N15 -> 7.8 | E15: =IF(AND(8<=D15,D15<=10),"Hoàn thành xuất sắc nhiệm vụ",IF(AND(6<D15,D15<8),"Hoàn thành tốt nhiệm vụ",IF(AND(5<D15,D15<6),"Hoàn thành nhiệm vụ","Không hoàn thành nhiệm vụ"))) -> Hoàn thành tốt nhiệm vụ | F15: ='HK2'!N15 -> 8.3 | G15: =IF(AND(8<=F15,F15<=10),"Hoàn thành xuất sắc nhiệm vụ",IF(AND(6<F15,F15<8),"Hoàn thành tốt nhiệm vụ",IF(AND(5<F15,F15<6),"Hoàn thành nhiệm vụ","Không hoàn thành nhiệm vụ"))) -> Hoàn thành xuất sắc nhiệm vụ | H15: =ROUND(AVERAGE(D15,F15),1) -> 8.1 | I15: =IF(AND(8<=$H15,$H15<=10),"Hoàn thành xuất sắc nhiệm vụ",IF(AND(6<$H15,$H15<8),"Hoàn thành tốt nhiệm vụ",IF(AND(5<$H15,$H15<6),"Hoàn thành nhiệm vụ","Không hoàn thành nhiệm vụ"))) -> Hoàn thành xuất sắc nhiệm vụ | J15: =IF(G15="Hoàn thành nhiệm vụ","Không đạt LĐTT",IF(OR(I15="Hoàn thành xuất sắc nhiệm vụ",I15="Hoàn thành tốt nhiệm vụ"),"Đạt LĐTT","Không đạt LĐTT")) -> Đạt LĐTT
A16: 7 | B16: Nguyễn Thị Ngọc Anh | C16: 01022058 | D16: ='HK1'!N16 -> 7.8 | E16: =IF(AND(8<=D16,D16<=10),"Hoàn thành xuất sắc nhiệm vụ",IF(AND(6<D16,D16<8),"Hoàn thành tốt nhiệm vụ",IF(AND(5<D16,D16<6),"Hoàn thành nhiệm vụ","Không hoàn thành nhiệm vụ"))) -> Hoàn thành tốt nhiệm vụ | F16: ='HK2'!N16 -> 8.3 | G16: =IF(AND(8<=F16,F16<=10),"Hoàn thành xuất sắc nhiệm vụ",IF(AND(6<F16,F16<8),"Hoàn thành tốt nhiệm vụ",IF(AND(5<F16,F16<6),"Hoàn thành nhiệm vụ","Không hoàn thành nhiệm vụ"))) -> Hoàn thành xuất sắc nhiệm vụ | H16: =ROUND(AVERAGE(D16,F16),1) -> 8.1 | I16: =IF(AND(8<=$H16,$H16<=10),"Hoàn thành xuất sắc nhiệm vụ",IF(AND(6<$H16,$H16<8),"Hoàn thành tốt nhiệm vụ",IF(AND(5<$H16,$H16<6),"Hoàn thành nhiệm vụ","Không hoàn thành nhiệm vụ"))) -> Hoàn thành xuất sắc nhiệm vụ | J16: =IF(G16="Hoàn thành nhiệm vụ","Không đạt LĐTT",IF(OR(I16="Hoàn thành xuất sắc nhiệm vụ",I16="Hoàn thành tốt nhiệm vụ"),"Đạt LĐTT","Không đạt LĐTT")) -> Đạt LĐTT
A17: 8 | B17: Mai Thu Hương | C17: 01007004 | D17: ='HK1'!N17 -> 7.8 | E17: =IF(AND(8<=D17,D17<=10),"Hoàn thành xuất sắc nhiệm vụ",IF(AND(6<D17,D17<8),"Hoàn thành tốt nhiệm vụ",IF(AND(5<D17,D17<6),"Hoàn thành nhiệm vụ","Không hoàn thành nhiệm vụ"))) -> Hoàn thành tốt nhiệm vụ | F17: ='HK2'!N17 -> 8 | G17: =IF(AND(8<=F17,F17<=10),"Hoàn thành xuất sắc nhiệm vụ",IF(AND(6<F17,F17<8),"Hoàn thành tốt nhiệm vụ",IF(AND(5<F17,F17<6),"Hoàn thành nhiệm vụ","Không hoàn thành nhiệm vụ"))) -> Hoàn thành xuất sắc nhiệm vụ | H17: =ROUND(AVERAGE(D17,F17),1) -> 7.9 | I17: =IF(AND(8<=$H17,$H17<=10),"Hoàn thành xuất sắc nhiệm vụ",IF(AND(6<$H17,$H17<8),"Hoàn thành tốt nhiệm vụ",IF(AND(5<$H17,$H17<6),"Hoàn thành nhiệm vụ","Không hoàn thành nhiệm vụ"))) -> Hoàn thành tốt nhiệm vụ | J17: =IF(G17="Hoàn thành nhiệm vụ","Không đạt LĐTT",IF(OR(I17="Hoàn thành xuất sắc nhiệm vụ",I17="Hoàn thành tốt nhiệm vụ"),"Đạt LĐTT","Không đạt LĐTT")) -> Đạt LĐTT
B18: Hợp đồng trường
A19: 9 | B19: Lê Thị Nữ | C19: 01009012 | D19: ='HK1'!N19 -> 8.8 | E19: =IF(AND(8<=D19,D19<=10),"Hoàn thành xuất sắc nhiệm vụ",IF(AND(6<D19,D19<8),"Hoàn thành tốt nhiệm vụ",IF(AND(5<D19,D19<6),"Hoàn thành nhiệm vụ","Không hoàn thành nhiệm vụ"))) -> Hoàn thành xuất sắc nhiệm vụ | F19: ='HK2'!N19 -> 8.5 | G19: =IF(AND(8<=F19,F19<=10),"Hoàn thành xuất sắc nhiệm vụ",IF(AND(6<F19,F19<8),"Hoàn thành tốt nhiệm vụ",IF(AND(5<F19,F19<6),"Hoàn thành nhiệm vụ","Không hoàn thành nhiệm vụ"))) -> Hoàn thành xuất sắc nhiệm vụ | H19: =ROUND(AVERAGE(D19,F19),1) -> 8.7 | I19: =IF(AND(8<=$H19,$H19<=10),"Hoàn thành xuất sắc nhiệm vụ",IF(AND(6<$H19,$H19<8),"Hoàn thành tốt nhiệm vụ",IF(AND(5<$H19,$H19<6),"Hoàn thành nhiệm vụ","Không hoàn thành nhiệm vụ"))) -> Hoàn thành xuất sắc nhiệm vụ | J19: =IF(G19="Hoàn thành nhiệm vụ","Không đạt LĐTT",IF(OR(I19="Hoàn thành xuất sắc nhiệm vụ",I19="Hoàn thành tốt nhiệm vụ"),"Đạt LĐTT","Không đạt LĐTT")) -> Đạt LĐTT
A20: 10 | B20: Nguyễn Trung Dũng | C20: 01002008 | D20: ='HK1'!N20 -> 8.6 | E20: =IF(AND(8<=D20,D20<=10),"Hoàn thành xuất sắc nhiệm vụ",IF(AND(6<D20,D20<8),"Hoàn thành tốt nhiệm vụ",IF(AND(5<D20,D20<6),"Hoàn thành nhiệm vụ","Không hoàn thành nhiệm vụ"))) -> Hoàn thành xuất sắc nhiệm vụ | F20: ='HK2'!N20 -> 8.3 | G20: =IF(AND(8<=F20,F20<=10),"Hoàn thành xuất sắc nhiệm vụ",IF(AND(6<F20,F20<8),"Hoàn thành tốt nhiệm vụ",IF(AND(5<F20,F20<6),"Hoàn thành nhiệm vụ","Không hoàn thành nhiệm vụ"))) -> Hoàn thành xuất sắc nhiệm vụ | H20: =ROUND(AVERAGE(D20,F20),1) -> 8.5 | I20: =IF(AND(8<=$H20,$H20<=10),"Hoàn thành xuất sắc nhiệm vụ",IF(AND(6<$H20,$H20<8),"Hoàn thành tốt nhiệm vụ",IF(AND(5<$H20,$H20<6),"Hoàn thành nhiệm vụ","Không hoàn thành nhiệm vụ"))) -> Hoàn thành xuất sắc nhiệm vụ | J20: =IF(G20="Hoàn thành nhiệm vụ","Không đạt LĐTT",IF(OR(I20="Hoàn thành xuất sắc nhiệm vụ",I20="Hoàn thành tốt nhiệm vụ"),"Đạt LĐTT","Không đạt LĐTT")) -> Đạt LĐTT
A21: 11 | B21: Phạm Huy Hoàng | C21: 01009011 | D21: ='HK1'!N21 -> 7.6 | E21: =IF(AND(8<=D21,D21<=10),"Hoàn thành xuất sắc nhiệm vụ",IF(AND(6<D21,D21<8),"Hoàn thành tốt nhiệm vụ",IF(AND(5<D21,D21<6),"Hoàn thành nhiệm vụ","Không hoàn thành nhiệm vụ"))) -> Hoàn thành tốt nhiệm vụ | F21: ='HK2'!N21 -> 8.5 | G21: =IF(AND(8<=F21,F21<=10),"Hoàn thành xuất sắc nhiệm vụ",IF(AND(6<F21,F21<8),"Hoàn thành tốt nhiệm vụ",IF(AND(5<F21,F21<6),"Hoàn thành nhiệm vụ","Không hoàn thành nhiệm vụ"))) -> Hoàn thành xuất sắc nhiệm vụ | H21: =ROUND(AVERAGE(D21,F21),1) -> 8.1 | I21: =IF(AND(8<=$H21,$H21<=10),"Hoàn thành xuất sắc nhiệm vụ",IF(AND(6<$H21,$H21<8),"Hoàn thành tốt nhiệm vụ",IF(AND(5<$H21,$H21<6),"Hoàn thành nhiệm vụ","Không hoàn thành nhiệm vụ"))) -> Hoàn thành xuất sắc nhiệm vụ | J21: =IF(G21="Hoàn thành nhiệm vụ","Không đạt LĐTT",IF(OR(I21="Hoàn thành xuất sắc nhiệm vụ",I21="Hoàn thành tốt nhiệm vụ"),"Đạt LĐTT","Không đạt LĐTT")) -> Đạt LĐTT
A22: 12 | B22: Huỳnh Văn Hiếu | C22: 01009019 | D22: ='HK1'!N22 -> 8.8 | E22: =IF(AND(8<=D22,D22<=10),"Hoàn thành xuất sắc nhiệm vụ",IF(AND(6<D22,D22<8),"Hoàn thành tốt nhiệm vụ",IF(AND(5<D22,D22<6),"Hoàn thành nhiệm vụ","Không hoàn thành nhiệm vụ"))) -> Hoàn thành xuất sắc nhiệm vụ | F22: ='HK2'!N22 -> 8.8 | G22: =IF(AND(8<=F22,F22<=10),"Hoàn thành xuất sắc nhiệm vụ",IF(AND(6<F22,F22<8),"Hoàn thành tốt nhiệm vụ",IF(AND(5<F22,F22<6),"Hoàn thành nhiệm vụ","Không hoàn thành nhiệm vụ"))) -> Hoàn thành xuất sắc nhiệm vụ | H22: =ROUND(AVERAGE(D22,F22),1) -> 8.8 | I22: =IF(AND(8<=$H22,$H22<=10),"Hoàn thành xuất sắc nhiệm vụ",IF(AND(6<$H22,$H22<8),"Hoàn thành tốt nhiệm vụ",IF(AND(5<$H22,$H22<6),"Hoàn thành nhiệm vụ","Không hoàn thành nhiệm vụ"))) -> Hoàn thành xuất sắc nhiệm vụ | J22: =IF(G22="Hoàn thành nhiệm vụ","Không đạt LĐTT",IF(OR(I22="Hoàn thành xuất sắc nhiệm vụ",I22="Hoàn thành tốt nhiệm vụ"),"Đạt LĐTT","Không đạt LĐTT")) -> Đạt LĐTT
A23: 13 | B23: Trần Anh Mỹ | C23: 01009028 | D23: ='HK1'!N23 -> 6.6 | E23: =IF(AND(8<=D23,D23<=10),"Hoàn thành xuất sắc nhiệm vụ",IF(AND(6<D23,D23<8),"Hoàn thành tốt nhiệm vụ",IF(AND(5<D23,D23<6),"Hoàn thành nhiệm vụ","Không hoàn thành nhiệm vụ"))) -> Hoàn thành tốt nhiệm vụ | F23: ='HK2'!N23 -> 7 | G23: =IF(AND(8<=F23,F23<=10),"Hoàn thành xuất sắc nhiệm vụ",IF(AND(6<F23,F23<8),"Hoàn thành tốt nhiệm vụ",IF(AND(5<F23,F23<6),"Hoàn thành nhiệm vụ","Không hoàn thành nhiệm vụ"))) -> Hoàn thành tốt nhiệm vụ | H23: =ROUND(AVERAGE(D23,F23),1) -> 6.8 | I23: =IF(AND(8<=$H23,$H23<=10),"Hoàn thành xuất sắc nhiệm vụ",IF(AND(6<$H23,$H23<8),"Hoàn thành tốt nhiệm vụ",IF(AND(5<$H23,$H23<6),"Hoàn thành nhiệm vụ","Không hoàn thành nhiệm vụ"))) -> Hoàn thành tốt nhiệm vụ | J23: =IF(G23="Hoàn thành nhiệm vụ","Không đạt LĐTT",IF(OR(I23="Hoàn thành xuất sắc nhiệm vụ",I23="Hoàn thành tốt nhiệm vụ"),"Đạt LĐTT","Không đạt LĐTT")) -> Đạt LĐTT
A24: 14 | B24: Bùi Đức Phước | C24: 01009026 | D24: ='HK1'!N24 -> 8.6 | E24: =IF(AND(8<=D24,D24<=10),"Hoàn thành xuất sắc nhiệm vụ",IF(AND(6<D24,D24<8),"Hoàn thành tốt nhiệm vụ",IF(AND(5<D24,D24<6),"Hoàn thành nhiệm vụ","Không hoàn thành nhiệm vụ"))) -> Hoàn thành xuất sắc nhiệm vụ | F24: ='HK2'!N24 -> 9.5 | G24: =IF(AND(8<=F24,F24<=10),"Hoàn thành xuất sắc nhiệm vụ",IF(AND(6<F24,F24<8),"Hoàn thành tốt nhiệm vụ",IF(AND(5<F24,F24<6),"Hoàn thành nhiệm vụ","Không hoàn thành nhiệm vụ"))) -> Hoàn thành xuất sắc nhiệm vụ | H24: =ROUND(AVERAGE(D24,F24),1) -> 9.1 | I24: =IF(AND(8<=$H24,$H24<=10),"Hoàn thành xuất sắc nhiệm vụ",IF(AND(6<$H24,$H24<8),"Hoàn thành tốt nhiệm vụ",IF(AND(5<$H24,$H24<6),"Hoàn thành nhiệm vụ","Không hoàn thành nhiệm vụ"))) -> Hoàn thành xuất sắc nhiệm vụ | J24: =IF(G24="Hoàn thành nhiệm vụ","Không đạt LĐTT",IF(OR(I24="Hoàn thành xuất sắc nhiệm vụ",I24="Hoàn thành tốt nhiệm vụ"),"Đạt LĐTT","Không đạt LĐTT")) -> Đạt LĐTT
A25: 15 | B25: Nguyễn Thị Thảo | C25: 01007003 | D25: ='HK1'!N25 -> 7.5 | E25: =IF(AND(8<=D25,D25<=10),"Hoàn thành xuất sắc nhiệm vụ",IF(AND(6<D25,D25<8),"Hoàn thành tốt nhiệm vụ",IF(AND(5<D25,D25<6),"Hoàn thành nhiệm vụ","Không hoàn thành nhiệm vụ"))) -> Hoàn thành tốt nhiệm vụ | F25: ='HK2'!N25 -> 7 | G25: =IF(AND(8<=F25,F25<=10),"Hoàn thành xuất sắc nhiệm vụ",IF(AND(6<F25,F25<8),"Hoàn thành tốt nhiệm vụ",IF(AND(5<F25,F25<6),"Hoàn thành nhiệm vụ","Không hoàn thành nhiệm vụ"))) -> Hoàn thành tốt nhiệm vụ | H25: =ROUND(AVERAGE(D25,F25),1) -> 7.3 | I25: =IF(AND(8<=$H25,$H25<=10),"Hoàn thành xuất sắc nhiệm vụ",IF(AND(6<$H25,$H25<8),"Hoàn thành tốt nhiệm vụ",IF(AND(5<$H25,$H25<6),"Hoàn thành nhiệm vụ","Không hoàn thành nhiệm vụ"))) -> Hoàn thành tốt nhiệm vụ | J25: =IF(G25="Hoàn thành nhiệm vụ","Không đạt LĐTT",IF(OR(I25="Hoàn thành xuất sắc nhiệm vụ",I25="Hoàn thành tốt nhiệm vụ"),"Đạt LĐTT","Không đạt LĐTT")) -> Đạt LĐTT
A26: 16 | B26: Lưu Hoàng Bảo Châu | C26: 01009029 | D26: ='HK1'!N26 -> 7.4 | E26: =IF(AND(8<=D26,D26<=10),"Hoàn thành xuất sắc nhiệm vụ",IF(AND(6<D26,D26<8),"Hoàn thành tốt nhiệm vụ",IF(AND(5<D26,D26<6),"Hoàn thành nhiệm vụ","Không hoàn thành nhiệm vụ"))) -> Hoàn thành tốt nhiệm vụ | F26: ='HK2'!N26 -> 7.5 | G26: =IF(AND(8<=F26,F26<=10),"Hoàn thành xuất sắc nhiệm vụ",IF(AND(6<F26,F26<8),"Hoàn thành tốt nhiệm vụ",IF(AND(5<F26,F26<6),"Hoàn thành nhiệm vụ","Không hoàn thành nhiệm vụ"))) -> Hoàn thành tốt nhiệm vụ | H26: =ROUND(AVERAGE(D26,F26),1) -> 7.5 | I26: =IF(AND(8<=$H26,$H26<=10),"Hoàn thành xuất sắc nhiệm vụ",IF(AND(6<$H26,$H26<8),"Hoàn thành tốt nhiệm vụ",IF(AND(5<$H26,$H26<6),"Hoàn thành nhiệm vụ","Không hoàn thành nhiệm vụ"))) -> Hoàn thành tốt nhiệm vụ | J26: =IF(G26="Hoàn thành nhiệm vụ","Không đạt LĐTT",IF(OR(I26="Hoàn thành xuất sắc nhiệm vụ",I26="Hoàn thành tốt nhiệm vụ"),"Đạt LĐTT","Không đạt LĐTT")) -> Đạt LĐTT
A27: 17 | B27: Trần Việt Anh | C27: 01002038 | D27: =ROUND(AVERAGE(8,7,7,7,7),1) -> 7.2 | E27: =IF(AND(8<=D27,D27<=10),"Hoàn thành xuất sắc nhiệm vụ",IF(AND(6<D27,D27<8),"Hoàn thành tốt nhiệm vụ",IF(AND(5<D27,D27<6),"Hoàn thành nhiệm vụ","Không hoàn thành nhiệm vụ"))) -> Hoàn thành tốt nhiệm vụ | F27: ='HK2'!N27 -> 6.8 | G27: =IF(AND(8<=F27,F27<=10),"Hoàn thành xuất sắc nhiệm vụ",IF(AND(6<F27,F27<8),"Hoàn thành tốt nhiệm vụ",IF(AND(5<F27,F27<6),"Hoàn thành nhiệm vụ","Không hoàn thành nhiệm vụ"))) -> Hoàn thành tốt nhiệm vụ | H27: =ROUND(AVERAGE(D27,F27),1) -> 7 | I27: =IF(AND(8<=$H27,$H27<=10),"Hoàn thành xuất sắc nhiệm vụ",IF(AND(6<$H27,$H27<8),"Hoàn thành tốt nhiệm vụ",IF(AND(5<$H27,$H27<6),"Hoàn thành nhiệm vụ","Không hoàn thành nhiệm vụ"))) -> Hoàn thành tốt nhiệm vụ | J27: =IF(G27="Hoàn thành nhiệm vụ","Không đạt LĐTT",IF(OR(I27="Hoàn thành xuất sắc nhiệm vụ",I27="Hoàn thành tốt nhiệm vụ"),"Đạt LĐTT","Không đạt LĐTT")) -> Đạt LĐTT
B29: Đạt LĐTT: | C29: =COUNTIF($J$10:$J$27,"Đạt LĐTT") -> 17
B30: Không đạt LĐTT: | C30: =COUNTIF($J$10:$J$27,"Không đạt LĐTT") -> 0
B31: Không xét LĐTT (Tuyển dụng dưới 10 tháng) | C31: =COUNTIF($J$10:$J$27,"Không xét LĐTT") -> 0
H33: Thành phố Hồ Chí Minh, ngày 22 tháng 5 năm 2023
H34: TRƯỞNG ĐƠN VỊ
H41: Lê Xuân Thiện
